{"text_format":"1","workbook":"xlsx","n_sheets":31,"sheets":["loginscreen","Inicio","Usuarios","Catalogo","Principales","Asientos","Reportes","Bancos","Registros","logins","cd","D","H","01","02","03","CKS","CKCTRL","LM","110000","120000","130000","140000","210000","310000","510000","520000","610000","620000","630000","710000"],"not_rendered":{"charts":0,"images":19,"macros":1,"external_links":0,"defined_names":23,"comments":0,"pivot_tables":1},"unopened":[],"bounds":{"document_bytes":16777216,"sheet_cells":100000,"rows_first":2000,"rows_last":500,"rows_between":2000,"halvings":0,"cell_chars":16384,"cell_head_chars":4096},"cells_cut":0,"cells_raw":0,"read":"whole","date_system":"1900"}

{"sheet":"loginscreen","index":0,"n_rows":0,"n_cols":0,"rows_kept":0,"cut":false,"hidden":false,"merged":[]}

{"sheet":"Inicio","index":1,"n_rows":18,"n_cols":4,"rows_kept":18,"cut":false,"hidden":false,"merged":[[2,6,17,9],[5,3,5,5],[7,3,7,5],[9,3,9,5],[15,3,15,5],[17,3,17,5],[3,3,3,4],[11,3,11,4]]}
[]
[]
[]
[null,"N° RUC:",null,"J0110000077119"]
[]
[null,"NOMBRE DEL NEGOCIO:",null,"SOCIEDAD CIVIL COMUNIDAD CONNECT"]
[]
[null,"LEMA:",null,"Our Mission CC supports Nicaraguan communities by matching social, economic and                      \nEnvironmental opportunities with local and global resources."]
[]
[null,"DIRECCIÓN:",null,"Esquina sureste del Parque Central, San Juan del sur, Nicaragua."]
[]
[null,"CATEGORÍA FISCAL:",null,"Servicios sin alojamiento"]
[]
[null,"TELÉFONO:",null,25682731]
[]
[null,"E-MAIL:",null,"info@comunidadconnect.org"]
[]
[null,"PÁGINA WEB:",null,"www.comunidadconnect.org"]

{"sheet":"Usuarios","index":2,"n_rows":20,"n_cols":4,"rows_kept":20,"cut":false,"hidden":false,"merged":[[2,0,3,7],[13,1,13,2],[13,3,13,4],[8,1,8,2],[5,1,5,2],[5,3,5,4],[6,1,6,2],[7,1,7,2],[6,3,6,4],[7,3,7,4],[8,3,8,4]]}
[]
[]
["LISTA DE USUARIOS QUE FIGURARÁN EN LOS ESTADOS FINANCIEROS"]
[]
[]
[null,"FUNCIÓN",null,"NOMBRE DE USUARIO"]
[null,"Autorizado por:",null,"Rodrigo Castro Potoy"]
[null,"Revisado por:"]
[null,"Elaborado por:",null,"Anielka Galán"]
[]
[]
[]
[]
[]
[]
[]
[]
["Autorizado por:"]
["Revisado por:"]
["Elaborado por:"]

{"sheet":"Catalogo","index":3,"n_rows":164,"n_cols":6,"rows_kept":164,"cut":false,"hidden":false,"merged":[[2,0,3,5]]}
[]
[]
["Crear aquí su Plan Contable"]
[]
[]
[null,"COD. CTA.","NOMBRE DE LA CUENTA","TIPO","NATURALEZA","USAR EN"]
[null,100000,"ACTIVOS","RUBRO","D","BG"]
[null,110000,"ACTIVOS CORRIENTES","CLASE","D","BG"]
[null,110100,"CAJA","PRINCIPAL","D","BG"]
[null,110101,"CAJA CHICA","DETALLE","D","BG"]
[null,110200,"BANCOS","PRINCIPAL","D","BG"]
[null,110201,"CTA. CTE. 356894501 C$","DETALLE","D","BG"]
[null,110202,"CTA. CTE. 357144914  U$","DETALLE","D","BG"]
[null,110203,"CTA. CTE. 356894576 U$","DETALLE","D","BG"]
[null,110204,"CTA.CTE. 357605203 EEUU US","DETALLE","D","BG"]
[null,110205,"DEPOSITO DE FONDOS NO EJECUTADOS","DETALLE","D","BG"]
[null,110206,"DEPOSITO DE RETENCIONES EFECTUADAS","DETALLE","D","BG"]
[null,110300,"INVERSIONES EN VALORES","PRINCIPAL","D","BG"]
[null,110301,"PAPEL COMERCIAL","DETALLE","D","BG"]
[null,110400,"CUENTAS Y DOCUMENTOS POR COBRAR","PRINCIPAL","D","BG"]
[null,110401,"CUENTAS POR COBRAR A CLIENTES","DETALLE","D","BG"]
[null,110402,"CUENTAS POR COBRAR A EMPLEADOS","DETALLE","D","BG"]
[null,110500,"DEUDORES DIVERSOS","PRINCIPAL","D","BG"]
[null,110501,"FONDOS POR JUSTIFICAR","DETALLE","D","BG"]
[null,110600,"INVENTARIOS","PRINCIPAL","D","BG"]
[null,110601,"EQUIPO DEPORTIVO","DETALLE","D","BG"]
[null,110602,"MATERIALES DE CONSTRUCCIÓN","DETALLE","D","BG"]
[null,110603,"MATERIALES Y SUMINISTROS","DETALLE","D","BG"]
[null,110604,"EQUIPO E INSUMOS MÉDICOS","DETALLE","D","BG"]
[null,110605,"PAPELERÍA Y ÚTILES DE OFICINA","DETALLE","D","BG"]
[null,110606,"PAPELERIA MEMBRETADA","DETALLE","D","BG"]
[null,120000,"ACTIVOS NO CORRIENTES","CLASE","D","BG"]
[null,120300,"MOBILIARIO","PRINCIPAL","D","BG"]
[null,120301,"MUEBLES Y ENSERES","DETALLE","D","BG"]
[null,120400,"EQUIPO","PRINCIPAL","D","BG"]
[null,120401,"EQUIPO INFORMÁTICO","DETALLE","D","BG"]
[null,120402,"EQUIPO MÉDICO","DETALLE","D","BG"]
[null,130000,"DEPRECIACIÓN ACUMULADA","CLASE","H","BG"]
[null,130100,"DEPREC. ACUM. MOBILIARIO","PRINCIPAL","H","BG"]
[null,130101,"DEPREC. ACUM. MUEBLES Y ENSERES","DETALLE","H","BG"]
[null,130200,"DEPREC. ACUM. EQUIPO","PRINCIPAL","H","BG"]
[null,130201,"DEPREC. ACUM. EQUIP. INFORMÁTICO","DETALLE","H","BG"]
[null,130202,"DEPREC. ACUM. EQUIPO MÉDICO","DETALLE","H","BG"]
[null,140000,"OTROS ACTIVOS","CLASE","D","BG"]
[null,140100,"DEPÓSITOS EN GARANTÍA","PRINCIPAL","D","BG"]
[null,140101,"DEPÓSITOS EN GARANTÍA","DETALLE","D","BG"]
[null,200000,"PASIVOS","RUBRO","H","BG"]
[null,210000,"PASIVOS CORRIENTES","CLASE","H","BG"]
[null,210100,"CUENTAS POR PAGAR","PRINCIPAL","H","BG"]
[null,210101,"PROVEEDORES LOCALES","DETALLE","H","BG"]
[null,210102,"PROVEEDORES EXTRANJEROS","DETALLE","H","BG"]
[null,210200,"DOCUMENTOS POR PAGAR","PRINCIPAL","H","BG"]
[null,210201,"DOCUMENTOS POR PAGAR","DETALLE","H","BG"]
[null,210300,"IMPUESTOS POR PAGAR","PRINCIPAL","H","BG"]
[null,210301,"RETENCIÓN 2% BIENES Y SERVICIOS","DETALLE","H","BG"]
[null,210302,"RETENC. 10% SERV. TÉCNICOS Y PROFESIONALES","DETALLE","H","BG"]
[null,210303,"RETENCIONES EN LA FUENTE","DETALLE","H","BG"]
[null,210304,"OTRAS RETENCIONES","DETALLE","H","BG"]
[null,210400,"GASTOS ACUMULADOS POR PAGAR","PRINCIPAL","H","BG"]
[null,210401,"VACACIONES ACUM. POR PAGAR","DETALLE","H","BG"]
[null,210402,"AGUINALDOS POR PAGAR","DETALLE","H","BG"]
[null,210403,"INDEMNIZACIONES POR PAGAR","DETALLE","H","BG"]
[null,210404,"INSS PATRONAL POR PAGAR","DETALLE","H","BG"]
[null,210405,"APORTE INATEC POR PAGAR","DETALLE","H","BG"]
[null,210406,"INSS LABORAL POR PAGAR","DETALLE","H","BG"]
[null,300000,"CAPITAL","RUBRO","H","BG"]
[null,310000,"CAPITAL SOCIAL","CLASE","H","BG"]
[null,310100,"APORTE INICIAL","PRINCIPAL","H","BG"]
[null,310101,"FONDO EN RESERVA","DETALLE","H","BG"]
[null,310102,"FONDO PATRIMONIAL","DETALLE","H","BG"]
[null,310200,"RESULTADOS","PRINCIPAL","H","BG"]
[null,310201,"RESULTADOS ACUMULADOS","DETALLE","H","BG"]
[null,310202,"RESULTADOS DEL EJERCICIO","DETALLE","H","BG"]
[null,500000,"INGRESOS","RUBRO","H","ER"]
[null,510000,"INGRESOS POR DONACIONES","CLASE","H","ER"]
[null,510100,"DONACIONES INTERNACIONALES","PRINCIPAL","H","ER"]
[null,510101,"DONACIONES E.U.A.","DETALLE","H","ER"]
[null,510200,"DONACIONES NACIONALES","PRINCIPAL","H","ER"]
[null,510201,"DONACIONES GUBERNAMENTALES","DETALLE","H","ER"]
[null,510202,"DONACIONES INST. PRIVADAS","DETALLE","H","ER"]
[null,510300,"DONACIONES GRUPOS VOLUNTARIOS","PRINCIPAL","H","ER"]
[null,510301,"DONACIONES DE VOLUNTARIOS","DETALLE","H","ER"]
[null,520000,"OTROS INGRESOS","CLASE","H","ER"]
[null,520100,"OTROS INGRESOS","PRINCIPAL","H","ER"]
[null,520101,"OTROS INGRESOS","DETALLE","H","ER"]
[null,600000,"GASTOS OPERATIVOS","RUBRO","D","ER"]
[null,610000,"GASTOS ADMINISTRATIVOS OFICINA","CLASE","D","ER"]
[null,610100,"GASTOS EN REMUNERACIÓN","PRINCIPAL","D","ER"]
[null,610101,"SALARIOS","DETALLE","D","ER"]
[null,610102,"VACACIONES","DETALLE","D","ER"]
[null,610103,"DÉCIMO TERCER MES","DETALLE","D","ER"]
[null,610104,"INDEMNIZACIONES","DETALLE","D","ER"]
[null,610105,"INSS PATRONAL","DETALLE","D","ER"]
[null,610106,"APORTE INATEC","DETALLE","D","ER"]
[null,610108,"OTROS PAGOS ","DETALLE","D","ER"]
[null,610107,"OTROS BENEFICIOS","DETALLE","D","ER"]
[null,610200,"ALQUILERES","PRINCIPAL","D","ER"]
[null,610201,"RENTA DE OFICINA ADMINISTRATIVA","DETALLE","D","ER"]
[null,610300,"SERVICIOS BÁSICOS","DETALLE","D","ER"]
[null,610301,"SERVICIO ENERGÍA ELÉCTRICA","DETALLE","D","ER"]
[null,610302,"SERVICIO AGUA POTABLE","DETALLE","D","ER"]
[null,610303,"TELEFONÍA FIJA Y CELULAR","DETALLE","D","ER"]
[null,610304,"INTERNET FIJO Y MÓVIL","DETALLE","D","ER"]
[null,610400,"GASTO EN MATERIALES Y SUMINISTROS","PRINCIPAL","D","ER"]
[null,610401,"PAPELERÍA Y ÚTILES DE OFICINA","DETALLE","D","ER"]
[null,610402,"PRODUCTOS DE LIMPIEZA","DETALLE","D","ER"]
[null,610403,"COMBUSTIBLE","DETALLE","D","ER"]
[null,610500,"GASTOS DE MANTENIMIENTO","PRINCIPAL","D","ER"]
[null,610501,"MANTENIMIENTO DE EDIFICIOS","DETALLE","D","ER"]
[null,610502,"MANTENIMIENTO DE VEHÍCULOS","DETALLE","D","ER"]
[null,610600,"GASTOS VARIOS","PRINCIPAL","D","ER"]
[null,610601,"VIÁTICOS ALIMENTACIÓN Y TRANSPORTE","DETALLE","D","ER"]
[null,610602,"GASTOS DE REPRESENTACIÓN","DETALLE","D","ER"]
[null,610603,"GASTOS VARIOS ADMINISTRATIVOS","DETALLE","D","ER"]
[null,620000,"DEPRECIACIÓN","CLASE","D","ER"]
[null,620100,"DEPRECIACIÓN DE MOBILIARIO","PRINCIPAL","D","ER"]
[null,620101,"DEPRECIACIÓN DE MUEBLES Y ENSERES","DETALLE","D","ER"]
[null,620200,"DEPRECIACIÓN DE EQUIPO","PRINCIPAL","D","ER"]
[null,620201,"DEPRECIACIÓN EQUIPO INFORMÁTICO","DETALLE","D","ER"]
[null,630000,"GASTOS DE PROYECTOS","CLASE","D","ER"]
[null,630100,"PROYECTO PARQUE DEPORTIVO","PRINCIPAL","D","ER"]
[null,630101,"ADMINISTRATIVOS Y GENERALES","DETALLE","D","ER"]
[null,630102,"GASTOS VARIOS","DETALLE","D","ER"]
[null,630103,"APORTE SOCIAL","DETALLE","D","ER"]
[null,630104,"GASTO POR MANTO. DE LOCAL","DETALLE","D","ER"]
[null,630105,"VIATICOS DE ALIMENTACIÓN Y TRANSPORTE","DETALLE","D","ER"]
[null,630200,"PROYECTO CAMPO VERDE","PRINCIPAL","D","ER"]
[null,630201,"ADMINISTRATIVOS Y GENERALES","DETALLE","D","ER"]
[null,630202,"GASTOS VARIOS","DETALLE","D","ER"]
[null,630203,"APORTE SOCIAL","DETALLE","D","ER"]
[null,630204,"SERVICIO DE TRANSPORTE","DETALLE","D","ER"]
[null,630205,"SERVICIO DE HOSPEDAJE","DETALLE","D","ER"]
[null,630206,"VIATICOS DE ALIMENTANCIÓN Y TRANSPORTE","DETALLE","D","ER"]
[null,630207,"INSUMOS Y SUMINISTRO CAMPO VERDE","DETALLE","D","ER"]
[null,630208,"COMBUSTIBLE ","DETALLE","D","ER"]
[null,630209,"OTROS PAGOS","DETALLE","D","ER"]
[null,630300,"PROYECTO TURISMO SOSTENIBLE","PRINCIPAL","D","ER"]
[null,630301,"ADMINISTRATIVOS Y GENERALES","DETALLE","D","ER"]
[null,630302,"GASTOS VARIOS","DETALLE","D","ER"]
[null,630303,"SERVICIO DE TRANSPORTE ","DETALLE","D","ER"]
[null,630304,"SERVICIOS DE HOSPEDAJE","DETALLE","D","ER"]
[null,630305,"SERVICIO DE ALIMENTACIÓN","DETALLE","D","ER"]
[null,630306,"ACTIVIDADES SOCIALES ","DETALLE","D","ER"]
[null,630307,"OTROS PAGOS","DETALLE","D","ER"]
[null,630308,"APORTE SOCIAL","DETALLE","D","ER"]
[null,630400,"PROYECTO NICA AGUA","PRINCIPAL","D","ER"]
[null,630401,"ADMINISTRATIVOS Y GENERALES","DETALLE","D","ER"]
[null,630402,"VIATICOS ","DETALLE","D","ER"]
[null,630403,"GASTO DE TRANSPORTE AEREO","DETALLE","D","ER"]
[null,630404,"SERVICIO DE TRANSPORTE","DETALLE","D","ER"]
[null,630405,"VIATICOS DE ALIMENTACIÓN Y TRANSPORTE","DETALLE","D","ER"]
[null,630500,"PROYECTO CLINICA LOS ROBLES","PRINCIPAL","D","ER"]
[null,630501,"COMBUSTIBLE","DETALLE","D","ER"]
[null,630502,"VIATICOS DE ALIMENTACIÓN","DETALLE","D","ER"]
[null,630503,"INSUMOS MÉDICOS","DETALLE","D","ER"]
[null,630504,"PAPELERÍA ","DETALLE","D","ER"]
[null,630505,"EQUIPOS Y MOBILIARIOS","DETALLE","D","ER"]
[null,630506,"SUMINISTROS DE LIMPIEZA","DETALLE","D","ER"]
[null,700000,"GASTOS FINANCIEROS","RUBRO","D","ER"]
[null,710000,"COMISIONES BANCARIAS","CLASE","D","ER"]
[null,710100,"CARGOS CUENTAS CORRIENTES","PRINCIPAL","D","ER"]
[null,710101,"CTA. CTE. 356894501 C$","DETALLE","D","ER"]
[null,710102,"CTA. CTE. 357144914  U$","DETALLE","D","ER"]
[null,710103,"CTA. TRANSFERENCIAS 357144914 U$","DETALLE","D","ER"]

{"sheet":"Principales","index":4,"n_rows":17,"n_cols":14,"rows_kept":17,"cut":false,"hidden":false,"merged":[[2,0,2,11],[4,13,4,15],[5,13,15,15]]}
[]
[]
["Hojas de resumen - Anexos de Estados Financieros"]
[]
["CODIGO","NOMBRE DE LA CUENTA",null,null,null,null,null,null,null,null,null,null,null,"INSTRUCCIONES"]
[110000,"ACTIVOS CORRIENTES",null,null,null,null,null,null,null,null,null,null,null,"Seleccione el código de la cuenta que desea consultar y luego haga clic en:\n\"Ver resumen\""]
[120000,"ACTIVOS NO CORRIENTES"]
[130000,"DEPRECIACIÓN ACUMULADA"]
[140000,"OTROS ACTIVOS"]
[210000,"PASIVOS CORRIENTES"]
[310000,"CAPITAL SOCIAL"]
[510000,"INGRESOS POR DONACIONES"]
[520000,"OTROS INGRESOS"]
[610000,"GASTOS ADMINISTRATIVOS OFICINA"]
[620000,"DEPRECIACIÓN"]
[630000,"GASTOS DE PROYECTOS"]
[710000,"COMISIONES BANCARIAS"]

{"sheet":"Asientos","index":5,"n_rows":197,"n_cols":6,"rows_kept":197,"cut":false,"hidden":false,"merged":[]}
[]
[]
[]
["ASIENTO N°",166,null,null,"Total Débitos:",{"$f":"ROUND(SUM(E9:E97), 2)","v":19008.560000000001}]
[]
["FECHA:","2014-07-02",null,null,"Total Créditos:",{"$f":"ROUND(SUM(F9:F97), 2)","v":19008.560000000001}]
[null,null,null,null,"Diferencia",{"$f":"ABS(total_debitos-total_creditos)","v":0}]
["CÓD. CTA.","DOC #","NOMBRE DE LA CUENTA","CONCEPTO","DEBE","HABER"]
[630207,null,{"$f":"IF(A9<>\"\", VLOOKUP(A9, plan_cuentas, 2, FALSE), \"\")","v":"INSUMOS Y SUMINISTRO CAMPO VERDE"},"Compra de stickers para proyecto EGIII",1562.62]
[110201,"CK-375","CTA. CTE. 356894501 C$","Compra de stickers para proyecto EGIII",null,1531.36]
[210301,null,"RETENCIÓN 2% BIENES Y SERVICIOS","Retención de Servicios Generales ",null,31.26]
[630204,null,"SERVICIO DE TRANSPORTE","Pago de trasnporte viaje a Gigante - EGIII",1200]
[110201,"CK-375","CTA. CTE. 356894501 C$","Pago de trasnporte viaje a Gigante - EGIII",null,1176]
[210301,null,"RETENCIÓN 2% BIENES Y SERVICIOS","Retención - Servicio de trasnporte",null,24]
[630207,null,"INSUMOS Y SUMINISTRO CAMPO VERDE","Compras varias, materiales de trabajo para los embajadores EGIII",675]
[110201,"CK-375","CTA. CTE. 356894501 C$","Compras varias, materiales de trabajo para los embajadores EGIII",null,675]
[630207,null,"INSUMOS Y SUMINISTRO CAMPO VERDE","Compras varias, materiales de trabajo para los embajadores EGIII",528]
[110201,"CK-375","CTA. CTE. 356894501 C$","Compras varias, materiales de trabajo para los embajadores EGIII",null,528]
[630205,null,"SERVICIO DE HOSPEDAJE","Aljamiento de coordinadora en Gigante - YM",1140]
[110201,"CK-375","CTA. CTE. 356894501 C$","Aljamiento de coordinadora en Gigante - YM",null,1117.2]
[210301,null,"RETENCIÓN 2% BIENES Y SERVICIOS","Retención - Servicio de Hospedaje , se pago a la renta C$ 23",null,22.8]
[630207,null,"INSUMOS Y SUMINISTRO CAMPO VERDE","Compras varias, botiquin medico para los embajadores EGIII",709.5]
[110201,"CK-375","CTA. CTE. 356894501 C$","Compras varias, botiquin medico para los embajadores EGIII",null,709.5]
[630207,null,"INSUMOS Y SUMINISTRO CAMPO VERDE","Compra de materiales para construcción de acopios EGIII",1585]
[110201,"CK-375","CTA. CTE. 356894501 C$","Compra de materiales para construcción de acopios EGIII",null,1553.3]
[210301,null,"RETENCIÓN 2% BIENES Y SERVICIOS","Retencion Servico General",null,31.7]
[630202,null,"GASTOS VARIOS","Refrigerio para actividades EGIII",2200]
[110201,"CK-375","CTA. CTE. 356894501 C$","Refrigerio para actividades EGIII",null,2156]
[210301,null,"RETENCIÓN 2% BIENES Y SERVICIOS","Retención - Servicio en General",null,44]
[630202,null,"GASTOS VARIOS","Compras varias para actividades en Gigante - EGIII",400]
[110201,"CK-375","CTA. CTE. 356894501 C$","Compras varias para actividades en Gigante - EGIII",null,400]
[630204,null,"SERVICIO DE TRANSPORTE","Transporte pago de Shofer, viaje a Gigante ",400]
[110201,"CK-375","CTA. CTE. 356894501 C$","Transporte pago de Shofer, viaje a Gigante ",null,400]
[630206,null,"VIATICOS DE ALIMENTANCIÓN Y TRANSPORTE","Viaticos de alimentación EGIII",410]
[110201,"CK-375","CTA. CTE. 356894501 C$","Viaticos de alimentación EGIII",null,410]
[630202,null,"GASTOS VARIOS","Limpieza de acopios en Gigante - EGIII",500]
[110201,"CK-375","CTA. CTE. 356894501 C$","Limpieza de acopios en Gigante - EGIII",null,500]
[630208,null,"COMBUSTIBLE ","combustible viaje a Gigante - EGIII",850]
[110201,"CK-375","CTA. CTE. 356894501 C$","combustible viaje a Gigante - EGIII",null,850]
[630202,null,"GASTOS VARIOS","Compras varias para actividades en Gigante - EGIII",365]
[110201,"CK-375","CTA. CTE. 356894501 C$","Compras varias para actividades en Gigante - EGIII",null,365]
[630206,null,"VIATICOS DE ALIMENTANCIÓN Y TRANSPORTE","viaticos de alimentación para coordinadora  EGIII",543]
[110201,"CK-375","CTA. CTE. 356894501 C$","viaticos de alimentación para coordinadora  EGIII",null,543]
[630202,null,"GASTOS VARIOS","Compras varias para actividades en Gigante - EGIII",464]
[110201,"CK-375","CTA. CTE. 356894501 C$","Compras varias para actividades en Gigante - EGIII",null,464]
[630202,null,"GASTOS VARIOS","Refrigerios para actividades en Gigante EGIII",535]
[110201,"CK-375","CTA. CTE. 356894501 C$","Refrigerios para actividades en Gigante EGIII",null,535]
[630207,null,"INSUMOS Y SUMINISTRO CAMPO VERDE","Compra de sacos quintaleros blancos",980]
[110201,"CK-375","CTA. CTE. 356894501 C$","Compra de sacos quintaleros blancos",null,980]
[630206,null,"VIATICOS DE ALIMENTANCIÓN Y TRANSPORTE","Viaticos de alimentación de YM. EGIII",250]
[110201,"CK-375","CTA. CTE. 356894501 C$","Viaticos de alimentación de YM. EGIII",null,250]
[630207,null,"INSUMOS Y SUMINISTRO CAMPO VERDE","Compra de 15 metros de cadenas y candados ",881]
[110201,"CK-375","CTA. CTE. 356894501 C$","Compra de 15 metros de cadenas y candados ",null,881]
[630202,null,"GASTOS VARIOS","Recargas telefonicas - EGIII",659.1]
[110201,"CK-375","CTA. CTE. 356894501 C$","Recargas telefonicas - EGIII",null,659.1]
[630208,null,"COMBUSTIBLE ","Comustible - EGIII",351]
[110201,"CK-375","CTA. CTE. 356894501 C$","Comustible - EGIII",null,351]
[110205,"CK-375","DEPOSITO DE FONDOS NO EJECUTADOS","Depsito de fondos no ejecutados - por el coordinador YM",1524]
[110201,"CK-375","CTA. CTE. 356894501 C$","Depsito de fondos no ejecutados - por el coordinador YM",null,1524]
[110402,null,"CUENTAS POR COBRAR A EMPLEADOS","Fondos  no justificados y no rendidos por coordinadora CV - YM",296.33999999999997]
[110201,"CK-375","CTA. CTE. 356894501 C$","Fondos  no justificados y no rendidos por coordinadora CV - YM",null,296.33999999999997]
[null,null,""]
[null,null,""]
[null,null,""]
[null,null,""]
[null,null,""]
[null,null,""]
[null,null,""]
[null,null,""]
[null,null,""]
[null,null,""]
[null,null,""]
[null,null,{"$f":"IF(A73<>\"\", VLOOKUP(A73, plan_cuentas, 2, FALSE), \"\")","v":""}]
[null,null,""]
[null,null,""]
[null,null,""]
[null,null,""]
[null,null,""]
[null,null,""]
[null,null,""]
[null,null,""]
[null,null,""]
[null,null,""]
[null,null,{"$f":"IF(A84<>\"\", VLOOKUP(A84, plan_cuentas, 2, FALSE), \"\")","v":""}]
[null,null,""]
[null,null,""]
[null,null,""]
[null,null,""]
[null,null,""]
[null,null,""]
[null,null,""]
[null,null,""]
[null,null,""]
[null,null,""]
[null,null,""]
[null,null,""]
[null,null,""]
[null,null,""]
[null,null,""]
[null,null,""]
[null,null,""]
[null,null,{"$f":"IF(A102<>\"\", VLOOKUP(A102, plan_cuentas, 2, FALSE), \"\")","v":""}]
[null,null,""]
[null,null,""]
[null,null,""]
[null,null,""]
[null,null,""]
[null,null,""]
[null,null,""]
[null,null,""]
[null,null,""]
[null,null,""]
[null,null,""]
[null,null,""]
[null,null,""]
[null,null,""]
[null,null,""]
[null,null,""]
[null,null,""]
[null,null,""]
[null,null,""]
[null,null,""]
[null,null,""]
[null,null,""]
[null,null,""]
[null,null,""]
[null,null,""]
[null,null,""]
[null,null,""]
[null,null,""]
[null,null,""]
[null,null,""]
[null,null,""]
[null,null,{"$f":"IF(A134<>\"\", VLOOKUP(A134, plan_cuentas, 2, FALSE), \"\")","v":""}]
[null,null,""]
[null,null,""]
[null,null,""]
[null,null,""]
[null,null,""]
[null,null,""]
[null,null,""]
[null,null,""]
[null,null,""]
[null,null,""]
[null,null,""]
[null,null,""]
[null,null,""]
[null,null,""]
[null,null,""]
[null,null,""]
[null,null,""]
[null,null,""]
[null,null,""]
[null,null,""]
[null,null,""]
[null,null,""]
[null,null,""]
[null,null,""]
[null,null,""]
[null,null,""]
[null,null,""]
[null,null,""]
[null,null,""]
[null,null,""]
[null,null,""]
[null,null,{"$f":"IF(A166<>\"\", VLOOKUP(A166, plan_cuentas, 2, FALSE), \"\")","v":""}]
[null,null,""]
[null,null,""]
[null,null,""]
[null,null,""]
[null,null,""]
[null,null,""]
[null,null,""]
[null,null,""]
[null,null,""]
[null,null,""]
[null,null,""]
[null,null,""]
[null,null,""]
[null,null,""]
[null,null,""]
[null,null,""]
[null,null,""]
[null,null,""]
[null,null,""]
[null,null,""]
[null,null,""]
[null,null,""]
[null,null,""]
[null,null,""]
[null,null,""]
[null,null,""]
[null,null,""]
[null,null,""]
[null,null,""]
[null,null,""]
[null,null,""]

{"sheet":"Reportes","index":6,"n_rows":9,"n_cols":11,"rows_kept":9,"cut":false,"hidden":false,"merged":[[5,7,5,11],[2,0,2,11]]}
[]
[]
["Seleccione un reporte para visualizar"]
[]
[]
[null,"LISTA DE INFORMES DISPONIBLES",null,null,null,null,null,"DEFINA POR FAVOR LA FECHA DEL PERÍODO"]
[null,4,"Balanza Consolidada.",null,null,null,null,null,"Desde",null,"Hasta"]
[null,4,"Estado de Resultados.",null,null,null,null,null,"2014-07-01",null,"2014-07-31"]
[null,4,"Balance General.",null,null,null,null,null,{"$f":"DATE(YEAR(final_before), MONTH(final_before), 1)","v":"2014-06-01"},null,{"$f":"fecha_inicial-1","v":"2014-06-30"}]

{"sheet":"Bancos","index":7,"n_rows":6,"n_cols":3,"rows_kept":6,"cut":false,"hidden":false,"merged":[]}
["CODIGO","NOMBRE DE LA CUENTA","NUM CK"]
[110201,"CTA. CTE. 356894501 C$",299]
[110202,"CTA. CTE. 357144914  U$",37]
[110203,"CTA. CTA. 356894576 U$",375]
[110204,"CTA.CTE. 357605203 EEUU US",6]
[110205,"DEPOSITOS DE FONDOS NO EJECUTADOS",375]

{"sheet":"Registros","index":8,"n_rows":524,"n_cols":9,"rows_kept":524,"cut":false,"hidden":false,"merged":[[0,1,0,7],[49,9,52,12]]}
[null,"Registros de Diario"]
["N° ASIENTO","FECHA","COD_CTA","DOC #","NOMBRE DE LA CUENTA","CONCEPTO","DEBITOS","CREDITOS","PRINCIPAL"]
[1,"2014-05-31",110201,null,{"$f":"IF(C3<>\"\", VLOOKUP(C3, plan_cuentas, 2, FALSE), \"\")","v":"CTA. CTE. 356894501 C$"},"Apertura CTA. CTE GENERAL EN U$.",44475.94,null,110200]
[1,"2014-05-31",110202,null,"CTA. CTE. 357144914  U$","Apertura CTA. CTE US ADTVA",274752.65000000002,null,110200]
[1,"2014-05-31",110203,null,"CTA. CTE. 356894576 U$","Apertura CTA. CTE. Cordoba General",606898.81999999995,null,110200]
[1,"2014-05-31",110204,null,"CTA.CTE. 357605203 EEUU US","Apertura CTA. CTA U$ EEUU",63133.8,null,110200]
[1,"2014-05-31",110101,null,"CAJA CHICA","Apertura Fondos Caja Chica.",4112,null,110100]
[1,"2014-05-31",110603,null,"MATERIALES Y SUMINISTROS","Apertura de Inventario de Materiales y Sumin.",70458.84,null,110600]
[1,"2014-05-31",110605,null,"PAPELERÍA Y ÚTILES DE OFICINA","Apertura de Inventario de Papelería y útiles Ofc.",24681.83,null,110600]
[1,"2014-05-31",120401,null,"EQUIPO INFORMÁTICO","Apertura de Inventario de Equipos Informáticos",42921.39,null,120400]
[1,"2014-05-31",110606,null,"PAPELERIA MEMBRETADA","Apertura de Inventario de Papelería Membretada",3390.82,null,110600]
[1,"2014-05-31",110604,null,"EQUIPO E INSUMOS MÉDICOS","Apertura de Inventario de Equipos e Insumos Médicos",2414.85,null,110600]
[1,"2014-05-31",310102,null,"FONDO PATRIMONIAL","Fondos de Apertura de Operaciones de SCCC",null,1137240.94,310100]
[2,"2014-06-04",110101,null,"CAJA CHICA","Reembolso a caja chica - Gastos varios de oficina",2040,null,110100]
[2,"2014-06-04",110202,"CK-20","CTA. CTE. 357144914  U$","Reembolso a caja chica - Gastos varios de oficina",null,2040,110200]
[3,"2014-06-11",110101,null,"CAJA CHICA","Reembolso a caja chica - Gastos varios admitivos.",3131.4,null,110100]
[3,"2014-06-11",110202,"CK-22","CTA. CTE. 357144914  U$","Reembolso a caja chica - Gastos varios admitivos.",null,3131.4,110200]
[4,"2014-06-16",110101,null,"CAJA CHICA","Reembolso a caja chica - Gastos varios oficina",3092.4,null,110100]
[4,"2014-06-16",110202,"CK-26","CTA. CTE. 357144914  U$","Reembolso a caja chica - Gastos varios oficina",null,3092.4,110200]
[5,"2014-06-30",110101,null,"CAJA CHICA","Reembolso a caja chica - Gastos varios oficina",3000,null,110100]
[5,"2014-06-30",110202,"CK-29","CTA. CTE. 357144914  U$","Reembolso a caja chica - Gastos varios oficina",null,3000,110200]
[6,"2014-06-26",630207,null,"INSUMOS Y SUMINISTRO CAMPO VERDE","ELABORACIÓN DE MARCOS PARA BASUREROS- EG II",8680,null,630200]
[6,"2014-06-26",110201,"CK-13","CTA. CTE. 356894501 C$","PAGO DEL 50%   DE ELABORACIÓN DE MARCOS -EG II",null,8506.4,110200]
[6,"2014-06-26",210301,null,"RETENCIÓN 2% BIENES Y SERVICIOS","RETENCIÓN DEL 2%  POR ELAB0RACIÓN DE MARCOS",null,173.6,210300]
[6,"2014-06-26",630206,null,"VIATICOS DE ALIMENTANCIÓN Y TRANSPORTE","VIATICOS DE ALIMENTACIÓN Y TRANSPORTE ",1000,null,630200]
[6,"2014-06-26",110201,null,"CTA. CTE. 356894501 C$","PAGO DE VIATICOS DE ALIMENTACIÓN Y TRANSPORTE",null,1000,110200]
[7,"2014-06-13",630102,null,"GASTOS VARIOS","COMPRA DE TROFEOS  PARA ACTIV. DEPORTIVA",4840,null,630100]
[7,"2014-06-13",110201,"CK-257","CTA. CTE. 356894501 C$","COMPRA DE TROFEOS  PARA ACTIV. DEPORTIVA",null,4743.2,110200]
[7,"2014-06-13",210301,null,"RETENCIÓN 2% BIENES Y SERVICIOS","RETENCIÓN POR COMPRA DE TROFEOS P/ ACT. DEPORTIVA.",null,96.8,210300]
[7,"2014-06-13",630105,null,"VIATICOS DE ALIMENTACIÓN Y TRANSPORTE","ASIGNACIÓN DE VIATICOS PARA IR A COMPRAR TROFEOS A MANAGUA.",260,null,630100]
[7,"2014-06-13",110201,"CK-257","CTA. CTE. 356894501 C$","PAGO DE VIATICOS A COORDINADOR DE PARQUE DEPORTIVO",null,260,110200]
[8,"2014-06-13",630304,null,"SERVICIOS DE HOSPEDAJE","HOSPEDAJE GRUPO BDR # 1 - ROSA VILLAGRA - JINOTEGA",47821.19,null,630300]
[8,"2014-06-13",110201,"CK-266","CTA. CTE. 356894501 C$","HOSPEDAJE GRUPO BDR # 1 - ROSA VILLAGRA - JINOTEGA",null,43039.71,110200]
[8,"2014-06-13",210302,null,"RETENC. 10% SERV. TÉCNICOS Y PROFESIONALES","RETENCIÓN A PROVEEDOR NO PRESENTA FACTURA. NI RUC",null,4781.4799999999996,210300]
[9,"2014-06-06",630203,null,"APORTE SOCIAL","BECAS CURSO INGLÉS - COMUNIDAD CARRIZAL",4850,null,630200]
[9,"2014-06-06",110201,"CK-254","CTA. CTE. 356894501 C$","BECAS CURSO INGLÉS - COMUNIDAD CARRIZAL",null,4850,110200]
[10,"2014-06-05",630203,null,"APORTE SOCIAL","BECAS ESTUDIANTES DE SECUNDARIA",1422.3,null,630200]
[10,"2014-06-05",110203,"CK-359","CTA. CTE. 356894576 U$","BECAS ESTUDIANTES DE SECUNDARIA",null,1422.3,110200]
[11,"2014-06-06",610201,null,"RENTA DE OFICINA ADMINISTRATIVA","RENTA DE OFICINAS ADMINISTRATIVAS DE COMUNIDAD CONNET SNJ SUR",5068.5600000000004,null,610200]
[11,"2014-06-06",110202,null,"CTA. CTE. 357144914  U$","PAGO DE RENTA DE OFICINAS ADTVAS. EN SNJ DEL SUR-",null,5068.5600000000004,110200]
[12,"2014-06-30",610602,null,"GASTOS DE REPRESENTACIÓN","GASTOS DE REPRESENTACIÓN DE DIRECCIÓN EJECUTIVA .",4596,null,610600]
[12,"2014-06-30",110203,null,"CTA. CTE. 356894576 U$","DEBITO DE FONDOS PARA USO DE GASTOS DE REPRESENTACIÓN D. E.",null,4596,110200]
[13,"2014-06-30",610602,null,"GASTOS DE REPRESENTACIÓN","GASTOS DE REPRESENTACIÓN DE DIRECCIÓN EJECUTIVA",14668.45,null,610600]
[13,"2014-06-30",110202,null,"CTA. CTE. 357144914  U$","DEBITOS DE FONDOS PARA USO DE GASTOS DE REPRESENTACIÓN D. E.",null,14668.45,110200]
[14,"2014-06-30",610602,null,"GASTOS DE REPRESENTACIÓN","GASTOS DE REPRESENTACIÓN DE DIRECCIÓN EJECUTIVA.",4930.58,null,610600]
[14,"2014-06-30",110203,null,"CTA. CTE. 356894576 U$","DEBITOS DE FONDOS EN USO DE GASTOS POR REPRESENTACIÓN D. E.",null,4930.58,110200]
[15,"2014-06-26",630207,null,"INSUMOS Y SUMINISTRO CAMPO VERDE","CANCELACIÓN DEL 50% RESTANTE DE ELABORACIÓN DE MARCOS P/BASUREROS",8680,null,630200]
[15,"2014-06-26",110201,"CK-264","CTA. CTE. 356894501 C$","PAGO TOTAL DE LA ELABORACIÓN DE MARCOS PARA BASUREROS- EG II",null,8506.4,110200]
[15,"2014-06-26",210301,null,"RETENCIÓN 2% BIENES Y SERVICIOS","RETENCIÓN DEL SERVICIO DE ELABORACIÓN DE MARCOS P/ BASUREROS - EG II",null,173.6,210300]
[16,"2014-06-26",630206,null,"VIATICOS DE ALIMENTANCIÓN Y TRANSPORTE","ASIGNACIÓN DE VIATICO DE ALIMENTACIÓN PARA D. EJECUTIVO",200,null,630200]
[16,"2014-06-26",110201,"CK-264","CTA. CTE. 356894501 C$","PAGO DE VIATICOS DE ALIMENTACIÓN",null,200,110200]
[16,"2014-06-26",630208,null,"COMBUSTIBLE ","COMPRA DE COMBUSTIBLE PARA REALIZAR SUPERVISIÓN DE INSTALACIÓN DE MARCOS.",800,null,630200]
[16,"2014-06-26",110201,null,"CTA. CTE. 356894501 C$","PAGO DE COMBUSTIBLE PARA REALIZAR SUPERVISION DE INSTALACIÓN DE MARCOS.",null,800,110200]
[17,"2014-06-09",110201,null,"CTA. CTE. 356894501 C$","TRANSFERENCIA DE FONDOS PARA GASTOS OPERATVIO",17990,null,110200]
[17,"2014-06-09",110203,null,"CTA. CTE. 356894576 U$","TRANFERENCIA PARA ALIMENTAR CUENTA BANACARIA DE GASTOS OPERATIVOS",null,17990,110200]
[18,"2014-06-12",110201,null,"CTA. CTE. 356894501 C$","TRANSFERENCIA DE FONDOS PARA GASTOS OPERATIVOS.",20576,null,110200]
[18,"2014-06-12",110203,null,"CTA. CTE. 356894576 U$","TRANFERENCIA DE FONDOS PARA CUBRIR GASTOS OPERATIVAS.",null,20576,110200]
[19,"2014-06-10",110201,null,"CTA. CTE. 356894501 C$","FONDOS POR LIGAS DEPORTIVAS ",550,null,110200]
[19,"2014-06-10",520101,null,"OTROS INGRESOS","FONDOS RECIBIDOS POR LIGAS DEPORTIVAS",null,550,520100]
[20,"2014-06-12",110201,null,"CTA. CTE. 356894501 C$","DONACIÓN PARA ACTIVDAD PARQUE DEPORTIVO",10000,null,110200]
[20,"2014-06-12",520101,null,"OTROS INGRESOS","DONACIÓN POR PARTE DE HOSTAL PACHAMAMA",null,10000,520100]
[21,"2014-06-30",110201,null,"CTA. CTE. 356894501 C$","Transferencia para cubrir Gastos Operativos",51920,null,110200]
[21,"2014-06-30",110203,"CK-374","CTA. CTE. 356894576 U$","Transferencia entre cuentas para cubrir Gastos Operativos",null,51920,110200]
[22,"2014-06-30",630404,null,"SERVICIO DE TRANSPORTE","Viaje a MGA - Coordinador RAAS - N.A",1804.6,null,630400]
[22,"2014-06-30",110203,"CK-373","CTA. CTE. 356894576 U$","Pago de Servicio de Transporte a MGA. ",null,1768.51,110200]
[22,"2014-06-30",210301,null,"RETENCIÓN 2% BIENES Y SERVICIOS","Retención por Servicio de Transporte a MGA",null,36.090000000000003,210300]
[23,"2014-06-30",110201,null,{"$f":"IF(C67<>\"\", VLOOKUP(C67, plan_cuentas, 2, FALSE), \"\")","v":"CTA. CTE. 356894501 C$"},"Ingresos por Ligas P.D",385,null,110200]
[23,"2014-06-30",520101,null,"OTROS INGRESOS","Fondos de Ingresos por Ligas P.D",null,385,520100]
[24,"2014-06-20",630102,null,"GASTOS VARIOS","Compra de baner de Lona P.D",1752.36,null,630100]
[24,"2014-06-20",110203,"CK-371","CTA. CTE. 356894576 U$","Pago de servcio de elaboracion de Baner de Lona para PD",null,1717.32,110200]
[24,"2014-06-20",210301,null,"RETENCIÓN 2% BIENES Y SERVICIOS","Retención de elaboracion de Baner de Lona para PD",null,35.04,210300]
[25,"2014-06-19",630209,null,"OTROS PAGOS"," Servicio Profesional por clases de Ingles",1097.8,null,630200]
[25,"2014-06-19",110203,"CK-370","CTA. CTE. 356894576 U$","Pago por servcio profesional, ´por clases de Ingles",null,988.02,110200]
[25,"2014-06-19",210302,null,"RETENC. 10% SERV. TÉCNICOS Y PROFESIONALES","Retención del 10% por Servicio Profesional",null,109.78,210300]
[26,"2014-06-19",630307,null,"OTROS PAGOS","Pago por Servicio Profesional, con Voluntarios",17678.22,null,630300]
[26,"2014-06-19",110203,"CK-370","CTA. CTE. 356894576 U$","Pago por Servicio Profesional por atención a VT",null,15910.4,110200]
[26,"2014-06-19",210302,null,"RETENC. 10% SERV. TÉCNICOS Y PROFESIONALES","Retención del 10% por Servicio Profesional",null,1767.82,210300]
[27,"2014-06-13",610108,null,"OTROS PAGOS ","Servicio Profesional, por Asesorias de Proyectos",51520,null,610100]
[27,"2014-06-13",110203,"CK-368","CTA. CTE. 356894576 U$","Pago por Servicio Preofesional,por asesorias de Proyectos",null,46368,110200]
[27,"2014-06-13",210302,null,"RETENC. 10% SERV. TÉCNICOS Y PROFESIONALES","Retención del 10% , por asesorias de Proyectos",null,5152,210300]
[28,"2014-06-13",630304,null,"SERVICIOS DE HOSPEDAJE","Servicio de Alojamiento y Alimentación de Voluntarios",56530.32,null,630300]
[28,"2014-06-13",110203,"CK-368","CTA. CTE. 356894576 U$","Pago de Servicio de Alojamiento y Alimentación de Voluntarios",null,55399.71,110200]
[28,"2014-06-13",210301,null,"RETENCIÓN 2% BIENES Y SERVICIOS","Retención del 2% por Servicio de Alojamiento y Alimentación a Voluntarios",null,1130.6099999999999,210300]
[29,"2014-06-12",630404,null,"SERVICIO DE TRANSPORTE","Servicio de Transporte, para coordinador de SJDS AL aeropuerto",1813,null,630400]
[29,"2014-06-12",110203,"CK-366","CTA. CTE. 356894576 U$","Pago de Servicio de Transporte, para coordinador de SJDS AL aeropuerto",null,1766.74,110200]
[29,"2014-06-12",210301,null,"RETENCIÓN 2% BIENES Y SERVICIOS","Retención del 2% Servicio de Transporte",null,46.26,210300]
[30,"2014-06-20",630404,null,"SERVICIO DE TRANSPORTE","Servicio de Transporte de MGA A SJDS",1288.5,null,630400]
[30,"2014-06-20",110203,"CK-366","CTA. CTE. 356894576 U$","Pago de Servicio de Transporte de MGA A SJDS",null,1262.73,110200]
[30,"2014-06-20",210301,null,"RETENCIÓN 2% BIENES Y SERVICIOS","Retenecion del 2% Servicio de Transporte de MGA A SJDS",null,25.77,210300]
[31,"2014-06-23",630502,null,"VIATICOS DE ALIMENTACIÓN","Viaticos de coordinadora viaje a la RAAS",750,null,630500]
[31,"2014-06-23",110201,"CK-262","CTA. CTE. 356894501 C$","Pago de Viaticos de coordinadora viaje a la RAAS",null,750,110200]
[32,"2014-06-20",610502,null,"MANTENIMIENTO DE VEHÍCULOS","Reparación de Camioneta JT.",10000,null,610500]
[32,"2014-06-20",110201,"CK-261","CTA. CTE. 356894501 C$","Pago por Reparación de Camioneta JT.",null,9800,110200]
[32,"2014-06-20",210301,null,"RETENCIÓN 2% BIENES Y SERVICIOS","Retención del 2% reparación de camioneta J.T",null,200,210300]
[33,"2014-06-11",110603,null,"MATERIALES Y SUMINISTROS","Compra de sellos computarizados para uso de coordinadores de proyectos",2600,null,110600]
[33,"2014-06-11",110203,"CK-365","CTA. CTE. 356894576 U$","Pago por sellos computarizados para uso de coordinadores de proyectos",null,2548,110200]
[33,"2014-06-11",210301,null,"RETENCIÓN 2% BIENES Y SERVICIOS","Retención del 2% por compra de sellos computarizados",null,52,210300]
[34,"2014-06-06",610108,null,"OTROS PAGOS ","Elaboración de contratos para proyecto NCHC - Clinica Los Robles",1284,null,610100]
[34,"2014-06-06",110203,"CK-364","CTA. CTE. 356894576 U$","Pago por Elaboración de contratos para proyecto NCHC - Clinica Los Robles",null,1155.5999999999999,110200]
[34,"2014-06-06",210302,null,"RETENC. 10% SERV. TÉCNICOS Y PROFESIONALES","Retención del 10% por Servicio Profesional, elaboración de Contratos",null,128.4,210300]
[35,"2014-06-06",630308,null,"APORTE SOCIAL"," mano de obra de consrucción para Asociación Los Quinchos",5241.03,null,630300]
[35,"2014-06-06",110203,"CK-361","CTA. CTE. 356894576 U$","Pago de mano de obra de consrucción para Asociación Los Quinchos",null,5136.21,110200]
[35,"2014-06-06",210301,null,"RETENCIÓN 2% BIENES Y SERVICIOS","Retención por Mano de Obra de Construción",null,104.82,210300]
[36,"2014-06-05",630303,null,"SERVICIO DE TRANSPORTE ","Transporte de Grupo de Voluntarios - Colorado",33417.31,null,630300]
[36,"2014-06-05",110203,"CK-360","CTA. CTE. 356894576 U$","Pago de Transporte de Grupo de Voluntarios - Colorado",null,32747.88,110200]
[36,"2014-06-05",210301,null,"RETENCIÓN 2% BIENES Y SERVICIOS","Retencion del 2%, Servicio de Transporte",null,669.43,210300]
[37,"2014-06-02",630302,null,"GASTOS VARIOS","Actividades Libres con los Voluntarios, Emory",8704,null,630300]
[37,"2014-06-02",110203,"CK-358","CTA. CTE. 356894576 U$","Pago por Actividades Libres con los Voluntarios, Emory",null,8529.9699999999993,110200]
[37,"2014-06-02",210301,null,"RETENCIÓN 2% BIENES Y SERVICIOS","Retención de pago de actividades Libres de Voluntario Emory",null,174.03,210300]
[38,"2014-06-20",610108,null,"OTROS PAGOS ","Asesorias Contables y Administrativas",15462,null,610100]
[38,"2014-06-20",110202,"CK-28","CTA. CTE. 357144914  U$","Pago por Asesorias Contables y Administrativas",null,13915.8,110200]
[38,"2014-06-20",210302,null,"RETENC. 10% SERV. TÉCNICOS Y PROFESIONALES","Retención del 10% por pago de Servicio Profesional de Asesorias ",null,1546.2,210300]
[39,"2014-06-13",610108,null,"OTROS PAGOS ","Servicio Profesional, por Asesorias de Proyectos de Febrero  a Mayo 2014",103040,null,610100]
[39,"2014-06-13",110202,"CK-25","CTA. CTE. 357144914  U$","Pago por Asesorias de Proyectos de Febrero  a Mayo 2014",null,92736,110200]
[39,"2014-06-13",210302,null,"RETENC. 10% SERV. TÉCNICOS Y PROFESIONALES","Retención del 10% por servicio profesionasl de asesorias de Proyectos Feb- May",null,10304,210300]
[40,"2014-06-12",120301,null,"MUEBLES Y ENSERES","Compra de abanico, para oficina de Contabilidad",1699,null,120300]
[40,"2014-06-12",110202,null,"CTA. CTE. 357144914  U$","Pago por Compra de abanico, para oficina de Contabilidad",null,1699,110200]
[41,"2014-06-18",630502,null,"VIATICOS DE ALIMENTACIÓN","Viaticos de Alimentación Dirección Ejecutiva",97.75,null,630500]
[41,"2014-06-18",110201,null,"CTA. CTE. 356894501 C$","Pago de viáticos de Alimentación Gestiones Adtvs. De La Clínica",null,97.75,110200]
[42,"2014-06-19",630502,null,"VIATICOS DE ALIMENTACIÓN","Viáticos de Alimentación de Dirección Ejectuvia",195,null,630500]
[42,"2014-06-19",110201,null,"CTA. CTE. 356894501 C$","Retiro de Fondos para viáticos de Alimentación D-Ejectuvia",null,195,110200]
[43,"2014-06-20",630502,null,"VIATICOS DE ALIMENTACIÓN","Viaticos de Alimentación Dirección Ejecutiva",80.5,null,630500]
[43,"2014-06-20",110201,null,"CTA. CTE. 356894501 C$","Retiro de Fondos para Viáticos de Alimentación D.E",null,80.5,110200]
[44,"2014-06-21",630502,null,"VIATICOS DE ALIMENTACIÓN","Viáticos de Alimentación de Dirección Ejecutiva",1626.75,null,630500]
[44,"2014-06-21",110201,null,"CTA. CTE. 356894501 C$","Retiro de Fondos Viáticos de Alimentación de D. E.",null,1626.75,110200]
[45,"2014-06-05",610502,null,"MANTENIMIENTO DE VEHÍCULOS","Cambio de Aceite de Camioneta de Comunidad Connect",500,null,610500]
[45,"2014-06-05",110201,null,"CTA. CTE. 356894501 C$","Pago por compra de Aceite para Camioneta Comunidad Connect",null,500,110200]
[46,"2014-06-05",610601,null,"VIÁTICOS ALIMENTACIÓN Y TRANSPORTE","Viático de Alimentación Dirección Ejecutiva",121,null,610600]
[46,"2014-06-05",110201,null,"CTA. CTE. 356894501 C$","Retiro de Fondos para viáticos de Alimentación D.E.",null,121,110200]
[47,"2014-06-06",630502,null,"VIATICOS DE ALIMENTACIÓN","Viáticos de Alimentación D.E y Marketing",178.25,null,630500]
[47,"2014-06-06",110201,null,{"$f":"IF(C131<>\"\", VLOOKUP(C131, plan_cuentas, 2, FALSE), \"\")","v":"CTA. CTE. 356894501 C$"},"Retiro de Fondos Víaticos de Alimentación D.E y Marketing",null,178.25,110200]
[48,"2014-06-05",630502,null,"VIATICOS DE ALIMENTACIÓN","Víaticos de Alimentación D.E",92,null,630500]
[48,"2014-06-05",110201,null,"CTA. CTE. 356894501 C$","Retiro de Fondos Viáticos de Alimentación D.E",null,92,110200]
[49,"2014-06-04",610602,null,"GASTOS DE REPRESENTACIÓN","Compras Varias por Dirección Ejecutiva",293.43,null,610600]
[49,"2014-06-04",110201,null,"CTA. CTE. 356894501 C$","Retiro de Fondos de Compras Varias por Dirección Ejecutiva",null,293.43,110200]
[50,"2014-06-05",610502,null,"MANTENIMIENTO DE VEHÍCULOS","Mantenimiento General Preventivo Camioneta de Comunidad Connect",910,null,610500]
[50,"2014-06-05",110201,null,"CTA. CTE. 356894501 C$","Retiro de Fondos para Mantenimiento Preventivo de Camioneta",null,910,110200]
[51,"2014-06-05",630501,null,"COMBUSTIBLE","Compra de combustible para Gestiones de la Clínica",100,null,630500]
[51,"2014-06-05",110201,null,"CTA. CTE. 356894501 C$","Retiro de Fondos de Combustible para Gestiones de la Clínica",null,100,110200]
[52,"2014-06-05",630502,null,"VIATICOS DE ALIMENTACIÓN","Viáticos de Alimentación de Dirección Ejecutiva",109.25,null,630500]
[52,"2014-06-05",110201,null,"CTA. CTE. 356894501 C$","Retiro de Fondos viáticos de Alimentación de D.E",null,109.25,110200]
[53,"2014-06-05",610602,null,"GASTOS DE REPRESENTACIÓN","Gastos de Representación de Dirección Ejecutiva",184,null,610600]
[53,"2014-06-05",110201,null,"CTA. CTE. 356894501 C$","Retiro de Fondos por Gastos de Representación",null,184,110200]
[54,"2014-06-14",610403,null,"COMBUSTIBLE","Combustible Gastos administrativos",600,null,610400]
[54,"2014-06-14",110202,null,"CTA. CTE. 357144914  U$","Uso de fondos con Tarjeta Combustible Gastos administrativos",null,600,110200]
[55,"2014-06-12",630502,null,"VIATICOS DE ALIMENTACIÓN","Viaticos de alimentación - Reunión con efermera Staff",836.25,null,630500]
[55,"2014-06-12",110202,null,"CTA. CTE. 357144914  U$","Uso de fondos con TD - Viaticos de alimentación - Reunión con efermera Staff",null,836.25,110200]
[56,"2014-06-23",610107,null,"OTROS BENEFICIOS","Beneficio de la organización por celebracion al dia del padre a DE",874,null,610100]
[56,"2014-06-23",110202,null,"CTA. CTE. 357144914  U$","Uso de fondos TD - Beneficio de la organización por celebracion al dia del padre a DE",null,874,110200]
[57,"2014-06-03",610402,null,"PRODUCTOS DE LIMPIEZA","Compras varias de Suministros de Limpieza para Oficina SJDS",1877.2,null,610400]
[57,"2014-06-03",110202,null,"CTA. CTE. 357144914  U$","Uso de TD - Compras varias de Suministros de Limpieza para Oficina SJDS",null,1877.2,110200]
[58,"2014-06-12",610602,null,"GASTOS DE REPRESENTACIÓN","Alimentación gestiones administratoivas en Rivas",375,null,610600]
[58,"2014-06-12",110201,null,"CTA. CTE. 356894501 C$","Uso de fondos TD - Alimentación gestiones administratoivas en Rivas",null,375,110200]
[59,"2014-06-06",630502,null,"VIATICOS DE ALIMENTACIÓN","Viaticos de alimentacion D-Ejecutiva. NCHC - Jinotega viaje de Jinotega a SJDS",172.5,null,630500]
[59,"2014-06-06",110201,null,"CTA. CTE. 356894501 C$","Uso de fondos TD -Viaticos de alimentacion D-Ejecutiva. NCHC - Jinotega viaje de Jinotega a SJDS",null,172.5,110200]
[60,"2014-06-03",630401,null,"ADMINISTRATIVOS Y GENERALES","Trasnportes de filtros al Tambo - NA",800,null,630400]
[60,"2014-06-03",110202,null,"CTA. CTE. 357144914  U$","Uso de Fondos TD - Trasnportes de filtros al Tambo - NA",null,800,110200]
[61,"2014-06-17",610403,null,"COMBUSTIBLE","Combustible - Gestiones administrativas en Inss - Rivas",300,null,610400]
[61,"2014-06-17",110202,null,"CTA. CTE. 357144914  U$","Uso de Fondos TD - Combustible - Gestiones administrativas en Inss - Rivas",null,300,110200]
[62,"2014-06-20",630501,null,"COMBUSTIBLE","CoMBUSTIBLE viaje de Jinotega a SJDS - Inscripcin del la Clinica NCHC ",1600,null,630500]
[62,"2014-06-20",110201,null,"CTA. CTE. 356894501 C$","Uso de fondos TD - CoMBUSTIBLE viaje de Jinotega a SJDS - Inscripcin del la Clinica NCHC ",null,1600,110200]
[63,"2014-06-18",630502,null,"VIATICOS DE ALIMENTACIÓN","Viaticos de alimentación D-ejecutiva - NCHC",172.5,null,630500]
[63,"2014-06-18",110201,null,"CTA. CTE. 356894501 C$","Uso de fondos TD - Viaticos de alimentación D-ejecutiva - NCHC",null,172.5,110200]
[64,"2014-06-17",630501,null,"COMBUSTIBLE","Combustible viaje a Jinotega D- ejecutiva - monitoreo y seguimiento de Clinica NCHC",500,null,630500]
[64,"2014-06-17",110201,null,"CTA. CTE. 356894501 C$","Uso de fondos de TD - Combustible viaje a Jinotega D- ejecutiva - monitoreo y seguimiento de Clinica NCHC",null,500,110200]
[65,"2014-06-20",630502,null,"VIATICOS DE ALIMENTACIÓN","Viaticos de alimentacion D-Ejecutiva - viaje de Jinotega a SJDS - NCHC",200,null,630500]
[65,"2014-06-20",110201,null,"CTA. CTE. 356894501 C$","Uso de fondos TD - Viaticos de alimentacion D-Ejecutiva - viaje de Jinotega a SJDS - NCHC",null,200,110200]
[66,"2014-06-20",630502,null,"VIATICOS DE ALIMENTACIÓN","viaticos de alimentación reunión - D-ejecutiva, CPF,coordinadora N.A. en Jinotega",264.5,null,630500]
[66,"2014-06-20",110201,null,"CTA. CTE. 356894501 C$","Uso de fondos TD - viaticos de alimentación reunión - D-ejecutiva, CPF,coordinadora N.A. en Jinotega",null,264.5,110200]
[67,"2014-06-19",630502,null,"VIATICOS DE ALIMENTACIÓN","Viaticos de alimentacion D-ejecutiva -Marketing.  monitoreo Clinica NCHC ",510,null,630500]
[67,"2014-06-19",110201,null,"CTA. CTE. 356894501 C$","Uso de Fondos TD - Viaticos de alimentacion D-ejecutiva -Marketing.  monitoreo Clinica NCHC ",null,510,110200]
[68,"2014-06-27",630402,null,"VIATICOS ","Viaticos de alimentacion D-ejecutiva,reunión de proyecto N.A en Guacalito",172.5,null,630400]
[68,"2014-06-27",110202,null,"CTA. CTE. 357144914  U$","Retiro de fondos - Viaticos de alimentacion D-ejecutiva,reunión de proyecto N.A en Guacalito",null,172.5,110200]
[69,"2014-06-27",630402,null,"VIATICOS ","Compras varias reunion Guacalito de la Isla - NA",827.5,null,630400]
[69,"2014-06-27",110202,null,"CTA. CTE. 357144914  U$","Retiro de Fondos Compras varias reunion Guacalito de la Isla - NA",null,827.5,110200]
[70,"2014-06-30",630401,null,"ADMINISTRATIVOS Y GENERALES","Viaticos por representacion de Guacalito por el Proyecto N.A",1000,null,630400]
[70,"2014-06-30",110202,null,"CTA. CTE. 357144914  U$","Retiro de Fondos Viaticos por representacion de Guacalito por el Proyecto N.A",null,1000,110200]
[71,"2014-06-17",610502,null,"MANTENIMIENTO DE VEHÍCULOS","Compra de suspensión de camioneta Comunidad Connect",6348,null,610500]
[71,"2014-06-17",110202,null,"CTA. CTE. 357144914  U$","Retiro de fondos - Pago por servicio en general -Compra de suspension de Camioneta CC",null,6237.6,110200]
[71,"2014-06-17",210301,null,"RETENCIÓN 2% BIENES Y SERVICIOS","Retencion del 2% servivio en general - compra de suspension de Camioneta CC",null,110.4,210300]
[72,"2014-06-17",610501,null,"MANTENIMIENTO DE EDIFICIOS"," reparacion de suspensión camioneta SCCC",2000,null,610500]
[72,"2014-06-17",110202,null,"CTA. CTE. 357144914  U$","Retiro de fondos - Pago por servicio en General - reparacion de suspensión camioneta SCCC",null,1960,110200]
[72,"2014-06-17",210301,null,"RETENCIÓN 2% BIENES Y SERVICIOS","Retencion del 2% reparacion de suspension camioneta SCCC",null,40,210300]
[73,"2014-06-17",610601,null,"VIÁTICOS ALIMENTACIÓN Y TRANSPORTE","Viaticos de alimentacion d-Ejecutiva . Gastos Operativos",202.4,null,610600]
[73,"2014-06-17",110202,null,"CTA. CTE. 357144914  U$","Retiro de Fondos Viaticos de alimentacion d-Ejecutiva . Gastos Operativos",null,202.4,110200]
[74,"2014-06-10",630502,null,"VIATICOS DE ALIMENTACIÓN","Viaticos de alimentación y transporte de Enfermera - NCHC ",500,null,630500]
[74,"2014-06-10",110203,null,"CTA. CTE. 356894576 U$","Retiro de Fondos - reembolso de Viaticos de alimentación y transporte de Enfermera - NCHC ",null,500,110200]
[75,"2014-06-10",630502,null,"VIATICOS DE ALIMENTACIÓN","Viatico de coordinadora de Proyecto Nica Agua en Jinotega",500,null,630500]
[75,"2014-06-10",110203,null,"CTA. CTE. 356894576 U$","Retiro de fondos - Reembolso de Viatico de coordinadora de Proyecto Nica Agua en Jinotega",null,500,110200]
[76,"2014-06-18",120301,null,"MUEBLES Y ENSERES","Compra de barriles plasticos para oficina SJDS",700,null,120300]
[76,"2014-06-18",110202,null,"CTA. CTE. 357144914  U$","Retiro de fondos - compra de barriles plasticos",null,700,110200]
[77,"2014-06-20",120301,null,"MUEBLES Y ENSERES","Compra de barriles plasticos para oficina SJDS",700,null,120300]
[77,"2014-06-20",110202,null,"CTA. CTE. 357144914  U$","Retiro de fondos Compra de barriles plasticos para oficina SJDS",null,700,110200]
[78,"2014-06-20",630502,null,"VIATICOS DE ALIMENTACIÓN","Viaticos de - Ejecutiva viaje de regreso de Jinotega",172.5,null,630500]
[78,"2014-06-20",110202,null,{"$f":"IF(C195<>\"\", VLOOKUP(C195, plan_cuentas, 2, FALSE), \"\")","v":"CTA. CTE. 357144914  U$"},"Retiro de Fondos Viaticos de - Ejecutiva viaje de regreso de Jinotega",null,172.5,110200]
[79,"2014-06-15",610403,null,"COMBUSTIBLE","Combustible - Gastos administrativos",500,null,610400]
[79,"2014-06-15",110202,null,"CTA. CTE. 357144914  U$","Retiro de fondos Combustible - Gastos administrativos",null,500,110200]
[80,"2014-06-16",610502,null,"MANTENIMIENTO DE VEHÍCULOS","Lavado de motor y carroceria de camioneta SCCC",200,null,610500]
[80,"2014-06-16",110202,null,"CTA. CTE. 357144914  U$","Retiro de fondos Lavado de motor y carroceria de camioneta SCCC",null,200,110200]
[81,"2014-06-17",610602,null,"GASTOS DE REPRESENTACIÓN","Viaticos de D- ejecutiva, Gastos de Operación ",300,null,610600]
[81,"2014-06-17",110202,null,"CTA. CTE. 357144914  U$","Retiro de fondos Viaticos de D- ejecutiva, Gastos de Operación ",null,300,110200]
[82,"2014-06-09",630208,null,"COMBUSTIBLE ","Viaje a Gigante -  Llevada de Barriles para depositos de basura EG II",800,null,630200]
[82,"2014-06-09",110201,null,"CTA. CTE. 356894501 C$","Pago de combustible -. EGII",null,800,110200]
[83,"2014-06-09",630207,null,"INSUMOS Y SUMINISTRO CAMPO VERDE","Construcion de 7 depositos para basura EG II",8680,null,630200]
[83,"2014-06-09",110201,null,"CTA. CTE. 356894501 C$","Retiro de fondos Construcion de 7 depositos para basura EG II",null,8506.4,110200]
[83,"2014-06-09",210301,null,"RETENCIÓN 2% BIENES Y SERVICIOS","Retencion del 2% construccion depositos de basura EGII",null,173.6,210300]
[84,"2014-06-10",630207,null,"INSUMOS Y SUMINISTRO CAMPO VERDE","Compra de sener y pintura para barriles EGII ",475,null,630200]
[84,"2014-06-10",110201,null,"CTA. CTE. 356894501 C$","Retiro de fondos Compra de sener y pintura para barriles EGII ",null,475,110200]
[85,"2014-06-09",630206,null,"VIATICOS DE ALIMENTANCIÓN Y TRANSPORTE","Viaticos de alimentacion coordinadora y D-ejecutiva EGII ",200,null,630200]
[85,"2014-06-09",110201,null,"CTA. CTE. 356894501 C$","Retiro de fondos Viaticos de alimentacion coordinadora y D-ejecutiva EGII ",null,200,110200]
[86,"2014-06-09",630302,null,"GASTOS VARIOS","Copias de obras sociales",137,null,630300]
[86,"2014-06-09",110201,null,"CTA. CTE. 356894501 C$","Retiro de fondos Copias de obras sociales",null,137,110200]
[87,"2014-06-09",630202,null,"GASTOS VARIOS","Compra de caja de laspicero EGII",36,null,630200]
[87,"2014-06-09",110201,null,"CTA. CTE. 356894501 C$","Retiro de fondos Compra de caja de laspicero EGII",null,36,110200]
[88,"2014-06-09",110606,null,"PAPELERIA MEMBRETADA","Compra de comprobantes para programas",3979,null,110600]
[88,"2014-06-09",110201,null,"CTA. CTE. 356894501 C$","Retiro de fondos Compra de comprobantes para programas",null,3909.8,110200]
[88,"2014-06-09",210301,null,"RETENCIÓN 2% BIENES Y SERVICIOS","Retencion del 2% Compra de comprobantes para programas",null,69.2,210300]
[89,"2014-06-13",610304,null,"INTERNET FIJO Y MÓVIL","Internet Fijo SJDS - y Movil - D-ejecutiva, Marketing, JT",3648.5,null,610300]
[89,"2014-06-13",110202,null,"CTA. CTE. 357144914  U$","Uso de TD - Pago de Internet Fijo y Movil",null,3648.5,110200]
[90,"2014-06-13",610303,null,"TELEFONÍA FIJA Y CELULAR","Telefonia celular - D-ejecutuva, Marketing, JT, Coord. C.V, T.S",4982.76,null,610300]
[90,"2014-06-13",110202,null,"CTA. CTE. 357144914  U$","Uso de TD - Pago de telefonia celular ",null,4982.76,110200]
[91,"2014-06-13",630102,null,"GASTOS VARIOS","Recarga telefonica D-ejecutiva",165.26,null,630100]
[91,"2014-06-13",110202,null,"CTA. CTE. 357144914  U$","Uso de TD - Recarga telefonica",null,165.26,110200]
[92,"2014-06-29",610403,null,"COMBUSTIBLE","Combustible  Gastos Operativos",500,null,610400]
[92,"2014-06-29",110202,null,"CTA. CTE. 357144914  U$","Uso de TD - Combustible G.O",null,500,110200]
[93,"2014-06-27",630501,null,"COMBUSTIBLE","Viaje a Jinotega - Monitoreo de la clinica NCHC ",500,null,630500]
[93,"2014-06-27",110201,null,"CTA. CTE. 356894501 C$","Uso de TD - Combustible viaje a Jinotega",null,500,110200]
[94,"2014-06-04",630501,null,"COMBUSTIBLE","Combustible viaje a Jinotega - Monitoreo Clinica NCHC ",1610,null,630500]
[94,"2014-06-04",110201,null,"CTA. CTE. 356894501 C$","Uso de TD - Combustible viaje a Jinotega",null,1610,110200]
[95,"2014-06-05",610502,null,"MANTENIMIENTO DE VEHÍCULOS","Mantenimiento preventivo de Camioneta de SCCC - Manguera de aire y emp transfer",1787.03,null,610500]
[95,"2014-06-05",110202,null,"CTA. CTE. 357144914  U$","Uso de TD - Mantenimiento de camioneta",null,1787.03,110200]
[96,"2014-06-07",610602,null,"GASTOS DE REPRESENTACIÓN","Gasto de represntacion D-ejecutiva ",671,null,610600]
[96,"2014-06-07",110202,null,"CTA. CTE. 357144914  U$","Uso de TD - Gastos de representacion",null,671,110200]
[97,"2014-06-17",610602,null,"GASTOS DE REPRESENTACIÓN","Gastos de representación - Reunión JD",1000,null,610600]
[97,"2014-06-17",110202,null,"CTA. CTE. 357144914  U$","Uso de TD - Gastos de representacion",null,1000,110200]
[98,"2014-06-09",610201,null,"RENTA DE OFICINA ADMINISTRATIVA","Renta de Oficina en Jinotega ",7858.08,null,610200]
[98,"2014-06-09",110203,null,"CTA. CTE. 356894576 U$","Retiro de Fondos - Renta de Oficina en Jinotega",null,7700.92,110200]
[98,"2014-06-09",210301,null,"RETENCIÓN 2% BIENES Y SERVICIOS","Retencion del 2%  - Renta de local",null,157.16,210300]
[99,"2014-06-06",610304,null,"INTERNET FIJO Y MÓVIL","Internet Oficina Jinotega",890.93,null,610300]
[99,"2014-06-06",110203,null,"CTA. CTE. 356894576 U$","Uso de TD - Internet Oficina Jinotega",null,890.93,110200]
[100,"2014-06-19",630405,null,"VIATICOS DE ALIMENTACIÓN Y TRANSPORTE","Estadia de Mateo Mendoca y Pilar Tobon, en Jinotega - Los Robles",3500,null,630400]
[100,"2014-06-19",110202,null,"CTA. CTE. 357144914  U$","Retiro de fondos Estadia de Mateo Mendoca y Pilar Tobon, en Jinotega - Los Robles",null,3150,110200]
[100,"2014-06-19",210302,null,"RETENC. 10% SERV. TÉCNICOS Y PROFESIONALES","Retención del 10% de pago de alojamiento y alimentación",null,350,210300]
[101,"2014-06-04",630207,null,"INSUMOS Y SUMINISTRO CAMPO VERDE","Compra de 1  barriles para Campo Verde EGII",720,null,630200]
[101,"2014-06-04",110203,null,"CTA. CTE. 356894576 U$","Retiro de fondos Compra de barriles para Campo Verde EGII",null,720,110200]
[101,"2014-06-04",630207,null,"INSUMOS Y SUMINISTRO CAMPO VERDE","Compra de 6 barriles para Campo Verde EGII",4102,null,630200]
[101,"2014-06-04",110203,null,"CTA. CTE. 356894576 U$","Retiro de fondos Compra de 7  barriles para Campo Verde EGII",null,4020,110200]
[101,"2014-06-04",210301,null,"RETENCIÓN 2% BIENES Y SERVICIOS","Retencion del 2% compra de barriles",null,82,210300]
[102,"2014-06-10",110201,null,"CTA. CTE. 356894501 C$","Ingreso de fondos operativos en efectivo no ejecutados N.A",1478,null,110200]
[102,"2014-06-10",110203,null,"CTA. CTE. 356894576 U$","Egreso de fondos operativos en efectivo no ejecutados N.A",null,1478,110200]
[103,"2014-06-06",630501,null,"COMBUSTIBLE","Combustible - Viaje a Jinotega",1000,null,630500]
[103,"2014-06-06",110203,null,"CTA. CTE. 356894576 U$","Retiro de Fondos - Combustible - Viaje a Jinotega",null,1000,110200]
[104,"2014-06-21",610602,null,"GASTOS DE REPRESENTACIÓN","Gastos de representacion - D-ejecutiva",1108.75,null,610600]
[104,"2014-06-21",110202,null,"CTA. CTE. 357144914  U$","Uso de TD - Gastos de representacion - D-ejecutiva",null,1108.75,110200]
[105,"2014-06-06",110101,null,"CAJA CHICA","Gastos varios administrativos en Jinotega",3000,null,110100]
[105,"2014-06-06",110203,null,"CTA. CTE. 356894576 U$","Retiro de fondos Gastos varios administrativos en Jinotega",null,3000,110200]
[106,"2014-06-12",630501,null,"COMBUSTIBLE","Visita  a Clinica de Gigante  la cual dono medicamentos NCHC",800,null,630500]
[106,"2014-06-12",110201,null,"CTA. CTE. 356894501 C$","Retiro de Fondos - Combustible NCHC ",null,800,110200]
[106,"2014-06-12",630502,null,{"$f":"IF(C259<>\"\", VLOOKUP(C259, plan_cuentas, 2, FALSE), \"\")","v":"VIATICOS DE ALIMENTACIÓN"},"Viaticos de D-ejecutiva y Enfermera - NCHC",366,null,630500]
[106,"2014-06-12",110201,null,"CTA. CTE. 356894501 C$","Retiro de Fondos - Viaticos de D-ejecutiva y Enfermera - NCHC",null,366,110200]
[107,"2014-06-27",110402,null,"CUENTAS POR COBRAR A EMPLEADOS","Adelanto de Salario D- ejecutiva",1000,null,110400]
[107,"2014-06-27",110202,null,"CTA. CTE. 357144914  U$","Retiro de Fondos en concepto de adelanto de Salario",null,1000,110200]
[108,"2014-06-13",610101,null,"SALARIOS"," Nomina del mes de Junio 2014 -  1 Quincena ",33551,null,610100]
[108,"2014-06-13",110202,null,"CTA. CTE. 357144914  U$","Transferencia - Nomina del mes de Junio 2014 -  1 Quincena ",null,33551,110200]
[109,"2014-06-16",610101,null,"SALARIOS","Salario de Vilma Fonseca NA - RAAN 1 quincena de Junio 2014",1915,null,610100]
[109,"2014-06-16",110201,"ck 259","CTA. CTE. 356894501 C$","Deposito de pago - Salario de Vilma Fonseca NA - RAAN 1 quincena de Junio 2014",null,1915,110200]
[110,"2014-06-16",210406,null,"INSS LABORAL POR PAGAR","INSS LABORAL STAFF SCCC - ADMIN",1272.5899999999999,null,210400]
[110,"2014-06-16",110202,"CK-26","CTA. CTE. 357144914  U$","PAGO INSS LABORAL STAFF SCCC - ADMIN",null,1272.5899999999999,110200]
[110,"2014-06-16",210404,null,"INSS PATRONAL POR PAGAR","INSS PATRONAL STAFF SCCC - ADMIN",3462.78,null,210400]
[110,"2014-06-16",110202,"CK-26","CTA. CTE. 357144914  U$","PAGO DE INSS PATRONAL STAFF SCCC - ADMIN",null,3462.78,110200]
[110,"2014-06-16",210405,null,"APORTE INATEC POR PAGAR","INATEC  - ADMINISTRATIVO",93.51,null,210400]
[110,"2014-06-16",110202,"CK-26","CTA. CTE. 357144914  U$","PAGO INATEC  - ADMINISTRATIVO",null,93.51,110200]
[111,"2014-06-16",210406,null,"INSS LABORAL POR PAGAR","INSS LABORAL -PROYECTOS STAFF SCCC",1547.49,null,210400]
[111,"2014-06-16",110201,"CK-259","CTA. CTE. 356894501 C$","Pago de Inss Laboral - Proyectos Staff SCCC",null,1547.49,110200]
[111,"2014-06-16",210404,null,"INSS PATRONAL POR PAGAR","INSS PATRONAL - PROYECTOS STAFF SCCC",4185.41,null,210400]
[111,"2014-06-16",110201,"CK-259","CTA. CTE. 356894501 C$","Pago de Inss patronal - Proyectos Staff SCCC",null,4185.41,110200]
[111,"2014-06-16",210405,null,"APORTE INATEC POR PAGAR","INATEC - POYECTOS STAFF SCCC",823.04,null,210400]
[111,"2014-06-16",110201,"CK-259","CTA. CTE. 356894501 C$","PAGO - INATEC - POYECTOS STAFF SCCC",null,823.04,110200]
[112,"2014-06-06",210303,null,"RETENCIONES EN LA FUENTE","RETENCIONES EN LA FUENTE ",1546.75,null,210300]
[112,"2014-06-06",110201,null,"CTA. CTE. 356894501 C$","Pagon de RETENCIONES EN LA FUENTE ",null,1546.75,110200]
[113,"2014-07-02",630306,null,"ACTIVIDADES SOCIALES ","Compras de Materiales de Construcción- Proyecto Pisos El Carrizal",9521,null,630300]
[113,"2014-07-02",110201,"CK-267","CTA. CTE. 356894501 C$","Pago por Compra de Materiales de Construcción.",null,9331,110200]
[113,"2014-07-02",210301,null,"RETENCIÓN 2% BIENES Y SERVICIOS","Retención por Compra de Materiales de Construcción.",null,190,210300]
[114,"2014-07-09",630103,null,"APORTE SOCIAL","Compra de trofeos por culminacion de liga deportiva",1200,null,630100]
[114,"2014-07-09",110201,"CK-269","CTA. CTE. 356894501 C$","Pago por compras a trofeos de PD",null,1176,110200]
[114,"2014-07-09",210301,null,"RETENCIÓN 2% BIENES Y SERVICIOS","Retención por compras de trofeos PD",null,24,210300]
[114,"2014-07-09",630101,null,"ADMINISTRATIVOS Y GENERALES","Servicos Basicos PD -  Enacal",769.31,null,630100]
[114,"2014-07-09",110201,"CK-269","CTA. CTE. 356894501 C$","Pago de Servicos Basicos PD -  Enacal",null,769.31,110200]
[114,"2014-07-09",630105,null,"VIATICOS DE ALIMENTACIÓN Y TRANSPORTE","Viaticos viaje a Managua - Transporte ",300,null,630100]
[114,"2014-07-09",110201,"CK-269","CTA. CTE. 356894501 C$","Pago de viaticos coordinador PD - Viaje a MGA",null,300,110200]
[115,"2014-07-09",630204,null,"SERVICIO DE TRANSPORTE","Viaje a Gigante coordinadora ",1200,null,630200]
[115,"2014-07-09",110201,"CK-270","CTA. CTE. 356894501 C$","Pago de servico de transporte - EG3",null,1176,110200]
[115,"2014-07-09",210301,null,"RETENCIÓN 2% BIENES Y SERVICIOS","Retención del 2% - Servicio de transpote",null,24,210300]
[115,"2014-07-09",630206,null,"VIATICOS DE ALIMENTANCIÓN Y TRANSPORTE","Viaticos de alimentación viaje a Gigante ",191,null,630200]
[115,"2014-07-09",110201,"CK-270","CTA. CTE. 356894501 C$","Pago de Viaticos EG3",null,191,110200]
[115,"2014-07-09",630204,null,"SERVICIO DE TRANSPORTE","Transporte del 10 de Julio 2014 - EG3",1200,null,630200]
[115,"2014-07-09",110201,"CK-270","CTA. CTE. 356894501 C$","Pago de servico de transporte - EG3",null,1176,110200]
[115,"2014-07-09",210301,null,"RETENCIÓN 2% BIENES Y SERVICIOS","Retención del 2% - Servicio de transpote",null,24,210300]
[115,"2014-07-09",630201,null,"ADMINISTRATIVOS Y GENERALES","Almuerzo para donantes y coordinadores - EG3",2495,null,630200]
[115,"2014-07-09",110201,"CK-270","CTA. CTE. 356894501 C$","Pago de almuerzo donantes y coordinador EG3",null,2445,110200]
[115,"2014-07-09",210301,null,"RETENCIÓN 2% BIENES Y SERVICIOS","Retención del 2% - Servicio de RETAURANTE",null,50,210300]
[115,"2014-07-09",630205,null,"SERVICIO DE HOSPEDAJE","Alojamiento de 2 noches en Gigante - monitoreo EG3",760,null,630200]
[115,"2014-07-09",110201,"CK-270","CTA. CTE. 356894501 C$","Pago de servico de alojamiento  - EG3",null,760,110200]
[115,"2014-07-09",630206,null,"VIATICOS DE ALIMENTANCIÓN Y TRANSPORTE","Viaticos de alimentación estadia en Gigante ",700,null,630200]
[115,"2014-07-09",110201,"CK-270","CTA. CTE. 356894501 C$","Pago de viaticos EG3 - coordinadora",null,700,110200]
[115,"2014-07-09",630201,null,"ADMINISTRATIVOS Y GENERALES","Traductor para donantes EG3",900,null,630200]
[115,"2014-07-09",110201,"CK-270","CTA. CTE. 356894501 C$","Pago de traductor para donantes EG3",null,900,110200]
[115,"2014-07-09",630202,null,"GASTOS VARIOS","Compras varias actividades de limpieza con niños EG3",330,null,630200]
[115,"2014-07-09",110201,"CK-270","CTA. CTE. 356894501 C$","Pago de compras varias EG3",null,330,110200]
[115,"2014-07-09",630208,null,"COMBUSTIBLE ","Combustible viaje a Gigante - EG3",800,null,630200]
[115,"2014-07-09",110201,"CK-270","CTA. CTE. 356894501 C$","Pago de combustible viaje a Gigante - EG3",null,800,110200]
[115,"2014-07-09",630202,null,"GASTOS VARIOS","Compra varias actividad de niños - EG3",97,null,630200]
[115,"2014-07-09",110201,"CK-270","CTA. CTE. 356894501 C$","Pago de compras varias EG3",null,97,110200]
[115,"2014-07-09",630201,null,"ADMINISTRATIVOS Y GENERALES","Alimentación para donantes y coordinadora EG3",590,null,630200]
[115,"2014-07-09",110201,"CK-270","CTA. CTE. 356894501 C$","Pago de alimentación para donantes y coordinadora",null,590,110200]
[115,"2014-07-09",630204,null,"SERVICIO DE TRANSPORTE","Transporte del 13 de Julio 2014 - EG3",800,null,630200]
[115,"2014-07-09",110201,"CK-270","CTA. CTE. 356894501 C$","Pago de transporte EG3",null,800,110200]
[115,"2014-07-09",630204,null,"SERVICIO DE TRANSPORTE","Transporte SJDS - Rivas",400,null,630200]
[115,"2014-07-09",110201,"CK-270","CTA. CTE. 356894501 C$","Pago de transporte EG3 - SJDS  Rivas Coordinadora",null,400,110200]
[116,"2014-07-09",630203,null,"APORTE SOCIAL","Beca a estudiante José Eliseo Talavera Monastel- Escuela Secundaria",650,null,630200]
[116,"2014-07-09",110201,"CK-271","CTA. CTE. 356894501 C$","Pago de Aporte social a estudiante José Eliseo Talavera - Escuela Secundaria",null,650,110200]
[116,"2014-07-09",630203,null,"APORTE SOCIAL","Beca para estudiante Heysel Bojorge Romero - Universitaria",700,null,630200]
[116,"2014-07-09",110201,"CK-271",{"$f":"IF(C323<>\"\", VLOOKUP(C323, plan_cuentas, 2, FALSE), \"\")","v":"CTA. CTE. 356894501 C$"},"Pago de Aporte social a estudiante Heysel Bojorge - Universitaria",null,700,110200]
[116,"2014-07-09",630203,null,"APORTE SOCIAL","Pago de Matrícula del II Semestre  de estudiante Heysel Bojorge Romero. ",1165,null,630200]
[116,"2014-07-09",110201,"CK-271","CTA. CTE. 356894501 C$","Pago de Matrícula del II Semestre  de estudiante Heysel Bojorge Romero. ",null,1165,110200]
[116,"2014-07-09",630203,null,"APORTE SOCIAL","Beca para estudiante Sinia Bustos (Escuela Normal)",1450,null,630200]
[116,"2014-07-09",110201,"CK-271","CTA. CTE. 356894501 C$","Pago de Beca a estudiante Sinia Bustos .",null,1450,110200]
[116,"2014-07-09",110201,null,"CTA. CTE. 356894501 C$","Depósito de sobrantes del Programa Becas El Carrizal",885,null,110200]
[116,"2014-07-09",110201,null,"CTA. CTE. 356894501 C$","Depósito de sobrantes del Programa Becas El Carrizal",null,885,110200]
[117,"2014-07-02",110204,null,"CTA.CTE. 357605203 EEUU US","Ingreso por transferencia de Los EEUU",1590848.48,null,110200]
[117,"2014-07-02",510101,null,"DONACIONES E.U.A."," transferencia de Los EEUU PARA  G.O - SCCC - Jun, Jul, Agst",null,1590848.48,510100]
[118,"2014-07-04",110202,null,"CTA. CTE. 357144914  U$","Ingreso por transferencia de G.A - Jun, Jul, Agst. - SCCC",372075.65,null,110200]
[118,"2014-07-04",110204,null,"CTA.CTE. 357605203 EEUU US"," Transferencia de G.A - Jun, Jul, Agst. - SCCC",null,372075.65,110200]
[119,"2014-07-02",110201,null,"CTA. CTE. 356894501 C$","Ingreso por transferencia G.O - SCCC",38730,null,110200]
[119,"2014-07-02",110203,null,"CTA. CTE. 356894576 U$","Transferencia - G.O , SCCC",null,38730,110200]
[120,"2014-07-04",110202,null,"CTA. CTE. 357144914  U$","Ingreso por transferencia  G.O - SCCC",13520,null,110200]
[120,"2014-07-04",110203,null,"CTA. CTE. 356894576 U$","Transferencia para alimentar cuenta Bancaria # 914",null,13520,110200]
[121,"2014-07-08",110201,null,"CTA. CTE. 356894501 C$","Ingreso de Transferencia G.O - SCCC",25840,null,110200]
[121,"2014-07-08",110203,null,"CTA. CTE. 356894576 U$","Transferencia entre cuentas G.O - SCCC",null,25840,110200]
[122,"2014-07-10",110201,null,"CTA. CTE. 356894501 C$","Ingreso por transferencia G.O - SCCC",64600,null,110200]
[122,"2014-07-10",110203,null,"CTA. CTE. 356894576 U$","Transferencia entre cuentas para cubrir GO. SCCC",null,64600,110200]
[123,"2014-07-11",110201,null,"CTA. CTE. 356894501 C$","Ingreso de transferencia para cubrir G.O - SCCC",278980,null,110200]
[123,"2014-07-11",110204,null,"CTA.CTE. 357605203 EEUU US","Transferencia para cubrir G.O - SCCC",null,278980,110200]
[124,"2014-07-18",110201,null,"CTA. CTE. 356894501 C$","Ingreso por transferencia G.O - SCCC",390600,null,110200]
[124,"2014-07-18",110204,"CK-5","CTA.CTE. 357605203 EEUU US","Transferencia entre cuentas para cubrir G.O - SCCC",null,390600,110200]
[125,"2014-07-21",110201,null,"CTA. CTE. 356894501 C$","Ingreso de donación a Proyecto NA. CARRIZAL",28546.75,null,110200]
[125,"2014-07-21",510301,null,"DONACIONES DE VOLUNTARIOS","Donacion proyecto N.A - Carrizal",null,28546.75,510300]
[126,"2014-07-23",110201,null,"CTA. CTE. 356894501 C$","Ingreso de Proyecto N.A - Gigante - Guacalito de la Isla",126959,null,110200]
[126,"2014-07-23",510202,null,"DONACIONES INST. PRIVADAS","Ingreso de Proyecto N.A - Gigante ",null,126959,510200]
[127,"2014-07-25",110201,null,"CTA. CTE. 356894501 C$","Ingrso por transferencia G.O - SCCC .traslado de fondos de la cuenta # 576",76305.759999999995,null,110200]
[127,"2014-07-25",110203,null,"CTA. CTE. 356894576 U$","Transferencia G.O- SCCC , y cierre de cuenta",null,76305.759999999995,110200]
[128,"2014-07-04",630304,null,"SERVICIOS DE HOSPEDAJE","Pago de Hospedaje y alimentacion de Broadreach 1 ",13555.5,null,630300]
[128,"2014-07-04",110202,"CK-32","CTA. CTE. 357144914  U$","Gasto de Hospedaje y alimentacion del BRD 1",null,13284.39,110200]
[128,"2014-07-04",210301,null,"RETENCIÓN 2% BIENES Y SERVICIOS","Retención de Hospedaje y alimentación",null,271.11,210300]
[129,"2014-07-01",630501,null,"COMBUSTIBLE","Compra de combustible viaje a Jinotega - NCHC",4080.75,null,630500]
[129,"2014-07-01",110201,null,"CTA. CTE. 356894501 C$","TD - Compra de combustible viaje a Jiniotega - NCHC",null,4080.75,110200]
[130,"2014-07-01",630502,null,"VIATICOS DE ALIMENTACIÓN","Viaticos de aliemnataicón viaje a Jinotega - NCHC",983.16,null,630500]
[130,"2014-07-01",110201,null,"CTA. CTE. 356894501 C$","Retiro de fondos - viaticos NCHC",null,983.16,110200]
[130,"2014-07-01",110402,null,"CUENTAS POR COBRAR A EMPLEADOS","Fondos son Justificar DE - Deducción de planilla",16.84,null,110400]
[130,"2014-07-01",110201,null,"CTA. CTE. 356894501 C$","Fondos son Justificar DE - Deducción de planilla",null,16.84,110200]
[131,"2014-07-02",610201,null,"RENTA DE OFICINA ADMINISTRATIVA","Renta de Local de oficina de SJDS",5191.82,null,610200]
[131,"2014-07-02",110201,null,"CTA. CTE. 356894501 C$","Pago de renta de Local SJDS",null,5087.9799999999996,110200]
[131,"2014-07-02",210301,null,"RETENCIÓN 2% BIENES Y SERVICIOS","Retención por renta de Local",null,103.84,210300]
[132,"2014-07-06",610403,null,"COMBUSTIBLE"," TD - Viaje  a Jinotega , Contabilidad, Asesor y DE",790,null,610400]
[132,"2014-07-06",110201,null,"CTA. CTE. 356894501 C$","TD - Pago de Combustible, viaje a Jinotega",null,790,110200]
[132,"2014-07-06",610601,null,"VIÁTICOS ALIMENTACIÓN Y TRANSPORTE","TD - Viaticos de alimentación Viaje a Jinotega",858.02,null,610600]
[132,"2014-07-06",110201,null,"CTA. CTE. 356894501 C$","TD - Viaticos de alimentación Viaje a Jinotega",null,858.02,110200]
[132,"2014-07-06",610602,null,"GASTOS DE REPRESENTACIÓN","TD - Gastos varios Viaje a Jinotega",655.02,null,610600]
[132,"2014-07-06",110202,null,"CTA. CTE. 357144914  U$","TD - Gastos varios Viaje a Jinotega",null,655.02,110200]
[132,"2014-07-06",610601,null,"VIÁTICOS ALIMENTACIÓN Y TRANSPORTE","TD - Viaticos de alimentación Viaje a Jinotega, desayunos",370.3,null,610600]
[132,"2014-07-06",110202,null,"CTA. CTE. 357144914  U$","TD - Viaticos de alimentación Viaje a Jinotega, desayunos",null,370.3,110200]
[132,"2014-07-06",610602,null,"GASTOS DE REPRESENTACIÓN","TD - Compras varias Viaje a Jinotega",681,null,610600]
[132,"2014-07-06",110202,null,"CTA. CTE. 357144914  U$","TD - Compras varias Viaje a Jinotega",null,681,110200]
[133,"2014-07-09",630305,null,"SERVICIO DE ALIMENTACIÓN","Alimentación de Guia del Grupo - HO.I",103.5,null,630300]
[133,"2014-07-09",110201,null,"CTA. CTE. 356894501 C$","Retiro de Fondos - Alimenatción de Guia de Grupo HO.I",null,103.5,110200]
[133,"2014-07-09",630303,null,"SERVICIO DE TRANSPORTE ","Transporte de Guia a la comunidad LoS  Robles Jinotega",400,null,630300]
[133,"2014-07-09",110201,null,"CTA. CTE. 356894501 C$","Retiro de Fondos - Transporte de Guia a la comunidad LoS  Robles Jinotega",null,400,110200]
[133,"2014-07-09",630305,null,"SERVICIO DE ALIMENTACIÓN","Viaticos de alimenatción y transporte Guia de Grupo H.O.I",470,null,630300]
[133,"2014-07-09",110201,null,"CTA. CTE. 356894501 C$","Retiro de Fondos Viaticos de alimenatción y transporte Guia de Grupo H.O.I",null,470,110200]
[133,"2014-07-09",630302,null,"GASTOS VARIOS","Compras varias",639.26,null,630300]
[133,"2014-07-09",110201,null,"CTA. CTE. 356894501 C$","Retiro de Fondos - Compras Varias",null,639.26,110200]
[133,"2014-07-09",630306,null,"ACTIVIDADES SOCIALES ","Compra de materiales de construcción de construcción de  cocinas mejorasdas ",6155.39,null,630300]
[133,"2014-07-09",110201,null,"CTA. CTE. 356894501 C$","Retiro de Fondos , compra de materiales para construcción de cocinas mejoradas",null,6048.34,110200]
[133,"2014-07-09",210301,null,"RETENCIÓN 2% BIENES Y SERVICIOS","Retencion de compras de materiales ",null,107.05,210300]
[134,"2014-07-08",630302,null,"GASTOS VARIOS","reembolso de gastos varios con H.O.I - Jinotega",10,null,630300]
[134,"2014-07-08",110201,null,"CTA. CTE. 356894501 C$","Retiro de Fondos reembolso de gastos varios con H.O.I - Jinotega",null,10,110200]
[135,"2014-07-08",610601,null,{"$f":"IF(C387<>\"\", VLOOKUP(C387, plan_cuentas, 2, FALSE), \"\")","v":"VIÁTICOS ALIMENTACIÓN Y TRANSPORTE"},"Viaticos de alimentación viaje a Jinotega",1603,null,610600]
[135,"2014-07-08",110202,null,{"$f":"IF(C388<>\"\", VLOOKUP(C388, plan_cuentas, 2, FALSE), \"\")","v":"CTA. CTE. 357144914  U$"},"Retiro - Viaticos de alimentacion Vijae a Jinotega",null,1570.94,110200]
[135,"2014-07-08",210301,null,{"$f":"IF(C389<>\"\", VLOOKUP(C389, plan_cuentas, 2, FALSE), \"\")","v":"RETENCIÓN 2% BIENES Y SERVICIOS"},"Retención Servicio de restaurante",null,32.06,210300]
[136,"2014-07-10",610402,null,{"$f":"IF(C390<>\"\", VLOOKUP(C390, plan_cuentas, 2, FALSE), \"\")","v":"PRODUCTOS DE LIMPIEZA"},"Compras para oficina de SJDS",1139.9000000000001,null,610400]
[136,"2014-07-10",110202,null,"CTA. CTE. 357144914  U$","TD - Compras varias oficina SJDS",null,1139.9000000000001,110200]
[137,"2014-07-10",630305,null,"SERVICIO DE ALIMENTACIÓN","Alimentación de BR1",12353,null,630300]
[137,"2014-07-10",110201,"CK-272","CTA. CTE. 356894501 C$","Pago de alimentación del grupo BR1",null,12128.4,110200]
[137,"2014-07-10",210301,null,"RETENCIÓN 2% BIENES Y SERVICIOS","Retención por servicio de restaurante",null,224.6,210300]
[138,"2014-07-10",630304,null,"SERVICIOS DE HOSPEDAJE","Cancelación de servicio de alojamiento BR1",13639.5,null,630300]
[138,"2014-07-10",110201,"CK-273","CTA. CTE. 356894501 C$","Pago de cancelacion de alojamiento BR1",null,13366.71,110200]
[138,"2014-07-10",210301,null,"RETENCIÓN 2% BIENES Y SERVICIOS","Retención de servicio de alojamiento BR1",null,272.79000000000002,210300]
[139,"2014-07-11",610403,null,"COMBUSTIBLE","Combustible gestiones administrativas DE",140,null,610400]
[139,"2014-07-11",110202,null,"CTA. CTE. 357144914  U$","Pago de Combustible gestiones administrativas DE",null,140,110200]
[139,"2014-07-11",610602,null,"GASTOS DE REPRESENTACIÓN","Servicio de restaurante DE, JT, Guia de Grupo",437.5,null,610600]
[139,"2014-07-11",110202,null,"CTA. CTE. 357144914  U$","Pago de servicio de restaurante ",null,437.5,110200]
[140,"2014-07-11",630306,null,"ACTIVIDADES SOCIALES ","Actividades libres de los Voluntarios BR1",8446.75,null,630300]
[140,"2014-07-11",110201,"CK-279","CTA. CTE. 356894501 C$","Pago de Canopy , actividades libres de BR1",null,8299.85,110200]
[140,"2014-07-11",210301,null,"RETENCIÓN 2% BIENES Y SERVICIOS","Pago de Retencion , servicio de Canopy ",null,146.9,210300]
[141,"2014-07-11",630304,null,"SERVICIOS DE HOSPEDAJE","Servicio de Hospedaje BR 1 ",46620,null,630300]
[141,"2014-07-11",110201,"CK-278","CTA. CTE. 356894501 C$","Pago por Servicio de Hospedaje BR 1 ",null,41958,110200]
[141,"2014-07-11",210302,null,"RETENC. 10% SERV. TÉCNICOS Y PROFESIONALES","Retención por Servicio de alojamiento de BR1",null,4662,210300]
[142,"2014-07-11",630306,null,"ACTIVIDADES SOCIALES ","Actividades libres con BR1",6497.5,null,630300]
[142,"2014-07-11",110201,"CK-275","CTA. CTE. 356894501 C$","Pago de actividades libres de BR 1",null,5847.75,110200]
[142,"2014-07-11",210302,null,"RETENC. 10% SERV. TÉCNICOS Y PROFESIONALES","Retención por servicio profesional",null,649.75,210300]
[143,"2014-07-11",610108,null,"OTROS PAGOS ","Asesorias y coordinaciones de proyectos de Marzo  a Julio 2014",157800,null,610100]
[143,"2014-07-11",110201,"CK-282","CTA. CTE. 356894501 C$","Pago de Asesorias y coordinaciones de proyectos de Marzo  a Julio 2015",null,142020,110200]
[143,"2014-07-11",210302,null,"RETENC. 10% SERV. TÉCNICOS Y PROFESIONALES","Retenciones por pago de Asesorias",null,15780,210300]
[144,"2014-07-11",630307,null,"OTROS PAGOS","Pago de guia de grupo BR1",15780,null,630300]
[144,"2014-07-11",110201,"CK-280","CTA. CTE. 356894501 C$","Pago de guia de grupo BR1",null,14202,110200]
[144,"2014-07-11",210302,null,"RETENC. 10% SERV. TÉCNICOS Y PROFESIONALES","Retencion servicio profesional",null,1578,210300]
[145,"2014-07-15",630209,null,"OTROS PAGOS","Pago por clases de Ingles",6745.6,null,630200]
[145,"2014-07-15",110201,"CK-285","CTA. CTE. 356894501 C$","Pago por clases de Ingles",null,6071.04,110200]
[145,"2014-07-15",210302,null,"RETENC. 10% SERV. TÉCNICOS Y PROFESIONALES","Retención por servicio profesional",null,674.56,210300]
[146,"2014-07-15",630209,null,"OTROS PAGOS","Retiro de fondos - Pago de servicios de tradución",900,null,630200]
[146,"2014-07-15",110201,null,"CTA. CTE. 356894501 C$","Retiro de fondos - Pago de servicios de tradución",null,900,110200]
[147,"2014-07-16",630303,null,"SERVICIO DE TRANSPORTE ","Pago de servicio de transporte BR1",30383,null,630300]
[147,"2014-07-16",110201,"CK-293","CTA. CTE. 356894501 C$","Pago de servicio de transporte BR1",null,29775.34,110200]
[147,"2014-07-16",210301,null,"RETENCIÓN 2% BIENES Y SERVICIOS","Retencion servicio de transporte",null,607.66,210300]
[148,"2014-07-16",630204,null,"SERVICIO DE TRANSPORTE","Viaje a Gigante EG III",1200,null,630200]
[148,"2014-07-16",110201,"CK-295","CTA. CTE. 356894501 C$","Pago de Viaje a Gigante EG III",null,1176,110200]
[148,"2014-07-16",210301,null,"RETENCIÓN 2% BIENES Y SERVICIOS","Retención servicio de transporte",null,24,210300]
[148,"2014-07-16",630206,null,"VIATICOS DE ALIMENTANCIÓN Y TRANSPORTE","Viaticos de alimentación EGIII",190,null,630200]
[148,"2014-07-16",110201,"CK-295","CTA. CTE. 356894501 C$","Viaticos de alimentación EGIII",null,190,110200]
[148,"2014-07-16",630207,null,"INSUMOS Y SUMINISTRO CAMPO VERDE","Pesa para acopio EGIII",1000,null,630200]
[148,"2014-07-16",110201,"CK-295","CTA. CTE. 356894501 C$","Compra de Pesa para acopio EGIII",null,1000,110200]
[148,"2014-07-16",630207,null,"INSUMOS Y SUMINISTRO CAMPO VERDE","Compras varias para EGIII",311.35000000000002,null,630200]
[148,"2014-07-16",110201,"CK-295","CTA. CTE. 356894501 C$","Compras varias para EGIII",null,311.35000000000002,110200]
[148,"2014-07-16",610101,null,"SALARIOS","Salario de David R, y Rut M. Embajadores EGII , 6 días de trabajo",1601,null,610100]
[148,"2014-07-16",110201,"CK-295","CTA. CTE. 356894501 C$","Salario de David R, y Rut M. Embajadores EGII , 6 días de trabajo",null,1601,110200]
[149,"2014-07-16",630303,null,"SERVICIO DE TRANSPORTE ","Pago de Transporte  BR 1    ",1558.8,null,630300]
[149,"2014-07-16",110201,"CK-294","CTA. CTE. 356894501 C$","Pago de Transporte  BR 1    ",null,1527.63,110200]
[149,"2014-07-16",210301,null,"RETENCIÓN 2% BIENES Y SERVICIOS","Retención de servicio de transporte",null,31.17,210300]
[150,"2014-07-16",610101,null,"SALARIOS","Salario de Jessenia Campo - Tecnica RASS",9400,null,610100]
[150,"2014-07-16",110201,"CK-291","CTA. CTE. 356894501 C$","Pago de Salario a Tecnica RAAS",null,9400,110200]
[151,"2014-07-16",630305,null,"SERVICIO DE ALIMENTACIÓN","SErvicio de restaurante Grupo H.O.I ",4698,null,630300]
[151,"2014-07-16",110201,"CK-290","CTA. CTE. 356894501 C$","Pago por Servicio de Restaurante H.O.I",null,4616.29,110200]
[151,"2014-07-16",210301,null,"RETENCIÓN 2% BIENES Y SERVICIOS","Retencion Servicio de restaurante",null,81.709999999999994,210300]
[152,"2014-07-16",610603,null,"GASTOS VARIOS ADMINISTRATIVOS","Pago de servicio de transpoorte para JT al aeropuerto",4291.6499999999996,null,610600]
[152,"2014-07-16",110201,"CK-289","CTA. CTE. 356894501 C$","Pago de servicio de transpoorte para JT al aeropuerto",null,4205.82,110200]
[152,"2014-07-16",210301,null,"RETENCIÓN 2% BIENES Y SERVICIOS","Retención de servicio de transporte",null,85.83,210300]
[153,"2014-07-16",630304,null,"SERVICIOS DE HOSPEDAJE","Alojamiento grupo H.O.I ",15151,null,630300]
[153,"2014-07-16",110201,"CK-288","CTA. CTE. 356894501 C$","Pago de alojamiento Alojamiento grupo H.O.I ",null,14892.01,110200]
[153,"2014-07-16",210301,null,"RETENCIÓN 2% BIENES Y SERVICIOS","Retención de servicio de alojamiento",null,258.99,210300]
[154,"2014-07-16",630304,null,"SERVICIOS DE HOSPEDAJE","Servicio de Hospedaje BR1",8041.29,null,630300]
[154,"2014-07-16",110201,"CK-287","CTA. CTE. 356894501 C$","Pago de servicio de hospedaje BR1",null,7903.15,110200]
[154,"2014-07-16",210301,null,"RETENCIÓN 2% BIENES Y SERVICIOS","Retencion de Servicio de Hospedaje ",null,138.13999999999999,210300]
[155,"2014-07-15",610101,null,"SALARIOS","Pago a tecnica RANN, PRIMERA QUINCENA DEL MES",1915,null,610100]
[155,"2014-07-15",110201,"CK-284",{"$f":"IF(C454<>\"\", VLOOKUP(C454, plan_cuentas, 2, FALSE), \"\")","v":"CTA. CTE. 356894501 C$"},"Pago a tecnica RANN, PRIMERA QUINCENA DEL MES",null,1915,110200]
[156,"2014-07-16",630208,null,"COMBUSTIBLE ","Combustible administrativo en San Juan del Sur",500,null,630200]
[156,"2014-07-16",110202,null,"CTA. CTE. 357144914  U$","TD - Compra de combustible",null,500,110200]
[157,"2014-07-17",630502,null,"VIATICOS DE ALIMENTACIÓN","Gastos de alimentacion reuniones en la alcaldia y DGI - Jinotega",467.5,null,630500]
[157,"2014-07-17",110202,null,"CTA. CTE. 357144914  U$","Ret. Gastos de alimentacion Jinotega NCHC",null,467.5,110200]
[157,"2014-07-17",110402,null,"CUENTAS POR COBRAR A EMPLEADOS","Fondos sin justificar - Deducion de planilla DE",32.5,null,110400]
[157,"2014-07-17",110202,null,"CTA. CTE. 357144914  U$","Fondos sin justificar - Deducion de planilla DE",null,32.5,110200]
[158,"2014-07-17",610603,null,"GASTOS VARIOS ADMINISTRATIVOS","Depreciación de pago a camioneta de Mara J.",1745.63,null,610600]
[158,"2014-07-17",110201,"CK-298","CTA. CTE. 356894501 C$","Pago de depreciación camioneta MJ",null,1745.63,110200]
[159,"2014-07-03",610603,null,"GASTOS VARIOS ADMINISTRATIVOS","Gastos Varios administrativos",1000,null,610600]
[159,"2014-07-03",110202,"CK-31","CTA. CTE. 357144914  U$","Gastos Varios administrativos",null,1000,110200]
[159,"2014-07-03",110101,null,"CAJA CHICA","Gastos Varios ",300,null,110100]
[159,"2014-07-03",110202,"CK-31","CTA. CTE. 357144914  U$","Gastos Varios ",null,300,110200]
[159,"2014-07-03",610301,null,"SERVICIO ENERGÍA ELÉCTRICA","Pagos Servicios basicos",700,null,610300]
[159,"2014-07-03",110202,"CK-31","CTA. CTE. 357144914  U$","Pagos Servicios basicos",null,700,110200]
[160,"2014-07-21",110605,null,"PAPELERÍA Y ÚTILES DE OFICINA","Compras administrativas oficina",150,null,110600]
[160,"2014-07-21",110201,"CK-301","CTA. CTE. 356894501 C$","Compras administrativas oficina",null,150,110200]
[160,"2014-07-21",610303,null,"TELEFONÍA FIJA Y CELULAR","Reacrgas telefonicas",342,null,610300]
[160,"2014-07-21",110201,"CK-301","CTA. CTE. 356894501 C$","Reacrgas telefonicas",null,342,110200]
[160,"2014-07-21",610601,null,"VIÁTICOS ALIMENTACIÓN Y TRANSPORTE","Viaticos de alimentación y trasnprote ",1360,null,610600]
[160,"2014-07-21",110201,"CK-301","CTA. CTE. 356894501 C$","Viaticos de alimentación y trasnprote ",null,1360,110200]
[160,"2014-07-21",630302,null,"GASTOS VARIOS","Compras de agua",98,null,630300]
[160,"2014-07-21",110201,"CK-301","CTA. CTE. 356894501 C$","Compras de agua",null,98,110200]
[160,"2014-07-21",610402,null,"PRODUCTOS DE LIMPIEZA","Pago de limpieza",750,null,610400]
[160,"2014-07-21",110201,"CK-301","CTA. CTE. 356894501 C$","Pago de limpieza",null,750,110200]
[161,"2014-07-01",610502,null,"MANTENIMIENTO DE VEHÍCULOS","Mantenimiento preventivo de camioneta blanca",525.33000000000004,null,610500]
[161,"2014-07-01",110202,null,"CTA. CTE. 357144914  U$","Mantenimiento preventivo de camioneta blanca",null,525.33000000000004,110200]
[162,"2014-07-01",630502,null,"VIATICOS DE ALIMENTACIÓN","Cena de DE - Visita a Jinotega ",180,null,630500]
[162,"2014-07-01",110201,null,"CTA. CTE. 356894501 C$","TD - Cena de DE - Visita a Jinotega ",null,180,110200]
[162,"2014-07-01",610603,null,"GASTOS VARIOS ADMINISTRATIVOS","Compra de Servico de Tapiceria de Forro de asiento para camioneta",1350,null,610600]
[162,"2014-07-01",110201,null,"CTA. CTE. 356894501 C$","Pago  de Servico de Tapiceria de Forro de asiento para camioneta",null,1323,110200]
[162,"2014-07-01",210301,null,"RETENCIÓN 2% BIENES Y SERVICIOS","Retención de servicio de tapiceria",null,27,210300]
[163,"2014-07-01",630302,null,"GASTOS VARIOS","Compras varias para el grupo BR1 ",416.6,null,630300]
[163,"2014-07-01",110201,null,"CTA. CTE. 356894501 C$","Compras varias para el grupo BR2",null,416.6,110200]
[163,"2014-07-01",630305,null,"SERVICIO DE ALIMENTACIÓN","Compra de comida para Voluntarios BR1",1588.99,null,630300]
[163,"2014-07-01",110201,null,"CTA. CTE. 356894501 C$","Servicio  de comida para Voluntarios BR2",null,1561.35,110200]
[163,"2014-07-01",210301,null,"RETENCIÓN 2% BIENES Y SERVICIOS","Retencion de servicio de alimentación - Se pago a la renta C$ 28 ",null,27.64,210300]
[163,"2014-07-01",630302,null,"GASTOS VARIOS","Compra de medicamento para botiquin del grupo BR1",250,null,630300]
[163,"2014-07-01",110201,null,"CTA. CTE. 356894501 C$","Compra de medicamento para botiquin del grupo BR2",null,250,110200]
[163,"2014-07-01",630301,null,"ADMINISTRATIVOS Y GENERALES","Viaticos de transporte Voluntario Cuerpo de Paz",400,null,630300]
[163,"2014-07-01",110201,null,"CTA. CTE. 356894501 C$","Viaticos de transporte Voluntario Cuerpo de Paz",null,400,110200]
[163,"2014-07-01",630306,null,"ACTIVIDADES SOCIALES ","Pago de hechuras de estufas para familias de las comunidades de Los Robles - BR1",570,null,630300]
[163,"2014-07-01",110201,null,"CTA. CTE. 356894501 C$","Pago de hechuras de estufas para familias de las comunidades de Los Robles - BR2",null,570,110200]
[163,"2014-07-01",630304,null,"SERVICIOS DE HOSPEDAJE","Viatico de alojamiento coordinadora Nerys Blandon  .- BR1",500,null,630300]
[163,"2014-07-01",110201,null,"CTA. CTE. 356894501 C$","Viatico de alojamiento coordinadora Nerys Blandon  .- BR1",null,500,110200]
[163,"2014-07-01",630302,null,"GASTOS VARIOS","Propina a Pedro Villagra - Antención en cocina al grupo BR1",500,null,630300]
[163,"2014-07-01",110201,null,"CTA. CTE. 356894501 C$","Propina a Pedro Villagra - Antención en cocina al grupo BR2",null,500,110200]
[163,"2014-07-01",630302,null,"GASTOS VARIOS","Compras varias para el grupo en la comunidad Los Robles - BR1 ",500,null,630300]
[163,"2014-07-01",110201,null,"CTA. CTE. 356894501 C$","Compras varias para el grupo en la comunidad Los Robles - BR1 ",null,500,110200]
[163,"2014-07-01",630302,null,"GASTOS VARIOS","Propina a Maria Esther Arauz - Antención en camareria al grupo BR1",350,null,630300]
[163,"2014-07-01",110201,null,"CTA. CTE. 356894501 C$","Propina a Maria Esther Arauz - Antención en camareria al grupo BR1",null,350,110200]
[163,"2014-07-01",630305,null,"SERVICIO DE ALIMENTACIÓN","Viaticos de transporte y alimentación de coordinadora - Alicia Harvey - BR1",900,null,630300]
[163,"2014-07-01",110201,null,"CTA. CTE. 356894501 C$","Viaticos de transporte y alimentación de coordinadora - Alicia Harvey - BR1",null,900,110200]
[163,"2014-07-01",630302,null,"GASTOS VARIOS","Compras varias y transporte para el grupo BR1 en Los Robles",278,null,630300]
[163,"2014-07-01",110201,null,"CTA. CTE. 356894501 C$","Compras varias y transporte para el grupo BR1 en Los Robles",null,278,110200]
[163,"2014-07-01",630303,null,"SERVICIO DE TRANSPORTE ","Viaticos de transporte  de coordinadora Nerys Blandon - BR1",500,null,630300]
[163,"2014-07-01",110201,null,"CTA. CTE. 356894501 C$","Viaticos de transporte  de coordinadora Nerys Blandon - BR1",null,500,110200]
[163,"2014-07-01",630303,null,"SERVICIO DE TRANSPORTE ","Viaticos de transporte 2 viajes a la comunidad Los Robles  de coordinadora - Alicia Harvey - BR1",1000,null,630300]
[163,"2014-07-01",110201,null,"CTA. CTE. 356894501 C$","Viaticos de transporte 2 viajes a la comunidad Los Robles  de coordinadora - Alicia Harvey - BR1",null,1000,110200]
[163,"2014-07-01",630302,null,"GASTOS VARIOS","Compra de bolsa de cemento para la elaboración de estufas mejoradas en Los Robles ",333.97,null,630300]
[163,"2014-07-01",110201,null,"CTA. CTE. 356894501 C$","Compra de bolsa de cemento para la elaboración de estufas mejoradas en Los Robles ",null,333.97,110200]
[163,"2014-07-01",630305,null,"SERVICIO DE ALIMENTACIÓN","Servicio  de comida, actividad  para Voluntarios BR2",1000,null,630300]
[163,"2014-07-01",110201,null,"CTA. CTE. 356894501 C$","Servicio  de comida, actividad  para Voluntarios BR2",null,1000,110200]
[163,"2014-07-01",110402,null,"CUENTAS POR COBRAR A EMPLEADOS","Fondos gastados no rendidos ni justificados por coordinadora BR1 - AH",722.44,null,110400]
[163,"2014-07-01",110201,null,{"$f":"IF(C518<>\"\", VLOOKUP(C518, plan_cuentas, 2, FALSE), \"\")","v":"CTA. CTE. 356894501 C$"},"Fondos gastados no rendidos ni justificados por coordinadora BR1 - AH",null,722.44,110200]
[164,"2014-07-01",630502,null,"VIATICOS DE ALIMENTACIÓN","Viaticos de alimentación viaje a Jinotega",304.75,null,630500]
[164,"2014-07-01",110202,null,"CTA. CTE. 357144914  U$","RET - Viaticos de alimentación viaje a Jinotega",null,304.75,110200]
[164,"2014-07-01",610602,null,"GASTOS DE REPRESENTACIÓN","Gastos de representación DE, viaje a Jinotega",1195.25,null,610600]
[164,"2014-07-01",110202,null,"CTA. CTE. 357144914  U$","RET- Gastos de representación DE, viaje a Jinotega",null,1195.25,110200]
[165,"2014-07-02",610403,null,"COMBUSTIBLE","Compra de combustible ",503.94,null,610400]
[165,"2014-07-02",110202,null,"CTA. CTE. 357144914  U$","TD - Compra de combustible ",null,503.94,110200]

{"sheet":"logins","index":9,"n_rows":5,"n_cols":2,"rows_kept":5,"cut":false,"hidden":false,"merged":[]}
["USUARIO","PASSWORD"]
["ggertrudis","gger01"]
["yesly","0106_carrusel"]
["agalan","agalan01"]
["dpotoy","dpotoy01"]

{"sheet":"cd","index":10,"n_rows":0,"n_cols":0,"rows_kept":0,"cut":false,"hidden":false,"merged":[]}

{"sheet":"D","index":11,"n_rows":66,"n_cols":6,"rows_kept":66,"cut":false,"hidden":false,"merged":[[1,0,1,5],[2,0,2,5],[3,0,3,5],[4,0,4,5],[6,3,6,5],[7,5,8,5],[59,0,59,1],[63,0,63,1],[63,4,63,5],[64,0,64,1],[64,4,64,5],[7,0,8,0],[7,1,8,1],[7,2,8,2],[7,3,8,3],[7,4,8,4],[70,2,70,3],[65,0,65,1],[65,4,65,5],[66,0,66,1],[66,4,66,5],[68,2,68,3],[69,2,69,3]]}
[null,null,null,null,"Proteger"]
[{"$f":"bussiness_name","v":"SOCIEDAD CIVIL COMUNIDAD CONNECT"}]
[{"$f":"\"RESUMEN CONTABLE DE \"&B7","v":"RESUMEN CONTABLE DE "}]
[{"$f":"\"DEL \"&TEXT(fecha_inicial, \"DD\")&\" DE \"&UPPER(TEXT(fecha_inicial, \"MMMM\"))&\" DEL \" & TEXT(fecha_inicial, \"YYYY\") & \" AL \"&TEXT(fecha_final, \"DD\")&\" DE \"&UPPER(TEXT(fecha_final, \"MMMM\"))&\" DEL \"&TEXT(fecha_final, \"YYYY\")","v":"DEL 01 DE JULIO DEL 2014 AL 31 DE JULIO DEL 2014"}]
[{"$f":"address & \" *** Tel/Fax:  \" & tel & \" *** \" & email","v":"Esquina sureste del Parque Central, San Juan del sur, Nicaragua. *** Tel/Fax:  25682731 *** info@comunidadconnect.org"}]
[]
[null,{"$f":"UPPER(IF(ISBLANK(A7),\"\",IFERROR(VLOOKUP(A7,plan_cuentas,2,FALSE),\"Código de cuenta incorrecto\")))","v":""},null,{"$f":"\"MOVIMIENTOS DE \"&UPPER(TEXT(fecha_final, \"MMMM\"))","v":"MOVIMIENTOS DE JULIO"}]
["CODIGO","NOMBRE DE LA CUENTA","SALDO INICIAL","DEBITOS","CREDITOS","SALDO FINAL"]
[]
[]
[null,{"$f":"IF(A11<>\"\", IF(ISERROR(VLOOKUP(A11, plan_cuentas,2, FALSE)), \"Código de Cuenta Incorrecto\", UPPER(VLOOKUP(A11, plan_cuentas, 2, FALSE))), \"\")","v":""},{"$f":"SUM(C12:C17)","v":0},{"$f":"SUM(D12:D17)","v":0},{"$f":"SUM(E12:E17)","v":0},{"$f":"C11+D11-E11","v":0}]
[null,{"$f":"IF(A12<>\"\", IF(ISERROR(VLOOKUP(A12, plan_cuentas,2, FALSE)), \"Código de Cuenta Incorrecto\", UPPER(VLOOKUP(A12, plan_cuentas, 2, FALSE))), \"\")","v":""},{"$f":"IF(ISBLANK(A12),0,SUMIFS(Registros!G:G,Registros!B:B,\"<\"&fecha_inicial,Registros!C:C,\"=\"&A12)-IF(ISBLANK(A12),0,SUMIFS(Registros!H:H,Registros!B:B,\"<\"&fecha_inicial,Registros!C:C,\"=\"&A12)))","v":0},{"$f":"IF(ISBLANK(A12),0,SUMIFS(Registros!G:G,Registros!B:B,\">=\"&fecha_inicial, Registros!B:B, \"<=\"&fecha_final,Registros!C:C,\"=\"&A12))","v":0},{"$f":"IF(ISBLANK(A12),0,SUMIFS(Registros!H:H,Registros!B:B,\">=\"&fecha_inicial, Registros!B:B, \"<=\"&fecha_final,Registros!C:C,\"=\"&A12))","v":0},{"$f":"C12+D12-E12","v":0}]
[null,{"$f":"IF(A13<>0, IF(ISERROR(VLOOKUP(A13, plan_cuentas,2, FALSE)), \"Código de Cuenta Incorrecto\", UPPER(VLOOKUP(A13, plan_cuentas, 2, FALSE))), \"\")","v":""},{"$f":"IF(ISBLANK(A13),0,SUMIFS(Registros!G:G,Registros!B:B,\"<\"&fecha_inicial,Registros!C:C,\"=\"&A13)-IF(ISBLANK(A13),0,SUMIFS(Registros!H:H,Registros!B:B,\"<\"&fecha_inicial,Registros!C:C,\"=\"&A13)))","v":0},{"$f":"IF(ISBLANK(A13),0,SUMIFS(Registros!G:G,Registros!B:B,\">=\"&fecha_inicial, Registros!B:B, \"<=\"&fecha_final,Registros!C:C,\"=\"&A13))","v":0},{"$f":"IF(ISBLANK(A13),0,SUMIFS(Registros!H:H,Registros!B:B,\">=\"&fecha_inicial, Registros!B:B, \"<=\"&fecha_final,Registros!C:C,\"=\"&A13))","v":0},{"$f":"C13+D13-E13","v":0}]
[null,"",{"$f":"IF(ISBLANK(A14),0,SUMIFS(Registros!G:G,Registros!B:B,\"<\"&fecha_inicial,Registros!C:C,\"=\"&A14)-IF(ISBLANK(A14),0,SUMIFS(Registros!H:H,Registros!B:B,\"<\"&fecha_inicial,Registros!C:C,\"=\"&A14)))","v":0},{"$f":"IF(ISBLANK(A14),0,SUMIFS(Registros!G:G,Registros!B:B,\">=\"&fecha_inicial, Registros!B:B, \"<=\"&fecha_final,Registros!C:C,\"=\"&A14))","v":0},{"$f":"IF(ISBLANK(A14),0,SUMIFS(Registros!H:H,Registros!B:B,\">=\"&fecha_inicial, Registros!B:B, \"<=\"&fecha_final,Registros!C:C,\"=\"&A14))","v":0},0]
[null,"",{"$f":"IF(ISBLANK(A15),0,SUMIFS(Registros!G:G,Registros!B:B,\"<\"&fecha_inicial,Registros!C:C,\"=\"&A15)-IF(ISBLANK(A15),0,SUMIFS(Registros!H:H,Registros!B:B,\"<\"&fecha_inicial,Registros!C:C,\"=\"&A15)))","v":0},{"$f":"IF(ISBLANK(A15),0,SUMIFS(Registros!G:G,Registros!B:B,\">=\"&fecha_inicial, Registros!B:B, \"<=\"&fecha_final,Registros!C:C,\"=\"&A15))","v":0},{"$f":"IF(ISBLANK(A15),0,SUMIFS(Registros!H:H,Registros!B:B,\">=\"&fecha_inicial, Registros!B:B, \"<=\"&fecha_final,Registros!C:C,\"=\"&A15))","v":0},0]
[null,"",{"$f":"IF(ISBLANK(A16),0,SUMIFS(Registros!G:G,Registros!B:B,\"<\"&fecha_inicial,Registros!C:C,\"=\"&A16)-IF(ISBLANK(A16),0,SUMIFS(Registros!H:H,Registros!B:B,\"<\"&fecha_inicial,Registros!C:C,\"=\"&A16)))","v":0},{"$f":"IF(ISBLANK(A16),0,SUMIFS(Registros!G:G,Registros!B:B,\">=\"&fecha_inicial, Registros!B:B, \"<=\"&fecha_final,Registros!C:C,\"=\"&A16))","v":0},{"$f":"IF(ISBLANK(A16),0,SUMIFS(Registros!H:H,Registros!B:B,\">=\"&fecha_inicial, Registros!B:B, \"<=\"&fecha_final,Registros!C:C,\"=\"&A16))","v":0},0]
[null,"",{"$f":"IF(ISBLANK(A17),0,SUMIFS(Registros!G:G,Registros!B:B,\"<\"&fecha_inicial,Registros!C:C,\"=\"&A17)-IF(ISBLANK(A17),0,SUMIFS(Registros!H:H,Registros!B:B,\"<\"&fecha_inicial,Registros!C:C,\"=\"&A17)))","v":0},{"$f":"IF(ISBLANK(A17),0,SUMIFS(Registros!G:G,Registros!B:B,\">=\"&fecha_inicial, Registros!B:B, \"<=\"&fecha_final,Registros!C:C,\"=\"&A17))","v":0},{"$f":"IF(ISBLANK(A17),0,SUMIFS(Registros!H:H,Registros!B:B,\">=\"&fecha_inicial, Registros!B:B, \"<=\"&fecha_final,Registros!C:C,\"=\"&A17))","v":0},0]
[null,{"$f":"IF(A18<>0, IF(ISERROR(VLOOKUP(A18, plan_cuentas,2, FALSE)), \"Código de Cuenta Incorrecto\", UPPER(VLOOKUP(A18, plan_cuentas, 2, FALSE))), \"\")","v":""},{"$f":"SUM(C19:C24)","v":0},{"$f":"SUM(D19:D24)","v":0},{"$f":"SUM(E19:E24)","v":0},0]
[null,{"$f":"IF(A19<>\"\", IF(ISERROR(VLOOKUP(A19, plan_cuentas,2, FALSE)), \"Código de Cuenta Incorrecto\", UPPER(VLOOKUP(A19, plan_cuentas, 2, FALSE))), \"\")","v":""},{"$f":"IF(ISBLANK(A19),0,SUMIFS(Registros!G:G,Registros!B:B,\"<\"&fecha_inicial,Registros!C:C,\"=\"&A19)-IF(ISBLANK(A19),0,SUMIFS(Registros!H:H,Registros!B:B,\"<\"&fecha_inicial,Registros!C:C,\"=\"&A19)))","v":0},{"$f":"IF(ISBLANK(A19),0,SUMIFS(Registros!G:G,Registros!B:B,\">=\"&fecha_inicial, Registros!B:B, \"<=\"&fecha_final,Registros!C:C,\"=\"&A19))","v":0},{"$f":"IF(ISBLANK(A19),0,SUMIFS(Registros!H:H,Registros!B:B,\">=\"&fecha_inicial, Registros!B:B, \"<=\"&fecha_final,Registros!C:C,\"=\"&A19))","v":0},0]
[null,"",{"$f":"IF(ISBLANK(A20),0,SUMIFS(Registros!G:G,Registros!B:B,\"<\"&fecha_inicial,Registros!C:C,\"=\"&A20)-IF(ISBLANK(A20),0,SUMIFS(Registros!H:H,Registros!B:B,\"<\"&fecha_inicial,Registros!C:C,\"=\"&A20)))","v":0},{"$f":"IF(ISBLANK(A20),0,SUMIFS(Registros!G:G,Registros!B:B,\">=\"&fecha_inicial, Registros!B:B, \"<=\"&fecha_final,Registros!C:C,\"=\"&A20))","v":0},{"$f":"IF(ISBLANK(A20),0,SUMIFS(Registros!H:H,Registros!B:B,\">=\"&fecha_inicial, Registros!B:B, \"<=\"&fecha_final,Registros!C:C,\"=\"&A20))","v":0},0]
[null,"",{"$f":"IF(ISBLANK(A21),0,SUMIFS(Registros!G:G,Registros!B:B,\"<\"&fecha_inicial,Registros!C:C,\"=\"&A21)-IF(ISBLANK(A21),0,SUMIFS(Registros!H:H,Registros!B:B,\"<\"&fecha_inicial,Registros!C:C,\"=\"&A21)))","v":0},{"$f":"IF(ISBLANK(A21),0,SUMIFS(Registros!G:G,Registros!B:B,\">=\"&fecha_inicial, Registros!B:B, \"<=\"&fecha_final,Registros!C:C,\"=\"&A21))","v":0},{"$f":"IF(ISBLANK(A21),0,SUMIFS(Registros!H:H,Registros!B:B,\">=\"&fecha_inicial, Registros!B:B, \"<=\"&fecha_final,Registros!C:C,\"=\"&A21))","v":0},0]
[null,"",{"$f":"IF(ISBLANK(A22),0,SUMIFS(Registros!G:G,Registros!B:B,\"<\"&fecha_inicial,Registros!C:C,\"=\"&A22)-IF(ISBLANK(A22),0,SUMIFS(Registros!H:H,Registros!B:B,\"<\"&fecha_inicial,Registros!C:C,\"=\"&A22)))","v":0},{"$f":"IF(ISBLANK(A22),0,SUMIFS(Registros!G:G,Registros!B:B,\">=\"&fecha_inicial, Registros!B:B, \"<=\"&fecha_final,Registros!C:C,\"=\"&A22))","v":0},{"$f":"IF(ISBLANK(A22),0,SUMIFS(Registros!H:H,Registros!B:B,\">=\"&fecha_inicial, Registros!B:B, \"<=\"&fecha_final,Registros!C:C,\"=\"&A22))","v":0},0]
[null,"",{"$f":"IF(ISBLANK(A23),0,SUMIFS(Registros!G:G,Registros!B:B,\"<\"&fecha_inicial,Registros!C:C,\"=\"&A23)-IF(ISBLANK(A23),0,SUMIFS(Registros!H:H,Registros!B:B,\"<\"&fecha_inicial,Registros!C:C,\"=\"&A23)))","v":0},{"$f":"IF(ISBLANK(A23),0,SUMIFS(Registros!G:G,Registros!B:B,\">=\"&fecha_inicial, Registros!B:B, \"<=\"&fecha_final,Registros!C:C,\"=\"&A23))","v":0},{"$f":"IF(ISBLANK(A23),0,SUMIFS(Registros!H:H,Registros!B:B,\">=\"&fecha_inicial, Registros!B:B, \"<=\"&fecha_final,Registros!C:C,\"=\"&A23))","v":0},0]
[null,"",{"$f":"IF(ISBLANK(A24),0,SUMIFS(Registros!G:G,Registros!B:B,\"<\"&fecha_inicial,Registros!C:C,\"=\"&A24)-IF(ISBLANK(A24),0,SUMIFS(Registros!H:H,Registros!B:B,\"<\"&fecha_inicial,Registros!C:C,\"=\"&A24)))","v":0},{"$f":"IF(ISBLANK(A24),0,SUMIFS(Registros!G:G,Registros!B:B,\">=\"&fecha_inicial, Registros!B:B, \"<=\"&fecha_final,Registros!C:C,\"=\"&A24))","v":0},{"$f":"IF(ISBLANK(A24),0,SUMIFS(Registros!H:H,Registros!B:B,\">=\"&fecha_inicial, Registros!B:B, \"<=\"&fecha_final,Registros!C:C,\"=\"&A24))","v":0},0]
[null,{"$f":"IF(A25<>0, IF(ISERROR(VLOOKUP(A25, plan_cuentas,2, FALSE)), \"Código de Cuenta Incorrecto\", UPPER(VLOOKUP(A25, plan_cuentas, 2, FALSE))), \"\")","v":""},{"$f":"SUM(C26:C31)","v":0},{"$f":"SUM(D26:D31)","v":0},{"$f":"SUM(E26:E31)","v":0},0]
[null,{"$f":"IF(A26<>\"\", IF(ISERROR(VLOOKUP(A26, plan_cuentas,2, FALSE)), \"Código de Cuenta Incorrecto\", UPPER(VLOOKUP(A26, plan_cuentas, 2, FALSE))), \"\")","v":""},{"$f":"IF(ISBLANK(A26),0,SUMIFS(Registros!G:G,Registros!B:B,\"<\"&fecha_inicial,Registros!C:C,\"=\"&A26)-IF(ISBLANK(A26),0,SUMIFS(Registros!H:H,Registros!B:B,\"<\"&fecha_inicial,Registros!C:C,\"=\"&A26)))","v":0},{"$f":"IF(ISBLANK(A26),0,SUMIFS(Registros!G:G,Registros!B:B,\">=\"&fecha_inicial, Registros!B:B, \"<=\"&fecha_final,Registros!C:C,\"=\"&A26))","v":0},{"$f":"IF(ISBLANK(A26),0,SUMIFS(Registros!H:H,Registros!B:B,\">=\"&fecha_inicial, Registros!B:B, \"<=\"&fecha_final,Registros!C:C,\"=\"&A26))","v":0},0]
[null,"",{"$f":"IF(ISBLANK(A27),0,SUMIFS(Registros!G:G,Registros!B:B,\"<\"&fecha_inicial,Registros!C:C,\"=\"&A27)-IF(ISBLANK(A27),0,SUMIFS(Registros!H:H,Registros!B:B,\"<\"&fecha_inicial,Registros!C:C,\"=\"&A27)))","v":0},{"$f":"IF(ISBLANK(A27),0,SUMIFS(Registros!G:G,Registros!B:B,\">=\"&fecha_inicial, Registros!B:B, \"<=\"&fecha_final,Registros!C:C,\"=\"&A27))","v":0},{"$f":"IF(ISBLANK(A27),0,SUMIFS(Registros!H:H,Registros!B:B,\">=\"&fecha_inicial, Registros!B:B, \"<=\"&fecha_final,Registros!C:C,\"=\"&A27))","v":0},0]
[null,"",{"$f":"IF(ISBLANK(A28),0,SUMIFS(Registros!G:G,Registros!B:B,\"<\"&fecha_inicial,Registros!C:C,\"=\"&A28)-IF(ISBLANK(A28),0,SUMIFS(Registros!H:H,Registros!B:B,\"<\"&fecha_inicial,Registros!C:C,\"=\"&A28)))","v":0},{"$f":"IF(ISBLANK(A28),0,SUMIFS(Registros!G:G,Registros!B:B,\">=\"&fecha_inicial, Registros!B:B, \"<=\"&fecha_final,Registros!C:C,\"=\"&A28))","v":0},{"$f":"IF(ISBLANK(A28),0,SUMIFS(Registros!H:H,Registros!B:B,\">=\"&fecha_inicial, Registros!B:B, \"<=\"&fecha_final,Registros!C:C,\"=\"&A28))","v":0},0]
[null,"",{"$f":"IF(ISBLANK(A29),0,SUMIFS(Registros!G:G,Registros!B:B,\"<\"&fecha_inicial,Registros!C:C,\"=\"&A29)-IF(ISBLANK(A29),0,SUMIFS(Registros!H:H,Registros!B:B,\"<\"&fecha_inicial,Registros!C:C,\"=\"&A29)))","v":0},{"$f":"IF(ISBLANK(A29),0,SUMIFS(Registros!G:G,Registros!B:B,\">=\"&fecha_inicial, Registros!B:B, \"<=\"&fecha_final,Registros!C:C,\"=\"&A29))","v":0},{"$f":"IF(ISBLANK(A29),0,SUMIFS(Registros!H:H,Registros!B:B,\">=\"&fecha_inicial, Registros!B:B, \"<=\"&fecha_final,Registros!C:C,\"=\"&A29))","v":0},0]
[null,"",{"$f":"IF(ISBLANK(A30),0,SUMIFS(Registros!G:G,Registros!B:B,\"<\"&fecha_inicial,Registros!C:C,\"=\"&A30)-IF(ISBLANK(A30),0,SUMIFS(Registros!H:H,Registros!B:B,\"<\"&fecha_inicial,Registros!C:C,\"=\"&A30)))","v":0},{"$f":"IF(ISBLANK(A30),0,SUMIFS(Registros!G:G,Registros!B:B,\">=\"&fecha_inicial, Registros!B:B, \"<=\"&fecha_final,Registros!C:C,\"=\"&A30))","v":0},{"$f":"IF(ISBLANK(A30),0,SUMIFS(Registros!H:H,Registros!B:B,\">=\"&fecha_inicial, Registros!B:B, \"<=\"&fecha_final,Registros!C:C,\"=\"&A30))","v":0},0]
[null,"",{"$f":"IF(ISBLANK(A31),0,SUMIFS(Registros!G:G,Registros!B:B,\"<\"&fecha_inicial,Registros!C:C,\"=\"&A31)-IF(ISBLANK(A31),0,SUMIFS(Registros!H:H,Registros!B:B,\"<\"&fecha_inicial,Registros!C:C,\"=\"&A31)))","v":0},{"$f":"IF(ISBLANK(A31),0,SUMIFS(Registros!G:G,Registros!B:B,\">=\"&fecha_inicial, Registros!B:B, \"<=\"&fecha_final,Registros!C:C,\"=\"&A31))","v":0},{"$f":"IF(ISBLANK(A31),0,SUMIFS(Registros!H:H,Registros!B:B,\">=\"&fecha_inicial, Registros!B:B, \"<=\"&fecha_final,Registros!C:C,\"=\"&A31))","v":0},0]
[null,"",{"$f":"SUM(C33:C38)","v":0},{"$f":"SUM(D33:D38)","v":0},{"$f":"SUM(E33:E38)","v":0},0]
[null,"",{"$f":"IF(ISBLANK(A33),0,SUMIFS(Registros!G:G,Registros!B:B,\"<\"&fecha_inicial,Registros!C:C,\"=\"&A33)-IF(ISBLANK(A33),0,SUMIFS(Registros!H:H,Registros!B:B,\"<\"&fecha_inicial,Registros!C:C,\"=\"&A33)))","v":0},{"$f":"IF(ISBLANK(A33),0,SUMIFS(Registros!G:G,Registros!B:B,\">=\"&fecha_inicial, Registros!B:B, \"<=\"&fecha_final,Registros!C:C,\"=\"&A33))","v":0},{"$f":"IF(ISBLANK(A33),0,SUMIFS(Registros!H:H,Registros!B:B,\">=\"&fecha_inicial, Registros!B:B, \"<=\"&fecha_final,Registros!C:C,\"=\"&A33))","v":0},0]
[null,"",{"$f":"IF(ISBLANK(A34),0,SUMIFS(Registros!G:G,Registros!B:B,\"<\"&fecha_inicial,Registros!C:C,\"=\"&A34)-IF(ISBLANK(A34),0,SUMIFS(Registros!H:H,Registros!B:B,\"<\"&fecha_inicial,Registros!C:C,\"=\"&A34)))","v":0},{"$f":"IF(ISBLANK(A34),0,SUMIFS(Registros!G:G,Registros!B:B,\">=\"&fecha_inicial, Registros!B:B, \"<=\"&fecha_final,Registros!C:C,\"=\"&A34))","v":0},{"$f":"IF(ISBLANK(A34),0,SUMIFS(Registros!H:H,Registros!B:B,\">=\"&fecha_inicial, Registros!B:B, \"<=\"&fecha_final,Registros!C:C,\"=\"&A34))","v":0},0]
[null,"",{"$f":"IF(ISBLANK(A35),0,SUMIFS(Registros!G:G,Registros!B:B,\"<\"&fecha_inicial,Registros!C:C,\"=\"&A35)-IF(ISBLANK(A35),0,SUMIFS(Registros!H:H,Registros!B:B,\"<\"&fecha_inicial,Registros!C:C,\"=\"&A35)))","v":0},{"$f":"IF(ISBLANK(A35),0,SUMIFS(Registros!G:G,Registros!B:B,\">=\"&fecha_inicial, Registros!B:B, \"<=\"&fecha_final,Registros!C:C,\"=\"&A35))","v":0},{"$f":"IF(ISBLANK(A35),0,SUMIFS(Registros!H:H,Registros!B:B,\">=\"&fecha_inicial, Registros!B:B, \"<=\"&fecha_final,Registros!C:C,\"=\"&A35))","v":0},0]
[null,"",{"$f":"IF(ISBLANK(A36),0,SUMIFS(Registros!G:G,Registros!B:B,\"<\"&fecha_inicial,Registros!C:C,\"=\"&A36)-IF(ISBLANK(A36),0,SUMIFS(Registros!H:H,Registros!B:B,\"<\"&fecha_inicial,Registros!C:C,\"=\"&A36)))","v":0},{"$f":"IF(ISBLANK(A36),0,SUMIFS(Registros!G:G,Registros!B:B,\">=\"&fecha_inicial, Registros!B:B, \"<=\"&fecha_final,Registros!C:C,\"=\"&A36))","v":0},{"$f":"IF(ISBLANK(A36),0,SUMIFS(Registros!H:H,Registros!B:B,\">=\"&fecha_inicial, Registros!B:B, \"<=\"&fecha_final,Registros!C:C,\"=\"&A36))","v":0},0]
[null,"",{"$f":"IF(ISBLANK(A37),0,SUMIFS(Registros!G:G,Registros!B:B,\"<\"&fecha_inicial,Registros!C:C,\"=\"&A37)-IF(ISBLANK(A37),0,SUMIFS(Registros!H:H,Registros!B:B,\"<\"&fecha_inicial,Registros!C:C,\"=\"&A37)))","v":0},{"$f":"IF(ISBLANK(A37),0,SUMIFS(Registros!G:G,Registros!B:B,\">=\"&fecha_inicial, Registros!B:B, \"<=\"&fecha_final,Registros!C:C,\"=\"&A37))","v":0},{"$f":"IF(ISBLANK(A37),0,SUMIFS(Registros!H:H,Registros!B:B,\">=\"&fecha_inicial, Registros!B:B, \"<=\"&fecha_final,Registros!C:C,\"=\"&A37))","v":0},0]
[null,"",{"$f":"IF(ISBLANK(A38),0,SUMIFS(Registros!G:G,Registros!B:B,\"<\"&fecha_inicial,Registros!C:C,\"=\"&A38)-IF(ISBLANK(A38),0,SUMIFS(Registros!H:H,Registros!B:B,\"<\"&fecha_inicial,Registros!C:C,\"=\"&A38)))","v":0},{"$f":"IF(ISBLANK(A38),0,SUMIFS(Registros!G:G,Registros!B:B,\">=\"&fecha_inicial, Registros!B:B, \"<=\"&fecha_final,Registros!C:C,\"=\"&A38))","v":0},{"$f":"IF(ISBLANK(A38),0,SUMIFS(Registros!H:H,Registros!B:B,\">=\"&fecha_inicial, Registros!B:B, \"<=\"&fecha_final,Registros!C:C,\"=\"&A38))","v":0},0]
[null,{"$f":"IF(A39<>0, IF(ISERROR(VLOOKUP(A39, plan_cuentas,2, FALSE)), \"Código de Cuenta Incorrecto\", UPPER(VLOOKUP(A39, plan_cuentas, 2, FALSE))), \"\")","v":""},{"$f":"SUM(C40:C45)","v":0},{"$f":"SUM(D40:D45)","v":0},{"$f":"SUM(E40:E45)","v":0},0]
[null,"",{"$f":"IF(ISBLANK(A40),0,SUMIFS(Registros!G:G,Registros!B:B,\"<\"&fecha_inicial,Registros!C:C,\"=\"&A40)-IF(ISBLANK(A40),0,SUMIFS(Registros!H:H,Registros!B:B,\"<\"&fecha_inicial,Registros!C:C,\"=\"&A40)))","v":0},{"$f":"IF(ISBLANK(A40),0,SUMIFS(Registros!G:G,Registros!B:B,\">=\"&fecha_inicial, Registros!B:B, \"<=\"&fecha_final,Registros!C:C,\"=\"&A40))","v":0},{"$f":"IF(ISBLANK(A40),0,SUMIFS(Registros!H:H,Registros!B:B,\">=\"&fecha_inicial, Registros!B:B, \"<=\"&fecha_final,Registros!C:C,\"=\"&A40))","v":0},0]
[null,"",{"$f":"IF(ISBLANK(A41),0,SUMIFS(Registros!G:G,Registros!B:B,\"<\"&fecha_inicial,Registros!C:C,\"=\"&A41)-IF(ISBLANK(A41),0,SUMIFS(Registros!H:H,Registros!B:B,\"<\"&fecha_inicial,Registros!C:C,\"=\"&A41)))","v":0},{"$f":"IF(ISBLANK(A41),0,SUMIFS(Registros!G:G,Registros!B:B,\">=\"&fecha_inicial, Registros!B:B, \"<=\"&fecha_final,Registros!C:C,\"=\"&A41))","v":0},{"$f":"IF(ISBLANK(A41),0,SUMIFS(Registros!H:H,Registros!B:B,\">=\"&fecha_inicial, Registros!B:B, \"<=\"&fecha_final,Registros!C:C,\"=\"&A41))","v":0},0]
[null,"",{"$f":"IF(ISBLANK(A42),0,SUMIFS(Registros!G:G,Registros!B:B,\"<\"&fecha_inicial,Registros!C:C,\"=\"&A42)-IF(ISBLANK(A42),0,SUMIFS(Registros!H:H,Registros!B:B,\"<\"&fecha_inicial,Registros!C:C,\"=\"&A42)))","v":0},{"$f":"IF(ISBLANK(A42),0,SUMIFS(Registros!G:G,Registros!B:B,\">=\"&fecha_inicial, Registros!B:B, \"<=\"&fecha_final,Registros!C:C,\"=\"&A42))","v":0},{"$f":"IF(ISBLANK(A42),0,SUMIFS(Registros!H:H,Registros!B:B,\">=\"&fecha_inicial, Registros!B:B, \"<=\"&fecha_final,Registros!C:C,\"=\"&A42))","v":0},0]
[null,"",{"$f":"IF(ISBLANK(A43),0,SUMIFS(Registros!G:G,Registros!B:B,\"<\"&fecha_inicial,Registros!C:C,\"=\"&A43)-IF(ISBLANK(A43),0,SUMIFS(Registros!H:H,Registros!B:B,\"<\"&fecha_inicial,Registros!C:C,\"=\"&A43)))","v":0},{"$f":"IF(ISBLANK(A43),0,SUMIFS(Registros!G:G,Registros!B:B,\">=\"&fecha_inicial, Registros!B:B, \"<=\"&fecha_final,Registros!C:C,\"=\"&A43))","v":0},{"$f":"IF(ISBLANK(A43),0,SUMIFS(Registros!H:H,Registros!B:B,\">=\"&fecha_inicial, Registros!B:B, \"<=\"&fecha_final,Registros!C:C,\"=\"&A43))","v":0},0]
[null,"",{"$f":"IF(ISBLANK(A44),0,SUMIFS(Registros!G:G,Registros!B:B,\"<\"&fecha_inicial,Registros!C:C,\"=\"&A44)-IF(ISBLANK(A44),0,SUMIFS(Registros!H:H,Registros!B:B,\"<\"&fecha_inicial,Registros!C:C,\"=\"&A44)))","v":0},{"$f":"IF(ISBLANK(A44),0,SUMIFS(Registros!G:G,Registros!B:B,\">=\"&fecha_inicial, Registros!B:B, \"<=\"&fecha_final,Registros!C:C,\"=\"&A44))","v":0},{"$f":"IF(ISBLANK(A44),0,SUMIFS(Registros!H:H,Registros!B:B,\">=\"&fecha_inicial, Registros!B:B, \"<=\"&fecha_final,Registros!C:C,\"=\"&A44))","v":0},0]
[null,"",{"$f":"IF(ISBLANK(A45),0,SUMIFS(Registros!G:G,Registros!B:B,\"<\"&fecha_inicial,Registros!C:C,\"=\"&A45)-IF(ISBLANK(A45),0,SUMIFS(Registros!H:H,Registros!B:B,\"<\"&fecha_inicial,Registros!C:C,\"=\"&A45)))","v":0},{"$f":"IF(ISBLANK(A45),0,SUMIFS(Registros!G:G,Registros!B:B,\">=\"&fecha_inicial, Registros!B:B, \"<=\"&fecha_final,Registros!C:C,\"=\"&A45))","v":0},{"$f":"IF(ISBLANK(A45),0,SUMIFS(Registros!H:H,Registros!B:B,\">=\"&fecha_inicial, Registros!B:B, \"<=\"&fecha_final,Registros!C:C,\"=\"&A45))","v":0},0]
[null,{"$f":"IF(A46<>0, IF(ISERROR(VLOOKUP(A46, plan_cuentas,2, FALSE)), \"Código de Cuenta Incorrecto\", UPPER(VLOOKUP(A46, plan_cuentas, 2, FALSE))), \"\")","v":""},{"$f":"SUM(C47:C52)","v":0},{"$f":"SUM(D47:D52)","v":0},{"$f":"SUM(E47:E52)","v":0},0]
[null,{"$f":"IF(A47<>\"\", IF(ISERROR(VLOOKUP(A47, plan_cuentas,2, FALSE)), \"Código de Cuenta Incorrecto\", UPPER(VLOOKUP(A47, plan_cuentas, 2, FALSE))), \"\")","v":""},{"$f":"IF(ISBLANK(A47),0,SUMIFS(Registros!G:G,Registros!B:B,\"<\"&fecha_inicial,Registros!C:C,\"=\"&A47)-IF(ISBLANK(A47),0,SUMIFS(Registros!H:H,Registros!B:B,\"<\"&fecha_inicial,Registros!C:C,\"=\"&A47)))","v":0},{"$f":"IF(ISBLANK(A47),0,SUMIFS(Registros!G:G,Registros!B:B,\">=\"&fecha_inicial, Registros!B:B, \"<=\"&fecha_final,Registros!C:C,\"=\"&A47))","v":0},{"$f":"IF(ISBLANK(A47),0,SUMIFS(Registros!H:H,Registros!B:B,\">=\"&fecha_inicial, Registros!B:B, \"<=\"&fecha_final,Registros!C:C,\"=\"&A47))","v":0},0]
[null,{"$f":"IF(A48<>0, IF(ISERROR(VLOOKUP(A48, plan_cuentas,2, FALSE)), \"Código de Cuenta Incorrecto\", UPPER(VLOOKUP(A48, plan_cuentas, 2, FALSE))), \"\")","v":""},{"$f":"IF(ISBLANK(A48),0,SUMIFS(Registros!G:G,Registros!B:B,\"<\"&fecha_inicial,Registros!C:C,\"=\"&A48)-IF(ISBLANK(A48),0,SUMIFS(Registros!H:H,Registros!B:B,\"<\"&fecha_inicial,Registros!C:C,\"=\"&A48)))","v":0},{"$f":"IF(ISBLANK(A48),0,SUMIFS(Registros!G:G,Registros!B:B,\">=\"&fecha_inicial, Registros!B:B, \"<=\"&fecha_final,Registros!C:C,\"=\"&A48))","v":0},{"$f":"IF(ISBLANK(A48),0,SUMIFS(Registros!H:H,Registros!B:B,\">=\"&fecha_inicial, Registros!B:B, \"<=\"&fecha_final,Registros!C:C,\"=\"&A48))","v":0},0]
[null,{"$f":"IF(A49<>0, IF(ISERROR(VLOOKUP(A49, plan_cuentas,2, FALSE)), \"Código de Cuenta Incorrecto\", UPPER(VLOOKUP(A49, plan_cuentas, 2, FALSE))), \"\")","v":""},{"$f":"IF(ISBLANK(A49),0,SUMIFS(Registros!G:G,Registros!B:B,\"<\"&fecha_inicial,Registros!C:C,\"=\"&A49)-IF(ISBLANK(A49),0,SUMIFS(Registros!H:H,Registros!B:B,\"<\"&fecha_inicial,Registros!C:C,\"=\"&A49)))","v":0},{"$f":"IF(ISBLANK(A49),0,SUMIFS(Registros!G:G,Registros!B:B,\">=\"&fecha_inicial, Registros!B:B, \"<=\"&fecha_final,Registros!C:C,\"=\"&A49))","v":0},{"$f":"IF(ISBLANK(A49),0,SUMIFS(Registros!H:H,Registros!B:B,\">=\"&fecha_inicial, Registros!B:B, \"<=\"&fecha_final,Registros!C:C,\"=\"&A49))","v":0},0]
[null,{"$f":"IF(A50<>0, IF(ISERROR(VLOOKUP(A50, plan_cuentas,2, FALSE)), \"Código de Cuenta Incorrecto\", UPPER(VLOOKUP(A50, plan_cuentas, 2, FALSE))), \"\")","v":""},{"$f":"IF(ISBLANK(A50),0,SUMIFS(Registros!G:G,Registros!B:B,\"<\"&fecha_inicial,Registros!C:C,\"=\"&A50)-IF(ISBLANK(A50),0,SUMIFS(Registros!H:H,Registros!B:B,\"<\"&fecha_inicial,Registros!C:C,\"=\"&A50)))","v":0},{"$f":"IF(ISBLANK(A50),0,SUMIFS(Registros!G:G,Registros!B:B,\">=\"&fecha_inicial, Registros!B:B, \"<=\"&fecha_final,Registros!C:C,\"=\"&A50))","v":0},{"$f":"IF(ISBLANK(A50),0,SUMIFS(Registros!H:H,Registros!B:B,\">=\"&fecha_inicial, Registros!B:B, \"<=\"&fecha_final,Registros!C:C,\"=\"&A50))","v":0},0]
[null,{"$f":"IF(A51<>0, IF(ISERROR(VLOOKUP(A51, plan_cuentas,2, FALSE)), \"Código de Cuenta Incorrecto\", UPPER(VLOOKUP(A51, plan_cuentas, 2, FALSE))), \"\")","v":""},{"$f":"IF(ISBLANK(A51),0,SUMIFS(Registros!G:G,Registros!B:B,\"<\"&fecha_inicial,Registros!C:C,\"=\"&A51)-IF(ISBLANK(A51),0,SUMIFS(Registros!H:H,Registros!B:B,\"<\"&fecha_inicial,Registros!C:C,\"=\"&A51)))","v":0},{"$f":"IF(ISBLANK(A51),0,SUMIFS(Registros!G:G,Registros!B:B,\">=\"&fecha_inicial, Registros!B:B, \"<=\"&fecha_final,Registros!C:C,\"=\"&A51))","v":0},{"$f":"IF(ISBLANK(A51),0,SUMIFS(Registros!H:H,Registros!B:B,\">=\"&fecha_inicial, Registros!B:B, \"<=\"&fecha_final,Registros!C:C,\"=\"&A51))","v":0},0]
[null,{"$f":"IF(A52<>0, IF(ISERROR(VLOOKUP(A52, plan_cuentas,2, FALSE)), \"Código de Cuenta Incorrecto\", UPPER(VLOOKUP(A52, plan_cuentas, 2, FALSE))), \"\")","v":""},{"$f":"IF(ISBLANK(A52),0,SUMIFS(Registros!G:G,Registros!B:B,\"<\"&fecha_inicial,Registros!C:C,\"=\"&A52)-IF(ISBLANK(A52),0,SUMIFS(Registros!H:H,Registros!B:B,\"<\"&fecha_inicial,Registros!C:C,\"=\"&A52)))","v":0},{"$f":"IF(ISBLANK(A52),0,SUMIFS(Registros!G:G,Registros!B:B,\">=\"&fecha_inicial, Registros!B:B, \"<=\"&fecha_final,Registros!C:C,\"=\"&A52))","v":0},{"$f":"IF(ISBLANK(A52),0,SUMIFS(Registros!H:H,Registros!B:B,\">=\"&fecha_inicial, Registros!B:B, \"<=\"&fecha_final,Registros!C:C,\"=\"&A52))","v":0},0]
[null,"",{"$f":"SUM(C54:C59)","v":0},{"$f":"SUM(D54:D59)","v":0},{"$f":"SUM(E54:E59)","v":0},0]
[null,"",{"$f":"IF(ISBLANK(A54),0,SUMIFS(Registros!G:G,Registros!B:B,\"<\"&fecha_inicial,Registros!C:C,\"=\"&A54)-IF(ISBLANK(A54),0,SUMIFS(Registros!H:H,Registros!B:B,\"<\"&fecha_inicial,Registros!C:C,\"=\"&A54)))","v":0},{"$f":"IF(ISBLANK(A54),0,SUMIFS(Registros!G:G,Registros!B:B,\">=\"&fecha_inicial, Registros!B:B, \"<=\"&fecha_final,Registros!C:C,\"=\"&A54))","v":0},{"$f":"IF(ISBLANK(A54),0,SUMIFS(Registros!H:H,Registros!B:B,\">=\"&fecha_inicial, Registros!B:B, \"<=\"&fecha_final,Registros!C:C,\"=\"&A54))","v":0},0]
[null,"",{"$f":"IF(ISBLANK(A55),0,SUMIFS(Registros!G:G,Registros!B:B,\"<\"&fecha_inicial,Registros!C:C,\"=\"&A55)-IF(ISBLANK(A55),0,SUMIFS(Registros!H:H,Registros!B:B,\"<\"&fecha_inicial,Registros!C:C,\"=\"&A55)))","v":0},{"$f":"IF(ISBLANK(A55),0,SUMIFS(Registros!G:G,Registros!B:B,\">=\"&fecha_inicial, Registros!B:B, \"<=\"&fecha_final,Registros!C:C,\"=\"&A55))","v":0},{"$f":"IF(ISBLANK(A55),0,SUMIFS(Registros!H:H,Registros!B:B,\">=\"&fecha_inicial, Registros!B:B, \"<=\"&fecha_final,Registros!C:C,\"=\"&A55))","v":0},0]
[null,"",{"$f":"IF(ISBLANK(A56),0,SUMIFS(Registros!G:G,Registros!B:B,\"<\"&fecha_inicial,Registros!C:C,\"=\"&A56)-IF(ISBLANK(A56),0,SUMIFS(Registros!H:H,Registros!B:B,\"<\"&fecha_inicial,Registros!C:C,\"=\"&A56)))","v":0},{"$f":"IF(ISBLANK(A56),0,SUMIFS(Registros!G:G,Registros!B:B,\">=\"&fecha_inicial, Registros!B:B, \"<=\"&fecha_final,Registros!C:C,\"=\"&A56))","v":0},{"$f":"IF(ISBLANK(A56),0,SUMIFS(Registros!H:H,Registros!B:B,\">=\"&fecha_inicial, Registros!B:B, \"<=\"&fecha_final,Registros!C:C,\"=\"&A56))","v":0},0]
[null,"",{"$f":"IF(ISBLANK(A57),0,SUMIFS(Registros!G:G,Registros!B:B,\"<\"&fecha_inicial,Registros!C:C,\"=\"&A57)-IF(ISBLANK(A57),0,SUMIFS(Registros!H:H,Registros!B:B,\"<\"&fecha_inicial,Registros!C:C,\"=\"&A57)))","v":0},{"$f":"IF(ISBLANK(A57),0,SUMIFS(Registros!G:G,Registros!B:B,\">=\"&fecha_inicial, Registros!B:B, \"<=\"&fecha_final,Registros!C:C,\"=\"&A57))","v":0},{"$f":"IF(ISBLANK(A57),0,SUMIFS(Registros!H:H,Registros!B:B,\">=\"&fecha_inicial, Registros!B:B, \"<=\"&fecha_final,Registros!C:C,\"=\"&A57))","v":0},0]
[null,{"$f":"IF(A58<>0, IF(ISERROR(VLOOKUP(A58, plan_cuentas,2, FALSE)), \"Código de Cuenta Incorrecto\", UPPER(VLOOKUP(A58, plan_cuentas, 2, FALSE))), \"\")","v":""},{"$f":"IF(ISBLANK(A58),0,SUMIFS(Registros!G:G,Registros!B:B,\"<\"&fecha_inicial,Registros!C:C,\"=\"&A58)-IF(ISBLANK(A58),0,SUMIFS(Registros!H:H,Registros!B:B,\"<\"&fecha_inicial,Registros!C:C,\"=\"&A58)))","v":0},{"$f":"IF(ISBLANK(A58),0,SUMIFS(Registros!G:G,Registros!B:B,\">=\"&fecha_inicial, Registros!B:B, \"<=\"&fecha_final,Registros!C:C,\"=\"&A58))","v":0},{"$f":"IF(ISBLANK(A58),0,SUMIFS(Registros!H:H,Registros!B:B,\">=\"&fecha_inicial, Registros!B:B, \"<=\"&fecha_final,Registros!C:C,\"=\"&A58))","v":0},0]
[null,"",{"$f":"IF(ISBLANK(A59),0,SUMIFS(Registros!G:G,Registros!B:B,\"<\"&fecha_inicial,Registros!C:C,\"=\"&A59)-IF(ISBLANK(A59),0,SUMIFS(Registros!H:H,Registros!B:B,\"<\"&fecha_inicial,Registros!C:C,\"=\"&A59)))","v":0},{"$f":"IF(ISBLANK(A59),0,SUMIFS(Registros!G:G,Registros!B:B,\">=\"&fecha_inicial, Registros!B:B, \"<=\"&fecha_final,Registros!C:C,\"=\"&A59))","v":0},{"$f":"IF(ISBLANK(A59),0,SUMIFS(Registros!H:H,Registros!B:B,\">=\"&fecha_inicial, Registros!B:B, \"<=\"&fecha_final,Registros!C:C,\"=\"&A59))","v":0},0]
[{"$f":"\"SALDO FINAL DE LA CUENTA AL \" &TEXT(fecha_final, \"dd\")&\" DE \"&UPPER(TEXT(fecha_final, \"MMMM\"))&\" DEL \"& TEXT(fecha_final, \"YYYY\")","v":"SALDO FINAL DE LA CUENTA AL 31 DE JULIO DEL 2014"},null,{"$f":"C11+C18+C25+C46+C32+C39+C53","v":0},{"$f":"D11+D18+D25+D46+D32+D39+D53","v":0},{"$f":"E11+E18+E25+E46+E32+E39+E53","v":0},{"$f":"C60+D60-E60","v":0}]
[]
[]
[]
[]
["AUTORIZADO POR:",null,null,null,"REVISADO POR:"]
[{"$f":"VLOOKUP(A65, Usuarios!B7:E9, 3, FALSE)","v":"Rodrigo Castro Potoy"},null,null,null,{"$f":"VLOOKUP(E65, Usuarios!B7:E9, 3, FALSE)","v":0}]

{"sheet":"H","index":12,"n_rows":66,"n_cols":6,"rows_kept":66,"cut":false,"hidden":false,"merged":[[1,0,1,5],[2,0,2,5],[3,0,3,5],[4,0,4,5],[6,3,6,5],[7,5,8,5],[59,0,59,1],[63,0,63,1],[63,4,63,5],[64,0,64,1],[64,4,64,5],[7,0,8,0],[7,1,8,1],[7,2,8,2],[7,3,8,3],[7,4,8,4],[70,2,70,3],[65,0,65,1],[65,4,65,5],[66,0,66,1],[66,4,66,5],[68,2,68,3],[69,2,69,3]]}
[null,null,null,null,"Proteger"]
[{"$f":"bussiness_name","v":"SOCIEDAD CIVIL COMUNIDAD CONNECT"}]
[{"$f":"\"RESUMEN CONTABLE DE \"&B7","v":"RESUMEN CONTABLE DE "}]
[{"$f":"\"DEL \"&TEXT(fecha_inicial, \"DD\")&\" DE \"&UPPER(TEXT(fecha_inicial, \"MMMM\"))&\" DEL \" & TEXT(fecha_inicial, \"YYYY\") & \" AL \"&TEXT(fecha_final, \"DD\")&\" DE \"&UPPER(TEXT(fecha_final, \"MMMM\"))&\" DEL \"&TEXT(fecha_final, \"YYYY\")","v":"DEL 01 DE JULIO DEL 2014 AL 31 DE JULIO DEL 2014"}]
[{"$f":"address & \" *** Tel/Fax:  \" & tel & \" *** \" & email","v":"Esquina sureste del Parque Central, San Juan del sur, Nicaragua. *** Tel/Fax:  25682731 *** info@comunidadconnect.org"}]
[]
[null,{"$f":"UPPER(IF(ISBLANK(A7),\"\",IFERROR(VLOOKUP(A7,plan_cuentas,2,FALSE),\"Código de cuenta incorrecto\")))","v":""},null,{"$f":"\"MOVIMIENTOS DE \"&UPPER(TEXT(fecha_final, \"MMMM\"))","v":"MOVIMIENTOS DE JULIO"}]
["CODIGO","NOMBRE DE LA CUENTA","SALDO INICIAL","DEBITOS","CREDITOS","SALDO FINAL"]
[]
[]
[null,{"$f":"IF(A11<>\"\", IF(ISERROR(VLOOKUP(A11, plan_cuentas,2, FALSE)), \"Código de Cuenta Incorrecto\", UPPER(VLOOKUP(A11, plan_cuentas, 2, FALSE))), \"\")","v":""},{"$f":"SUM(C12:C17)","v":0},{"$f":"SUM(D12:D17)","v":0},{"$f":"SUM(E12:E17)","v":0},{"$f":"C11+E11-D11","v":0}]
[null,{"$f":"IF(A12<>\"\", IF(ISERROR(VLOOKUP(A12, plan_cuentas,2, FALSE)), \"Código de Cuenta Incorrecto\", UPPER(VLOOKUP(A12, plan_cuentas, 2, FALSE))), \"\")","v":""},{"$f":"IF(ISBLANK(A12),0,SUMIFS(Registros!H:H,Registros!B:B,\"<\"&fecha_inicial,Registros!C:C,\"=\"&A12)-IF(ISBLANK(A12),0,SUMIFS(Registros!G:G,Registros!B:B,\"<\"&fecha_inicial,Registros!C:C,\"=\"&A12)))","v":0},{"$f":"IF(ISBLANK(A12),0,SUMIFS(Registros!G:G,Registros!B:B,\">=\"&fecha_inicial, Registros!B:B, \"<=\"&fecha_final,Registros!C:C,\"=\"&A12))","v":0},{"$f":"IF(ISBLANK(A12),0,SUMIFS(Registros!H:H,Registros!B:B,\">=\"&fecha_inicial, Registros!B:B, \"<=\"&fecha_final,Registros!C:C,\"=\"&A12))","v":0},{"$f":"C12+E12-D12","v":0}]
[null,{"$f":"IF(A13<>0, IF(ISERROR(VLOOKUP(A13, plan_cuentas,2, FALSE)), \"Código de Cuenta Incorrecto\", UPPER(VLOOKUP(A13, plan_cuentas, 2, FALSE))), \"\")","v":""},{"$f":"IF(ISBLANK(A13),0,SUMIFS(Registros!H:H,Registros!B:B,\"<\"&fecha_inicial,Registros!C:C,\"=\"&A13)-IF(ISBLANK(A13),0,SUMIFS(Registros!G:G,Registros!B:B,\"<\"&fecha_inicial,Registros!C:C,\"=\"&A13)))","v":0},{"$f":"IF(ISBLANK(A13),0,SUMIFS(Registros!G:G,Registros!B:B,\">=\"&fecha_inicial, Registros!B:B, \"<=\"&fecha_final,Registros!C:C,\"=\"&A13))","v":0},{"$f":"IF(ISBLANK(A13),0,SUMIFS(Registros!H:H,Registros!B:B,\">=\"&fecha_inicial, Registros!B:B, \"<=\"&fecha_final,Registros!C:C,\"=\"&A13))","v":0},0]
[null,"",{"$f":"IF(ISBLANK(A14),0,SUMIFS(Registros!H:H,Registros!B:B,\"<\"&fecha_inicial,Registros!C:C,\"=\"&A14)-IF(ISBLANK(A14),0,SUMIFS(Registros!G:G,Registros!B:B,\"<\"&fecha_inicial,Registros!C:C,\"=\"&A14)))","v":0},{"$f":"IF(ISBLANK(A14),0,SUMIFS(Registros!G:G,Registros!B:B,\">=\"&fecha_inicial, Registros!B:B, \"<=\"&fecha_final,Registros!C:C,\"=\"&A14))","v":0},{"$f":"IF(ISBLANK(A14),0,SUMIFS(Registros!H:H,Registros!B:B,\">=\"&fecha_inicial, Registros!B:B, \"<=\"&fecha_final,Registros!C:C,\"=\"&A14))","v":0},0]
[null,"",{"$f":"IF(ISBLANK(A15),0,SUMIFS(Registros!H:H,Registros!B:B,\"<\"&fecha_inicial,Registros!C:C,\"=\"&A15)-IF(ISBLANK(A15),0,SUMIFS(Registros!G:G,Registros!B:B,\"<\"&fecha_inicial,Registros!C:C,\"=\"&A15)))","v":0},{"$f":"IF(ISBLANK(A15),0,SUMIFS(Registros!G:G,Registros!B:B,\">=\"&fecha_inicial, Registros!B:B, \"<=\"&fecha_final,Registros!C:C,\"=\"&A15))","v":0},{"$f":"IF(ISBLANK(A15),0,SUMIFS(Registros!H:H,Registros!B:B,\">=\"&fecha_inicial, Registros!B:B, \"<=\"&fecha_final,Registros!C:C,\"=\"&A15))","v":0},0]
[null,"",{"$f":"IF(ISBLANK(A16),0,SUMIFS(Registros!H:H,Registros!B:B,\"<\"&fecha_inicial,Registros!C:C,\"=\"&A16)-IF(ISBLANK(A16),0,SUMIFS(Registros!G:G,Registros!B:B,\"<\"&fecha_inicial,Registros!C:C,\"=\"&A16)))","v":0},{"$f":"IF(ISBLANK(A16),0,SUMIFS(Registros!G:G,Registros!B:B,\">=\"&fecha_inicial, Registros!B:B, \"<=\"&fecha_final,Registros!C:C,\"=\"&A16))","v":0},{"$f":"IF(ISBLANK(A16),0,SUMIFS(Registros!H:H,Registros!B:B,\">=\"&fecha_inicial, Registros!B:B, \"<=\"&fecha_final,Registros!C:C,\"=\"&A16))","v":0},0]
[null,"",{"$f":"IF(ISBLANK(A17),0,SUMIFS(Registros!H:H,Registros!B:B,\"<\"&fecha_inicial,Registros!C:C,\"=\"&A17)-IF(ISBLANK(A17),0,SUMIFS(Registros!G:G,Registros!B:B,\"<\"&fecha_inicial,Registros!C:C,\"=\"&A17)))","v":0},{"$f":"IF(ISBLANK(A17),0,SUMIFS(Registros!G:G,Registros!B:B,\">=\"&fecha_inicial, Registros!B:B, \"<=\"&fecha_final,Registros!C:C,\"=\"&A17))","v":0},{"$f":"IF(ISBLANK(A17),0,SUMIFS(Registros!H:H,Registros!B:B,\">=\"&fecha_inicial, Registros!B:B, \"<=\"&fecha_final,Registros!C:C,\"=\"&A17))","v":0},0]
[null,"",{"$f":"SUM(C19:C24)","v":0},{"$f":"SUM(D19:D24)","v":0},{"$f":"SUM(E19:E24)","v":0},0]
[null,{"$f":"IF(A19<>\"\", IF(ISERROR(VLOOKUP(A19, plan_cuentas,2, FALSE)), \"Código de Cuenta Incorrecto\", UPPER(VLOOKUP(A19, plan_cuentas, 2, FALSE))), \"\")","v":""},{"$f":"IF(ISBLANK(A19),0,SUMIFS(Registros!H:H,Registros!B:B,\"<\"&fecha_inicial,Registros!C:C,\"=\"&A19)-IF(ISBLANK(A19),0,SUMIFS(Registros!G:G,Registros!B:B,\"<\"&fecha_inicial,Registros!C:C,\"=\"&A19)))","v":0},{"$f":"IF(ISBLANK(A19),0,SUMIFS(Registros!G:G,Registros!B:B,\">=\"&fecha_inicial, Registros!B:B, \"<=\"&fecha_final,Registros!C:C,\"=\"&A19))","v":0},{"$f":"IF(ISBLANK(A19),0,SUMIFS(Registros!H:H,Registros!B:B,\">=\"&fecha_inicial, Registros!B:B, \"<=\"&fecha_final,Registros!C:C,\"=\"&A19))","v":0},0]
[null,"",{"$f":"IF(ISBLANK(A20),0,SUMIFS(Registros!H:H,Registros!B:B,\"<\"&fecha_inicial,Registros!C:C,\"=\"&A20)-IF(ISBLANK(A20),0,SUMIFS(Registros!G:G,Registros!B:B,\"<\"&fecha_inicial,Registros!C:C,\"=\"&A20)))","v":0},{"$f":"IF(ISBLANK(A20),0,SUMIFS(Registros!G:G,Registros!B:B,\">=\"&fecha_inicial, Registros!B:B, \"<=\"&fecha_final,Registros!C:C,\"=\"&A20))","v":0},{"$f":"IF(ISBLANK(A20),0,SUMIFS(Registros!H:H,Registros!B:B,\">=\"&fecha_inicial, Registros!B:B, \"<=\"&fecha_final,Registros!C:C,\"=\"&A20))","v":0},0]
[null,"",{"$f":"IF(ISBLANK(A21),0,SUMIFS(Registros!H:H,Registros!B:B,\"<\"&fecha_inicial,Registros!C:C,\"=\"&A21)-IF(ISBLANK(A21),0,SUMIFS(Registros!G:G,Registros!B:B,\"<\"&fecha_inicial,Registros!C:C,\"=\"&A21)))","v":0},{"$f":"IF(ISBLANK(A21),0,SUMIFS(Registros!G:G,Registros!B:B,\">=\"&fecha_inicial, Registros!B:B, \"<=\"&fecha_final,Registros!C:C,\"=\"&A21))","v":0},{"$f":"IF(ISBLANK(A21),0,SUMIFS(Registros!H:H,Registros!B:B,\">=\"&fecha_inicial, Registros!B:B, \"<=\"&fecha_final,Registros!C:C,\"=\"&A21))","v":0},0]
[null,"",{"$f":"IF(ISBLANK(A22),0,SUMIFS(Registros!H:H,Registros!B:B,\"<\"&fecha_inicial,Registros!C:C,\"=\"&A22)-IF(ISBLANK(A22),0,SUMIFS(Registros!G:G,Registros!B:B,\"<\"&fecha_inicial,Registros!C:C,\"=\"&A22)))","v":0},{"$f":"IF(ISBLANK(A22),0,SUMIFS(Registros!G:G,Registros!B:B,\">=\"&fecha_inicial, Registros!B:B, \"<=\"&fecha_final,Registros!C:C,\"=\"&A22))","v":0},{"$f":"IF(ISBLANK(A22),0,SUMIFS(Registros!H:H,Registros!B:B,\">=\"&fecha_inicial, Registros!B:B, \"<=\"&fecha_final,Registros!C:C,\"=\"&A22))","v":0},0]
[null,"",{"$f":"IF(ISBLANK(A23),0,SUMIFS(Registros!H:H,Registros!B:B,\"<\"&fecha_inicial,Registros!C:C,\"=\"&A23)-IF(ISBLANK(A23),0,SUMIFS(Registros!G:G,Registros!B:B,\"<\"&fecha_inicial,Registros!C:C,\"=\"&A23)))","v":0},{"$f":"IF(ISBLANK(A23),0,SUMIFS(Registros!G:G,Registros!B:B,\">=\"&fecha_inicial, Registros!B:B, \"<=\"&fecha_final,Registros!C:C,\"=\"&A23))","v":0},{"$f":"IF(ISBLANK(A23),0,SUMIFS(Registros!H:H,Registros!B:B,\">=\"&fecha_inicial, Registros!B:B, \"<=\"&fecha_final,Registros!C:C,\"=\"&A23))","v":0},0]
[null,"",{"$f":"IF(ISBLANK(A24),0,SUMIFS(Registros!H:H,Registros!B:B,\"<\"&fecha_inicial,Registros!C:C,\"=\"&A24)-IF(ISBLANK(A24),0,SUMIFS(Registros!G:G,Registros!B:B,\"<\"&fecha_inicial,Registros!C:C,\"=\"&A24)))","v":0},{"$f":"IF(ISBLANK(A24),0,SUMIFS(Registros!G:G,Registros!B:B,\">=\"&fecha_inicial, Registros!B:B, \"<=\"&fecha_final,Registros!C:C,\"=\"&A24))","v":0},{"$f":"IF(ISBLANK(A24),0,SUMIFS(Registros!H:H,Registros!B:B,\">=\"&fecha_inicial, Registros!B:B, \"<=\"&fecha_final,Registros!C:C,\"=\"&A24))","v":0},0]
[null,"",{"$f":"SUM(C26:C31)","v":0},{"$f":"SUM(D26:D31)","v":0},{"$f":"SUM(E26:E31)","v":0},0]
[null,{"$f":"IF(A26<>\"\", IF(ISERROR(VLOOKUP(A26, plan_cuentas,2, FALSE)), \"Código de Cuenta Incorrecto\", UPPER(VLOOKUP(A26, plan_cuentas, 2, FALSE))), \"\")","v":""},{"$f":"IF(ISBLANK(A26),0,SUMIFS(Registros!H:H,Registros!B:B,\"<\"&fecha_inicial,Registros!C:C,\"=\"&A26)-IF(ISBLANK(A26),0,SUMIFS(Registros!G:G,Registros!B:B,\"<\"&fecha_inicial,Registros!C:C,\"=\"&A26)))","v":0},{"$f":"IF(ISBLANK(A26),0,SUMIFS(Registros!G:G,Registros!B:B,\">=\"&fecha_inicial, Registros!B:B, \"<=\"&fecha_final,Registros!C:C,\"=\"&A26))","v":0},{"$f":"IF(ISBLANK(A26),0,SUMIFS(Registros!H:H,Registros!B:B,\">=\"&fecha_inicial, Registros!B:B, \"<=\"&fecha_final,Registros!C:C,\"=\"&A26))","v":0},0]
[null,"",{"$f":"IF(ISBLANK(A27),0,SUMIFS(Registros!H:H,Registros!B:B,\"<\"&fecha_inicial,Registros!C:C,\"=\"&A27)-IF(ISBLANK(A27),0,SUMIFS(Registros!G:G,Registros!B:B,\"<\"&fecha_inicial,Registros!C:C,\"=\"&A27)))","v":0},{"$f":"IF(ISBLANK(A27),0,SUMIFS(Registros!G:G,Registros!B:B,\">=\"&fecha_inicial, Registros!B:B, \"<=\"&fecha_final,Registros!C:C,\"=\"&A27))","v":0},{"$f":"IF(ISBLANK(A27),0,SUMIFS(Registros!H:H,Registros!B:B,\">=\"&fecha_inicial, Registros!B:B, \"<=\"&fecha_final,Registros!C:C,\"=\"&A27))","v":0},0]
[null,"",{"$f":"IF(ISBLANK(A28),0,SUMIFS(Registros!H:H,Registros!B:B,\"<\"&fecha_inicial,Registros!C:C,\"=\"&A28)-IF(ISBLANK(A28),0,SUMIFS(Registros!G:G,Registros!B:B,\"<\"&fecha_inicial,Registros!C:C,\"=\"&A28)))","v":0},{"$f":"IF(ISBLANK(A28),0,SUMIFS(Registros!G:G,Registros!B:B,\">=\"&fecha_inicial, Registros!B:B, \"<=\"&fecha_final,Registros!C:C,\"=\"&A28))","v":0},{"$f":"IF(ISBLANK(A28),0,SUMIFS(Registros!H:H,Registros!B:B,\">=\"&fecha_inicial, Registros!B:B, \"<=\"&fecha_final,Registros!C:C,\"=\"&A28))","v":0},0]
[null,"",{"$f":"IF(ISBLANK(A29),0,SUMIFS(Registros!H:H,Registros!B:B,\"<\"&fecha_inicial,Registros!C:C,\"=\"&A29)-IF(ISBLANK(A29),0,SUMIFS(Registros!G:G,Registros!B:B,\"<\"&fecha_inicial,Registros!C:C,\"=\"&A29)))","v":0},{"$f":"IF(ISBLANK(A29),0,SUMIFS(Registros!G:G,Registros!B:B,\">=\"&fecha_inicial, Registros!B:B, \"<=\"&fecha_final,Registros!C:C,\"=\"&A29))","v":0},{"$f":"IF(ISBLANK(A29),0,SUMIFS(Registros!H:H,Registros!B:B,\">=\"&fecha_inicial, Registros!B:B, \"<=\"&fecha_final,Registros!C:C,\"=\"&A29))","v":0},0]
[null,"",{"$f":"IF(ISBLANK(A30),0,SUMIFS(Registros!H:H,Registros!B:B,\"<\"&fecha_inicial,Registros!C:C,\"=\"&A30)-IF(ISBLANK(A30),0,SUMIFS(Registros!G:G,Registros!B:B,\"<\"&fecha_inicial,Registros!C:C,\"=\"&A30)))","v":0},{"$f":"IF(ISBLANK(A30),0,SUMIFS(Registros!G:G,Registros!B:B,\">=\"&fecha_inicial, Registros!B:B, \"<=\"&fecha_final,Registros!C:C,\"=\"&A30))","v":0},{"$f":"IF(ISBLANK(A30),0,SUMIFS(Registros!H:H,Registros!B:B,\">=\"&fecha_inicial, Registros!B:B, \"<=\"&fecha_final,Registros!C:C,\"=\"&A30))","v":0},0]
[null,"",{"$f":"IF(ISBLANK(A31),0,SUMIFS(Registros!H:H,Registros!B:B,\"<\"&fecha_inicial,Registros!C:C,\"=\"&A31)-IF(ISBLANK(A31),0,SUMIFS(Registros!G:G,Registros!B:B,\"<\"&fecha_inicial,Registros!C:C,\"=\"&A31)))","v":0},{"$f":"IF(ISBLANK(A31),0,SUMIFS(Registros!G:G,Registros!B:B,\">=\"&fecha_inicial, Registros!B:B, \"<=\"&fecha_final,Registros!C:C,\"=\"&A31))","v":0},{"$f":"IF(ISBLANK(A31),0,SUMIFS(Registros!H:H,Registros!B:B,\">=\"&fecha_inicial, Registros!B:B, \"<=\"&fecha_final,Registros!C:C,\"=\"&A31))","v":0},0]
[null,"",{"$f":"SUM(C33:C38)","v":0},{"$f":"SUM(D33:D38)","v":0},{"$f":"SUM(E33:E38)","v":0},0]
[null,"",{"$f":"IF(ISBLANK(A33),0,SUMIFS(Registros!H:H,Registros!B:B,\"<\"&fecha_inicial,Registros!C:C,\"=\"&A33)-IF(ISBLANK(A33),0,SUMIFS(Registros!G:G,Registros!B:B,\"<\"&fecha_inicial,Registros!C:C,\"=\"&A33)))","v":0},{"$f":"IF(ISBLANK(A33),0,SUMIFS(Registros!G:G,Registros!B:B,\">=\"&fecha_inicial, Registros!B:B, \"<=\"&fecha_final,Registros!C:C,\"=\"&A33))","v":0},{"$f":"IF(ISBLANK(A33),0,SUMIFS(Registros!H:H,Registros!B:B,\">=\"&fecha_inicial, Registros!B:B, \"<=\"&fecha_final,Registros!C:C,\"=\"&A33))","v":0},0]
[null,"",{"$f":"IF(ISBLANK(A34),0,SUMIFS(Registros!H:H,Registros!B:B,\"<\"&fecha_inicial,Registros!C:C,\"=\"&A34)-IF(ISBLANK(A34),0,SUMIFS(Registros!G:G,Registros!B:B,\"<\"&fecha_inicial,Registros!C:C,\"=\"&A34)))","v":0},{"$f":"IF(ISBLANK(A34),0,SUMIFS(Registros!G:G,Registros!B:B,\">=\"&fecha_inicial, Registros!B:B, \"<=\"&fecha_final,Registros!C:C,\"=\"&A34))","v":0},{"$f":"IF(ISBLANK(A34),0,SUMIFS(Registros!H:H,Registros!B:B,\">=\"&fecha_inicial, Registros!B:B, \"<=\"&fecha_final,Registros!C:C,\"=\"&A34))","v":0},0]
[null,"",{"$f":"IF(ISBLANK(A35),0,SUMIFS(Registros!H:H,Registros!B:B,\"<\"&fecha_inicial,Registros!C:C,\"=\"&A35)-IF(ISBLANK(A35),0,SUMIFS(Registros!G:G,Registros!B:B,\"<\"&fecha_inicial,Registros!C:C,\"=\"&A35)))","v":0},{"$f":"IF(ISBLANK(A35),0,SUMIFS(Registros!G:G,Registros!B:B,\">=\"&fecha_inicial, Registros!B:B, \"<=\"&fecha_final,Registros!C:C,\"=\"&A35))","v":0},{"$f":"IF(ISBLANK(A35),0,SUMIFS(Registros!H:H,Registros!B:B,\">=\"&fecha_inicial, Registros!B:B, \"<=\"&fecha_final,Registros!C:C,\"=\"&A35))","v":0},0]
[null,"",{"$f":"IF(ISBLANK(A36),0,SUMIFS(Registros!H:H,Registros!B:B,\"<\"&fecha_inicial,Registros!C:C,\"=\"&A36)-IF(ISBLANK(A36),0,SUMIFS(Registros!G:G,Registros!B:B,\"<\"&fecha_inicial,Registros!C:C,\"=\"&A36)))","v":0},{"$f":"IF(ISBLANK(A36),0,SUMIFS(Registros!G:G,Registros!B:B,\">=\"&fecha_inicial, Registros!B:B, \"<=\"&fecha_final,Registros!C:C,\"=\"&A36))","v":0},{"$f":"IF(ISBLANK(A36),0,SUMIFS(Registros!H:H,Registros!B:B,\">=\"&fecha_inicial, Registros!B:B, \"<=\"&fecha_final,Registros!C:C,\"=\"&A36))","v":0},0]
[null,"",{"$f":"IF(ISBLANK(A37),0,SUMIFS(Registros!H:H,Registros!B:B,\"<\"&fecha_inicial,Registros!C:C,\"=\"&A37)-IF(ISBLANK(A37),0,SUMIFS(Registros!G:G,Registros!B:B,\"<\"&fecha_inicial,Registros!C:C,\"=\"&A37)))","v":0},{"$f":"IF(ISBLANK(A37),0,SUMIFS(Registros!G:G,Registros!B:B,\">=\"&fecha_inicial, Registros!B:B, \"<=\"&fecha_final,Registros!C:C,\"=\"&A37))","v":0},{"$f":"IF(ISBLANK(A37),0,SUMIFS(Registros!H:H,Registros!B:B,\">=\"&fecha_inicial, Registros!B:B, \"<=\"&fecha_final,Registros!C:C,\"=\"&A37))","v":0},0]
[null,"",{"$f":"IF(ISBLANK(A38),0,SUMIFS(Registros!H:H,Registros!B:B,\"<\"&fecha_inicial,Registros!C:C,\"=\"&A38)-IF(ISBLANK(A38),0,SUMIFS(Registros!G:G,Registros!B:B,\"<\"&fecha_inicial,Registros!C:C,\"=\"&A38)))","v":0},{"$f":"IF(ISBLANK(A38),0,SUMIFS(Registros!G:G,Registros!B:B,\">=\"&fecha_inicial, Registros!B:B, \"<=\"&fecha_final,Registros!C:C,\"=\"&A38))","v":0},{"$f":"IF(ISBLANK(A38),0,SUMIFS(Registros!H:H,Registros!B:B,\">=\"&fecha_inicial, Registros!B:B, \"<=\"&fecha_final,Registros!C:C,\"=\"&A38))","v":0},0]
[null,"",{"$f":"SUM(C40:C45)","v":0},{"$f":"SUM(D40:D45)","v":0},{"$f":"SUM(E40:E45)","v":0},0]
[null,"",{"$f":"IF(ISBLANK(A40),0,SUMIFS(Registros!H:H,Registros!B:B,\"<\"&fecha_inicial,Registros!C:C,\"=\"&A40)-IF(ISBLANK(A40),0,SUMIFS(Registros!G:G,Registros!B:B,\"<\"&fecha_inicial,Registros!C:C,\"=\"&A40)))","v":0},{"$f":"IF(ISBLANK(A40),0,SUMIFS(Registros!G:G,Registros!B:B,\">=\"&fecha_inicial, Registros!B:B, \"<=\"&fecha_final,Registros!C:C,\"=\"&A40))","v":0},{"$f":"IF(ISBLANK(A40),0,SUMIFS(Registros!H:H,Registros!B:B,\">=\"&fecha_inicial, Registros!B:B, \"<=\"&fecha_final,Registros!C:C,\"=\"&A40))","v":0},0]
[null,"",{"$f":"IF(ISBLANK(A41),0,SUMIFS(Registros!H:H,Registros!B:B,\"<\"&fecha_inicial,Registros!C:C,\"=\"&A41)-IF(ISBLANK(A41),0,SUMIFS(Registros!G:G,Registros!B:B,\"<\"&fecha_inicial,Registros!C:C,\"=\"&A41)))","v":0},{"$f":"IF(ISBLANK(A41),0,SUMIFS(Registros!G:G,Registros!B:B,\">=\"&fecha_inicial, Registros!B:B, \"<=\"&fecha_final,Registros!C:C,\"=\"&A41))","v":0},{"$f":"IF(ISBLANK(A41),0,SUMIFS(Registros!H:H,Registros!B:B,\">=\"&fecha_inicial, Registros!B:B, \"<=\"&fecha_final,Registros!C:C,\"=\"&A41))","v":0},0]
[null,"",{"$f":"IF(ISBLANK(A42),0,SUMIFS(Registros!H:H,Registros!B:B,\"<\"&fecha_inicial,Registros!C:C,\"=\"&A42)-IF(ISBLANK(A42),0,SUMIFS(Registros!G:G,Registros!B:B,\"<\"&fecha_inicial,Registros!C:C,\"=\"&A42)))","v":0},{"$f":"IF(ISBLANK(A42),0,SUMIFS(Registros!G:G,Registros!B:B,\">=\"&fecha_inicial, Registros!B:B, \"<=\"&fecha_final,Registros!C:C,\"=\"&A42))","v":0},{"$f":"IF(ISBLANK(A42),0,SUMIFS(Registros!H:H,Registros!B:B,\">=\"&fecha_inicial, Registros!B:B, \"<=\"&fecha_final,Registros!C:C,\"=\"&A42))","v":0},0]
[null,"",{"$f":"IF(ISBLANK(A43),0,SUMIFS(Registros!H:H,Registros!B:B,\"<\"&fecha_inicial,Registros!C:C,\"=\"&A43)-IF(ISBLANK(A43),0,SUMIFS(Registros!G:G,Registros!B:B,\"<\"&fecha_inicial,Registros!C:C,\"=\"&A43)))","v":0},{"$f":"IF(ISBLANK(A43),0,SUMIFS(Registros!G:G,Registros!B:B,\">=\"&fecha_inicial, Registros!B:B, \"<=\"&fecha_final,Registros!C:C,\"=\"&A43))","v":0},{"$f":"IF(ISBLANK(A43),0,SUMIFS(Registros!H:H,Registros!B:B,\">=\"&fecha_inicial, Registros!B:B, \"<=\"&fecha_final,Registros!C:C,\"=\"&A43))","v":0},0]
[null,"",{"$f":"IF(ISBLANK(A44),0,SUMIFS(Registros!H:H,Registros!B:B,\"<\"&fecha_inicial,Registros!C:C,\"=\"&A44)-IF(ISBLANK(A44),0,SUMIFS(Registros!G:G,Registros!B:B,\"<\"&fecha_inicial,Registros!C:C,\"=\"&A44)))","v":0},{"$f":"IF(ISBLANK(A44),0,SUMIFS(Registros!G:G,Registros!B:B,\">=\"&fecha_inicial, Registros!B:B, \"<=\"&fecha_final,Registros!C:C,\"=\"&A44))","v":0},{"$f":"IF(ISBLANK(A44),0,SUMIFS(Registros!H:H,Registros!B:B,\">=\"&fecha_inicial, Registros!B:B, \"<=\"&fecha_final,Registros!C:C,\"=\"&A44))","v":0},0]
[null,"",{"$f":"IF(ISBLANK(A45),0,SUMIFS(Registros!H:H,Registros!B:B,\"<\"&fecha_inicial,Registros!C:C,\"=\"&A45)-IF(ISBLANK(A45),0,SUMIFS(Registros!G:G,Registros!B:B,\"<\"&fecha_inicial,Registros!C:C,\"=\"&A45)))","v":0},{"$f":"IF(ISBLANK(A45),0,SUMIFS(Registros!G:G,Registros!B:B,\">=\"&fecha_inicial, Registros!B:B, \"<=\"&fecha_final,Registros!C:C,\"=\"&A45))","v":0},{"$f":"IF(ISBLANK(A45),0,SUMIFS(Registros!H:H,Registros!B:B,\">=\"&fecha_inicial, Registros!B:B, \"<=\"&fecha_final,Registros!C:C,\"=\"&A45))","v":0},0]
[null,"",{"$f":"SUM(C47:C52)","v":0},{"$f":"SUM(D47:D52)","v":0},{"$f":"SUM(E47:E52)","v":0},0]
[null,{"$f":"IF(A47<>\"\", IF(ISERROR(VLOOKUP(A47, plan_cuentas,2, FALSE)), \"Código de Cuenta Incorrecto\", UPPER(VLOOKUP(A47, plan_cuentas, 2, FALSE))), \"\")","v":""},{"$f":"IF(ISBLANK(A47),0,SUMIFS(Registros!H:H,Registros!B:B,\"<\"&fecha_inicial,Registros!C:C,\"=\"&A47)-IF(ISBLANK(A47),0,SUMIFS(Registros!G:G,Registros!B:B,\"<\"&fecha_inicial,Registros!C:C,\"=\"&A47)))","v":0},{"$f":"IF(ISBLANK(A47),0,SUMIFS(Registros!G:G,Registros!B:B,\">=\"&fecha_inicial, Registros!B:B, \"<=\"&fecha_final,Registros!C:C,\"=\"&A47))","v":0},{"$f":"IF(ISBLANK(A47),0,SUMIFS(Registros!H:H,Registros!B:B,\">=\"&fecha_inicial, Registros!B:B, \"<=\"&fecha_final,Registros!C:C,\"=\"&A47))","v":0},0]
[null,{"$f":"IF(A48<>0, IF(ISERROR(VLOOKUP(A48, plan_cuentas,2, FALSE)), \"Código de Cuenta Incorrecto\", UPPER(VLOOKUP(A48, plan_cuentas, 2, FALSE))), \"\")","v":""},{"$f":"IF(ISBLANK(A48),0,SUMIFS(Registros!H:H,Registros!B:B,\"<\"&fecha_inicial,Registros!C:C,\"=\"&A48)-IF(ISBLANK(A48),0,SUMIFS(Registros!G:G,Registros!B:B,\"<\"&fecha_inicial,Registros!C:C,\"=\"&A48)))","v":0},{"$f":"IF(ISBLANK(A48),0,SUMIFS(Registros!G:G,Registros!B:B,\">=\"&fecha_inicial, Registros!B:B, \"<=\"&fecha_final,Registros!C:C,\"=\"&A48))","v":0},{"$f":"IF(ISBLANK(A48),0,SUMIFS(Registros!H:H,Registros!B:B,\">=\"&fecha_inicial, Registros!B:B, \"<=\"&fecha_final,Registros!C:C,\"=\"&A48))","v":0},0]
[null,{"$f":"IF(A49<>0, IF(ISERROR(VLOOKUP(A49, plan_cuentas,2, FALSE)), \"Código de Cuenta Incorrecto\", UPPER(VLOOKUP(A49, plan_cuentas, 2, FALSE))), \"\")","v":""},{"$f":"IF(ISBLANK(A49),0,SUMIFS(Registros!H:H,Registros!B:B,\"<\"&fecha_inicial,Registros!C:C,\"=\"&A49)-IF(ISBLANK(A49),0,SUMIFS(Registros!G:G,Registros!B:B,\"<\"&fecha_inicial,Registros!C:C,\"=\"&A49)))","v":0},{"$f":"IF(ISBLANK(A49),0,SUMIFS(Registros!G:G,Registros!B:B,\">=\"&fecha_inicial, Registros!B:B, \"<=\"&fecha_final,Registros!C:C,\"=\"&A49))","v":0},{"$f":"IF(ISBLANK(A49),0,SUMIFS(Registros!H:H,Registros!B:B,\">=\"&fecha_inicial, Registros!B:B, \"<=\"&fecha_final,Registros!C:C,\"=\"&A49))","v":0},0]
[null,{"$f":"IF(A50<>0, IF(ISERROR(VLOOKUP(A50, plan_cuentas,2, FALSE)), \"Código de Cuenta Incorrecto\", UPPER(VLOOKUP(A50, plan_cuentas, 2, FALSE))), \"\")","v":""},{"$f":"IF(ISBLANK(A50),0,SUMIFS(Registros!H:H,Registros!B:B,\"<\"&fecha_inicial,Registros!C:C,\"=\"&A50)-IF(ISBLANK(A50),0,SUMIFS(Registros!G:G,Registros!B:B,\"<\"&fecha_inicial,Registros!C:C,\"=\"&A50)))","v":0},{"$f":"IF(ISBLANK(A50),0,SUMIFS(Registros!G:G,Registros!B:B,\">=\"&fecha_inicial, Registros!B:B, \"<=\"&fecha_final,Registros!C:C,\"=\"&A50))","v":0},{"$f":"IF(ISBLANK(A50),0,SUMIFS(Registros!H:H,Registros!B:B,\">=\"&fecha_inicial, Registros!B:B, \"<=\"&fecha_final,Registros!C:C,\"=\"&A50))","v":0},0]
[null,{"$f":"IF(A51<>0, IF(ISERROR(VLOOKUP(A51, plan_cuentas,2, FALSE)), \"Código de Cuenta Incorrecto\", UPPER(VLOOKUP(A51, plan_cuentas, 2, FALSE))), \"\")","v":""},{"$f":"IF(ISBLANK(A51),0,SUMIFS(Registros!H:H,Registros!B:B,\"<\"&fecha_inicial,Registros!C:C,\"=\"&A51)-IF(ISBLANK(A51),0,SUMIFS(Registros!G:G,Registros!B:B,\"<\"&fecha_inicial,Registros!C:C,\"=\"&A51)))","v":0},{"$f":"IF(ISBLANK(A51),0,SUMIFS(Registros!G:G,Registros!B:B,\">=\"&fecha_inicial, Registros!B:B, \"<=\"&fecha_final,Registros!C:C,\"=\"&A51))","v":0},{"$f":"IF(ISBLANK(A51),0,SUMIFS(Registros!H:H,Registros!B:B,\">=\"&fecha_inicial, Registros!B:B, \"<=\"&fecha_final,Registros!C:C,\"=\"&A51))","v":0},0]
[null,{"$f":"IF(A52<>0, IF(ISERROR(VLOOKUP(A52, plan_cuentas,2, FALSE)), \"Código de Cuenta Incorrecto\", UPPER(VLOOKUP(A52, plan_cuentas, 2, FALSE))), \"\")","v":""},{"$f":"IF(ISBLANK(A52),0,SUMIFS(Registros!H:H,Registros!B:B,\"<\"&fecha_inicial,Registros!C:C,\"=\"&A52)-IF(ISBLANK(A52),0,SUMIFS(Registros!G:G,Registros!B:B,\"<\"&fecha_inicial,Registros!C:C,\"=\"&A52)))","v":0},{"$f":"IF(ISBLANK(A52),0,SUMIFS(Registros!G:G,Registros!B:B,\">=\"&fecha_inicial, Registros!B:B, \"<=\"&fecha_final,Registros!C:C,\"=\"&A52))","v":0},{"$f":"IF(ISBLANK(A52),0,SUMIFS(Registros!H:H,Registros!B:B,\">=\"&fecha_inicial, Registros!B:B, \"<=\"&fecha_final,Registros!C:C,\"=\"&A52))","v":0},0]
[null,"",{"$f":"SUM(C54:C59)","v":0},{"$f":"SUM(D54:D59)","v":0},{"$f":"SUM(E54:E59)","v":0},0]
[null,"",{"$f":"IF(ISBLANK(A54),0,SUMIFS(Registros!H:H,Registros!B:B,\"<\"&fecha_inicial,Registros!C:C,\"=\"&A54)-IF(ISBLANK(A54),0,SUMIFS(Registros!G:G,Registros!B:B,\"<\"&fecha_inicial,Registros!C:C,\"=\"&A54)))","v":0},{"$f":"IF(ISBLANK(A54),0,SUMIFS(Registros!G:G,Registros!B:B,\">=\"&fecha_inicial, Registros!B:B, \"<=\"&fecha_final,Registros!C:C,\"=\"&A54))","v":0},{"$f":"IF(ISBLANK(A54),0,SUMIFS(Registros!H:H,Registros!B:B,\">=\"&fecha_inicial, Registros!B:B, \"<=\"&fecha_final,Registros!C:C,\"=\"&A54))","v":0},0]
[null,"",{"$f":"IF(ISBLANK(A55),0,SUMIFS(Registros!H:H,Registros!B:B,\"<\"&fecha_inicial,Registros!C:C,\"=\"&A55)-IF(ISBLANK(A55),0,SUMIFS(Registros!G:G,Registros!B:B,\"<\"&fecha_inicial,Registros!C:C,\"=\"&A55)))","v":0},{"$f":"IF(ISBLANK(A55),0,SUMIFS(Registros!G:G,Registros!B:B,\">=\"&fecha_inicial, Registros!B:B, \"<=\"&fecha_final,Registros!C:C,\"=\"&A55))","v":0},{"$f":"IF(ISBLANK(A55),0,SUMIFS(Registros!H:H,Registros!B:B,\">=\"&fecha_inicial, Registros!B:B, \"<=\"&fecha_final,Registros!C:C,\"=\"&A55))","v":0},0]
[null,"",{"$f":"IF(ISBLANK(A56),0,SUMIFS(Registros!H:H,Registros!B:B,\"<\"&fecha_inicial,Registros!C:C,\"=\"&A56)-IF(ISBLANK(A56),0,SUMIFS(Registros!G:G,Registros!B:B,\"<\"&fecha_inicial,Registros!C:C,\"=\"&A56)))","v":0},{"$f":"IF(ISBLANK(A56),0,SUMIFS(Registros!G:G,Registros!B:B,\">=\"&fecha_inicial, Registros!B:B, \"<=\"&fecha_final,Registros!C:C,\"=\"&A56))","v":0},{"$f":"IF(ISBLANK(A56),0,SUMIFS(Registros!H:H,Registros!B:B,\">=\"&fecha_inicial, Registros!B:B, \"<=\"&fecha_final,Registros!C:C,\"=\"&A56))","v":0},0]
[null,"",{"$f":"IF(ISBLANK(A57),0,SUMIFS(Registros!H:H,Registros!B:B,\"<\"&fecha_inicial,Registros!C:C,\"=\"&A57)-IF(ISBLANK(A57),0,SUMIFS(Registros!G:G,Registros!B:B,\"<\"&fecha_inicial,Registros!C:C,\"=\"&A57)))","v":0},{"$f":"IF(ISBLANK(A57),0,SUMIFS(Registros!G:G,Registros!B:B,\">=\"&fecha_inicial, Registros!B:B, \"<=\"&fecha_final,Registros!C:C,\"=\"&A57))","v":0},{"$f":"IF(ISBLANK(A57),0,SUMIFS(Registros!H:H,Registros!B:B,\">=\"&fecha_inicial, Registros!B:B, \"<=\"&fecha_final,Registros!C:C,\"=\"&A57))","v":0},0]
[null,{"$f":"IF(A58<>0, IF(ISERROR(VLOOKUP(A58, plan_cuentas,2, FALSE)), \"Código de Cuenta Incorrecto\", UPPER(VLOOKUP(A58, plan_cuentas, 2, FALSE))), \"\")","v":""},{"$f":"IF(ISBLANK(A58),0,SUMIFS(Registros!H:H,Registros!B:B,\"<\"&fecha_inicial,Registros!C:C,\"=\"&A58)-IF(ISBLANK(A58),0,SUMIFS(Registros!G:G,Registros!B:B,\"<\"&fecha_inicial,Registros!C:C,\"=\"&A58)))","v":0},{"$f":"IF(ISBLANK(A58),0,SUMIFS(Registros!G:G,Registros!B:B,\">=\"&fecha_inicial, Registros!B:B, \"<=\"&fecha_final,Registros!C:C,\"=\"&A58))","v":0},{"$f":"IF(ISBLANK(A58),0,SUMIFS(Registros!H:H,Registros!B:B,\">=\"&fecha_inicial, Registros!B:B, \"<=\"&fecha_final,Registros!C:C,\"=\"&A58))","v":0},0]
[null,"",{"$f":"IF(ISBLANK(A59),0,SUMIFS(Registros!H:H,Registros!B:B,\"<\"&fecha_inicial,Registros!C:C,\"=\"&A59)-IF(ISBLANK(A59),0,SUMIFS(Registros!G:G,Registros!B:B,\"<\"&fecha_inicial,Registros!C:C,\"=\"&A59)))","v":0},{"$f":"IF(ISBLANK(A59),0,SUMIFS(Registros!G:G,Registros!B:B,\">=\"&fecha_inicial, Registros!B:B, \"<=\"&fecha_final,Registros!C:C,\"=\"&A59))","v":0},{"$f":"IF(ISBLANK(A59),0,SUMIFS(Registros!H:H,Registros!B:B,\">=\"&fecha_inicial, Registros!B:B, \"<=\"&fecha_final,Registros!C:C,\"=\"&A59))","v":0},0]
[{"$f":"\"SALDO FINAL DE LA CUENTA AL \" &TEXT(fecha_final, \"dd\")&\" DE \"&UPPER(TEXT(fecha_final, \"MMMM\"))&\" DEL \"& TEXT(fecha_final, \"YYYY\")","v":"SALDO FINAL DE LA CUENTA AL 31 DE JULIO DEL 2014"},null,{"$f":"C11+C18+C25+C46+C32+C39+C53","v":0},{"$f":"D11+D18+D25+D46+D32+D39+D53","v":0},{"$f":"E11+E18+E25+E46+E32+E39+E53","v":0},0]
[]
[]
[]
[]
["AUTORIZADO POR:",null,null,null,"REVISADO POR:"]
[{"$f":"VLOOKUP(A65, Usuarios!B7:E9, 3, FALSE)","v":"Rodrigo Castro Potoy"},null,null,null,{"$f":"VLOOKUP(E65, Usuarios!B7:E9, 3, FALSE)","v":0}]

{"sheet":"01","index":13,"n_rows":172,"n_cols":8,"rows_kept":172,"cut":false,"hidden":false,"merged":[[1,0,1,7],[165,0,165,1],[5,4,5,5],[5,2,5,3],[5,6,5,7],[5,0,6,0],[5,1,6,1],[2,0,2,7],[3,0,3,7],[4,0,4,7],[169,0,169,1],[171,2,171,4],[169,5,169,7],[170,0,170,1],[172,2,172,4],[170,5,170,7],[171,0,171,1],[171,5,171,7]]}
[null,null,null,null,"Proteger"]
[{"$f":"bussiness_name","v":"SOCIEDAD CIVIL COMUNIDAD CONNECT"}]
["BALANZA CONSOLIDADA DE SALDOS"]
[{"$f":"\"DEL \"&TEXT(fecha_inicial, \"DD\")&\" DE \"&UPPER(TEXT(fecha_inicial, \"MMMM\"))&\" DEL \" & TEXT(fecha_inicial, \"YYYY\") & \" AL \"&TEXT(fecha_final, \"DD\")&\" DE \"&UPPER(TEXT(fecha_final, \"MMMM\"))&\" DEL \"&TEXT(fecha_final, \"YYYY\")","v":"DEL 01 DE JULIO DEL 2014 AL 31 DE JULIO DEL 2014"}]
[{"$f":"address & \" *** Tel/Fax:  \" & tel & \" *** \" & email","v":"Esquina sureste del Parque Central, San Juan del sur, Nicaragua. *** Tel/Fax:  25682731 *** info@comunidadconnect.org"}]
["CÓDIGO CUENTA","DESCRIPCIÓN DE LA CUENTA","SALDO INICIAL",null,"MOVIMIENTOS DEL PERIÓDO",null,"SALDO FINAL"]
[null,null,"DEUDOR","ACREEDOR","DEUDOR","ACREEDOR","DEUDOR","ACREEDOR"]
[100000,{"$f":"IFERROR(IF(A8<>\"\", VLOOKUP(A8, plan_cuentas,2, FALSE), \"\"), \"CÓDIGO INCORRECTO\")","v":"ACTIVOS"},{"$f":"C9+C33+C45","v":636437.15},0,3009112.42,1669777.22,1975772.35,0]
[110000,"ACTIVOS CORRIENTES",{"$f":"C10+C12+C19+C21+C24+C26","v":590416.76},0,3009112.42,1669777.22,1929751.9600000002,0]
[110100,"CAJA",{"$f":"SUM(C11)","v":18375.8},0,300,0,18675.8,0]
[110101,"CAJA CHICA",{"$f":"IF(A11<>\"\",IF(VLOOKUP(A11,plan_cuentas,4,FALSE)=\"D\",SUMIFS(Registros!G:G,Registros!B:B,\"<\"&fecha_inicial,Registros!C:C,\"=\"&'01'!A11)-SUMIFS(Registros!H:H,Registros!B:B,\"<\"&fecha_inicial,Registros!C:C,\"=\"&'01'!A11), 0), \"\")","v":18375.8},{"$f":"IF(A11<>\"\",IF(VLOOKUP(A11,plan_cuentas,4,FALSE)=\"H\",SUMIFS(Registros!H:H,Registros!B:B,\"<\"&fecha_inicial,Registros!C:C,\"=\"&'01'!A11)-SUMIFS(Registros!G:G,Registros!B:B,\"<\"&fecha_inicial,Registros!C:C,\"=\"&'01'!A11), 0), \"\")","v":0},{"$f":"IF(A11<>\"\", SUMIFS(Registros!G:G, Registros!B:B, \">=\" & fecha_inicial, Registros!B:B, \"<=\" & fecha_final, Registros!C:C, \"=\" &'01'!A11), 0)","v":300},{"$f":"IF(A11<>\"\", SUMIFS(Registros!H:H, Registros!B:B, \">=\" & fecha_inicial, Registros!B:B, \"<=\" & fecha_final, Registros!C:C, \"=\" &'01'!A11), 0)","v":0},{"$f":"IF(A11<>\"\", IF(VLOOKUP(A11, plan_cuentas, 4, FALSE) = \"D\", C11+E11-F11, 0), 0)","v":18675.8},{"$f":"IF(A11<>\"\", IF(VLOOKUP(A11, plan_cuentas, 4, FALSE) = \"H\", D11-E11+F11, 0), 0)","v":0}]
[110200,"BANCOS",{"$f":"SUM(C13:C18)","v":463515.62},0,3007890.64,1669777.22,1801629.04,0]
[110201,"CTA. CTE. 356894501 C$",{"$f":"IF(A13<>\"\",IF(VLOOKUP(A13,plan_cuentas,4,FALSE)=\"D\",SUMIFS(Registros!G:G,Registros!B:B,\"<\"&fecha_inicial,Registros!C:C,\"=\"&'01'!A13)-SUMIFS(Registros!H:H,Registros!B:B,\"<\"&fecha_inicial,Registros!C:C,\"=\"&'01'!A13), 0), \"\")","v":29278.910000000018},{"$f":"IF(A13<>\"\",IF(VLOOKUP(A13,plan_cuentas,4,FALSE)=\"H\",SUMIFS(Registros!H:H,Registros!B:B,\"<\"&fecha_inicial,Registros!C:C,\"=\"&'01'!A13)-SUMIFS(Registros!G:G,Registros!B:B,\"<\"&fecha_inicial,Registros!C:C,\"=\"&'01'!A13), 0), \"\")","v":0},{"$f":"IF(A13<>\"\", SUMIFS(Registros!G:G, Registros!B:B, \">=\" & fecha_inicial, Registros!B:B, \"<=\" & fecha_final, Registros!C:C, \"=\" &'01'!A13), 0)","v":1031446.51},{"$f":"IF(A13<>\"\", SUMIFS(Registros!H:H, Registros!B:B, \">=\" & fecha_inicial, Registros!B:B, \"<=\" & fecha_final, Registros!C:C, \"=\" &'01'!A13), 0)","v":385317.48999999993},{"$f":"IF(A13<>\"\", IF(VLOOKUP(A13, plan_cuentas, 4, FALSE) = \"D\", C13+E13-F13, 0), 0)","v":675407.92999999993},{"$f":"IF(A13<>\"\", IF(VLOOKUP(A13, plan_cuentas, 4, FALSE) = \"H\", D13-E13+F13, 0), 0)","v":0}]
[110202,{"$f":"IFERROR(IF(A14<>\"\", VLOOKUP(A14, plan_cuentas,2, FALSE), \"\"), \"CÓDIGO INCORRECTO\")","v":"CTA. CTE. 357144914  U$"},{"$f":"IF(A14<>\"\",IF(VLOOKUP(A14,plan_cuentas,4,FALSE)=\"D\",SUMIFS(Registros!G:G,Registros!B:B,\"<\"&fecha_inicial,Registros!C:C,\"=\"&'01'!A14)-SUMIFS(Registros!H:H,Registros!B:B,\"<\"&fecha_inicial,Registros!C:C,\"=\"&'01'!A14), 0), \"\")","v":60747.91},{"$f":"IF(A14<>\"\",IF(VLOOKUP(A14,plan_cuentas,4,FALSE)=\"H\",SUMIFS(Registros!H:H,Registros!B:B,\"<\"&fecha_inicial,Registros!C:C,\"=\"&'01'!A14)-SUMIFS(Registros!G:G,Registros!B:B,\"<\"&fecha_inicial,Registros!C:C,\"=\"&'01'!A14), 0), \"\")","v":0},{"$f":"IF(A14<>\"\", SUMIFS(Registros!G:G, Registros!B:B, \">=\" & fecha_inicial, Registros!B:B, \"<=\" & fecha_final, Registros!C:C, \"=\" &'01'!A14), 0)","v":385595.65},{"$f":"IF(A14<>\"\", SUMIFS(Registros!H:H, Registros!B:B, \">=\" & fecha_inicial, Registros!B:B, \"<=\" & fecha_final, Registros!C:C, \"=\" &'01'!A14), 0)","v":23808.32},{"$f":"IF(A14<>\"\", IF(VLOOKUP(A14, plan_cuentas, 4, FALSE) = \"D\", C14+E14-F14, 0), 0)","v":422535.24000000005},{"$f":"IF(A14<>\"\", IF(VLOOKUP(A14, plan_cuentas, 4, FALSE) = \"H\", D14-E14+F14, 0), 0)","v":0}]
[110203,{"$f":"IFERROR(IF(A15<>\"\", VLOOKUP(A15, plan_cuentas,2, FALSE), \"\"), \"CÓDIGO INCORRECTO\")","v":"CTA. CTE. 356894576 U$"},{"$f":"IF(A15<>\"\",IF(VLOOKUP(A15,plan_cuentas,4,FALSE)=\"D\",SUMIFS(Registros!G:G,Registros!B:B,\"<\"&fecha_inicial,Registros!C:C,\"=\"&'01'!A15)-SUMIFS(Registros!H:H,Registros!B:B,\"<\"&fecha_inicial,Registros!C:C,\"=\"&'01'!A15), 0), \"\")","v":310355},{"$f":"IF(A15<>\"\",IF(VLOOKUP(A15,plan_cuentas,4,FALSE)=\"H\",SUMIFS(Registros!H:H,Registros!B:B,\"<\"&fecha_inicial,Registros!C:C,\"=\"&'01'!A15)-SUMIFS(Registros!G:G,Registros!B:B,\"<\"&fecha_inicial,Registros!C:C,\"=\"&'01'!A15), 0), \"\")","v":0},{"$f":"IF(A15<>\"\", SUMIFS(Registros!G:G, Registros!B:B, \">=\" & fecha_inicial, Registros!B:B, \"<=\" & fecha_final, Registros!C:C, \"=\" &'01'!A15), 0)","v":0},{"$f":"IF(A15<>\"\", SUMIFS(Registros!H:H, Registros!B:B, \">=\" & fecha_inicial, Registros!B:B, \"<=\" & fecha_final, Registros!C:C, \"=\" &'01'!A15), 0)","v":218995.76},{"$f":"IF(A15<>\"\", IF(VLOOKUP(A15, plan_cuentas, 4, FALSE) = \"D\", C15+E15-F15, 0), 0)","v":91359.239999999991},{"$f":"IF(A15<>\"\", IF(VLOOKUP(A15, plan_cuentas, 4, FALSE) = \"H\", D15-E15+F15, 0), 0)","v":0}]
[110204,{"$f":"IFERROR(IF(A16<>\"\", VLOOKUP(A16, plan_cuentas,2, FALSE), \"\"), \"CÓDIGO INCORRECTO\")","v":"CTA.CTE. 357605203 EEUU US"},{"$f":"IF(A16<>\"\",IF(VLOOKUP(A16,plan_cuentas,4,FALSE)=\"D\",SUMIFS(Registros!G:G,Registros!B:B,\"<\"&fecha_inicial,Registros!C:C,\"=\"&'01'!A16)-SUMIFS(Registros!H:H,Registros!B:B,\"<\"&fecha_inicial,Registros!C:C,\"=\"&'01'!A16), 0), \"\")","v":63133.8},{"$f":"IF(A16<>\"\",IF(VLOOKUP(A16,plan_cuentas,4,FALSE)=\"H\",SUMIFS(Registros!H:H,Registros!B:B,\"<\"&fecha_inicial,Registros!C:C,\"=\"&'01'!A16)-SUMIFS(Registros!G:G,Registros!B:B,\"<\"&fecha_inicial,Registros!C:C,\"=\"&'01'!A16), 0), \"\")","v":0},{"$f":"IF(A16<>\"\", SUMIFS(Registros!G:G, Registros!B:B, \">=\" & fecha_inicial, Registros!B:B, \"<=\" & fecha_final, Registros!C:C, \"=\" &'01'!A16), 0)","v":1590848.48},{"$f":"IF(A16<>\"\", SUMIFS(Registros!H:H, Registros!B:B, \">=\" & fecha_inicial, Registros!B:B, \"<=\" & fecha_final, Registros!C:C, \"=\" &'01'!A16), 0)","v":1041655.65},{"$f":"IF(A16<>\"\", IF(VLOOKUP(A16, plan_cuentas, 4, FALSE) = \"D\", C16+E16-F16, 0), 0)","v":612326.63},{"$f":"IF(A16<>\"\", IF(VLOOKUP(A16, plan_cuentas, 4, FALSE) = \"H\", D16-E16+F16, 0), 0)","v":0}]
[110205,{"$f":"IFERROR(IF(A17<>\"\", VLOOKUP(A17, plan_cuentas,2, FALSE), \"\"), \"CÓDIGO INCORRECTO\")","v":"DEPOSITO DE FONDOS NO EJECUTADOS"}]
[110206,{"$f":"IFERROR(IF(A18<>\"\", VLOOKUP(A18, plan_cuentas,2, FALSE), \"\"), \"CÓDIGO INCORRECTO\")","v":"DEPOSITO DE RETENCIONES EFECTUADAS"}]
[110300,"INVERSIONES EN VALORES",{"$f":"SUM(C20)","v":0},0,0,0,0,0]
[110301,"PAPEL COMERCIAL",{"$f":"IF(A20<>\"\",IF(VLOOKUP(A20,plan_cuentas,4,FALSE)=\"D\",SUMIFS(Registros!G:G,Registros!B:B,\"<\"&fecha_inicial,Registros!C:C,\"=\"&'01'!A20)-SUMIFS(Registros!H:H,Registros!B:B,\"<\"&fecha_inicial,Registros!C:C,\"=\"&'01'!A20), 0), \"\")","v":0},{"$f":"IF(A20<>\"\",IF(VLOOKUP(A20,plan_cuentas,4,FALSE)=\"H\",SUMIFS(Registros!H:H,Registros!B:B,\"<\"&fecha_inicial,Registros!C:C,\"=\"&'01'!A20)-SUMIFS(Registros!G:G,Registros!B:B,\"<\"&fecha_inicial,Registros!C:C,\"=\"&'01'!A20), 0), \"\")","v":0},{"$f":"IF(A20<>\"\", SUMIFS(Registros!G:G, Registros!B:B, \">=\" & fecha_inicial, Registros!B:B, \"<=\" & fecha_final, Registros!C:C, \"=\" &'01'!A20), 0)","v":0},{"$f":"IF(A20<>\"\", SUMIFS(Registros!H:H, Registros!B:B, \">=\" & fecha_inicial, Registros!B:B, \"<=\" & fecha_final, Registros!C:C, \"=\" &'01'!A20), 0)","v":0},{"$f":"IF(A20<>\"\", IF(VLOOKUP(A20, plan_cuentas, 4, FALSE) = \"D\", C20+E20-F20, 0), 0)","v":0},{"$f":"IF(A20<>\"\", IF(VLOOKUP(A20, plan_cuentas, 4, FALSE) = \"H\", D20-E20+F20, 0), 0)","v":0}]
[110400,"CUENTAS Y DOCUMENTOS POR COBRAR",{"$f":"SUM(C22:C23)","v":1000},0,771.78000000000009,0,1771.7800000000002,0]
[110401,"CUENTAS POR COBRAR A CLIENTES",{"$f":"IF(A22<>\"\",IF(VLOOKUP(A22,plan_cuentas,4,FALSE)=\"D\",SUMIFS(Registros!G:G,Registros!B:B,\"<\"&fecha_inicial,Registros!C:C,\"=\"&'01'!A22)-SUMIFS(Registros!H:H,Registros!B:B,\"<\"&fecha_inicial,Registros!C:C,\"=\"&'01'!A22), 0), \"\")","v":0},{"$f":"IF(A22<>\"\",IF(VLOOKUP(A22,plan_cuentas,4,FALSE)=\"H\",SUMIFS(Registros!H:H,Registros!B:B,\"<\"&fecha_inicial,Registros!C:C,\"=\"&'01'!A22)-SUMIFS(Registros!G:G,Registros!B:B,\"<\"&fecha_inicial,Registros!C:C,\"=\"&'01'!A22), 0), \"\")","v":0},{"$f":"IF(A22<>\"\", SUMIFS(Registros!G:G, Registros!B:B, \">=\" & fecha_inicial, Registros!B:B, \"<=\" & fecha_final, Registros!C:C, \"=\" &'01'!A22), 0)","v":0},{"$f":"IF(A22<>\"\", SUMIFS(Registros!H:H, Registros!B:B, \">=\" & fecha_inicial, Registros!B:B, \"<=\" & fecha_final, Registros!C:C, \"=\" &'01'!A22), 0)","v":0},{"$f":"IF(A22<>\"\", IF(VLOOKUP(A22, plan_cuentas, 4, FALSE) = \"D\", C22+E22-F22, 0), 0)","v":0},{"$f":"IF(A22<>\"\", IF(VLOOKUP(A22, plan_cuentas, 4, FALSE) = \"H\", D22-E22+F22, 0), 0)","v":0}]
[110402,"CUENTAS POR COBRAR A EMPLEADOS",{"$f":"IF(A23<>\"\",IF(VLOOKUP(A23,plan_cuentas,4,FALSE)=\"D\",SUMIFS(Registros!G:G,Registros!B:B,\"<\"&fecha_inicial,Registros!C:C,\"=\"&'01'!A23)-SUMIFS(Registros!H:H,Registros!B:B,\"<\"&fecha_inicial,Registros!C:C,\"=\"&'01'!A23), 0), \"\")","v":1000},{"$f":"IF(A23<>\"\",IF(VLOOKUP(A23,plan_cuentas,4,FALSE)=\"H\",SUMIFS(Registros!H:H,Registros!B:B,\"<\"&fecha_inicial,Registros!C:C,\"=\"&'01'!A23)-SUMIFS(Registros!G:G,Registros!B:B,\"<\"&fecha_inicial,Registros!C:C,\"=\"&'01'!A23), 0), \"\")","v":0},{"$f":"IF(A23<>\"\", SUMIFS(Registros!G:G, Registros!B:B, \">=\" & fecha_inicial, Registros!B:B, \"<=\" & fecha_final, Registros!C:C, \"=\" &'01'!A23), 0)","v":771.78000000000009},{"$f":"IF(A23<>\"\", SUMIFS(Registros!H:H, Registros!B:B, \">=\" & fecha_inicial, Registros!B:B, \"<=\" & fecha_final, Registros!C:C, \"=\" &'01'!A23), 0)","v":0},{"$f":"IF(A23<>\"\", IF(VLOOKUP(A23, plan_cuentas, 4, FALSE) = \"D\", C23+E23-F23, 0), 0)","v":1771.7800000000002},{"$f":"IF(A23<>\"\", IF(VLOOKUP(A23, plan_cuentas, 4, FALSE) = \"H\", D23-E23+F23, 0), 0)","v":0}]
[110500,"DEUDORES DIVERSOS",{"$f":"SUM(C25)","v":0},0,0,0,0,0]
[110501,"FONDOS POR JUSTIFICAR",{"$f":"IF(A25<>\"\",IF(VLOOKUP(A25,plan_cuentas,4,FALSE)=\"D\",SUMIFS(Registros!G:G,Registros!B:B,\"<\"&fecha_inicial,Registros!C:C,\"=\"&'01'!A25)-SUMIFS(Registros!H:H,Registros!B:B,\"<\"&fecha_inicial,Registros!C:C,\"=\"&'01'!A25), 0), \"\")","v":0},{"$f":"IF(A25<>\"\",IF(VLOOKUP(A25,plan_cuentas,4,FALSE)=\"H\",SUMIFS(Registros!H:H,Registros!B:B,\"<\"&fecha_inicial,Registros!C:C,\"=\"&'01'!A25)-SUMIFS(Registros!G:G,Registros!B:B,\"<\"&fecha_inicial,Registros!C:C,\"=\"&'01'!A25), 0), \"\")","v":0},{"$f":"IF(A25<>\"\", SUMIFS(Registros!G:G, Registros!B:B, \">=\" & fecha_inicial, Registros!B:B, \"<=\" & fecha_final, Registros!C:C, \"=\" &'01'!A25), 0)","v":0},{"$f":"IF(A25<>\"\", SUMIFS(Registros!H:H, Registros!B:B, \">=\" & fecha_inicial, Registros!B:B, \"<=\" & fecha_final, Registros!C:C, \"=\" &'01'!A25), 0)","v":0},{"$f":"IF(A25<>\"\", IF(VLOOKUP(A25, plan_cuentas, 4, FALSE) = \"D\", C25+E25-F25, 0), 0)","v":0},{"$f":"IF(A25<>\"\", IF(VLOOKUP(A25, plan_cuentas, 4, FALSE) = \"H\", D25-E25+F25, 0), 0)","v":0}]
[110600,"INVENTARIOS",{"$f":"SUM(C27:C32)","v":107525.34},0,150,0,107675.34,0]
[110601,"EQUIPO DEPORTIVO",{"$f":"IF(A27<>\"\",IF(VLOOKUP(A27,plan_cuentas,4,FALSE)=\"D\",SUMIFS(Registros!G:G,Registros!B:B,\"<\"&fecha_inicial,Registros!C:C,\"=\"&'01'!A27)-SUMIFS(Registros!H:H,Registros!B:B,\"<\"&fecha_inicial,Registros!C:C,\"=\"&'01'!A27), 0), \"\")","v":0},{"$f":"IF(A27<>\"\",IF(VLOOKUP(A27,plan_cuentas,4,FALSE)=\"H\",SUMIFS(Registros!H:H,Registros!B:B,\"<\"&fecha_inicial,Registros!C:C,\"=\"&'01'!A27)-SUMIFS(Registros!G:G,Registros!B:B,\"<\"&fecha_inicial,Registros!C:C,\"=\"&'01'!A27), 0), \"\")","v":0},{"$f":"IF(A27<>\"\", SUMIFS(Registros!G:G, Registros!B:B, \">=\" & fecha_inicial, Registros!B:B, \"<=\" & fecha_final, Registros!C:C, \"=\" &'01'!A27), 0)","v":0},{"$f":"IF(A27<>\"\", SUMIFS(Registros!H:H, Registros!B:B, \">=\" & fecha_inicial, Registros!B:B, \"<=\" & fecha_final, Registros!C:C, \"=\" &'01'!A27), 0)","v":0},{"$f":"IF(A27<>\"\", IF(VLOOKUP(A27, plan_cuentas, 4, FALSE) = \"D\", C27+E27-F27, 0), 0)","v":0},{"$f":"IF(A27<>\"\", IF(VLOOKUP(A27, plan_cuentas, 4, FALSE) = \"H\", D27-E27+F27, 0), 0)","v":0}]
[110602,"MATERIALES DE CONSTRUCCIÓN",{"$f":"IF(A28<>\"\",IF(VLOOKUP(A28,plan_cuentas,4,FALSE)=\"D\",SUMIFS(Registros!G:G,Registros!B:B,\"<\"&fecha_inicial,Registros!C:C,\"=\"&'01'!A28)-SUMIFS(Registros!H:H,Registros!B:B,\"<\"&fecha_inicial,Registros!C:C,\"=\"&'01'!A28), 0), \"\")","v":0},{"$f":"IF(A28<>\"\",IF(VLOOKUP(A28,plan_cuentas,4,FALSE)=\"H\",SUMIFS(Registros!H:H,Registros!B:B,\"<\"&fecha_inicial,Registros!C:C,\"=\"&'01'!A28)-SUMIFS(Registros!G:G,Registros!B:B,\"<\"&fecha_inicial,Registros!C:C,\"=\"&'01'!A28), 0), \"\")","v":0},{"$f":"IF(A28<>\"\", SUMIFS(Registros!G:G, Registros!B:B, \">=\" & fecha_inicial, Registros!B:B, \"<=\" & fecha_final, Registros!C:C, \"=\" &'01'!A28), 0)","v":0},{"$f":"IF(A28<>\"\", SUMIFS(Registros!H:H, Registros!B:B, \">=\" & fecha_inicial, Registros!B:B, \"<=\" & fecha_final, Registros!C:C, \"=\" &'01'!A28), 0)","v":0},0,0]
[110603,"MATERIALES Y SUMINISTROS",{"$f":"IF(A29<>\"\",IF(VLOOKUP(A29,plan_cuentas,4,FALSE)=\"D\",SUMIFS(Registros!G:G,Registros!B:B,\"<\"&fecha_inicial,Registros!C:C,\"=\"&'01'!A29)-SUMIFS(Registros!H:H,Registros!B:B,\"<\"&fecha_inicial,Registros!C:C,\"=\"&'01'!A29), 0), \"\")","v":73058.84},{"$f":"IF(A29<>\"\",IF(VLOOKUP(A29,plan_cuentas,4,FALSE)=\"H\",SUMIFS(Registros!H:H,Registros!B:B,\"<\"&fecha_inicial,Registros!C:C,\"=\"&'01'!A29)-SUMIFS(Registros!G:G,Registros!B:B,\"<\"&fecha_inicial,Registros!C:C,\"=\"&'01'!A29), 0), \"\")","v":0},{"$f":"IF(A29<>\"\", SUMIFS(Registros!G:G, Registros!B:B, \">=\" & fecha_inicial, Registros!B:B, \"<=\" & fecha_final, Registros!C:C, \"=\" &'01'!A29), 0)","v":0},{"$f":"IF(A29<>\"\", SUMIFS(Registros!H:H, Registros!B:B, \">=\" & fecha_inicial, Registros!B:B, \"<=\" & fecha_final, Registros!C:C, \"=\" &'01'!A29), 0)","v":0},73058.84,0]
[110604,"EQUIPO E INSUMOS MÉDICOS",{"$f":"IF(A30<>\"\",IF(VLOOKUP(A30,plan_cuentas,4,FALSE)=\"D\",SUMIFS(Registros!G:G,Registros!B:B,\"<\"&fecha_inicial,Registros!C:C,\"=\"&'01'!A30)-SUMIFS(Registros!H:H,Registros!B:B,\"<\"&fecha_inicial,Registros!C:C,\"=\"&'01'!A30), 0), \"\")","v":2414.85},{"$f":"IF(A30<>\"\",IF(VLOOKUP(A30,plan_cuentas,4,FALSE)=\"H\",SUMIFS(Registros!H:H,Registros!B:B,\"<\"&fecha_inicial,Registros!C:C,\"=\"&'01'!A30)-SUMIFS(Registros!G:G,Registros!B:B,\"<\"&fecha_inicial,Registros!C:C,\"=\"&'01'!A30), 0), \"\")","v":0},{"$f":"IF(A30<>\"\", SUMIFS(Registros!G:G, Registros!B:B, \">=\" & fecha_inicial, Registros!B:B, \"<=\" & fecha_final, Registros!C:C, \"=\" &'01'!A30), 0)","v":0},{"$f":"IF(A30<>\"\", SUMIFS(Registros!H:H, Registros!B:B, \">=\" & fecha_inicial, Registros!B:B, \"<=\" & fecha_final, Registros!C:C, \"=\" &'01'!A30), 0)","v":0},2414.85,0]
[110605,{"$f":"IFERROR(IF(A31<>\"\", VLOOKUP(A31, plan_cuentas,2, FALSE), \"\"), \"CÓDIGO INCORRECTO\")","v":"PAPELERÍA Y ÚTILES DE OFICINA"},{"$f":"IF(A31<>\"\",IF(VLOOKUP(A31,plan_cuentas,4,FALSE)=\"D\",SUMIFS(Registros!G:G,Registros!B:B,\"<\"&fecha_inicial,Registros!C:C,\"=\"&'01'!A31)-SUMIFS(Registros!H:H,Registros!B:B,\"<\"&fecha_inicial,Registros!C:C,\"=\"&'01'!A31), 0), \"\")","v":24681.83},{"$f":"IF(A31<>\"\",IF(VLOOKUP(A31,plan_cuentas,4,FALSE)=\"H\",SUMIFS(Registros!H:H,Registros!B:B,\"<\"&fecha_inicial,Registros!C:C,\"=\"&'01'!A31)-SUMIFS(Registros!G:G,Registros!B:B,\"<\"&fecha_inicial,Registros!C:C,\"=\"&'01'!A31), 0), \"\")","v":0},{"$f":"IF(A31<>\"\", SUMIFS(Registros!G:G, Registros!B:B, \">=\" & fecha_inicial, Registros!B:B, \"<=\" & fecha_final, Registros!C:C, \"=\" &'01'!A31), 0)","v":150},{"$f":"IF(A31<>\"\", SUMIFS(Registros!H:H, Registros!B:B, \">=\" & fecha_inicial, Registros!B:B, \"<=\" & fecha_final, Registros!C:C, \"=\" &'01'!A31), 0)","v":0},24831.83,0]
[110606,"PAPELERIA MEMBRETADA",{"$f":"IF(A32<>\"\",IF(VLOOKUP(A32,plan_cuentas,4,FALSE)=\"D\",SUMIFS(Registros!G:G,Registros!B:B,\"<\"&fecha_inicial,Registros!C:C,\"=\"&'01'!A32)-SUMIFS(Registros!H:H,Registros!B:B,\"<\"&fecha_inicial,Registros!C:C,\"=\"&'01'!A32), 0), \"\")","v":7369.82},{"$f":"IF(A32<>\"\",IF(VLOOKUP(A32,plan_cuentas,4,FALSE)=\"H\",SUMIFS(Registros!H:H,Registros!B:B,\"<\"&fecha_inicial,Registros!C:C,\"=\"&'01'!A32)-SUMIFS(Registros!G:G,Registros!B:B,\"<\"&fecha_inicial,Registros!C:C,\"=\"&'01'!A32), 0), \"\")","v":0},{"$f":"IF(A32<>\"\", SUMIFS(Registros!G:G, Registros!B:B, \">=\" & fecha_inicial, Registros!B:B, \"<=\" & fecha_final, Registros!C:C, \"=\" &'01'!A32), 0)","v":0},{"$f":"IF(A32<>\"\", SUMIFS(Registros!H:H, Registros!B:B, \">=\" & fecha_inicial, Registros!B:B, \"<=\" & fecha_final, Registros!C:C, \"=\" &'01'!A32), 0)","v":0},7369.82,0]
[120000,"ACTIVOS NO CORRIENTES",{"$f":"C34+C36","v":46020.39},0,0,0,46020.39,0]
[120300,"MOBILIARIO",{"$f":"SUM(C35)","v":3099},0,0,0,3099,0]
[120301,"MUEBLES Y ENSERES",{"$f":"IF(A35<>\"\",IF(VLOOKUP(A35,plan_cuentas,4,FALSE)=\"D\",SUMIFS(Registros!G:G,Registros!B:B,\"<\"&fecha_inicial,Registros!C:C,\"=\"&'01'!A35)-SUMIFS(Registros!H:H,Registros!B:B,\"<\"&fecha_inicial,Registros!C:C,\"=\"&'01'!A35), 0), \"\")","v":3099},{"$f":"IF(A35<>\"\",IF(VLOOKUP(A35,plan_cuentas,4,FALSE)=\"H\",SUMIFS(Registros!H:H,Registros!B:B,\"<\"&fecha_inicial,Registros!C:C,\"=\"&'01'!A35)-SUMIFS(Registros!G:G,Registros!B:B,\"<\"&fecha_inicial,Registros!C:C,\"=\"&'01'!A35), 0), \"\")","v":0},{"$f":"IF(A35<>\"\", SUMIFS(Registros!G:G, Registros!B:B, \">=\" & fecha_inicial, Registros!B:B, \"<=\" & fecha_final, Registros!C:C, \"=\" &'01'!A35), 0)","v":0},{"$f":"IF(A35<>\"\", SUMIFS(Registros!H:H, Registros!B:B, \">=\" & fecha_inicial, Registros!B:B, \"<=\" & fecha_final, Registros!C:C, \"=\" &'01'!A35), 0)","v":0},{"$f":"IF(A35<>\"\", IF(VLOOKUP(A35, plan_cuentas, 4, FALSE) = \"D\", C35+E35-F35, 0), 0)","v":3099},{"$f":"IF(A35<>\"\", IF(VLOOKUP(A35, plan_cuentas, 4, FALSE) = \"H\", D35-E35+F35, 0), 0)","v":0}]
[120400,"EQUIPO",{"$f":"SUM(C37:C38)","v":42921.39},0,0,0,42921.39,0]
[120401,"EQUIPO INFORMÁTICO",{"$f":"IF(A37<>\"\",IF(VLOOKUP(A37,plan_cuentas,4,FALSE)=\"D\",SUMIFS(Registros!G:G,Registros!B:B,\"<\"&fecha_inicial,Registros!C:C,\"=\"&'01'!A37)-SUMIFS(Registros!H:H,Registros!B:B,\"<\"&fecha_inicial,Registros!C:C,\"=\"&'01'!A37), 0), \"\")","v":42921.39},{"$f":"IF(A37<>\"\",IF(VLOOKUP(A37,plan_cuentas,4,FALSE)=\"H\",SUMIFS(Registros!H:H,Registros!B:B,\"<\"&fecha_inicial,Registros!C:C,\"=\"&'01'!A37)-SUMIFS(Registros!G:G,Registros!B:B,\"<\"&fecha_inicial,Registros!C:C,\"=\"&'01'!A37), 0), \"\")","v":0},{"$f":"IF(A37<>\"\", SUMIFS(Registros!G:G, Registros!B:B, \">=\" & fecha_inicial, Registros!B:B, \"<=\" & fecha_final, Registros!C:C, \"=\" &'01'!A37), 0)","v":0},{"$f":"IF(A37<>\"\", SUMIFS(Registros!H:H, Registros!B:B, \">=\" & fecha_inicial, Registros!B:B, \"<=\" & fecha_final, Registros!C:C, \"=\" &'01'!A37), 0)","v":0},{"$f":"IF(A37<>\"\", IF(VLOOKUP(A37, plan_cuentas, 4, FALSE) = \"D\", C37+E37-F37, 0), 0)","v":42921.39},{"$f":"IF(A37<>\"\", IF(VLOOKUP(A37, plan_cuentas, 4, FALSE) = \"H\", D37-E37+F37, 0), 0)","v":0}]
[120402,"EQUIPO MÉDICO",{"$f":"IF(A38<>\"\",IF(VLOOKUP(A38,plan_cuentas,4,FALSE)=\"D\",SUMIFS(Registros!G:G,Registros!B:B,\"<\"&fecha_inicial,Registros!C:C,\"=\"&'01'!A38)-SUMIFS(Registros!H:H,Registros!B:B,\"<\"&fecha_inicial,Registros!C:C,\"=\"&'01'!A38), 0), \"\")","v":0},{"$f":"IF(A38<>\"\",IF(VLOOKUP(A38,plan_cuentas,4,FALSE)=\"H\",SUMIFS(Registros!H:H,Registros!B:B,\"<\"&fecha_inicial,Registros!C:C,\"=\"&'01'!A38)-SUMIFS(Registros!G:G,Registros!B:B,\"<\"&fecha_inicial,Registros!C:C,\"=\"&'01'!A38), 0), \"\")","v":0},{"$f":"IF(A38<>\"\", SUMIFS(Registros!G:G, Registros!B:B, \">=\" & fecha_inicial, Registros!B:B, \"<=\" & fecha_final, Registros!C:C, \"=\" &'01'!A38), 0)","v":0},{"$f":"IF(A38<>\"\", SUMIFS(Registros!H:H, Registros!B:B, \">=\" & fecha_inicial, Registros!B:B, \"<=\" & fecha_final, Registros!C:C, \"=\" &'01'!A38), 0)","v":0},{"$f":"IF(A38<>\"\", IF(VLOOKUP(A38, plan_cuentas, 4, FALSE) = \"D\", C38+E38-F38, 0), 0)","v":0},{"$f":"IF(A38<>\"\", IF(VLOOKUP(A38, plan_cuentas, 4, FALSE) = \"H\", D38-E38+F38, 0), 0)","v":0}]
[130000,"DEPRECIACIÓN ACUMULADA",{"$f":"C40+C42","v":0},0,0,0,0,0]
[130100,"DEPREC. ACUM. MOBILIARIO",{"$f":"SUM(C41)","v":0},0,0,0,0,0]
[130101,"DEPREC. ACUM. MUEBLES Y ENSERES",{"$f":"IF(A41<>\"\",IF(VLOOKUP(A41,plan_cuentas,4,FALSE)=\"D\",SUMIFS(Registros!G:G,Registros!B:B,\"<\"&fecha_inicial,Registros!C:C,\"=\"&'01'!A41)-SUMIFS(Registros!H:H,Registros!B:B,\"<\"&fecha_inicial,Registros!C:C,\"=\"&'01'!A41), 0), \"\")","v":0},{"$f":"IF(A41<>\"\",IF(VLOOKUP(A41,plan_cuentas,4,FALSE)=\"H\",SUMIFS(Registros!H:H,Registros!B:B,\"<\"&fecha_inicial,Registros!C:C,\"=\"&'01'!A41)-SUMIFS(Registros!G:G,Registros!B:B,\"<\"&fecha_inicial,Registros!C:C,\"=\"&'01'!A41), 0), \"\")","v":0},{"$f":"IF(A41<>\"\", SUMIFS(Registros!G:G, Registros!B:B, \">=\" & fecha_inicial, Registros!B:B, \"<=\" & fecha_final, Registros!C:C, \"=\" &'01'!A41), 0)","v":0},{"$f":"IF(A41<>\"\", SUMIFS(Registros!H:H, Registros!B:B, \">=\" & fecha_inicial, Registros!B:B, \"<=\" & fecha_final, Registros!C:C, \"=\" &'01'!A41), 0)","v":0},{"$f":"IF(A41<>\"\", IF(VLOOKUP(A41, plan_cuentas, 4, FALSE) = \"D\", C41+E41-F41, 0), 0)","v":0},{"$f":"IF(A41<>\"\", IF(VLOOKUP(A41, plan_cuentas, 4, FALSE) = \"H\", D41-E41+F41, 0), 0)","v":0}]
[130200,"DEPREC. ACUM. EQUIPO",{"$f":"SUM(C43:C44)","v":0},0,0,0,0,0]
[130201,"DEPREC. ACUM. EQUIP. INFORMÁTICO",{"$f":"IF(A43<>\"\",IF(VLOOKUP(A43,plan_cuentas,4,FALSE)=\"D\",SUMIFS(Registros!G:G,Registros!B:B,\"<\"&fecha_inicial,Registros!C:C,\"=\"&'01'!A43)-SUMIFS(Registros!H:H,Registros!B:B,\"<\"&fecha_inicial,Registros!C:C,\"=\"&'01'!A43), 0), \"\")","v":0},{"$f":"IF(A43<>\"\",IF(VLOOKUP(A43,plan_cuentas,4,FALSE)=\"H\",SUMIFS(Registros!H:H,Registros!B:B,\"<\"&fecha_inicial,Registros!C:C,\"=\"&'01'!A43)-SUMIFS(Registros!G:G,Registros!B:B,\"<\"&fecha_inicial,Registros!C:C,\"=\"&'01'!A43), 0), \"\")","v":0},{"$f":"IF(A43<>\"\", SUMIFS(Registros!G:G, Registros!B:B, \">=\" & fecha_inicial, Registros!B:B, \"<=\" & fecha_final, Registros!C:C, \"=\" &'01'!A43), 0)","v":0},{"$f":"IF(A43<>\"\", SUMIFS(Registros!H:H, Registros!B:B, \">=\" & fecha_inicial, Registros!B:B, \"<=\" & fecha_final, Registros!C:C, \"=\" &'01'!A43), 0)","v":0},{"$f":"IF(A43<>\"\", IF(VLOOKUP(A43, plan_cuentas, 4, FALSE) = \"D\", C43+E43-F43, 0), 0)","v":0},{"$f":"IF(A43<>\"\", IF(VLOOKUP(A43, plan_cuentas, 4, FALSE) = \"H\", D43-E43+F43, 0), 0)","v":0}]
[130202,"DEPREC. ACUM. EQUIPO MÉDICO",{"$f":"IF(A44<>\"\",IF(VLOOKUP(A44,plan_cuentas,4,FALSE)=\"D\",SUMIFS(Registros!G:G,Registros!B:B,\"<\"&fecha_inicial,Registros!C:C,\"=\"&'01'!A44)-SUMIFS(Registros!H:H,Registros!B:B,\"<\"&fecha_inicial,Registros!C:C,\"=\"&'01'!A44), 0), \"\")","v":0},{"$f":"IF(A44<>\"\",IF(VLOOKUP(A44,plan_cuentas,4,FALSE)=\"H\",SUMIFS(Registros!H:H,Registros!B:B,\"<\"&fecha_inicial,Registros!C:C,\"=\"&'01'!A44)-SUMIFS(Registros!G:G,Registros!B:B,\"<\"&fecha_inicial,Registros!C:C,\"=\"&'01'!A44), 0), \"\")","v":0},{"$f":"IF(A44<>\"\", SUMIFS(Registros!G:G, Registros!B:B, \">=\" & fecha_inicial, Registros!B:B, \"<=\" & fecha_final, Registros!C:C, \"=\" &'01'!A44), 0)","v":0},{"$f":"IF(A44<>\"\", SUMIFS(Registros!H:H, Registros!B:B, \">=\" & fecha_inicial, Registros!B:B, \"<=\" & fecha_final, Registros!C:C, \"=\" &'01'!A44), 0)","v":0},{"$f":"IF(A44<>\"\", IF(VLOOKUP(A44, plan_cuentas, 4, FALSE) = \"D\", C44+E44-F44, 0), 0)","v":0},{"$f":"IF(A44<>\"\", IF(VLOOKUP(A44, plan_cuentas, 4, FALSE) = \"H\", D44-E44+F44, 0), 0)","v":0}]
[140000,"OTROS ACTIVOS",{"$f":"C46","v":0},0,0,0,0,0]
[140100,{"$f":"IFERROR(IF(A46<>\"\", VLOOKUP(A46, plan_cuentas,2, FALSE), \"\"), \"CÓDIGO INCORRECTO\")","v":"DEPÓSITOS EN GARANTÍA"},{"$f":"SUM(C47)","v":0},0,0,0,0,0]
[140101,"DEPÓSITOS EN GARANTÍA",{"$f":"IF(A47<>\"\",IF(VLOOKUP(A47,plan_cuentas,4,FALSE)=\"D\",SUMIFS(Registros!G:G,Registros!B:B,\"<\"&fecha_inicial,Registros!C:C,\"=\"&'01'!A47)-SUMIFS(Registros!H:H,Registros!B:B,\"<\"&fecha_inicial,Registros!C:C,\"=\"&'01'!A47), 0), \"\")","v":0},{"$f":"IF(A47<>\"\",IF(VLOOKUP(A47,plan_cuentas,4,FALSE)=\"H\",SUMIFS(Registros!H:H,Registros!B:B,\"<\"&fecha_inicial,Registros!C:C,\"=\"&'01'!A47)-SUMIFS(Registros!G:G,Registros!B:B,\"<\"&fecha_inicial,Registros!C:C,\"=\"&'01'!A47), 0), \"\")","v":0},{"$f":"IF(A47<>\"\", SUMIFS(Registros!G:G, Registros!B:B, \">=\" & fecha_inicial, Registros!B:B, \"<=\" & fecha_final, Registros!C:C, \"=\" &'01'!A47), 0)","v":0},{"$f":"IF(A47<>\"\", SUMIFS(Registros!H:H, Registros!B:B, \">=\" & fecha_inicial, Registros!B:B, \"<=\" & fecha_final, Registros!C:C, \"=\" &'01'!A47), 0)","v":0},{"$f":"IF(A47<>\"\", IF(VLOOKUP(A47, plan_cuentas, 4, FALSE) = \"D\", C47+E47-F47, 0), 0)","v":0},{"$f":"IF(A47<>\"\", IF(VLOOKUP(A47, plan_cuentas, 4, FALSE) = \"H\", D47-E47+F47, 0), 0)","v":0}]
[200000,"PASIVOS",{"$f":"C49","v":0},14758.52,0,26096.800000000003,0,40855.320000000007]
[210000,"PASIVOS CORRIENTES",{"$f":"C50+C53+C55+C60","v":0},{"$f":"D50+D53+D55+D60","v":14758.52},0,26096.800000000003,0,40855.320000000007]
[210100,"CUENTAS POR PAGAR",{"$f":"SUM(C51:C52)","v":0},{"$f":"SUM(D51:D52)","v":0},0,0,0,0]
[210101,"PROVEEDORES LOCALES",{"$f":"IF(A51<>\"\",IF(VLOOKUP(A51,plan_cuentas,4,FALSE)=\"D\",SUMIFS(Registros!G:G,Registros!B:B,\"<\"&fecha_inicial,Registros!C:C,\"=\"&'01'!A51)-SUMIFS(Registros!H:H,Registros!B:B,\"<\"&fecha_inicial,Registros!C:C,\"=\"&'01'!A51), 0), \"\")","v":0},{"$f":"IF(A51<>\"\",IF(VLOOKUP(A51,plan_cuentas,4,FALSE)=\"H\",SUMIFS(Registros!H:H,Registros!B:B,\"<\"&fecha_inicial,Registros!C:C,\"=\"&'01'!A51)-SUMIFS(Registros!G:G,Registros!B:B,\"<\"&fecha_inicial,Registros!C:C,\"=\"&'01'!A51), 0), \"\")","v":0},{"$f":"IF(A51<>\"\", SUMIFS(Registros!G:G, Registros!B:B, \">=\" & fecha_inicial, Registros!B:B, \"<=\" & fecha_final, Registros!C:C, \"=\" &'01'!A51), 0)","v":0},{"$f":"IF(A51<>\"\", SUMIFS(Registros!H:H, Registros!B:B, \">=\" & fecha_inicial, Registros!B:B, \"<=\" & fecha_final, Registros!C:C, \"=\" &'01'!A51), 0)","v":0},{"$f":"IF(A51<>\"\", IF(VLOOKUP(A51, plan_cuentas, 4, FALSE) = \"D\", C51+E51-F51, 0), 0)","v":0},{"$f":"IF(A51<>\"\", IF(VLOOKUP(A51, plan_cuentas, 4, FALSE) = \"H\", D51-E51+F51, 0), 0)","v":0}]
[210102,"PROVEEDORES EXTRANJEROS",{"$f":"IF(A52<>\"\",IF(VLOOKUP(A52,plan_cuentas,4,FALSE)=\"D\",SUMIFS(Registros!G:G,Registros!B:B,\"<\"&fecha_inicial,Registros!C:C,\"=\"&'01'!A52)-SUMIFS(Registros!H:H,Registros!B:B,\"<\"&fecha_inicial,Registros!C:C,\"=\"&'01'!A52), 0), \"\")","v":0},{"$f":"IF(A52<>\"\",IF(VLOOKUP(A52,plan_cuentas,4,FALSE)=\"H\",SUMIFS(Registros!H:H,Registros!B:B,\"<\"&fecha_inicial,Registros!C:C,\"=\"&'01'!A52)-SUMIFS(Registros!G:G,Registros!B:B,\"<\"&fecha_inicial,Registros!C:C,\"=\"&'01'!A52), 0), \"\")","v":0},{"$f":"IF(A52<>\"\", SUMIFS(Registros!G:G, Registros!B:B, \">=\" & fecha_inicial, Registros!B:B, \"<=\" & fecha_final, Registros!C:C, \"=\" &'01'!A52), 0)","v":0},{"$f":"IF(A52<>\"\", SUMIFS(Registros!H:H, Registros!B:B, \">=\" & fecha_inicial, Registros!B:B, \"<=\" & fecha_final, Registros!C:C, \"=\" &'01'!A52), 0)","v":0},{"$f":"IF(A52<>\"\", IF(VLOOKUP(A52, plan_cuentas, 4, FALSE) = \"D\", C52+E52-F52, 0), 0)","v":0},{"$f":"IF(A52<>\"\", IF(VLOOKUP(A52, plan_cuentas, 4, FALSE) = \"H\", D52-E52+F52, 0), 0)","v":0}]
[210200,"DOCUMENTOS POR PAGAR",{"$f":"SUM(C54)","v":0},0,0,0,0,0]
[210201,"DOCUMENTOS POR PAGAR",{"$f":"IF(A54<>\"\",IF(VLOOKUP(A54,plan_cuentas,4,FALSE)=\"D\",SUMIFS(Registros!G:G,Registros!B:B,\"<\"&fecha_inicial,Registros!C:C,\"=\"&'01'!A54)-SUMIFS(Registros!H:H,Registros!B:B,\"<\"&fecha_inicial,Registros!C:C,\"=\"&'01'!A54), 0), \"\")","v":0},{"$f":"IF(A54<>\"\",IF(VLOOKUP(A54,plan_cuentas,4,FALSE)=\"H\",SUMIFS(Registros!H:H,Registros!B:B,\"<\"&fecha_inicial,Registros!C:C,\"=\"&'01'!A54)-SUMIFS(Registros!G:G,Registros!B:B,\"<\"&fecha_inicial,Registros!C:C,\"=\"&'01'!A54), 0), \"\")","v":0},{"$f":"IF(A54<>\"\", SUMIFS(Registros!G:G, Registros!B:B, \">=\" & fecha_inicial, Registros!B:B, \"<=\" & fecha_final, Registros!C:C, \"=\" &'01'!A54), 0)","v":0},{"$f":"IF(A54<>\"\", SUMIFS(Registros!H:H, Registros!B:B, \">=\" & fecha_inicial, Registros!B:B, \"<=\" & fecha_final, Registros!C:C, \"=\" &'01'!A54), 0)","v":0},{"$f":"IF(A54<>\"\", IF(VLOOKUP(A54, plan_cuentas, 4, FALSE) = \"D\", C54+E54-F54, 0), 0)","v":0},{"$f":"IF(A54<>\"\", IF(VLOOKUP(A54, plan_cuentas, 4, FALSE) = \"H\", D54-E54+F54, 0), 0)","v":0}]
[210300,"IMPUESTOS POR PAGAR",{"$f":"SUM(C56:C59)","v":0},26143.34,0,26096.800000000003,0,52240.140000000007]
[210301,"RETENCIÓN 2% BIENES Y SERVICIOS",{"$f":"IF(A56<>\"\",IF(VLOOKUP(A56,plan_cuentas,4,FALSE)=\"D\",SUMIFS(Registros!G:G,Registros!B:B,\"<\"&fecha_inicial,Registros!C:C,\"=\"&'01'!A56)-SUMIFS(Registros!H:H,Registros!B:B,\"<\"&fecha_inicial,Registros!C:C,\"=\"&'01'!A56), 0), \"\")","v":0},{"$f":"IF(A56<>\"\",IF(VLOOKUP(A56,plan_cuentas,4,FALSE)=\"H\",SUMIFS(Registros!H:H,Registros!B:B,\"<\"&fecha_inicial,Registros!C:C,\"=\"&'01'!A56)-SUMIFS(Registros!G:G,Registros!B:B,\"<\"&fecha_inicial,Registros!C:C,\"=\"&'01'!A56), 0), \"\")","v":3550.4099999999994},{"$f":"IF(A56<>\"\", SUMIFS(Registros!G:G, Registros!B:B, \">=\" & fecha_inicial, Registros!B:B, \"<=\" & fecha_final, Registros!C:C, \"=\" &'01'!A56), 0)","v":0},{"$f":"IF(A56<>\"\", SUMIFS(Registros!H:H, Registros!B:B, \">=\" & fecha_inicial, Registros!B:B, \"<=\" & fecha_final, Registros!C:C, \"=\" &'01'!A56), 0)","v":2752.49},{"$f":"IF(A56<>\"\", IF(VLOOKUP(A56, plan_cuentas, 4, FALSE) = \"D\", C56+E56-F56, 0), 0)","v":0},{"$f":"IF(A56<>\"\", IF(VLOOKUP(A56, plan_cuentas, 4, FALSE) = \"H\", D56-E56+F56, 0), 0)","v":6302.9}]
[210302,"RETENC. 10% SERV. TÉCNICOS Y PROFESIONALES",{"$f":"IF(A57<>\"\",IF(VLOOKUP(A57,plan_cuentas,4,FALSE)=\"D\",SUMIFS(Registros!G:G,Registros!B:B,\"<\"&fecha_inicial,Registros!C:C,\"=\"&'01'!A57)-SUMIFS(Registros!H:H,Registros!B:B,\"<\"&fecha_inicial,Registros!C:C,\"=\"&'01'!A57), 0), \"\")","v":0},{"$f":"IF(A57<>\"\",IF(VLOOKUP(A57,plan_cuentas,4,FALSE)=\"H\",SUMIFS(Registros!H:H,Registros!B:B,\"<\"&fecha_inicial,Registros!C:C,\"=\"&'01'!A57)-SUMIFS(Registros!G:G,Registros!B:B,\"<\"&fecha_inicial,Registros!C:C,\"=\"&'01'!A57), 0), \"\")","v":24139.68},{"$f":"IF(A57<>\"\", SUMIFS(Registros!G:G, Registros!B:B, \">=\" & fecha_inicial, Registros!B:B, \"<=\" & fecha_final, Registros!C:C, \"=\" &'01'!A57), 0)","v":0},{"$f":"IF(A57<>\"\", SUMIFS(Registros!H:H, Registros!B:B, \">=\" & fecha_inicial, Registros!B:B, \"<=\" & fecha_final, Registros!C:C, \"=\" &'01'!A57), 0)","v":23344.31},{"$f":"IF(A57<>\"\", IF(VLOOKUP(A57, plan_cuentas, 4, FALSE) = \"D\", C57+E57-F57, 0), 0)","v":0},{"$f":"IF(A57<>\"\", IF(VLOOKUP(A57, plan_cuentas, 4, FALSE) = \"H\", D57-E57+F57, 0), 0)","v":47483.990000000005}]
[210303,"RETENCIONES EN LA FUENTE",{"$f":"IF(A58<>\"\",IF(VLOOKUP(A58,plan_cuentas,4,FALSE)=\"D\",SUMIFS(Registros!G:G,Registros!B:B,\"<\"&fecha_inicial,Registros!C:C,\"=\"&'01'!A58)-SUMIFS(Registros!H:H,Registros!B:B,\"<\"&fecha_inicial,Registros!C:C,\"=\"&'01'!A58), 0), \"\")","v":0},{"$f":"IF(A58<>\"\",IF(VLOOKUP(A58,plan_cuentas,4,FALSE)=\"H\",SUMIFS(Registros!H:H,Registros!B:B,\"<\"&fecha_inicial,Registros!C:C,\"=\"&'01'!A58)-SUMIFS(Registros!G:G,Registros!B:B,\"<\"&fecha_inicial,Registros!C:C,\"=\"&'01'!A58), 0), \"\")","v":-1546.75},{"$f":"IF(A58<>\"\", SUMIFS(Registros!G:G, Registros!B:B, \">=\" & fecha_inicial, Registros!B:B, \"<=\" & fecha_final, Registros!C:C, \"=\" &'01'!A58), 0)","v":0},{"$f":"IF(A58<>\"\", SUMIFS(Registros!H:H, Registros!B:B, \">=\" & fecha_inicial, Registros!B:B, \"<=\" & fecha_final, Registros!C:C, \"=\" &'01'!A58), 0)","v":0},{"$f":"IF(A58<>\"\", IF(VLOOKUP(A58, plan_cuentas, 4, FALSE) = \"D\", C58+E58-F58, 0), 0)","v":0},{"$f":"IF(A58<>\"\", IF(VLOOKUP(A58, plan_cuentas, 4, FALSE) = \"H\", D58-E58+F58, 0), 0)","v":-1546.75}]
[210304,"OTRAS RETENCIONES",{"$f":"IF(A59<>\"\",IF(VLOOKUP(A59,plan_cuentas,4,FALSE)=\"D\",SUMIFS(Registros!G:G,Registros!B:B,\"<\"&fecha_inicial,Registros!C:C,\"=\"&'01'!A59)-SUMIFS(Registros!H:H,Registros!B:B,\"<\"&fecha_inicial,Registros!C:C,\"=\"&'01'!A59), 0), \"\")","v":0},{"$f":"IF(A59<>\"\",IF(VLOOKUP(A59,plan_cuentas,4,FALSE)=\"H\",SUMIFS(Registros!H:H,Registros!B:B,\"<\"&fecha_inicial,Registros!C:C,\"=\"&'01'!A59)-SUMIFS(Registros!G:G,Registros!B:B,\"<\"&fecha_inicial,Registros!C:C,\"=\"&'01'!A59), 0), \"\")","v":0},{"$f":"IF(A59<>\"\", SUMIFS(Registros!G:G, Registros!B:B, \">=\" & fecha_inicial, Registros!B:B, \"<=\" & fecha_final, Registros!C:C, \"=\" &'01'!A59), 0)","v":0},{"$f":"IF(A59<>\"\", SUMIFS(Registros!H:H, Registros!B:B, \">=\" & fecha_inicial, Registros!B:B, \"<=\" & fecha_final, Registros!C:C, \"=\" &'01'!A59), 0)","v":0},{"$f":"IF(A59<>\"\", IF(VLOOKUP(A59, plan_cuentas, 4, FALSE) = \"D\", C59+E59-F59, 0), 0)","v":0},{"$f":"IF(A59<>\"\", IF(VLOOKUP(A59, plan_cuentas, 4, FALSE) = \"H\", D59-E59+F59, 0), 0)","v":0}]
[210400,"GASTOS ACUMULADOS POR PAGAR",{"$f":"SUM(C61:C66)","v":0},-11384.82,0,0,0,-11384.82]
[210401,"VACACIONES ACUM. POR PAGAR",{"$f":"IF(A61<>\"\",IF(VLOOKUP(A61,plan_cuentas,4,FALSE)=\"D\",SUMIFS(Registros!G:G,Registros!B:B,\"<\"&fecha_inicial,Registros!C:C,\"=\"&'01'!A61)-SUMIFS(Registros!H:H,Registros!B:B,\"<\"&fecha_inicial,Registros!C:C,\"=\"&'01'!A61), 0), \"\")","v":0},{"$f":"IF(A61<>\"\",IF(VLOOKUP(A61,plan_cuentas,4,FALSE)=\"H\",SUMIFS(Registros!H:H,Registros!B:B,\"<\"&fecha_inicial,Registros!C:C,\"=\"&'01'!A61)-SUMIFS(Registros!G:G,Registros!B:B,\"<\"&fecha_inicial,Registros!C:C,\"=\"&'01'!A61), 0), \"\")","v":0},{"$f":"IF(A61<>\"\", SUMIFS(Registros!G:G, Registros!B:B, \">=\" & fecha_inicial, Registros!B:B, \"<=\" & fecha_final, Registros!C:C, \"=\" &'01'!A61), 0)","v":0},{"$f":"IF(A61<>\"\", SUMIFS(Registros!H:H, Registros!B:B, \">=\" & fecha_inicial, Registros!B:B, \"<=\" & fecha_final, Registros!C:C, \"=\" &'01'!A61), 0)","v":0},{"$f":"IF(A61<>\"\", IF(VLOOKUP(A61, plan_cuentas, 4, FALSE) = \"D\", C61+E61-F61, 0), 0)","v":0},{"$f":"IF(A61<>\"\", IF(VLOOKUP(A61, plan_cuentas, 4, FALSE) = \"H\", D61-E61+F61, 0), 0)","v":0}]
[210402,"AGUINALDOS POR PAGAR",{"$f":"IF(A62<>\"\",IF(VLOOKUP(A62,plan_cuentas,4,FALSE)=\"D\",SUMIFS(Registros!G:G,Registros!B:B,\"<\"&fecha_inicial,Registros!C:C,\"=\"&'01'!A62)-SUMIFS(Registros!H:H,Registros!B:B,\"<\"&fecha_inicial,Registros!C:C,\"=\"&'01'!A62), 0), \"\")","v":0},{"$f":"IF(A62<>\"\",IF(VLOOKUP(A62,plan_cuentas,4,FALSE)=\"H\",SUMIFS(Registros!H:H,Registros!B:B,\"<\"&fecha_inicial,Registros!C:C,\"=\"&'01'!A62)-SUMIFS(Registros!G:G,Registros!B:B,\"<\"&fecha_inicial,Registros!C:C,\"=\"&'01'!A62), 0), \"\")","v":0},{"$f":"IF(A62<>\"\", SUMIFS(Registros!G:G, Registros!B:B, \">=\" & fecha_inicial, Registros!B:B, \"<=\" & fecha_final, Registros!C:C, \"=\" &'01'!A62), 0)","v":0},{"$f":"IF(A62<>\"\", SUMIFS(Registros!H:H, Registros!B:B, \">=\" & fecha_inicial, Registros!B:B, \"<=\" & fecha_final, Registros!C:C, \"=\" &'01'!A62), 0)","v":0},0,0]
[210403,"INDEMNIZACIONES POR PAGAR",{"$f":"IF(A63<>\"\",IF(VLOOKUP(A63,plan_cuentas,4,FALSE)=\"D\",SUMIFS(Registros!G:G,Registros!B:B,\"<\"&fecha_inicial,Registros!C:C,\"=\"&'01'!A63)-SUMIFS(Registros!H:H,Registros!B:B,\"<\"&fecha_inicial,Registros!C:C,\"=\"&'01'!A63), 0), \"\")","v":0},{"$f":"IF(A63<>\"\",IF(VLOOKUP(A63,plan_cuentas,4,FALSE)=\"H\",SUMIFS(Registros!H:H,Registros!B:B,\"<\"&fecha_inicial,Registros!C:C,\"=\"&'01'!A63)-SUMIFS(Registros!G:G,Registros!B:B,\"<\"&fecha_inicial,Registros!C:C,\"=\"&'01'!A63), 0), \"\")","v":0},{"$f":"IF(A63<>\"\", SUMIFS(Registros!G:G, Registros!B:B, \">=\" & fecha_inicial, Registros!B:B, \"<=\" & fecha_final, Registros!C:C, \"=\" &'01'!A63), 0)","v":0},{"$f":"IF(A63<>\"\", SUMIFS(Registros!H:H, Registros!B:B, \">=\" & fecha_inicial, Registros!B:B, \"<=\" & fecha_final, Registros!C:C, \"=\" &'01'!A63), 0)","v":0},0,0]
[210404,"INSS PATRONAL POR PAGAR",{"$f":"IF(A64<>\"\",IF(VLOOKUP(A64,plan_cuentas,4,FALSE)=\"D\",SUMIFS(Registros!G:G,Registros!B:B,\"<\"&fecha_inicial,Registros!C:C,\"=\"&'01'!A64)-SUMIFS(Registros!H:H,Registros!B:B,\"<\"&fecha_inicial,Registros!C:C,\"=\"&'01'!A64), 0), \"\")","v":0},{"$f":"IF(A64<>\"\",IF(VLOOKUP(A64,plan_cuentas,4,FALSE)=\"H\",SUMIFS(Registros!H:H,Registros!B:B,\"<\"&fecha_inicial,Registros!C:C,\"=\"&'01'!A64)-SUMIFS(Registros!G:G,Registros!B:B,\"<\"&fecha_inicial,Registros!C:C,\"=\"&'01'!A64), 0), \"\")","v":-7648.1900000000005},{"$f":"IF(A64<>\"\", SUMIFS(Registros!G:G, Registros!B:B, \">=\" & fecha_inicial, Registros!B:B, \"<=\" & fecha_final, Registros!C:C, \"=\" &'01'!A64), 0)","v":0},{"$f":"IF(A64<>\"\", SUMIFS(Registros!H:H, Registros!B:B, \">=\" & fecha_inicial, Registros!B:B, \"<=\" & fecha_final, Registros!C:C, \"=\" &'01'!A64), 0)","v":0},0,-7648.1900000000005]
[210405,"APORTE INATEC POR PAGAR",{"$f":"IF(A65<>\"\",IF(VLOOKUP(A65,plan_cuentas,4,FALSE)=\"D\",SUMIFS(Registros!G:G,Registros!B:B,\"<\"&fecha_inicial,Registros!C:C,\"=\"&'01'!A65)-SUMIFS(Registros!H:H,Registros!B:B,\"<\"&fecha_inicial,Registros!C:C,\"=\"&'01'!A65), 0), \"\")","v":0},{"$f":"IF(A65<>\"\",IF(VLOOKUP(A65,plan_cuentas,4,FALSE)=\"H\",SUMIFS(Registros!H:H,Registros!B:B,\"<\"&fecha_inicial,Registros!C:C,\"=\"&'01'!A65)-SUMIFS(Registros!G:G,Registros!B:B,\"<\"&fecha_inicial,Registros!C:C,\"=\"&'01'!A65), 0), \"\")","v":-916.55},{"$f":"IF(A65<>\"\", SUMIFS(Registros!G:G, Registros!B:B, \">=\" & fecha_inicial, Registros!B:B, \"<=\" & fecha_final, Registros!C:C, \"=\" &'01'!A65), 0)","v":0},{"$f":"IF(A65<>\"\", SUMIFS(Registros!H:H, Registros!B:B, \">=\" & fecha_inicial, Registros!B:B, \"<=\" & fecha_final, Registros!C:C, \"=\" &'01'!A65), 0)","v":0},0,-916.55]
[210406,"INSS LABORAL POR PAGAR",{"$f":"IF(A66<>\"\",IF(VLOOKUP(A66,plan_cuentas,4,FALSE)=\"D\",SUMIFS(Registros!G:G,Registros!B:B,\"<\"&fecha_inicial,Registros!C:C,\"=\"&'01'!A66)-SUMIFS(Registros!H:H,Registros!B:B,\"<\"&fecha_inicial,Registros!C:C,\"=\"&'01'!A66), 0), \"\")","v":0},{"$f":"IF(A66<>\"\",IF(VLOOKUP(A66,plan_cuentas,4,FALSE)=\"H\",SUMIFS(Registros!H:H,Registros!B:B,\"<\"&fecha_inicial,Registros!C:C,\"=\"&'01'!A66)-SUMIFS(Registros!G:G,Registros!B:B,\"<\"&fecha_inicial,Registros!C:C,\"=\"&'01'!A66), 0), \"\")","v":-2820.08},{"$f":"IF(A66<>\"\", SUMIFS(Registros!G:G, Registros!B:B, \">=\" & fecha_inicial, Registros!B:B, \"<=\" & fecha_final, Registros!C:C, \"=\" &'01'!A66), 0)","v":0},{"$f":"IF(A66<>\"\", SUMIFS(Registros!H:H, Registros!B:B, \">=\" & fecha_inicial, Registros!B:B, \"<=\" & fecha_final, Registros!C:C, \"=\" &'01'!A66), 0)","v":0},0,-2820.08]
[300000,"CAPITAL",{"$f":"C68","v":0},1137240.94,0,0,0,1137240.94]
[310000,"CAPITAL SOCIAL",{"$f":"C69+C72","v":0},1137240.94,0,0,0,1137240.94]
[310100,"APORTE INICIAL",{"$f":"SUM(C70:C71)","v":0},1137240.94,0,0,0,1137240.94]
[310101,"FONDO EN RESERVA",{"$f":"IF(A70<>\"\",IF(VLOOKUP(A70,plan_cuentas,4,FALSE)=\"D\",SUMIFS(Registros!G:G,Registros!B:B,\"<\"&fecha_inicial,Registros!C:C,\"=\"&'01'!A70)-SUMIFS(Registros!H:H,Registros!B:B,\"<\"&fecha_inicial,Registros!C:C,\"=\"&'01'!A70), 0), \"\")","v":0},{"$f":"IF(A70<>\"\",IF(VLOOKUP(A70,plan_cuentas,4,FALSE)=\"H\",SUMIFS(Registros!H:H,Registros!B:B,\"<\"&fecha_inicial,Registros!C:C,\"=\"&'01'!A70)-SUMIFS(Registros!G:G,Registros!B:B,\"<\"&fecha_inicial,Registros!C:C,\"=\"&'01'!A70), 0), \"\")","v":0},{"$f":"IF(A70<>\"\", SUMIFS(Registros!G:G, Registros!B:B, \">=\" & fecha_inicial, Registros!B:B, \"<=\" & fecha_final, Registros!C:C, \"=\" &'01'!A70), 0)","v":0},{"$f":"IF(A70<>\"\", SUMIFS(Registros!H:H, Registros!B:B, \">=\" & fecha_inicial, Registros!B:B, \"<=\" & fecha_final, Registros!C:C, \"=\" &'01'!A70), 0)","v":0},{"$f":"IF(A70<>\"\", IF(VLOOKUP(A70, plan_cuentas, 4, FALSE) = \"D\", C70+E70-F70, 0), 0)","v":0},{"$f":"IF(A70<>\"\", IF(VLOOKUP(A70, plan_cuentas, 4, FALSE) = \"H\", D70-E70+F70, 0), 0)","v":0}]
[310102,"FONDO PATRIMONIAL",{"$f":"IF(A71<>\"\",IF(VLOOKUP(A71,plan_cuentas,4,FALSE)=\"D\",SUMIFS(Registros!G:G,Registros!B:B,\"<\"&fecha_inicial,Registros!C:C,\"=\"&'01'!A71)-SUMIFS(Registros!H:H,Registros!B:B,\"<\"&fecha_inicial,Registros!C:C,\"=\"&'01'!A71), 0), \"\")","v":0},{"$f":"IF(A71<>\"\",IF(VLOOKUP(A71,plan_cuentas,4,FALSE)=\"H\",SUMIFS(Registros!H:H,Registros!B:B,\"<\"&fecha_inicial,Registros!C:C,\"=\"&'01'!A71)-SUMIFS(Registros!G:G,Registros!B:B,\"<\"&fecha_inicial,Registros!C:C,\"=\"&'01'!A71), 0), \"\")","v":1137240.94},{"$f":"IF(A71<>\"\", SUMIFS(Registros!G:G, Registros!B:B, \">=\" & fecha_inicial, Registros!B:B, \"<=\" & fecha_final, Registros!C:C, \"=\" &'01'!A71), 0)","v":0},{"$f":"IF(A71<>\"\", SUMIFS(Registros!H:H, Registros!B:B, \">=\" & fecha_inicial, Registros!B:B, \"<=\" & fecha_final, Registros!C:C, \"=\" &'01'!A71), 0)","v":0},{"$f":"IF(A71<>\"\", IF(VLOOKUP(A71, plan_cuentas, 4, FALSE) = \"D\", C71+E71-F71, 0), 0)","v":0},{"$f":"IF(A71<>\"\", IF(VLOOKUP(A71, plan_cuentas, 4, FALSE) = \"H\", D71-E71+F71, 0), 0)","v":1137240.94}]
[310200,"RESULTADOS",{"$f":"SUM(C73:C74)","v":0},0,0,0,0,0]
[310201,"RESULTADOS ACUMULADOS",{"$f":"IF(A73<>\"\",IF(VLOOKUP(A73,plan_cuentas,4,FALSE)=\"D\",SUMIFS(Registros!G:G,Registros!B:B,\"<\"&fecha_inicial,Registros!C:C,\"=\"&'01'!A73)-SUMIFS(Registros!H:H,Registros!B:B,\"<\"&fecha_inicial,Registros!C:C,\"=\"&'01'!A73), 0), \"\")","v":0},{"$f":"IF(A73<>\"\",IF(VLOOKUP(A73,plan_cuentas,4,FALSE)=\"H\",SUMIFS(Registros!H:H,Registros!B:B,\"<\"&fecha_inicial,Registros!C:C,\"=\"&'01'!A73)-SUMIFS(Registros!G:G,Registros!B:B,\"<\"&fecha_inicial,Registros!C:C,\"=\"&'01'!A73), 0), \"\")","v":0},{"$f":"IF(A73<>\"\", SUMIFS(Registros!G:G, Registros!B:B, \">=\" & fecha_inicial, Registros!B:B, \"<=\" & fecha_final, Registros!C:C, \"=\" &'01'!A73), 0)","v":0},{"$f":"IF(A73<>\"\", SUMIFS(Registros!H:H, Registros!B:B, \">=\" & fecha_inicial, Registros!B:B, \"<=\" & fecha_final, Registros!C:C, \"=\" &'01'!A73), 0)","v":0},{"$f":"IF(A73<>\"\", IF(VLOOKUP(A73, plan_cuentas, 4, FALSE) = \"D\", C73+E73-F73, 0), 0)","v":0},{"$f":"IF(A73<>\"\", IF(VLOOKUP(A73, plan_cuentas, 4, FALSE) = \"H\", D73-E73+F73, 0), 0)","v":0}]
[310202,"RESULTADOS DEL EJERCICIO",{"$f":"IF(A74<>\"\",IF(VLOOKUP(A74,plan_cuentas,4,FALSE)=\"D\",SUMIFS(Registros!G:G,Registros!B:B,\"<\"&fecha_inicial,Registros!C:C,\"=\"&'01'!A74)-SUMIFS(Registros!H:H,Registros!B:B,\"<\"&fecha_inicial,Registros!C:C,\"=\"&'01'!A74), 0), \"\")","v":0},{"$f":"IF(A74<>\"\",IF(VLOOKUP(A74,plan_cuentas,4,FALSE)=\"H\",SUMIFS(Registros!H:H,Registros!B:B,\"<\"&fecha_inicial,Registros!C:C,\"=\"&'01'!A74)-SUMIFS(Registros!G:G,Registros!B:B,\"<\"&fecha_inicial,Registros!C:C,\"=\"&'01'!A74), 0), \"\")","v":0},{"$f":"IF(A74<>\"\", SUMIFS(Registros!G:G, Registros!B:B, \">=\" & fecha_inicial, Registros!B:B, \"<=\" & fecha_final, Registros!C:C, \"=\" &'01'!A74), 0)","v":0},{"$f":"IF(A74<>\"\", SUMIFS(Registros!H:H, Registros!B:B, \">=\" & fecha_inicial, Registros!B:B, \"<=\" & fecha_final, Registros!C:C, \"=\" &'01'!A74), 0)","v":0},{"$f":"IF(A74<>\"\", IF(VLOOKUP(A74, plan_cuentas, 4, FALSE) = \"D\", C74+E74-F74, 0), 0)","v":0},{"$f":"IF(A74<>\"\", IF(VLOOKUP(A74, plan_cuentas, 4, FALSE) = \"H\", D74-E74+F74, 0), 0)","v":0}]
[500000,"INGRESOS",{"$f":"C76+C84","v":0},10935,0,1746354.23,0,1757289.23]
[510000,"INGRESOS POR DONACIONES",{"$f":"C77+C79+C82","v":0},0,0,1746354.23,0,1746354.23]
[510100,"DONACIONES INTERNACIONALES",{"$f":"SUM(C78)","v":0},0,0,1590848.48,0,1590848.48]
[510101,{"$f":"IFERROR(IF(A78<>\"\", VLOOKUP(A78, plan_cuentas,2, FALSE), \"\"), \"CÓDIGO INCORRECTO\")","v":"DONACIONES E.U.A."},{"$f":"IF(A78<>\"\",IF(VLOOKUP(A78,plan_cuentas,4,FALSE)=\"D\",SUMIFS(Registros!G:G,Registros!B:B,\"<\"&fecha_inicial,Registros!C:C,\"=\"&'01'!A78)-SUMIFS(Registros!H:H,Registros!B:B,\"<\"&fecha_inicial,Registros!C:C,\"=\"&'01'!A78), 0), \"\")","v":0},{"$f":"IF(A78<>\"\",IF(VLOOKUP(A78,plan_cuentas,4,FALSE)=\"H\",SUMIFS(Registros!H:H,Registros!B:B,\"<\"&fecha_inicial,Registros!C:C,\"=\"&'01'!A78)-SUMIFS(Registros!G:G,Registros!B:B,\"<\"&fecha_inicial,Registros!C:C,\"=\"&'01'!A78), 0), \"\")","v":0},{"$f":"IF(A78<>\"\", SUMIFS(Registros!G:G, Registros!B:B, \">=\" & fecha_inicial, Registros!B:B, \"<=\" & fecha_final, Registros!C:C, \"=\" &'01'!A78), 0)","v":0},{"$f":"IF(A78<>\"\", SUMIFS(Registros!H:H, Registros!B:B, \">=\" & fecha_inicial, Registros!B:B, \"<=\" & fecha_final, Registros!C:C, \"=\" &'01'!A78), 0)","v":1590848.48},{"$f":"IF(A78<>\"\", IF(VLOOKUP(A78, plan_cuentas, 4, FALSE) = \"D\", C78+E78-F78, 0), 0)","v":0},{"$f":"IF(A78<>\"\", IF(VLOOKUP(A78, plan_cuentas, 4, FALSE) = \"H\", D78-E78+F78, 0), 0)","v":1590848.48}]
[510200,"DONACIONES NACIONALES",{"$f":"SUM(C80:C81)","v":0},0,0,126959,0,126959]
[510201,"DONACIONES GUBERNAMENTALES",{"$f":"IF(A80<>\"\",IF(VLOOKUP(A80,plan_cuentas,4,FALSE)=\"D\",SUMIFS(Registros!G:G,Registros!B:B,\"<\"&fecha_inicial,Registros!C:C,\"=\"&'01'!A80)-SUMIFS(Registros!H:H,Registros!B:B,\"<\"&fecha_inicial,Registros!C:C,\"=\"&'01'!A80), 0), \"\")","v":0},{"$f":"IF(A80<>\"\",IF(VLOOKUP(A80,plan_cuentas,4,FALSE)=\"H\",SUMIFS(Registros!H:H,Registros!B:B,\"<\"&fecha_inicial,Registros!C:C,\"=\"&'01'!A80)-SUMIFS(Registros!G:G,Registros!B:B,\"<\"&fecha_inicial,Registros!C:C,\"=\"&'01'!A80), 0), \"\")","v":0},{"$f":"IF(A80<>\"\", SUMIFS(Registros!G:G, Registros!B:B, \">=\" & fecha_inicial, Registros!B:B, \"<=\" & fecha_final, Registros!C:C, \"=\" &'01'!A80), 0)","v":0},{"$f":"IF(A80<>\"\", SUMIFS(Registros!H:H, Registros!B:B, \">=\" & fecha_inicial, Registros!B:B, \"<=\" & fecha_final, Registros!C:C, \"=\" &'01'!A80), 0)","v":0},{"$f":"IF(A80<>\"\", IF(VLOOKUP(A80, plan_cuentas, 4, FALSE) = \"D\", C80+E80-F80, 0), 0)","v":0},{"$f":"IF(A80<>\"\", IF(VLOOKUP(A80, plan_cuentas, 4, FALSE) = \"H\", D80-E80+F80, 0), 0)","v":0}]
[510202,"DONACIONES INST. PRIVADAS",{"$f":"IF(A81<>\"\",IF(VLOOKUP(A81,plan_cuentas,4,FALSE)=\"D\",SUMIFS(Registros!G:G,Registros!B:B,\"<\"&fecha_inicial,Registros!C:C,\"=\"&'01'!A81)-SUMIFS(Registros!H:H,Registros!B:B,\"<\"&fecha_inicial,Registros!C:C,\"=\"&'01'!A81), 0), \"\")","v":0},{"$f":"IF(A81<>\"\",IF(VLOOKUP(A81,plan_cuentas,4,FALSE)=\"H\",SUMIFS(Registros!H:H,Registros!B:B,\"<\"&fecha_inicial,Registros!C:C,\"=\"&'01'!A81)-SUMIFS(Registros!G:G,Registros!B:B,\"<\"&fecha_inicial,Registros!C:C,\"=\"&'01'!A81), 0), \"\")","v":0},{"$f":"IF(A81<>\"\", SUMIFS(Registros!G:G, Registros!B:B, \">=\" & fecha_inicial, Registros!B:B, \"<=\" & fecha_final, Registros!C:C, \"=\" &'01'!A81), 0)","v":0},{"$f":"IF(A81<>\"\", SUMIFS(Registros!H:H, Registros!B:B, \">=\" & fecha_inicial, Registros!B:B, \"<=\" & fecha_final, Registros!C:C, \"=\" &'01'!A81), 0)","v":126959},{"$f":"IF(A81<>\"\", IF(VLOOKUP(A81, plan_cuentas, 4, FALSE) = \"D\", C81+E81-F81, 0), 0)","v":0},{"$f":"IF(A81<>\"\", IF(VLOOKUP(A81, plan_cuentas, 4, FALSE) = \"H\", D81-E81+F81, 0), 0)","v":126959}]
[510300,"DONACIONES GRUPOS VOLUNTARIOS",{"$f":"SUM(C83)","v":0},0,0,28546.75,0,28546.75]
[510301,"DONACIONES DE VOLUNTARIOS",{"$f":"IF(A83<>\"\",IF(VLOOKUP(A83,plan_cuentas,4,FALSE)=\"D\",SUMIFS(Registros!G:G,Registros!B:B,\"<\"&fecha_inicial,Registros!C:C,\"=\"&'01'!A83)-SUMIFS(Registros!H:H,Registros!B:B,\"<\"&fecha_inicial,Registros!C:C,\"=\"&'01'!A83), 0), \"\")","v":0},{"$f":"IF(A83<>\"\",IF(VLOOKUP(A83,plan_cuentas,4,FALSE)=\"H\",SUMIFS(Registros!H:H,Registros!B:B,\"<\"&fecha_inicial,Registros!C:C,\"=\"&'01'!A83)-SUMIFS(Registros!G:G,Registros!B:B,\"<\"&fecha_inicial,Registros!C:C,\"=\"&'01'!A83), 0), \"\")","v":0},{"$f":"IF(A83<>\"\", SUMIFS(Registros!G:G, Registros!B:B, \">=\" & fecha_inicial, Registros!B:B, \"<=\" & fecha_final, Registros!C:C, \"=\" &'01'!A83), 0)","v":0},{"$f":"IF(A83<>\"\", SUMIFS(Registros!H:H, Registros!B:B, \">=\" & fecha_inicial, Registros!B:B, \"<=\" & fecha_final, Registros!C:C, \"=\" &'01'!A83), 0)","v":28546.75},{"$f":"IF(A83<>\"\", IF(VLOOKUP(A83, plan_cuentas, 4, FALSE) = \"D\", C83+E83-F83, 0), 0)","v":0},{"$f":"IF(A83<>\"\", IF(VLOOKUP(A83, plan_cuentas, 4, FALSE) = \"H\", D83-E83+F83, 0), 0)","v":28546.75}]
[520000,"OTROS INGRESOS",{"$f":"C85","v":0},10935,0,0,0,10935]
[520100,"OTROS INGRESOS",{"$f":"SUM(C86)","v":0},10935,0,0,0,10935]
[520101,"OTROS INGRESOS",{"$f":"IF(A86<>\"\",IF(VLOOKUP(A86,plan_cuentas,4,FALSE)=\"D\",SUMIFS(Registros!G:G,Registros!B:B,\"<\"&fecha_inicial,Registros!C:C,\"=\"&'01'!A86)-SUMIFS(Registros!H:H,Registros!B:B,\"<\"&fecha_inicial,Registros!C:C,\"=\"&'01'!A86), 0), \"\")","v":0},{"$f":"IF(A86<>\"\",IF(VLOOKUP(A86,plan_cuentas,4,FALSE)=\"H\",SUMIFS(Registros!H:H,Registros!B:B,\"<\"&fecha_inicial,Registros!C:C,\"=\"&'01'!A86)-SUMIFS(Registros!G:G,Registros!B:B,\"<\"&fecha_inicial,Registros!C:C,\"=\"&'01'!A86), 0), \"\")","v":10935},{"$f":"IF(A86<>\"\", SUMIFS(Registros!G:G, Registros!B:B, \">=\" & fecha_inicial, Registros!B:B, \"<=\" & fecha_final, Registros!C:C, \"=\" &'01'!A86), 0)","v":0},{"$f":"IF(A86<>\"\", SUMIFS(Registros!H:H, Registros!B:B, \">=\" & fecha_inicial, Registros!B:B, \"<=\" & fecha_final, Registros!C:C, \"=\" &'01'!A86), 0)","v":0},{"$f":"IF(A86<>\"\", IF(VLOOKUP(A86, plan_cuentas, 4, FALSE) = \"D\", C86+E86-F86, 0), 0)","v":0},{"$f":"IF(A86<>\"\", IF(VLOOKUP(A86, plan_cuentas, 4, FALSE) = \"H\", D86-E86+F86, 0), 0)","v":10935}]
[600000,"GASTOS OPERATIVOS",{"$f":"C88+C116+C121","v":526497.31000000006},0,424728.55,0,951225.85999999987,0]
[610000,"GASTOS ADMINISTRATIVOS OFICINA",{"$f":"C89+C98+C100+C105+C109+C112","v":284067.67000000004},0,187959.08,0,472026.75,0]
[610100,"GASTOS EN REMUNERACIÓN",{"$f":"SUM(C90:C97)","v":207646},0,170716,0,378362,0]
[610101,"SALARIOS",{"$f":"IF(A90<>\"\",IF(VLOOKUP(A90,plan_cuentas,4,FALSE)=\"D\",SUMIFS(Registros!G:G,Registros!B:B,\"<\"&fecha_inicial,Registros!C:C,\"=\"&'01'!A90)-SUMIFS(Registros!H:H,Registros!B:B,\"<\"&fecha_inicial,Registros!C:C,\"=\"&'01'!A90), 0), \"\")","v":35466},{"$f":"IF(A90<>\"\",IF(VLOOKUP(A90,plan_cuentas,4,FALSE)=\"H\",SUMIFS(Registros!H:H,Registros!B:B,\"<\"&fecha_inicial,Registros!C:C,\"=\"&'01'!A90)-SUMIFS(Registros!G:G,Registros!B:B,\"<\"&fecha_inicial,Registros!C:C,\"=\"&'01'!A90), 0), \"\")","v":0},{"$f":"IF(A90<>\"\", SUMIFS(Registros!G:G, Registros!B:B, \">=\" & fecha_inicial, Registros!B:B, \"<=\" & fecha_final, Registros!C:C, \"=\" &'01'!A90), 0)","v":12916},{"$f":"IF(A90<>\"\", SUMIFS(Registros!H:H, Registros!B:B, \">=\" & fecha_inicial, Registros!B:B, \"<=\" & fecha_final, Registros!C:C, \"=\" &'01'!A90), 0)","v":0},{"$f":"IF(A90<>\"\", IF(VLOOKUP(A90, plan_cuentas, 4, FALSE) = \"D\", C90+E90-F90, 0), 0)","v":48382},{"$f":"IF(A90<>\"\", IF(VLOOKUP(A90, plan_cuentas, 4, FALSE) = \"H\", D90-E90+F90, 0), 0)","v":0}]
[610102,"VACACIONES",{"$f":"IF(A91<>\"\",IF(VLOOKUP(A91,plan_cuentas,4,FALSE)=\"D\",SUMIFS(Registros!G:G,Registros!B:B,\"<\"&fecha_inicial,Registros!C:C,\"=\"&'01'!A91)-SUMIFS(Registros!H:H,Registros!B:B,\"<\"&fecha_inicial,Registros!C:C,\"=\"&'01'!A91), 0), \"\")","v":0},{"$f":"IF(A91<>\"\",IF(VLOOKUP(A91,plan_cuentas,4,FALSE)=\"H\",SUMIFS(Registros!H:H,Registros!B:B,\"<\"&fecha_inicial,Registros!C:C,\"=\"&'01'!A91)-SUMIFS(Registros!G:G,Registros!B:B,\"<\"&fecha_inicial,Registros!C:C,\"=\"&'01'!A91), 0), \"\")","v":0},{"$f":"IF(A91<>\"\", SUMIFS(Registros!G:G, Registros!B:B, \">=\" & fecha_inicial, Registros!B:B, \"<=\" & fecha_final, Registros!C:C, \"=\" &'01'!A91), 0)","v":0},{"$f":"IF(A91<>\"\", SUMIFS(Registros!H:H, Registros!B:B, \">=\" & fecha_inicial, Registros!B:B, \"<=\" & fecha_final, Registros!C:C, \"=\" &'01'!A91), 0)","v":0},0,0]
[610103,"DÉCIMO TERCER MES",{"$f":"IF(A92<>\"\",IF(VLOOKUP(A92,plan_cuentas,4,FALSE)=\"D\",SUMIFS(Registros!G:G,Registros!B:B,\"<\"&fecha_inicial,Registros!C:C,\"=\"&'01'!A92)-SUMIFS(Registros!H:H,Registros!B:B,\"<\"&fecha_inicial,Registros!C:C,\"=\"&'01'!A92), 0), \"\")","v":0},{"$f":"IF(A92<>\"\",IF(VLOOKUP(A92,plan_cuentas,4,FALSE)=\"H\",SUMIFS(Registros!H:H,Registros!B:B,\"<\"&fecha_inicial,Registros!C:C,\"=\"&'01'!A92)-SUMIFS(Registros!G:G,Registros!B:B,\"<\"&fecha_inicial,Registros!C:C,\"=\"&'01'!A92), 0), \"\")","v":0},{"$f":"IF(A92<>\"\", SUMIFS(Registros!G:G, Registros!B:B, \">=\" & fecha_inicial, Registros!B:B, \"<=\" & fecha_final, Registros!C:C, \"=\" &'01'!A92), 0)","v":0},{"$f":"IF(A92<>\"\", SUMIFS(Registros!H:H, Registros!B:B, \">=\" & fecha_inicial, Registros!B:B, \"<=\" & fecha_final, Registros!C:C, \"=\" &'01'!A92), 0)","v":0},0,0]
[610104,"INDEMNIZACIONES",{"$f":"IF(A93<>\"\",IF(VLOOKUP(A93,plan_cuentas,4,FALSE)=\"D\",SUMIFS(Registros!G:G,Registros!B:B,\"<\"&fecha_inicial,Registros!C:C,\"=\"&'01'!A93)-SUMIFS(Registros!H:H,Registros!B:B,\"<\"&fecha_inicial,Registros!C:C,\"=\"&'01'!A93), 0), \"\")","v":0},{"$f":"IF(A93<>\"\",IF(VLOOKUP(A93,plan_cuentas,4,FALSE)=\"H\",SUMIFS(Registros!H:H,Registros!B:B,\"<\"&fecha_inicial,Registros!C:C,\"=\"&'01'!A93)-SUMIFS(Registros!G:G,Registros!B:B,\"<\"&fecha_inicial,Registros!C:C,\"=\"&'01'!A93), 0), \"\")","v":0},{"$f":"IF(A93<>\"\", SUMIFS(Registros!G:G, Registros!B:B, \">=\" & fecha_inicial, Registros!B:B, \"<=\" & fecha_final, Registros!C:C, \"=\" &'01'!A93), 0)","v":0},{"$f":"IF(A93<>\"\", SUMIFS(Registros!H:H, Registros!B:B, \">=\" & fecha_inicial, Registros!B:B, \"<=\" & fecha_final, Registros!C:C, \"=\" &'01'!A93), 0)","v":0},0,0]
[610105,"INSS PATRONAL",{"$f":"IF(A94<>\"\",IF(VLOOKUP(A94,plan_cuentas,4,FALSE)=\"D\",SUMIFS(Registros!G:G,Registros!B:B,\"<\"&fecha_inicial,Registros!C:C,\"=\"&'01'!A94)-SUMIFS(Registros!H:H,Registros!B:B,\"<\"&fecha_inicial,Registros!C:C,\"=\"&'01'!A94), 0), \"\")","v":0},{"$f":"IF(A94<>\"\",IF(VLOOKUP(A94,plan_cuentas,4,FALSE)=\"H\",SUMIFS(Registros!H:H,Registros!B:B,\"<\"&fecha_inicial,Registros!C:C,\"=\"&'01'!A94)-SUMIFS(Registros!G:G,Registros!B:B,\"<\"&fecha_inicial,Registros!C:C,\"=\"&'01'!A94), 0), \"\")","v":0},{"$f":"IF(A94<>\"\", SUMIFS(Registros!G:G, Registros!B:B, \">=\" & fecha_inicial, Registros!B:B, \"<=\" & fecha_final, Registros!C:C, \"=\" &'01'!A94), 0)","v":0},{"$f":"IF(A94<>\"\", SUMIFS(Registros!H:H, Registros!B:B, \">=\" & fecha_inicial, Registros!B:B, \"<=\" & fecha_final, Registros!C:C, \"=\" &'01'!A94), 0)","v":0},0,0]
[610106,"APORTE INATEC",{"$f":"IF(A95<>\"\",IF(VLOOKUP(A95,plan_cuentas,4,FALSE)=\"D\",SUMIFS(Registros!G:G,Registros!B:B,\"<\"&fecha_inicial,Registros!C:C,\"=\"&'01'!A95)-SUMIFS(Registros!H:H,Registros!B:B,\"<\"&fecha_inicial,Registros!C:C,\"=\"&'01'!A95), 0), \"\")","v":0},{"$f":"IF(A95<>\"\",IF(VLOOKUP(A95,plan_cuentas,4,FALSE)=\"H\",SUMIFS(Registros!H:H,Registros!B:B,\"<\"&fecha_inicial,Registros!C:C,\"=\"&'01'!A95)-SUMIFS(Registros!G:G,Registros!B:B,\"<\"&fecha_inicial,Registros!C:C,\"=\"&'01'!A95), 0), \"\")","v":0},{"$f":"IF(A95<>\"\", SUMIFS(Registros!G:G, Registros!B:B, \">=\" & fecha_inicial, Registros!B:B, \"<=\" & fecha_final, Registros!C:C, \"=\" &'01'!A95), 0)","v":0},{"$f":"IF(A95<>\"\", SUMIFS(Registros!H:H, Registros!B:B, \">=\" & fecha_inicial, Registros!B:B, \"<=\" & fecha_final, Registros!C:C, \"=\" &'01'!A95), 0)","v":0},0,0]
[610107,"OTROS BENEFICIOS",{"$f":"IF(A96<>\"\",IF(VLOOKUP(A96,plan_cuentas,4,FALSE)=\"D\",SUMIFS(Registros!G:G,Registros!B:B,\"<\"&fecha_inicial,Registros!C:C,\"=\"&'01'!A96)-SUMIFS(Registros!H:H,Registros!B:B,\"<\"&fecha_inicial,Registros!C:C,\"=\"&'01'!A96), 0), \"\")","v":874},{"$f":"IF(A96<>\"\",IF(VLOOKUP(A96,plan_cuentas,4,FALSE)=\"H\",SUMIFS(Registros!H:H,Registros!B:B,\"<\"&fecha_inicial,Registros!C:C,\"=\"&'01'!A96)-SUMIFS(Registros!G:G,Registros!B:B,\"<\"&fecha_inicial,Registros!C:C,\"=\"&'01'!A96), 0), \"\")","v":0},{"$f":"IF(A96<>\"\", SUMIFS(Registros!G:G, Registros!B:B, \">=\" & fecha_inicial, Registros!B:B, \"<=\" & fecha_final, Registros!C:C, \"=\" &'01'!A96), 0)","v":0},{"$f":"IF(A96<>\"\", SUMIFS(Registros!H:H, Registros!B:B, \">=\" & fecha_inicial, Registros!B:B, \"<=\" & fecha_final, Registros!C:C, \"=\" &'01'!A96), 0)","v":0},874,0]
[610108,{"$f":"IFERROR(IF(A97<>\"\", VLOOKUP(A97, plan_cuentas,2, FALSE), \"\"), \"CÓDIGO INCORRECTO\")","v":"OTROS PAGOS "},{"$f":"IF(A97<>\"\",IF(VLOOKUP(A97,plan_cuentas,4,FALSE)=\"D\",SUMIFS(Registros!G:G,Registros!B:B,\"<\"&fecha_inicial,Registros!C:C,\"=\"&'01'!A97)-SUMIFS(Registros!H:H,Registros!B:B,\"<\"&fecha_inicial,Registros!C:C,\"=\"&'01'!A97), 0), \"\")","v":171306},{"$f":"IF(A97<>\"\",IF(VLOOKUP(A97,plan_cuentas,4,FALSE)=\"H\",SUMIFS(Registros!H:H,Registros!B:B,\"<\"&fecha_inicial,Registros!C:C,\"=\"&'01'!A97)-SUMIFS(Registros!G:G,Registros!B:B,\"<\"&fecha_inicial,Registros!C:C,\"=\"&'01'!A97), 0), \"\")","v":0},{"$f":"IF(A97<>\"\", SUMIFS(Registros!G:G, Registros!B:B, \">=\" & fecha_inicial, Registros!B:B, \"<=\" & fecha_final, Registros!C:C, \"=\" &'01'!A97), 0)","v":157800},{"$f":"IF(A97<>\"\", SUMIFS(Registros!H:H, Registros!B:B, \">=\" & fecha_inicial, Registros!B:B, \"<=\" & fecha_final, Registros!C:C, \"=\" &'01'!A97), 0)","v":0},{"$f":"IF(A97<>\"\", IF(VLOOKUP(A97, plan_cuentas, 4, FALSE) = \"D\", C97+E97-F97, 0), 0)","v":329106},{"$f":"IF(A97<>\"\", IF(VLOOKUP(A97, plan_cuentas, 4, FALSE) = \"H\", D97-E97+F97, 0), 0)","v":0}]
[610200,"ALQUILERES",{"$f":"SUM(C99)","v":12926.64},0,5191.82,0,18118.46,0]
[610201,"RENTA DE OFICINA ADMINISTRATIVA",{"$f":"IF(A99<>\"\",IF(VLOOKUP(A99,plan_cuentas,4,FALSE)=\"D\",SUMIFS(Registros!G:G,Registros!B:B,\"<\"&fecha_inicial,Registros!C:C,\"=\"&'01'!A99)-SUMIFS(Registros!H:H,Registros!B:B,\"<\"&fecha_inicial,Registros!C:C,\"=\"&'01'!A99), 0), \"\")","v":12926.64},{"$f":"IF(A99<>\"\",IF(VLOOKUP(A99,plan_cuentas,4,FALSE)=\"H\",SUMIFS(Registros!H:H,Registros!B:B,\"<\"&fecha_inicial,Registros!C:C,\"=\"&'01'!A99)-SUMIFS(Registros!G:G,Registros!B:B,\"<\"&fecha_inicial,Registros!C:C,\"=\"&'01'!A99), 0), \"\")","v":0},{"$f":"IF(A99<>\"\", SUMIFS(Registros!G:G, Registros!B:B, \">=\" & fecha_inicial, Registros!B:B, \"<=\" & fecha_final, Registros!C:C, \"=\" &'01'!A99), 0)","v":5191.82},{"$f":"IF(A99<>\"\", SUMIFS(Registros!H:H, Registros!B:B, \">=\" & fecha_inicial, Registros!B:B, \"<=\" & fecha_final, Registros!C:C, \"=\" &'01'!A99), 0)","v":0},{"$f":"IF(A99<>\"\", IF(VLOOKUP(A99, plan_cuentas, 4, FALSE) = \"D\", C99+E99-F99, 0), 0)","v":18118.46},{"$f":"IF(A99<>\"\", IF(VLOOKUP(A99, plan_cuentas, 4, FALSE) = \"H\", D99-E99+F99, 0), 0)","v":0}]
[610300,"SERVICIOS BÁSICOS",{"$f":"SUM(C101:C104)","v":9522.19},0,1042,0,10564.19,0]
[610301,"SERVICIO ENERGÍA ELÉCTRICA",{"$f":"IF(A101<>\"\",IF(VLOOKUP(A101,plan_cuentas,4,FALSE)=\"D\",SUMIFS(Registros!G:G,Registros!B:B,\"<\"&fecha_inicial,Registros!C:C,\"=\"&'01'!A101)-SUMIFS(Registros!H:H,Registros!B:B,\"<\"&fecha_inicial,Registros!C:C,\"=\"&'01'!A101), 0), \"\")","v":0},{"$f":"IF(A101<>\"\",IF(VLOOKUP(A101,plan_cuentas,4,FALSE)=\"H\",SUMIFS(Registros!H:H,Registros!B:B,\"<\"&fecha_inicial,Registros!C:C,\"=\"&'01'!A101)-SUMIFS(Registros!G:G,Registros!B:B,\"<\"&fecha_inicial,Registros!C:C,\"=\"&'01'!A101), 0), \"\")","v":0},{"$f":"IF(A101<>\"\", SUMIFS(Registros!G:G, Registros!B:B, \">=\" & fecha_inicial, Registros!B:B, \"<=\" & fecha_final, Registros!C:C, \"=\" &'01'!A101), 0)","v":700},{"$f":"IF(A101<>\"\", SUMIFS(Registros!H:H, Registros!B:B, \">=\" & fecha_inicial, Registros!B:B, \"<=\" & fecha_final, Registros!C:C, \"=\" &'01'!A101), 0)","v":0},{"$f":"IF(A101<>\"\", IF(VLOOKUP(A101, plan_cuentas, 4, FALSE) = \"D\", C101+E101-F101, 0), 0)","v":700},{"$f":"IF(A101<>\"\", IF(VLOOKUP(A101, plan_cuentas, 4, FALSE) = \"H\", D101-E101+F101, 0), 0)","v":0}]
[610302,"SERVICIO AGUA POTABLE",{"$f":"IF(A102<>\"\",IF(VLOOKUP(A102,plan_cuentas,4,FALSE)=\"D\",SUMIFS(Registros!G:G,Registros!B:B,\"<\"&fecha_inicial,Registros!C:C,\"=\"&'01'!A102)-SUMIFS(Registros!H:H,Registros!B:B,\"<\"&fecha_inicial,Registros!C:C,\"=\"&'01'!A102), 0), \"\")","v":0},{"$f":"IF(A102<>\"\",IF(VLOOKUP(A102,plan_cuentas,4,FALSE)=\"H\",SUMIFS(Registros!H:H,Registros!B:B,\"<\"&fecha_inicial,Registros!C:C,\"=\"&'01'!A102)-SUMIFS(Registros!G:G,Registros!B:B,\"<\"&fecha_inicial,Registros!C:C,\"=\"&'01'!A102), 0), \"\")","v":0},{"$f":"IF(A102<>\"\", SUMIFS(Registros!G:G, Registros!B:B, \">=\" & fecha_inicial, Registros!B:B, \"<=\" & fecha_final, Registros!C:C, \"=\" &'01'!A102), 0)","v":0},{"$f":"IF(A102<>\"\", SUMIFS(Registros!H:H, Registros!B:B, \">=\" & fecha_inicial, Registros!B:B, \"<=\" & fecha_final, Registros!C:C, \"=\" &'01'!A102), 0)","v":0},{"$f":"IF(A102<>\"\", IF(VLOOKUP(A102, plan_cuentas, 4, FALSE) = \"D\", C102+E102-F102, 0), 0)","v":0},{"$f":"IF(A102<>\"\", IF(VLOOKUP(A102, plan_cuentas, 4, FALSE) = \"H\", D102-E102+F102, 0), 0)","v":0}]
[610303,"TELEFONÍA FIJA Y CELULAR",{"$f":"IF(A103<>\"\",IF(VLOOKUP(A103,plan_cuentas,4,FALSE)=\"D\",SUMIFS(Registros!G:G,Registros!B:B,\"<\"&fecha_inicial,Registros!C:C,\"=\"&'01'!A103)-SUMIFS(Registros!H:H,Registros!B:B,\"<\"&fecha_inicial,Registros!C:C,\"=\"&'01'!A103), 0), \"\")","v":4982.76},{"$f":"IF(A103<>\"\",IF(VLOOKUP(A103,plan_cuentas,4,FALSE)=\"H\",SUMIFS(Registros!H:H,Registros!B:B,\"<\"&fecha_inicial,Registros!C:C,\"=\"&'01'!A103)-SUMIFS(Registros!G:G,Registros!B:B,\"<\"&fecha_inicial,Registros!C:C,\"=\"&'01'!A103), 0), \"\")","v":0},{"$f":"IF(A103<>\"\", SUMIFS(Registros!G:G, Registros!B:B, \">=\" & fecha_inicial, Registros!B:B, \"<=\" & fecha_final, Registros!C:C, \"=\" &'01'!A103), 0)","v":342},{"$f":"IF(A103<>\"\", SUMIFS(Registros!H:H, Registros!B:B, \">=\" & fecha_inicial, Registros!B:B, \"<=\" & fecha_final, Registros!C:C, \"=\" &'01'!A103), 0)","v":0},{"$f":"IF(A103<>\"\", IF(VLOOKUP(A103, plan_cuentas, 4, FALSE) = \"D\", C103+E103-F103, 0), 0)","v":5324.76},{"$f":"IF(A103<>\"\", IF(VLOOKUP(A103, plan_cuentas, 4, FALSE) = \"H\", D103-E103+F103, 0), 0)","v":0}]
[610304,"INTERNET FIJO Y MÓVIL",{"$f":"IF(A104<>\"\",IF(VLOOKUP(A104,plan_cuentas,4,FALSE)=\"D\",SUMIFS(Registros!G:G,Registros!B:B,\"<\"&fecha_inicial,Registros!C:C,\"=\"&'01'!A104)-SUMIFS(Registros!H:H,Registros!B:B,\"<\"&fecha_inicial,Registros!C:C,\"=\"&'01'!A104), 0), \"\")","v":4539.43},{"$f":"IF(A104<>\"\",IF(VLOOKUP(A104,plan_cuentas,4,FALSE)=\"H\",SUMIFS(Registros!H:H,Registros!B:B,\"<\"&fecha_inicial,Registros!C:C,\"=\"&'01'!A104)-SUMIFS(Registros!G:G,Registros!B:B,\"<\"&fecha_inicial,Registros!C:C,\"=\"&'01'!A104), 0), \"\")","v":0},{"$f":"IF(A104<>\"\", SUMIFS(Registros!G:G, Registros!B:B, \">=\" & fecha_inicial, Registros!B:B, \"<=\" & fecha_final, Registros!C:C, \"=\" &'01'!A104), 0)","v":0},{"$f":"IF(A104<>\"\", SUMIFS(Registros!H:H, Registros!B:B, \">=\" & fecha_inicial, Registros!B:B, \"<=\" & fecha_final, Registros!C:C, \"=\" &'01'!A104), 0)","v":0},{"$f":"IF(A104<>\"\", IF(VLOOKUP(A104, plan_cuentas, 4, FALSE) = \"D\", C104+E104-F104, 0), 0)","v":4539.43},{"$f":"IF(A104<>\"\", IF(VLOOKUP(A104, plan_cuentas, 4, FALSE) = \"H\", D104-E104+F104, 0), 0)","v":0}]
[610400,"GASTO EN MATERIALES Y SUMINISTROS",{"$f":"SUM(C106:C108)","v":3777.2},0,3323.84,0,7101.0400000000009,0]
[610401,"PAPELERÍA Y ÚTILES DE OFICINA",{"$f":"IF(A106<>\"\",IF(VLOOKUP(A106,plan_cuentas,4,FALSE)=\"D\",SUMIFS(Registros!G:G,Registros!B:B,\"<\"&fecha_inicial,Registros!C:C,\"=\"&'01'!A106)-SUMIFS(Registros!H:H,Registros!B:B,\"<\"&fecha_inicial,Registros!C:C,\"=\"&'01'!A106), 0), \"\")","v":0},{"$f":"IF(A106<>\"\",IF(VLOOKUP(A106,plan_cuentas,4,FALSE)=\"H\",SUMIFS(Registros!H:H,Registros!B:B,\"<\"&fecha_inicial,Registros!C:C,\"=\"&'01'!A106)-SUMIFS(Registros!G:G,Registros!B:B,\"<\"&fecha_inicial,Registros!C:C,\"=\"&'01'!A106), 0), \"\")","v":0},{"$f":"IF(A106<>\"\", SUMIFS(Registros!G:G, Registros!B:B, \">=\" & fecha_inicial, Registros!B:B, \"<=\" & fecha_final, Registros!C:C, \"=\" &'01'!A106), 0)","v":0},{"$f":"IF(A106<>\"\", SUMIFS(Registros!H:H, Registros!B:B, \">=\" & fecha_inicial, Registros!B:B, \"<=\" & fecha_final, Registros!C:C, \"=\" &'01'!A106), 0)","v":0},{"$f":"IF(A106<>\"\", IF(VLOOKUP(A106, plan_cuentas, 4, FALSE) = \"D\", C106+E106-F106, 0), 0)","v":0},{"$f":"IF(A106<>\"\", IF(VLOOKUP(A106, plan_cuentas, 4, FALSE) = \"H\", D106-E106+F106, 0), 0)","v":0}]
[610402,"PRODUCTOS DE LIMPIEZA",{"$f":"IF(A107<>\"\",IF(VLOOKUP(A107,plan_cuentas,4,FALSE)=\"D\",SUMIFS(Registros!G:G,Registros!B:B,\"<\"&fecha_inicial,Registros!C:C,\"=\"&'01'!A107)-SUMIFS(Registros!H:H,Registros!B:B,\"<\"&fecha_inicial,Registros!C:C,\"=\"&'01'!A107), 0), \"\")","v":1877.2},{"$f":"IF(A107<>\"\",IF(VLOOKUP(A107,plan_cuentas,4,FALSE)=\"H\",SUMIFS(Registros!H:H,Registros!B:B,\"<\"&fecha_inicial,Registros!C:C,\"=\"&'01'!A107)-SUMIFS(Registros!G:G,Registros!B:B,\"<\"&fecha_inicial,Registros!C:C,\"=\"&'01'!A107), 0), \"\")","v":0},{"$f":"IF(A107<>\"\", SUMIFS(Registros!G:G, Registros!B:B, \">=\" & fecha_inicial, Registros!B:B, \"<=\" & fecha_final, Registros!C:C, \"=\" &'01'!A107), 0)","v":1889.9},{"$f":"IF(A107<>\"\", SUMIFS(Registros!H:H, Registros!B:B, \">=\" & fecha_inicial, Registros!B:B, \"<=\" & fecha_final, Registros!C:C, \"=\" &'01'!A107), 0)","v":0},{"$f":"IF(A107<>\"\", IF(VLOOKUP(A107, plan_cuentas, 4, FALSE) = \"D\", C107+E107-F107, 0), 0)","v":3767.1000000000004},{"$f":"IF(A107<>\"\", IF(VLOOKUP(A107, plan_cuentas, 4, FALSE) = \"H\", D107-E107+F107, 0), 0)","v":0}]
[610403,"COMBUSTIBLE",{"$f":"IF(A108<>\"\",IF(VLOOKUP(A108,plan_cuentas,4,FALSE)=\"D\",SUMIFS(Registros!G:G,Registros!B:B,\"<\"&fecha_inicial,Registros!C:C,\"=\"&'01'!A108)-SUMIFS(Registros!H:H,Registros!B:B,\"<\"&fecha_inicial,Registros!C:C,\"=\"&'01'!A108), 0), \"\")","v":1900},{"$f":"IF(A108<>\"\",IF(VLOOKUP(A108,plan_cuentas,4,FALSE)=\"H\",SUMIFS(Registros!H:H,Registros!B:B,\"<\"&fecha_inicial,Registros!C:C,\"=\"&'01'!A108)-SUMIFS(Registros!G:G,Registros!B:B,\"<\"&fecha_inicial,Registros!C:C,\"=\"&'01'!A108), 0), \"\")","v":0},{"$f":"IF(A108<>\"\", SUMIFS(Registros!G:G, Registros!B:B, \">=\" & fecha_inicial, Registros!B:B, \"<=\" & fecha_final, Registros!C:C, \"=\" &'01'!A108), 0)","v":1433.94},{"$f":"IF(A108<>\"\", SUMIFS(Registros!H:H, Registros!B:B, \">=\" & fecha_inicial, Registros!B:B, \"<=\" & fecha_final, Registros!C:C, \"=\" &'01'!A108), 0)","v":0},{"$f":"IF(A108<>\"\", IF(VLOOKUP(A108, plan_cuentas, 4, FALSE) = \"D\", C108+E108-F108, 0), 0)","v":3333.94},{"$f":"IF(A108<>\"\", IF(VLOOKUP(A108, plan_cuentas, 4, FALSE) = \"H\", D108-E108+F108, 0), 0)","v":0}]
[610500,"GASTOS DE MANTENIMIENTO",{"$f":"SUM(C110:C111)","v":21745.03},0,525.33000000000004,0,22270.36,0]
[610501,"MANTENIMIENTO DE EDIFICIOS",{"$f":"IF(A110<>\"\",IF(VLOOKUP(A110,plan_cuentas,4,FALSE)=\"D\",SUMIFS(Registros!G:G,Registros!B:B,\"<\"&fecha_inicial,Registros!C:C,\"=\"&'01'!A110)-SUMIFS(Registros!H:H,Registros!B:B,\"<\"&fecha_inicial,Registros!C:C,\"=\"&'01'!A110), 0), \"\")","v":2000},{"$f":"IF(A110<>\"\",IF(VLOOKUP(A110,plan_cuentas,4,FALSE)=\"H\",SUMIFS(Registros!H:H,Registros!B:B,\"<\"&fecha_inicial,Registros!C:C,\"=\"&'01'!A110)-SUMIFS(Registros!G:G,Registros!B:B,\"<\"&fecha_inicial,Registros!C:C,\"=\"&'01'!A110), 0), \"\")","v":0},{"$f":"IF(A110<>\"\", SUMIFS(Registros!G:G, Registros!B:B, \">=\" & fecha_inicial, Registros!B:B, \"<=\" & fecha_final, Registros!C:C, \"=\" &'01'!A110), 0)","v":0},{"$f":"IF(A110<>\"\", SUMIFS(Registros!H:H, Registros!B:B, \">=\" & fecha_inicial, Registros!B:B, \"<=\" & fecha_final, Registros!C:C, \"=\" &'01'!A110), 0)","v":0},{"$f":"IF(A110<>\"\", IF(VLOOKUP(A110, plan_cuentas, 4, FALSE) = \"D\", C110+E110-F110, 0), 0)","v":2000},{"$f":"IF(A110<>\"\", IF(VLOOKUP(A110, plan_cuentas, 4, FALSE) = \"H\", D110-E110+F110, 0), 0)","v":0}]
[610502,{"$f":"IFERROR(IF(A111<>\"\", VLOOKUP(A111, plan_cuentas,2, FALSE), \"\"), \"CÓDIGO INCORRECTO\")","v":"MANTENIMIENTO DE VEHÍCULOS"},{"$f":"IF(A111<>\"\",IF(VLOOKUP(A111,plan_cuentas,4,FALSE)=\"D\",SUMIFS(Registros!G:G,Registros!B:B,\"<\"&fecha_inicial,Registros!C:C,\"=\"&'01'!A111)-SUMIFS(Registros!H:H,Registros!B:B,\"<\"&fecha_inicial,Registros!C:C,\"=\"&'01'!A111), 0), \"\")","v":19745.03},{"$f":"IF(A111<>\"\",IF(VLOOKUP(A111,plan_cuentas,4,FALSE)=\"H\",SUMIFS(Registros!H:H,Registros!B:B,\"<\"&fecha_inicial,Registros!C:C,\"=\"&'01'!A111)-SUMIFS(Registros!G:G,Registros!B:B,\"<\"&fecha_inicial,Registros!C:C,\"=\"&'01'!A111), 0), \"\")","v":0},{"$f":"IF(A111<>\"\", SUMIFS(Registros!G:G, Registros!B:B, \">=\" & fecha_inicial, Registros!B:B, \"<=\" & fecha_final, Registros!C:C, \"=\" &'01'!A111), 0)","v":525.33000000000004},{"$f":"IF(A111<>\"\", SUMIFS(Registros!H:H, Registros!B:B, \">=\" & fecha_inicial, Registros!B:B, \"<=\" & fecha_final, Registros!C:C, \"=\" &'01'!A111), 0)","v":0},{"$f":"IF(A111<>\"\", IF(VLOOKUP(A111, plan_cuentas, 4, FALSE) = \"D\", C111+E111-F111, 0), 0)","v":20270.36},{"$f":"IF(A111<>\"\", IF(VLOOKUP(A111, plan_cuentas, 4, FALSE) = \"H\", D111-E111+F111, 0), 0)","v":0}]
[610600,"GASTOS VARIOS",{"$f":"SUM(C113:C115)","v":28450.61},{"$f":"SUM(D113:D114)","v":0},{"$f":"SUM(E113:E115)","v":7160.09},{"$f":"SUM(F113:F114)","v":0},{"$f":"SUM(G113:G115)","v":35610.699999999997},{"$f":"SUM(H113:H115)","v":0}]
[610601,{"$f":"IFERROR(IF(A113<>\"\", VLOOKUP(A113, plan_cuentas,2, FALSE), \"\"), \"CÓDIGO INCORRECTO\")","v":"VIÁTICOS ALIMENTACIÓN Y TRANSPORTE"},{"$f":"IF(A113<>\"\",IF(VLOOKUP(A113,plan_cuentas,4,FALSE)=\"D\",SUMIFS(Registros!G:G,Registros!B:B,\"<\"&fecha_inicial,Registros!C:C,\"=\"&'01'!A113)-SUMIFS(Registros!H:H,Registros!B:B,\"<\"&fecha_inicial,Registros!C:C,\"=\"&'01'!A113), 0), \"\")","v":323.39999999999998},{"$f":"IF(A113<>\"\",IF(VLOOKUP(A113,plan_cuentas,4,FALSE)=\"H\",SUMIFS(Registros!H:H,Registros!B:B,\"<\"&fecha_inicial,Registros!C:C,\"=\"&'01'!A113)-SUMIFS(Registros!G:G,Registros!B:B,\"<\"&fecha_inicial,Registros!C:C,\"=\"&'01'!A113), 0), \"\")","v":0},{"$f":"IF(A113<>\"\", SUMIFS(Registros!G:G, Registros!B:B, \">=\" & fecha_inicial, Registros!B:B, \"<=\" & fecha_final, Registros!C:C, \"=\" &'01'!A113), 0)","v":4191.32},{"$f":"IF(A113<>\"\", SUMIFS(Registros!H:H, Registros!B:B, \">=\" & fecha_inicial, Registros!B:B, \"<=\" & fecha_final, Registros!C:C, \"=\" &'01'!A113), 0)","v":0},{"$f":"IF(A113<>\"\", IF(VLOOKUP(A113, plan_cuentas, 4, FALSE) = \"D\", C113+E113-F113, 0), 0)","v":4514.7199999999993},{"$f":"IF(A113<>\"\", IF(VLOOKUP(A113, plan_cuentas, 4, FALSE) = \"H\", D113-E113+F113, 0), 0)","v":0}]
[610602,"GASTOS DE REPRESENTACIÓN",{"$f":"IF(A114<>\"\",IF(VLOOKUP(A114,plan_cuentas,4,FALSE)=\"D\",SUMIFS(Registros!G:G,Registros!B:B,\"<\"&fecha_inicial,Registros!C:C,\"=\"&'01'!A114)-SUMIFS(Registros!H:H,Registros!B:B,\"<\"&fecha_inicial,Registros!C:C,\"=\"&'01'!A114), 0), \"\")","v":28127.21},{"$f":"IF(A114<>\"\",IF(VLOOKUP(A114,plan_cuentas,4,FALSE)=\"H\",SUMIFS(Registros!H:H,Registros!B:B,\"<\"&fecha_inicial,Registros!C:C,\"=\"&'01'!A114)-SUMIFS(Registros!G:G,Registros!B:B,\"<\"&fecha_inicial,Registros!C:C,\"=\"&'01'!A114), 0), \"\")","v":0},{"$f":"IF(A114<>\"\", SUMIFS(Registros!G:G, Registros!B:B, \">=\" & fecha_inicial, Registros!B:B, \"<=\" & fecha_final, Registros!C:C, \"=\" &'01'!A114), 0)","v":2968.77},{"$f":"IF(A114<>\"\", SUMIFS(Registros!H:H, Registros!B:B, \">=\" & fecha_inicial, Registros!B:B, \"<=\" & fecha_final, Registros!C:C, \"=\" &'01'!A114), 0)","v":0},{"$f":"IF(A114<>\"\", IF(VLOOKUP(A114, plan_cuentas, 4, FALSE) = \"D\", C114+E114-F114, 0), 0)","v":31095.98},{"$f":"IF(A114<>\"\", IF(VLOOKUP(A114, plan_cuentas, 4, FALSE) = \"H\", D114-E114+F114, 0), 0)","v":0}]
[610603,"GASTOS VARIOS ADMINISTRATIVOS"]
[620000,"DEPRECIACIÓN",{"$f":"C117+C119","v":0},0,0,0,0,0]
[620100,"DEPRECIACIÓN DE MOBILIARIO",{"$f":"SUM(C118)","v":0},0,0,0,0,0]
[620101,"DEPRECIACIÓN DE MUEBLES Y ENSERES",{"$f":"IF(A118<>\"\",IF(VLOOKUP(A118,plan_cuentas,4,FALSE)=\"D\",SUMIFS(Registros!G:G,Registros!B:B,\"<\"&fecha_inicial,Registros!C:C,\"=\"&'01'!A118)-SUMIFS(Registros!H:H,Registros!B:B,\"<\"&fecha_inicial,Registros!C:C,\"=\"&'01'!A118), 0), \"\")","v":0},{"$f":"IF(A118<>\"\",IF(VLOOKUP(A118,plan_cuentas,4,FALSE)=\"H\",SUMIFS(Registros!H:H,Registros!B:B,\"<\"&fecha_inicial,Registros!C:C,\"=\"&'01'!A118)-SUMIFS(Registros!G:G,Registros!B:B,\"<\"&fecha_inicial,Registros!C:C,\"=\"&'01'!A118), 0), \"\")","v":0},{"$f":"IF(A118<>\"\", SUMIFS(Registros!G:G, Registros!B:B, \">=\" & fecha_inicial, Registros!B:B, \"<=\" & fecha_final, Registros!C:C, \"=\" &'01'!A118), 0)","v":0},{"$f":"IF(A118<>\"\", SUMIFS(Registros!H:H, Registros!B:B, \">=\" & fecha_inicial, Registros!B:B, \"<=\" & fecha_final, Registros!C:C, \"=\" &'01'!A118), 0)","v":0},{"$f":"IF(A118<>\"\", IF(VLOOKUP(A118, plan_cuentas, 4, FALSE) = \"D\", C118+E118-F118, 0), 0)","v":0},{"$f":"IF(A118<>\"\", IF(VLOOKUP(A118, plan_cuentas, 4, FALSE) = \"H\", D118-E118+F118, 0), 0)","v":0}]
[620200,"DEPRECIACIÓN DE EQUIPO",{"$f":"SUM(C120)","v":0},0,0,0,0,0]
[620201,"DEPRECIACIÓN EQUIPO INFORMÁTICO",{"$f":"IF(A120<>\"\",IF(VLOOKUP(A120,plan_cuentas,4,FALSE)=\"D\",SUMIFS(Registros!G:G,Registros!B:B,\"<\"&fecha_inicial,Registros!C:C,\"=\"&'01'!A120)-SUMIFS(Registros!H:H,Registros!B:B,\"<\"&fecha_inicial,Registros!C:C,\"=\"&'01'!A120), 0), \"\")","v":0},{"$f":"IF(A120<>\"\",IF(VLOOKUP(A120,plan_cuentas,4,FALSE)=\"H\",SUMIFS(Registros!H:H,Registros!B:B,\"<\"&fecha_inicial,Registros!C:C,\"=\"&'01'!A120)-SUMIFS(Registros!G:G,Registros!B:B,\"<\"&fecha_inicial,Registros!C:C,\"=\"&'01'!A120), 0), \"\")","v":0},{"$f":"IF(A120<>\"\", SUMIFS(Registros!G:G, Registros!B:B, \">=\" & fecha_inicial, Registros!B:B, \"<=\" & fecha_final, Registros!C:C, \"=\" &'01'!A120), 0)","v":0},{"$f":"IF(A120<>\"\", SUMIFS(Registros!H:H, Registros!B:B, \">=\" & fecha_inicial, Registros!B:B, \"<=\" & fecha_final, Registros!C:C, \"=\" &'01'!A120), 0)","v":0},{"$f":"IF(A120<>\"\", IF(VLOOKUP(A120, plan_cuentas, 4, FALSE) = \"D\", C120+E120-F120, 0), 0)","v":0},{"$f":"IF(A120<>\"\", IF(VLOOKUP(A120, plan_cuentas, 4, FALSE) = \"H\", D120-E120+F120, 0), 0)","v":0}]
[630000,"GASTOS DE PROYECTOS",{"$f":"C122+C128+C138+C147+C153","v":242429.64},0,236769.47,0,479199.10999999993,0]
[630100,"PROYECTO PARQUE DEPORTIVO",{"$f":"SUM(C123:C127)","v":7017.62},0,2269.31,0,9286.93,0]
[630101,"ADMINISTRATIVOS Y GENERALES",{"$f":"IF(A123<>\"\",IF(VLOOKUP(A123,plan_cuentas,4,FALSE)=\"D\",SUMIFS(Registros!G:G,Registros!B:B,\"<\"&fecha_inicial,Registros!C:C,\"=\"&'01'!A123)-SUMIFS(Registros!H:H,Registros!B:B,\"<\"&fecha_inicial,Registros!C:C,\"=\"&'01'!A123), 0), \"\")","v":0},{"$f":"IF(A123<>\"\",IF(VLOOKUP(A123,plan_cuentas,4,FALSE)=\"H\",SUMIFS(Registros!H:H,Registros!B:B,\"<\"&fecha_inicial,Registros!C:C,\"=\"&'01'!A123)-SUMIFS(Registros!G:G,Registros!B:B,\"<\"&fecha_inicial,Registros!C:C,\"=\"&'01'!A123), 0), \"\")","v":0},{"$f":"IF(A123<>\"\", SUMIFS(Registros!G:G, Registros!B:B, \">=\" & fecha_inicial, Registros!B:B, \"<=\" & fecha_final, Registros!C:C, \"=\" &'01'!A123), 0)","v":769.31},{"$f":"IF(A123<>\"\", SUMIFS(Registros!H:H, Registros!B:B, \">=\" & fecha_inicial, Registros!B:B, \"<=\" & fecha_final, Registros!C:C, \"=\" &'01'!A123), 0)","v":0},{"$f":"IF(A123<>\"\", IF(VLOOKUP(A123, plan_cuentas, 4, FALSE) = \"D\", C123+E123-F123, 0), 0)","v":769.31},{"$f":"IF(A123<>\"\", IF(VLOOKUP(A123, plan_cuentas, 4, FALSE) = \"H\", D123-E123+F123, 0), 0)","v":0}]
[630102,{"$f":"IFERROR(IF(A124<>\"\", VLOOKUP(A124, plan_cuentas,2, FALSE), \"\"), \"CÓDIGO INCORRECTO\")","v":"GASTOS VARIOS"},{"$f":"IF(A124<>\"\",IF(VLOOKUP(A124,plan_cuentas,4,FALSE)=\"D\",SUMIFS(Registros!G:G,Registros!B:B,\"<\"&fecha_inicial,Registros!C:C,\"=\"&'01'!A124)-SUMIFS(Registros!H:H,Registros!B:B,\"<\"&fecha_inicial,Registros!C:C,\"=\"&'01'!A124), 0), \"\")","v":6757.62},{"$f":"IF(A124<>\"\",IF(VLOOKUP(A124,plan_cuentas,4,FALSE)=\"H\",SUMIFS(Registros!H:H,Registros!B:B,\"<\"&fecha_inicial,Registros!C:C,\"=\"&'01'!A124)-SUMIFS(Registros!G:G,Registros!B:B,\"<\"&fecha_inicial,Registros!C:C,\"=\"&'01'!A124), 0), \"\")","v":0},{"$f":"IF(A124<>\"\", SUMIFS(Registros!G:G, Registros!B:B, \">=\" & fecha_inicial, Registros!B:B, \"<=\" & fecha_final, Registros!C:C, \"=\" &'01'!A124), 0)","v":0},{"$f":"IF(A124<>\"\", SUMIFS(Registros!H:H, Registros!B:B, \">=\" & fecha_inicial, Registros!B:B, \"<=\" & fecha_final, Registros!C:C, \"=\" &'01'!A124), 0)","v":0},{"$f":"IF(A124<>\"\", IF(VLOOKUP(A124, plan_cuentas, 4, FALSE) = \"D\", C124+E124-F124, 0), 0)","v":6757.62},{"$f":"IF(A124<>\"\", IF(VLOOKUP(A124, plan_cuentas, 4, FALSE) = \"H\", D124-E124+F124, 0), 0)","v":0}]
[630103,{"$f":"IFERROR(IF(A125<>\"\", VLOOKUP(A125, plan_cuentas,2, FALSE), \"\"), \"CÓDIGO INCORRECTO\")","v":"APORTE SOCIAL"},{"$f":"IF(A125<>\"\",IF(VLOOKUP(A125,plan_cuentas,4,FALSE)=\"D\",SUMIFS(Registros!G:G,Registros!B:B,\"<\"&fecha_inicial,Registros!C:C,\"=\"&'01'!A125)-SUMIFS(Registros!H:H,Registros!B:B,\"<\"&fecha_inicial,Registros!C:C,\"=\"&'01'!A125), 0), \"\")","v":0},{"$f":"IF(A125<>\"\",IF(VLOOKUP(A125,plan_cuentas,4,FALSE)=\"H\",SUMIFS(Registros!H:H,Registros!B:B,\"<\"&fecha_inicial,Registros!C:C,\"=\"&'01'!A125)-SUMIFS(Registros!G:G,Registros!B:B,\"<\"&fecha_inicial,Registros!C:C,\"=\"&'01'!A125), 0), \"\")","v":0},{"$f":"IF(A125<>\"\", SUMIFS(Registros!G:G, Registros!B:B, \">=\" & fecha_inicial, Registros!B:B, \"<=\" & fecha_final, Registros!C:C, \"=\" &'01'!A125), 0)","v":1200},{"$f":"IF(A125<>\"\", SUMIFS(Registros!H:H, Registros!B:B, \">=\" & fecha_inicial, Registros!B:B, \"<=\" & fecha_final, Registros!C:C, \"=\" &'01'!A125), 0)","v":0},{"$f":"IF(A125<>\"\", IF(VLOOKUP(A125, plan_cuentas, 4, FALSE) = \"D\", C125+E125-F125, 0), 0)","v":1200},{"$f":"IF(A125<>\"\", IF(VLOOKUP(A125, plan_cuentas, 4, FALSE) = \"H\", D125-E125+F125, 0), 0)","v":0}]
[630104,{"$f":"IFERROR(IF(A126<>\"\", VLOOKUP(A126, plan_cuentas,2, FALSE), \"\"), \"CÓDIGO INCORRECTO\")","v":"GASTO POR MANTO. DE LOCAL"},{"$f":"IF(A126<>\"\",IF(VLOOKUP(A126,plan_cuentas,4,FALSE)=\"D\",SUMIFS(Registros!G:G,Registros!B:B,\"<\"&fecha_inicial,Registros!C:C,\"=\"&'01'!A126)-SUMIFS(Registros!H:H,Registros!B:B,\"<\"&fecha_inicial,Registros!C:C,\"=\"&'01'!A126), 0), \"\")","v":0},{"$f":"IF(A126<>\"\",IF(VLOOKUP(A126,plan_cuentas,4,FALSE)=\"H\",SUMIFS(Registros!H:H,Registros!B:B,\"<\"&fecha_inicial,Registros!C:C,\"=\"&'01'!A126)-SUMIFS(Registros!G:G,Registros!B:B,\"<\"&fecha_inicial,Registros!C:C,\"=\"&'01'!A126), 0), \"\")","v":0},{"$f":"IF(A126<>\"\", SUMIFS(Registros!G:G, Registros!B:B, \">=\" & fecha_inicial, Registros!B:B, \"<=\" & fecha_final, Registros!C:C, \"=\" &'01'!A126), 0)","v":0},{"$f":"IF(A126<>\"\", SUMIFS(Registros!H:H, Registros!B:B, \">=\" & fecha_inicial, Registros!B:B, \"<=\" & fecha_final, Registros!C:C, \"=\" &'01'!A126), 0)","v":0},{"$f":"IF(A126<>\"\", IF(VLOOKUP(A126, plan_cuentas, 4, FALSE) = \"D\", C126+E126-F126, 0), 0)","v":0},{"$f":"IF(A126<>\"\", IF(VLOOKUP(A126, plan_cuentas, 4, FALSE) = \"H\", D126-E126+F126, 0), 0)","v":0}]
[630105,{"$f":"IFERROR(IF(A127<>\"\", VLOOKUP(A127, plan_cuentas,2, FALSE), \"\"), \"CÓDIGO INCORRECTO\")","v":"VIATICOS DE ALIMENTACIÓN Y TRANSPORTE"},{"$f":"IF(A127<>\"\",IF(VLOOKUP(A127,plan_cuentas,4,FALSE)=\"D\",SUMIFS(Registros!G:G,Registros!B:B,\"<\"&fecha_inicial,Registros!C:C,\"=\"&'01'!A127)-SUMIFS(Registros!H:H,Registros!B:B,\"<\"&fecha_inicial,Registros!C:C,\"=\"&'01'!A127), 0), \"\")","v":260},{"$f":"IF(A127<>\"\",IF(VLOOKUP(A127,plan_cuentas,4,FALSE)=\"H\",SUMIFS(Registros!H:H,Registros!B:B,\"<\"&fecha_inicial,Registros!C:C,\"=\"&'01'!A127)-SUMIFS(Registros!G:G,Registros!B:B,\"<\"&fecha_inicial,Registros!C:C,\"=\"&'01'!A127), 0), \"\")","v":0},{"$f":"IF(A127<>\"\", SUMIFS(Registros!G:G, Registros!B:B, \">=\" & fecha_inicial, Registros!B:B, \"<=\" & fecha_final, Registros!C:C, \"=\" &'01'!A127), 0)","v":300},{"$f":"IF(A127<>\"\", SUMIFS(Registros!H:H, Registros!B:B, \">=\" & fecha_inicial, Registros!B:B, \"<=\" & fecha_final, Registros!C:C, \"=\" &'01'!A127), 0)","v":0},{"$f":"IF(A127<>\"\", IF(VLOOKUP(A127, plan_cuentas, 4, FALSE) = \"D\", C127+E127-F127, 0), 0)","v":560},{"$f":"IF(A127<>\"\", IF(VLOOKUP(A127, plan_cuentas, 4, FALSE) = \"H\", D127-E127+F127, 0), 0)","v":0}]
[630200,{"$f":"IFERROR(IF(A128<>\"\", VLOOKUP(A128, plan_cuentas,2, FALSE), \"\"), \"CÓDIGO INCORRECTO\")","v":"PROYECTO CAMPO VERDE"},{"$f":"SUM(C129:C137)","v":41743.100000000006},0,25274.949999999997,0,67018.049999999988,0]
[630201,"ADMINISTRATIVOS Y GENERALES",{"$f":"IF(A129<>\"\",IF(VLOOKUP(A129,plan_cuentas,4,FALSE)=\"D\",SUMIFS(Registros!G:G,Registros!B:B,\"<\"&fecha_inicial,Registros!C:C,\"=\"&'01'!A129)-SUMIFS(Registros!H:H,Registros!B:B,\"<\"&fecha_inicial,Registros!C:C,\"=\"&'01'!A129), 0), \"\")","v":0},{"$f":"IF(A129<>\"\",IF(VLOOKUP(A129,plan_cuentas,4,FALSE)=\"H\",SUMIFS(Registros!H:H,Registros!B:B,\"<\"&fecha_inicial,Registros!C:C,\"=\"&'01'!A129)-SUMIFS(Registros!G:G,Registros!B:B,\"<\"&fecha_inicial,Registros!C:C,\"=\"&'01'!A129), 0), \"\")","v":0},{"$f":"IF(A129<>\"\", SUMIFS(Registros!G:G, Registros!B:B, \">=\" & fecha_inicial, Registros!B:B, \"<=\" & fecha_final, Registros!C:C, \"=\" &'01'!A129), 0)","v":3985},{"$f":"IF(A129<>\"\", SUMIFS(Registros!H:H, Registros!B:B, \">=\" & fecha_inicial, Registros!B:B, \"<=\" & fecha_final, Registros!C:C, \"=\" &'01'!A129), 0)","v":0},{"$f":"IF(A129<>\"\", IF(VLOOKUP(A129, plan_cuentas, 4, FALSE) = \"D\", C129+E129-F129, 0), 0)","v":3985},{"$f":"IF(A129<>\"\", IF(VLOOKUP(A129, plan_cuentas, 4, FALSE) = \"H\", D129-E129+F129, 0), 0)","v":0}]
[630202,"GASTOS VARIOS",{"$f":"IF(A130<>\"\",IF(VLOOKUP(A130,plan_cuentas,4,FALSE)=\"D\",SUMIFS(Registros!G:G,Registros!B:B,\"<\"&fecha_inicial,Registros!C:C,\"=\"&'01'!A130)-SUMIFS(Registros!H:H,Registros!B:B,\"<\"&fecha_inicial,Registros!C:C,\"=\"&'01'!A130), 0), \"\")","v":36},{"$f":"IF(A130<>\"\",IF(VLOOKUP(A130,plan_cuentas,4,FALSE)=\"H\",SUMIFS(Registros!H:H,Registros!B:B,\"<\"&fecha_inicial,Registros!C:C,\"=\"&'01'!A130)-SUMIFS(Registros!G:G,Registros!B:B,\"<\"&fecha_inicial,Registros!C:C,\"=\"&'01'!A130), 0), \"\")","v":0},{"$f":"IF(A130<>\"\", SUMIFS(Registros!G:G, Registros!B:B, \">=\" & fecha_inicial, Registros!B:B, \"<=\" & fecha_final, Registros!C:C, \"=\" &'01'!A130), 0)","v":427},{"$f":"IF(A130<>\"\", SUMIFS(Registros!H:H, Registros!B:B, \">=\" & fecha_inicial, Registros!B:B, \"<=\" & fecha_final, Registros!C:C, \"=\" &'01'!A130), 0)","v":0},463,0]
[630203,"APORTE SOCIAL",{"$f":"IF(A131<>\"\",IF(VLOOKUP(A131,plan_cuentas,4,FALSE)=\"D\",SUMIFS(Registros!G:G,Registros!B:B,\"<\"&fecha_inicial,Registros!C:C,\"=\"&'01'!A131)-SUMIFS(Registros!H:H,Registros!B:B,\"<\"&fecha_inicial,Registros!C:C,\"=\"&'01'!A131), 0), \"\")","v":6272.3},{"$f":"IF(A131<>\"\",IF(VLOOKUP(A131,plan_cuentas,4,FALSE)=\"H\",SUMIFS(Registros!H:H,Registros!B:B,\"<\"&fecha_inicial,Registros!C:C,\"=\"&'01'!A131)-SUMIFS(Registros!G:G,Registros!B:B,\"<\"&fecha_inicial,Registros!C:C,\"=\"&'01'!A131), 0), \"\")","v":0},{"$f":"IF(A131<>\"\", SUMIFS(Registros!G:G, Registros!B:B, \">=\" & fecha_inicial, Registros!B:B, \"<=\" & fecha_final, Registros!C:C, \"=\" &'01'!A131), 0)","v":3965},{"$f":"IF(A131<>\"\", SUMIFS(Registros!H:H, Registros!B:B, \">=\" & fecha_inicial, Registros!B:B, \"<=\" & fecha_final, Registros!C:C, \"=\" &'01'!A131), 0)","v":0},10237.299999999999,0]
[630204,"SERVICIO DE TRANSPORTE",{"$f":"IF(A132<>\"\",IF(VLOOKUP(A132,plan_cuentas,4,FALSE)=\"D\",SUMIFS(Registros!G:G,Registros!B:B,\"<\"&fecha_inicial,Registros!C:C,\"=\"&'01'!A132)-SUMIFS(Registros!H:H,Registros!B:B,\"<\"&fecha_inicial,Registros!C:C,\"=\"&'01'!A132), 0), \"\")","v":0},{"$f":"IF(A132<>\"\",IF(VLOOKUP(A132,plan_cuentas,4,FALSE)=\"H\",SUMIFS(Registros!H:H,Registros!B:B,\"<\"&fecha_inicial,Registros!C:C,\"=\"&'01'!A132)-SUMIFS(Registros!G:G,Registros!B:B,\"<\"&fecha_inicial,Registros!C:C,\"=\"&'01'!A132), 0), \"\")","v":0},{"$f":"IF(A132<>\"\", SUMIFS(Registros!G:G, Registros!B:B, \">=\" & fecha_inicial, Registros!B:B, \"<=\" & fecha_final, Registros!C:C, \"=\" &'01'!A132), 0)","v":4800},{"$f":"IF(A132<>\"\", SUMIFS(Registros!H:H, Registros!B:B, \">=\" & fecha_inicial, Registros!B:B, \"<=\" & fecha_final, Registros!C:C, \"=\" &'01'!A132), 0)","v":0},4800,0]
[630205,"SERVICIO DE HOSPEDAJE",{"$f":"IF(A133<>\"\",IF(VLOOKUP(A133,plan_cuentas,4,FALSE)=\"D\",SUMIFS(Registros!G:G,Registros!B:B,\"<\"&fecha_inicial,Registros!C:C,\"=\"&'01'!A133)-SUMIFS(Registros!H:H,Registros!B:B,\"<\"&fecha_inicial,Registros!C:C,\"=\"&'01'!A133), 0), \"\")","v":0},{"$f":"IF(A133<>\"\",IF(VLOOKUP(A133,plan_cuentas,4,FALSE)=\"H\",SUMIFS(Registros!H:H,Registros!B:B,\"<\"&fecha_inicial,Registros!C:C,\"=\"&'01'!A133)-SUMIFS(Registros!G:G,Registros!B:B,\"<\"&fecha_inicial,Registros!C:C,\"=\"&'01'!A133), 0), \"\")","v":0},{"$f":"IF(A133<>\"\", SUMIFS(Registros!G:G, Registros!B:B, \">=\" & fecha_inicial, Registros!B:B, \"<=\" & fecha_final, Registros!C:C, \"=\" &'01'!A133), 0)","v":760},{"$f":"IF(A133<>\"\", SUMIFS(Registros!H:H, Registros!B:B, \">=\" & fecha_inicial, Registros!B:B, \"<=\" & fecha_final, Registros!C:C, \"=\" &'01'!A133), 0)","v":0},760,0]
[630206,"VIATICOS DE ALIMENTANCIÓN Y TRANSPORTE",{"$f":"IF(A134<>\"\",IF(VLOOKUP(A134,plan_cuentas,4,FALSE)=\"D\",SUMIFS(Registros!G:G,Registros!B:B,\"<\"&fecha_inicial,Registros!C:C,\"=\"&'01'!A134)-SUMIFS(Registros!H:H,Registros!B:B,\"<\"&fecha_inicial,Registros!C:C,\"=\"&'01'!A134), 0), \"\")","v":1400},{"$f":"IF(A134<>\"\",IF(VLOOKUP(A134,plan_cuentas,4,FALSE)=\"H\",SUMIFS(Registros!H:H,Registros!B:B,\"<\"&fecha_inicial,Registros!C:C,\"=\"&'01'!A134)-SUMIFS(Registros!G:G,Registros!B:B,\"<\"&fecha_inicial,Registros!C:C,\"=\"&'01'!A134), 0), \"\")","v":0},{"$f":"IF(A134<>\"\", SUMIFS(Registros!G:G, Registros!B:B, \">=\" & fecha_inicial, Registros!B:B, \"<=\" & fecha_final, Registros!C:C, \"=\" &'01'!A134), 0)","v":1081},{"$f":"IF(A134<>\"\", SUMIFS(Registros!H:H, Registros!B:B, \">=\" & fecha_inicial, Registros!B:B, \"<=\" & fecha_final, Registros!C:C, \"=\" &'01'!A134), 0)","v":0},2481,0]
[630207,"INSUMOS Y SUMINISTRO CAMPO VERDE",{"$f":"IF(A135<>\"\",IF(VLOOKUP(A135,plan_cuentas,4,FALSE)=\"D\",SUMIFS(Registros!G:G,Registros!B:B,\"<\"&fecha_inicial,Registros!C:C,\"=\"&'01'!A135)-SUMIFS(Registros!H:H,Registros!B:B,\"<\"&fecha_inicial,Registros!C:C,\"=\"&'01'!A135), 0), \"\")","v":31337},{"$f":"IF(A135<>\"\",IF(VLOOKUP(A135,plan_cuentas,4,FALSE)=\"H\",SUMIFS(Registros!H:H,Registros!B:B,\"<\"&fecha_inicial,Registros!C:C,\"=\"&'01'!A135)-SUMIFS(Registros!G:G,Registros!B:B,\"<\"&fecha_inicial,Registros!C:C,\"=\"&'01'!A135), 0), \"\")","v":0},{"$f":"IF(A135<>\"\", SUMIFS(Registros!G:G, Registros!B:B, \">=\" & fecha_inicial, Registros!B:B, \"<=\" & fecha_final, Registros!C:C, \"=\" &'01'!A135), 0)","v":1311.35},{"$f":"IF(A135<>\"\", SUMIFS(Registros!H:H, Registros!B:B, \">=\" & fecha_inicial, Registros!B:B, \"<=\" & fecha_final, Registros!C:C, \"=\" &'01'!A135), 0)","v":0},32648.35,0]
[630208,{"$f":"IFERROR(IF(A136<>\"\", VLOOKUP(A136, plan_cuentas,2, FALSE), \"\"), \"CÓDIGO INCORRECTO\")","v":"COMBUSTIBLE "},{"$f":"IF(A136<>\"\",IF(VLOOKUP(A136,plan_cuentas,4,FALSE)=\"D\",SUMIFS(Registros!G:G,Registros!B:B,\"<\"&fecha_inicial,Registros!C:C,\"=\"&'01'!A136)-SUMIFS(Registros!H:H,Registros!B:B,\"<\"&fecha_inicial,Registros!C:C,\"=\"&'01'!A136), 0), \"\")","v":1600},{"$f":"IF(A136<>\"\",IF(VLOOKUP(A136,plan_cuentas,4,FALSE)=\"H\",SUMIFS(Registros!H:H,Registros!B:B,\"<\"&fecha_inicial,Registros!C:C,\"=\"&'01'!A136)-SUMIFS(Registros!G:G,Registros!B:B,\"<\"&fecha_inicial,Registros!C:C,\"=\"&'01'!A136), 0), \"\")","v":0},{"$f":"IF(A136<>\"\", SUMIFS(Registros!G:G, Registros!B:B, \">=\" & fecha_inicial, Registros!B:B, \"<=\" & fecha_final, Registros!C:C, \"=\" &'01'!A136), 0)","v":1300},{"$f":"IF(A136<>\"\", SUMIFS(Registros!H:H, Registros!B:B, \">=\" & fecha_inicial, Registros!B:B, \"<=\" & fecha_final, Registros!C:C, \"=\" &'01'!A136), 0)","v":0},{"$f":"IF(A136<>\"\", IF(VLOOKUP(A136, plan_cuentas, 4, FALSE) = \"D\", C136+E136-F136, 0), 0)","v":2900},{"$f":"IF(A136<>\"\", IF(VLOOKUP(A136, plan_cuentas, 4, FALSE) = \"H\", D136-E136+F136, 0), 0)","v":0}]
[630209,{"$f":"IFERROR(IF(A137<>\"\", VLOOKUP(A137, plan_cuentas,2, FALSE), \"\"), \"CÓDIGO INCORRECTO\")","v":"OTROS PAGOS"},{"$f":"IF(A137<>\"\",IF(VLOOKUP(A137,plan_cuentas,4,FALSE)=\"D\",SUMIFS(Registros!G:G,Registros!B:B,\"<\"&fecha_inicial,Registros!C:C,\"=\"&'01'!A137)-SUMIFS(Registros!H:H,Registros!B:B,\"<\"&fecha_inicial,Registros!C:C,\"=\"&'01'!A137), 0), \"\")","v":1097.8},{"$f":"IF(A137<>\"\",IF(VLOOKUP(A137,plan_cuentas,4,FALSE)=\"H\",SUMIFS(Registros!H:H,Registros!B:B,\"<\"&fecha_inicial,Registros!C:C,\"=\"&'01'!A137)-SUMIFS(Registros!G:G,Registros!B:B,\"<\"&fecha_inicial,Registros!C:C,\"=\"&'01'!A137), 0), \"\")","v":0},{"$f":"IF(A137<>\"\", SUMIFS(Registros!G:G, Registros!B:B, \">=\" & fecha_inicial, Registros!B:B, \"<=\" & fecha_final, Registros!C:C, \"=\" &'01'!A137), 0)","v":7645.6},{"$f":"IF(A137<>\"\", SUMIFS(Registros!H:H, Registros!B:B, \">=\" & fecha_inicial, Registros!B:B, \"<=\" & fecha_final, Registros!C:C, \"=\" &'01'!A137), 0)","v":0},{"$f":"IF(A137<>\"\", IF(VLOOKUP(A137, plan_cuentas, 4, FALSE) = \"D\", C137+E137-F137, 0), 0)","v":8743.4},{"$f":"IF(A137<>\"\", IF(VLOOKUP(A137, plan_cuentas, 4, FALSE) = \"H\", D137-E137+F137, 0), 0)","v":0}]
[630300,{"$f":"IFERROR(IF(A138<>\"\", VLOOKUP(A138, plan_cuentas,2, FALSE), \"\"), \"CÓDIGO INCORRECTO\")","v":"PROYECTO TURISMO SOSTENIBLE"},{"$f":"SUM(C139:C146)","v":169529.07},0,203209.05,0,372738.12,0]
[630301,"ADMINISTRATIVOS Y GENERALES",{"$f":"IF(A139<>\"\",IF(VLOOKUP(A139,plan_cuentas,4,FALSE)=\"D\",SUMIFS(Registros!G:G,Registros!B:B,\"<\"&fecha_inicial,Registros!C:C,\"=\"&'01'!A139)-SUMIFS(Registros!H:H,Registros!B:B,\"<\"&fecha_inicial,Registros!C:C,\"=\"&'01'!A139), 0), \"\")","v":0},{"$f":"IF(A139<>\"\",IF(VLOOKUP(A139,plan_cuentas,4,FALSE)=\"H\",SUMIFS(Registros!H:H,Registros!B:B,\"<\"&fecha_inicial,Registros!C:C,\"=\"&'01'!A139)-SUMIFS(Registros!G:G,Registros!B:B,\"<\"&fecha_inicial,Registros!C:C,\"=\"&'01'!A139), 0), \"\")","v":0},{"$f":"IF(A139<>\"\", SUMIFS(Registros!G:G, Registros!B:B, \">=\" & fecha_inicial, Registros!B:B, \"<=\" & fecha_final, Registros!C:C, \"=\" &'01'!A139), 0)","v":400},{"$f":"IF(A139<>\"\", SUMIFS(Registros!H:H, Registros!B:B, \">=\" & fecha_inicial, Registros!B:B, \"<=\" & fecha_final, Registros!C:C, \"=\" &'01'!A139), 0)","v":0},{"$f":"IF(A139<>\"\", IF(VLOOKUP(A139, plan_cuentas, 4, FALSE) = \"D\", C139+E139-F139, 0), 0)","v":400},{"$f":"IF(A139<>\"\", IF(VLOOKUP(A139, plan_cuentas, 4, FALSE) = \"H\", D139-E139+F139, 0), 0)","v":0}]
[630302,"GASTOS VARIOS",{"$f":"IF(A140<>\"\",IF(VLOOKUP(A140,plan_cuentas,4,FALSE)=\"D\",SUMIFS(Registros!G:G,Registros!B:B,\"<\"&fecha_inicial,Registros!C:C,\"=\"&'01'!A140)-SUMIFS(Registros!H:H,Registros!B:B,\"<\"&fecha_inicial,Registros!C:C,\"=\"&'01'!A140), 0), \"\")","v":8841},{"$f":"IF(A140<>\"\",IF(VLOOKUP(A140,plan_cuentas,4,FALSE)=\"H\",SUMIFS(Registros!H:H,Registros!B:B,\"<\"&fecha_inicial,Registros!C:C,\"=\"&'01'!A140)-SUMIFS(Registros!G:G,Registros!B:B,\"<\"&fecha_inicial,Registros!C:C,\"=\"&'01'!A140), 0), \"\")","v":0},{"$f":"IF(A140<>\"\", SUMIFS(Registros!G:G, Registros!B:B, \">=\" & fecha_inicial, Registros!B:B, \"<=\" & fecha_final, Registros!C:C, \"=\" &'01'!A140), 0)","v":3375.83},{"$f":"IF(A140<>\"\", SUMIFS(Registros!H:H, Registros!B:B, \">=\" & fecha_inicial, Registros!B:B, \"<=\" & fecha_final, Registros!C:C, \"=\" &'01'!A140), 0)","v":0},12216.83,0]
[630303,"SERVICIO DE TRANSPORTE ",{"$f":"IF(A141<>\"\",IF(VLOOKUP(A141,plan_cuentas,4,FALSE)=\"D\",SUMIFS(Registros!G:G,Registros!B:B,\"<\"&fecha_inicial,Registros!C:C,\"=\"&'01'!A141)-SUMIFS(Registros!H:H,Registros!B:B,\"<\"&fecha_inicial,Registros!C:C,\"=\"&'01'!A141), 0), \"\")","v":33417.31},{"$f":"IF(A141<>\"\",IF(VLOOKUP(A141,plan_cuentas,4,FALSE)=\"H\",SUMIFS(Registros!H:H,Registros!B:B,\"<\"&fecha_inicial,Registros!C:C,\"=\"&'01'!A141)-SUMIFS(Registros!G:G,Registros!B:B,\"<\"&fecha_inicial,Registros!C:C,\"=\"&'01'!A141), 0), \"\")","v":0},{"$f":"IF(A141<>\"\", SUMIFS(Registros!G:G, Registros!B:B, \">=\" & fecha_inicial, Registros!B:B, \"<=\" & fecha_final, Registros!C:C, \"=\" &'01'!A141), 0)","v":33841.800000000003},{"$f":"IF(A141<>\"\", SUMIFS(Registros!H:H, Registros!B:B, \">=\" & fecha_inicial, Registros!B:B, \"<=\" & fecha_final, Registros!C:C, \"=\" &'01'!A141), 0)","v":0},67259.11,0]
[630304,"SERVICIOS DE HOSPEDAJE",{"$f":"IF(A142<>\"\",IF(VLOOKUP(A142,plan_cuentas,4,FALSE)=\"D\",SUMIFS(Registros!G:G,Registros!B:B,\"<\"&fecha_inicial,Registros!C:C,\"=\"&'01'!A142)-SUMIFS(Registros!H:H,Registros!B:B,\"<\"&fecha_inicial,Registros!C:C,\"=\"&'01'!A142), 0), \"\")","v":104351.51000000001},{"$f":"IF(A142<>\"\",IF(VLOOKUP(A142,plan_cuentas,4,FALSE)=\"H\",SUMIFS(Registros!H:H,Registros!B:B,\"<\"&fecha_inicial,Registros!C:C,\"=\"&'01'!A142)-SUMIFS(Registros!G:G,Registros!B:B,\"<\"&fecha_inicial,Registros!C:C,\"=\"&'01'!A142), 0), \"\")","v":0},{"$f":"IF(A142<>\"\", SUMIFS(Registros!G:G, Registros!B:B, \">=\" & fecha_inicial, Registros!B:B, \"<=\" & fecha_final, Registros!C:C, \"=\" &'01'!A142), 0)","v":97507.29},{"$f":"IF(A142<>\"\", SUMIFS(Registros!H:H, Registros!B:B, \">=\" & fecha_inicial, Registros!B:B, \"<=\" & fecha_final, Registros!C:C, \"=\" &'01'!A142), 0)","v":0},201858.8,0]
[630305,{"$f":"IFERROR(IF(A143<>\"\", VLOOKUP(A143, plan_cuentas,2, FALSE), \"\"), \"CÓDIGO INCORRECTO\")","v":"SERVICIO DE ALIMENTACIÓN"},{"$f":"IF(A143<>\"\",IF(VLOOKUP(A143,plan_cuentas,4,FALSE)=\"D\",SUMIFS(Registros!G:G,Registros!B:B,\"<\"&fecha_inicial,Registros!C:C,\"=\"&'01'!A143)-SUMIFS(Registros!H:H,Registros!B:B,\"<\"&fecha_inicial,Registros!C:C,\"=\"&'01'!A143), 0), \"\")","v":0},{"$f":"IF(A143<>\"\",IF(VLOOKUP(A143,plan_cuentas,4,FALSE)=\"H\",SUMIFS(Registros!H:H,Registros!B:B,\"<\"&fecha_inicial,Registros!C:C,\"=\"&'01'!A143)-SUMIFS(Registros!G:G,Registros!B:B,\"<\"&fecha_inicial,Registros!C:C,\"=\"&'01'!A143), 0), \"\")","v":0},{"$f":"IF(A143<>\"\", SUMIFS(Registros!G:G, Registros!B:B, \">=\" & fecha_inicial, Registros!B:B, \"<=\" & fecha_final, Registros!C:C, \"=\" &'01'!A143), 0)","v":21113.49},{"$f":"IF(A143<>\"\", SUMIFS(Registros!H:H, Registros!B:B, \">=\" & fecha_inicial, Registros!B:B, \"<=\" & fecha_final, Registros!C:C, \"=\" &'01'!A143), 0)","v":0},21113.49,0]
[630306,"ACTIVIDADES SOCIALES ",{"$f":"IF(A144<>\"\",IF(VLOOKUP(A144,plan_cuentas,4,FALSE)=\"D\",SUMIFS(Registros!G:G,Registros!B:B,\"<\"&fecha_inicial,Registros!C:C,\"=\"&'01'!A144)-SUMIFS(Registros!H:H,Registros!B:B,\"<\"&fecha_inicial,Registros!C:C,\"=\"&'01'!A144), 0), \"\")","v":0},{"$f":"IF(A144<>\"\",IF(VLOOKUP(A144,plan_cuentas,4,FALSE)=\"H\",SUMIFS(Registros!H:H,Registros!B:B,\"<\"&fecha_inicial,Registros!C:C,\"=\"&'01'!A144)-SUMIFS(Registros!G:G,Registros!B:B,\"<\"&fecha_inicial,Registros!C:C,\"=\"&'01'!A144), 0), \"\")","v":0},{"$f":"IF(A144<>\"\", SUMIFS(Registros!G:G, Registros!B:B, \">=\" & fecha_inicial, Registros!B:B, \"<=\" & fecha_final, Registros!C:C, \"=\" &'01'!A144), 0)","v":31190.639999999999},{"$f":"IF(A144<>\"\", SUMIFS(Registros!H:H, Registros!B:B, \">=\" & fecha_inicial, Registros!B:B, \"<=\" & fecha_final, Registros!C:C, \"=\" &'01'!A144), 0)","v":0},31190.639999999999,0]
[630307,{"$f":"IFERROR(IF(A145<>\"\", VLOOKUP(A145, plan_cuentas,2, FALSE), \"\"), \"CÓDIGO INCORRECTO\")","v":"OTROS PAGOS"},{"$f":"IF(A145<>\"\",IF(VLOOKUP(A145,plan_cuentas,4,FALSE)=\"D\",SUMIFS(Registros!G:G,Registros!B:B,\"<\"&fecha_inicial,Registros!C:C,\"=\"&'01'!A145)-SUMIFS(Registros!H:H,Registros!B:B,\"<\"&fecha_inicial,Registros!C:C,\"=\"&'01'!A145), 0), \"\")","v":17678.22},{"$f":"IF(A145<>\"\",IF(VLOOKUP(A145,plan_cuentas,4,FALSE)=\"H\",SUMIFS(Registros!H:H,Registros!B:B,\"<\"&fecha_inicial,Registros!C:C,\"=\"&'01'!A145)-SUMIFS(Registros!G:G,Registros!B:B,\"<\"&fecha_inicial,Registros!C:C,\"=\"&'01'!A145), 0), \"\")","v":0},{"$f":"IF(A145<>\"\", SUMIFS(Registros!G:G, Registros!B:B, \">=\" & fecha_inicial, Registros!B:B, \"<=\" & fecha_final, Registros!C:C, \"=\" &'01'!A145), 0)","v":15780},{"$f":"IF(A145<>\"\", SUMIFS(Registros!H:H, Registros!B:B, \">=\" & fecha_inicial, Registros!B:B, \"<=\" & fecha_final, Registros!C:C, \"=\" &'01'!A145), 0)","v":0},{"$f":"IF(A145<>\"\", IF(VLOOKUP(A145, plan_cuentas, 4, FALSE) = \"D\", C145+E145-F145, 0), 0)","v":33458.22},{"$f":"IF(A145<>\"\", IF(VLOOKUP(A145, plan_cuentas, 4, FALSE) = \"H\", D145-E145+F145, 0), 0)","v":0}]
[630308,{"$f":"IFERROR(IF(A146<>\"\", VLOOKUP(A146, plan_cuentas,2, FALSE), \"\"), \"CÓDIGO INCORRECTO\")","v":"APORTE SOCIAL"},{"$f":"IF(A146<>\"\",IF(VLOOKUP(A146,plan_cuentas,4,FALSE)=\"D\",SUMIFS(Registros!G:G,Registros!B:B,\"<\"&fecha_inicial,Registros!C:C,\"=\"&'01'!A146)-SUMIFS(Registros!H:H,Registros!B:B,\"<\"&fecha_inicial,Registros!C:C,\"=\"&'01'!A146), 0), \"\")","v":5241.03},{"$f":"IF(A146<>\"\",IF(VLOOKUP(A146,plan_cuentas,4,FALSE)=\"H\",SUMIFS(Registros!H:H,Registros!B:B,\"<\"&fecha_inicial,Registros!C:C,\"=\"&'01'!A146)-SUMIFS(Registros!G:G,Registros!B:B,\"<\"&fecha_inicial,Registros!C:C,\"=\"&'01'!A146), 0), \"\")","v":0},{"$f":"IF(A146<>\"\", SUMIFS(Registros!G:G, Registros!B:B, \">=\" & fecha_inicial, Registros!B:B, \"<=\" & fecha_final, Registros!C:C, \"=\" &'01'!A146), 0)","v":0},{"$f":"IF(A146<>\"\", SUMIFS(Registros!H:H, Registros!B:B, \">=\" & fecha_inicial, Registros!B:B, \"<=\" & fecha_final, Registros!C:C, \"=\" &'01'!A146), 0)","v":0},{"$f":"IF(A146<>\"\", IF(VLOOKUP(A146, plan_cuentas, 4, FALSE) = \"D\", C146+E146-F146, 0), 0)","v":5241.03},{"$f":"IF(A146<>\"\", IF(VLOOKUP(A146, plan_cuentas, 4, FALSE) = \"H\", D146-E146+F146, 0), 0)","v":0}]
[630400,{"$f":"IFERROR(IF(A147<>\"\", VLOOKUP(A147, plan_cuentas,2, FALSE), \"\"), \"CÓDIGO INCORRECTO\")","v":"PROYECTO NICA AGUA"},{"$f":"SUM(C148:C152)","v":11206.1},0,0,0,11206.1,0]
[630401,"ADMINISTRATIVOS Y GENERALES",{"$f":"IF(A148<>\"\",IF(VLOOKUP(A148,plan_cuentas,4,FALSE)=\"D\",SUMIFS(Registros!G:G,Registros!B:B,\"<\"&fecha_inicial,Registros!C:C,\"=\"&'01'!A148)-SUMIFS(Registros!H:H,Registros!B:B,\"<\"&fecha_inicial,Registros!C:C,\"=\"&'01'!A148), 0), \"\")","v":1800},{"$f":"IF(A148<>\"\",IF(VLOOKUP(A148,plan_cuentas,4,FALSE)=\"H\",SUMIFS(Registros!H:H,Registros!B:B,\"<\"&fecha_inicial,Registros!C:C,\"=\"&'01'!A148)-SUMIFS(Registros!G:G,Registros!B:B,\"<\"&fecha_inicial,Registros!C:C,\"=\"&'01'!A148), 0), \"\")","v":0},{"$f":"IF(A148<>\"\", SUMIFS(Registros!G:G, Registros!B:B, \">=\" & fecha_inicial, Registros!B:B, \"<=\" & fecha_final, Registros!C:C, \"=\" &'01'!A148), 0)","v":0},{"$f":"IF(A148<>\"\", SUMIFS(Registros!H:H, Registros!B:B, \">=\" & fecha_inicial, Registros!B:B, \"<=\" & fecha_final, Registros!C:C, \"=\" &'01'!A148), 0)","v":0},{"$f":"IF(A148<>\"\", IF(VLOOKUP(A148, plan_cuentas, 4, FALSE) = \"D\", C148+E148-F148, 0), 0)","v":1800},{"$f":"IF(A148<>\"\", IF(VLOOKUP(A148, plan_cuentas, 4, FALSE) = \"H\", D148-E148+F148, 0), 0)","v":0}]
[630402,"VIATICOS ",{"$f":"IF(A149<>\"\",IF(VLOOKUP(A149,plan_cuentas,4,FALSE)=\"D\",SUMIFS(Registros!G:G,Registros!B:B,\"<\"&fecha_inicial,Registros!C:C,\"=\"&'01'!A149)-SUMIFS(Registros!H:H,Registros!B:B,\"<\"&fecha_inicial,Registros!C:C,\"=\"&'01'!A149), 0), \"\")","v":1000},{"$f":"IF(A149<>\"\",IF(VLOOKUP(A149,plan_cuentas,4,FALSE)=\"H\",SUMIFS(Registros!H:H,Registros!B:B,\"<\"&fecha_inicial,Registros!C:C,\"=\"&'01'!A149)-SUMIFS(Registros!G:G,Registros!B:B,\"<\"&fecha_inicial,Registros!C:C,\"=\"&'01'!A149), 0), \"\")","v":0},{"$f":"IF(A149<>\"\", SUMIFS(Registros!G:G, Registros!B:B, \">=\" & fecha_inicial, Registros!B:B, \"<=\" & fecha_final, Registros!C:C, \"=\" &'01'!A149), 0)","v":0},{"$f":"IF(A149<>\"\", SUMIFS(Registros!H:H, Registros!B:B, \">=\" & fecha_inicial, Registros!B:B, \"<=\" & fecha_final, Registros!C:C, \"=\" &'01'!A149), 0)","v":0},{"$f":"IF(A149<>\"\", IF(VLOOKUP(A149, plan_cuentas, 4, FALSE) = \"D\", C149+E149-F149, 0), 0)","v":1000},{"$f":"IF(A149<>\"\", IF(VLOOKUP(A149, plan_cuentas, 4, FALSE) = \"H\", D149-E149+F149, 0), 0)","v":0}]
[630403,"GASTO DE TRANSPORTE AEREO",{"$f":"IF(A150<>\"\",IF(VLOOKUP(A150,plan_cuentas,4,FALSE)=\"D\",SUMIFS(Registros!G:G,Registros!B:B,\"<\"&fecha_inicial,Registros!C:C,\"=\"&'01'!A150)-SUMIFS(Registros!H:H,Registros!B:B,\"<\"&fecha_inicial,Registros!C:C,\"=\"&'01'!A150), 0), \"\")","v":0},{"$f":"IF(A150<>\"\",IF(VLOOKUP(A150,plan_cuentas,4,FALSE)=\"H\",SUMIFS(Registros!H:H,Registros!B:B,\"<\"&fecha_inicial,Registros!C:C,\"=\"&'01'!A150)-SUMIFS(Registros!G:G,Registros!B:B,\"<\"&fecha_inicial,Registros!C:C,\"=\"&'01'!A150), 0), \"\")","v":0},{"$f":"IF(A150<>\"\", SUMIFS(Registros!G:G, Registros!B:B, \">=\" & fecha_inicial, Registros!B:B, \"<=\" & fecha_final, Registros!C:C, \"=\" &'01'!A150), 0)","v":0},{"$f":"IF(A150<>\"\", SUMIFS(Registros!H:H, Registros!B:B, \">=\" & fecha_inicial, Registros!B:B, \"<=\" & fecha_final, Registros!C:C, \"=\" &'01'!A150), 0)","v":0},{"$f":"IF(A150<>\"\", IF(VLOOKUP(A150, plan_cuentas, 4, FALSE) = \"D\", C150+E150-F150, 0), 0)","v":0},{"$f":"IF(A150<>\"\", IF(VLOOKUP(A150, plan_cuentas, 4, FALSE) = \"H\", D150-E150+F150, 0), 0)","v":0}]
[630404,{"$f":"IFERROR(IF(A151<>\"\", VLOOKUP(A151, plan_cuentas,2, FALSE), \"\"), \"CÓDIGO INCORRECTO\")","v":"SERVICIO DE TRANSPORTE"},{"$f":"IF(A151<>\"\",IF(VLOOKUP(A151,plan_cuentas,4,FALSE)=\"D\",SUMIFS(Registros!G:G,Registros!B:B,\"<\"&fecha_inicial,Registros!C:C,\"=\"&'01'!A151)-SUMIFS(Registros!H:H,Registros!B:B,\"<\"&fecha_inicial,Registros!C:C,\"=\"&'01'!A151), 0), \"\")","v":4906.1000000000004},{"$f":"IF(A151<>\"\",IF(VLOOKUP(A151,plan_cuentas,4,FALSE)=\"H\",SUMIFS(Registros!H:H,Registros!B:B,\"<\"&fecha_inicial,Registros!C:C,\"=\"&'01'!A151)-SUMIFS(Registros!G:G,Registros!B:B,\"<\"&fecha_inicial,Registros!C:C,\"=\"&'01'!A151), 0), \"\")","v":0},{"$f":"IF(A151<>\"\", SUMIFS(Registros!G:G, Registros!B:B, \">=\" & fecha_inicial, Registros!B:B, \"<=\" & fecha_final, Registros!C:C, \"=\" &'01'!A151), 0)","v":0},{"$f":"IF(A151<>\"\", SUMIFS(Registros!H:H, Registros!B:B, \">=\" & fecha_inicial, Registros!B:B, \"<=\" & fecha_final, Registros!C:C, \"=\" &'01'!A151), 0)","v":0},{"$f":"IF(A151<>\"\", IF(VLOOKUP(A151, plan_cuentas, 4, FALSE) = \"D\", C151+E151-F151, 0), 0)","v":4906.1000000000004},{"$f":"IF(A151<>\"\", IF(VLOOKUP(A151, plan_cuentas, 4, FALSE) = \"H\", D151-E151+F151, 0), 0)","v":0}]
[630405,"VIATICOS DE ALIMENTACIÓN Y TRANSPORTE",{"$f":"IF(A152<>\"\",IF(VLOOKUP(A152,plan_cuentas,4,FALSE)=\"D\",SUMIFS(Registros!G:G,Registros!B:B,\"<\"&fecha_inicial,Registros!C:C,\"=\"&'01'!A152)-SUMIFS(Registros!H:H,Registros!B:B,\"<\"&fecha_inicial,Registros!C:C,\"=\"&'01'!A152), 0), \"\")","v":3500},{"$f":"IF(A152<>\"\",IF(VLOOKUP(A152,plan_cuentas,4,FALSE)=\"H\",SUMIFS(Registros!H:H,Registros!B:B,\"<\"&fecha_inicial,Registros!C:C,\"=\"&'01'!A152)-SUMIFS(Registros!G:G,Registros!B:B,\"<\"&fecha_inicial,Registros!C:C,\"=\"&'01'!A152), 0), \"\")","v":0},{"$f":"IF(A152<>\"\", SUMIFS(Registros!G:G, Registros!B:B, \">=\" & fecha_inicial, Registros!B:B, \"<=\" & fecha_final, Registros!C:C, \"=\" &'01'!A152), 0)","v":0},{"$f":"IF(A152<>\"\", SUMIFS(Registros!H:H, Registros!B:B, \">=\" & fecha_inicial, Registros!B:B, \"<=\" & fecha_final, Registros!C:C, \"=\" &'01'!A152), 0)","v":0},{"$f":"IF(A152<>\"\", IF(VLOOKUP(A152, plan_cuentas, 4, FALSE) = \"D\", C152+E152-F152, 0), 0)","v":3500},{"$f":"IF(A152<>\"\", IF(VLOOKUP(A152, plan_cuentas, 4, FALSE) = \"H\", D152-E152+F152, 0), 0)","v":0}]
[630500,"PROYECTO CLINICA LOS ROBLES",{"$f":"SUM(C154:C159)","v":12933.75},0,6016.16,0,18949.91,0]
[630501,"COMBUSTIBLE",{"$f":"IF(A154<>\"\",IF(VLOOKUP(A154,plan_cuentas,4,FALSE)=\"D\",SUMIFS(Registros!G:G,Registros!B:B,\"<\"&fecha_inicial,Registros!C:C,\"=\"&'01'!A154)-SUMIFS(Registros!H:H,Registros!B:B,\"<\"&fecha_inicial,Registros!C:C,\"=\"&'01'!A154), 0), \"\")","v":6110},{"$f":"IF(A154<>\"\",IF(VLOOKUP(A154,plan_cuentas,4,FALSE)=\"H\",SUMIFS(Registros!H:H,Registros!B:B,\"<\"&fecha_inicial,Registros!C:C,\"=\"&'01'!A154)-SUMIFS(Registros!G:G,Registros!B:B,\"<\"&fecha_inicial,Registros!C:C,\"=\"&'01'!A154), 0), \"\")","v":0},{"$f":"IF(A154<>\"\", SUMIFS(Registros!G:G, Registros!B:B, \">=\" & fecha_inicial, Registros!B:B, \"<=\" & fecha_final, Registros!C:C, \"=\" &'01'!A154), 0)","v":4080.75},{"$f":"IF(A154<>\"\", SUMIFS(Registros!H:H, Registros!B:B, \">=\" & fecha_inicial, Registros!B:B, \"<=\" & fecha_final, Registros!C:C, \"=\" &'01'!A154), 0)","v":0},{"$f":"IF(A154<>\"\", IF(VLOOKUP(A154, plan_cuentas, 4, FALSE) = \"D\", C154+E154-F154, 0), 0)","v":10190.75},{"$f":"IF(A154<>\"\", IF(VLOOKUP(A154, plan_cuentas, 4, FALSE) = \"H\", D154-E154+F154, 0), 0)","v":0}]
[630502,"VIATICOS DE ALIMENTACIÓN",{"$f":"IF(A155<>\"\",IF(VLOOKUP(A155,plan_cuentas,4,FALSE)=\"D\",SUMIFS(Registros!G:G,Registros!B:B,\"<\"&fecha_inicial,Registros!C:C,\"=\"&'01'!A155)-SUMIFS(Registros!H:H,Registros!B:B,\"<\"&fecha_inicial,Registros!C:C,\"=\"&'01'!A155), 0), \"\")","v":6823.75},{"$f":"IF(A155<>\"\",IF(VLOOKUP(A155,plan_cuentas,4,FALSE)=\"H\",SUMIFS(Registros!H:H,Registros!B:B,\"<\"&fecha_inicial,Registros!C:C,\"=\"&'01'!A155)-SUMIFS(Registros!G:G,Registros!B:B,\"<\"&fecha_inicial,Registros!C:C,\"=\"&'01'!A155), 0), \"\")","v":0},{"$f":"IF(A155<>\"\", SUMIFS(Registros!G:G, Registros!B:B, \">=\" & fecha_inicial, Registros!B:B, \"<=\" & fecha_final, Registros!C:C, \"=\" &'01'!A155), 0)","v":1935.4099999999999},{"$f":"IF(A155<>\"\", SUMIFS(Registros!H:H, Registros!B:B, \">=\" & fecha_inicial, Registros!B:B, \"<=\" & fecha_final, Registros!C:C, \"=\" &'01'!A155), 0)","v":0},8759.16,0]
[630503,"INSUMOS MÉDICOS",{"$f":"IF(A156<>\"\",IF(VLOOKUP(A156,plan_cuentas,4,FALSE)=\"D\",SUMIFS(Registros!G:G,Registros!B:B,\"<\"&fecha_inicial,Registros!C:C,\"=\"&'01'!A156)-SUMIFS(Registros!H:H,Registros!B:B,\"<\"&fecha_inicial,Registros!C:C,\"=\"&'01'!A156), 0), \"\")","v":0},{"$f":"IF(A156<>\"\",IF(VLOOKUP(A156,plan_cuentas,4,FALSE)=\"H\",SUMIFS(Registros!H:H,Registros!B:B,\"<\"&fecha_inicial,Registros!C:C,\"=\"&'01'!A156)-SUMIFS(Registros!G:G,Registros!B:B,\"<\"&fecha_inicial,Registros!C:C,\"=\"&'01'!A156), 0), \"\")","v":0},{"$f":"IF(A156<>\"\", SUMIFS(Registros!G:G, Registros!B:B, \">=\" & fecha_inicial, Registros!B:B, \"<=\" & fecha_final, Registros!C:C, \"=\" &'01'!A156), 0)","v":0},{"$f":"IF(A156<>\"\", SUMIFS(Registros!H:H, Registros!B:B, \">=\" & fecha_inicial, Registros!B:B, \"<=\" & fecha_final, Registros!C:C, \"=\" &'01'!A156), 0)","v":0},0,0]
[630504,"PAPELERÍA ",{"$f":"IF(A157<>\"\",IF(VLOOKUP(A157,plan_cuentas,4,FALSE)=\"D\",SUMIFS(Registros!G:G,Registros!B:B,\"<\"&fecha_inicial,Registros!C:C,\"=\"&'01'!A157)-SUMIFS(Registros!H:H,Registros!B:B,\"<\"&fecha_inicial,Registros!C:C,\"=\"&'01'!A157), 0), \"\")","v":0},{"$f":"IF(A157<>\"\",IF(VLOOKUP(A157,plan_cuentas,4,FALSE)=\"H\",SUMIFS(Registros!H:H,Registros!B:B,\"<\"&fecha_inicial,Registros!C:C,\"=\"&'01'!A157)-SUMIFS(Registros!G:G,Registros!B:B,\"<\"&fecha_inicial,Registros!C:C,\"=\"&'01'!A157), 0), \"\")","v":0},{"$f":"IF(A157<>\"\", SUMIFS(Registros!G:G, Registros!B:B, \">=\" & fecha_inicial, Registros!B:B, \"<=\" & fecha_final, Registros!C:C, \"=\" &'01'!A157), 0)","v":0},{"$f":"IF(A157<>\"\", SUMIFS(Registros!H:H, Registros!B:B, \">=\" & fecha_inicial, Registros!B:B, \"<=\" & fecha_final, Registros!C:C, \"=\" &'01'!A157), 0)","v":0},0,0]
[630505,"EQUIPOS Y MOBILIARIOS",{"$f":"IF(A158<>\"\",IF(VLOOKUP(A158,plan_cuentas,4,FALSE)=\"D\",SUMIFS(Registros!G:G,Registros!B:B,\"<\"&fecha_inicial,Registros!C:C,\"=\"&'01'!A158)-SUMIFS(Registros!H:H,Registros!B:B,\"<\"&fecha_inicial,Registros!C:C,\"=\"&'01'!A158), 0), \"\")","v":0},{"$f":"IF(A158<>\"\",IF(VLOOKUP(A158,plan_cuentas,4,FALSE)=\"H\",SUMIFS(Registros!H:H,Registros!B:B,\"<\"&fecha_inicial,Registros!C:C,\"=\"&'01'!A158)-SUMIFS(Registros!G:G,Registros!B:B,\"<\"&fecha_inicial,Registros!C:C,\"=\"&'01'!A158), 0), \"\")","v":0},{"$f":"IF(A158<>\"\", SUMIFS(Registros!G:G, Registros!B:B, \">=\" & fecha_inicial, Registros!B:B, \"<=\" & fecha_final, Registros!C:C, \"=\" &'01'!A158), 0)","v":0},{"$f":"IF(A158<>\"\", SUMIFS(Registros!H:H, Registros!B:B, \">=\" & fecha_inicial, Registros!B:B, \"<=\" & fecha_final, Registros!C:C, \"=\" &'01'!A158), 0)","v":0},0,0]
[630506,"SUMINISTROS DE LIMPIEZA",{"$f":"IF(A159<>\"\",IF(VLOOKUP(A159,plan_cuentas,4,FALSE)=\"D\",SUMIFS(Registros!G:G,Registros!B:B,\"<\"&fecha_inicial,Registros!C:C,\"=\"&'01'!A159)-SUMIFS(Registros!H:H,Registros!B:B,\"<\"&fecha_inicial,Registros!C:C,\"=\"&'01'!A159), 0), \"\")","v":0},{"$f":"IF(A159<>\"\",IF(VLOOKUP(A159,plan_cuentas,4,FALSE)=\"H\",SUMIFS(Registros!H:H,Registros!B:B,\"<\"&fecha_inicial,Registros!C:C,\"=\"&'01'!A159)-SUMIFS(Registros!G:G,Registros!B:B,\"<\"&fecha_inicial,Registros!C:C,\"=\"&'01'!A159), 0), \"\")","v":0},{"$f":"IF(A159<>\"\", SUMIFS(Registros!G:G, Registros!B:B, \">=\" & fecha_inicial, Registros!B:B, \"<=\" & fecha_final, Registros!C:C, \"=\" &'01'!A159), 0)","v":0},{"$f":"IF(A159<>\"\", SUMIFS(Registros!H:H, Registros!B:B, \">=\" & fecha_inicial, Registros!B:B, \"<=\" & fecha_final, Registros!C:C, \"=\" &'01'!A159), 0)","v":0},0,0]
[700000,{"$f":"IFERROR(IF(A160<>\"\", VLOOKUP(A160, plan_cuentas,2, FALSE), \"\"), \"CÓDIGO INCORRECTO\")","v":"GASTOS FINANCIEROS"},{"$f":"C161","v":0},0,0,0,0,0]
[710000,"COMISIONES BANCARIAS",0,0,0,0,0,0]
[710100,"CARGOS CUENTAS CORRIENTES",{"$f":"SUM(C163:C165)","v":0},0,0,0,0,0]
[710101,"CTA. CTE. 356894501 C$",{"$f":"IF(A163<>\"\",IF(VLOOKUP(A163,plan_cuentas,4,FALSE)=\"D\",SUMIFS(Registros!G:G,Registros!B:B,\"<\"&fecha_inicial,Registros!C:C,\"=\"&'01'!A163)-SUMIFS(Registros!H:H,Registros!B:B,\"<\"&fecha_inicial,Registros!C:C,\"=\"&'01'!A163), 0), \"\")","v":0},{"$f":"IF(A163<>\"\",IF(VLOOKUP(A163,plan_cuentas,4,FALSE)=\"H\",SUMIFS(Registros!H:H,Registros!B:B,\"<\"&fecha_inicial,Registros!C:C,\"=\"&'01'!A163)-SUMIFS(Registros!G:G,Registros!B:B,\"<\"&fecha_inicial,Registros!C:C,\"=\"&'01'!A163), 0), \"\")","v":0},{"$f":"IF(A163<>\"\", SUMIFS(Registros!G:G, Registros!B:B, \">=\" & fecha_inicial, Registros!B:B, \"<=\" & fecha_final, Registros!C:C, \"=\" &'01'!A163), 0)","v":0},{"$f":"IF(A163<>\"\", SUMIFS(Registros!H:H, Registros!B:B, \">=\" & fecha_inicial, Registros!B:B, \"<=\" & fecha_final, Registros!C:C, \"=\" &'01'!A163), 0)","v":0},{"$f":"IF(A163<>\"\", IF(VLOOKUP(A163, plan_cuentas, 4, FALSE) = \"D\", C163+E163-F163, 0), 0)","v":0},{"$f":"IF(A163<>\"\", IF(VLOOKUP(A163, plan_cuentas, 4, FALSE) = \"H\", D163-E163+F163, 0), 0)","v":0}]
[710102,"CTA. CTE. 357144914  U$",{"$f":"IF(A164<>\"\",IF(VLOOKUP(A164,plan_cuentas,4,FALSE)=\"D\",SUMIFS(Registros!G:G,Registros!B:B,\"<\"&fecha_inicial,Registros!C:C,\"=\"&'01'!A164)-SUMIFS(Registros!H:H,Registros!B:B,\"<\"&fecha_inicial,Registros!C:C,\"=\"&'01'!A164), 0), \"\")","v":0},{"$f":"IF(A164<>\"\",IF(VLOOKUP(A164,plan_cuentas,4,FALSE)=\"H\",SUMIFS(Registros!H:H,Registros!B:B,\"<\"&fecha_inicial,Registros!C:C,\"=\"&'01'!A164)-SUMIFS(Registros!G:G,Registros!B:B,\"<\"&fecha_inicial,Registros!C:C,\"=\"&'01'!A164), 0), \"\")","v":0},{"$f":"IF(A164<>\"\", SUMIFS(Registros!G:G, Registros!B:B, \">=\" & fecha_inicial, Registros!B:B, \"<=\" & fecha_final, Registros!C:C, \"=\" &'01'!A164), 0)","v":0},{"$f":"IF(A164<>\"\", SUMIFS(Registros!H:H, Registros!B:B, \">=\" & fecha_inicial, Registros!B:B, \"<=\" & fecha_final, Registros!C:C, \"=\" &'01'!A164), 0)","v":0},{"$f":"IF(A164<>\"\", IF(VLOOKUP(A164, plan_cuentas, 4, FALSE) = \"D\", C164+E164-F164, 0), 0)","v":0},{"$f":"IF(A164<>\"\", IF(VLOOKUP(A164, plan_cuentas, 4, FALSE) = \"H\", D164-E164+F164, 0), 0)","v":0}]
[710103,"CTA. TRANSFERENCIAS 357144914 U$",{"$f":"IF(A165<>\"\",IF(VLOOKUP(A165,plan_cuentas,4,FALSE)=\"D\",SUMIFS(Registros!G:G,Registros!B:B,\"<\"&fecha_inicial,Registros!C:C,\"=\"&'01'!A165)-SUMIFS(Registros!H:H,Registros!B:B,\"<\"&fecha_inicial,Registros!C:C,\"=\"&'01'!A165), 0), \"\")","v":0},{"$f":"IF(A165<>\"\",IF(VLOOKUP(A165,plan_cuentas,4,FALSE)=\"H\",SUMIFS(Registros!H:H,Registros!B:B,\"<\"&fecha_inicial,Registros!C:C,\"=\"&'01'!A165)-SUMIFS(Registros!G:G,Registros!B:B,\"<\"&fecha_inicial,Registros!C:C,\"=\"&'01'!A165), 0), \"\")","v":0},{"$f":"IF(A165<>\"\", SUMIFS(Registros!G:G, Registros!B:B, \">=\" & fecha_inicial, Registros!B:B, \"<=\" & fecha_final, Registros!C:C, \"=\" &'01'!A165), 0)","v":0},{"$f":"IF(A165<>\"\", SUMIFS(Registros!H:H, Registros!B:B, \">=\" & fecha_inicial, Registros!B:B, \"<=\" & fecha_final, Registros!C:C, \"=\" &'01'!A165), 0)","v":0},{"$f":"IF(A165<>\"\", IF(VLOOKUP(A165, plan_cuentas, 4, FALSE) = \"D\", C165+E165-F165, 0), 0)","v":0},{"$f":"IF(A165<>\"\", IF(VLOOKUP(A165, plan_cuentas, 4, FALSE) = \"H\", D165-E165+F165, 0), 0)","v":0}]
["TOTALES",null,{"$f":"C8+C39+C48+C67+C75+C87+C160","v":1162934.46},1162934.46,3433840.9699999997,3442228.25,{"$f":"G8+G39+G48+G67+G75+G87+G160","v":2926998.21},2935385.49]
[null,null,{"$f":"ABS(D166-C166)","v":0},null,{"$f":"ABS(F166-E166)","v":8387.2800000002608},null,{"$f":"ABS(H166-G166)","v":8387.2800000002608}]
[]
[]
[]
["ELABORADO POR:",null,null,null,null,"AUTORIZADO POR:"]
[{"$f":"IF(A171<>\"\", VLOOKUP(A171, users, 3, FALSE), \"\")","v":"Anielka Galán"},null,null,null,null,{"$f":"IF(F171<>\"\", VLOOKUP(F171, users, 3, FALSE), \"\")","v":"Rodrigo Castro Potoy"}]

{"sheet":"02","index":14,"n_rows":42,"n_cols":8,"rows_kept":42,"cut":false,"hidden":false,"merged":[[40,5,40,6],[41,5,41,6],[34,0,34,1],[1,0,1,7],[2,0,2,7],[3,0,3,7],[4,0,4,7],[5,2,5,4],[5,5,5,7],[5,0,6,0],[5,1,6,1]]}
[null,null,null,null,"Desproteger"]
[{"$f":"bussiness_name","v":"SOCIEDAD CIVIL COMUNIDAD CONNECT"}]
["ESTADO DE RESULTADOS CONSOLIDADO"]
[{"$f":"\"DEL \"&TEXT(fecha_inicial, \"DD\")&\" DE \"&UPPER(TEXT(fecha_inicial, \"MMMM\"))&\" DEL \" & TEXT(fecha_inicial, \"YYYY\") & \" AL \"&TEXT(fecha_final, \"DD\")&\" DE \"&UPPER(TEXT(fecha_final, \"MMMM\"))&\" DEL \"&TEXT(fecha_final, \"YYYY\")","v":"DEL 01 DE JULIO DEL 2014 AL 31 DE JULIO DEL 2014"}]
[{"$f":"address & \" *** Tel/Fax:  \" & tel & \" *** \" & email","v":"Esquina sureste del Parque Central, San Juan del sur, Nicaragua. *** Tel/Fax:  25682731 *** info@comunidadconnect.org"}]
["CÓDIGO CUENTA","DESCRIPCIÓN DE LA CUENTA","DETALLE DE RESULTADOS",null,null,"DATOS PARA ANÁLISIS FINANCIERO"]
[null,"DESCRIPCIÓN DE LA CUENTA","RESULTADO MES ANTERIOR","RESULTADO MES ACTUAL","RESULTADOS ACUMULADOS","VARIACIÓN ABSOLUTA","VARIACIÓN RELATIVA","%\nACTUAL"]
[500000,{"$f":"IF(A8<>\"\", IFERROR(VLOOKUP(A8, plan_cuentas, 2, FALSE), \"CÓDIGO INCORRECTO\"), \"\")","v":"INGRESOS"},{"$f":"C9+C13","v":10935},{"$f":"D9+D13","v":1746354.23},{"$f":"E9+E13","v":1757289.23},{"$f":"F9+F13","v":1735419.23},{"$f":"IFERROR(F8/C8, 0)","v":158.70317604023776},{"$f":"IFERROR(D8/$D$8, 0)","v":1}]
[510000,"INGRESOS POR DONACIONES",{"$f":"SUM(C10:C12)","v":0},{"$f":"SUM(D10:D12)","v":1746354.23},{"$f":"SUM(E10:E12)","v":1746354.23},{"$f":"SUM(F10:F12)","v":1746354.23},{"$f":"IFERROR(F9/C9, 0)","v":0},{"$f":"IFERROR(D9/$D$8, 0)","v":1}]
[510100,"DONACIONES INTERNACIONALES",{"$f":"IF(A10<>\"\", IF(VLOOKUP(A10, plan_cuentas, 4, FALSE)=\"H\", SUMIFS(Registros!H:H, Registros!B:B, \">=\"&init_before, Registros!B:B, \"<=\" & final_before, Registros!I:I, \"=\"& '02'!A10)-SUMIFS(Registros!G:G, Registros!B:B, \">=\"&init_before, Registros!B:B, \"<=\" & final_before, Registros!I:I, \"=\"& '02'!A10), SUMIFS(Registros!G:G, Registros!B:B, \">=\"&init_before, Registros!B:B, \"<=\" & final_before, Registros!I:I, \"=\"& '02'!A10)-SUMIFS(Registros!H:H, Registros!B:B, \">=\"&init_before, Registros!B:B, \"<=\" & final_before, Registros!I:I, \"=\"& '02'!A10)), 0)","v":0},{"$f":"IF(A10<>\"\", IF(VLOOKUP(A10, plan_cuentas, 4, FALSE)=\"H\", SUMIFS(Registros!H:H, Registros!B:B, \">=\"&fecha_inicial, Registros!B:B, \"<=\" & fecha_final, Registros!I:I, \"=\"& '02'!A10)-SUMIFS(Registros!G:G, Registros!B:B, \">=\"& fecha_inicial, Registros!B:B, \"<=\" & fecha_final, Registros!I:I, \"=\"& '02'!A10), SUMIFS(Registros!G:G, Registros!B:B, \">=\"&fecha_inicial, Registros!B:B, \"<=\" & fecha_final, Registros!I:I, \"=\"& '02'!A10)-SUMIFS(Registros!H:H, Registros!B:B, \">=\"&fecha_inicial, Registros!B:B, \"<=\" & fecha_final, Registros!I:I, \"=\"& '02'!A10)), 0)","v":1590848.48},{"$f":"IF(A10<>\"\", IF(VLOOKUP(A10, plan_cuentas, 4, FALSE)=\"H\", SUMIFS(Registros!H:H, Registros!B:B, \"<=\" & fecha_final, Registros!I:I, \"=\" & A10)-SUMIFS(Registros!G:G, Registros!B:B, \"<=\" & fecha_final,  Registros!I:I, \"=\" & A10), SUMIFS(Registros!G:G, Registros!B:B, \"<=\" & fecha_final,  Registros!I:I, \"=\" & A10)-SUMIFS(Registros!H:H, Registros!B:B, \"<=\" & fecha_final, Registros!I:I, \"=\" & A10)), 0)","v":1590848.48},{"$f":"D10-C10","v":1590848.48},0,0.91095406228093823]
[510200,"DONACIONES NACIONALES",{"$f":"IF(A11<>\"\", IF(VLOOKUP(A11, plan_cuentas, 4, FALSE)=\"H\", SUMIFS(Registros!H:H, Registros!B:B, \">=\"&init_before, Registros!B:B, \"<=\" & final_before, Registros!I:I, \"=\"& '02'!A11)-SUMIFS(Registros!G:G, Registros!B:B, \">=\"&init_before, Registros!B:B, \"<=\" & final_before, Registros!I:I, \"=\"& '02'!A11), SUMIFS(Registros!G:G, Registros!B:B, \">=\"&init_before, Registros!B:B, \"<=\" & final_before, Registros!I:I, \"=\"& '02'!A11)-SUMIFS(Registros!H:H, Registros!B:B, \">=\"&init_before, Registros!B:B, \"<=\" & final_before, Registros!I:I, \"=\"& '02'!A11)), 0)","v":0},{"$f":"IF(A11<>\"\", IF(VLOOKUP(A11, plan_cuentas, 4, FALSE)=\"H\", SUMIFS(Registros!H:H, Registros!B:B, \">=\"&fecha_inicial, Registros!B:B, \"<=\" & fecha_final, Registros!I:I, \"=\"& '02'!A11)-SUMIFS(Registros!G:G, Registros!B:B, \">=\"& fecha_inicial, Registros!B:B, \"<=\" & fecha_final, Registros!I:I, \"=\"& '02'!A11), SUMIFS(Registros!G:G, Registros!B:B, \">=\"&fecha_inicial, Registros!B:B, \"<=\" & fecha_final, Registros!I:I, \"=\"& '02'!A11)-SUMIFS(Registros!H:H, Registros!B:B, \">=\"&fecha_inicial, Registros!B:B, \"<=\" & fecha_final, Registros!I:I, \"=\"& '02'!A11)), 0)","v":126959},{"$f":"IF(A11<>\"\", IF(VLOOKUP(A11, plan_cuentas, 4, FALSE)=\"H\", SUMIFS(Registros!H:H, Registros!B:B, \"<=\" & fecha_final, Registros!I:I, \"=\" & A11)-SUMIFS(Registros!G:G, Registros!B:B, \"<=\" & fecha_final,  Registros!I:I, \"=\" & A11), SUMIFS(Registros!G:G, Registros!B:B, \"<=\" & fecha_final,  Registros!I:I, \"=\" & A11)-SUMIFS(Registros!H:H, Registros!B:B, \"<=\" & fecha_final, Registros!I:I, \"=\" & A11)), 0)","v":126959},{"$f":"D11-C11","v":126959},0,7.2699454565984589E-2]
[510300,"DONACIONES GRUPOS VOLUNTARIOS",{"$f":"IF(A12<>\"\", IF(VLOOKUP(A12, plan_cuentas, 4, FALSE)=\"H\", SUMIFS(Registros!H:H, Registros!B:B, \">=\"&init_before, Registros!B:B, \"<=\" & final_before, Registros!I:I, \"=\"& '02'!A12)-SUMIFS(Registros!G:G, Registros!B:B, \">=\"&init_before, Registros!B:B, \"<=\" & final_before, Registros!I:I, \"=\"& '02'!A12), SUMIFS(Registros!G:G, Registros!B:B, \">=\"&init_before, Registros!B:B, \"<=\" & final_before, Registros!I:I, \"=\"& '02'!A12)-SUMIFS(Registros!H:H, Registros!B:B, \">=\"&init_before, Registros!B:B, \"<=\" & final_before, Registros!I:I, \"=\"& '02'!A12)), 0)","v":0},{"$f":"IF(A12<>\"\", IF(VLOOKUP(A12, plan_cuentas, 4, FALSE)=\"H\", SUMIFS(Registros!H:H, Registros!B:B, \">=\"&fecha_inicial, Registros!B:B, \"<=\" & fecha_final, Registros!I:I, \"=\"& '02'!A12)-SUMIFS(Registros!G:G, Registros!B:B, \">=\"& fecha_inicial, Registros!B:B, \"<=\" & fecha_final, Registros!I:I, \"=\"& '02'!A12), SUMIFS(Registros!G:G, Registros!B:B, \">=\"&fecha_inicial, Registros!B:B, \"<=\" & fecha_final, Registros!I:I, \"=\"& '02'!A12)-SUMIFS(Registros!H:H, Registros!B:B, \">=\"&fecha_inicial, Registros!B:B, \"<=\" & fecha_final, Registros!I:I, \"=\"& '02'!A12)), 0)","v":28546.75},{"$f":"IF(A12<>\"\", IF(VLOOKUP(A12, plan_cuentas, 4, FALSE)=\"H\", SUMIFS(Registros!H:H, Registros!B:B, \"<=\" & fecha_final, Registros!I:I, \"=\" & A12)-SUMIFS(Registros!G:G, Registros!B:B, \"<=\" & fecha_final,  Registros!I:I, \"=\" & A12), SUMIFS(Registros!G:G, Registros!B:B, \"<=\" & fecha_final,  Registros!I:I, \"=\" & A12)-SUMIFS(Registros!H:H, Registros!B:B, \"<=\" & fecha_final, Registros!I:I, \"=\" & A12)), 0)","v":28546.75},{"$f":"D12-C12","v":28546.75},0,1.634648315307714E-2]
[520000,"OTROS INGRESOS",{"$f":"SUM(C14)","v":10935},{"$f":"SUM(D14)","v":0},{"$f":"SUM(E14)","v":10935},{"$f":"D13-C13","v":-10935},-1,0]
[520100,"OTROS INGRESOS",{"$f":"IF(A14<>\"\", IF(VLOOKUP(A14, plan_cuentas, 4, FALSE)=\"H\", SUMIFS(Registros!H:H, Registros!B:B, \">=\"&init_before, Registros!B:B, \"<=\" & final_before, Registros!I:I, \"=\"& '02'!A14)-SUMIFS(Registros!G:G, Registros!B:B, \">=\"&init_before, Registros!B:B, \"<=\" & final_before, Registros!I:I, \"=\"& '02'!A14), SUMIFS(Registros!G:G, Registros!B:B, \">=\"&init_before, Registros!B:B, \"<=\" & final_before, Registros!I:I, \"=\"& '02'!A14)-SUMIFS(Registros!H:H, Registros!B:B, \">=\"&init_before, Registros!B:B, \"<=\" & final_before, Registros!I:I, \"=\"& '02'!A14)), 0)","v":10935},{"$f":"IF(A14<>\"\", IF(VLOOKUP(A14, plan_cuentas, 4, FALSE)=\"H\", SUMIFS(Registros!H:H, Registros!B:B, \">=\"&fecha_inicial, Registros!B:B, \"<=\" & fecha_final, Registros!I:I, \"=\"& '02'!A14)-SUMIFS(Registros!G:G, Registros!B:B, \">=\"& fecha_inicial, Registros!B:B, \"<=\" & fecha_final, Registros!I:I, \"=\"& '02'!A14), SUMIFS(Registros!G:G, Registros!B:B, \">=\"&fecha_inicial, Registros!B:B, \"<=\" & fecha_final, Registros!I:I, \"=\"& '02'!A14)-SUMIFS(Registros!H:H, Registros!B:B, \">=\"&fecha_inicial, Registros!B:B, \"<=\" & fecha_final, Registros!I:I, \"=\"& '02'!A14)), 0)","v":0},{"$f":"IF(A14<>\"\", IF(VLOOKUP(A14, plan_cuentas, 4, FALSE)=\"H\", SUMIFS(Registros!H:H, Registros!B:B, \"<=\" & fecha_final, Registros!I:I, \"=\" & A14)-SUMIFS(Registros!G:G, Registros!B:B, \"<=\" & fecha_final,  Registros!I:I, \"=\" & A14), SUMIFS(Registros!G:G, Registros!B:B, \"<=\" & fecha_final,  Registros!I:I, \"=\" & A14)-SUMIFS(Registros!H:H, Registros!B:B, \"<=\" & fecha_final, Registros!I:I, \"=\" & A14)), 0)","v":10935},{"$f":"D14-C14","v":-10935},-1,0]
[600000,"GASTOS OPERATIVOS",{"$f":"C16+C23+C26","v":526497.31000000006},{"$f":"D16+D23+D26","v":433115.82999999996},{"$f":"E16+E23+E26","v":959613.1399999999},{"$f":"F16+F23+F26","v":-93381.480000000025},-0.17736364123113946,0.24801144152753016]
[610000,"GASTOS ADMINISTRATIVOS OFICINA",{"$f":"SUM(C17:C22)","v":284067.67000000004},{"$f":"SUM(D17:D22)","v":196346.36},{"$f":"SUM(E17:E22)","v":480414.02999999997},{"$f":"SUM(F17:F22)","v":-87721.310000000012},-0.30880427188352688,0.11243214957597691]
[610100,"GASTOS EN REMUNERACIÓN",{"$f":"IF(A17<>\"\", IF(VLOOKUP(A17, plan_cuentas, 4, FALSE)=\"H\", SUMIFS(Registros!H:H, Registros!B:B, \">=\"&init_before, Registros!B:B, \"<=\" & final_before, Registros!I:I, \"=\"& '02'!A17)-SUMIFS(Registros!G:G, Registros!B:B, \">=\"&init_before, Registros!B:B, \"<=\" & final_before, Registros!I:I, \"=\"& '02'!A17), SUMIFS(Registros!G:G, Registros!B:B, \">=\"&init_before, Registros!B:B, \"<=\" & final_before, Registros!I:I, \"=\"& '02'!A17)-SUMIFS(Registros!H:H, Registros!B:B, \">=\"&init_before, Registros!B:B, \"<=\" & final_before, Registros!I:I, \"=\"& '02'!A17)), 0)","v":207646},{"$f":"IF(A17<>\"\", IF(VLOOKUP(A17, plan_cuentas, 4, FALSE)=\"H\", SUMIFS(Registros!H:H, Registros!B:B, \">=\"&fecha_inicial, Registros!B:B, \"<=\" & fecha_final, Registros!I:I, \"=\"& '02'!A17)-SUMIFS(Registros!G:G, Registros!B:B, \">=\"& fecha_inicial, Registros!B:B, \"<=\" & fecha_final, Registros!I:I, \"=\"& '02'!A17), SUMIFS(Registros!G:G, Registros!B:B, \">=\"&fecha_inicial, Registros!B:B, \"<=\" & fecha_final, Registros!I:I, \"=\"& '02'!A17)-SUMIFS(Registros!H:H, Registros!B:B, \">=\"&fecha_inicial, Registros!B:B, \"<=\" & fecha_final, Registros!I:I, \"=\"& '02'!A17)), 0)","v":170716},{"$f":"IF(A17<>\"\", IF(VLOOKUP(A17, plan_cuentas, 4, FALSE)=\"H\", SUMIFS(Registros!H:H, Registros!B:B, \"<=\" & fecha_final, Registros!I:I, \"=\" & A17)-SUMIFS(Registros!G:G, Registros!B:B, \"<=\" & fecha_final,  Registros!I:I, \"=\" & A17), SUMIFS(Registros!G:G, Registros!B:B, \"<=\" & fecha_final,  Registros!I:I, \"=\" & A17)-SUMIFS(Registros!H:H, Registros!B:B, \"<=\" & fecha_final, Registros!I:I, \"=\" & A17)), 0)","v":378362},{"$f":"D17-C17","v":-36930},-0.17785076524469529,9.7755654074832235E-2]
[610200,"ALQUILERES",{"$f":"IF(A18<>\"\", IF(VLOOKUP(A18, plan_cuentas, 4, FALSE)=\"H\", SUMIFS(Registros!H:H, Registros!B:B, \">=\"&init_before, Registros!B:B, \"<=\" & final_before, Registros!I:I, \"=\"& '02'!A18)-SUMIFS(Registros!G:G, Registros!B:B, \">=\"&init_before, Registros!B:B, \"<=\" & final_before, Registros!I:I, \"=\"& '02'!A18), SUMIFS(Registros!G:G, Registros!B:B, \">=\"&init_before, Registros!B:B, \"<=\" & final_before, Registros!I:I, \"=\"& '02'!A18)-SUMIFS(Registros!H:H, Registros!B:B, \">=\"&init_before, Registros!B:B, \"<=\" & final_before, Registros!I:I, \"=\"& '02'!A18)), 0)","v":12926.64},{"$f":"IF(A18<>\"\", IF(VLOOKUP(A18, plan_cuentas, 4, FALSE)=\"H\", SUMIFS(Registros!H:H, Registros!B:B, \">=\"&fecha_inicial, Registros!B:B, \"<=\" & fecha_final, Registros!I:I, \"=\"& '02'!A18)-SUMIFS(Registros!G:G, Registros!B:B, \">=\"& fecha_inicial, Registros!B:B, \"<=\" & fecha_final, Registros!I:I, \"=\"& '02'!A18), SUMIFS(Registros!G:G, Registros!B:B, \">=\"&fecha_inicial, Registros!B:B, \"<=\" & fecha_final, Registros!I:I, \"=\"& '02'!A18)-SUMIFS(Registros!H:H, Registros!B:B, \">=\"&fecha_inicial, Registros!B:B, \"<=\" & fecha_final, Registros!I:I, \"=\"& '02'!A18)), 0)","v":5191.82},{"$f":"IF(A18<>\"\", IF(VLOOKUP(A18, plan_cuentas, 4, FALSE)=\"H\", SUMIFS(Registros!H:H, Registros!B:B, \"<=\" & fecha_final, Registros!I:I, \"=\" & A18)-SUMIFS(Registros!G:G, Registros!B:B, \"<=\" & fecha_final,  Registros!I:I, \"=\" & A18), SUMIFS(Registros!G:G, Registros!B:B, \"<=\" & fecha_final,  Registros!I:I, \"=\" & A18)-SUMIFS(Registros!H:H, Registros!B:B, \"<=\" & fecha_final, Registros!I:I, \"=\" & A18)), 0)","v":18118.46},-7734.82,-0.5983627609340092,2.9729478194123306E-3]
[610300,"SERVICIOS BÁSICOS",{"$f":"IF(A19<>\"\", IF(VLOOKUP(A19, plan_cuentas, 4, FALSE)=\"H\", SUMIFS(Registros!H:H, Registros!B:B, \">=\"&init_before, Registros!B:B, \"<=\" & final_before, Registros!I:I, \"=\"& '02'!A19)-SUMIFS(Registros!G:G, Registros!B:B, \">=\"&init_before, Registros!B:B, \"<=\" & final_before, Registros!I:I, \"=\"& '02'!A19), SUMIFS(Registros!G:G, Registros!B:B, \">=\"&init_before, Registros!B:B, \"<=\" & final_before, Registros!I:I, \"=\"& '02'!A19)-SUMIFS(Registros!H:H, Registros!B:B, \">=\"&init_before, Registros!B:B, \"<=\" & final_before, Registros!I:I, \"=\"& '02'!A19)), 0)","v":9522.19},{"$f":"IF(A19<>\"\", IF(VLOOKUP(A19, plan_cuentas, 4, FALSE)=\"H\", SUMIFS(Registros!H:H, Registros!B:B, \">=\"&fecha_inicial, Registros!B:B, \"<=\" & fecha_final, Registros!I:I, \"=\"& '02'!A19)-SUMIFS(Registros!G:G, Registros!B:B, \">=\"& fecha_inicial, Registros!B:B, \"<=\" & fecha_final, Registros!I:I, \"=\"& '02'!A19), SUMIFS(Registros!G:G, Registros!B:B, \">=\"&fecha_inicial, Registros!B:B, \"<=\" & fecha_final, Registros!I:I, \"=\"& '02'!A19)-SUMIFS(Registros!H:H, Registros!B:B, \">=\"&fecha_inicial, Registros!B:B, \"<=\" & fecha_final, Registros!I:I, \"=\"& '02'!A19)), 0)","v":1042},{"$f":"IF(A19<>\"\", IF(VLOOKUP(A19, plan_cuentas, 4, FALSE)=\"H\", SUMIFS(Registros!H:H, Registros!B:B, \"<=\" & fecha_final, Registros!I:I, \"=\" & A19)-SUMIFS(Registros!G:G, Registros!B:B, \"<=\" & fecha_final,  Registros!I:I, \"=\" & A19), SUMIFS(Registros!G:G, Registros!B:B, \"<=\" & fecha_final,  Registros!I:I, \"=\" & A19)-SUMIFS(Registros!H:H, Registros!B:B, \"<=\" & fecha_final, Registros!I:I, \"=\" & A19)), 0)","v":10564.19},-8480.19,-0.89057139166515265,5.9667161570078485E-4]
[610400,"GASTO EN MATERIALES Y SUMINISTROS",{"$f":"IF(A20<>\"\", IF(VLOOKUP(A20, plan_cuentas, 4, FALSE)=\"H\", SUMIFS(Registros!H:H, Registros!B:B, \">=\"&init_before, Registros!B:B, \"<=\" & final_before, Registros!I:I, \"=\"& '02'!A20)-SUMIFS(Registros!G:G, Registros!B:B, \">=\"&init_before, Registros!B:B, \"<=\" & final_before, Registros!I:I, \"=\"& '02'!A20), SUMIFS(Registros!G:G, Registros!B:B, \">=\"&init_before, Registros!B:B, \"<=\" & final_before, Registros!I:I, \"=\"& '02'!A20)-SUMIFS(Registros!H:H, Registros!B:B, \">=\"&init_before, Registros!B:B, \"<=\" & final_before, Registros!I:I, \"=\"& '02'!A20)), 0)","v":3777.2},{"$f":"IF(A20<>\"\", IF(VLOOKUP(A20, plan_cuentas, 4, FALSE)=\"H\", SUMIFS(Registros!H:H, Registros!B:B, \">=\"&fecha_inicial, Registros!B:B, \"<=\" & fecha_final, Registros!I:I, \"=\"& '02'!A20)-SUMIFS(Registros!G:G, Registros!B:B, \">=\"& fecha_inicial, Registros!B:B, \"<=\" & fecha_final, Registros!I:I, \"=\"& '02'!A20), SUMIFS(Registros!G:G, Registros!B:B, \">=\"&fecha_inicial, Registros!B:B, \"<=\" & fecha_final, Registros!I:I, \"=\"& '02'!A20)-SUMIFS(Registros!H:H, Registros!B:B, \">=\"&fecha_inicial, Registros!B:B, \"<=\" & fecha_final, Registros!I:I, \"=\"& '02'!A20)), 0)","v":3323.84},{"$f":"IF(A20<>\"\", IF(VLOOKUP(A20, plan_cuentas, 4, FALSE)=\"H\", SUMIFS(Registros!H:H, Registros!B:B, \"<=\" & fecha_final, Registros!I:I, \"=\" & A20)-SUMIFS(Registros!G:G, Registros!B:B, \"<=\" & fecha_final,  Registros!I:I, \"=\" & A20), SUMIFS(Registros!G:G, Registros!B:B, \"<=\" & fecha_final,  Registros!I:I, \"=\" & A20)-SUMIFS(Registros!H:H, Registros!B:B, \"<=\" & fecha_final, Registros!I:I, \"=\" & A20)), 0)","v":7101.04},-453.35999999999967,-0.12002541565180549,1.9033022870737972E-3]
[610500,"GASTOS DE MANTENIMIENTO",{"$f":"IF(A21<>\"\", IF(VLOOKUP(A21, plan_cuentas, 4, FALSE)=\"H\", SUMIFS(Registros!H:H, Registros!B:B, \">=\"&init_before, Registros!B:B, \"<=\" & final_before, Registros!I:I, \"=\"& '02'!A21)-SUMIFS(Registros!G:G, Registros!B:B, \">=\"&init_before, Registros!B:B, \"<=\" & final_before, Registros!I:I, \"=\"& '02'!A21), SUMIFS(Registros!G:G, Registros!B:B, \">=\"&init_before, Registros!B:B, \"<=\" & final_before, Registros!I:I, \"=\"& '02'!A21)-SUMIFS(Registros!H:H, Registros!B:B, \">=\"&init_before, Registros!B:B, \"<=\" & final_before, Registros!I:I, \"=\"& '02'!A21)), 0)","v":21745.03},{"$f":"IF(A21<>\"\", IF(VLOOKUP(A21, plan_cuentas, 4, FALSE)=\"H\", SUMIFS(Registros!H:H, Registros!B:B, \">=\"&fecha_inicial, Registros!B:B, \"<=\" & fecha_final, Registros!I:I, \"=\"& '02'!A21)-SUMIFS(Registros!G:G, Registros!B:B, \">=\"& fecha_inicial, Registros!B:B, \"<=\" & fecha_final, Registros!I:I, \"=\"& '02'!A21), SUMIFS(Registros!G:G, Registros!B:B, \">=\"&fecha_inicial, Registros!B:B, \"<=\" & fecha_final, Registros!I:I, \"=\"& '02'!A21)-SUMIFS(Registros!H:H, Registros!B:B, \">=\"&fecha_inicial, Registros!B:B, \"<=\" & fecha_final, Registros!I:I, \"=\"& '02'!A21)), 0)","v":525.33000000000004},{"$f":"IF(A21<>\"\", IF(VLOOKUP(A21, plan_cuentas, 4, FALSE)=\"H\", SUMIFS(Registros!H:H, Registros!B:B, \"<=\" & fecha_final, Registros!I:I, \"=\" & A21)-SUMIFS(Registros!G:G, Registros!B:B, \"<=\" & fecha_final,  Registros!I:I, \"=\" & A21), SUMIFS(Registros!G:G, Registros!B:B, \"<=\" & fecha_final,  Registros!I:I, \"=\" & A21)-SUMIFS(Registros!H:H, Registros!B:B, \"<=\" & fecha_final, Registros!I:I, \"=\" & A21)), 0)","v":22270.36},-21219.699999999997,-0.97584137616733557,3.008152589981702E-4]
[610600,"GASTOS VARIOS",{"$f":"IF(A22<>\"\", IF(VLOOKUP(A22, plan_cuentas, 4, FALSE)=\"H\", SUMIFS(Registros!H:H, Registros!B:B, \">=\"&init_before, Registros!B:B, \"<=\" & final_before, Registros!I:I, \"=\"& '02'!A22)-SUMIFS(Registros!G:G, Registros!B:B, \">=\"&init_before, Registros!B:B, \"<=\" & final_before, Registros!I:I, \"=\"& '02'!A22), SUMIFS(Registros!G:G, Registros!B:B, \">=\"&init_before, Registros!B:B, \"<=\" & final_before, Registros!I:I, \"=\"& '02'!A22)-SUMIFS(Registros!H:H, Registros!B:B, \">=\"&init_before, Registros!B:B, \"<=\" & final_before, Registros!I:I, \"=\"& '02'!A22)), 0)","v":28450.61},{"$f":"IF(A22<>\"\", IF(VLOOKUP(A22, plan_cuentas, 4, FALSE)=\"H\", SUMIFS(Registros!H:H, Registros!B:B, \">=\"&fecha_inicial, Registros!B:B, \"<=\" & fecha_final, Registros!I:I, \"=\"& '02'!A22)-SUMIFS(Registros!G:G, Registros!B:B, \">=\"& fecha_inicial, Registros!B:B, \"<=\" & fecha_final, Registros!I:I, \"=\"& '02'!A22), SUMIFS(Registros!G:G, Registros!B:B, \">=\"&fecha_inicial, Registros!B:B, \"<=\" & fecha_final, Registros!I:I, \"=\"& '02'!A22)-SUMIFS(Registros!H:H, Registros!B:B, \">=\"&fecha_inicial, Registros!B:B, \"<=\" & fecha_final, Registros!I:I, \"=\"& '02'!A22)), 0)","v":15547.369999999999},{"$f":"IF(A22<>\"\", IF(VLOOKUP(A22, plan_cuentas, 4, FALSE)=\"H\", SUMIFS(Registros!H:H, Registros!B:B, \"<=\" & fecha_final, Registros!I:I, \"=\" & A22)-SUMIFS(Registros!G:G, Registros!B:B, \"<=\" & fecha_final,  Registros!I:I, \"=\" & A22), SUMIFS(Registros!G:G, Registros!B:B, \"<=\" & fecha_final,  Registros!I:I, \"=\" & A22)-SUMIFS(Registros!H:H, Registros!B:B, \"<=\" & fecha_final, Registros!I:I, \"=\" & A22)), 0)","v":43997.979999999996},-12903.240000000002,-0.45353122481380898,8.9027585199596068E-3]
[620000,"DEPRECIACIÓN",{"$f":"SUM(C24:C25)","v":0},{"$f":"SUM(D24:D25)","v":0},{"$f":"SUM(E24:E25)","v":0},{"$f":"SUM(F24:F25)","v":0},0,0]
[620100,"DEPRECIACIÓN DE MOBILIARIO",{"$f":"IF(A24<>\"\", IF(VLOOKUP(A24, plan_cuentas, 4, FALSE)=\"H\", SUMIFS(Registros!H:H, Registros!B:B, \">=\"&init_before, Registros!B:B, \"<=\" & final_before, Registros!I:I, \"=\"& '02'!A24)-SUMIFS(Registros!G:G, Registros!B:B, \">=\"&init_before, Registros!B:B, \"<=\" & final_before, Registros!I:I, \"=\"& '02'!A24), SUMIFS(Registros!G:G, Registros!B:B, \">=\"&init_before, Registros!B:B, \"<=\" & final_before, Registros!I:I, \"=\"& '02'!A24)-SUMIFS(Registros!H:H, Registros!B:B, \">=\"&init_before, Registros!B:B, \"<=\" & final_before, Registros!I:I, \"=\"& '02'!A24)), 0)","v":0},{"$f":"IF(A24<>\"\", IF(VLOOKUP(A24, plan_cuentas, 4, FALSE)=\"H\", SUMIFS(Registros!H:H, Registros!B:B, \">=\"&fecha_inicial, Registros!B:B, \"<=\" & fecha_final, Registros!I:I, \"=\"& '02'!A24)-SUMIFS(Registros!G:G, Registros!B:B, \">=\"& fecha_inicial, Registros!B:B, \"<=\" & fecha_final, Registros!I:I, \"=\"& '02'!A24), SUMIFS(Registros!G:G, Registros!B:B, \">=\"&fecha_inicial, Registros!B:B, \"<=\" & fecha_final, Registros!I:I, \"=\"& '02'!A24)-SUMIFS(Registros!H:H, Registros!B:B, \">=\"&fecha_inicial, Registros!B:B, \"<=\" & fecha_final, Registros!I:I, \"=\"& '02'!A24)), 0)","v":0},{"$f":"IF(A24<>\"\", IF(VLOOKUP(A24, plan_cuentas, 4, FALSE)=\"H\", SUMIFS(Registros!H:H, Registros!B:B, \"<=\" & fecha_final, Registros!I:I, \"=\" & A24)-SUMIFS(Registros!G:G, Registros!B:B, \"<=\" & fecha_final,  Registros!I:I, \"=\" & A24), SUMIFS(Registros!G:G, Registros!B:B, \"<=\" & fecha_final,  Registros!I:I, \"=\" & A24)-SUMIFS(Registros!H:H, Registros!B:B, \"<=\" & fecha_final, Registros!I:I, \"=\" & A24)), 0)","v":0},0,0,0]
[620200,"DEPRECIACIÓN DE EQUIPO",{"$f":"IF(A25<>\"\", IF(VLOOKUP(A25, plan_cuentas, 4, FALSE)=\"H\", SUMIFS(Registros!H:H, Registros!B:B, \">=\"&init_before, Registros!B:B, \"<=\" & final_before, Registros!I:I, \"=\"& '02'!A25)-SUMIFS(Registros!G:G, Registros!B:B, \">=\"&init_before, Registros!B:B, \"<=\" & final_before, Registros!I:I, \"=\"& '02'!A25), SUMIFS(Registros!G:G, Registros!B:B, \">=\"&init_before, Registros!B:B, \"<=\" & final_before, Registros!I:I, \"=\"& '02'!A25)-SUMIFS(Registros!H:H, Registros!B:B, \">=\"&init_before, Registros!B:B, \"<=\" & final_before, Registros!I:I, \"=\"& '02'!A25)), 0)","v":0},{"$f":"IF(A25<>\"\", IF(VLOOKUP(A25, plan_cuentas, 4, FALSE)=\"H\", SUMIFS(Registros!H:H, Registros!B:B, \">=\"&fecha_inicial, Registros!B:B, \"<=\" & fecha_final, Registros!I:I, \"=\"& '02'!A25)-SUMIFS(Registros!G:G, Registros!B:B, \">=\"& fecha_inicial, Registros!B:B, \"<=\" & fecha_final, Registros!I:I, \"=\"& '02'!A25), SUMIFS(Registros!G:G, Registros!B:B, \">=\"&fecha_inicial, Registros!B:B, \"<=\" & fecha_final, Registros!I:I, \"=\"& '02'!A25)-SUMIFS(Registros!H:H, Registros!B:B, \">=\"&fecha_inicial, Registros!B:B, \"<=\" & fecha_final, Registros!I:I, \"=\"& '02'!A25)), 0)","v":0},{"$f":"IF(A25<>\"\", IF(VLOOKUP(A25, plan_cuentas, 4, FALSE)=\"H\", SUMIFS(Registros!H:H, Registros!B:B, \"<=\" & fecha_final, Registros!I:I, \"=\" & A25)-SUMIFS(Registros!G:G, Registros!B:B, \"<=\" & fecha_final,  Registros!I:I, \"=\" & A25), SUMIFS(Registros!G:G, Registros!B:B, \"<=\" & fecha_final,  Registros!I:I, \"=\" & A25)-SUMIFS(Registros!H:H, Registros!B:B, \"<=\" & fecha_final, Registros!I:I, \"=\" & A25)), 0)","v":0},0,0,0]
[630000,"GASTOS DE PROYECTOS",{"$f":"SUM(C27:C31)","v":242429.64},{"$f":"SUM(D27:D31)","v":236769.47},{"$f":"SUM(E27:E31)","v":479199.10999999987},{"$f":"SUM(F27:F31)","v":-5660.1700000000183},-2.3347681413873392E-2,0.13557929195155327]
[630100,"PROYECTO PARQUE DEPORTIVO",{"$f":"IF(A27<>\"\", IF(VLOOKUP(A27, plan_cuentas, 4, FALSE)=\"H\", SUMIFS(Registros!H:H, Registros!B:B, \">=\"&init_before, Registros!B:B, \"<=\" & final_before, Registros!I:I, \"=\"& '02'!A27)-SUMIFS(Registros!G:G, Registros!B:B, \">=\"&init_before, Registros!B:B, \"<=\" & final_before, Registros!I:I, \"=\"& '02'!A27), SUMIFS(Registros!G:G, Registros!B:B, \">=\"&init_before, Registros!B:B, \"<=\" & final_before, Registros!I:I, \"=\"& '02'!A27)-SUMIFS(Registros!H:H, Registros!B:B, \">=\"&init_before, Registros!B:B, \"<=\" & final_before, Registros!I:I, \"=\"& '02'!A27)), 0)","v":7017.62},{"$f":"IF(A27<>\"\", IF(VLOOKUP(A27, plan_cuentas, 4, FALSE)=\"H\", SUMIFS(Registros!H:H, Registros!B:B, \">=\"&fecha_inicial, Registros!B:B, \"<=\" & fecha_final, Registros!I:I, \"=\"& '02'!A27)-SUMIFS(Registros!G:G, Registros!B:B, \">=\"& fecha_inicial, Registros!B:B, \"<=\" & fecha_final, Registros!I:I, \"=\"& '02'!A27), SUMIFS(Registros!G:G, Registros!B:B, \">=\"&fecha_inicial, Registros!B:B, \"<=\" & fecha_final, Registros!I:I, \"=\"& '02'!A27)-SUMIFS(Registros!H:H, Registros!B:B, \">=\"&fecha_inicial, Registros!B:B, \"<=\" & fecha_final, Registros!I:I, \"=\"& '02'!A27)), 0)","v":2269.31},{"$f":"IF(A27<>\"\", IF(VLOOKUP(A27, plan_cuentas, 4, FALSE)=\"H\", SUMIFS(Registros!H:H, Registros!B:B, \"<=\" & fecha_final, Registros!I:I, \"=\" & A27)-SUMIFS(Registros!G:G, Registros!B:B, \"<=\" & fecha_final,  Registros!I:I, \"=\" & A27), SUMIFS(Registros!G:G, Registros!B:B, \"<=\" & fecha_final,  Registros!I:I, \"=\" & A27)-SUMIFS(Registros!H:H, Registros!B:B, \"<=\" & fecha_final, Registros!I:I, \"=\" & A27)), 0)","v":9286.9299999999985},-4748.3099999999995,-0.67662683359885534,1.2994557238252861E-3]
[630200,"PROYECTO CAMPO VERDE",{"$f":"IF(A28<>\"\", IF(VLOOKUP(A28, plan_cuentas, 4, FALSE)=\"H\", SUMIFS(Registros!H:H, Registros!B:B, \">=\"&init_before, Registros!B:B, \"<=\" & final_before, Registros!I:I, \"=\"& '02'!A28)-SUMIFS(Registros!G:G, Registros!B:B, \">=\"&init_before, Registros!B:B, \"<=\" & final_before, Registros!I:I, \"=\"& '02'!A28), SUMIFS(Registros!G:G, Registros!B:B, \">=\"&init_before, Registros!B:B, \"<=\" & final_before, Registros!I:I, \"=\"& '02'!A28)-SUMIFS(Registros!H:H, Registros!B:B, \">=\"&init_before, Registros!B:B, \"<=\" & final_before, Registros!I:I, \"=\"& '02'!A28)), 0)","v":41743.1},{"$f":"IF(A28<>\"\", IF(VLOOKUP(A28, plan_cuentas, 4, FALSE)=\"H\", SUMIFS(Registros!H:H, Registros!B:B, \">=\"&fecha_inicial, Registros!B:B, \"<=\" & fecha_final, Registros!I:I, \"=\"& '02'!A28)-SUMIFS(Registros!G:G, Registros!B:B, \">=\"& fecha_inicial, Registros!B:B, \"<=\" & fecha_final, Registros!I:I, \"=\"& '02'!A28), SUMIFS(Registros!G:G, Registros!B:B, \">=\"&fecha_inicial, Registros!B:B, \"<=\" & fecha_final, Registros!I:I, \"=\"& '02'!A28)-SUMIFS(Registros!H:H, Registros!B:B, \">=\"&fecha_inicial, Registros!B:B, \"<=\" & fecha_final, Registros!I:I, \"=\"& '02'!A28)), 0)","v":25274.949999999997},{"$f":"IF(A28<>\"\", IF(VLOOKUP(A28, plan_cuentas, 4, FALSE)=\"H\", SUMIFS(Registros!H:H, Registros!B:B, \"<=\" & fecha_final, Registros!I:I, \"=\" & A28)-SUMIFS(Registros!G:G, Registros!B:B, \"<=\" & fecha_final,  Registros!I:I, \"=\" & A28), SUMIFS(Registros!G:G, Registros!B:B, \"<=\" & fecha_final,  Registros!I:I, \"=\" & A28)-SUMIFS(Registros!H:H, Registros!B:B, \"<=\" & fecha_final, Registros!I:I, \"=\" & A28)), 0)","v":67018.05},-16468.150000000001,-0.39451190735714409,1.4472980089497649E-2]
[630300,"PROYECTO TURISMO SOSTENIBLE",{"$f":"IF(A29<>\"\", IF(VLOOKUP(A29, plan_cuentas, 4, FALSE)=\"H\", SUMIFS(Registros!H:H, Registros!B:B, \">=\"&init_before, Registros!B:B, \"<=\" & final_before, Registros!I:I, \"=\"& '02'!A29)-SUMIFS(Registros!G:G, Registros!B:B, \">=\"&init_before, Registros!B:B, \"<=\" & final_before, Registros!I:I, \"=\"& '02'!A29), SUMIFS(Registros!G:G, Registros!B:B, \">=\"&init_before, Registros!B:B, \"<=\" & final_before, Registros!I:I, \"=\"& '02'!A29)-SUMIFS(Registros!H:H, Registros!B:B, \">=\"&init_before, Registros!B:B, \"<=\" & final_before, Registros!I:I, \"=\"& '02'!A29)), 0)","v":169529.07},{"$f":"IF(A29<>\"\", IF(VLOOKUP(A29, plan_cuentas, 4, FALSE)=\"H\", SUMIFS(Registros!H:H, Registros!B:B, \">=\"&fecha_inicial, Registros!B:B, \"<=\" & fecha_final, Registros!I:I, \"=\"& '02'!A29)-SUMIFS(Registros!G:G, Registros!B:B, \">=\"& fecha_inicial, Registros!B:B, \"<=\" & fecha_final, Registros!I:I, \"=\"& '02'!A29), SUMIFS(Registros!G:G, Registros!B:B, \">=\"&fecha_inicial, Registros!B:B, \"<=\" & fecha_final, Registros!I:I, \"=\"& '02'!A29)-SUMIFS(Registros!H:H, Registros!B:B, \">=\"&fecha_inicial, Registros!B:B, \"<=\" & fecha_final, Registros!I:I, \"=\"& '02'!A29)), 0)","v":203209.05},{"$f":"IF(A29<>\"\", IF(VLOOKUP(A29, plan_cuentas, 4, FALSE)=\"H\", SUMIFS(Registros!H:H, Registros!B:B, \"<=\" & fecha_final, Registros!I:I, \"=\" & A29)-SUMIFS(Registros!G:G, Registros!B:B, \"<=\" & fecha_final,  Registros!I:I, \"=\" & A29), SUMIFS(Registros!G:G, Registros!B:B, \"<=\" & fecha_final,  Registros!I:I, \"=\" & A29)-SUMIFS(Registros!H:H, Registros!B:B, \"<=\" & fecha_final, Registros!I:I, \"=\" & A29)), 0)","v":372738.11999999994},33679.979999999981,0.19866787448311951,0.11636187350146024]
[630400,{"$f":"IF(A30<>\"\", IFERROR(VLOOKUP(A30, plan_cuentas, 2, FALSE), \"CÓDIGO INCORRECTO\"), \"\")","v":"PROYECTO NICA AGUA"},{"$f":"IF(A30<>\"\", IF(VLOOKUP(A30, plan_cuentas, 4, FALSE)=\"H\", SUMIFS(Registros!H:H, Registros!B:B, \">=\"&init_before, Registros!B:B, \"<=\" & final_before, Registros!I:I, \"=\"& '02'!A30)-SUMIFS(Registros!G:G, Registros!B:B, \">=\"&init_before, Registros!B:B, \"<=\" & final_before, Registros!I:I, \"=\"& '02'!A30), SUMIFS(Registros!G:G, Registros!B:B, \">=\"&init_before, Registros!B:B, \"<=\" & final_before, Registros!I:I, \"=\"& '02'!A30)-SUMIFS(Registros!H:H, Registros!B:B, \">=\"&init_before, Registros!B:B, \"<=\" & final_before, Registros!I:I, \"=\"& '02'!A30)), 0)","v":11206.1},{"$f":"IF(A30<>\"\", IF(VLOOKUP(A30, plan_cuentas, 4, FALSE)=\"H\", SUMIFS(Registros!H:H, Registros!B:B, \">=\"&fecha_inicial, Registros!B:B, \"<=\" & fecha_final, Registros!I:I, \"=\"& '02'!A30)-SUMIFS(Registros!G:G, Registros!B:B, \">=\"& fecha_inicial, Registros!B:B, \"<=\" & fecha_final, Registros!I:I, \"=\"& '02'!A30), SUMIFS(Registros!G:G, Registros!B:B, \">=\"&fecha_inicial, Registros!B:B, \"<=\" & fecha_final, Registros!I:I, \"=\"& '02'!A30)-SUMIFS(Registros!H:H, Registros!B:B, \">=\"&fecha_inicial, Registros!B:B, \"<=\" & fecha_final, Registros!I:I, \"=\"& '02'!A30)), 0)","v":0},{"$f":"IF(A30<>\"\", IF(VLOOKUP(A30, plan_cuentas, 4, FALSE)=\"H\", SUMIFS(Registros!H:H, Registros!B:B, \"<=\" & fecha_final, Registros!I:I, \"=\" & A30)-SUMIFS(Registros!G:G, Registros!B:B, \"<=\" & fecha_final,  Registros!I:I, \"=\" & A30), SUMIFS(Registros!G:G, Registros!B:B, \"<=\" & fecha_final,  Registros!I:I, \"=\" & A30)-SUMIFS(Registros!H:H, Registros!B:B, \"<=\" & fecha_final, Registros!I:I, \"=\" & A30)), 0)","v":11206.1},{"$f":"D30-C30","v":-11206.1},{"$f":"IFERROR(F30/C30, 0)","v":-1},{"$f":"IFERROR(D30/$D$8, 0)","v":0}]
[630500,{"$f":"IF(A31<>\"\", IFERROR(VLOOKUP(A31, plan_cuentas, 2, FALSE), \"CÓDIGO INCORRECTO\"), \"\")","v":"PROYECTO CLINICA LOS ROBLES"},{"$f":"IF(A31<>\"\", IF(VLOOKUP(A31, plan_cuentas, 4, FALSE)=\"H\", SUMIFS(Registros!H:H, Registros!B:B, \">=\"&init_before, Registros!B:B, \"<=\" & final_before, Registros!I:I, \"=\"& '02'!A31)-SUMIFS(Registros!G:G, Registros!B:B, \">=\"&init_before, Registros!B:B, \"<=\" & final_before, Registros!I:I, \"=\"& '02'!A31), SUMIFS(Registros!G:G, Registros!B:B, \">=\"&init_before, Registros!B:B, \"<=\" & final_before, Registros!I:I, \"=\"& '02'!A31)-SUMIFS(Registros!H:H, Registros!B:B, \">=\"&init_before, Registros!B:B, \"<=\" & final_before, Registros!I:I, \"=\"& '02'!A31)), 0)","v":12933.75},{"$f":"IF(A31<>\"\", IF(VLOOKUP(A31, plan_cuentas, 4, FALSE)=\"H\", SUMIFS(Registros!H:H, Registros!B:B, \">=\"&fecha_inicial, Registros!B:B, \"<=\" & fecha_final, Registros!I:I, \"=\"& '02'!A31)-SUMIFS(Registros!G:G, Registros!B:B, \">=\"& fecha_inicial, Registros!B:B, \"<=\" & fecha_final, Registros!I:I, \"=\"& '02'!A31), SUMIFS(Registros!G:G, Registros!B:B, \">=\"&fecha_inicial, Registros!B:B, \"<=\" & fecha_final, Registros!I:I, \"=\"& '02'!A31)-SUMIFS(Registros!H:H, Registros!B:B, \">=\"&fecha_inicial, Registros!B:B, \"<=\" & fecha_final, Registros!I:I, \"=\"& '02'!A31)), 0)","v":6016.16},{"$f":"IF(A31<>\"\", IF(VLOOKUP(A31, plan_cuentas, 4, FALSE)=\"H\", SUMIFS(Registros!H:H, Registros!B:B, \"<=\" & fecha_final, Registros!I:I, \"=\" & A31)-SUMIFS(Registros!G:G, Registros!B:B, \"<=\" & fecha_final,  Registros!I:I, \"=\" & A31), SUMIFS(Registros!G:G, Registros!B:B, \"<=\" & fecha_final,  Registros!I:I, \"=\" & A31)-SUMIFS(Registros!H:H, Registros!B:B, \"<=\" & fecha_final, Registros!I:I, \"=\" & A31)), 0)","v":18949.91},{"$f":"D31-C31","v":-6917.59},{"$f":"IFERROR(F31/C31, 0)","v":-0.53484797525852901},{"$f":"IFERROR(D31/$D$8, 0)","v":3.4449826367700899E-3}]
[700000,"GASTOS FINANCIEROS",{"$f":"C33","v":0},0,0,0,0,0]
[710000,"COMISIONES BANCARIAS",0,0,0,0,0,0]
[710100,"CARGOS CUENTAS CORRIENTES",{"$f":"IF(A34<>\"\", IF(VLOOKUP(A34, plan_cuentas, 4, FALSE)=\"H\", SUMIFS(Registros!H:H, Registros!B:B, \">=\"&init_before, Registros!B:B, \"<=\" & final_before, Registros!I:I, \"=\"& '02'!A34)-SUMIFS(Registros!G:G, Registros!B:B, \">=\"&init_before, Registros!B:B, \"<=\" & final_before, Registros!I:I, \"=\"& '02'!A34), SUMIFS(Registros!G:G, Registros!B:B, \">=\"&init_before, Registros!B:B, \"<=\" & final_before, Registros!I:I, \"=\"& '02'!A34)-SUMIFS(Registros!H:H, Registros!B:B, \">=\"&init_before, Registros!B:B, \"<=\" & final_before, Registros!I:I, \"=\"& '02'!A34)), 0)","v":0},{"$f":"IF(A34<>\"\", IF(VLOOKUP(A34, plan_cuentas, 4, FALSE)=\"H\", SUMIFS(Registros!H:H, Registros!B:B, \">=\"&fecha_inicial, Registros!B:B, \"<=\" & fecha_final, Registros!I:I, \"=\"& '02'!A34)-SUMIFS(Registros!G:G, Registros!B:B, \">=\"& fecha_inicial, Registros!B:B, \"<=\" & fecha_final, Registros!I:I, \"=\"& '02'!A34), SUMIFS(Registros!G:G, Registros!B:B, \">=\"&fecha_inicial, Registros!B:B, \"<=\" & fecha_final, Registros!I:I, \"=\"& '02'!A34)-SUMIFS(Registros!H:H, Registros!B:B, \">=\"&fecha_inicial, Registros!B:B, \"<=\" & fecha_final, Registros!I:I, \"=\"& '02'!A34)), 0)","v":0},{"$f":"IF(A34<>\"\", IF(VLOOKUP(A34, plan_cuentas, 4, FALSE)=\"H\", SUMIFS(Registros!H:H, Registros!B:B, \"<=\" & fecha_final, Registros!I:I, \"=\" & A34)-SUMIFS(Registros!G:G, Registros!B:B, \"<=\" & fecha_final,  Registros!I:I, \"=\" & A34), SUMIFS(Registros!G:G, Registros!B:B, \"<=\" & fecha_final,  Registros!I:I, \"=\" & A34)-SUMIFS(Registros!H:H, Registros!B:B, \"<=\" & fecha_final, Registros!I:I, \"=\" & A34)), 0)","v":0},{"$f":"D34-C34","v":0},0,0]
["GASTOS TOTALES",null,{"$f":"C15+C32","v":526497.31000000006},{"$f":"D15+D32","v":433115.82999999996},{"$f":"E15+E32","v":959613.1399999999},{"$f":"D35-C35","v":-93381.480000000098},-0.1773636412311396,0.24801144152753016]
[310202,"RESULTADOS DEL EJERCICIO",{"$f":"C8-C35","v":-515562.31000000006},{"$f":"D8-D35","v":1313238.3999999999},{"$f":"E8-E35","v":797676.09000000008},{"$f":"D36-C36","v":1828800.71},-3.5471962836073097,0.75198855847246981]
[]
[]
[]
[]
[null,"ELABORADO POR:",null,null,null,"AUTORIZADO POR:"]
[null,{"$f":"IF(B41<>\"\", VLOOKUP(B41, users, 3, FALSE), \"\")","v":"Anielka Galán"},null,null,null,{"$f":"IF(F41<>\"\", VLOOKUP(F41, users, 3, FALSE), \"\")","v":"Rodrigo Castro Potoy"}]

{"sheet":"03","index":15,"n_rows":29,"n_cols":7,"rows_kept":29,"cut":false,"hidden":false,"merged":[[1,0,1,7],[2,0,2,7],[3,0,3,7],[4,0,4,7]]}
[null,null,null,null,"Proteger"]
[{"$f":"bussiness_name","v":"SOCIEDAD CIVIL COMUNIDAD CONNECT"}]
["BALANCE GENERAL CONSOLIDADO"]
[{"$f":"\" AL \"&TEXT(fecha_final, \"DD\")&\" DE \"&UPPER(TEXT(fecha_final, \"MMMM\"))&\" DEL \"&TEXT(fecha_final, \"YYYY\")","v":" AL 31 DE JULIO DEL 2014"}]
[{"$f":"address & \" *** Tel/Fax:  \" & tel & \" *** \" & email","v":"Esquina sureste del Parque Central, San Juan del sur, Nicaragua. *** Tel/Fax:  25682731 *** info@comunidadconnect.org"}]
["CÓDIGO CUENTA","DESCRIPCIÓN DE LA CUENTA",null,null,"CÓDIGO CUENTA","DESCRIPCIÓN DE LA CUENTA"]
[100000,{"$f":"IF(A7<>\"\", IFERROR(VLOOKUP(A7, plan_cuentas, 2, FALSE), \"CÓDIGO INCORRECTO\"), \"\")","v":"ACTIVOS"},null,null,200000,{"$f":"IF(E7<>\"\", IFERROR(VLOOKUP(E7, plan_cuentas, 2, FALSE), \"CÓDIGO INCORRECTO\"), \"\")","v":"PASIVOS"}]
[110000,"ACTIVOS CORRIENTES",null,null,210000,"PASIVOS CORRIENTES"]
[110100,"CAJA",{"$f":"IF(A9<>\"\", IF(VLOOKUP(A9, plan_cuentas, 4, FALSE)=\"H\", SUMIFS(Registros!H:H, Registros!B:B, \"<=\" & fecha_final, Registros!I:I, \"=\"& '03'!A9)-SUMIFS(Registros!G:G, Registros!B:B, \"<=\" & fecha_final, Registros!I:I, \"=\"& '03'!A9), SUMIFS(Registros!G:G, Registros!B:B, \"<=\" & fecha_final, Registros!I:I, \"=\"& '03'!A9)-SUMIFS(Registros!H:H, Registros!B:B, \"<=\" & fecha_final, Registros!I:I, \"=\"& '03'!A9)), 0)","v":18675.8},null,210100,"CUENTAS POR PAGAR",{"$f":"IF(E9<>\"\", IF(VLOOKUP(E9, plan_cuentas, 4, FALSE)=\"H\", SUMIFS(Registros!H:H, Registros!B:B, \"<=\" & fecha_final, Registros!I:I, \"=\"& '03'!E9)-SUMIFS(Registros!G:G, Registros!B:B, \"<=\" & fecha_final, Registros!I:I, \"=\"& '03'!E9), SUMIFS(Registros!G:G, Registros!B:B, \"<=\" & fecha_final, Registros!I:I, \"=\"& '03'!E9)-SUMIFS(Registros!H:H, Registros!B:B, \"<=\" & fecha_final, Registros!I:I, \"=\"& '03'!E9)), 0)","v":0}]
[110200,{"$f":"IF(A10<>\"\", IFERROR(VLOOKUP(A10, plan_cuentas, 2, FALSE), \"CÓDIGO INCORRECTO\"), \"\")","v":"BANCOS"},{"$f":"IF(A10<>\"\", IF(VLOOKUP(A10, plan_cuentas, 4, FALSE)=\"H\", SUMIFS(Registros!H:H, Registros!B:B, \"<=\" & fecha_final, Registros!I:I, \"=\"& '03'!A10)-SUMIFS(Registros!G:G, Registros!B:B, \"<=\" & fecha_final, Registros!I:I, \"=\"& '03'!A10), SUMIFS(Registros!G:G, Registros!B:B, \"<=\" & fecha_final, Registros!I:I, \"=\"& '03'!A10)-SUMIFS(Registros!H:H, Registros!B:B, \"<=\" & fecha_final, Registros!I:I, \"=\"& '03'!A10)), 0)","v":1801629.04},null,210200,"DOCUMENTOS POR PAGAR",{"$f":"IF(E10<>\"\", IF(VLOOKUP(E10, plan_cuentas, 4, FALSE)=\"H\", SUMIFS(Registros!H:H, Registros!B:B, \"<=\" & fecha_final, Registros!I:I, \"=\"& '03'!E10)-SUMIFS(Registros!G:G, Registros!B:B, \"<=\" & fecha_final, Registros!I:I, \"=\"& '03'!E10), SUMIFS(Registros!G:G, Registros!B:B, \"<=\" & fecha_final, Registros!I:I, \"=\"& '03'!E10)-SUMIFS(Registros!H:H, Registros!B:B, \"<=\" & fecha_final, Registros!I:I, \"=\"& '03'!E10)), 0)","v":0}]
[110300,"INVERSIONES EN VALORES",{"$f":"IF(A11<>\"\", IF(VLOOKUP(A11, plan_cuentas, 4, FALSE)=\"H\", SUMIFS(Registros!H:H, Registros!B:B, \"<=\" & fecha_final, Registros!I:I, \"=\"& '03'!A11)-SUMIFS(Registros!G:G, Registros!B:B, \"<=\" & fecha_final, Registros!I:I, \"=\"& '03'!A11), SUMIFS(Registros!G:G, Registros!B:B, \"<=\" & fecha_final, Registros!I:I, \"=\"& '03'!A11)-SUMIFS(Registros!H:H, Registros!B:B, \"<=\" & fecha_final, Registros!I:I, \"=\"& '03'!A11)), 0)","v":0},null,210300,"IMPUESTOS POR PAGAR",{"$f":"IF(E11<>\"\", IF(VLOOKUP(E11, plan_cuentas, 4, FALSE)=\"H\", SUMIFS(Registros!H:H, Registros!B:B, \"<=\" & fecha_final, Registros!I:I, \"=\"& '03'!E11)-SUMIFS(Registros!G:G, Registros!B:B, \"<=\" & fecha_final, Registros!I:I, \"=\"& '03'!E11), SUMIFS(Registros!G:G, Registros!B:B, \"<=\" & fecha_final, Registros!I:I, \"=\"& '03'!E11)-SUMIFS(Registros!H:H, Registros!B:B, \"<=\" & fecha_final, Registros!I:I, \"=\"& '03'!E11)), 0)","v":52240.14}]
[110400,"CUENTAS Y DOCUMENTOS POR COBRAR",{"$f":"IF(A12<>\"\", IF(VLOOKUP(A12, plan_cuentas, 4, FALSE)=\"H\", SUMIFS(Registros!H:H, Registros!B:B, \"<=\" & fecha_final, Registros!I:I, \"=\"& '03'!A12)-SUMIFS(Registros!G:G, Registros!B:B, \"<=\" & fecha_final, Registros!I:I, \"=\"& '03'!A12), SUMIFS(Registros!G:G, Registros!B:B, \"<=\" & fecha_final, Registros!I:I, \"=\"& '03'!A12)-SUMIFS(Registros!H:H, Registros!B:B, \"<=\" & fecha_final, Registros!I:I, \"=\"& '03'!A12)), 0)","v":1771.7800000000002},null,210400,"GASTOS ACUMULADOS POR PAGAR",{"$f":"IF(E12<>\"\", IF(VLOOKUP(E12, plan_cuentas, 4, FALSE)=\"H\", SUMIFS(Registros!H:H, Registros!B:B, \"<=\" & fecha_final, Registros!I:I, \"=\"& '03'!E12)-SUMIFS(Registros!G:G, Registros!B:B, \"<=\" & fecha_final, Registros!I:I, \"=\"& '03'!E12), SUMIFS(Registros!G:G, Registros!B:B, \"<=\" & fecha_final, Registros!I:I, \"=\"& '03'!E12)-SUMIFS(Registros!H:H, Registros!B:B, \"<=\" & fecha_final, Registros!I:I, \"=\"& '03'!E12)), 0)","v":-11384.82}]
[110500,"DEUDORES DIVERSOS",{"$f":"IF(A13<>\"\", IF(VLOOKUP(A13, plan_cuentas, 4, FALSE)=\"H\", SUMIFS(Registros!H:H, Registros!B:B, \"<=\" & fecha_final, Registros!I:I, \"=\"& '03'!A13)-SUMIFS(Registros!G:G, Registros!B:B, \"<=\" & fecha_final, Registros!I:I, \"=\"& '03'!A13), SUMIFS(Registros!G:G, Registros!B:B, \"<=\" & fecha_final, Registros!I:I, \"=\"& '03'!A13)-SUMIFS(Registros!H:H, Registros!B:B, \"<=\" & fecha_final, Registros!I:I, \"=\"& '03'!A13)), 0)","v":0},null,null,"SUB TOTAL PASIVOS CORRIENTES",{"$f":"SUM(G9:G12)","v":40855.32}]
[110600,"INVENTARIOS",{"$f":"IF(A14<>\"\", IF(VLOOKUP(A14, plan_cuentas, 4, FALSE)=\"H\", SUMIFS(Registros!H:H, Registros!B:B, \"<=\" & fecha_final, Registros!I:I, \"=\"& '03'!A14)-SUMIFS(Registros!G:G, Registros!B:B, \"<=\" & fecha_final, Registros!I:I, \"=\"& '03'!A14), SUMIFS(Registros!G:G, Registros!B:B, \"<=\" & fecha_final, Registros!I:I, \"=\"& '03'!A14)-SUMIFS(Registros!H:H, Registros!B:B, \"<=\" & fecha_final, Registros!I:I, \"=\"& '03'!A14)), 0)","v":107675.34000000001},null,300000,{"$f":"IF(E14<>\"\", IFERROR(VLOOKUP(E14, plan_cuentas, 2, FALSE), \"CÓDIGO INCORRECTO\"), \"\")","v":"CAPITAL"}]
[null,"SUB TOTAL ACTIVOS CORRIENTES",{"$f":"SUM(C9:C14)","v":1929751.9600000002},null,310000,"CAPITAL SOCIAL"]
[120000,{"$f":"IF(A16<>\"\", IFERROR(VLOOKUP(A16, plan_cuentas, 2, FALSE), \"CÓDIGO INCORRECTO\"), \"\")","v":"ACTIVOS NO CORRIENTES"},null,null,310101,"FONDO EN RESERVA",{"$f":"IF(E16<>\"\", IF(VLOOKUP(E16, plan_cuentas, 4, FALSE)=\"H\", SUMIFS(Registros!H:H, Registros!B:B, \"<=\" & fecha_final, Registros!C:C, \"=\"& '03'!E16)-SUMIFS(Registros!G:G, Registros!B:B, \"<=\" & fecha_final, Registros!C:C, \"=\"& '03'!E16), SUMIFS(Registros!G:G, Registros!B:B, \"<=\" & fecha_final, Registros!C:C, \"=\"& '03'!E16)-SUMIFS(Registros!H:H, Registros!B:B, \"<=\" & fecha_final, Registros!C:C, \"=\"& '03'!E16)), 0)","v":0}]
[120300,{"$f":"IF(A17<>\"\", IFERROR(VLOOKUP(A17, plan_cuentas, 2, FALSE), \"CÓDIGO INCORRECTO\"), \"\")","v":"MOBILIARIO"},{"$f":"IF(A17<>\"\", IF(VLOOKUP(A17, plan_cuentas, 4, FALSE)=\"H\", SUMIFS(Registros!H:H, Registros!B:B, \"<=\" & fecha_final, Registros!I:I, \"=\"& '03'!A17)-SUMIFS(Registros!G:G, Registros!B:B, \"<=\" & fecha_final, Registros!I:I, \"=\"& '03'!A17), SUMIFS(Registros!G:G, Registros!B:B, \"<=\" & fecha_final, Registros!I:I, \"=\"& '03'!A17)-SUMIFS(Registros!H:H, Registros!B:B, \"<=\" & fecha_final, Registros!I:I, \"=\"& '03'!A17)), 0)","v":3099},null,310102,"FONDO PATRIMONIAL",{"$f":"IF(E17<>\"\", IF(VLOOKUP(E17, plan_cuentas, 4, FALSE)=\"H\", SUMIFS(Registros!H:H, Registros!B:B, \"<=\" & fecha_final, Registros!C:C, \"=\"& '03'!E17)-SUMIFS(Registros!G:G, Registros!B:B, \"<=\" & fecha_final, Registros!C:C, \"=\"& '03'!E17), SUMIFS(Registros!G:G, Registros!B:B, \"<=\" & fecha_final, Registros!C:C, \"=\"& '03'!E17)-SUMIFS(Registros!H:H, Registros!B:B, \"<=\" & fecha_final, Registros!C:C, \"=\"& '03'!E17)), 0)","v":1137240.94}]
[120400,{"$f":"IF(A18<>\"\", IFERROR(VLOOKUP(A18, plan_cuentas, 2, FALSE), \"CÓDIGO INCORRECTO\"), \"\")","v":"EQUIPO"},{"$f":"IF(A18<>\"\", IF(VLOOKUP(A18, plan_cuentas, 4, FALSE)=\"H\", SUMIFS(Registros!H:H, Registros!B:B, \"<=\" & fecha_final, Registros!I:I, \"=\"& '03'!A18)-SUMIFS(Registros!G:G, Registros!B:B, \"<=\" & fecha_final, Registros!I:I, \"=\"& '03'!A18), SUMIFS(Registros!G:G, Registros!B:B, \"<=\" & fecha_final, Registros!I:I, \"=\"& '03'!A18)-SUMIFS(Registros!H:H, Registros!B:B, \"<=\" & fecha_final, Registros!I:I, \"=\"& '03'!A18)), 0)","v":42921.39},null,310201,"RESULTADOS ACUMULADOS",{"$f":"IF(E18<>\"\", IF(VLOOKUP(E18, plan_cuentas, 4, FALSE)=\"H\", SUMIFS(Registros!H:H, Registros!B:B, \"<=\" & fecha_final, Registros!C:C, \"=\"& '03'!E18)-SUMIFS(Registros!G:G, Registros!B:B, \"<=\" & fecha_final, Registros!C:C, \"=\"& '03'!E18), SUMIFS(Registros!G:G, Registros!B:B, \"<=\" & fecha_final, Registros!C:C, \"=\"& '03'!E18)-SUMIFS(Registros!H:H, Registros!B:B, \"<=\" & fecha_final, Registros!C:C, \"=\"& '03'!E18)), 0)","v":0}]
[130000,{"$f":"IF(A19<>\"\", IFERROR(VLOOKUP(A19, plan_cuentas, 2, FALSE), \"CÓDIGO INCORRECTO\"), \"\")","v":"DEPRECIACIÓN ACUMULADA"},{"$f":"IF(A19<>\"\", IF(VLOOKUP(A19, plan_cuentas, 4, FALSE)=\"H\", SUMIFS(Registros!H:H, Registros!B:B, \"<=\" & fecha_final, Registros!I:I, \"=\"& '03'!A19)-SUMIFS(Registros!G:G, Registros!B:B, \"<=\" & fecha_final, Registros!I:I, \"=\"& '03'!A19), SUMIFS(Registros!G:G, Registros!B:B, \"<=\" & fecha_final, Registros!I:I, \"=\"& '03'!A19)-SUMIFS(Registros!H:H, Registros!B:B, \"<=\" & fecha_final, Registros!I:I, \"=\"& '03'!A19)), 0)","v":0},null,310202,"RESULTADOS DEL EJERCICIO",{"$f":"'02'!E36","v":797676.09000000008}]
[null,"SUB TOTAL ACTIVO NO CORRIENTE NETO",{"$f":"SUM(C17:C19)","v":46020.39},null,null,"SUB TOTAL CAPITAL",{"$f":"SUM(G16:G19)","v":1934917.03}]
[140000,{"$f":"IF(A21<>\"\", IFERROR(VLOOKUP(A21, plan_cuentas, 2, FALSE), \"CÓDIGO INCORRECTO\"), \"\")","v":"OTROS ACTIVOS"},null,null,null,""]
[140100,{"$f":"IF(A22<>\"\", IFERROR(VLOOKUP(A22, plan_cuentas, 2, FALSE), \"CÓDIGO INCORRECTO\"), \"\")","v":"DEPÓSITOS EN GARANTÍA"},{"$f":"IF(A22<>\"\", IF(VLOOKUP(A22, plan_cuentas, 4, FALSE)=\"H\", SUMIFS(Registros!H:H, Registros!B:B, \"<=\" & fecha_final, Registros!I:I, \"=\"& '03'!A22)-SUMIFS(Registros!G:G, Registros!B:B, \"<=\" & fecha_final, Registros!I:I, \"=\"& '03'!A22), SUMIFS(Registros!G:G, Registros!B:B, \"<=\" & fecha_final, Registros!I:I, \"=\"& '03'!A22)-SUMIFS(Registros!H:H, Registros!B:B, \"<=\" & fecha_final, Registros!I:I, \"=\"& '03'!A22)), 0)","v":0}]
[null,"SUBTOTAL OTROS ACTIVOS",{"$f":"SUM(C22)","v":0},null,null,{"$f":"IF(E23<>\"\", IFERROR(VLOOKUP(E23, plan_cuentas, 2, FALSE), \"CÓDIGO INCORRECTO\"), \"\")","v":""}]
[null,"TOTAL ACTIVOS",{"$f":"C15+C20+C23","v":1975772.35},null,null,"TOTAL PASIVO + CAPITAL",{"$f":"G13+G20","v":1975772.35}]
[null,null,{"$f":"ABS(C24-G24)","v":0}]
[]
[]
[null,"ELABORADO POR:",null,null,null,"AUTORIZADO POR:"]
[null,{"$f":"IF(B28<>\"\", VLOOKUP(B28, users, 3, FALSE), \"\")","v":"Anielka Galán"},null,null,null,{"$f":"IF(F28<>\"\", VLOOKUP(F28, users, 3, FALSE), \"\")","v":"Rodrigo Castro Potoy"}]

{"sheet":"CKS","index":16,"n_rows":37,"n_cols":28,"rows_kept":37,"cut":false,"hidden":false,"merged":[[1,0,1,4],[2,0,2,4],[3,0,3,4]]}
[]
[{"$f":"bussiness_name","v":"SOCIEDAD CIVIL COMUNIDAD CONNECT"}]
["CONTROL DE CHEQUES"]
[{"$f":"address & \"----TELÉFONO: ----\" & tel & \"----E-MAIL: ----\" & email","v":"Esquina sureste del Parque Central, San Juan del sur, Nicaragua.----TELÉFONO: ----25682731----E-MAIL: ----info@comunidadconnect.org"}]
[]
["Suma de VALOR","Rótulos de columna"]
["Rótulos de fila",5,31,32,267,269,270,271,272,273,275,278,279,280,282,284,285,287,288,289,290,291,293,294,295,298,301,"Total general"]
["CTA. CTE. 356894501 C$",null,null,null,9331,2245.31,10365,3965,12128.4,13366.71,5847.75,41958,8299.85,14202,142020,1915,6071.04,7903.15,14892.01,4205.82,4616.29,9400,29775.34,1527.63,4278.3500000000004,1745.63,2700,352759.28]
["ACTIVIDADES SOCIALES ",null,null,null,9331,null,null,null,null,null,5847.75,null,8299.85,null,null,null,null,null,null,null,null,null,null,null,null,null,null,23478.6]
["ADMINISTRATIVOS Y GENERALES",null,null,null,null,769.31,3935,null,null,null,null,null,null,null,null,null,null,null,null,null,null,null,null,null,null,null,null,4704.3099999999995]
["APORTE SOCIAL",null,null,null,null,1176,null,3965,null,null,null,null,null,null,null,null,null,null,null,null,null,null,null,null,null,null,null,5141]
["COMBUSTIBLE ",null,null,null,null,null,800,null,null,null,null,null,null,null,null,null,null,null,null,null,null,null,null,null,null,null,null,800]
["GASTOS VARIOS",null,null,null,null,null,427,null,null,null,null,null,null,null,null,null,null,null,null,null,null,null,null,null,null,null,98,525]
["GASTOS VARIOS ADMINISTRATIVOS",null,null,null,null,null,null,null,null,null,null,null,null,null,null,null,null,null,null,4205.82,null,null,null,null,null,1745.63,null,5951.45]
["INSUMOS Y SUMINISTRO CAMPO VERDE",null,null,null,null,null,null,null,null,null,null,null,null,null,null,null,null,null,null,null,null,null,null,null,1311.35,null,null,1311.35]
["OTROS PAGOS",null,null,null,null,null,null,null,null,null,null,null,null,14202,null,null,6071.04,null,null,null,null,null,null,null,null,null,null,20273.04]
["OTROS PAGOS ",null,null,null,null,null,null,null,null,null,null,null,null,null,142020,null,null,null,null,null,null,null,null,null,null,null,null,142020]
["PAPELERÍA Y ÚTILES DE OFICINA",null,null,null,null,null,null,null,null,null,null,null,null,null,null,null,null,null,null,null,null,null,null,null,null,null,150,150]
["PRODUCTOS DE LIMPIEZA",null,null,null,null,null,null,null,null,null,null,null,null,null,null,null,null,null,null,null,null,null,null,null,null,null,750,750]
["SALARIOS",null,null,null,null,null,null,null,null,null,null,null,null,null,null,1915,null,null,null,null,null,9400,null,null,1601,null,null,12916]
["SERVICIO DE ALIMENTACIÓN",null,null,null,null,null,null,null,12128.4,null,null,null,null,null,null,null,null,null,null,null,4616.29,null,null,null,null,null,null,16744.689999999999]
["SERVICIO DE HOSPEDAJE",null,null,null,null,null,760,null,null,null,null,null,null,null,null,null,null,null,null,null,null,null,null,null,null,null,null,760]
["SERVICIO DE TRANSPORTE",null,null,null,null,null,3552,null,null,null,null,null,null,null,null,null,null,null,null,null,null,null,null,null,1176,null,null,4728]
["SERVICIO DE TRANSPORTE ",null,null,null,null,null,null,null,null,null,null,null,null,null,null,null,null,null,null,null,null,null,29775.34,1527.63,null,null,null,31302.97]
["SERVICIOS DE HOSPEDAJE",null,null,null,null,null,null,null,null,13366.71,null,41958,null,null,null,null,null,7903.15,14892.01,null,null,null,null,null,null,null,null,78119.87]
["TELEFONÍA FIJA Y CELULAR",null,null,null,null,null,null,null,null,null,null,null,null,null,null,null,null,null,null,null,null,null,null,null,null,null,342,342]
["VIÁTICOS ALIMENTACIÓN Y TRANSPORTE",null,null,null,null,null,null,null,null,null,null,null,null,null,null,null,null,null,null,null,null,null,null,null,null,null,1360,1360]
["VIATICOS DE ALIMENTACIÓN Y TRANSPORTE",null,null,null,null,300,null,null,null,null,null,null,null,null,null,null,null,null,null,null,null,null,null,null,null,null,null,300]
["VIATICOS DE ALIMENTANCIÓN Y TRANSPORTE",null,null,null,null,null,891,null,null,null,null,null,null,null,null,null,null,null,null,null,null,null,null,null,190,null,null,1081]
["CTA. CTE. 357144914  U$",null,2000,13284.39,null,null,null,null,null,null,null,null,null,null,null,null,null,null,null,null,null,null,null,null,null,null,null,15284.39]
["CAJA CHICA",null,300,null,null,null,null,null,null,null,null,null,null,null,null,null,null,null,null,null,null,null,null,null,null,null,null,300]
["GASTOS VARIOS ADMINISTRATIVOS",null,1000,null,null,null,null,null,null,null,null,null,null,null,null,null,null,null,null,null,null,null,null,null,null,null,null,1000]
["SERVICIO ENERGÍA ELÉCTRICA",null,700,null,null,null,null,null,null,null,null,null,null,null,null,null,null,null,null,null,null,null,null,null,null,null,null,700]
["SERVICIOS DE HOSPEDAJE",null,null,13284.39,null,null,null,null,null,null,null,null,null,null,null,null,null,null,null,null,null,null,null,null,null,null,null,13284.39]
["CTA.CTE. 357605203 EEUU US",390600,null,null,null,null,null,null,null,null,null,null,null,null,null,null,null,null,null,null,null,null,null,null,null,null,null,390600]
["CTA. CTE. 356894501 C$",390600,null,null,null,null,null,null,null,null,null,null,null,null,null,null,null,null,null,null,null,null,null,null,null,null,null,390600]
["Total general",390600,2000,13284.39,9331,2245.31,10365,3965,12128.4,13366.71,5847.75,41958,8299.85,14202,142020,1915,6071.04,7903.15,14892.01,4205.82,4616.29,9400,29775.34,1527.63,4278.3500000000004,1745.63,2700,758643.67]

{"sheet":"CKCTRL","index":17,"n_rows":59,"n_cols":6,"rows_kept":59,"cut":false,"hidden":false,"merged":[[1,0,1,4],[2,0,2,4],[3,0,3,4]]}
[]
[{"$f":"bussiness_name","v":"SOCIEDAD CIVIL COMUNIDAD CONNECT"}]
["CONTROL DE CHEQUES"]
[{"$f":"address & \"----TELÉFONO: ----\" & tel & \"----E-MAIL: ----\" & email","v":"Esquina sureste del Parque Central, San Juan del sur, Nicaragua.----TELÉFONO: ----25682731----E-MAIL: ----info@comunidadconnect.org"}]
[]
["No. ASIENTO","FECHA","No. CK","CUENTA BANCARIA","BENEFICIARIO","VALOR"]
[113,"2014-07-02",267,"CTA. CTE. 356894501 C$","ACTIVIDADES SOCIALES ",9331]
[114,"2014-07-09",269,"CTA. CTE. 356894501 C$","APORTE SOCIAL",1176]
[114,"2014-07-09",269,"CTA. CTE. 356894501 C$","ADMINISTRATIVOS Y GENERALES",769.31]
[114,"2014-07-09",269,"CTA. CTE. 356894501 C$","VIATICOS DE ALIMENTACIÓN Y TRANSPORTE",300]
[115,"2014-07-09",270,"CTA. CTE. 356894501 C$","SERVICIO DE TRANSPORTE",1176]
[115,"2014-07-09",270,"CTA. CTE. 356894501 C$","VIATICOS DE ALIMENTANCIÓN Y TRANSPORTE",191]
[115,"2014-07-09",270,"CTA. CTE. 356894501 C$","SERVICIO DE TRANSPORTE",1176]
[115,"2014-07-09",270,"CTA. CTE. 356894501 C$","ADMINISTRATIVOS Y GENERALES",2445]
[115,"2014-07-09",270,"CTA. CTE. 356894501 C$","SERVICIO DE HOSPEDAJE",760]
[115,"2014-07-09",270,"CTA. CTE. 356894501 C$","VIATICOS DE ALIMENTANCIÓN Y TRANSPORTE",700]
[115,"2014-07-09",270,"CTA. CTE. 356894501 C$","ADMINISTRATIVOS Y GENERALES",900]
[115,"2014-07-09",270,"CTA. CTE. 356894501 C$","GASTOS VARIOS",330]
[115,"2014-07-09",270,"CTA. CTE. 356894501 C$","COMBUSTIBLE ",800]
[115,"2014-07-09",270,"CTA. CTE. 356894501 C$","GASTOS VARIOS",97]
[115,"2014-07-09",270,"CTA. CTE. 356894501 C$","ADMINISTRATIVOS Y GENERALES",590]
[115,"2014-07-09",270,"CTA. CTE. 356894501 C$","SERVICIO DE TRANSPORTE",800]
[115,"2014-07-09",270,"CTA. CTE. 356894501 C$","SERVICIO DE TRANSPORTE",400]
[116,"2014-07-09",271,"CTA. CTE. 356894501 C$","APORTE SOCIAL",650]
[116,"2014-07-09",271,"CTA. CTE. 356894501 C$","APORTE SOCIAL",700]
[116,"2014-07-09",271,"CTA. CTE. 356894501 C$","APORTE SOCIAL",1165]
[116,"2014-07-09",271,"CTA. CTE. 356894501 C$","APORTE SOCIAL",1450]
[124,"2014-07-18",5,"CTA.CTE. 357605203 EEUU US","CTA. CTE. 356894501 C$",390600]
[128,"2014-07-04",32,"CTA. CTE. 357144914  U$","SERVICIOS DE HOSPEDAJE",13284.39]
[137,"2014-07-10",272,"CTA. CTE. 356894501 C$","SERVICIO DE ALIMENTACIÓN",12128.4]
[138,"2014-07-10",273,"CTA. CTE. 356894501 C$","SERVICIOS DE HOSPEDAJE",13366.71]
[140,"2014-07-11",279,"CTA. CTE. 356894501 C$","ACTIVIDADES SOCIALES ",8299.85]
[141,"2014-07-11",278,"CTA. CTE. 356894501 C$","SERVICIOS DE HOSPEDAJE",41958]
[142,"2014-07-11",275,"CTA. CTE. 356894501 C$","ACTIVIDADES SOCIALES ",5847.75]
[143,"2014-07-11",282,"CTA. CTE. 356894501 C$","OTROS PAGOS ",142020]
[144,"2014-07-11",280,"CTA. CTE. 356894501 C$","OTROS PAGOS",14202]
[145,"2014-07-15",285,"CTA. CTE. 356894501 C$","OTROS PAGOS",6071.04]
[147,"2014-07-16",293,"CTA. CTE. 356894501 C$","SERVICIO DE TRANSPORTE ",29775.34]
[148,"2014-07-16",295,"CTA. CTE. 356894501 C$","SERVICIO DE TRANSPORTE",1176]
[148,"2014-07-16",295,"CTA. CTE. 356894501 C$","VIATICOS DE ALIMENTANCIÓN Y TRANSPORTE",190]
[148,"2014-07-16",295,"CTA. CTE. 356894501 C$","INSUMOS Y SUMINISTRO CAMPO VERDE",1000]
[148,"2014-07-16",295,"CTA. CTE. 356894501 C$","INSUMOS Y SUMINISTRO CAMPO VERDE",311.35000000000002]
[148,"2014-07-16",295,"CTA. CTE. 356894501 C$","SALARIOS",1601]
[149,"2014-07-16",294,"CTA. CTE. 356894501 C$","SERVICIO DE TRANSPORTE ",1527.63]
[150,"2014-07-16",291,"CTA. CTE. 356894501 C$","SALARIOS",9400]
[151,"2014-07-16",290,"CTA. CTE. 356894501 C$","SERVICIO DE ALIMENTACIÓN",4616.29]
[152,"2014-07-16",289,"CTA. CTE. 356894501 C$","GASTOS VARIOS ADMINISTRATIVOS",4205.82]
[153,"2014-07-16",288,"CTA. CTE. 356894501 C$","SERVICIOS DE HOSPEDAJE",14892.01]
[154,"2014-07-16",287,"CTA. CTE. 356894501 C$","SERVICIOS DE HOSPEDAJE",7903.15]
[155,"2014-07-15",284,"CTA. CTE. 356894501 C$","SALARIOS",1915]
[158,"2014-07-17",298,"CTA. CTE. 356894501 C$","GASTOS VARIOS ADMINISTRATIVOS",1745.63]
[159,"2014-07-03",31,"CTA. CTE. 357144914  U$","GASTOS VARIOS ADMINISTRATIVOS",1000]
[159,"2014-07-03",31,"CTA. CTE. 357144914  U$","CAJA CHICA",300]
[159,"2014-07-03",31,"CTA. CTE. 357144914  U$","SERVICIO ENERGÍA ELÉCTRICA",700]
[160,"2014-07-21",301,"CTA. CTE. 356894501 C$","PAPELERÍA Y ÚTILES DE OFICINA",150]
[160,"2014-07-21",301,"CTA. CTE. 356894501 C$","TELEFONÍA FIJA Y CELULAR",342]
[160,"2014-07-21",301,"CTA. CTE. 356894501 C$","VIÁTICOS ALIMENTACIÓN Y TRANSPORTE",1360]
[160,"2014-07-21",301,"CTA. CTE. 356894501 C$","GASTOS VARIOS",98]
[160,"2014-07-21",301,"CTA. CTE. 356894501 C$","PRODUCTOS DE LIMPIEZA",750]

{"sheet":"LM","index":18,"n_rows":81,"n_cols":5,"rows_kept":81,"cut":false,"hidden":false,"merged":[[1,0,1,4],[2,0,2,4],[3,0,3,4]]}
[]
[{"$f":"bussiness_name","v":"SOCIEDAD CIVIL COMUNIDAD CONNECT"}]
[{"$f":"\"LIBRO MAYOR DE \" & B6","v":"LIBRO MAYOR DE CTA. CTE. 356894501 C$"}]
[{"$f":"address & \"----TELÉFONO: ----\" & tel & \"----E-MAIL: ----\" & email","v":"Esquina sureste del Parque Central, San Juan del sur, Nicaragua.----TELÉFONO: ----25682731----E-MAIL: ----info@comunidadconnect.org"}]
[]
[110201,{"$f":"UPPER(IF(A6<>\"\",VLOOKUP(A6,plan_cuentas,2,FALSE), \"\"))","v":"CTA. CTE. 356894501 C$"}]
["FECHA","DESCRIPCIÓN DE LA TRANSACCIÓN","DÉBITOS","CRÉDITOS","SALDO"]
["2014-07-01","Saldo inicial de la cuenta",0,0,29278.910000000018]
["2014-07-02","Pago por Compra de Materiales de Construcción.",null,9331,19947.910000000018]
["2014-07-09","Pago por compras a trofeos de PD",null,1176,18771.910000000018]
["2014-07-09","Pago de Servicos Basicos PD -  Enacal",null,769.31,18002.600000000017]
["2014-07-09","Pago de viaticos coordinador PD - Viaje a MGA",null,300,17702.600000000017]
["2014-07-09","Pago de servico de transporte - EG3",null,1176,16526.600000000017]
["2014-07-09","Pago de Viaticos EG3",null,191,16335.600000000017]
["2014-07-09","Pago de servico de transporte - EG3",null,1176,15159.600000000017]
["2014-07-09","Pago de almuerzo donantes y coordinador EG3",null,2445,12714.600000000017]
["2014-07-09","Pago de servico de alojamiento  - EG3",null,760,11954.600000000017]
["2014-07-09","Pago de viaticos EG3 - coordinadora",null,700,11254.600000000017]
["2014-07-09","Pago de traductor para donantes EG3",null,900,10354.600000000017]
["2014-07-09","Pago de compras varias EG3",null,330,10024.600000000017]
["2014-07-09","Pago de combustible viaje a Gigante - EG3",null,800,9224.6000000000167]
["2014-07-09","Pago de compras varias EG3",null,97,9127.6000000000167]
["2014-07-09","Pago de alimentación para donantes y coordinadora",null,590,8537.6000000000167]
["2014-07-09","Pago de transporte EG3",null,800,7737.6000000000167]
["2014-07-09","Pago de transporte EG3 - SJDS  Rivas Coordinadora",null,400,7337.6000000000167]
["2014-07-09","Pago de Aporte social a estudiante José Eliseo Talavera - Escuela Secundaria",null,650,6687.6000000000167]
["2014-07-09","Pago de Aporte social a estudiante Heysel Bojorge - Universitaria",null,700,5987.6000000000167]
["2014-07-09","Pago de Matrícula del II Semestre  de estudiante Heysel Bojorge Romero. ",null,1165,4822.6000000000167]
["2014-07-09","Pago de Beca a estudiante Sinia Bustos .",null,1450,3372.6000000000167]
["2014-07-09","Depósito de sobrantes del Programa Becas El Carrizal",885,null,4257.6000000000167]
["2014-07-09","Depósito de sobrantes del Programa Becas El Carrizal",null,885,3372.6000000000167]
["2014-07-02","Ingreso por transferencia G.O - SCCC",38730,null,42102.60000000002]
["2014-07-08","Ingreso de Transferencia G.O - SCCC",25840,null,67942.60000000002]
["2014-07-10","Ingreso por transferencia G.O - SCCC",64600,null,132542.60000000003]
["2014-07-11","Ingreso de transferencia para cubrir G.O - SCCC",278980,null,411522.60000000003]
["2014-07-18","Ingreso por transferencia G.O - SCCC",390600,null,802122.60000000009]
["2014-07-21","Ingreso de donación a Proyecto NA. CARRIZAL",28546.75,null,830669.35000000009]
["2014-07-23","Ingreso de Proyecto N.A - Gigante - Guacalito de la Isla",126959,null,957628.35000000009]
["2014-07-25","Ingrso por transferencia G.O - SCCC .traslado de fondos de la cuenta # 576",76305.759999999995,null,1033934.1100000001]
["2014-07-01","TD - Compra de combustible viaje a Jiniotega - NCHC",null,4080.75,1029853.3600000001]
["2014-07-01","Retiro de fondos - viaticos NCHC",null,983.16,1028870.2000000001]
["2014-07-01","Fondos son Justificar DE - Deducción de planilla",null,16.84,1028853.3600000001]
["2014-07-02","Pago de renta de Local SJDS",null,5087.9799999999996,1023765.3800000001]
["2014-07-06","TD - Pago de Combustible, viaje a Jinotega",null,790,1022975.3800000001]
["2014-07-06","TD - Viaticos de alimentación Viaje a Jinotega",null,858.02,1022117.3600000001]
["2014-07-09","Retiro de Fondos - Alimenatción de Guia de Grupo HO.I",null,103.5,1022013.8600000001]
["2014-07-09","Retiro de Fondos - Transporte de Guia a la comunidad LoS  Robles Jinotega",null,400,1021613.8600000001]
["2014-07-09","Retiro de Fondos Viaticos de alimenatción y transporte Guia de Grupo H.O.I",null,470,1021143.8600000001]
["2014-07-09","Retiro de Fondos - Compras Varias",null,639.26,1020504.6000000001]
["2014-07-09","Retiro de Fondos , compra de materiales para construcción de cocinas mejoradas",null,6048.34,1014456.2600000001]
["2014-07-08","Retiro de Fondos reembolso de gastos varios con H.O.I - Jinotega",null,10,1014446.2600000001]
["2014-07-10","Pago de alimentación del grupo BR1",null,12128.4,1002317.8600000001]
["2014-07-10","Pago de cancelacion de alojamiento BR1",null,13366.71,988951.15000000014]
["2014-07-11","Pago de Canopy , actividades libres de BR1",null,8299.85,980651.30000000016]
["2014-07-11","Pago por Servicio de Hospedaje BR 1 ",null,41958,938693.30000000016]
["2014-07-11","Pago de actividades libres de BR 1",null,5847.75,932845.55000000016]
["2014-07-11","Pago de Asesorias y coordinaciones de proyectos de Marzo  a Julio 2015",null,142020,790825.55000000016]
["2014-07-11","Pago de guia de grupo BR1",null,14202,776623.55000000016]
["2014-07-15","Pago por clases de Ingles",null,6071.04,770552.51000000013]
["2014-07-15","Retiro de fondos - Pago de servicios de tradución",null,900,769652.51000000013]
["2014-07-16","Pago de servicio de transporte BR1",null,29775.34,739877.17000000016]
["2014-07-16","Pago de Viaje a Gigante EG III",null,1176,738701.17000000016]
["2014-07-16","Viaticos de alimentación EGIII",null,190,738511.17000000016]
["2014-07-16","Compra de Pesa para acopio EGIII",null,1000,737511.17000000016]
["2014-07-16","Compras varias para EGIII",null,311.35000000000002,737199.82000000018]
["2014-07-16","Salario de David R, y Rut M. Embajadores EGII , 6 días de trabajo",null,1601,735598.82000000018]
["2014-07-16","Pago de Transporte  BR 1    ",null,1527.63,734071.19000000018]
["2014-07-16","Pago de Salario a Tecnica RAAS",null,9400,724671.19000000018]
["2014-07-16","Pago por Servicio de Restaurante H.O.I",null,4616.29,720054.90000000014]
["2014-07-16","Pago de servicio de transpoorte para JT al aeropuerto",null,4205.82,715849.08000000019]
["2014-07-16","Pago de alojamiento Alojamiento grupo H.O.I ",null,14892.01,700957.07000000018]
["2014-07-16","Pago de servicio de hospedaje BR1",null,7903.15,693053.92000000016]
["2014-07-15","Pago a tecnica RANN, PRIMERA QUINCENA DEL MES",null,1915,691138.92000000016]
["2014-07-17","Pago de depreciación camioneta MJ",null,1745.63,689393.29000000015]
["2014-07-21","Compras administrativas oficina",null,150,689243.29000000015]
["2014-07-21","Reacrgas telefonicas",null,342,688901.29000000015]
["2014-07-21","Viaticos de alimentación y trasnprote ",null,1360,687541.29000000015]
["2014-07-21","Compras de agua",null,98,687443.29000000015]
["2014-07-21","Pago de limpieza",null,750,686693.29000000015]
["2014-07-01","TD - Cena de DE - Visita a Jinotega ",null,180,686513.29000000015]
["2014-07-01","Pago  de Servico de Tapiceria de Forro de asiento para camioneta",null,1323,685190.29000000015]

{"sheet":"110000","index":19,"n_rows":66,"n_cols":6,"rows_kept":66,"cut":false,"hidden":false,"merged":[[70,2,70,3],[65,0,65,1],[65,4,65,5],[66,0,66,1],[66,4,66,5],[68,2,68,3],[69,2,69,3],[7,5,8,5],[59,0,59,1],[63,0,63,1],[63,4,63,5],[64,0,64,1],[64,4,64,5],[7,0,8,0],[7,1,8,1],[7,2,8,2],[7,3,8,3],[7,4,8,4],[1,0,1,5],[2,0,2,5],[3,0,3,5],[4,0,4,5],[6,3,6,5]]}
[null,null,null,null,"Desproteger"]
[{"$f":"bussiness_name","v":"SOCIEDAD CIVIL COMUNIDAD CONNECT"}]
[{"$f":"\"RESUMEN CONTABLE DE \"&B7","v":"RESUMEN CONTABLE DE ACTIVOS CORRIENTES"}]
[{"$f":"\"DEL \"&TEXT(fecha_inicial, \"DD\")&\" DE \"&UPPER(TEXT(fecha_inicial, \"MMMM\"))&\" DEL \" & TEXT(fecha_inicial, \"YYYY\") & \" AL \"&TEXT(fecha_final, \"DD\")&\" DE \"&UPPER(TEXT(fecha_final, \"MMMM\"))&\" DEL \"&TEXT(fecha_final, \"YYYY\")","v":"DEL 01 DE JULIO DEL 2014 AL 31 DE JULIO DEL 2014"}]
[{"$f":"address & \" *** Tel/Fax:  \" & tel & \" *** \" & email","v":"Esquina sureste del Parque Central, San Juan del sur, Nicaragua. *** Tel/Fax:  25682731 *** info@comunidadconnect.org"}]
[]
[110000,{"$f":"UPPER(IF(ISBLANK(A7),\"\",IFERROR(VLOOKUP(A7,plan_cuentas,2,FALSE),\"Código de cuenta incorrecto\")))","v":"ACTIVOS CORRIENTES"},null,{"$f":"\"MOVIMIENTOS DE \"&UPPER(TEXT(fecha_final, \"MMMM\"))","v":"MOVIMIENTOS DE JULIO"}]
["CODIGO","NOMBRE DE LA CUENTA","SALDO INICIAL","DEBITOS","CREDITOS","SALDO FINAL"]
[]
[]
[110100,{"$f":"IF(A11<>\"\", IF(ISERROR(VLOOKUP(A11, plan_cuentas,2, FALSE)), \"Código de Cuenta Incorrecto\", UPPER(VLOOKUP(A11, plan_cuentas, 2, FALSE))), \"\")","v":"CAJA"},{"$f":"SUM(C12:C17)","v":18375.8},{"$f":"SUM(D12:D17)","v":300},{"$f":"SUM(E12:E17)","v":0},{"$f":"C11+D11-E11","v":18675.8}]
[110101,{"$f":"IF(A12<>\"\", IF(ISERROR(VLOOKUP(A12, plan_cuentas,2, FALSE)), \"Código de Cuenta Incorrecto\", UPPER(VLOOKUP(A12, plan_cuentas, 2, FALSE))), \"\")","v":"CAJA CHICA"},{"$f":"IF(ISBLANK(A12),0,SUMIFS(Registros!G:G,Registros!B:B,\"<\"&fecha_inicial,Registros!C:C,\"=\"&A12)-IF(ISBLANK(A12),0,SUMIFS(Registros!H:H,Registros!B:B,\"<\"&fecha_inicial,Registros!C:C,\"=\"&A12)))","v":18375.8},{"$f":"IF(ISBLANK(A12),0,SUMIFS(Registros!G:G,Registros!B:B,\">=\"&fecha_inicial, Registros!B:B, \"<=\"&fecha_final,Registros!C:C,\"=\"&A12))","v":300},{"$f":"IF(ISBLANK(A12),0,SUMIFS(Registros!H:H,Registros!B:B,\">=\"&fecha_inicial, Registros!B:B, \"<=\"&fecha_final,Registros!C:C,\"=\"&A12))","v":0},{"$f":"C12+D12-E12","v":18675.8}]
[null,{"$f":"IF(A13<>0, IF(ISERROR(VLOOKUP(A13, plan_cuentas,2, FALSE)), \"Código de Cuenta Incorrecto\", UPPER(VLOOKUP(A13, plan_cuentas, 2, FALSE))), \"\")","v":""},{"$f":"IF(ISBLANK(A13),0,SUMIFS(Registros!G:G,Registros!B:B,\"<\"&fecha_inicial,Registros!C:C,\"=\"&A13)-IF(ISBLANK(A13),0,SUMIFS(Registros!H:H,Registros!B:B,\"<\"&fecha_inicial,Registros!C:C,\"=\"&A13)))","v":0},{"$f":"IF(ISBLANK(A13),0,SUMIFS(Registros!G:G,Registros!B:B,\">=\"&fecha_inicial, Registros!B:B, \"<=\"&fecha_final,Registros!C:C,\"=\"&A13))","v":0},{"$f":"IF(ISBLANK(A13),0,SUMIFS(Registros!H:H,Registros!B:B,\">=\"&fecha_inicial, Registros!B:B, \"<=\"&fecha_final,Registros!C:C,\"=\"&A13))","v":0},{"$f":"C13+D13-E13","v":0}]
[null,"",{"$f":"IF(ISBLANK(A14),0,SUMIFS(Registros!G:G,Registros!B:B,\"<\"&fecha_inicial,Registros!C:C,\"=\"&A14)-IF(ISBLANK(A14),0,SUMIFS(Registros!H:H,Registros!B:B,\"<\"&fecha_inicial,Registros!C:C,\"=\"&A14)))","v":0},{"$f":"IF(ISBLANK(A14),0,SUMIFS(Registros!G:G,Registros!B:B,\">=\"&fecha_inicial, Registros!B:B, \"<=\"&fecha_final,Registros!C:C,\"=\"&A14))","v":0},{"$f":"IF(ISBLANK(A14),0,SUMIFS(Registros!H:H,Registros!B:B,\">=\"&fecha_inicial, Registros!B:B, \"<=\"&fecha_final,Registros!C:C,\"=\"&A14))","v":0},0]
[null,"",{"$f":"IF(ISBLANK(A15),0,SUMIFS(Registros!G:G,Registros!B:B,\"<\"&fecha_inicial,Registros!C:C,\"=\"&A15)-IF(ISBLANK(A15),0,SUMIFS(Registros!H:H,Registros!B:B,\"<\"&fecha_inicial,Registros!C:C,\"=\"&A15)))","v":0},{"$f":"IF(ISBLANK(A15),0,SUMIFS(Registros!G:G,Registros!B:B,\">=\"&fecha_inicial, Registros!B:B, \"<=\"&fecha_final,Registros!C:C,\"=\"&A15))","v":0},{"$f":"IF(ISBLANK(A15),0,SUMIFS(Registros!H:H,Registros!B:B,\">=\"&fecha_inicial, Registros!B:B, \"<=\"&fecha_final,Registros!C:C,\"=\"&A15))","v":0},0]
[null,"",{"$f":"IF(ISBLANK(A16),0,SUMIFS(Registros!G:G,Registros!B:B,\"<\"&fecha_inicial,Registros!C:C,\"=\"&A16)-IF(ISBLANK(A16),0,SUMIFS(Registros!H:H,Registros!B:B,\"<\"&fecha_inicial,Registros!C:C,\"=\"&A16)))","v":0},{"$f":"IF(ISBLANK(A16),0,SUMIFS(Registros!G:G,Registros!B:B,\">=\"&fecha_inicial, Registros!B:B, \"<=\"&fecha_final,Registros!C:C,\"=\"&A16))","v":0},{"$f":"IF(ISBLANK(A16),0,SUMIFS(Registros!H:H,Registros!B:B,\">=\"&fecha_inicial, Registros!B:B, \"<=\"&fecha_final,Registros!C:C,\"=\"&A16))","v":0},0]
[null,"",{"$f":"IF(ISBLANK(A17),0,SUMIFS(Registros!G:G,Registros!B:B,\"<\"&fecha_inicial,Registros!C:C,\"=\"&A17)-IF(ISBLANK(A17),0,SUMIFS(Registros!H:H,Registros!B:B,\"<\"&fecha_inicial,Registros!C:C,\"=\"&A17)))","v":0},{"$f":"IF(ISBLANK(A17),0,SUMIFS(Registros!G:G,Registros!B:B,\">=\"&fecha_inicial, Registros!B:B, \"<=\"&fecha_final,Registros!C:C,\"=\"&A17))","v":0},{"$f":"IF(ISBLANK(A17),0,SUMIFS(Registros!H:H,Registros!B:B,\">=\"&fecha_inicial, Registros!B:B, \"<=\"&fecha_final,Registros!C:C,\"=\"&A17))","v":0},0]
[110200,{"$f":"IF(A18<>0, IF(ISERROR(VLOOKUP(A18, plan_cuentas,2, FALSE)), \"Código de Cuenta Incorrecto\", UPPER(VLOOKUP(A18, plan_cuentas, 2, FALSE))), \"\")","v":"BANCOS"},{"$f":"SUM(C19:C24)","v":463515.62},{"$f":"SUM(D19:D24)","v":3007890.64},{"$f":"SUM(E19:E24)","v":1669777.22},{"$f":"SUM(F19:F24)","v":1801629.04}]
[110201,{"$f":"IF(A19<>\"\", IF(ISERROR(VLOOKUP(A19, plan_cuentas,2, FALSE)), \"Código de Cuenta Incorrecto\", UPPER(VLOOKUP(A19, plan_cuentas, 2, FALSE))), \"\")","v":"CTA. CTE. 356894501 C$"},{"$f":"IF(ISBLANK(A19),0,SUMIFS(Registros!G:G,Registros!B:B,\"<\"&fecha_inicial,Registros!C:C,\"=\"&A19)-IF(ISBLANK(A19),0,SUMIFS(Registros!H:H,Registros!B:B,\"<\"&fecha_inicial,Registros!C:C,\"=\"&A19)))","v":29278.910000000018},{"$f":"IF(ISBLANK(A19),0,SUMIFS(Registros!G:G,Registros!B:B,\">=\"&fecha_inicial, Registros!B:B, \"<=\"&fecha_final,Registros!C:C,\"=\"&A19))","v":1031446.51},{"$f":"IF(ISBLANK(A19),0,SUMIFS(Registros!H:H,Registros!B:B,\">=\"&fecha_inicial, Registros!B:B, \"<=\"&fecha_final,Registros!C:C,\"=\"&A19))","v":385317.48999999993},675407.92999999993]
[110202,"CTA. CTE. 357144914  U$",{"$f":"IF(ISBLANK(A20),0,SUMIFS(Registros!G:G,Registros!B:B,\"<\"&fecha_inicial,Registros!C:C,\"=\"&A20)-IF(ISBLANK(A20),0,SUMIFS(Registros!H:H,Registros!B:B,\"<\"&fecha_inicial,Registros!C:C,\"=\"&A20)))","v":60747.91},{"$f":"IF(ISBLANK(A20),0,SUMIFS(Registros!G:G,Registros!B:B,\">=\"&fecha_inicial, Registros!B:B, \"<=\"&fecha_final,Registros!C:C,\"=\"&A20))","v":385595.65},{"$f":"IF(ISBLANK(A20),0,SUMIFS(Registros!H:H,Registros!B:B,\">=\"&fecha_inicial, Registros!B:B, \"<=\"&fecha_final,Registros!C:C,\"=\"&A20))","v":23808.32},422535.24000000005]
[110203,"CTA. CTE. 356894576 U$",{"$f":"IF(ISBLANK(A21),0,SUMIFS(Registros!G:G,Registros!B:B,\"<\"&fecha_inicial,Registros!C:C,\"=\"&A21)-IF(ISBLANK(A21),0,SUMIFS(Registros!H:H,Registros!B:B,\"<\"&fecha_inicial,Registros!C:C,\"=\"&A21)))","v":310355},{"$f":"IF(ISBLANK(A21),0,SUMIFS(Registros!G:G,Registros!B:B,\">=\"&fecha_inicial, Registros!B:B, \"<=\"&fecha_final,Registros!C:C,\"=\"&A21))","v":0},{"$f":"IF(ISBLANK(A21),0,SUMIFS(Registros!H:H,Registros!B:B,\">=\"&fecha_inicial, Registros!B:B, \"<=\"&fecha_final,Registros!C:C,\"=\"&A21))","v":218995.76},91359.239999999991]
[110204,"CTA.CTE. 357605203 EEUU US",{"$f":"IF(ISBLANK(A22),0,SUMIFS(Registros!G:G,Registros!B:B,\"<\"&fecha_inicial,Registros!C:C,\"=\"&A22)-IF(ISBLANK(A22),0,SUMIFS(Registros!H:H,Registros!B:B,\"<\"&fecha_inicial,Registros!C:C,\"=\"&A22)))","v":63133.8},{"$f":"IF(ISBLANK(A22),0,SUMIFS(Registros!G:G,Registros!B:B,\">=\"&fecha_inicial, Registros!B:B, \"<=\"&fecha_final,Registros!C:C,\"=\"&A22))","v":1590848.48},{"$f":"IF(ISBLANK(A22),0,SUMIFS(Registros!H:H,Registros!B:B,\">=\"&fecha_inicial, Registros!B:B, \"<=\"&fecha_final,Registros!C:C,\"=\"&A22))","v":1041655.65},612326.63]
[110205,"DEPOSITO DE FONDOS NO EJECUTADOS",{"$f":"IF(ISBLANK(A23),0,SUMIFS(Registros!G:G,Registros!B:B,\"<\"&fecha_inicial,Registros!C:C,\"=\"&A23)-IF(ISBLANK(A23),0,SUMIFS(Registros!H:H,Registros!B:B,\"<\"&fecha_inicial,Registros!C:C,\"=\"&A23)))","v":0},{"$f":"IF(ISBLANK(A23),0,SUMIFS(Registros!G:G,Registros!B:B,\">=\"&fecha_inicial, Registros!B:B, \"<=\"&fecha_final,Registros!C:C,\"=\"&A23))","v":0},{"$f":"IF(ISBLANK(A23),0,SUMIFS(Registros!H:H,Registros!B:B,\">=\"&fecha_inicial, Registros!B:B, \"<=\"&fecha_final,Registros!C:C,\"=\"&A23))","v":0},0]
[110206,"DEPOSITO DE RETENCIONES EFECTUADAS",{"$f":"IF(ISBLANK(A24),0,SUMIFS(Registros!G:G,Registros!B:B,\"<\"&fecha_inicial,Registros!C:C,\"=\"&A24)-IF(ISBLANK(A24),0,SUMIFS(Registros!H:H,Registros!B:B,\"<\"&fecha_inicial,Registros!C:C,\"=\"&A24)))","v":0},{"$f":"IF(ISBLANK(A24),0,SUMIFS(Registros!G:G,Registros!B:B,\">=\"&fecha_inicial, Registros!B:B, \"<=\"&fecha_final,Registros!C:C,\"=\"&A24))","v":0},{"$f":"IF(ISBLANK(A24),0,SUMIFS(Registros!H:H,Registros!B:B,\">=\"&fecha_inicial, Registros!B:B, \"<=\"&fecha_final,Registros!C:C,\"=\"&A24))","v":0},0]
[110300,{"$f":"IF(A25<>0, IF(ISERROR(VLOOKUP(A25, plan_cuentas,2, FALSE)), \"Código de Cuenta Incorrecto\", UPPER(VLOOKUP(A25, plan_cuentas, 2, FALSE))), \"\")","v":"INVERSIONES EN VALORES"},{"$f":"SUM(C26:C31)","v":0},{"$f":"SUM(D26:D31)","v":0},{"$f":"SUM(E26:E31)","v":0},0]
[110301,{"$f":"IF(A26<>\"\", IF(ISERROR(VLOOKUP(A26, plan_cuentas,2, FALSE)), \"Código de Cuenta Incorrecto\", UPPER(VLOOKUP(A26, plan_cuentas, 2, FALSE))), \"\")","v":"PAPEL COMERCIAL"},{"$f":"IF(ISBLANK(A26),0,SUMIFS(Registros!G:G,Registros!B:B,\"<\"&fecha_inicial,Registros!C:C,\"=\"&A26)-IF(ISBLANK(A26),0,SUMIFS(Registros!H:H,Registros!B:B,\"<\"&fecha_inicial,Registros!C:C,\"=\"&A26)))","v":0},{"$f":"IF(ISBLANK(A26),0,SUMIFS(Registros!G:G,Registros!B:B,\">=\"&fecha_inicial, Registros!B:B, \"<=\"&fecha_final,Registros!C:C,\"=\"&A26))","v":0},{"$f":"IF(ISBLANK(A26),0,SUMIFS(Registros!H:H,Registros!B:B,\">=\"&fecha_inicial, Registros!B:B, \"<=\"&fecha_final,Registros!C:C,\"=\"&A26))","v":0},0]
[null,"",{"$f":"IF(ISBLANK(A27),0,SUMIFS(Registros!G:G,Registros!B:B,\"<\"&fecha_inicial,Registros!C:C,\"=\"&A27)-IF(ISBLANK(A27),0,SUMIFS(Registros!H:H,Registros!B:B,\"<\"&fecha_inicial,Registros!C:C,\"=\"&A27)))","v":0},{"$f":"IF(ISBLANK(A27),0,SUMIFS(Registros!G:G,Registros!B:B,\">=\"&fecha_inicial, Registros!B:B, \"<=\"&fecha_final,Registros!C:C,\"=\"&A27))","v":0},{"$f":"IF(ISBLANK(A27),0,SUMIFS(Registros!H:H,Registros!B:B,\">=\"&fecha_inicial, Registros!B:B, \"<=\"&fecha_final,Registros!C:C,\"=\"&A27))","v":0},0]
[null,"",{"$f":"IF(ISBLANK(A28),0,SUMIFS(Registros!G:G,Registros!B:B,\"<\"&fecha_inicial,Registros!C:C,\"=\"&A28)-IF(ISBLANK(A28),0,SUMIFS(Registros!H:H,Registros!B:B,\"<\"&fecha_inicial,Registros!C:C,\"=\"&A28)))","v":0},{"$f":"IF(ISBLANK(A28),0,SUMIFS(Registros!G:G,Registros!B:B,\">=\"&fecha_inicial, Registros!B:B, \"<=\"&fecha_final,Registros!C:C,\"=\"&A28))","v":0},{"$f":"IF(ISBLANK(A28),0,SUMIFS(Registros!H:H,Registros!B:B,\">=\"&fecha_inicial, Registros!B:B, \"<=\"&fecha_final,Registros!C:C,\"=\"&A28))","v":0},0]
[null,"",{"$f":"IF(ISBLANK(A29),0,SUMIFS(Registros!G:G,Registros!B:B,\"<\"&fecha_inicial,Registros!C:C,\"=\"&A29)-IF(ISBLANK(A29),0,SUMIFS(Registros!H:H,Registros!B:B,\"<\"&fecha_inicial,Registros!C:C,\"=\"&A29)))","v":0},{"$f":"IF(ISBLANK(A29),0,SUMIFS(Registros!G:G,Registros!B:B,\">=\"&fecha_inicial, Registros!B:B, \"<=\"&fecha_final,Registros!C:C,\"=\"&A29))","v":0},{"$f":"IF(ISBLANK(A29),0,SUMIFS(Registros!H:H,Registros!B:B,\">=\"&fecha_inicial, Registros!B:B, \"<=\"&fecha_final,Registros!C:C,\"=\"&A29))","v":0},0]
[null,"",{"$f":"IF(ISBLANK(A30),0,SUMIFS(Registros!G:G,Registros!B:B,\"<\"&fecha_inicial,Registros!C:C,\"=\"&A30)-IF(ISBLANK(A30),0,SUMIFS(Registros!H:H,Registros!B:B,\"<\"&fecha_inicial,Registros!C:C,\"=\"&A30)))","v":0},{"$f":"IF(ISBLANK(A30),0,SUMIFS(Registros!G:G,Registros!B:B,\">=\"&fecha_inicial, Registros!B:B, \"<=\"&fecha_final,Registros!C:C,\"=\"&A30))","v":0},{"$f":"IF(ISBLANK(A30),0,SUMIFS(Registros!H:H,Registros!B:B,\">=\"&fecha_inicial, Registros!B:B, \"<=\"&fecha_final,Registros!C:C,\"=\"&A30))","v":0},0]
[null,"",{"$f":"IF(ISBLANK(A31),0,SUMIFS(Registros!G:G,Registros!B:B,\"<\"&fecha_inicial,Registros!C:C,\"=\"&A31)-IF(ISBLANK(A31),0,SUMIFS(Registros!H:H,Registros!B:B,\"<\"&fecha_inicial,Registros!C:C,\"=\"&A31)))","v":0},{"$f":"IF(ISBLANK(A31),0,SUMIFS(Registros!G:G,Registros!B:B,\">=\"&fecha_inicial, Registros!B:B, \"<=\"&fecha_final,Registros!C:C,\"=\"&A31))","v":0},{"$f":"IF(ISBLANK(A31),0,SUMIFS(Registros!H:H,Registros!B:B,\">=\"&fecha_inicial, Registros!B:B, \"<=\"&fecha_final,Registros!C:C,\"=\"&A31))","v":0},0]
[110400,"CUENTAS Y DOCUMENTOS POR COBRAR",{"$f":"SUM(C33:C38)","v":1000},{"$f":"SUM(D33:D38)","v":771.78000000000009},{"$f":"SUM(E33:E38)","v":0},1771.7800000000002]
[110401,"CUENTAS POR COBRAR A CLIENTES",{"$f":"IF(ISBLANK(A33),0,SUMIFS(Registros!G:G,Registros!B:B,\"<\"&fecha_inicial,Registros!C:C,\"=\"&A33)-IF(ISBLANK(A33),0,SUMIFS(Registros!H:H,Registros!B:B,\"<\"&fecha_inicial,Registros!C:C,\"=\"&A33)))","v":0},{"$f":"IF(ISBLANK(A33),0,SUMIFS(Registros!G:G,Registros!B:B,\">=\"&fecha_inicial, Registros!B:B, \"<=\"&fecha_final,Registros!C:C,\"=\"&A33))","v":0},{"$f":"IF(ISBLANK(A33),0,SUMIFS(Registros!H:H,Registros!B:B,\">=\"&fecha_inicial, Registros!B:B, \"<=\"&fecha_final,Registros!C:C,\"=\"&A33))","v":0},0]
[110402,"CUENTAS POR COBRAR A EMPLEADOS",{"$f":"IF(ISBLANK(A34),0,SUMIFS(Registros!G:G,Registros!B:B,\"<\"&fecha_inicial,Registros!C:C,\"=\"&A34)-IF(ISBLANK(A34),0,SUMIFS(Registros!H:H,Registros!B:B,\"<\"&fecha_inicial,Registros!C:C,\"=\"&A34)))","v":1000},{"$f":"IF(ISBLANK(A34),0,SUMIFS(Registros!G:G,Registros!B:B,\">=\"&fecha_inicial, Registros!B:B, \"<=\"&fecha_final,Registros!C:C,\"=\"&A34))","v":771.78000000000009},{"$f":"IF(ISBLANK(A34),0,SUMIFS(Registros!H:H,Registros!B:B,\">=\"&fecha_inicial, Registros!B:B, \"<=\"&fecha_final,Registros!C:C,\"=\"&A34))","v":0},1771.7800000000002]
[null,"",{"$f":"IF(ISBLANK(A35),0,SUMIFS(Registros!G:G,Registros!B:B,\"<\"&fecha_inicial,Registros!C:C,\"=\"&A35)-IF(ISBLANK(A35),0,SUMIFS(Registros!H:H,Registros!B:B,\"<\"&fecha_inicial,Registros!C:C,\"=\"&A35)))","v":0},{"$f":"IF(ISBLANK(A35),0,SUMIFS(Registros!G:G,Registros!B:B,\">=\"&fecha_inicial, Registros!B:B, \"<=\"&fecha_final,Registros!C:C,\"=\"&A35))","v":0},{"$f":"IF(ISBLANK(A35),0,SUMIFS(Registros!H:H,Registros!B:B,\">=\"&fecha_inicial, Registros!B:B, \"<=\"&fecha_final,Registros!C:C,\"=\"&A35))","v":0},0]
[null,"",{"$f":"IF(ISBLANK(A36),0,SUMIFS(Registros!G:G,Registros!B:B,\"<\"&fecha_inicial,Registros!C:C,\"=\"&A36)-IF(ISBLANK(A36),0,SUMIFS(Registros!H:H,Registros!B:B,\"<\"&fecha_inicial,Registros!C:C,\"=\"&A36)))","v":0},{"$f":"IF(ISBLANK(A36),0,SUMIFS(Registros!G:G,Registros!B:B,\">=\"&fecha_inicial, Registros!B:B, \"<=\"&fecha_final,Registros!C:C,\"=\"&A36))","v":0},{"$f":"IF(ISBLANK(A36),0,SUMIFS(Registros!H:H,Registros!B:B,\">=\"&fecha_inicial, Registros!B:B, \"<=\"&fecha_final,Registros!C:C,\"=\"&A36))","v":0},0]
[null,"",{"$f":"IF(ISBLANK(A37),0,SUMIFS(Registros!G:G,Registros!B:B,\"<\"&fecha_inicial,Registros!C:C,\"=\"&A37)-IF(ISBLANK(A37),0,SUMIFS(Registros!H:H,Registros!B:B,\"<\"&fecha_inicial,Registros!C:C,\"=\"&A37)))","v":0},{"$f":"IF(ISBLANK(A37),0,SUMIFS(Registros!G:G,Registros!B:B,\">=\"&fecha_inicial, Registros!B:B, \"<=\"&fecha_final,Registros!C:C,\"=\"&A37))","v":0},{"$f":"IF(ISBLANK(A37),0,SUMIFS(Registros!H:H,Registros!B:B,\">=\"&fecha_inicial, Registros!B:B, \"<=\"&fecha_final,Registros!C:C,\"=\"&A37))","v":0},0]
[null,"",{"$f":"IF(ISBLANK(A38),0,SUMIFS(Registros!G:G,Registros!B:B,\"<\"&fecha_inicial,Registros!C:C,\"=\"&A38)-IF(ISBLANK(A38),0,SUMIFS(Registros!H:H,Registros!B:B,\"<\"&fecha_inicial,Registros!C:C,\"=\"&A38)))","v":0},{"$f":"IF(ISBLANK(A38),0,SUMIFS(Registros!G:G,Registros!B:B,\">=\"&fecha_inicial, Registros!B:B, \"<=\"&fecha_final,Registros!C:C,\"=\"&A38))","v":0},{"$f":"IF(ISBLANK(A38),0,SUMIFS(Registros!H:H,Registros!B:B,\">=\"&fecha_inicial, Registros!B:B, \"<=\"&fecha_final,Registros!C:C,\"=\"&A38))","v":0},0]
[110500,"DEUDORES DIVERSOS",{"$f":"SUM(C40:C45)","v":0},{"$f":"SUM(D40:D45)","v":0},{"$f":"SUM(E40:E45)","v":0},0]
[110501,"FONDOS POR JUSTIFICAR",{"$f":"IF(ISBLANK(A40),0,SUMIFS(Registros!G:G,Registros!B:B,\"<\"&fecha_inicial,Registros!C:C,\"=\"&A40)-IF(ISBLANK(A40),0,SUMIFS(Registros!H:H,Registros!B:B,\"<\"&fecha_inicial,Registros!C:C,\"=\"&A40)))","v":0},{"$f":"IF(ISBLANK(A40),0,SUMIFS(Registros!G:G,Registros!B:B,\">=\"&fecha_inicial, Registros!B:B, \"<=\"&fecha_final,Registros!C:C,\"=\"&A40))","v":0},{"$f":"IF(ISBLANK(A40),0,SUMIFS(Registros!H:H,Registros!B:B,\">=\"&fecha_inicial, Registros!B:B, \"<=\"&fecha_final,Registros!C:C,\"=\"&A40))","v":0},0]
[null,"",{"$f":"IF(ISBLANK(A41),0,SUMIFS(Registros!G:G,Registros!B:B,\"<\"&fecha_inicial,Registros!C:C,\"=\"&A41)-IF(ISBLANK(A41),0,SUMIFS(Registros!H:H,Registros!B:B,\"<\"&fecha_inicial,Registros!C:C,\"=\"&A41)))","v":0},{"$f":"IF(ISBLANK(A41),0,SUMIFS(Registros!G:G,Registros!B:B,\">=\"&fecha_inicial, Registros!B:B, \"<=\"&fecha_final,Registros!C:C,\"=\"&A41))","v":0},{"$f":"IF(ISBLANK(A41),0,SUMIFS(Registros!H:H,Registros!B:B,\">=\"&fecha_inicial, Registros!B:B, \"<=\"&fecha_final,Registros!C:C,\"=\"&A41))","v":0},0]
[null,"",{"$f":"IF(ISBLANK(A42),0,SUMIFS(Registros!G:G,Registros!B:B,\"<\"&fecha_inicial,Registros!C:C,\"=\"&A42)-IF(ISBLANK(A42),0,SUMIFS(Registros!H:H,Registros!B:B,\"<\"&fecha_inicial,Registros!C:C,\"=\"&A42)))","v":0},{"$f":"IF(ISBLANK(A42),0,SUMIFS(Registros!G:G,Registros!B:B,\">=\"&fecha_inicial, Registros!B:B, \"<=\"&fecha_final,Registros!C:C,\"=\"&A42))","v":0},{"$f":"IF(ISBLANK(A42),0,SUMIFS(Registros!H:H,Registros!B:B,\">=\"&fecha_inicial, Registros!B:B, \"<=\"&fecha_final,Registros!C:C,\"=\"&A42))","v":0},0]
[null,"",{"$f":"IF(ISBLANK(A43),0,SUMIFS(Registros!G:G,Registros!B:B,\"<\"&fecha_inicial,Registros!C:C,\"=\"&A43)-IF(ISBLANK(A43),0,SUMIFS(Registros!H:H,Registros!B:B,\"<\"&fecha_inicial,Registros!C:C,\"=\"&A43)))","v":0},{"$f":"IF(ISBLANK(A43),0,SUMIFS(Registros!G:G,Registros!B:B,\">=\"&fecha_inicial, Registros!B:B, \"<=\"&fecha_final,Registros!C:C,\"=\"&A43))","v":0},{"$f":"IF(ISBLANK(A43),0,SUMIFS(Registros!H:H,Registros!B:B,\">=\"&fecha_inicial, Registros!B:B, \"<=\"&fecha_final,Registros!C:C,\"=\"&A43))","v":0},0]
[null,"",{"$f":"IF(ISBLANK(A44),0,SUMIFS(Registros!G:G,Registros!B:B,\"<\"&fecha_inicial,Registros!C:C,\"=\"&A44)-IF(ISBLANK(A44),0,SUMIFS(Registros!H:H,Registros!B:B,\"<\"&fecha_inicial,Registros!C:C,\"=\"&A44)))","v":0},{"$f":"IF(ISBLANK(A44),0,SUMIFS(Registros!G:G,Registros!B:B,\">=\"&fecha_inicial, Registros!B:B, \"<=\"&fecha_final,Registros!C:C,\"=\"&A44))","v":0},{"$f":"IF(ISBLANK(A44),0,SUMIFS(Registros!H:H,Registros!B:B,\">=\"&fecha_inicial, Registros!B:B, \"<=\"&fecha_final,Registros!C:C,\"=\"&A44))","v":0},0]
[null,"",{"$f":"IF(ISBLANK(A45),0,SUMIFS(Registros!G:G,Registros!B:B,\"<\"&fecha_inicial,Registros!C:C,\"=\"&A45)-IF(ISBLANK(A45),0,SUMIFS(Registros!H:H,Registros!B:B,\"<\"&fecha_inicial,Registros!C:C,\"=\"&A45)))","v":0},{"$f":"IF(ISBLANK(A45),0,SUMIFS(Registros!G:G,Registros!B:B,\">=\"&fecha_inicial, Registros!B:B, \"<=\"&fecha_final,Registros!C:C,\"=\"&A45))","v":0},{"$f":"IF(ISBLANK(A45),0,SUMIFS(Registros!H:H,Registros!B:B,\">=\"&fecha_inicial, Registros!B:B, \"<=\"&fecha_final,Registros!C:C,\"=\"&A45))","v":0},0]
[110600,{"$f":"IF(A46<>0, IF(ISERROR(VLOOKUP(A46, plan_cuentas,2, FALSE)), \"Código de Cuenta Incorrecto\", UPPER(VLOOKUP(A46, plan_cuentas, 2, FALSE))), \"\")","v":"INVENTARIOS"},{"$f":"SUM(C47:C52)","v":107525.34},{"$f":"SUM(D47:D52)","v":150},{"$f":"SUM(E47:E52)","v":0},{"$f":"C46+D46-E46","v":107675.34}]
[110601,{"$f":"IF(A47<>\"\", IF(ISERROR(VLOOKUP(A47, plan_cuentas,2, FALSE)), \"Código de Cuenta Incorrecto\", UPPER(VLOOKUP(A47, plan_cuentas, 2, FALSE))), \"\")","v":"EQUIPO DEPORTIVO"},{"$f":"IF(ISBLANK(A47),0,SUMIFS(Registros!G:G,Registros!B:B,\"<\"&fecha_inicial,Registros!C:C,\"=\"&A47)-IF(ISBLANK(A47),0,SUMIFS(Registros!H:H,Registros!B:B,\"<\"&fecha_inicial,Registros!C:C,\"=\"&A47)))","v":0},{"$f":"IF(ISBLANK(A47),0,SUMIFS(Registros!G:G,Registros!B:B,\">=\"&fecha_inicial, Registros!B:B, \"<=\"&fecha_final,Registros!C:C,\"=\"&A47))","v":0},{"$f":"IF(ISBLANK(A47),0,SUMIFS(Registros!H:H,Registros!B:B,\">=\"&fecha_inicial, Registros!B:B, \"<=\"&fecha_final,Registros!C:C,\"=\"&A47))","v":0},0]
[110602,{"$f":"IF(A48<>0, IF(ISERROR(VLOOKUP(A48, plan_cuentas,2, FALSE)), \"Código de Cuenta Incorrecto\", UPPER(VLOOKUP(A48, plan_cuentas, 2, FALSE))), \"\")","v":"MATERIALES DE CONSTRUCCIÓN"},{"$f":"IF(ISBLANK(A48),0,SUMIFS(Registros!G:G,Registros!B:B,\"<\"&fecha_inicial,Registros!C:C,\"=\"&A48)-IF(ISBLANK(A48),0,SUMIFS(Registros!H:H,Registros!B:B,\"<\"&fecha_inicial,Registros!C:C,\"=\"&A48)))","v":0},{"$f":"IF(ISBLANK(A48),0,SUMIFS(Registros!G:G,Registros!B:B,\">=\"&fecha_inicial, Registros!B:B, \"<=\"&fecha_final,Registros!C:C,\"=\"&A48))","v":0},{"$f":"IF(ISBLANK(A48),0,SUMIFS(Registros!H:H,Registros!B:B,\">=\"&fecha_inicial, Registros!B:B, \"<=\"&fecha_final,Registros!C:C,\"=\"&A48))","v":0},0]
[110603,{"$f":"IF(A49<>0, IF(ISERROR(VLOOKUP(A49, plan_cuentas,2, FALSE)), \"Código de Cuenta Incorrecto\", UPPER(VLOOKUP(A49, plan_cuentas, 2, FALSE))), \"\")","v":"MATERIALES Y SUMINISTROS"},{"$f":"IF(ISBLANK(A49),0,SUMIFS(Registros!G:G,Registros!B:B,\"<\"&fecha_inicial,Registros!C:C,\"=\"&A49)-IF(ISBLANK(A49),0,SUMIFS(Registros!H:H,Registros!B:B,\"<\"&fecha_inicial,Registros!C:C,\"=\"&A49)))","v":73058.84},{"$f":"IF(ISBLANK(A49),0,SUMIFS(Registros!G:G,Registros!B:B,\">=\"&fecha_inicial, Registros!B:B, \"<=\"&fecha_final,Registros!C:C,\"=\"&A49))","v":0},{"$f":"IF(ISBLANK(A49),0,SUMIFS(Registros!H:H,Registros!B:B,\">=\"&fecha_inicial, Registros!B:B, \"<=\"&fecha_final,Registros!C:C,\"=\"&A49))","v":0},73058.84]
[110604,{"$f":"IF(A50<>0, IF(ISERROR(VLOOKUP(A50, plan_cuentas,2, FALSE)), \"Código de Cuenta Incorrecto\", UPPER(VLOOKUP(A50, plan_cuentas, 2, FALSE))), \"\")","v":"EQUIPO E INSUMOS MÉDICOS"},{"$f":"IF(ISBLANK(A50),0,SUMIFS(Registros!G:G,Registros!B:B,\"<\"&fecha_inicial,Registros!C:C,\"=\"&A50)-IF(ISBLANK(A50),0,SUMIFS(Registros!H:H,Registros!B:B,\"<\"&fecha_inicial,Registros!C:C,\"=\"&A50)))","v":2414.85},{"$f":"IF(ISBLANK(A50),0,SUMIFS(Registros!G:G,Registros!B:B,\">=\"&fecha_inicial, Registros!B:B, \"<=\"&fecha_final,Registros!C:C,\"=\"&A50))","v":0},{"$f":"IF(ISBLANK(A50),0,SUMIFS(Registros!H:H,Registros!B:B,\">=\"&fecha_inicial, Registros!B:B, \"<=\"&fecha_final,Registros!C:C,\"=\"&A50))","v":0},2414.85]
[110605,{"$f":"IF(A51<>0, IF(ISERROR(VLOOKUP(A51, plan_cuentas,2, FALSE)), \"Código de Cuenta Incorrecto\", UPPER(VLOOKUP(A51, plan_cuentas, 2, FALSE))), \"\")","v":"PAPELERÍA Y ÚTILES DE OFICINA"},{"$f":"IF(ISBLANK(A51),0,SUMIFS(Registros!G:G,Registros!B:B,\"<\"&fecha_inicial,Registros!C:C,\"=\"&A51)-IF(ISBLANK(A51),0,SUMIFS(Registros!H:H,Registros!B:B,\"<\"&fecha_inicial,Registros!C:C,\"=\"&A51)))","v":24681.83},{"$f":"IF(ISBLANK(A51),0,SUMIFS(Registros!G:G,Registros!B:B,\">=\"&fecha_inicial, Registros!B:B, \"<=\"&fecha_final,Registros!C:C,\"=\"&A51))","v":150},{"$f":"IF(ISBLANK(A51),0,SUMIFS(Registros!H:H,Registros!B:B,\">=\"&fecha_inicial, Registros!B:B, \"<=\"&fecha_final,Registros!C:C,\"=\"&A51))","v":0},24831.83]
[110606,{"$f":"IF(A52<>0, IF(ISERROR(VLOOKUP(A52, plan_cuentas,2, FALSE)), \"Código de Cuenta Incorrecto\", UPPER(VLOOKUP(A52, plan_cuentas, 2, FALSE))), \"\")","v":"PAPELERIA MEMBRETADA"},{"$f":"IF(ISBLANK(A52),0,SUMIFS(Registros!G:G,Registros!B:B,\"<\"&fecha_inicial,Registros!C:C,\"=\"&A52)-IF(ISBLANK(A52),0,SUMIFS(Registros!H:H,Registros!B:B,\"<\"&fecha_inicial,Registros!C:C,\"=\"&A52)))","v":7369.82},{"$f":"IF(ISBLANK(A52),0,SUMIFS(Registros!G:G,Registros!B:B,\">=\"&fecha_inicial, Registros!B:B, \"<=\"&fecha_final,Registros!C:C,\"=\"&A52))","v":0},{"$f":"IF(ISBLANK(A52),0,SUMIFS(Registros!H:H,Registros!B:B,\">=\"&fecha_inicial, Registros!B:B, \"<=\"&fecha_final,Registros!C:C,\"=\"&A52))","v":0},7369.82]
[null,"",{"$f":"SUM(C54:C59)","v":0},{"$f":"SUM(D54:D59)","v":0},{"$f":"SUM(E54:E59)","v":0},0]
[null,"",{"$f":"IF(ISBLANK(A54),0,SUMIFS(Registros!G:G,Registros!B:B,\"<\"&fecha_inicial,Registros!C:C,\"=\"&A54)-IF(ISBLANK(A54),0,SUMIFS(Registros!H:H,Registros!B:B,\"<\"&fecha_inicial,Registros!C:C,\"=\"&A54)))","v":0},{"$f":"IF(ISBLANK(A54),0,SUMIFS(Registros!G:G,Registros!B:B,\">=\"&fecha_inicial, Registros!B:B, \"<=\"&fecha_final,Registros!C:C,\"=\"&A54))","v":0},{"$f":"IF(ISBLANK(A54),0,SUMIFS(Registros!H:H,Registros!B:B,\">=\"&fecha_inicial, Registros!B:B, \"<=\"&fecha_final,Registros!C:C,\"=\"&A54))","v":0},0]
[null,"",{"$f":"IF(ISBLANK(A55),0,SUMIFS(Registros!G:G,Registros!B:B,\"<\"&fecha_inicial,Registros!C:C,\"=\"&A55)-IF(ISBLANK(A55),0,SUMIFS(Registros!H:H,Registros!B:B,\"<\"&fecha_inicial,Registros!C:C,\"=\"&A55)))","v":0},{"$f":"IF(ISBLANK(A55),0,SUMIFS(Registros!G:G,Registros!B:B,\">=\"&fecha_inicial, Registros!B:B, \"<=\"&fecha_final,Registros!C:C,\"=\"&A55))","v":0},{"$f":"IF(ISBLANK(A55),0,SUMIFS(Registros!H:H,Registros!B:B,\">=\"&fecha_inicial, Registros!B:B, \"<=\"&fecha_final,Registros!C:C,\"=\"&A55))","v":0},0]
[null,"",{"$f":"IF(ISBLANK(A56),0,SUMIFS(Registros!G:G,Registros!B:B,\"<\"&fecha_inicial,Registros!C:C,\"=\"&A56)-IF(ISBLANK(A56),0,SUMIFS(Registros!H:H,Registros!B:B,\"<\"&fecha_inicial,Registros!C:C,\"=\"&A56)))","v":0},{"$f":"IF(ISBLANK(A56),0,SUMIFS(Registros!G:G,Registros!B:B,\">=\"&fecha_inicial, Registros!B:B, \"<=\"&fecha_final,Registros!C:C,\"=\"&A56))","v":0},{"$f":"IF(ISBLANK(A56),0,SUMIFS(Registros!H:H,Registros!B:B,\">=\"&fecha_inicial, Registros!B:B, \"<=\"&fecha_final,Registros!C:C,\"=\"&A56))","v":0},0]
[null,"",{"$f":"IF(ISBLANK(A57),0,SUMIFS(Registros!G:G,Registros!B:B,\"<\"&fecha_inicial,Registros!C:C,\"=\"&A57)-IF(ISBLANK(A57),0,SUMIFS(Registros!H:H,Registros!B:B,\"<\"&fecha_inicial,Registros!C:C,\"=\"&A57)))","v":0},{"$f":"IF(ISBLANK(A57),0,SUMIFS(Registros!G:G,Registros!B:B,\">=\"&fecha_inicial, Registros!B:B, \"<=\"&fecha_final,Registros!C:C,\"=\"&A57))","v":0},{"$f":"IF(ISBLANK(A57),0,SUMIFS(Registros!H:H,Registros!B:B,\">=\"&fecha_inicial, Registros!B:B, \"<=\"&fecha_final,Registros!C:C,\"=\"&A57))","v":0},0]
[null,{"$f":"IF(A58<>0, IF(ISERROR(VLOOKUP(A58, plan_cuentas,2, FALSE)), \"Código de Cuenta Incorrecto\", UPPER(VLOOKUP(A58, plan_cuentas, 2, FALSE))), \"\")","v":""},{"$f":"IF(ISBLANK(A58),0,SUMIFS(Registros!G:G,Registros!B:B,\"<\"&fecha_inicial,Registros!C:C,\"=\"&A58)-IF(ISBLANK(A58),0,SUMIFS(Registros!H:H,Registros!B:B,\"<\"&fecha_inicial,Registros!C:C,\"=\"&A58)))","v":0},{"$f":"IF(ISBLANK(A58),0,SUMIFS(Registros!G:G,Registros!B:B,\">=\"&fecha_inicial, Registros!B:B, \"<=\"&fecha_final,Registros!C:C,\"=\"&A58))","v":0},{"$f":"IF(ISBLANK(A58),0,SUMIFS(Registros!H:H,Registros!B:B,\">=\"&fecha_inicial, Registros!B:B, \"<=\"&fecha_final,Registros!C:C,\"=\"&A58))","v":0},0]
[null,"",{"$f":"IF(ISBLANK(A59),0,SUMIFS(Registros!G:G,Registros!B:B,\"<\"&fecha_inicial,Registros!C:C,\"=\"&A59)-IF(ISBLANK(A59),0,SUMIFS(Registros!H:H,Registros!B:B,\"<\"&fecha_inicial,Registros!C:C,\"=\"&A59)))","v":0},{"$f":"IF(ISBLANK(A59),0,SUMIFS(Registros!G:G,Registros!B:B,\">=\"&fecha_inicial, Registros!B:B, \"<=\"&fecha_final,Registros!C:C,\"=\"&A59))","v":0},{"$f":"IF(ISBLANK(A59),0,SUMIFS(Registros!H:H,Registros!B:B,\">=\"&fecha_inicial, Registros!B:B, \"<=\"&fecha_final,Registros!C:C,\"=\"&A59))","v":0},0]
[{"$f":"\"SALDO FINAL DE LA CUENTA AL \" &TEXT(fecha_final, \"dd\")&\" DE \"&UPPER(TEXT(fecha_final, \"MMMM\"))&\" DEL \"& TEXT(fecha_final, \"YYYY\")","v":"SALDO FINAL DE LA CUENTA AL 31 DE JULIO DEL 2014"},null,{"$f":"C11+C18+C25+C46+C32+C39+C53","v":590416.76},{"$f":"D11+D18+D25+D46+D32+D39+D53","v":3009112.42},{"$f":"E11+E18+E25+E46+E32+E39+E53","v":1669777.22},{"$f":"C60+D60-E60","v":1929751.9599999997}]
[]
[]
[]
[]
["AUTORIZADO POR:",null,null,null,"REVISADO POR:"]
[{"$f":"VLOOKUP(A65, Usuarios!B7:E9, 3, FALSE)","v":"Rodrigo Castro Potoy"},null,null,null,{"$f":"VLOOKUP(E65, Usuarios!B7:E9, 3, FALSE)","v":0}]

{"sheet":"120000","index":20,"n_rows":66,"n_cols":6,"rows_kept":66,"cut":false,"hidden":false,"merged":[[70,2,70,3],[65,0,65,1],[65,4,65,5],[66,0,66,1],[66,4,66,5],[68,2,68,3],[69,2,69,3],[7,5,8,5],[59,0,59,1],[63,0,63,1],[63,4,63,5],[64,0,64,1],[64,4,64,5],[7,0,8,0],[7,1,8,1],[7,2,8,2],[7,3,8,3],[7,4,8,4],[1,0,1,5],[2,0,2,5],[3,0,3,5],[4,0,4,5],[6,3,6,5]]}
[null,null,null,null,"Proteger"]
[{"$f":"bussiness_name","v":"SOCIEDAD CIVIL COMUNIDAD CONNECT"}]
[{"$f":"\"RESUMEN CONTABLE DE \"&B7","v":"RESUMEN CONTABLE DE ACTIVOS NO CORRIENTES"}]
[{"$f":"\"DEL \"&TEXT(fecha_inicial, \"DD\")&\" DE \"&UPPER(TEXT(fecha_inicial, \"MMMM\"))&\" DEL \" & TEXT(fecha_inicial, \"YYYY\") & \" AL \"&TEXT(fecha_final, \"DD\")&\" DE \"&UPPER(TEXT(fecha_final, \"MMMM\"))&\" DEL \"&TEXT(fecha_final, \"YYYY\")","v":"DEL 01 DE JULIO DEL 2014 AL 31 DE JULIO DEL 2014"}]
[{"$f":"address & \" *** Tel/Fax:  \" & tel & \" *** \" & email","v":"Esquina sureste del Parque Central, San Juan del sur, Nicaragua. *** Tel/Fax:  25682731 *** info@comunidadconnect.org"}]
[]
[120000,{"$f":"UPPER(IF(ISBLANK(A7),\"\",IFERROR(VLOOKUP(A7,plan_cuentas,2,FALSE),\"Código de cuenta incorrecto\")))","v":"ACTIVOS NO CORRIENTES"},null,{"$f":"\"MOVIMIENTOS DE \"&UPPER(TEXT(fecha_final, \"MMMM\"))","v":"MOVIMIENTOS DE JULIO"}]
["CODIGO","NOMBRE DE LA CUENTA","SALDO INICIAL","DEBITOS","CREDITOS","SALDO FINAL"]
[]
[]
[null,{"$f":"IF(A11<>\"\", IF(ISERROR(VLOOKUP(A11, plan_cuentas,2, FALSE)), \"Código de Cuenta Incorrecto\", UPPER(VLOOKUP(A11, plan_cuentas, 2, FALSE))), \"\")","v":""},{"$f":"SUM(C12:C17)","v":0},{"$f":"SUM(D12:D17)","v":0},{"$f":"SUM(E12:E17)","v":0},{"$f":"C11+D11-E11","v":0}]
[null,{"$f":"IF(A12<>\"\", IF(ISERROR(VLOOKUP(A12, plan_cuentas,2, FALSE)), \"Código de Cuenta Incorrecto\", UPPER(VLOOKUP(A12, plan_cuentas, 2, FALSE))), \"\")","v":""},{"$f":"IF(ISBLANK(A12),0,SUMIFS(Registros!G:G,Registros!B:B,\"<\"&fecha_inicial,Registros!C:C,\"=\"&A12)-IF(ISBLANK(A12),0,SUMIFS(Registros!H:H,Registros!B:B,\"<\"&fecha_inicial,Registros!C:C,\"=\"&A12)))","v":0},{"$f":"IF(ISBLANK(A12),0,SUMIFS(Registros!G:G,Registros!B:B,\">=\"&fecha_inicial, Registros!B:B, \"<=\"&fecha_final,Registros!C:C,\"=\"&A12))","v":0},{"$f":"IF(ISBLANK(A12),0,SUMIFS(Registros!H:H,Registros!B:B,\">=\"&fecha_inicial, Registros!B:B, \"<=\"&fecha_final,Registros!C:C,\"=\"&A12))","v":0},{"$f":"C12+D12-E12","v":0}]
[null,{"$f":"IF(A13<>0, IF(ISERROR(VLOOKUP(A13, plan_cuentas,2, FALSE)), \"Código de Cuenta Incorrecto\", UPPER(VLOOKUP(A13, plan_cuentas, 2, FALSE))), \"\")","v":""},{"$f":"IF(ISBLANK(A13),0,SUMIFS(Registros!G:G,Registros!B:B,\"<\"&fecha_inicial,Registros!C:C,\"=\"&A13)-IF(ISBLANK(A13),0,SUMIFS(Registros!H:H,Registros!B:B,\"<\"&fecha_inicial,Registros!C:C,\"=\"&A13)))","v":0},{"$f":"IF(ISBLANK(A13),0,SUMIFS(Registros!G:G,Registros!B:B,\">=\"&fecha_inicial, Registros!B:B, \"<=\"&fecha_final,Registros!C:C,\"=\"&A13))","v":0},{"$f":"IF(ISBLANK(A13),0,SUMIFS(Registros!H:H,Registros!B:B,\">=\"&fecha_inicial, Registros!B:B, \"<=\"&fecha_final,Registros!C:C,\"=\"&A13))","v":0},{"$f":"C13+D13-E13","v":0}]
[null,"",{"$f":"IF(ISBLANK(A14),0,SUMIFS(Registros!G:G,Registros!B:B,\"<\"&fecha_inicial,Registros!C:C,\"=\"&A14)-IF(ISBLANK(A14),0,SUMIFS(Registros!H:H,Registros!B:B,\"<\"&fecha_inicial,Registros!C:C,\"=\"&A14)))","v":0},{"$f":"IF(ISBLANK(A14),0,SUMIFS(Registros!G:G,Registros!B:B,\">=\"&fecha_inicial, Registros!B:B, \"<=\"&fecha_final,Registros!C:C,\"=\"&A14))","v":0},{"$f":"IF(ISBLANK(A14),0,SUMIFS(Registros!H:H,Registros!B:B,\">=\"&fecha_inicial, Registros!B:B, \"<=\"&fecha_final,Registros!C:C,\"=\"&A14))","v":0},0]
[null,"",{"$f":"IF(ISBLANK(A15),0,SUMIFS(Registros!G:G,Registros!B:B,\"<\"&fecha_inicial,Registros!C:C,\"=\"&A15)-IF(ISBLANK(A15),0,SUMIFS(Registros!H:H,Registros!B:B,\"<\"&fecha_inicial,Registros!C:C,\"=\"&A15)))","v":0},{"$f":"IF(ISBLANK(A15),0,SUMIFS(Registros!G:G,Registros!B:B,\">=\"&fecha_inicial, Registros!B:B, \"<=\"&fecha_final,Registros!C:C,\"=\"&A15))","v":0},{"$f":"IF(ISBLANK(A15),0,SUMIFS(Registros!H:H,Registros!B:B,\">=\"&fecha_inicial, Registros!B:B, \"<=\"&fecha_final,Registros!C:C,\"=\"&A15))","v":0},0]
[null,"",{"$f":"IF(ISBLANK(A16),0,SUMIFS(Registros!G:G,Registros!B:B,\"<\"&fecha_inicial,Registros!C:C,\"=\"&A16)-IF(ISBLANK(A16),0,SUMIFS(Registros!H:H,Registros!B:B,\"<\"&fecha_inicial,Registros!C:C,\"=\"&A16)))","v":0},{"$f":"IF(ISBLANK(A16),0,SUMIFS(Registros!G:G,Registros!B:B,\">=\"&fecha_inicial, Registros!B:B, \"<=\"&fecha_final,Registros!C:C,\"=\"&A16))","v":0},{"$f":"IF(ISBLANK(A16),0,SUMIFS(Registros!H:H,Registros!B:B,\">=\"&fecha_inicial, Registros!B:B, \"<=\"&fecha_final,Registros!C:C,\"=\"&A16))","v":0},0]
[null,"",{"$f":"IF(ISBLANK(A17),0,SUMIFS(Registros!G:G,Registros!B:B,\"<\"&fecha_inicial,Registros!C:C,\"=\"&A17)-IF(ISBLANK(A17),0,SUMIFS(Registros!H:H,Registros!B:B,\"<\"&fecha_inicial,Registros!C:C,\"=\"&A17)))","v":0},{"$f":"IF(ISBLANK(A17),0,SUMIFS(Registros!G:G,Registros!B:B,\">=\"&fecha_inicial, Registros!B:B, \"<=\"&fecha_final,Registros!C:C,\"=\"&A17))","v":0},{"$f":"IF(ISBLANK(A17),0,SUMIFS(Registros!H:H,Registros!B:B,\">=\"&fecha_inicial, Registros!B:B, \"<=\"&fecha_final,Registros!C:C,\"=\"&A17))","v":0},0]
[null,{"$f":"IF(A18<>0, IF(ISERROR(VLOOKUP(A18, plan_cuentas,2, FALSE)), \"Código de Cuenta Incorrecto\", UPPER(VLOOKUP(A18, plan_cuentas, 2, FALSE))), \"\")","v":""},{"$f":"SUM(C19:C24)","v":0},{"$f":"SUM(D19:D24)","v":0},{"$f":"SUM(E19:E24)","v":0},0]
[null,{"$f":"IF(A19<>\"\", IF(ISERROR(VLOOKUP(A19, plan_cuentas,2, FALSE)), \"Código de Cuenta Incorrecto\", UPPER(VLOOKUP(A19, plan_cuentas, 2, FALSE))), \"\")","v":""},{"$f":"IF(ISBLANK(A19),0,SUMIFS(Registros!G:G,Registros!B:B,\"<\"&fecha_inicial,Registros!C:C,\"=\"&A19)-IF(ISBLANK(A19),0,SUMIFS(Registros!H:H,Registros!B:B,\"<\"&fecha_inicial,Registros!C:C,\"=\"&A19)))","v":0},{"$f":"IF(ISBLANK(A19),0,SUMIFS(Registros!G:G,Registros!B:B,\">=\"&fecha_inicial, Registros!B:B, \"<=\"&fecha_final,Registros!C:C,\"=\"&A19))","v":0},{"$f":"IF(ISBLANK(A19),0,SUMIFS(Registros!H:H,Registros!B:B,\">=\"&fecha_inicial, Registros!B:B, \"<=\"&fecha_final,Registros!C:C,\"=\"&A19))","v":0},0]
[null,"",{"$f":"IF(ISBLANK(A20),0,SUMIFS(Registros!G:G,Registros!B:B,\"<\"&fecha_inicial,Registros!C:C,\"=\"&A20)-IF(ISBLANK(A20),0,SUMIFS(Registros!H:H,Registros!B:B,\"<\"&fecha_inicial,Registros!C:C,\"=\"&A20)))","v":0},{"$f":"IF(ISBLANK(A20),0,SUMIFS(Registros!G:G,Registros!B:B,\">=\"&fecha_inicial, Registros!B:B, \"<=\"&fecha_final,Registros!C:C,\"=\"&A20))","v":0},{"$f":"IF(ISBLANK(A20),0,SUMIFS(Registros!H:H,Registros!B:B,\">=\"&fecha_inicial, Registros!B:B, \"<=\"&fecha_final,Registros!C:C,\"=\"&A20))","v":0},0]
[null,"",{"$f":"IF(ISBLANK(A21),0,SUMIFS(Registros!G:G,Registros!B:B,\"<\"&fecha_inicial,Registros!C:C,\"=\"&A21)-IF(ISBLANK(A21),0,SUMIFS(Registros!H:H,Registros!B:B,\"<\"&fecha_inicial,Registros!C:C,\"=\"&A21)))","v":0},{"$f":"IF(ISBLANK(A21),0,SUMIFS(Registros!G:G,Registros!B:B,\">=\"&fecha_inicial, Registros!B:B, \"<=\"&fecha_final,Registros!C:C,\"=\"&A21))","v":0},{"$f":"IF(ISBLANK(A21),0,SUMIFS(Registros!H:H,Registros!B:B,\">=\"&fecha_inicial, Registros!B:B, \"<=\"&fecha_final,Registros!C:C,\"=\"&A21))","v":0},0]
[null,"",{"$f":"IF(ISBLANK(A22),0,SUMIFS(Registros!G:G,Registros!B:B,\"<\"&fecha_inicial,Registros!C:C,\"=\"&A22)-IF(ISBLANK(A22),0,SUMIFS(Registros!H:H,Registros!B:B,\"<\"&fecha_inicial,Registros!C:C,\"=\"&A22)))","v":0},{"$f":"IF(ISBLANK(A22),0,SUMIFS(Registros!G:G,Registros!B:B,\">=\"&fecha_inicial, Registros!B:B, \"<=\"&fecha_final,Registros!C:C,\"=\"&A22))","v":0},{"$f":"IF(ISBLANK(A22),0,SUMIFS(Registros!H:H,Registros!B:B,\">=\"&fecha_inicial, Registros!B:B, \"<=\"&fecha_final,Registros!C:C,\"=\"&A22))","v":0},0]
[null,"",{"$f":"IF(ISBLANK(A23),0,SUMIFS(Registros!G:G,Registros!B:B,\"<\"&fecha_inicial,Registros!C:C,\"=\"&A23)-IF(ISBLANK(A23),0,SUMIFS(Registros!H:H,Registros!B:B,\"<\"&fecha_inicial,Registros!C:C,\"=\"&A23)))","v":0},{"$f":"IF(ISBLANK(A23),0,SUMIFS(Registros!G:G,Registros!B:B,\">=\"&fecha_inicial, Registros!B:B, \"<=\"&fecha_final,Registros!C:C,\"=\"&A23))","v":0},{"$f":"IF(ISBLANK(A23),0,SUMIFS(Registros!H:H,Registros!B:B,\">=\"&fecha_inicial, Registros!B:B, \"<=\"&fecha_final,Registros!C:C,\"=\"&A23))","v":0},0]
[null,"",{"$f":"IF(ISBLANK(A24),0,SUMIFS(Registros!G:G,Registros!B:B,\"<\"&fecha_inicial,Registros!C:C,\"=\"&A24)-IF(ISBLANK(A24),0,SUMIFS(Registros!H:H,Registros!B:B,\"<\"&fecha_inicial,Registros!C:C,\"=\"&A24)))","v":0},{"$f":"IF(ISBLANK(A24),0,SUMIFS(Registros!G:G,Registros!B:B,\">=\"&fecha_inicial, Registros!B:B, \"<=\"&fecha_final,Registros!C:C,\"=\"&A24))","v":0},{"$f":"IF(ISBLANK(A24),0,SUMIFS(Registros!H:H,Registros!B:B,\">=\"&fecha_inicial, Registros!B:B, \"<=\"&fecha_final,Registros!C:C,\"=\"&A24))","v":0},0]
[120300,{"$f":"IF(A25<>0, IF(ISERROR(VLOOKUP(A25, plan_cuentas,2, FALSE)), \"Código de Cuenta Incorrecto\", UPPER(VLOOKUP(A25, plan_cuentas, 2, FALSE))), \"\")","v":"MOBILIARIO"},{"$f":"SUM(C26:C31)","v":3099},{"$f":"SUM(D26:D31)","v":0},{"$f":"SUM(E26:E31)","v":0},3099]
[120301,{"$f":"IF(A26<>\"\", IF(ISERROR(VLOOKUP(A26, plan_cuentas,2, FALSE)), \"Código de Cuenta Incorrecto\", UPPER(VLOOKUP(A26, plan_cuentas, 2, FALSE))), \"\")","v":"MUEBLES Y ENSERES"},{"$f":"IF(ISBLANK(A26),0,SUMIFS(Registros!G:G,Registros!B:B,\"<\"&fecha_inicial,Registros!C:C,\"=\"&A26)-IF(ISBLANK(A26),0,SUMIFS(Registros!H:H,Registros!B:B,\"<\"&fecha_inicial,Registros!C:C,\"=\"&A26)))","v":3099},{"$f":"IF(ISBLANK(A26),0,SUMIFS(Registros!G:G,Registros!B:B,\">=\"&fecha_inicial, Registros!B:B, \"<=\"&fecha_final,Registros!C:C,\"=\"&A26))","v":0},{"$f":"IF(ISBLANK(A26),0,SUMIFS(Registros!H:H,Registros!B:B,\">=\"&fecha_inicial, Registros!B:B, \"<=\"&fecha_final,Registros!C:C,\"=\"&A26))","v":0},3099]
[null,"",{"$f":"IF(ISBLANK(A27),0,SUMIFS(Registros!G:G,Registros!B:B,\"<\"&fecha_inicial,Registros!C:C,\"=\"&A27)-IF(ISBLANK(A27),0,SUMIFS(Registros!H:H,Registros!B:B,\"<\"&fecha_inicial,Registros!C:C,\"=\"&A27)))","v":0},{"$f":"IF(ISBLANK(A27),0,SUMIFS(Registros!G:G,Registros!B:B,\">=\"&fecha_inicial, Registros!B:B, \"<=\"&fecha_final,Registros!C:C,\"=\"&A27))","v":0},{"$f":"IF(ISBLANK(A27),0,SUMIFS(Registros!H:H,Registros!B:B,\">=\"&fecha_inicial, Registros!B:B, \"<=\"&fecha_final,Registros!C:C,\"=\"&A27))","v":0},0]
[null,"",{"$f":"IF(ISBLANK(A28),0,SUMIFS(Registros!G:G,Registros!B:B,\"<\"&fecha_inicial,Registros!C:C,\"=\"&A28)-IF(ISBLANK(A28),0,SUMIFS(Registros!H:H,Registros!B:B,\"<\"&fecha_inicial,Registros!C:C,\"=\"&A28)))","v":0},{"$f":"IF(ISBLANK(A28),0,SUMIFS(Registros!G:G,Registros!B:B,\">=\"&fecha_inicial, Registros!B:B, \"<=\"&fecha_final,Registros!C:C,\"=\"&A28))","v":0},{"$f":"IF(ISBLANK(A28),0,SUMIFS(Registros!H:H,Registros!B:B,\">=\"&fecha_inicial, Registros!B:B, \"<=\"&fecha_final,Registros!C:C,\"=\"&A28))","v":0},0]
[null,"",{"$f":"IF(ISBLANK(A29),0,SUMIFS(Registros!G:G,Registros!B:B,\"<\"&fecha_inicial,Registros!C:C,\"=\"&A29)-IF(ISBLANK(A29),0,SUMIFS(Registros!H:H,Registros!B:B,\"<\"&fecha_inicial,Registros!C:C,\"=\"&A29)))","v":0},{"$f":"IF(ISBLANK(A29),0,SUMIFS(Registros!G:G,Registros!B:B,\">=\"&fecha_inicial, Registros!B:B, \"<=\"&fecha_final,Registros!C:C,\"=\"&A29))","v":0},{"$f":"IF(ISBLANK(A29),0,SUMIFS(Registros!H:H,Registros!B:B,\">=\"&fecha_inicial, Registros!B:B, \"<=\"&fecha_final,Registros!C:C,\"=\"&A29))","v":0},0]
[null,"",{"$f":"IF(ISBLANK(A30),0,SUMIFS(Registros!G:G,Registros!B:B,\"<\"&fecha_inicial,Registros!C:C,\"=\"&A30)-IF(ISBLANK(A30),0,SUMIFS(Registros!H:H,Registros!B:B,\"<\"&fecha_inicial,Registros!C:C,\"=\"&A30)))","v":0},{"$f":"IF(ISBLANK(A30),0,SUMIFS(Registros!G:G,Registros!B:B,\">=\"&fecha_inicial, Registros!B:B, \"<=\"&fecha_final,Registros!C:C,\"=\"&A30))","v":0},{"$f":"IF(ISBLANK(A30),0,SUMIFS(Registros!H:H,Registros!B:B,\">=\"&fecha_inicial, Registros!B:B, \"<=\"&fecha_final,Registros!C:C,\"=\"&A30))","v":0},0]
[null,"",{"$f":"IF(ISBLANK(A31),0,SUMIFS(Registros!G:G,Registros!B:B,\"<\"&fecha_inicial,Registros!C:C,\"=\"&A31)-IF(ISBLANK(A31),0,SUMIFS(Registros!H:H,Registros!B:B,\"<\"&fecha_inicial,Registros!C:C,\"=\"&A31)))","v":0},{"$f":"IF(ISBLANK(A31),0,SUMIFS(Registros!G:G,Registros!B:B,\">=\"&fecha_inicial, Registros!B:B, \"<=\"&fecha_final,Registros!C:C,\"=\"&A31))","v":0},{"$f":"IF(ISBLANK(A31),0,SUMIFS(Registros!H:H,Registros!B:B,\">=\"&fecha_inicial, Registros!B:B, \"<=\"&fecha_final,Registros!C:C,\"=\"&A31))","v":0},0]
[120400,"EQUIPO",{"$f":"SUM(C33:C38)","v":42921.39},{"$f":"SUM(D33:D38)","v":0},{"$f":"SUM(E33:E38)","v":0},42921.39]
[120401,"EQUIPO INFORMÁTICO",{"$f":"IF(ISBLANK(A33),0,SUMIFS(Registros!G:G,Registros!B:B,\"<\"&fecha_inicial,Registros!C:C,\"=\"&A33)-IF(ISBLANK(A33),0,SUMIFS(Registros!H:H,Registros!B:B,\"<\"&fecha_inicial,Registros!C:C,\"=\"&A33)))","v":42921.39},{"$f":"IF(ISBLANK(A33),0,SUMIFS(Registros!G:G,Registros!B:B,\">=\"&fecha_inicial, Registros!B:B, \"<=\"&fecha_final,Registros!C:C,\"=\"&A33))","v":0},{"$f":"IF(ISBLANK(A33),0,SUMIFS(Registros!H:H,Registros!B:B,\">=\"&fecha_inicial, Registros!B:B, \"<=\"&fecha_final,Registros!C:C,\"=\"&A33))","v":0},42921.39]
[120402,"EQUIPO MÉDICO",{"$f":"IF(ISBLANK(A34),0,SUMIFS(Registros!G:G,Registros!B:B,\"<\"&fecha_inicial,Registros!C:C,\"=\"&A34)-IF(ISBLANK(A34),0,SUMIFS(Registros!H:H,Registros!B:B,\"<\"&fecha_inicial,Registros!C:C,\"=\"&A34)))","v":0},{"$f":"IF(ISBLANK(A34),0,SUMIFS(Registros!G:G,Registros!B:B,\">=\"&fecha_inicial, Registros!B:B, \"<=\"&fecha_final,Registros!C:C,\"=\"&A34))","v":0},{"$f":"IF(ISBLANK(A34),0,SUMIFS(Registros!H:H,Registros!B:B,\">=\"&fecha_inicial, Registros!B:B, \"<=\"&fecha_final,Registros!C:C,\"=\"&A34))","v":0},0]
[null,"",{"$f":"IF(ISBLANK(A35),0,SUMIFS(Registros!G:G,Registros!B:B,\"<\"&fecha_inicial,Registros!C:C,\"=\"&A35)-IF(ISBLANK(A35),0,SUMIFS(Registros!H:H,Registros!B:B,\"<\"&fecha_inicial,Registros!C:C,\"=\"&A35)))","v":0},{"$f":"IF(ISBLANK(A35),0,SUMIFS(Registros!G:G,Registros!B:B,\">=\"&fecha_inicial, Registros!B:B, \"<=\"&fecha_final,Registros!C:C,\"=\"&A35))","v":0},{"$f":"IF(ISBLANK(A35),0,SUMIFS(Registros!H:H,Registros!B:B,\">=\"&fecha_inicial, Registros!B:B, \"<=\"&fecha_final,Registros!C:C,\"=\"&A35))","v":0},0]
[null,"",{"$f":"IF(ISBLANK(A36),0,SUMIFS(Registros!G:G,Registros!B:B,\"<\"&fecha_inicial,Registros!C:C,\"=\"&A36)-IF(ISBLANK(A36),0,SUMIFS(Registros!H:H,Registros!B:B,\"<\"&fecha_inicial,Registros!C:C,\"=\"&A36)))","v":0},{"$f":"IF(ISBLANK(A36),0,SUMIFS(Registros!G:G,Registros!B:B,\">=\"&fecha_inicial, Registros!B:B, \"<=\"&fecha_final,Registros!C:C,\"=\"&A36))","v":0},{"$f":"IF(ISBLANK(A36),0,SUMIFS(Registros!H:H,Registros!B:B,\">=\"&fecha_inicial, Registros!B:B, \"<=\"&fecha_final,Registros!C:C,\"=\"&A36))","v":0},0]
[null,"",{"$f":"IF(ISBLANK(A37),0,SUMIFS(Registros!G:G,Registros!B:B,\"<\"&fecha_inicial,Registros!C:C,\"=\"&A37)-IF(ISBLANK(A37),0,SUMIFS(Registros!H:H,Registros!B:B,\"<\"&fecha_inicial,Registros!C:C,\"=\"&A37)))","v":0},{"$f":"IF(ISBLANK(A37),0,SUMIFS(Registros!G:G,Registros!B:B,\">=\"&fecha_inicial, Registros!B:B, \"<=\"&fecha_final,Registros!C:C,\"=\"&A37))","v":0},{"$f":"IF(ISBLANK(A37),0,SUMIFS(Registros!H:H,Registros!B:B,\">=\"&fecha_inicial, Registros!B:B, \"<=\"&fecha_final,Registros!C:C,\"=\"&A37))","v":0},0]
[null,"",{"$f":"IF(ISBLANK(A38),0,SUMIFS(Registros!G:G,Registros!B:B,\"<\"&fecha_inicial,Registros!C:C,\"=\"&A38)-IF(ISBLANK(A38),0,SUMIFS(Registros!H:H,Registros!B:B,\"<\"&fecha_inicial,Registros!C:C,\"=\"&A38)))","v":0},{"$f":"IF(ISBLANK(A38),0,SUMIFS(Registros!G:G,Registros!B:B,\">=\"&fecha_inicial, Registros!B:B, \"<=\"&fecha_final,Registros!C:C,\"=\"&A38))","v":0},{"$f":"IF(ISBLANK(A38),0,SUMIFS(Registros!H:H,Registros!B:B,\">=\"&fecha_inicial, Registros!B:B, \"<=\"&fecha_final,Registros!C:C,\"=\"&A38))","v":0},0]
[null,"",{"$f":"SUM(C40:C45)","v":0},{"$f":"SUM(D40:D45)","v":0},{"$f":"SUM(E40:E45)","v":0},0]
[null,"",{"$f":"IF(ISBLANK(A40),0,SUMIFS(Registros!G:G,Registros!B:B,\"<\"&fecha_inicial,Registros!C:C,\"=\"&A40)-IF(ISBLANK(A40),0,SUMIFS(Registros!H:H,Registros!B:B,\"<\"&fecha_inicial,Registros!C:C,\"=\"&A40)))","v":0},{"$f":"IF(ISBLANK(A40),0,SUMIFS(Registros!G:G,Registros!B:B,\">=\"&fecha_inicial, Registros!B:B, \"<=\"&fecha_final,Registros!C:C,\"=\"&A40))","v":0},{"$f":"IF(ISBLANK(A40),0,SUMIFS(Registros!H:H,Registros!B:B,\">=\"&fecha_inicial, Registros!B:B, \"<=\"&fecha_final,Registros!C:C,\"=\"&A40))","v":0},0]
[null,"",{"$f":"IF(ISBLANK(A41),0,SUMIFS(Registros!G:G,Registros!B:B,\"<\"&fecha_inicial,Registros!C:C,\"=\"&A41)-IF(ISBLANK(A41),0,SUMIFS(Registros!H:H,Registros!B:B,\"<\"&fecha_inicial,Registros!C:C,\"=\"&A41)))","v":0},{"$f":"IF(ISBLANK(A41),0,SUMIFS(Registros!G:G,Registros!B:B,\">=\"&fecha_inicial, Registros!B:B, \"<=\"&fecha_final,Registros!C:C,\"=\"&A41))","v":0},{"$f":"IF(ISBLANK(A41),0,SUMIFS(Registros!H:H,Registros!B:B,\">=\"&fecha_inicial, Registros!B:B, \"<=\"&fecha_final,Registros!C:C,\"=\"&A41))","v":0},0]
[null,"",{"$f":"IF(ISBLANK(A42),0,SUMIFS(Registros!G:G,Registros!B:B,\"<\"&fecha_inicial,Registros!C:C,\"=\"&A42)-IF(ISBLANK(A42),0,SUMIFS(Registros!H:H,Registros!B:B,\"<\"&fecha_inicial,Registros!C:C,\"=\"&A42)))","v":0},{"$f":"IF(ISBLANK(A42),0,SUMIFS(Registros!G:G,Registros!B:B,\">=\"&fecha_inicial, Registros!B:B, \"<=\"&fecha_final,Registros!C:C,\"=\"&A42))","v":0},{"$f":"IF(ISBLANK(A42),0,SUMIFS(Registros!H:H,Registros!B:B,\">=\"&fecha_inicial, Registros!B:B, \"<=\"&fecha_final,Registros!C:C,\"=\"&A42))","v":0},0]
[null,"",{"$f":"IF(ISBLANK(A43),0,SUMIFS(Registros!G:G,Registros!B:B,\"<\"&fecha_inicial,Registros!C:C,\"=\"&A43)-IF(ISBLANK(A43),0,SUMIFS(Registros!H:H,Registros!B:B,\"<\"&fecha_inicial,Registros!C:C,\"=\"&A43)))","v":0},{"$f":"IF(ISBLANK(A43),0,SUMIFS(Registros!G:G,Registros!B:B,\">=\"&fecha_inicial, Registros!B:B, \"<=\"&fecha_final,Registros!C:C,\"=\"&A43))","v":0},{"$f":"IF(ISBLANK(A43),0,SUMIFS(Registros!H:H,Registros!B:B,\">=\"&fecha_inicial, Registros!B:B, \"<=\"&fecha_final,Registros!C:C,\"=\"&A43))","v":0},0]
[null,"",{"$f":"IF(ISBLANK(A44),0,SUMIFS(Registros!G:G,Registros!B:B,\"<\"&fecha_inicial,Registros!C:C,\"=\"&A44)-IF(ISBLANK(A44),0,SUMIFS(Registros!H:H,Registros!B:B,\"<\"&fecha_inicial,Registros!C:C,\"=\"&A44)))","v":0},{"$f":"IF(ISBLANK(A44),0,SUMIFS(Registros!G:G,Registros!B:B,\">=\"&fecha_inicial, Registros!B:B, \"<=\"&fecha_final,Registros!C:C,\"=\"&A44))","v":0},{"$f":"IF(ISBLANK(A44),0,SUMIFS(Registros!H:H,Registros!B:B,\">=\"&fecha_inicial, Registros!B:B, \"<=\"&fecha_final,Registros!C:C,\"=\"&A44))","v":0},0]
[null,"",{"$f":"IF(ISBLANK(A45),0,SUMIFS(Registros!G:G,Registros!B:B,\"<\"&fecha_inicial,Registros!C:C,\"=\"&A45)-IF(ISBLANK(A45),0,SUMIFS(Registros!H:H,Registros!B:B,\"<\"&fecha_inicial,Registros!C:C,\"=\"&A45)))","v":0},{"$f":"IF(ISBLANK(A45),0,SUMIFS(Registros!G:G,Registros!B:B,\">=\"&fecha_inicial, Registros!B:B, \"<=\"&fecha_final,Registros!C:C,\"=\"&A45))","v":0},{"$f":"IF(ISBLANK(A45),0,SUMIFS(Registros!H:H,Registros!B:B,\">=\"&fecha_inicial, Registros!B:B, \"<=\"&fecha_final,Registros!C:C,\"=\"&A45))","v":0},0]
[null,{"$f":"IF(A46<>0, IF(ISERROR(VLOOKUP(A46, plan_cuentas,2, FALSE)), \"Código de Cuenta Incorrecto\", UPPER(VLOOKUP(A46, plan_cuentas, 2, FALSE))), \"\")","v":""},{"$f":"SUM(C47:C52)","v":0},{"$f":"SUM(D47:D52)","v":0},{"$f":"SUM(E47:E52)","v":0},0]
[null,{"$f":"IF(A47<>\"\", IF(ISERROR(VLOOKUP(A47, plan_cuentas,2, FALSE)), \"Código de Cuenta Incorrecto\", UPPER(VLOOKUP(A47, plan_cuentas, 2, FALSE))), \"\")","v":""},{"$f":"IF(ISBLANK(A47),0,SUMIFS(Registros!G:G,Registros!B:B,\"<\"&fecha_inicial,Registros!C:C,\"=\"&A47)-IF(ISBLANK(A47),0,SUMIFS(Registros!H:H,Registros!B:B,\"<\"&fecha_inicial,Registros!C:C,\"=\"&A47)))","v":0},{"$f":"IF(ISBLANK(A47),0,SUMIFS(Registros!G:G,Registros!B:B,\">=\"&fecha_inicial, Registros!B:B, \"<=\"&fecha_final,Registros!C:C,\"=\"&A47))","v":0},{"$f":"IF(ISBLANK(A47),0,SUMIFS(Registros!H:H,Registros!B:B,\">=\"&fecha_inicial, Registros!B:B, \"<=\"&fecha_final,Registros!C:C,\"=\"&A47))","v":0},0]
[null,{"$f":"IF(A48<>0, IF(ISERROR(VLOOKUP(A48, plan_cuentas,2, FALSE)), \"Código de Cuenta Incorrecto\", UPPER(VLOOKUP(A48, plan_cuentas, 2, FALSE))), \"\")","v":""},{"$f":"IF(ISBLANK(A48),0,SUMIFS(Registros!G:G,Registros!B:B,\"<\"&fecha_inicial,Registros!C:C,\"=\"&A48)-IF(ISBLANK(A48),0,SUMIFS(Registros!H:H,Registros!B:B,\"<\"&fecha_inicial,Registros!C:C,\"=\"&A48)))","v":0},{"$f":"IF(ISBLANK(A48),0,SUMIFS(Registros!G:G,Registros!B:B,\">=\"&fecha_inicial, Registros!B:B, \"<=\"&fecha_final,Registros!C:C,\"=\"&A48))","v":0},{"$f":"IF(ISBLANK(A48),0,SUMIFS(Registros!H:H,Registros!B:B,\">=\"&fecha_inicial, Registros!B:B, \"<=\"&fecha_final,Registros!C:C,\"=\"&A48))","v":0},0]
[null,{"$f":"IF(A49<>0, IF(ISERROR(VLOOKUP(A49, plan_cuentas,2, FALSE)), \"Código de Cuenta Incorrecto\", UPPER(VLOOKUP(A49, plan_cuentas, 2, FALSE))), \"\")","v":""},{"$f":"IF(ISBLANK(A49),0,SUMIFS(Registros!G:G,Registros!B:B,\"<\"&fecha_inicial,Registros!C:C,\"=\"&A49)-IF(ISBLANK(A49),0,SUMIFS(Registros!H:H,Registros!B:B,\"<\"&fecha_inicial,Registros!C:C,\"=\"&A49)))","v":0},{"$f":"IF(ISBLANK(A49),0,SUMIFS(Registros!G:G,Registros!B:B,\">=\"&fecha_inicial, Registros!B:B, \"<=\"&fecha_final,Registros!C:C,\"=\"&A49))","v":0},{"$f":"IF(ISBLANK(A49),0,SUMIFS(Registros!H:H,Registros!B:B,\">=\"&fecha_inicial, Registros!B:B, \"<=\"&fecha_final,Registros!C:C,\"=\"&A49))","v":0},0]
[null,{"$f":"IF(A50<>0, IF(ISERROR(VLOOKUP(A50, plan_cuentas,2, FALSE)), \"Código de Cuenta Incorrecto\", UPPER(VLOOKUP(A50, plan_cuentas, 2, FALSE))), \"\")","v":""},{"$f":"IF(ISBLANK(A50),0,SUMIFS(Registros!G:G,Registros!B:B,\"<\"&fecha_inicial,Registros!C:C,\"=\"&A50)-IF(ISBLANK(A50),0,SUMIFS(Registros!H:H,Registros!B:B,\"<\"&fecha_inicial,Registros!C:C,\"=\"&A50)))","v":0},{"$f":"IF(ISBLANK(A50),0,SUMIFS(Registros!G:G,Registros!B:B,\">=\"&fecha_inicial, Registros!B:B, \"<=\"&fecha_final,Registros!C:C,\"=\"&A50))","v":0},{"$f":"IF(ISBLANK(A50),0,SUMIFS(Registros!H:H,Registros!B:B,\">=\"&fecha_inicial, Registros!B:B, \"<=\"&fecha_final,Registros!C:C,\"=\"&A50))","v":0},0]
[null,{"$f":"IF(A51<>0, IF(ISERROR(VLOOKUP(A51, plan_cuentas,2, FALSE)), \"Código de Cuenta Incorrecto\", UPPER(VLOOKUP(A51, plan_cuentas, 2, FALSE))), \"\")","v":""},{"$f":"IF(ISBLANK(A51),0,SUMIFS(Registros!G:G,Registros!B:B,\"<\"&fecha_inicial,Registros!C:C,\"=\"&A51)-IF(ISBLANK(A51),0,SUMIFS(Registros!H:H,Registros!B:B,\"<\"&fecha_inicial,Registros!C:C,\"=\"&A51)))","v":0},{"$f":"IF(ISBLANK(A51),0,SUMIFS(Registros!G:G,Registros!B:B,\">=\"&fecha_inicial, Registros!B:B, \"<=\"&fecha_final,Registros!C:C,\"=\"&A51))","v":0},{"$f":"IF(ISBLANK(A51),0,SUMIFS(Registros!H:H,Registros!B:B,\">=\"&fecha_inicial, Registros!B:B, \"<=\"&fecha_final,Registros!C:C,\"=\"&A51))","v":0},0]
[null,{"$f":"IF(A52<>0, IF(ISERROR(VLOOKUP(A52, plan_cuentas,2, FALSE)), \"Código de Cuenta Incorrecto\", UPPER(VLOOKUP(A52, plan_cuentas, 2, FALSE))), \"\")","v":""},{"$f":"IF(ISBLANK(A52),0,SUMIFS(Registros!G:G,Registros!B:B,\"<\"&fecha_inicial,Registros!C:C,\"=\"&A52)-IF(ISBLANK(A52),0,SUMIFS(Registros!H:H,Registros!B:B,\"<\"&fecha_inicial,Registros!C:C,\"=\"&A52)))","v":0},{"$f":"IF(ISBLANK(A52),0,SUMIFS(Registros!G:G,Registros!B:B,\">=\"&fecha_inicial, Registros!B:B, \"<=\"&fecha_final,Registros!C:C,\"=\"&A52))","v":0},{"$f":"IF(ISBLANK(A52),0,SUMIFS(Registros!H:H,Registros!B:B,\">=\"&fecha_inicial, Registros!B:B, \"<=\"&fecha_final,Registros!C:C,\"=\"&A52))","v":0},0]
[null,"",{"$f":"SUM(C54:C59)","v":0},{"$f":"SUM(D54:D59)","v":0},{"$f":"SUM(E54:E59)","v":0},0]
[null,"",{"$f":"IF(ISBLANK(A54),0,SUMIFS(Registros!G:G,Registros!B:B,\"<\"&fecha_inicial,Registros!C:C,\"=\"&A54)-IF(ISBLANK(A54),0,SUMIFS(Registros!H:H,Registros!B:B,\"<\"&fecha_inicial,Registros!C:C,\"=\"&A54)))","v":0},{"$f":"IF(ISBLANK(A54),0,SUMIFS(Registros!G:G,Registros!B:B,\">=\"&fecha_inicial, Registros!B:B, \"<=\"&fecha_final,Registros!C:C,\"=\"&A54))","v":0},{"$f":"IF(ISBLANK(A54),0,SUMIFS(Registros!H:H,Registros!B:B,\">=\"&fecha_inicial, Registros!B:B, \"<=\"&fecha_final,Registros!C:C,\"=\"&A54))","v":0},0]
[null,"",{"$f":"IF(ISBLANK(A55),0,SUMIFS(Registros!G:G,Registros!B:B,\"<\"&fecha_inicial,Registros!C:C,\"=\"&A55)-IF(ISBLANK(A55),0,SUMIFS(Registros!H:H,Registros!B:B,\"<\"&fecha_inicial,Registros!C:C,\"=\"&A55)))","v":0},{"$f":"IF(ISBLANK(A55),0,SUMIFS(Registros!G:G,Registros!B:B,\">=\"&fecha_inicial, Registros!B:B, \"<=\"&fecha_final,Registros!C:C,\"=\"&A55))","v":0},{"$f":"IF(ISBLANK(A55),0,SUMIFS(Registros!H:H,Registros!B:B,\">=\"&fecha_inicial, Registros!B:B, \"<=\"&fecha_final,Registros!C:C,\"=\"&A55))","v":0},0]
[null,"",{"$f":"IF(ISBLANK(A56),0,SUMIFS(Registros!G:G,Registros!B:B,\"<\"&fecha_inicial,Registros!C:C,\"=\"&A56)-IF(ISBLANK(A56),0,SUMIFS(Registros!H:H,Registros!B:B,\"<\"&fecha_inicial,Registros!C:C,\"=\"&A56)))","v":0},{"$f":"IF(ISBLANK(A56),0,SUMIFS(Registros!G:G,Registros!B:B,\">=\"&fecha_inicial, Registros!B:B, \"<=\"&fecha_final,Registros!C:C,\"=\"&A56))","v":0},{"$f":"IF(ISBLANK(A56),0,SUMIFS(Registros!H:H,Registros!B:B,\">=\"&fecha_inicial, Registros!B:B, \"<=\"&fecha_final,Registros!C:C,\"=\"&A56))","v":0},0]
[null,"",{"$f":"IF(ISBLANK(A57),0,SUMIFS(Registros!G:G,Registros!B:B,\"<\"&fecha_inicial,Registros!C:C,\"=\"&A57)-IF(ISBLANK(A57),0,SUMIFS(Registros!H:H,Registros!B:B,\"<\"&fecha_inicial,Registros!C:C,\"=\"&A57)))","v":0},{"$f":"IF(ISBLANK(A57),0,SUMIFS(Registros!G:G,Registros!B:B,\">=\"&fecha_inicial, Registros!B:B, \"<=\"&fecha_final,Registros!C:C,\"=\"&A57))","v":0},{"$f":"IF(ISBLANK(A57),0,SUMIFS(Registros!H:H,Registros!B:B,\">=\"&fecha_inicial, Registros!B:B, \"<=\"&fecha_final,Registros!C:C,\"=\"&A57))","v":0},0]
[null,{"$f":"IF(A58<>0, IF(ISERROR(VLOOKUP(A58, plan_cuentas,2, FALSE)), \"Código de Cuenta Incorrecto\", UPPER(VLOOKUP(A58, plan_cuentas, 2, FALSE))), \"\")","v":""},{"$f":"IF(ISBLANK(A58),0,SUMIFS(Registros!G:G,Registros!B:B,\"<\"&fecha_inicial,Registros!C:C,\"=\"&A58)-IF(ISBLANK(A58),0,SUMIFS(Registros!H:H,Registros!B:B,\"<\"&fecha_inicial,Registros!C:C,\"=\"&A58)))","v":0},{"$f":"IF(ISBLANK(A58),0,SUMIFS(Registros!G:G,Registros!B:B,\">=\"&fecha_inicial, Registros!B:B, \"<=\"&fecha_final,Registros!C:C,\"=\"&A58))","v":0},{"$f":"IF(ISBLANK(A58),0,SUMIFS(Registros!H:H,Registros!B:B,\">=\"&fecha_inicial, Registros!B:B, \"<=\"&fecha_final,Registros!C:C,\"=\"&A58))","v":0},0]
[null,"",{"$f":"IF(ISBLANK(A59),0,SUMIFS(Registros!G:G,Registros!B:B,\"<\"&fecha_inicial,Registros!C:C,\"=\"&A59)-IF(ISBLANK(A59),0,SUMIFS(Registros!H:H,Registros!B:B,\"<\"&fecha_inicial,Registros!C:C,\"=\"&A59)))","v":0},{"$f":"IF(ISBLANK(A59),0,SUMIFS(Registros!G:G,Registros!B:B,\">=\"&fecha_inicial, Registros!B:B, \"<=\"&fecha_final,Registros!C:C,\"=\"&A59))","v":0},{"$f":"IF(ISBLANK(A59),0,SUMIFS(Registros!H:H,Registros!B:B,\">=\"&fecha_inicial, Registros!B:B, \"<=\"&fecha_final,Registros!C:C,\"=\"&A59))","v":0},0]
[{"$f":"\"SALDO FINAL DE LA CUENTA AL \" &TEXT(fecha_final, \"dd\")&\" DE \"&UPPER(TEXT(fecha_final, \"MMMM\"))&\" DEL \"& TEXT(fecha_final, \"YYYY\")","v":"SALDO FINAL DE LA CUENTA AL 31 DE JULIO DEL 2014"},null,{"$f":"C11+C18+C25+C46+C32+C39+C53","v":46020.39},{"$f":"D11+D18+D25+D46+D32+D39+D53","v":0},{"$f":"E11+E18+E25+E46+E32+E39+E53","v":0},{"$f":"C60+D60-E60","v":46020.39}]
[]
[]
[]
[]
["ELABORADO POR:",null,null,null,"AUTORIZADO POR:"]
[{"$f":"VLOOKUP(A65, Usuarios!B7:E9, 3, FALSE)","v":"Anielka Galán"},null,null,null,{"$f":"VLOOKUP(E65, Usuarios!B7:E9, 3, FALSE)","v":"Rodrigo Castro Potoy"}]

{"sheet":"130000","index":21,"n_rows":66,"n_cols":6,"rows_kept":66,"cut":false,"hidden":false,"merged":[[70,2,70,3],[65,0,65,1],[65,4,65,5],[66,0,66,1],[66,4,66,5],[68,2,68,3],[69,2,69,3],[7,5,8,5],[59,0,59,1],[63,0,63,1],[63,4,63,5],[64,0,64,1],[64,4,64,5],[7,0,8,0],[7,1,8,1],[7,2,8,2],[7,3,8,3],[7,4,8,4],[1,0,1,5],[2,0,2,5],[3,0,3,5],[4,0,4,5],[6,3,6,5]]}
[null,null,null,null,"Proteger"]
[{"$f":"bussiness_name","v":"SOCIEDAD CIVIL COMUNIDAD CONNECT"}]
[{"$f":"\"RESUMEN CONTABLE DE \"&B7","v":"RESUMEN CONTABLE DE DEPRECIACIÓN ACUMULADA"}]
[{"$f":"\"DEL \"&TEXT(fecha_inicial, \"DD\")&\" DE \"&UPPER(TEXT(fecha_inicial, \"MMMM\"))&\" DEL \" & TEXT(fecha_inicial, \"YYYY\") & \" AL \"&TEXT(fecha_final, \"DD\")&\" DE \"&UPPER(TEXT(fecha_final, \"MMMM\"))&\" DEL \"&TEXT(fecha_final, \"YYYY\")","v":"DEL 01 DE JULIO DEL 2014 AL 31 DE JULIO DEL 2014"}]
[{"$f":"address & \" *** Tel/Fax:  \" & tel & \" *** \" & email","v":"Esquina sureste del Parque Central, San Juan del sur, Nicaragua. *** Tel/Fax:  25682731 *** info@comunidadconnect.org"}]
[]
[130000,{"$f":"UPPER(IF(ISBLANK(A7),\"\",IFERROR(VLOOKUP(A7,plan_cuentas,2,FALSE),\"Código de cuenta incorrecto\")))","v":"DEPRECIACIÓN ACUMULADA"},null,{"$f":"\"MOVIMIENTOS DE \"&UPPER(TEXT(fecha_final, \"MMMM\"))","v":"MOVIMIENTOS DE JULIO"}]
["CODIGO","NOMBRE DE LA CUENTA","SALDO INICIAL","DEBITOS","CREDITOS","SALDO FINAL"]
[]
[]
[130100,{"$f":"IF(A11<>\"\", IF(ISERROR(VLOOKUP(A11, plan_cuentas,2, FALSE)), \"Código de Cuenta Incorrecto\", UPPER(VLOOKUP(A11, plan_cuentas, 2, FALSE))), \"\")","v":"DEPREC. ACUM. MOBILIARIO"},{"$f":"SUM(C12:C17)","v":0},{"$f":"SUM(D12:D17)","v":0},{"$f":"SUM(E12:E17)","v":0},{"$f":"C11+E11-D11","v":0}]
[130101,{"$f":"IF(A12<>\"\", IF(ISERROR(VLOOKUP(A12, plan_cuentas,2, FALSE)), \"Código de Cuenta Incorrecto\", UPPER(VLOOKUP(A12, plan_cuentas, 2, FALSE))), \"\")","v":"DEPREC. ACUM. MUEBLES Y ENSERES"},{"$f":"IF(ISBLANK(A12),0,SUMIFS(Registros!H:H,Registros!B:B,\"<\"&fecha_inicial,Registros!C:C,\"=\"&A12)-IF(ISBLANK(A12),0,SUMIFS(Registros!G:G,Registros!B:B,\"<\"&fecha_inicial,Registros!C:C,\"=\"&A12)))","v":0},{"$f":"IF(ISBLANK(A12),0,SUMIFS(Registros!G:G,Registros!B:B,\">=\"&fecha_inicial, Registros!B:B, \"<=\"&fecha_final,Registros!C:C,\"=\"&A12))","v":0},{"$f":"IF(ISBLANK(A12),0,SUMIFS(Registros!H:H,Registros!B:B,\">=\"&fecha_inicial, Registros!B:B, \"<=\"&fecha_final,Registros!C:C,\"=\"&A12))","v":0},{"$f":"C12+E12-D12","v":0}]
[null,{"$f":"IF(A13<>0, IF(ISERROR(VLOOKUP(A13, plan_cuentas,2, FALSE)), \"Código de Cuenta Incorrecto\", UPPER(VLOOKUP(A13, plan_cuentas, 2, FALSE))), \"\")","v":""},{"$f":"IF(ISBLANK(A13),0,SUMIFS(Registros!H:H,Registros!B:B,\"<\"&fecha_inicial,Registros!C:C,\"=\"&A13)-IF(ISBLANK(A13),0,SUMIFS(Registros!G:G,Registros!B:B,\"<\"&fecha_inicial,Registros!C:C,\"=\"&A13)))","v":0},{"$f":"IF(ISBLANK(A13),0,SUMIFS(Registros!G:G,Registros!B:B,\">=\"&fecha_inicial, Registros!B:B, \"<=\"&fecha_final,Registros!C:C,\"=\"&A13))","v":0},{"$f":"IF(ISBLANK(A13),0,SUMIFS(Registros!H:H,Registros!B:B,\">=\"&fecha_inicial, Registros!B:B, \"<=\"&fecha_final,Registros!C:C,\"=\"&A13))","v":0},0]
[null,"",{"$f":"IF(ISBLANK(A14),0,SUMIFS(Registros!H:H,Registros!B:B,\"<\"&fecha_inicial,Registros!C:C,\"=\"&A14)-IF(ISBLANK(A14),0,SUMIFS(Registros!G:G,Registros!B:B,\"<\"&fecha_inicial,Registros!C:C,\"=\"&A14)))","v":0},{"$f":"IF(ISBLANK(A14),0,SUMIFS(Registros!G:G,Registros!B:B,\">=\"&fecha_inicial, Registros!B:B, \"<=\"&fecha_final,Registros!C:C,\"=\"&A14))","v":0},{"$f":"IF(ISBLANK(A14),0,SUMIFS(Registros!H:H,Registros!B:B,\">=\"&fecha_inicial, Registros!B:B, \"<=\"&fecha_final,Registros!C:C,\"=\"&A14))","v":0},0]
[null,"",{"$f":"IF(ISBLANK(A15),0,SUMIFS(Registros!H:H,Registros!B:B,\"<\"&fecha_inicial,Registros!C:C,\"=\"&A15)-IF(ISBLANK(A15),0,SUMIFS(Registros!G:G,Registros!B:B,\"<\"&fecha_inicial,Registros!C:C,\"=\"&A15)))","v":0},{"$f":"IF(ISBLANK(A15),0,SUMIFS(Registros!G:G,Registros!B:B,\">=\"&fecha_inicial, Registros!B:B, \"<=\"&fecha_final,Registros!C:C,\"=\"&A15))","v":0},{"$f":"IF(ISBLANK(A15),0,SUMIFS(Registros!H:H,Registros!B:B,\">=\"&fecha_inicial, Registros!B:B, \"<=\"&fecha_final,Registros!C:C,\"=\"&A15))","v":0},0]
[null,"",{"$f":"IF(ISBLANK(A16),0,SUMIFS(Registros!H:H,Registros!B:B,\"<\"&fecha_inicial,Registros!C:C,\"=\"&A16)-IF(ISBLANK(A16),0,SUMIFS(Registros!G:G,Registros!B:B,\"<\"&fecha_inicial,Registros!C:C,\"=\"&A16)))","v":0},{"$f":"IF(ISBLANK(A16),0,SUMIFS(Registros!G:G,Registros!B:B,\">=\"&fecha_inicial, Registros!B:B, \"<=\"&fecha_final,Registros!C:C,\"=\"&A16))","v":0},{"$f":"IF(ISBLANK(A16),0,SUMIFS(Registros!H:H,Registros!B:B,\">=\"&fecha_inicial, Registros!B:B, \"<=\"&fecha_final,Registros!C:C,\"=\"&A16))","v":0},0]
[null,"",{"$f":"IF(ISBLANK(A17),0,SUMIFS(Registros!H:H,Registros!B:B,\"<\"&fecha_inicial,Registros!C:C,\"=\"&A17)-IF(ISBLANK(A17),0,SUMIFS(Registros!G:G,Registros!B:B,\"<\"&fecha_inicial,Registros!C:C,\"=\"&A17)))","v":0},{"$f":"IF(ISBLANK(A17),0,SUMIFS(Registros!G:G,Registros!B:B,\">=\"&fecha_inicial, Registros!B:B, \"<=\"&fecha_final,Registros!C:C,\"=\"&A17))","v":0},{"$f":"IF(ISBLANK(A17),0,SUMIFS(Registros!H:H,Registros!B:B,\">=\"&fecha_inicial, Registros!B:B, \"<=\"&fecha_final,Registros!C:C,\"=\"&A17))","v":0},0]
[130200,"DEPREC. ACUM. EQUIPO",{"$f":"SUM(C19:C24)","v":0},{"$f":"SUM(D19:D24)","v":0},{"$f":"SUM(E19:E24)","v":0},0]
[130201,{"$f":"IF(A19<>\"\", IF(ISERROR(VLOOKUP(A19, plan_cuentas,2, FALSE)), \"Código de Cuenta Incorrecto\", UPPER(VLOOKUP(A19, plan_cuentas, 2, FALSE))), \"\")","v":"DEPREC. ACUM. EQUIP. INFORMÁTICO"},{"$f":"IF(ISBLANK(A19),0,SUMIFS(Registros!H:H,Registros!B:B,\"<\"&fecha_inicial,Registros!C:C,\"=\"&A19)-IF(ISBLANK(A19),0,SUMIFS(Registros!G:G,Registros!B:B,\"<\"&fecha_inicial,Registros!C:C,\"=\"&A19)))","v":0},{"$f":"IF(ISBLANK(A19),0,SUMIFS(Registros!G:G,Registros!B:B,\">=\"&fecha_inicial, Registros!B:B, \"<=\"&fecha_final,Registros!C:C,\"=\"&A19))","v":0},{"$f":"IF(ISBLANK(A19),0,SUMIFS(Registros!H:H,Registros!B:B,\">=\"&fecha_inicial, Registros!B:B, \"<=\"&fecha_final,Registros!C:C,\"=\"&A19))","v":0},0]
[130202,"DEPREC. ACUM. EQUIPO MÉDICO",{"$f":"IF(ISBLANK(A20),0,SUMIFS(Registros!H:H,Registros!B:B,\"<\"&fecha_inicial,Registros!C:C,\"=\"&A20)-IF(ISBLANK(A20),0,SUMIFS(Registros!G:G,Registros!B:B,\"<\"&fecha_inicial,Registros!C:C,\"=\"&A20)))","v":0},{"$f":"IF(ISBLANK(A20),0,SUMIFS(Registros!G:G,Registros!B:B,\">=\"&fecha_inicial, Registros!B:B, \"<=\"&fecha_final,Registros!C:C,\"=\"&A20))","v":0},{"$f":"IF(ISBLANK(A20),0,SUMIFS(Registros!H:H,Registros!B:B,\">=\"&fecha_inicial, Registros!B:B, \"<=\"&fecha_final,Registros!C:C,\"=\"&A20))","v":0},0]
[null,"",{"$f":"IF(ISBLANK(A21),0,SUMIFS(Registros!H:H,Registros!B:B,\"<\"&fecha_inicial,Registros!C:C,\"=\"&A21)-IF(ISBLANK(A21),0,SUMIFS(Registros!G:G,Registros!B:B,\"<\"&fecha_inicial,Registros!C:C,\"=\"&A21)))","v":0},{"$f":"IF(ISBLANK(A21),0,SUMIFS(Registros!G:G,Registros!B:B,\">=\"&fecha_inicial, Registros!B:B, \"<=\"&fecha_final,Registros!C:C,\"=\"&A21))","v":0},{"$f":"IF(ISBLANK(A21),0,SUMIFS(Registros!H:H,Registros!B:B,\">=\"&fecha_inicial, Registros!B:B, \"<=\"&fecha_final,Registros!C:C,\"=\"&A21))","v":0},0]
[null,"",{"$f":"IF(ISBLANK(A22),0,SUMIFS(Registros!H:H,Registros!B:B,\"<\"&fecha_inicial,Registros!C:C,\"=\"&A22)-IF(ISBLANK(A22),0,SUMIFS(Registros!G:G,Registros!B:B,\"<\"&fecha_inicial,Registros!C:C,\"=\"&A22)))","v":0},{"$f":"IF(ISBLANK(A22),0,SUMIFS(Registros!G:G,Registros!B:B,\">=\"&fecha_inicial, Registros!B:B, \"<=\"&fecha_final,Registros!C:C,\"=\"&A22))","v":0},{"$f":"IF(ISBLANK(A22),0,SUMIFS(Registros!H:H,Registros!B:B,\">=\"&fecha_inicial, Registros!B:B, \"<=\"&fecha_final,Registros!C:C,\"=\"&A22))","v":0},0]
[null,"",{"$f":"IF(ISBLANK(A23),0,SUMIFS(Registros!H:H,Registros!B:B,\"<\"&fecha_inicial,Registros!C:C,\"=\"&A23)-IF(ISBLANK(A23),0,SUMIFS(Registros!G:G,Registros!B:B,\"<\"&fecha_inicial,Registros!C:C,\"=\"&A23)))","v":0},{"$f":"IF(ISBLANK(A23),0,SUMIFS(Registros!G:G,Registros!B:B,\">=\"&fecha_inicial, Registros!B:B, \"<=\"&fecha_final,Registros!C:C,\"=\"&A23))","v":0},{"$f":"IF(ISBLANK(A23),0,SUMIFS(Registros!H:H,Registros!B:B,\">=\"&fecha_inicial, Registros!B:B, \"<=\"&fecha_final,Registros!C:C,\"=\"&A23))","v":0},0]
[null,"",{"$f":"IF(ISBLANK(A24),0,SUMIFS(Registros!H:H,Registros!B:B,\"<\"&fecha_inicial,Registros!C:C,\"=\"&A24)-IF(ISBLANK(A24),0,SUMIFS(Registros!G:G,Registros!B:B,\"<\"&fecha_inicial,Registros!C:C,\"=\"&A24)))","v":0},{"$f":"IF(ISBLANK(A24),0,SUMIFS(Registros!G:G,Registros!B:B,\">=\"&fecha_inicial, Registros!B:B, \"<=\"&fecha_final,Registros!C:C,\"=\"&A24))","v":0},{"$f":"IF(ISBLANK(A24),0,SUMIFS(Registros!H:H,Registros!B:B,\">=\"&fecha_inicial, Registros!B:B, \"<=\"&fecha_final,Registros!C:C,\"=\"&A24))","v":0},0]
[null,"",{"$f":"SUM(C26:C31)","v":0},{"$f":"SUM(D26:D31)","v":0},{"$f":"SUM(E26:E31)","v":0},0]
[null,{"$f":"IF(A26<>\"\", IF(ISERROR(VLOOKUP(A26, plan_cuentas,2, FALSE)), \"Código de Cuenta Incorrecto\", UPPER(VLOOKUP(A26, plan_cuentas, 2, FALSE))), \"\")","v":""},{"$f":"IF(ISBLANK(A26),0,SUMIFS(Registros!H:H,Registros!B:B,\"<\"&fecha_inicial,Registros!C:C,\"=\"&A26)-IF(ISBLANK(A26),0,SUMIFS(Registros!G:G,Registros!B:B,\"<\"&fecha_inicial,Registros!C:C,\"=\"&A26)))","v":0},{"$f":"IF(ISBLANK(A26),0,SUMIFS(Registros!G:G,Registros!B:B,\">=\"&fecha_inicial, Registros!B:B, \"<=\"&fecha_final,Registros!C:C,\"=\"&A26))","v":0},{"$f":"IF(ISBLANK(A26),0,SUMIFS(Registros!H:H,Registros!B:B,\">=\"&fecha_inicial, Registros!B:B, \"<=\"&fecha_final,Registros!C:C,\"=\"&A26))","v":0},0]
[null,"",{"$f":"IF(ISBLANK(A27),0,SUMIFS(Registros!H:H,Registros!B:B,\"<\"&fecha_inicial,Registros!C:C,\"=\"&A27)-IF(ISBLANK(A27),0,SUMIFS(Registros!G:G,Registros!B:B,\"<\"&fecha_inicial,Registros!C:C,\"=\"&A27)))","v":0},{"$f":"IF(ISBLANK(A27),0,SUMIFS(Registros!G:G,Registros!B:B,\">=\"&fecha_inicial, Registros!B:B, \"<=\"&fecha_final,Registros!C:C,\"=\"&A27))","v":0},{"$f":"IF(ISBLANK(A27),0,SUMIFS(Registros!H:H,Registros!B:B,\">=\"&fecha_inicial, Registros!B:B, \"<=\"&fecha_final,Registros!C:C,\"=\"&A27))","v":0},0]
[null,"",{"$f":"IF(ISBLANK(A28),0,SUMIFS(Registros!H:H,Registros!B:B,\"<\"&fecha_inicial,Registros!C:C,\"=\"&A28)-IF(ISBLANK(A28),0,SUMIFS(Registros!G:G,Registros!B:B,\"<\"&fecha_inicial,Registros!C:C,\"=\"&A28)))","v":0},{"$f":"IF(ISBLANK(A28),0,SUMIFS(Registros!G:G,Registros!B:B,\">=\"&fecha_inicial, Registros!B:B, \"<=\"&fecha_final,Registros!C:C,\"=\"&A28))","v":0},{"$f":"IF(ISBLANK(A28),0,SUMIFS(Registros!H:H,Registros!B:B,\">=\"&fecha_inicial, Registros!B:B, \"<=\"&fecha_final,Registros!C:C,\"=\"&A28))","v":0},0]
[null,"",{"$f":"IF(ISBLANK(A29),0,SUMIFS(Registros!H:H,Registros!B:B,\"<\"&fecha_inicial,Registros!C:C,\"=\"&A29)-IF(ISBLANK(A29),0,SUMIFS(Registros!G:G,Registros!B:B,\"<\"&fecha_inicial,Registros!C:C,\"=\"&A29)))","v":0},{"$f":"IF(ISBLANK(A29),0,SUMIFS(Registros!G:G,Registros!B:B,\">=\"&fecha_inicial, Registros!B:B, \"<=\"&fecha_final,Registros!C:C,\"=\"&A29))","v":0},{"$f":"IF(ISBLANK(A29),0,SUMIFS(Registros!H:H,Registros!B:B,\">=\"&fecha_inicial, Registros!B:B, \"<=\"&fecha_final,Registros!C:C,\"=\"&A29))","v":0},0]
[null,"",{"$f":"IF(ISBLANK(A30),0,SUMIFS(Registros!H:H,Registros!B:B,\"<\"&fecha_inicial,Registros!C:C,\"=\"&A30)-IF(ISBLANK(A30),0,SUMIFS(Registros!G:G,Registros!B:B,\"<\"&fecha_inicial,Registros!C:C,\"=\"&A30)))","v":0},{"$f":"IF(ISBLANK(A30),0,SUMIFS(Registros!G:G,Registros!B:B,\">=\"&fecha_inicial, Registros!B:B, \"<=\"&fecha_final,Registros!C:C,\"=\"&A30))","v":0},{"$f":"IF(ISBLANK(A30),0,SUMIFS(Registros!H:H,Registros!B:B,\">=\"&fecha_inicial, Registros!B:B, \"<=\"&fecha_final,Registros!C:C,\"=\"&A30))","v":0},0]
[null,"",{"$f":"IF(ISBLANK(A31),0,SUMIFS(Registros!H:H,Registros!B:B,\"<\"&fecha_inicial,Registros!C:C,\"=\"&A31)-IF(ISBLANK(A31),0,SUMIFS(Registros!G:G,Registros!B:B,\"<\"&fecha_inicial,Registros!C:C,\"=\"&A31)))","v":0},{"$f":"IF(ISBLANK(A31),0,SUMIFS(Registros!G:G,Registros!B:B,\">=\"&fecha_inicial, Registros!B:B, \"<=\"&fecha_final,Registros!C:C,\"=\"&A31))","v":0},{"$f":"IF(ISBLANK(A31),0,SUMIFS(Registros!H:H,Registros!B:B,\">=\"&fecha_inicial, Registros!B:B, \"<=\"&fecha_final,Registros!C:C,\"=\"&A31))","v":0},0]
[null,"",{"$f":"SUM(C33:C38)","v":0},{"$f":"SUM(D33:D38)","v":0},{"$f":"SUM(E33:E38)","v":0},0]
[null,"",{"$f":"IF(ISBLANK(A33),0,SUMIFS(Registros!H:H,Registros!B:B,\"<\"&fecha_inicial,Registros!C:C,\"=\"&A33)-IF(ISBLANK(A33),0,SUMIFS(Registros!G:G,Registros!B:B,\"<\"&fecha_inicial,Registros!C:C,\"=\"&A33)))","v":0},{"$f":"IF(ISBLANK(A33),0,SUMIFS(Registros!G:G,Registros!B:B,\">=\"&fecha_inicial, Registros!B:B, \"<=\"&fecha_final,Registros!C:C,\"=\"&A33))","v":0},{"$f":"IF(ISBLANK(A33),0,SUMIFS(Registros!H:H,Registros!B:B,\">=\"&fecha_inicial, Registros!B:B, \"<=\"&fecha_final,Registros!C:C,\"=\"&A33))","v":0},0]
[null,"",{"$f":"IF(ISBLANK(A34),0,SUMIFS(Registros!H:H,Registros!B:B,\"<\"&fecha_inicial,Registros!C:C,\"=\"&A34)-IF(ISBLANK(A34),0,SUMIFS(Registros!G:G,Registros!B:B,\"<\"&fecha_inicial,Registros!C:C,\"=\"&A34)))","v":0},{"$f":"IF(ISBLANK(A34),0,SUMIFS(Registros!G:G,Registros!B:B,\">=\"&fecha_inicial, Registros!B:B, \"<=\"&fecha_final,Registros!C:C,\"=\"&A34))","v":0},{"$f":"IF(ISBLANK(A34),0,SUMIFS(Registros!H:H,Registros!B:B,\">=\"&fecha_inicial, Registros!B:B, \"<=\"&fecha_final,Registros!C:C,\"=\"&A34))","v":0},0]
[null,"",{"$f":"IF(ISBLANK(A35),0,SUMIFS(Registros!H:H,Registros!B:B,\"<\"&fecha_inicial,Registros!C:C,\"=\"&A35)-IF(ISBLANK(A35),0,SUMIFS(Registros!G:G,Registros!B:B,\"<\"&fecha_inicial,Registros!C:C,\"=\"&A35)))","v":0},{"$f":"IF(ISBLANK(A35),0,SUMIFS(Registros!G:G,Registros!B:B,\">=\"&fecha_inicial, Registros!B:B, \"<=\"&fecha_final,Registros!C:C,\"=\"&A35))","v":0},{"$f":"IF(ISBLANK(A35),0,SUMIFS(Registros!H:H,Registros!B:B,\">=\"&fecha_inicial, Registros!B:B, \"<=\"&fecha_final,Registros!C:C,\"=\"&A35))","v":0},0]
[null,"",{"$f":"IF(ISBLANK(A36),0,SUMIFS(Registros!H:H,Registros!B:B,\"<\"&fecha_inicial,Registros!C:C,\"=\"&A36)-IF(ISBLANK(A36),0,SUMIFS(Registros!G:G,Registros!B:B,\"<\"&fecha_inicial,Registros!C:C,\"=\"&A36)))","v":0},{"$f":"IF(ISBLANK(A36),0,SUMIFS(Registros!G:G,Registros!B:B,\">=\"&fecha_inicial, Registros!B:B, \"<=\"&fecha_final,Registros!C:C,\"=\"&A36))","v":0},{"$f":"IF(ISBLANK(A36),0,SUMIFS(Registros!H:H,Registros!B:B,\">=\"&fecha_inicial, Registros!B:B, \"<=\"&fecha_final,Registros!C:C,\"=\"&A36))","v":0},0]
[null,"",{"$f":"IF(ISBLANK(A37),0,SUMIFS(Registros!H:H,Registros!B:B,\"<\"&fecha_inicial,Registros!C:C,\"=\"&A37)-IF(ISBLANK(A37),0,SUMIFS(Registros!G:G,Registros!B:B,\"<\"&fecha_inicial,Registros!C:C,\"=\"&A37)))","v":0},{"$f":"IF(ISBLANK(A37),0,SUMIFS(Registros!G:G,Registros!B:B,\">=\"&fecha_inicial, Registros!B:B, \"<=\"&fecha_final,Registros!C:C,\"=\"&A37))","v":0},{"$f":"IF(ISBLANK(A37),0,SUMIFS(Registros!H:H,Registros!B:B,\">=\"&fecha_inicial, Registros!B:B, \"<=\"&fecha_final,Registros!C:C,\"=\"&A37))","v":0},0]
[null,"",{"$f":"IF(ISBLANK(A38),0,SUMIFS(Registros!H:H,Registros!B:B,\"<\"&fecha_inicial,Registros!C:C,\"=\"&A38)-IF(ISBLANK(A38),0,SUMIFS(Registros!G:G,Registros!B:B,\"<\"&fecha_inicial,Registros!C:C,\"=\"&A38)))","v":0},{"$f":"IF(ISBLANK(A38),0,SUMIFS(Registros!G:G,Registros!B:B,\">=\"&fecha_inicial, Registros!B:B, \"<=\"&fecha_final,Registros!C:C,\"=\"&A38))","v":0},{"$f":"IF(ISBLANK(A38),0,SUMIFS(Registros!H:H,Registros!B:B,\">=\"&fecha_inicial, Registros!B:B, \"<=\"&fecha_final,Registros!C:C,\"=\"&A38))","v":0},0]
[null,"",{"$f":"SUM(C40:C45)","v":0},{"$f":"SUM(D40:D45)","v":0},{"$f":"SUM(E40:E45)","v":0},0]
[null,"",{"$f":"IF(ISBLANK(A40),0,SUMIFS(Registros!H:H,Registros!B:B,\"<\"&fecha_inicial,Registros!C:C,\"=\"&A40)-IF(ISBLANK(A40),0,SUMIFS(Registros!G:G,Registros!B:B,\"<\"&fecha_inicial,Registros!C:C,\"=\"&A40)))","v":0},{"$f":"IF(ISBLANK(A40),0,SUMIFS(Registros!G:G,Registros!B:B,\">=\"&fecha_inicial, Registros!B:B, \"<=\"&fecha_final,Registros!C:C,\"=\"&A40))","v":0},{"$f":"IF(ISBLANK(A40),0,SUMIFS(Registros!H:H,Registros!B:B,\">=\"&fecha_inicial, Registros!B:B, \"<=\"&fecha_final,Registros!C:C,\"=\"&A40))","v":0},0]
[null,"",{"$f":"IF(ISBLANK(A41),0,SUMIFS(Registros!H:H,Registros!B:B,\"<\"&fecha_inicial,Registros!C:C,\"=\"&A41)-IF(ISBLANK(A41),0,SUMIFS(Registros!G:G,Registros!B:B,\"<\"&fecha_inicial,Registros!C:C,\"=\"&A41)))","v":0},{"$f":"IF(ISBLANK(A41),0,SUMIFS(Registros!G:G,Registros!B:B,\">=\"&fecha_inicial, Registros!B:B, \"<=\"&fecha_final,Registros!C:C,\"=\"&A41))","v":0},{"$f":"IF(ISBLANK(A41),0,SUMIFS(Registros!H:H,Registros!B:B,\">=\"&fecha_inicial, Registros!B:B, \"<=\"&fecha_final,Registros!C:C,\"=\"&A41))","v":0},0]
[null,"",{"$f":"IF(ISBLANK(A42),0,SUMIFS(Registros!H:H,Registros!B:B,\"<\"&fecha_inicial,Registros!C:C,\"=\"&A42)-IF(ISBLANK(A42),0,SUMIFS(Registros!G:G,Registros!B:B,\"<\"&fecha_inicial,Registros!C:C,\"=\"&A42)))","v":0},{"$f":"IF(ISBLANK(A42),0,SUMIFS(Registros!G:G,Registros!B:B,\">=\"&fecha_inicial, Registros!B:B, \"<=\"&fecha_final,Registros!C:C,\"=\"&A42))","v":0},{"$f":"IF(ISBLANK(A42),0,SUMIFS(Registros!H:H,Registros!B:B,\">=\"&fecha_inicial, Registros!B:B, \"<=\"&fecha_final,Registros!C:C,\"=\"&A42))","v":0},0]
[null,"",{"$f":"IF(ISBLANK(A43),0,SUMIFS(Registros!H:H,Registros!B:B,\"<\"&fecha_inicial,Registros!C:C,\"=\"&A43)-IF(ISBLANK(A43),0,SUMIFS(Registros!G:G,Registros!B:B,\"<\"&fecha_inicial,Registros!C:C,\"=\"&A43)))","v":0},{"$f":"IF(ISBLANK(A43),0,SUMIFS(Registros!G:G,Registros!B:B,\">=\"&fecha_inicial, Registros!B:B, \"<=\"&fecha_final,Registros!C:C,\"=\"&A43))","v":0},{"$f":"IF(ISBLANK(A43),0,SUMIFS(Registros!H:H,Registros!B:B,\">=\"&fecha_inicial, Registros!B:B, \"<=\"&fecha_final,Registros!C:C,\"=\"&A43))","v":0},0]
[null,"",{"$f":"IF(ISBLANK(A44),0,SUMIFS(Registros!H:H,Registros!B:B,\"<\"&fecha_inicial,Registros!C:C,\"=\"&A44)-IF(ISBLANK(A44),0,SUMIFS(Registros!G:G,Registros!B:B,\"<\"&fecha_inicial,Registros!C:C,\"=\"&A44)))","v":0},{"$f":"IF(ISBLANK(A44),0,SUMIFS(Registros!G:G,Registros!B:B,\">=\"&fecha_inicial, Registros!B:B, \"<=\"&fecha_final,Registros!C:C,\"=\"&A44))","v":0},{"$f":"IF(ISBLANK(A44),0,SUMIFS(Registros!H:H,Registros!B:B,\">=\"&fecha_inicial, Registros!B:B, \"<=\"&fecha_final,Registros!C:C,\"=\"&A44))","v":0},0]
[null,"",{"$f":"IF(ISBLANK(A45),0,SUMIFS(Registros!H:H,Registros!B:B,\"<\"&fecha_inicial,Registros!C:C,\"=\"&A45)-IF(ISBLANK(A45),0,SUMIFS(Registros!G:G,Registros!B:B,\"<\"&fecha_inicial,Registros!C:C,\"=\"&A45)))","v":0},{"$f":"IF(ISBLANK(A45),0,SUMIFS(Registros!G:G,Registros!B:B,\">=\"&fecha_inicial, Registros!B:B, \"<=\"&fecha_final,Registros!C:C,\"=\"&A45))","v":0},{"$f":"IF(ISBLANK(A45),0,SUMIFS(Registros!H:H,Registros!B:B,\">=\"&fecha_inicial, Registros!B:B, \"<=\"&fecha_final,Registros!C:C,\"=\"&A45))","v":0},0]
[null,"",{"$f":"SUM(C47:C52)","v":0},{"$f":"SUM(D47:D52)","v":0},{"$f":"SUM(E47:E52)","v":0},0]
[null,{"$f":"IF(A47<>\"\", IF(ISERROR(VLOOKUP(A47, plan_cuentas,2, FALSE)), \"Código de Cuenta Incorrecto\", UPPER(VLOOKUP(A47, plan_cuentas, 2, FALSE))), \"\")","v":""},{"$f":"IF(ISBLANK(A47),0,SUMIFS(Registros!H:H,Registros!B:B,\"<\"&fecha_inicial,Registros!C:C,\"=\"&A47)-IF(ISBLANK(A47),0,SUMIFS(Registros!G:G,Registros!B:B,\"<\"&fecha_inicial,Registros!C:C,\"=\"&A47)))","v":0},{"$f":"IF(ISBLANK(A47),0,SUMIFS(Registros!G:G,Registros!B:B,\">=\"&fecha_inicial, Registros!B:B, \"<=\"&fecha_final,Registros!C:C,\"=\"&A47))","v":0},{"$f":"IF(ISBLANK(A47),0,SUMIFS(Registros!H:H,Registros!B:B,\">=\"&fecha_inicial, Registros!B:B, \"<=\"&fecha_final,Registros!C:C,\"=\"&A47))","v":0},0]
[null,{"$f":"IF(A48<>0, IF(ISERROR(VLOOKUP(A48, plan_cuentas,2, FALSE)), \"Código de Cuenta Incorrecto\", UPPER(VLOOKUP(A48, plan_cuentas, 2, FALSE))), \"\")","v":""},{"$f":"IF(ISBLANK(A48),0,SUMIFS(Registros!H:H,Registros!B:B,\"<\"&fecha_inicial,Registros!C:C,\"=\"&A48)-IF(ISBLANK(A48),0,SUMIFS(Registros!G:G,Registros!B:B,\"<\"&fecha_inicial,Registros!C:C,\"=\"&A48)))","v":0},{"$f":"IF(ISBLANK(A48),0,SUMIFS(Registros!G:G,Registros!B:B,\">=\"&fecha_inicial, Registros!B:B, \"<=\"&fecha_final,Registros!C:C,\"=\"&A48))","v":0},{"$f":"IF(ISBLANK(A48),0,SUMIFS(Registros!H:H,Registros!B:B,\">=\"&fecha_inicial, Registros!B:B, \"<=\"&fecha_final,Registros!C:C,\"=\"&A48))","v":0},0]
[null,{"$f":"IF(A49<>0, IF(ISERROR(VLOOKUP(A49, plan_cuentas,2, FALSE)), \"Código de Cuenta Incorrecto\", UPPER(VLOOKUP(A49, plan_cuentas, 2, FALSE))), \"\")","v":""},{"$f":"IF(ISBLANK(A49),0,SUMIFS(Registros!H:H,Registros!B:B,\"<\"&fecha_inicial,Registros!C:C,\"=\"&A49)-IF(ISBLANK(A49),0,SUMIFS(Registros!G:G,Registros!B:B,\"<\"&fecha_inicial,Registros!C:C,\"=\"&A49)))","v":0},{"$f":"IF(ISBLANK(A49),0,SUMIFS(Registros!G:G,Registros!B:B,\">=\"&fecha_inicial, Registros!B:B, \"<=\"&fecha_final,Registros!C:C,\"=\"&A49))","v":0},{"$f":"IF(ISBLANK(A49),0,SUMIFS(Registros!H:H,Registros!B:B,\">=\"&fecha_inicial, Registros!B:B, \"<=\"&fecha_final,Registros!C:C,\"=\"&A49))","v":0},0]
[null,{"$f":"IF(A50<>0, IF(ISERROR(VLOOKUP(A50, plan_cuentas,2, FALSE)), \"Código de Cuenta Incorrecto\", UPPER(VLOOKUP(A50, plan_cuentas, 2, FALSE))), \"\")","v":""},{"$f":"IF(ISBLANK(A50),0,SUMIFS(Registros!H:H,Registros!B:B,\"<\"&fecha_inicial,Registros!C:C,\"=\"&A50)-IF(ISBLANK(A50),0,SUMIFS(Registros!G:G,Registros!B:B,\"<\"&fecha_inicial,Registros!C:C,\"=\"&A50)))","v":0},{"$f":"IF(ISBLANK(A50),0,SUMIFS(Registros!G:G,Registros!B:B,\">=\"&fecha_inicial, Registros!B:B, \"<=\"&fecha_final,Registros!C:C,\"=\"&A50))","v":0},{"$f":"IF(ISBLANK(A50),0,SUMIFS(Registros!H:H,Registros!B:B,\">=\"&fecha_inicial, Registros!B:B, \"<=\"&fecha_final,Registros!C:C,\"=\"&A50))","v":0},0]
[null,{"$f":"IF(A51<>0, IF(ISERROR(VLOOKUP(A51, plan_cuentas,2, FALSE)), \"Código de Cuenta Incorrecto\", UPPER(VLOOKUP(A51, plan_cuentas, 2, FALSE))), \"\")","v":""},{"$f":"IF(ISBLANK(A51),0,SUMIFS(Registros!H:H,Registros!B:B,\"<\"&fecha_inicial,Registros!C:C,\"=\"&A51)-IF(ISBLANK(A51),0,SUMIFS(Registros!G:G,Registros!B:B,\"<\"&fecha_inicial,Registros!C:C,\"=\"&A51)))","v":0},{"$f":"IF(ISBLANK(A51),0,SUMIFS(Registros!G:G,Registros!B:B,\">=\"&fecha_inicial, Registros!B:B, \"<=\"&fecha_final,Registros!C:C,\"=\"&A51))","v":0},{"$f":"IF(ISBLANK(A51),0,SUMIFS(Registros!H:H,Registros!B:B,\">=\"&fecha_inicial, Registros!B:B, \"<=\"&fecha_final,Registros!C:C,\"=\"&A51))","v":0},0]
[null,{"$f":"IF(A52<>0, IF(ISERROR(VLOOKUP(A52, plan_cuentas,2, FALSE)), \"Código de Cuenta Incorrecto\", UPPER(VLOOKUP(A52, plan_cuentas, 2, FALSE))), \"\")","v":""},{"$f":"IF(ISBLANK(A52),0,SUMIFS(Registros!H:H,Registros!B:B,\"<\"&fecha_inicial,Registros!C:C,\"=\"&A52)-IF(ISBLANK(A52),0,SUMIFS(Registros!G:G,Registros!B:B,\"<\"&fecha_inicial,Registros!C:C,\"=\"&A52)))","v":0},{"$f":"IF(ISBLANK(A52),0,SUMIFS(Registros!G:G,Registros!B:B,\">=\"&fecha_inicial, Registros!B:B, \"<=\"&fecha_final,Registros!C:C,\"=\"&A52))","v":0},{"$f":"IF(ISBLANK(A52),0,SUMIFS(Registros!H:H,Registros!B:B,\">=\"&fecha_inicial, Registros!B:B, \"<=\"&fecha_final,Registros!C:C,\"=\"&A52))","v":0},0]
[null,"",{"$f":"SUM(C54:C59)","v":0},{"$f":"SUM(D54:D59)","v":0},{"$f":"SUM(E54:E59)","v":0},0]
[null,"",{"$f":"IF(ISBLANK(A54),0,SUMIFS(Registros!H:H,Registros!B:B,\"<\"&fecha_inicial,Registros!C:C,\"=\"&A54)-IF(ISBLANK(A54),0,SUMIFS(Registros!G:G,Registros!B:B,\"<\"&fecha_inicial,Registros!C:C,\"=\"&A54)))","v":0},{"$f":"IF(ISBLANK(A54),0,SUMIFS(Registros!G:G,Registros!B:B,\">=\"&fecha_inicial, Registros!B:B, \"<=\"&fecha_final,Registros!C:C,\"=\"&A54))","v":0},{"$f":"IF(ISBLANK(A54),0,SUMIFS(Registros!H:H,Registros!B:B,\">=\"&fecha_inicial, Registros!B:B, \"<=\"&fecha_final,Registros!C:C,\"=\"&A54))","v":0},0]
[null,"",{"$f":"IF(ISBLANK(A55),0,SUMIFS(Registros!H:H,Registros!B:B,\"<\"&fecha_inicial,Registros!C:C,\"=\"&A55)-IF(ISBLANK(A55),0,SUMIFS(Registros!G:G,Registros!B:B,\"<\"&fecha_inicial,Registros!C:C,\"=\"&A55)))","v":0},{"$f":"IF(ISBLANK(A55),0,SUMIFS(Registros!G:G,Registros!B:B,\">=\"&fecha_inicial, Registros!B:B, \"<=\"&fecha_final,Registros!C:C,\"=\"&A55))","v":0},{"$f":"IF(ISBLANK(A55),0,SUMIFS(Registros!H:H,Registros!B:B,\">=\"&fecha_inicial, Registros!B:B, \"<=\"&fecha_final,Registros!C:C,\"=\"&A55))","v":0},0]
[null,"",{"$f":"IF(ISBLANK(A56),0,SUMIFS(Registros!H:H,Registros!B:B,\"<\"&fecha_inicial,Registros!C:C,\"=\"&A56)-IF(ISBLANK(A56),0,SUMIFS(Registros!G:G,Registros!B:B,\"<\"&fecha_inicial,Registros!C:C,\"=\"&A56)))","v":0},{"$f":"IF(ISBLANK(A56),0,SUMIFS(Registros!G:G,Registros!B:B,\">=\"&fecha_inicial, Registros!B:B, \"<=\"&fecha_final,Registros!C:C,\"=\"&A56))","v":0},{"$f":"IF(ISBLANK(A56),0,SUMIFS(Registros!H:H,Registros!B:B,\">=\"&fecha_inicial, Registros!B:B, \"<=\"&fecha_final,Registros!C:C,\"=\"&A56))","v":0},0]
[null,"",{"$f":"IF(ISBLANK(A57),0,SUMIFS(Registros!H:H,Registros!B:B,\"<\"&fecha_inicial,Registros!C:C,\"=\"&A57)-IF(ISBLANK(A57),0,SUMIFS(Registros!G:G,Registros!B:B,\"<\"&fecha_inicial,Registros!C:C,\"=\"&A57)))","v":0},{"$f":"IF(ISBLANK(A57),0,SUMIFS(Registros!G:G,Registros!B:B,\">=\"&fecha_inicial, Registros!B:B, \"<=\"&fecha_final,Registros!C:C,\"=\"&A57))","v":0},{"$f":"IF(ISBLANK(A57),0,SUMIFS(Registros!H:H,Registros!B:B,\">=\"&fecha_inicial, Registros!B:B, \"<=\"&fecha_final,Registros!C:C,\"=\"&A57))","v":0},0]
[null,{"$f":"IF(A58<>0, IF(ISERROR(VLOOKUP(A58, plan_cuentas,2, FALSE)), \"Código de Cuenta Incorrecto\", UPPER(VLOOKUP(A58, plan_cuentas, 2, FALSE))), \"\")","v":""},{"$f":"IF(ISBLANK(A58),0,SUMIFS(Registros!H:H,Registros!B:B,\"<\"&fecha_inicial,Registros!C:C,\"=\"&A58)-IF(ISBLANK(A58),0,SUMIFS(Registros!G:G,Registros!B:B,\"<\"&fecha_inicial,Registros!C:C,\"=\"&A58)))","v":0},{"$f":"IF(ISBLANK(A58),0,SUMIFS(Registros!G:G,Registros!B:B,\">=\"&fecha_inicial, Registros!B:B, \"<=\"&fecha_final,Registros!C:C,\"=\"&A58))","v":0},{"$f":"IF(ISBLANK(A58),0,SUMIFS(Registros!H:H,Registros!B:B,\">=\"&fecha_inicial, Registros!B:B, \"<=\"&fecha_final,Registros!C:C,\"=\"&A58))","v":0},0]
[null,"",{"$f":"IF(ISBLANK(A59),0,SUMIFS(Registros!H:H,Registros!B:B,\"<\"&fecha_inicial,Registros!C:C,\"=\"&A59)-IF(ISBLANK(A59),0,SUMIFS(Registros!G:G,Registros!B:B,\"<\"&fecha_inicial,Registros!C:C,\"=\"&A59)))","v":0},{"$f":"IF(ISBLANK(A59),0,SUMIFS(Registros!G:G,Registros!B:B,\">=\"&fecha_inicial, Registros!B:B, \"<=\"&fecha_final,Registros!C:C,\"=\"&A59))","v":0},{"$f":"IF(ISBLANK(A59),0,SUMIFS(Registros!H:H,Registros!B:B,\">=\"&fecha_inicial, Registros!B:B, \"<=\"&fecha_final,Registros!C:C,\"=\"&A59))","v":0},0]
[{"$f":"\"SALDO FINAL DE LA CUENTA AL \" &TEXT(fecha_final, \"dd\")&\" DE \"&UPPER(TEXT(fecha_final, \"MMMM\"))&\" DEL \"& TEXT(fecha_final, \"YYYY\")","v":"SALDO FINAL DE LA CUENTA AL 31 DE JULIO DEL 2014"},null,{"$f":"C11+C18+C25+C46+C32+C39+C53","v":0},{"$f":"D11+D18+D25+D46+D32+D39+D53","v":0},{"$f":"E11+E18+E25+E46+E32+E39+E53","v":0},0]
[]
[]
[]
[]
["AUTORIZADO POR:",null,null,null,"REVISADO POR:"]
[{"$f":"VLOOKUP(A65, Usuarios!B7:E9, 3, FALSE)","v":"Rodrigo Castro Potoy"},null,null,null,{"$f":"VLOOKUP(E65, Usuarios!B7:E9, 3, FALSE)","v":0}]

{"sheet":"140000","index":22,"n_rows":66,"n_cols":6,"rows_kept":66,"cut":false,"hidden":false,"merged":[[70,2,70,3],[65,0,65,1],[65,4,65,5],[66,0,66,1],[66,4,66,5],[68,2,68,3],[69,2,69,3],[7,5,8,5],[59,0,59,1],[63,0,63,1],[63,4,63,5],[64,0,64,1],[64,4,64,5],[7,0,8,0],[7,1,8,1],[7,2,8,2],[7,3,8,3],[7,4,8,4],[1,0,1,5],[2,0,2,5],[3,0,3,5],[4,0,4,5],[6,3,6,5]]}
[null,null,null,null,"Proteger"]
[{"$f":"bussiness_name","v":"SOCIEDAD CIVIL COMUNIDAD CONNECT"}]
[{"$f":"\"RESUMEN CONTABLE DE \"&B7","v":"RESUMEN CONTABLE DE OTROS ACTIVOS"}]
[{"$f":"\"DEL \"&TEXT(fecha_inicial, \"DD\")&\" DE \"&UPPER(TEXT(fecha_inicial, \"MMMM\"))&\" DEL \" & TEXT(fecha_inicial, \"YYYY\") & \" AL \"&TEXT(fecha_final, \"DD\")&\" DE \"&UPPER(TEXT(fecha_final, \"MMMM\"))&\" DEL \"&TEXT(fecha_final, \"YYYY\")","v":"DEL 01 DE JULIO DEL 2014 AL 31 DE JULIO DEL 2014"}]
[{"$f":"address & \" *** Tel/Fax:  \" & tel & \" *** \" & email","v":"Esquina sureste del Parque Central, San Juan del sur, Nicaragua. *** Tel/Fax:  25682731 *** info@comunidadconnect.org"}]
[]
[140000,{"$f":"UPPER(IF(ISBLANK(A7),\"\",IFERROR(VLOOKUP(A7,plan_cuentas,2,FALSE),\"Código de cuenta incorrecto\")))","v":"OTROS ACTIVOS"},null,{"$f":"\"MOVIMIENTOS DE \"&UPPER(TEXT(fecha_final, \"MMMM\"))","v":"MOVIMIENTOS DE JULIO"}]
["CODIGO","NOMBRE DE LA CUENTA","SALDO INICIAL","DEBITOS","CREDITOS","SALDO FINAL"]
[]
[]
[140100,{"$f":"IF(A11<>\"\", IF(ISERROR(VLOOKUP(A11, plan_cuentas,2, FALSE)), \"Código de Cuenta Incorrecto\", UPPER(VLOOKUP(A11, plan_cuentas, 2, FALSE))), \"\")","v":"DEPÓSITOS EN GARANTÍA"},{"$f":"SUM(C12:C17)","v":0},{"$f":"SUM(D12:D17)","v":0},{"$f":"SUM(E12:E17)","v":0},{"$f":"C11+D11-E11","v":0}]
[140101,{"$f":"IF(A12<>\"\", IF(ISERROR(VLOOKUP(A12, plan_cuentas,2, FALSE)), \"Código de Cuenta Incorrecto\", UPPER(VLOOKUP(A12, plan_cuentas, 2, FALSE))), \"\")","v":"DEPÓSITOS EN GARANTÍA"},{"$f":"IF(ISBLANK(A12),0,SUMIFS(Registros!G:G,Registros!B:B,\"<\"&fecha_inicial,Registros!C:C,\"=\"&A12)-IF(ISBLANK(A12),0,SUMIFS(Registros!H:H,Registros!B:B,\"<\"&fecha_inicial,Registros!C:C,\"=\"&A12)))","v":0},{"$f":"IF(ISBLANK(A12),0,SUMIFS(Registros!G:G,Registros!B:B,\">=\"&fecha_inicial, Registros!B:B, \"<=\"&fecha_final,Registros!C:C,\"=\"&A12))","v":0},{"$f":"IF(ISBLANK(A12),0,SUMIFS(Registros!H:H,Registros!B:B,\">=\"&fecha_inicial, Registros!B:B, \"<=\"&fecha_final,Registros!C:C,\"=\"&A12))","v":0},{"$f":"C12+D12-E12","v":0}]
[null,{"$f":"IF(A13<>0, IF(ISERROR(VLOOKUP(A13, plan_cuentas,2, FALSE)), \"Código de Cuenta Incorrecto\", UPPER(VLOOKUP(A13, plan_cuentas, 2, FALSE))), \"\")","v":""},{"$f":"IF(ISBLANK(A13),0,SUMIFS(Registros!G:G,Registros!B:B,\"<\"&fecha_inicial,Registros!C:C,\"=\"&A13)-IF(ISBLANK(A13),0,SUMIFS(Registros!H:H,Registros!B:B,\"<\"&fecha_inicial,Registros!C:C,\"=\"&A13)))","v":0},{"$f":"IF(ISBLANK(A13),0,SUMIFS(Registros!G:G,Registros!B:B,\">=\"&fecha_inicial, Registros!B:B, \"<=\"&fecha_final,Registros!C:C,\"=\"&A13))","v":0},{"$f":"IF(ISBLANK(A13),0,SUMIFS(Registros!H:H,Registros!B:B,\">=\"&fecha_inicial, Registros!B:B, \"<=\"&fecha_final,Registros!C:C,\"=\"&A13))","v":0},{"$f":"C13+D13-E13","v":0}]
[null,"",{"$f":"IF(ISBLANK(A14),0,SUMIFS(Registros!G:G,Registros!B:B,\"<\"&fecha_inicial,Registros!C:C,\"=\"&A14)-IF(ISBLANK(A14),0,SUMIFS(Registros!H:H,Registros!B:B,\"<\"&fecha_inicial,Registros!C:C,\"=\"&A14)))","v":0},{"$f":"IF(ISBLANK(A14),0,SUMIFS(Registros!G:G,Registros!B:B,\">=\"&fecha_inicial, Registros!B:B, \"<=\"&fecha_final,Registros!C:C,\"=\"&A14))","v":0},{"$f":"IF(ISBLANK(A14),0,SUMIFS(Registros!H:H,Registros!B:B,\">=\"&fecha_inicial, Registros!B:B, \"<=\"&fecha_final,Registros!C:C,\"=\"&A14))","v":0},0]
[null,"",{"$f":"IF(ISBLANK(A15),0,SUMIFS(Registros!G:G,Registros!B:B,\"<\"&fecha_inicial,Registros!C:C,\"=\"&A15)-IF(ISBLANK(A15),0,SUMIFS(Registros!H:H,Registros!B:B,\"<\"&fecha_inicial,Registros!C:C,\"=\"&A15)))","v":0},{"$f":"IF(ISBLANK(A15),0,SUMIFS(Registros!G:G,Registros!B:B,\">=\"&fecha_inicial, Registros!B:B, \"<=\"&fecha_final,Registros!C:C,\"=\"&A15))","v":0},{"$f":"IF(ISBLANK(A15),0,SUMIFS(Registros!H:H,Registros!B:B,\">=\"&fecha_inicial, Registros!B:B, \"<=\"&fecha_final,Registros!C:C,\"=\"&A15))","v":0},0]
[null,"",{"$f":"IF(ISBLANK(A16),0,SUMIFS(Registros!G:G,Registros!B:B,\"<\"&fecha_inicial,Registros!C:C,\"=\"&A16)-IF(ISBLANK(A16),0,SUMIFS(Registros!H:H,Registros!B:B,\"<\"&fecha_inicial,Registros!C:C,\"=\"&A16)))","v":0},{"$f":"IF(ISBLANK(A16),0,SUMIFS(Registros!G:G,Registros!B:B,\">=\"&fecha_inicial, Registros!B:B, \"<=\"&fecha_final,Registros!C:C,\"=\"&A16))","v":0},{"$f":"IF(ISBLANK(A16),0,SUMIFS(Registros!H:H,Registros!B:B,\">=\"&fecha_inicial, Registros!B:B, \"<=\"&fecha_final,Registros!C:C,\"=\"&A16))","v":0},0]
[null,"",{"$f":"IF(ISBLANK(A17),0,SUMIFS(Registros!G:G,Registros!B:B,\"<\"&fecha_inicial,Registros!C:C,\"=\"&A17)-IF(ISBLANK(A17),0,SUMIFS(Registros!H:H,Registros!B:B,\"<\"&fecha_inicial,Registros!C:C,\"=\"&A17)))","v":0},{"$f":"IF(ISBLANK(A17),0,SUMIFS(Registros!G:G,Registros!B:B,\">=\"&fecha_inicial, Registros!B:B, \"<=\"&fecha_final,Registros!C:C,\"=\"&A17))","v":0},{"$f":"IF(ISBLANK(A17),0,SUMIFS(Registros!H:H,Registros!B:B,\">=\"&fecha_inicial, Registros!B:B, \"<=\"&fecha_final,Registros!C:C,\"=\"&A17))","v":0},0]
[null,{"$f":"IF(A18<>0, IF(ISERROR(VLOOKUP(A18, plan_cuentas,2, FALSE)), \"Código de Cuenta Incorrecto\", UPPER(VLOOKUP(A18, plan_cuentas, 2, FALSE))), \"\")","v":""},{"$f":"SUM(C19:C24)","v":0},{"$f":"SUM(D19:D24)","v":0},{"$f":"SUM(E19:E24)","v":0},0]
[null,{"$f":"IF(A19<>\"\", IF(ISERROR(VLOOKUP(A19, plan_cuentas,2, FALSE)), \"Código de Cuenta Incorrecto\", UPPER(VLOOKUP(A19, plan_cuentas, 2, FALSE))), \"\")","v":""},{"$f":"IF(ISBLANK(A19),0,SUMIFS(Registros!G:G,Registros!B:B,\"<\"&fecha_inicial,Registros!C:C,\"=\"&A19)-IF(ISBLANK(A19),0,SUMIFS(Registros!H:H,Registros!B:B,\"<\"&fecha_inicial,Registros!C:C,\"=\"&A19)))","v":0},{"$f":"IF(ISBLANK(A19),0,SUMIFS(Registros!G:G,Registros!B:B,\">=\"&fecha_inicial, Registros!B:B, \"<=\"&fecha_final,Registros!C:C,\"=\"&A19))","v":0},{"$f":"IF(ISBLANK(A19),0,SUMIFS(Registros!H:H,Registros!B:B,\">=\"&fecha_inicial, Registros!B:B, \"<=\"&fecha_final,Registros!C:C,\"=\"&A19))","v":0},0]
[null,"",{"$f":"IF(ISBLANK(A20),0,SUMIFS(Registros!G:G,Registros!B:B,\"<\"&fecha_inicial,Registros!C:C,\"=\"&A20)-IF(ISBLANK(A20),0,SUMIFS(Registros!H:H,Registros!B:B,\"<\"&fecha_inicial,Registros!C:C,\"=\"&A20)))","v":0},{"$f":"IF(ISBLANK(A20),0,SUMIFS(Registros!G:G,Registros!B:B,\">=\"&fecha_inicial, Registros!B:B, \"<=\"&fecha_final,Registros!C:C,\"=\"&A20))","v":0},{"$f":"IF(ISBLANK(A20),0,SUMIFS(Registros!H:H,Registros!B:B,\">=\"&fecha_inicial, Registros!B:B, \"<=\"&fecha_final,Registros!C:C,\"=\"&A20))","v":0},0]
[null,"",{"$f":"IF(ISBLANK(A21),0,SUMIFS(Registros!G:G,Registros!B:B,\"<\"&fecha_inicial,Registros!C:C,\"=\"&A21)-IF(ISBLANK(A21),0,SUMIFS(Registros!H:H,Registros!B:B,\"<\"&fecha_inicial,Registros!C:C,\"=\"&A21)))","v":0},{"$f":"IF(ISBLANK(A21),0,SUMIFS(Registros!G:G,Registros!B:B,\">=\"&fecha_inicial, Registros!B:B, \"<=\"&fecha_final,Registros!C:C,\"=\"&A21))","v":0},{"$f":"IF(ISBLANK(A21),0,SUMIFS(Registros!H:H,Registros!B:B,\">=\"&fecha_inicial, Registros!B:B, \"<=\"&fecha_final,Registros!C:C,\"=\"&A21))","v":0},0]
[null,"",{"$f":"IF(ISBLANK(A22),0,SUMIFS(Registros!G:G,Registros!B:B,\"<\"&fecha_inicial,Registros!C:C,\"=\"&A22)-IF(ISBLANK(A22),0,SUMIFS(Registros!H:H,Registros!B:B,\"<\"&fecha_inicial,Registros!C:C,\"=\"&A22)))","v":0},{"$f":"IF(ISBLANK(A22),0,SUMIFS(Registros!G:G,Registros!B:B,\">=\"&fecha_inicial, Registros!B:B, \"<=\"&fecha_final,Registros!C:C,\"=\"&A22))","v":0},{"$f":"IF(ISBLANK(A22),0,SUMIFS(Registros!H:H,Registros!B:B,\">=\"&fecha_inicial, Registros!B:B, \"<=\"&fecha_final,Registros!C:C,\"=\"&A22))","v":0},0]
[null,"",{"$f":"IF(ISBLANK(A23),0,SUMIFS(Registros!G:G,Registros!B:B,\"<\"&fecha_inicial,Registros!C:C,\"=\"&A23)-IF(ISBLANK(A23),0,SUMIFS(Registros!H:H,Registros!B:B,\"<\"&fecha_inicial,Registros!C:C,\"=\"&A23)))","v":0},{"$f":"IF(ISBLANK(A23),0,SUMIFS(Registros!G:G,Registros!B:B,\">=\"&fecha_inicial, Registros!B:B, \"<=\"&fecha_final,Registros!C:C,\"=\"&A23))","v":0},{"$f":"IF(ISBLANK(A23),0,SUMIFS(Registros!H:H,Registros!B:B,\">=\"&fecha_inicial, Registros!B:B, \"<=\"&fecha_final,Registros!C:C,\"=\"&A23))","v":0},0]
[null,"",{"$f":"IF(ISBLANK(A24),0,SUMIFS(Registros!G:G,Registros!B:B,\"<\"&fecha_inicial,Registros!C:C,\"=\"&A24)-IF(ISBLANK(A24),0,SUMIFS(Registros!H:H,Registros!B:B,\"<\"&fecha_inicial,Registros!C:C,\"=\"&A24)))","v":0},{"$f":"IF(ISBLANK(A24),0,SUMIFS(Registros!G:G,Registros!B:B,\">=\"&fecha_inicial, Registros!B:B, \"<=\"&fecha_final,Registros!C:C,\"=\"&A24))","v":0},{"$f":"IF(ISBLANK(A24),0,SUMIFS(Registros!H:H,Registros!B:B,\">=\"&fecha_inicial, Registros!B:B, \"<=\"&fecha_final,Registros!C:C,\"=\"&A24))","v":0},0]
[null,{"$f":"IF(A25<>0, IF(ISERROR(VLOOKUP(A25, plan_cuentas,2, FALSE)), \"Código de Cuenta Incorrecto\", UPPER(VLOOKUP(A25, plan_cuentas, 2, FALSE))), \"\")","v":""},{"$f":"SUM(C26:C31)","v":0},{"$f":"SUM(D26:D31)","v":0},{"$f":"SUM(E26:E31)","v":0},0]
[null,{"$f":"IF(A26<>\"\", IF(ISERROR(VLOOKUP(A26, plan_cuentas,2, FALSE)), \"Código de Cuenta Incorrecto\", UPPER(VLOOKUP(A26, plan_cuentas, 2, FALSE))), \"\")","v":""},{"$f":"IF(ISBLANK(A26),0,SUMIFS(Registros!G:G,Registros!B:B,\"<\"&fecha_inicial,Registros!C:C,\"=\"&A26)-IF(ISBLANK(A26),0,SUMIFS(Registros!H:H,Registros!B:B,\"<\"&fecha_inicial,Registros!C:C,\"=\"&A26)))","v":0},{"$f":"IF(ISBLANK(A26),0,SUMIFS(Registros!G:G,Registros!B:B,\">=\"&fecha_inicial, Registros!B:B, \"<=\"&fecha_final,Registros!C:C,\"=\"&A26))","v":0},{"$f":"IF(ISBLANK(A26),0,SUMIFS(Registros!H:H,Registros!B:B,\">=\"&fecha_inicial, Registros!B:B, \"<=\"&fecha_final,Registros!C:C,\"=\"&A26))","v":0},0]
[null,"",{"$f":"IF(ISBLANK(A27),0,SUMIFS(Registros!G:G,Registros!B:B,\"<\"&fecha_inicial,Registros!C:C,\"=\"&A27)-IF(ISBLANK(A27),0,SUMIFS(Registros!H:H,Registros!B:B,\"<\"&fecha_inicial,Registros!C:C,\"=\"&A27)))","v":0},{"$f":"IF(ISBLANK(A27),0,SUMIFS(Registros!G:G,Registros!B:B,\">=\"&fecha_inicial, Registros!B:B, \"<=\"&fecha_final,Registros!C:C,\"=\"&A27))","v":0},{"$f":"IF(ISBLANK(A27),0,SUMIFS(Registros!H:H,Registros!B:B,\">=\"&fecha_inicial, Registros!B:B, \"<=\"&fecha_final,Registros!C:C,\"=\"&A27))","v":0},0]
[null,"",{"$f":"IF(ISBLANK(A28),0,SUMIFS(Registros!G:G,Registros!B:B,\"<\"&fecha_inicial,Registros!C:C,\"=\"&A28)-IF(ISBLANK(A28),0,SUMIFS(Registros!H:H,Registros!B:B,\"<\"&fecha_inicial,Registros!C:C,\"=\"&A28)))","v":0},{"$f":"IF(ISBLANK(A28),0,SUMIFS(Registros!G:G,Registros!B:B,\">=\"&fecha_inicial, Registros!B:B, \"<=\"&fecha_final,Registros!C:C,\"=\"&A28))","v":0},{"$f":"IF(ISBLANK(A28),0,SUMIFS(Registros!H:H,Registros!B:B,\">=\"&fecha_inicial, Registros!B:B, \"<=\"&fecha_final,Registros!C:C,\"=\"&A28))","v":0},0]
[null,"",{"$f":"IF(ISBLANK(A29),0,SUMIFS(Registros!G:G,Registros!B:B,\"<\"&fecha_inicial,Registros!C:C,\"=\"&A29)-IF(ISBLANK(A29),0,SUMIFS(Registros!H:H,Registros!B:B,\"<\"&fecha_inicial,Registros!C:C,\"=\"&A29)))","v":0},{"$f":"IF(ISBLANK(A29),0,SUMIFS(Registros!G:G,Registros!B:B,\">=\"&fecha_inicial, Registros!B:B, \"<=\"&fecha_final,Registros!C:C,\"=\"&A29))","v":0},{"$f":"IF(ISBLANK(A29),0,SUMIFS(Registros!H:H,Registros!B:B,\">=\"&fecha_inicial, Registros!B:B, \"<=\"&fecha_final,Registros!C:C,\"=\"&A29))","v":0},0]
[null,"",{"$f":"IF(ISBLANK(A30),0,SUMIFS(Registros!G:G,Registros!B:B,\"<\"&fecha_inicial,Registros!C:C,\"=\"&A30)-IF(ISBLANK(A30),0,SUMIFS(Registros!H:H,Registros!B:B,\"<\"&fecha_inicial,Registros!C:C,\"=\"&A30)))","v":0},{"$f":"IF(ISBLANK(A30),0,SUMIFS(Registros!G:G,Registros!B:B,\">=\"&fecha_inicial, Registros!B:B, \"<=\"&fecha_final,Registros!C:C,\"=\"&A30))","v":0},{"$f":"IF(ISBLANK(A30),0,SUMIFS(Registros!H:H,Registros!B:B,\">=\"&fecha_inicial, Registros!B:B, \"<=\"&fecha_final,Registros!C:C,\"=\"&A30))","v":0},0]
[null,"",{"$f":"IF(ISBLANK(A31),0,SUMIFS(Registros!G:G,Registros!B:B,\"<\"&fecha_inicial,Registros!C:C,\"=\"&A31)-IF(ISBLANK(A31),0,SUMIFS(Registros!H:H,Registros!B:B,\"<\"&fecha_inicial,Registros!C:C,\"=\"&A31)))","v":0},{"$f":"IF(ISBLANK(A31),0,SUMIFS(Registros!G:G,Registros!B:B,\">=\"&fecha_inicial, Registros!B:B, \"<=\"&fecha_final,Registros!C:C,\"=\"&A31))","v":0},{"$f":"IF(ISBLANK(A31),0,SUMIFS(Registros!H:H,Registros!B:B,\">=\"&fecha_inicial, Registros!B:B, \"<=\"&fecha_final,Registros!C:C,\"=\"&A31))","v":0},0]
[null,"",{"$f":"SUM(C33:C38)","v":0},{"$f":"SUM(D33:D38)","v":0},{"$f":"SUM(E33:E38)","v":0},0]
[null,"",{"$f":"IF(ISBLANK(A33),0,SUMIFS(Registros!G:G,Registros!B:B,\"<\"&fecha_inicial,Registros!C:C,\"=\"&A33)-IF(ISBLANK(A33),0,SUMIFS(Registros!H:H,Registros!B:B,\"<\"&fecha_inicial,Registros!C:C,\"=\"&A33)))","v":0},{"$f":"IF(ISBLANK(A33),0,SUMIFS(Registros!G:G,Registros!B:B,\">=\"&fecha_inicial, Registros!B:B, \"<=\"&fecha_final,Registros!C:C,\"=\"&A33))","v":0},{"$f":"IF(ISBLANK(A33),0,SUMIFS(Registros!H:H,Registros!B:B,\">=\"&fecha_inicial, Registros!B:B, \"<=\"&fecha_final,Registros!C:C,\"=\"&A33))","v":0},0]
[null,"",{"$f":"IF(ISBLANK(A34),0,SUMIFS(Registros!G:G,Registros!B:B,\"<\"&fecha_inicial,Registros!C:C,\"=\"&A34)-IF(ISBLANK(A34),0,SUMIFS(Registros!H:H,Registros!B:B,\"<\"&fecha_inicial,Registros!C:C,\"=\"&A34)))","v":0},{"$f":"IF(ISBLANK(A34),0,SUMIFS(Registros!G:G,Registros!B:B,\">=\"&fecha_inicial, Registros!B:B, \"<=\"&fecha_final,Registros!C:C,\"=\"&A34))","v":0},{"$f":"IF(ISBLANK(A34),0,SUMIFS(Registros!H:H,Registros!B:B,\">=\"&fecha_inicial, Registros!B:B, \"<=\"&fecha_final,Registros!C:C,\"=\"&A34))","v":0},0]
[null,"",{"$f":"IF(ISBLANK(A35),0,SUMIFS(Registros!G:G,Registros!B:B,\"<\"&fecha_inicial,Registros!C:C,\"=\"&A35)-IF(ISBLANK(A35),0,SUMIFS(Registros!H:H,Registros!B:B,\"<\"&fecha_inicial,Registros!C:C,\"=\"&A35)))","v":0},{"$f":"IF(ISBLANK(A35),0,SUMIFS(Registros!G:G,Registros!B:B,\">=\"&fecha_inicial, Registros!B:B, \"<=\"&fecha_final,Registros!C:C,\"=\"&A35))","v":0},{"$f":"IF(ISBLANK(A35),0,SUMIFS(Registros!H:H,Registros!B:B,\">=\"&fecha_inicial, Registros!B:B, \"<=\"&fecha_final,Registros!C:C,\"=\"&A35))","v":0},0]
[null,"",{"$f":"IF(ISBLANK(A36),0,SUMIFS(Registros!G:G,Registros!B:B,\"<\"&fecha_inicial,Registros!C:C,\"=\"&A36)-IF(ISBLANK(A36),0,SUMIFS(Registros!H:H,Registros!B:B,\"<\"&fecha_inicial,Registros!C:C,\"=\"&A36)))","v":0},{"$f":"IF(ISBLANK(A36),0,SUMIFS(Registros!G:G,Registros!B:B,\">=\"&fecha_inicial, Registros!B:B, \"<=\"&fecha_final,Registros!C:C,\"=\"&A36))","v":0},{"$f":"IF(ISBLANK(A36),0,SUMIFS(Registros!H:H,Registros!B:B,\">=\"&fecha_inicial, Registros!B:B, \"<=\"&fecha_final,Registros!C:C,\"=\"&A36))","v":0},0]
[null,"",{"$f":"IF(ISBLANK(A37),0,SUMIFS(Registros!G:G,Registros!B:B,\"<\"&fecha_inicial,Registros!C:C,\"=\"&A37)-IF(ISBLANK(A37),0,SUMIFS(Registros!H:H,Registros!B:B,\"<\"&fecha_inicial,Registros!C:C,\"=\"&A37)))","v":0},{"$f":"IF(ISBLANK(A37),0,SUMIFS(Registros!G:G,Registros!B:B,\">=\"&fecha_inicial, Registros!B:B, \"<=\"&fecha_final,Registros!C:C,\"=\"&A37))","v":0},{"$f":"IF(ISBLANK(A37),0,SUMIFS(Registros!H:H,Registros!B:B,\">=\"&fecha_inicial, Registros!B:B, \"<=\"&fecha_final,Registros!C:C,\"=\"&A37))","v":0},0]
[null,"",{"$f":"IF(ISBLANK(A38),0,SUMIFS(Registros!G:G,Registros!B:B,\"<\"&fecha_inicial,Registros!C:C,\"=\"&A38)-IF(ISBLANK(A38),0,SUMIFS(Registros!H:H,Registros!B:B,\"<\"&fecha_inicial,Registros!C:C,\"=\"&A38)))","v":0},{"$f":"IF(ISBLANK(A38),0,SUMIFS(Registros!G:G,Registros!B:B,\">=\"&fecha_inicial, Registros!B:B, \"<=\"&fecha_final,Registros!C:C,\"=\"&A38))","v":0},{"$f":"IF(ISBLANK(A38),0,SUMIFS(Registros!H:H,Registros!B:B,\">=\"&fecha_inicial, Registros!B:B, \"<=\"&fecha_final,Registros!C:C,\"=\"&A38))","v":0},0]
[null,"",{"$f":"SUM(C40:C45)","v":0},{"$f":"SUM(D40:D45)","v":0},{"$f":"SUM(E40:E45)","v":0},0]
[null,"",{"$f":"IF(ISBLANK(A40),0,SUMIFS(Registros!G:G,Registros!B:B,\"<\"&fecha_inicial,Registros!C:C,\"=\"&A40)-IF(ISBLANK(A40),0,SUMIFS(Registros!H:H,Registros!B:B,\"<\"&fecha_inicial,Registros!C:C,\"=\"&A40)))","v":0},{"$f":"IF(ISBLANK(A40),0,SUMIFS(Registros!G:G,Registros!B:B,\">=\"&fecha_inicial, Registros!B:B, \"<=\"&fecha_final,Registros!C:C,\"=\"&A40))","v":0},{"$f":"IF(ISBLANK(A40),0,SUMIFS(Registros!H:H,Registros!B:B,\">=\"&fecha_inicial, Registros!B:B, \"<=\"&fecha_final,Registros!C:C,\"=\"&A40))","v":0},0]
[null,"",{"$f":"IF(ISBLANK(A41),0,SUMIFS(Registros!G:G,Registros!B:B,\"<\"&fecha_inicial,Registros!C:C,\"=\"&A41)-IF(ISBLANK(A41),0,SUMIFS(Registros!H:H,Registros!B:B,\"<\"&fecha_inicial,Registros!C:C,\"=\"&A41)))","v":0},{"$f":"IF(ISBLANK(A41),0,SUMIFS(Registros!G:G,Registros!B:B,\">=\"&fecha_inicial, Registros!B:B, \"<=\"&fecha_final,Registros!C:C,\"=\"&A41))","v":0},{"$f":"IF(ISBLANK(A41),0,SUMIFS(Registros!H:H,Registros!B:B,\">=\"&fecha_inicial, Registros!B:B, \"<=\"&fecha_final,Registros!C:C,\"=\"&A41))","v":0},0]
[null,"",{"$f":"IF(ISBLANK(A42),0,SUMIFS(Registros!G:G,Registros!B:B,\"<\"&fecha_inicial,Registros!C:C,\"=\"&A42)-IF(ISBLANK(A42),0,SUMIFS(Registros!H:H,Registros!B:B,\"<\"&fecha_inicial,Registros!C:C,\"=\"&A42)))","v":0},{"$f":"IF(ISBLANK(A42),0,SUMIFS(Registros!G:G,Registros!B:B,\">=\"&fecha_inicial, Registros!B:B, \"<=\"&fecha_final,Registros!C:C,\"=\"&A42))","v":0},{"$f":"IF(ISBLANK(A42),0,SUMIFS(Registros!H:H,Registros!B:B,\">=\"&fecha_inicial, Registros!B:B, \"<=\"&fecha_final,Registros!C:C,\"=\"&A42))","v":0},0]
[null,"",{"$f":"IF(ISBLANK(A43),0,SUMIFS(Registros!G:G,Registros!B:B,\"<\"&fecha_inicial,Registros!C:C,\"=\"&A43)-IF(ISBLANK(A43),0,SUMIFS(Registros!H:H,Registros!B:B,\"<\"&fecha_inicial,Registros!C:C,\"=\"&A43)))","v":0},{"$f":"IF(ISBLANK(A43),0,SUMIFS(Registros!G:G,Registros!B:B,\">=\"&fecha_inicial, Registros!B:B, \"<=\"&fecha_final,Registros!C:C,\"=\"&A43))","v":0},{"$f":"IF(ISBLANK(A43),0,SUMIFS(Registros!H:H,Registros!B:B,\">=\"&fecha_inicial, Registros!B:B, \"<=\"&fecha_final,Registros!C:C,\"=\"&A43))","v":0},0]
[null,"",{"$f":"IF(ISBLANK(A44),0,SUMIFS(Registros!G:G,Registros!B:B,\"<\"&fecha_inicial,Registros!C:C,\"=\"&A44)-IF(ISBLANK(A44),0,SUMIFS(Registros!H:H,Registros!B:B,\"<\"&fecha_inicial,Registros!C:C,\"=\"&A44)))","v":0},{"$f":"IF(ISBLANK(A44),0,SUMIFS(Registros!G:G,Registros!B:B,\">=\"&fecha_inicial, Registros!B:B, \"<=\"&fecha_final,Registros!C:C,\"=\"&A44))","v":0},{"$f":"IF(ISBLANK(A44),0,SUMIFS(Registros!H:H,Registros!B:B,\">=\"&fecha_inicial, Registros!B:B, \"<=\"&fecha_final,Registros!C:C,\"=\"&A44))","v":0},0]
[null,"",{"$f":"IF(ISBLANK(A45),0,SUMIFS(Registros!G:G,Registros!B:B,\"<\"&fecha_inicial,Registros!C:C,\"=\"&A45)-IF(ISBLANK(A45),0,SUMIFS(Registros!H:H,Registros!B:B,\"<\"&fecha_inicial,Registros!C:C,\"=\"&A45)))","v":0},{"$f":"IF(ISBLANK(A45),0,SUMIFS(Registros!G:G,Registros!B:B,\">=\"&fecha_inicial, Registros!B:B, \"<=\"&fecha_final,Registros!C:C,\"=\"&A45))","v":0},{"$f":"IF(ISBLANK(A45),0,SUMIFS(Registros!H:H,Registros!B:B,\">=\"&fecha_inicial, Registros!B:B, \"<=\"&fecha_final,Registros!C:C,\"=\"&A45))","v":0},0]
[null,{"$f":"IF(A46<>0, IF(ISERROR(VLOOKUP(A46, plan_cuentas,2, FALSE)), \"Código de Cuenta Incorrecto\", UPPER(VLOOKUP(A46, plan_cuentas, 2, FALSE))), \"\")","v":""},{"$f":"SUM(C47:C52)","v":0},{"$f":"SUM(D47:D52)","v":0},{"$f":"SUM(E47:E52)","v":0},0]
[null,{"$f":"IF(A47<>\"\", IF(ISERROR(VLOOKUP(A47, plan_cuentas,2, FALSE)), \"Código de Cuenta Incorrecto\", UPPER(VLOOKUP(A47, plan_cuentas, 2, FALSE))), \"\")","v":""},{"$f":"IF(ISBLANK(A47),0,SUMIFS(Registros!G:G,Registros!B:B,\"<\"&fecha_inicial,Registros!C:C,\"=\"&A47)-IF(ISBLANK(A47),0,SUMIFS(Registros!H:H,Registros!B:B,\"<\"&fecha_inicial,Registros!C:C,\"=\"&A47)))","v":0},{"$f":"IF(ISBLANK(A47),0,SUMIFS(Registros!G:G,Registros!B:B,\">=\"&fecha_inicial, Registros!B:B, \"<=\"&fecha_final,Registros!C:C,\"=\"&A47))","v":0},{"$f":"IF(ISBLANK(A47),0,SUMIFS(Registros!H:H,Registros!B:B,\">=\"&fecha_inicial, Registros!B:B, \"<=\"&fecha_final,Registros!C:C,\"=\"&A47))","v":0},0]
[null,{"$f":"IF(A48<>0, IF(ISERROR(VLOOKUP(A48, plan_cuentas,2, FALSE)), \"Código de Cuenta Incorrecto\", UPPER(VLOOKUP(A48, plan_cuentas, 2, FALSE))), \"\")","v":""},{"$f":"IF(ISBLANK(A48),0,SUMIFS(Registros!G:G,Registros!B:B,\"<\"&fecha_inicial,Registros!C:C,\"=\"&A48)-IF(ISBLANK(A48),0,SUMIFS(Registros!H:H,Registros!B:B,\"<\"&fecha_inicial,Registros!C:C,\"=\"&A48)))","v":0},{"$f":"IF(ISBLANK(A48),0,SUMIFS(Registros!G:G,Registros!B:B,\">=\"&fecha_inicial, Registros!B:B, \"<=\"&fecha_final,Registros!C:C,\"=\"&A48))","v":0},{"$f":"IF(ISBLANK(A48),0,SUMIFS(Registros!H:H,Registros!B:B,\">=\"&fecha_inicial, Registros!B:B, \"<=\"&fecha_final,Registros!C:C,\"=\"&A48))","v":0},0]
[null,{"$f":"IF(A49<>0, IF(ISERROR(VLOOKUP(A49, plan_cuentas,2, FALSE)), \"Código de Cuenta Incorrecto\", UPPER(VLOOKUP(A49, plan_cuentas, 2, FALSE))), \"\")","v":""},{"$f":"IF(ISBLANK(A49),0,SUMIFS(Registros!G:G,Registros!B:B,\"<\"&fecha_inicial,Registros!C:C,\"=\"&A49)-IF(ISBLANK(A49),0,SUMIFS(Registros!H:H,Registros!B:B,\"<\"&fecha_inicial,Registros!C:C,\"=\"&A49)))","v":0},{"$f":"IF(ISBLANK(A49),0,SUMIFS(Registros!G:G,Registros!B:B,\">=\"&fecha_inicial, Registros!B:B, \"<=\"&fecha_final,Registros!C:C,\"=\"&A49))","v":0},{"$f":"IF(ISBLANK(A49),0,SUMIFS(Registros!H:H,Registros!B:B,\">=\"&fecha_inicial, Registros!B:B, \"<=\"&fecha_final,Registros!C:C,\"=\"&A49))","v":0},0]
[null,{"$f":"IF(A50<>0, IF(ISERROR(VLOOKUP(A50, plan_cuentas,2, FALSE)), \"Código de Cuenta Incorrecto\", UPPER(VLOOKUP(A50, plan_cuentas, 2, FALSE))), \"\")","v":""},{"$f":"IF(ISBLANK(A50),0,SUMIFS(Registros!G:G,Registros!B:B,\"<\"&fecha_inicial,Registros!C:C,\"=\"&A50)-IF(ISBLANK(A50),0,SUMIFS(Registros!H:H,Registros!B:B,\"<\"&fecha_inicial,Registros!C:C,\"=\"&A50)))","v":0},{"$f":"IF(ISBLANK(A50),0,SUMIFS(Registros!G:G,Registros!B:B,\">=\"&fecha_inicial, Registros!B:B, \"<=\"&fecha_final,Registros!C:C,\"=\"&A50))","v":0},{"$f":"IF(ISBLANK(A50),0,SUMIFS(Registros!H:H,Registros!B:B,\">=\"&fecha_inicial, Registros!B:B, \"<=\"&fecha_final,Registros!C:C,\"=\"&A50))","v":0},0]
[null,{"$f":"IF(A51<>0, IF(ISERROR(VLOOKUP(A51, plan_cuentas,2, FALSE)), \"Código de Cuenta Incorrecto\", UPPER(VLOOKUP(A51, plan_cuentas, 2, FALSE))), \"\")","v":""},{"$f":"IF(ISBLANK(A51),0,SUMIFS(Registros!G:G,Registros!B:B,\"<\"&fecha_inicial,Registros!C:C,\"=\"&A51)-IF(ISBLANK(A51),0,SUMIFS(Registros!H:H,Registros!B:B,\"<\"&fecha_inicial,Registros!C:C,\"=\"&A51)))","v":0},{"$f":"IF(ISBLANK(A51),0,SUMIFS(Registros!G:G,Registros!B:B,\">=\"&fecha_inicial, Registros!B:B, \"<=\"&fecha_final,Registros!C:C,\"=\"&A51))","v":0},{"$f":"IF(ISBLANK(A51),0,SUMIFS(Registros!H:H,Registros!B:B,\">=\"&fecha_inicial, Registros!B:B, \"<=\"&fecha_final,Registros!C:C,\"=\"&A51))","v":0},0]
[null,{"$f":"IF(A52<>0, IF(ISERROR(VLOOKUP(A52, plan_cuentas,2, FALSE)), \"Código de Cuenta Incorrecto\", UPPER(VLOOKUP(A52, plan_cuentas, 2, FALSE))), \"\")","v":""},{"$f":"IF(ISBLANK(A52),0,SUMIFS(Registros!G:G,Registros!B:B,\"<\"&fecha_inicial,Registros!C:C,\"=\"&A52)-IF(ISBLANK(A52),0,SUMIFS(Registros!H:H,Registros!B:B,\"<\"&fecha_inicial,Registros!C:C,\"=\"&A52)))","v":0},{"$f":"IF(ISBLANK(A52),0,SUMIFS(Registros!G:G,Registros!B:B,\">=\"&fecha_inicial, Registros!B:B, \"<=\"&fecha_final,Registros!C:C,\"=\"&A52))","v":0},{"$f":"IF(ISBLANK(A52),0,SUMIFS(Registros!H:H,Registros!B:B,\">=\"&fecha_inicial, Registros!B:B, \"<=\"&fecha_final,Registros!C:C,\"=\"&A52))","v":0},0]
[null,"",{"$f":"SUM(C54:C59)","v":0},{"$f":"SUM(D54:D59)","v":0},{"$f":"SUM(E54:E59)","v":0},0]
[null,"",{"$f":"IF(ISBLANK(A54),0,SUMIFS(Registros!G:G,Registros!B:B,\"<\"&fecha_inicial,Registros!C:C,\"=\"&A54)-IF(ISBLANK(A54),0,SUMIFS(Registros!H:H,Registros!B:B,\"<\"&fecha_inicial,Registros!C:C,\"=\"&A54)))","v":0},{"$f":"IF(ISBLANK(A54),0,SUMIFS(Registros!G:G,Registros!B:B,\">=\"&fecha_inicial, Registros!B:B, \"<=\"&fecha_final,Registros!C:C,\"=\"&A54))","v":0},{"$f":"IF(ISBLANK(A54),0,SUMIFS(Registros!H:H,Registros!B:B,\">=\"&fecha_inicial, Registros!B:B, \"<=\"&fecha_final,Registros!C:C,\"=\"&A54))","v":0},0]
[null,"",{"$f":"IF(ISBLANK(A55),0,SUMIFS(Registros!G:G,Registros!B:B,\"<\"&fecha_inicial,Registros!C:C,\"=\"&A55)-IF(ISBLANK(A55),0,SUMIFS(Registros!H:H,Registros!B:B,\"<\"&fecha_inicial,Registros!C:C,\"=\"&A55)))","v":0},{"$f":"IF(ISBLANK(A55),0,SUMIFS(Registros!G:G,Registros!B:B,\">=\"&fecha_inicial, Registros!B:B, \"<=\"&fecha_final,Registros!C:C,\"=\"&A55))","v":0},{"$f":"IF(ISBLANK(A55),0,SUMIFS(Registros!H:H,Registros!B:B,\">=\"&fecha_inicial, Registros!B:B, \"<=\"&fecha_final,Registros!C:C,\"=\"&A55))","v":0},0]
[null,"",{"$f":"IF(ISBLANK(A56),0,SUMIFS(Registros!G:G,Registros!B:B,\"<\"&fecha_inicial,Registros!C:C,\"=\"&A56)-IF(ISBLANK(A56),0,SUMIFS(Registros!H:H,Registros!B:B,\"<\"&fecha_inicial,Registros!C:C,\"=\"&A56)))","v":0},{"$f":"IF(ISBLANK(A56),0,SUMIFS(Registros!G:G,Registros!B:B,\">=\"&fecha_inicial, Registros!B:B, \"<=\"&fecha_final,Registros!C:C,\"=\"&A56))","v":0},{"$f":"IF(ISBLANK(A56),0,SUMIFS(Registros!H:H,Registros!B:B,\">=\"&fecha_inicial, Registros!B:B, \"<=\"&fecha_final,Registros!C:C,\"=\"&A56))","v":0},0]
[null,"",{"$f":"IF(ISBLANK(A57),0,SUMIFS(Registros!G:G,Registros!B:B,\"<\"&fecha_inicial,Registros!C:C,\"=\"&A57)-IF(ISBLANK(A57),0,SUMIFS(Registros!H:H,Registros!B:B,\"<\"&fecha_inicial,Registros!C:C,\"=\"&A57)))","v":0},{"$f":"IF(ISBLANK(A57),0,SUMIFS(Registros!G:G,Registros!B:B,\">=\"&fecha_inicial, Registros!B:B, \"<=\"&fecha_final,Registros!C:C,\"=\"&A57))","v":0},{"$f":"IF(ISBLANK(A57),0,SUMIFS(Registros!H:H,Registros!B:B,\">=\"&fecha_inicial, Registros!B:B, \"<=\"&fecha_final,Registros!C:C,\"=\"&A57))","v":0},0]
[null,{"$f":"IF(A58<>0, IF(ISERROR(VLOOKUP(A58, plan_cuentas,2, FALSE)), \"Código de Cuenta Incorrecto\", UPPER(VLOOKUP(A58, plan_cuentas, 2, FALSE))), \"\")","v":""},{"$f":"IF(ISBLANK(A58),0,SUMIFS(Registros!G:G,Registros!B:B,\"<\"&fecha_inicial,Registros!C:C,\"=\"&A58)-IF(ISBLANK(A58),0,SUMIFS(Registros!H:H,Registros!B:B,\"<\"&fecha_inicial,Registros!C:C,\"=\"&A58)))","v":0},{"$f":"IF(ISBLANK(A58),0,SUMIFS(Registros!G:G,Registros!B:B,\">=\"&fecha_inicial, Registros!B:B, \"<=\"&fecha_final,Registros!C:C,\"=\"&A58))","v":0},{"$f":"IF(ISBLANK(A58),0,SUMIFS(Registros!H:H,Registros!B:B,\">=\"&fecha_inicial, Registros!B:B, \"<=\"&fecha_final,Registros!C:C,\"=\"&A58))","v":0},0]
[null,"",{"$f":"IF(ISBLANK(A59),0,SUMIFS(Registros!G:G,Registros!B:B,\"<\"&fecha_inicial,Registros!C:C,\"=\"&A59)-IF(ISBLANK(A59),0,SUMIFS(Registros!H:H,Registros!B:B,\"<\"&fecha_inicial,Registros!C:C,\"=\"&A59)))","v":0},{"$f":"IF(ISBLANK(A59),0,SUMIFS(Registros!G:G,Registros!B:B,\">=\"&fecha_inicial, Registros!B:B, \"<=\"&fecha_final,Registros!C:C,\"=\"&A59))","v":0},{"$f":"IF(ISBLANK(A59),0,SUMIFS(Registros!H:H,Registros!B:B,\">=\"&fecha_inicial, Registros!B:B, \"<=\"&fecha_final,Registros!C:C,\"=\"&A59))","v":0},0]
[{"$f":"\"SALDO FINAL DE LA CUENTA AL \" &TEXT(fecha_final, \"dd\")&\" DE \"&UPPER(TEXT(fecha_final, \"MMMM\"))&\" DEL \"& TEXT(fecha_final, \"YYYY\")","v":"SALDO FINAL DE LA CUENTA AL 31 DE JULIO DEL 2014"},null,{"$f":"C11+C18+C25+C46+C32+C39+C53","v":0},{"$f":"D11+D18+D25+D46+D32+D39+D53","v":0},{"$f":"E11+E18+E25+E46+E32+E39+E53","v":0},{"$f":"C60+D60-E60","v":0}]
[]
[]
[]
[]
["AUTORIZADO POR:",null,null,null,"REVISADO POR:"]
[{"$f":"VLOOKUP(A65, Usuarios!B7:E9, 3, FALSE)","v":"Rodrigo Castro Potoy"},null,null,null,{"$f":"VLOOKUP(E65, Usuarios!B7:E9, 3, FALSE)","v":0}]

{"sheet":"210000","index":23,"n_rows":66,"n_cols":6,"rows_kept":66,"cut":false,"hidden":false,"merged":[[70,2,70,3],[65,0,65,1],[65,4,65,5],[66,0,66,1],[66,4,66,5],[68,2,68,3],[69,2,69,3],[7,5,8,5],[59,0,59,1],[63,0,63,1],[63,4,63,5],[64,0,64,1],[64,4,64,5],[7,0,8,0],[7,1,8,1],[7,2,8,2],[7,3,8,3],[7,4,8,4],[1,0,1,5],[2,0,2,5],[3,0,3,5],[4,0,4,5],[6,3,6,5]]}
[null,null,null,null,"Proteger"]
[{"$f":"bussiness_name","v":"SOCIEDAD CIVIL COMUNIDAD CONNECT"}]
[{"$f":"\"RESUMEN CONTABLE DE \"&B7","v":"RESUMEN CONTABLE DE PASIVOS CORRIENTES"}]
[{"$f":"\"DEL \"&TEXT(fecha_inicial, \"DD\")&\" DE \"&UPPER(TEXT(fecha_inicial, \"MMMM\"))&\" DEL \" & TEXT(fecha_inicial, \"YYYY\") & \" AL \"&TEXT(fecha_final, \"DD\")&\" DE \"&UPPER(TEXT(fecha_final, \"MMMM\"))&\" DEL \"&TEXT(fecha_final, \"YYYY\")","v":"DEL 01 DE JULIO DEL 2014 AL 31 DE JULIO DEL 2014"}]
[{"$f":"address & \" *** Tel/Fax:  \" & tel & \" *** \" & email","v":"Esquina sureste del Parque Central, San Juan del sur, Nicaragua. *** Tel/Fax:  25682731 *** info@comunidadconnect.org"}]
[]
[210000,{"$f":"UPPER(IF(ISBLANK(A7),\"\",IFERROR(VLOOKUP(A7,plan_cuentas,2,FALSE),\"Código de cuenta incorrecto\")))","v":"PASIVOS CORRIENTES"},null,{"$f":"\"MOVIMIENTOS DE \"&UPPER(TEXT(fecha_final, \"MMMM\"))","v":"MOVIMIENTOS DE JULIO"}]
["CODIGO","NOMBRE DE LA CUENTA","SALDO INICIAL","DEBITOS","CREDITOS","SALDO FINAL"]
[]
[]
[210100,{"$f":"IF(A11<>\"\", IF(ISERROR(VLOOKUP(A11, plan_cuentas,2, FALSE)), \"Código de Cuenta Incorrecto\", UPPER(VLOOKUP(A11, plan_cuentas, 2, FALSE))), \"\")","v":"CUENTAS POR PAGAR"},{"$f":"SUM(C12:C17)","v":0},{"$f":"SUM(D12:D17)","v":0},{"$f":"SUM(E12:E17)","v":0},{"$f":"C11+E11-D11","v":0}]
[210101,{"$f":"IF(A12<>\"\", IF(ISERROR(VLOOKUP(A12, plan_cuentas,2, FALSE)), \"Código de Cuenta Incorrecto\", UPPER(VLOOKUP(A12, plan_cuentas, 2, FALSE))), \"\")","v":"PROVEEDORES LOCALES"},{"$f":"IF(ISBLANK(A12),0,SUMIFS(Registros!H:H,Registros!B:B,\"<\"&fecha_inicial,Registros!C:C,\"=\"&A12)-IF(ISBLANK(A12),0,SUMIFS(Registros!G:G,Registros!B:B,\"<\"&fecha_inicial,Registros!C:C,\"=\"&A12)))","v":0},{"$f":"IF(ISBLANK(A12),0,SUMIFS(Registros!G:G,Registros!B:B,\">=\"&fecha_inicial, Registros!B:B, \"<=\"&fecha_final,Registros!C:C,\"=\"&A12))","v":0},{"$f":"IF(ISBLANK(A12),0,SUMIFS(Registros!H:H,Registros!B:B,\">=\"&fecha_inicial, Registros!B:B, \"<=\"&fecha_final,Registros!C:C,\"=\"&A12))","v":0},{"$f":"C12+E12-D12","v":0}]
[210102,{"$f":"IF(A13<>0, IF(ISERROR(VLOOKUP(A13, plan_cuentas,2, FALSE)), \"Código de Cuenta Incorrecto\", UPPER(VLOOKUP(A13, plan_cuentas, 2, FALSE))), \"\")","v":"PROVEEDORES EXTRANJEROS"},{"$f":"IF(ISBLANK(A13),0,SUMIFS(Registros!H:H,Registros!B:B,\"<\"&fecha_inicial,Registros!C:C,\"=\"&A13)-IF(ISBLANK(A13),0,SUMIFS(Registros!G:G,Registros!B:B,\"<\"&fecha_inicial,Registros!C:C,\"=\"&A13)))","v":0},{"$f":"IF(ISBLANK(A13),0,SUMIFS(Registros!G:G,Registros!B:B,\">=\"&fecha_inicial, Registros!B:B, \"<=\"&fecha_final,Registros!C:C,\"=\"&A13))","v":0},{"$f":"IF(ISBLANK(A13),0,SUMIFS(Registros!H:H,Registros!B:B,\">=\"&fecha_inicial, Registros!B:B, \"<=\"&fecha_final,Registros!C:C,\"=\"&A13))","v":0},0]
[null,"",{"$f":"IF(ISBLANK(A14),0,SUMIFS(Registros!H:H,Registros!B:B,\"<\"&fecha_inicial,Registros!C:C,\"=\"&A14)-IF(ISBLANK(A14),0,SUMIFS(Registros!G:G,Registros!B:B,\"<\"&fecha_inicial,Registros!C:C,\"=\"&A14)))","v":0},{"$f":"IF(ISBLANK(A14),0,SUMIFS(Registros!G:G,Registros!B:B,\">=\"&fecha_inicial, Registros!B:B, \"<=\"&fecha_final,Registros!C:C,\"=\"&A14))","v":0},{"$f":"IF(ISBLANK(A14),0,SUMIFS(Registros!H:H,Registros!B:B,\">=\"&fecha_inicial, Registros!B:B, \"<=\"&fecha_final,Registros!C:C,\"=\"&A14))","v":0},0]
[null,"",{"$f":"IF(ISBLANK(A15),0,SUMIFS(Registros!H:H,Registros!B:B,\"<\"&fecha_inicial,Registros!C:C,\"=\"&A15)-IF(ISBLANK(A15),0,SUMIFS(Registros!G:G,Registros!B:B,\"<\"&fecha_inicial,Registros!C:C,\"=\"&A15)))","v":0},{"$f":"IF(ISBLANK(A15),0,SUMIFS(Registros!G:G,Registros!B:B,\">=\"&fecha_inicial, Registros!B:B, \"<=\"&fecha_final,Registros!C:C,\"=\"&A15))","v":0},{"$f":"IF(ISBLANK(A15),0,SUMIFS(Registros!H:H,Registros!B:B,\">=\"&fecha_inicial, Registros!B:B, \"<=\"&fecha_final,Registros!C:C,\"=\"&A15))","v":0},0]
[null,"",{"$f":"IF(ISBLANK(A16),0,SUMIFS(Registros!H:H,Registros!B:B,\"<\"&fecha_inicial,Registros!C:C,\"=\"&A16)-IF(ISBLANK(A16),0,SUMIFS(Registros!G:G,Registros!B:B,\"<\"&fecha_inicial,Registros!C:C,\"=\"&A16)))","v":0},{"$f":"IF(ISBLANK(A16),0,SUMIFS(Registros!G:G,Registros!B:B,\">=\"&fecha_inicial, Registros!B:B, \"<=\"&fecha_final,Registros!C:C,\"=\"&A16))","v":0},{"$f":"IF(ISBLANK(A16),0,SUMIFS(Registros!H:H,Registros!B:B,\">=\"&fecha_inicial, Registros!B:B, \"<=\"&fecha_final,Registros!C:C,\"=\"&A16))","v":0},0]
[null,"",{"$f":"IF(ISBLANK(A17),0,SUMIFS(Registros!H:H,Registros!B:B,\"<\"&fecha_inicial,Registros!C:C,\"=\"&A17)-IF(ISBLANK(A17),0,SUMIFS(Registros!G:G,Registros!B:B,\"<\"&fecha_inicial,Registros!C:C,\"=\"&A17)))","v":0},{"$f":"IF(ISBLANK(A17),0,SUMIFS(Registros!G:G,Registros!B:B,\">=\"&fecha_inicial, Registros!B:B, \"<=\"&fecha_final,Registros!C:C,\"=\"&A17))","v":0},{"$f":"IF(ISBLANK(A17),0,SUMIFS(Registros!H:H,Registros!B:B,\">=\"&fecha_inicial, Registros!B:B, \"<=\"&fecha_final,Registros!C:C,\"=\"&A17))","v":0},0]
[210200,"DOCUMENTOS POR PAGAR",{"$f":"SUM(C19:C24)","v":0},{"$f":"SUM(D19:D24)","v":0},{"$f":"SUM(E19:E24)","v":0},0]
[210201,{"$f":"IF(A19<>\"\", IF(ISERROR(VLOOKUP(A19, plan_cuentas,2, FALSE)), \"Código de Cuenta Incorrecto\", UPPER(VLOOKUP(A19, plan_cuentas, 2, FALSE))), \"\")","v":"DOCUMENTOS POR PAGAR"},{"$f":"IF(ISBLANK(A19),0,SUMIFS(Registros!H:H,Registros!B:B,\"<\"&fecha_inicial,Registros!C:C,\"=\"&A19)-IF(ISBLANK(A19),0,SUMIFS(Registros!G:G,Registros!B:B,\"<\"&fecha_inicial,Registros!C:C,\"=\"&A19)))","v":0},{"$f":"IF(ISBLANK(A19),0,SUMIFS(Registros!G:G,Registros!B:B,\">=\"&fecha_inicial, Registros!B:B, \"<=\"&fecha_final,Registros!C:C,\"=\"&A19))","v":0},{"$f":"IF(ISBLANK(A19),0,SUMIFS(Registros!H:H,Registros!B:B,\">=\"&fecha_inicial, Registros!B:B, \"<=\"&fecha_final,Registros!C:C,\"=\"&A19))","v":0},0]
[null,"",{"$f":"IF(ISBLANK(A20),0,SUMIFS(Registros!H:H,Registros!B:B,\"<\"&fecha_inicial,Registros!C:C,\"=\"&A20)-IF(ISBLANK(A20),0,SUMIFS(Registros!G:G,Registros!B:B,\"<\"&fecha_inicial,Registros!C:C,\"=\"&A20)))","v":0},{"$f":"IF(ISBLANK(A20),0,SUMIFS(Registros!G:G,Registros!B:B,\">=\"&fecha_inicial, Registros!B:B, \"<=\"&fecha_final,Registros!C:C,\"=\"&A20))","v":0},{"$f":"IF(ISBLANK(A20),0,SUMIFS(Registros!H:H,Registros!B:B,\">=\"&fecha_inicial, Registros!B:B, \"<=\"&fecha_final,Registros!C:C,\"=\"&A20))","v":0},0]
[null,"",{"$f":"IF(ISBLANK(A21),0,SUMIFS(Registros!H:H,Registros!B:B,\"<\"&fecha_inicial,Registros!C:C,\"=\"&A21)-IF(ISBLANK(A21),0,SUMIFS(Registros!G:G,Registros!B:B,\"<\"&fecha_inicial,Registros!C:C,\"=\"&A21)))","v":0},{"$f":"IF(ISBLANK(A21),0,SUMIFS(Registros!G:G,Registros!B:B,\">=\"&fecha_inicial, Registros!B:B, \"<=\"&fecha_final,Registros!C:C,\"=\"&A21))","v":0},{"$f":"IF(ISBLANK(A21),0,SUMIFS(Registros!H:H,Registros!B:B,\">=\"&fecha_inicial, Registros!B:B, \"<=\"&fecha_final,Registros!C:C,\"=\"&A21))","v":0},0]
[null,"",{"$f":"IF(ISBLANK(A22),0,SUMIFS(Registros!H:H,Registros!B:B,\"<\"&fecha_inicial,Registros!C:C,\"=\"&A22)-IF(ISBLANK(A22),0,SUMIFS(Registros!G:G,Registros!B:B,\"<\"&fecha_inicial,Registros!C:C,\"=\"&A22)))","v":0},{"$f":"IF(ISBLANK(A22),0,SUMIFS(Registros!G:G,Registros!B:B,\">=\"&fecha_inicial, Registros!B:B, \"<=\"&fecha_final,Registros!C:C,\"=\"&A22))","v":0},{"$f":"IF(ISBLANK(A22),0,SUMIFS(Registros!H:H,Registros!B:B,\">=\"&fecha_inicial, Registros!B:B, \"<=\"&fecha_final,Registros!C:C,\"=\"&A22))","v":0},0]
[null,"",{"$f":"IF(ISBLANK(A23),0,SUMIFS(Registros!H:H,Registros!B:B,\"<\"&fecha_inicial,Registros!C:C,\"=\"&A23)-IF(ISBLANK(A23),0,SUMIFS(Registros!G:G,Registros!B:B,\"<\"&fecha_inicial,Registros!C:C,\"=\"&A23)))","v":0},{"$f":"IF(ISBLANK(A23),0,SUMIFS(Registros!G:G,Registros!B:B,\">=\"&fecha_inicial, Registros!B:B, \"<=\"&fecha_final,Registros!C:C,\"=\"&A23))","v":0},{"$f":"IF(ISBLANK(A23),0,SUMIFS(Registros!H:H,Registros!B:B,\">=\"&fecha_inicial, Registros!B:B, \"<=\"&fecha_final,Registros!C:C,\"=\"&A23))","v":0},0]
[null,"",{"$f":"IF(ISBLANK(A24),0,SUMIFS(Registros!H:H,Registros!B:B,\"<\"&fecha_inicial,Registros!C:C,\"=\"&A24)-IF(ISBLANK(A24),0,SUMIFS(Registros!G:G,Registros!B:B,\"<\"&fecha_inicial,Registros!C:C,\"=\"&A24)))","v":0},{"$f":"IF(ISBLANK(A24),0,SUMIFS(Registros!G:G,Registros!B:B,\">=\"&fecha_inicial, Registros!B:B, \"<=\"&fecha_final,Registros!C:C,\"=\"&A24))","v":0},{"$f":"IF(ISBLANK(A24),0,SUMIFS(Registros!H:H,Registros!B:B,\">=\"&fecha_inicial, Registros!B:B, \"<=\"&fecha_final,Registros!C:C,\"=\"&A24))","v":0},0]
[210300,"IMPUESTOS POR PAGAR",{"$f":"SUM(C26:C31)","v":26143.34},{"$f":"SUM(D26:D31)","v":0},{"$f":"SUM(E26:E31)","v":26096.800000000003},52240.14]
[210301,{"$f":"IF(A26<>\"\", IF(ISERROR(VLOOKUP(A26, plan_cuentas,2, FALSE)), \"Código de Cuenta Incorrecto\", UPPER(VLOOKUP(A26, plan_cuentas, 2, FALSE))), \"\")","v":"RETENCIÓN 2% BIENES Y SERVICIOS"},{"$f":"IF(ISBLANK(A26),0,SUMIFS(Registros!H:H,Registros!B:B,\"<\"&fecha_inicial,Registros!C:C,\"=\"&A26)-IF(ISBLANK(A26),0,SUMIFS(Registros!G:G,Registros!B:B,\"<\"&fecha_inicial,Registros!C:C,\"=\"&A26)))","v":3550.4099999999994},{"$f":"IF(ISBLANK(A26),0,SUMIFS(Registros!G:G,Registros!B:B,\">=\"&fecha_inicial, Registros!B:B, \"<=\"&fecha_final,Registros!C:C,\"=\"&A26))","v":0},{"$f":"IF(ISBLANK(A26),0,SUMIFS(Registros!H:H,Registros!B:B,\">=\"&fecha_inicial, Registros!B:B, \"<=\"&fecha_final,Registros!C:C,\"=\"&A26))","v":2752.49},6302.9]
[210302,"RETENC. 10% SERV. TÉCNICOS Y PROFESIONALES",{"$f":"IF(ISBLANK(A27),0,SUMIFS(Registros!H:H,Registros!B:B,\"<\"&fecha_inicial,Registros!C:C,\"=\"&A27)-IF(ISBLANK(A27),0,SUMIFS(Registros!G:G,Registros!B:B,\"<\"&fecha_inicial,Registros!C:C,\"=\"&A27)))","v":24139.68},{"$f":"IF(ISBLANK(A27),0,SUMIFS(Registros!G:G,Registros!B:B,\">=\"&fecha_inicial, Registros!B:B, \"<=\"&fecha_final,Registros!C:C,\"=\"&A27))","v":0},{"$f":"IF(ISBLANK(A27),0,SUMIFS(Registros!H:H,Registros!B:B,\">=\"&fecha_inicial, Registros!B:B, \"<=\"&fecha_final,Registros!C:C,\"=\"&A27))","v":23344.31},47483.990000000005]
[210303,"RETENCIONES EN LA FUENTE",{"$f":"IF(ISBLANK(A28),0,SUMIFS(Registros!H:H,Registros!B:B,\"<\"&fecha_inicial,Registros!C:C,\"=\"&A28)-IF(ISBLANK(A28),0,SUMIFS(Registros!G:G,Registros!B:B,\"<\"&fecha_inicial,Registros!C:C,\"=\"&A28)))","v":-1546.75},{"$f":"IF(ISBLANK(A28),0,SUMIFS(Registros!G:G,Registros!B:B,\">=\"&fecha_inicial, Registros!B:B, \"<=\"&fecha_final,Registros!C:C,\"=\"&A28))","v":0},{"$f":"IF(ISBLANK(A28),0,SUMIFS(Registros!H:H,Registros!B:B,\">=\"&fecha_inicial, Registros!B:B, \"<=\"&fecha_final,Registros!C:C,\"=\"&A28))","v":0},-1546.75]
[210304,"OTRAS RETENCIONES",{"$f":"IF(ISBLANK(A29),0,SUMIFS(Registros!H:H,Registros!B:B,\"<\"&fecha_inicial,Registros!C:C,\"=\"&A29)-IF(ISBLANK(A29),0,SUMIFS(Registros!G:G,Registros!B:B,\"<\"&fecha_inicial,Registros!C:C,\"=\"&A29)))","v":0},{"$f":"IF(ISBLANK(A29),0,SUMIFS(Registros!G:G,Registros!B:B,\">=\"&fecha_inicial, Registros!B:B, \"<=\"&fecha_final,Registros!C:C,\"=\"&A29))","v":0},{"$f":"IF(ISBLANK(A29),0,SUMIFS(Registros!H:H,Registros!B:B,\">=\"&fecha_inicial, Registros!B:B, \"<=\"&fecha_final,Registros!C:C,\"=\"&A29))","v":0},0]
[null,"",{"$f":"IF(ISBLANK(A30),0,SUMIFS(Registros!H:H,Registros!B:B,\"<\"&fecha_inicial,Registros!C:C,\"=\"&A30)-IF(ISBLANK(A30),0,SUMIFS(Registros!G:G,Registros!B:B,\"<\"&fecha_inicial,Registros!C:C,\"=\"&A30)))","v":0},{"$f":"IF(ISBLANK(A30),0,SUMIFS(Registros!G:G,Registros!B:B,\">=\"&fecha_inicial, Registros!B:B, \"<=\"&fecha_final,Registros!C:C,\"=\"&A30))","v":0},{"$f":"IF(ISBLANK(A30),0,SUMIFS(Registros!H:H,Registros!B:B,\">=\"&fecha_inicial, Registros!B:B, \"<=\"&fecha_final,Registros!C:C,\"=\"&A30))","v":0},0]
[null,"",{"$f":"IF(ISBLANK(A31),0,SUMIFS(Registros!H:H,Registros!B:B,\"<\"&fecha_inicial,Registros!C:C,\"=\"&A31)-IF(ISBLANK(A31),0,SUMIFS(Registros!G:G,Registros!B:B,\"<\"&fecha_inicial,Registros!C:C,\"=\"&A31)))","v":0},{"$f":"IF(ISBLANK(A31),0,SUMIFS(Registros!G:G,Registros!B:B,\">=\"&fecha_inicial, Registros!B:B, \"<=\"&fecha_final,Registros!C:C,\"=\"&A31))","v":0},{"$f":"IF(ISBLANK(A31),0,SUMIFS(Registros!H:H,Registros!B:B,\">=\"&fecha_inicial, Registros!B:B, \"<=\"&fecha_final,Registros!C:C,\"=\"&A31))","v":0},0]
[210400,"GASTOS ACUMULADOS POR PAGAR",{"$f":"SUM(C33:C38)","v":-11384.82},{"$f":"SUM(D33:D38)","v":0},{"$f":"SUM(E33:E38)","v":0},-11384.82]
[210401,"VACACIONES ACUM. POR PAGAR",{"$f":"IF(ISBLANK(A33),0,SUMIFS(Registros!H:H,Registros!B:B,\"<\"&fecha_inicial,Registros!C:C,\"=\"&A33)-IF(ISBLANK(A33),0,SUMIFS(Registros!G:G,Registros!B:B,\"<\"&fecha_inicial,Registros!C:C,\"=\"&A33)))","v":0},{"$f":"IF(ISBLANK(A33),0,SUMIFS(Registros!G:G,Registros!B:B,\">=\"&fecha_inicial, Registros!B:B, \"<=\"&fecha_final,Registros!C:C,\"=\"&A33))","v":0},{"$f":"IF(ISBLANK(A33),0,SUMIFS(Registros!H:H,Registros!B:B,\">=\"&fecha_inicial, Registros!B:B, \"<=\"&fecha_final,Registros!C:C,\"=\"&A33))","v":0},0]
[210402,"AGUINALDOS POR PAGAR",{"$f":"IF(ISBLANK(A34),0,SUMIFS(Registros!H:H,Registros!B:B,\"<\"&fecha_inicial,Registros!C:C,\"=\"&A34)-IF(ISBLANK(A34),0,SUMIFS(Registros!G:G,Registros!B:B,\"<\"&fecha_inicial,Registros!C:C,\"=\"&A34)))","v":0},{"$f":"IF(ISBLANK(A34),0,SUMIFS(Registros!G:G,Registros!B:B,\">=\"&fecha_inicial, Registros!B:B, \"<=\"&fecha_final,Registros!C:C,\"=\"&A34))","v":0},{"$f":"IF(ISBLANK(A34),0,SUMIFS(Registros!H:H,Registros!B:B,\">=\"&fecha_inicial, Registros!B:B, \"<=\"&fecha_final,Registros!C:C,\"=\"&A34))","v":0},0]
[210403,"INDEMNIZACIONES POR PAGAR",{"$f":"IF(ISBLANK(A35),0,SUMIFS(Registros!H:H,Registros!B:B,\"<\"&fecha_inicial,Registros!C:C,\"=\"&A35)-IF(ISBLANK(A35),0,SUMIFS(Registros!G:G,Registros!B:B,\"<\"&fecha_inicial,Registros!C:C,\"=\"&A35)))","v":0},{"$f":"IF(ISBLANK(A35),0,SUMIFS(Registros!G:G,Registros!B:B,\">=\"&fecha_inicial, Registros!B:B, \"<=\"&fecha_final,Registros!C:C,\"=\"&A35))","v":0},{"$f":"IF(ISBLANK(A35),0,SUMIFS(Registros!H:H,Registros!B:B,\">=\"&fecha_inicial, Registros!B:B, \"<=\"&fecha_final,Registros!C:C,\"=\"&A35))","v":0},0]
[210404,"INSS PATRONAL POR PAGAR",{"$f":"IF(ISBLANK(A36),0,SUMIFS(Registros!H:H,Registros!B:B,\"<\"&fecha_inicial,Registros!C:C,\"=\"&A36)-IF(ISBLANK(A36),0,SUMIFS(Registros!G:G,Registros!B:B,\"<\"&fecha_inicial,Registros!C:C,\"=\"&A36)))","v":-7648.1900000000005},{"$f":"IF(ISBLANK(A36),0,SUMIFS(Registros!G:G,Registros!B:B,\">=\"&fecha_inicial, Registros!B:B, \"<=\"&fecha_final,Registros!C:C,\"=\"&A36))","v":0},{"$f":"IF(ISBLANK(A36),0,SUMIFS(Registros!H:H,Registros!B:B,\">=\"&fecha_inicial, Registros!B:B, \"<=\"&fecha_final,Registros!C:C,\"=\"&A36))","v":0},-7648.1900000000005]
[210405,"APORTE INATEC POR PAGAR",{"$f":"IF(ISBLANK(A37),0,SUMIFS(Registros!H:H,Registros!B:B,\"<\"&fecha_inicial,Registros!C:C,\"=\"&A37)-IF(ISBLANK(A37),0,SUMIFS(Registros!G:G,Registros!B:B,\"<\"&fecha_inicial,Registros!C:C,\"=\"&A37)))","v":-916.55},{"$f":"IF(ISBLANK(A37),0,SUMIFS(Registros!G:G,Registros!B:B,\">=\"&fecha_inicial, Registros!B:B, \"<=\"&fecha_final,Registros!C:C,\"=\"&A37))","v":0},{"$f":"IF(ISBLANK(A37),0,SUMIFS(Registros!H:H,Registros!B:B,\">=\"&fecha_inicial, Registros!B:B, \"<=\"&fecha_final,Registros!C:C,\"=\"&A37))","v":0},-916.55]
[210406,"INSS LABORAL POR PAGAR",{"$f":"IF(ISBLANK(A38),0,SUMIFS(Registros!H:H,Registros!B:B,\"<\"&fecha_inicial,Registros!C:C,\"=\"&A38)-IF(ISBLANK(A38),0,SUMIFS(Registros!G:G,Registros!B:B,\"<\"&fecha_inicial,Registros!C:C,\"=\"&A38)))","v":-2820.08},{"$f":"IF(ISBLANK(A38),0,SUMIFS(Registros!G:G,Registros!B:B,\">=\"&fecha_inicial, Registros!B:B, \"<=\"&fecha_final,Registros!C:C,\"=\"&A38))","v":0},{"$f":"IF(ISBLANK(A38),0,SUMIFS(Registros!H:H,Registros!B:B,\">=\"&fecha_inicial, Registros!B:B, \"<=\"&fecha_final,Registros!C:C,\"=\"&A38))","v":0},-2820.08]
[null,"",{"$f":"SUM(C40:C45)","v":0},{"$f":"SUM(D40:D45)","v":0},{"$f":"SUM(E40:E45)","v":0},0]
[null,"",{"$f":"IF(ISBLANK(A40),0,SUMIFS(Registros!H:H,Registros!B:B,\"<\"&fecha_inicial,Registros!C:C,\"=\"&A40)-IF(ISBLANK(A40),0,SUMIFS(Registros!G:G,Registros!B:B,\"<\"&fecha_inicial,Registros!C:C,\"=\"&A40)))","v":0},{"$f":"IF(ISBLANK(A40),0,SUMIFS(Registros!G:G,Registros!B:B,\">=\"&fecha_inicial, Registros!B:B, \"<=\"&fecha_final,Registros!C:C,\"=\"&A40))","v":0},{"$f":"IF(ISBLANK(A40),0,SUMIFS(Registros!H:H,Registros!B:B,\">=\"&fecha_inicial, Registros!B:B, \"<=\"&fecha_final,Registros!C:C,\"=\"&A40))","v":0},0]
[null,"",{"$f":"IF(ISBLANK(A41),0,SUMIFS(Registros!H:H,Registros!B:B,\"<\"&fecha_inicial,Registros!C:C,\"=\"&A41)-IF(ISBLANK(A41),0,SUMIFS(Registros!G:G,Registros!B:B,\"<\"&fecha_inicial,Registros!C:C,\"=\"&A41)))","v":0},{"$f":"IF(ISBLANK(A41),0,SUMIFS(Registros!G:G,Registros!B:B,\">=\"&fecha_inicial, Registros!B:B, \"<=\"&fecha_final,Registros!C:C,\"=\"&A41))","v":0},{"$f":"IF(ISBLANK(A41),0,SUMIFS(Registros!H:H,Registros!B:B,\">=\"&fecha_inicial, Registros!B:B, \"<=\"&fecha_final,Registros!C:C,\"=\"&A41))","v":0},0]
[null,"",{"$f":"IF(ISBLANK(A42),0,SUMIFS(Registros!H:H,Registros!B:B,\"<\"&fecha_inicial,Registros!C:C,\"=\"&A42)-IF(ISBLANK(A42),0,SUMIFS(Registros!G:G,Registros!B:B,\"<\"&fecha_inicial,Registros!C:C,\"=\"&A42)))","v":0},{"$f":"IF(ISBLANK(A42),0,SUMIFS(Registros!G:G,Registros!B:B,\">=\"&fecha_inicial, Registros!B:B, \"<=\"&fecha_final,Registros!C:C,\"=\"&A42))","v":0},{"$f":"IF(ISBLANK(A42),0,SUMIFS(Registros!H:H,Registros!B:B,\">=\"&fecha_inicial, Registros!B:B, \"<=\"&fecha_final,Registros!C:C,\"=\"&A42))","v":0},0]
[null,"",{"$f":"IF(ISBLANK(A43),0,SUMIFS(Registros!H:H,Registros!B:B,\"<\"&fecha_inicial,Registros!C:C,\"=\"&A43)-IF(ISBLANK(A43),0,SUMIFS(Registros!G:G,Registros!B:B,\"<\"&fecha_inicial,Registros!C:C,\"=\"&A43)))","v":0},{"$f":"IF(ISBLANK(A43),0,SUMIFS(Registros!G:G,Registros!B:B,\">=\"&fecha_inicial, Registros!B:B, \"<=\"&fecha_final,Registros!C:C,\"=\"&A43))","v":0},{"$f":"IF(ISBLANK(A43),0,SUMIFS(Registros!H:H,Registros!B:B,\">=\"&fecha_inicial, Registros!B:B, \"<=\"&fecha_final,Registros!C:C,\"=\"&A43))","v":0},0]
[null,"",{"$f":"IF(ISBLANK(A44),0,SUMIFS(Registros!H:H,Registros!B:B,\"<\"&fecha_inicial,Registros!C:C,\"=\"&A44)-IF(ISBLANK(A44),0,SUMIFS(Registros!G:G,Registros!B:B,\"<\"&fecha_inicial,Registros!C:C,\"=\"&A44)))","v":0},{"$f":"IF(ISBLANK(A44),0,SUMIFS(Registros!G:G,Registros!B:B,\">=\"&fecha_inicial, Registros!B:B, \"<=\"&fecha_final,Registros!C:C,\"=\"&A44))","v":0},{"$f":"IF(ISBLANK(A44),0,SUMIFS(Registros!H:H,Registros!B:B,\">=\"&fecha_inicial, Registros!B:B, \"<=\"&fecha_final,Registros!C:C,\"=\"&A44))","v":0},0]
[null,"",{"$f":"IF(ISBLANK(A45),0,SUMIFS(Registros!H:H,Registros!B:B,\"<\"&fecha_inicial,Registros!C:C,\"=\"&A45)-IF(ISBLANK(A45),0,SUMIFS(Registros!G:G,Registros!B:B,\"<\"&fecha_inicial,Registros!C:C,\"=\"&A45)))","v":0},{"$f":"IF(ISBLANK(A45),0,SUMIFS(Registros!G:G,Registros!B:B,\">=\"&fecha_inicial, Registros!B:B, \"<=\"&fecha_final,Registros!C:C,\"=\"&A45))","v":0},{"$f":"IF(ISBLANK(A45),0,SUMIFS(Registros!H:H,Registros!B:B,\">=\"&fecha_inicial, Registros!B:B, \"<=\"&fecha_final,Registros!C:C,\"=\"&A45))","v":0},0]
[null,"",{"$f":"SUM(C47:C52)","v":0},{"$f":"SUM(D47:D52)","v":0},{"$f":"SUM(E47:E52)","v":0},0]
[null,{"$f":"IF(A47<>\"\", IF(ISERROR(VLOOKUP(A47, plan_cuentas,2, FALSE)), \"Código de Cuenta Incorrecto\", UPPER(VLOOKUP(A47, plan_cuentas, 2, FALSE))), \"\")","v":""},{"$f":"IF(ISBLANK(A47),0,SUMIFS(Registros!H:H,Registros!B:B,\"<\"&fecha_inicial,Registros!C:C,\"=\"&A47)-IF(ISBLANK(A47),0,SUMIFS(Registros!G:G,Registros!B:B,\"<\"&fecha_inicial,Registros!C:C,\"=\"&A47)))","v":0},{"$f":"IF(ISBLANK(A47),0,SUMIFS(Registros!G:G,Registros!B:B,\">=\"&fecha_inicial, Registros!B:B, \"<=\"&fecha_final,Registros!C:C,\"=\"&A47))","v":0},{"$f":"IF(ISBLANK(A47),0,SUMIFS(Registros!H:H,Registros!B:B,\">=\"&fecha_inicial, Registros!B:B, \"<=\"&fecha_final,Registros!C:C,\"=\"&A47))","v":0},0]
[null,{"$f":"IF(A48<>0, IF(ISERROR(VLOOKUP(A48, plan_cuentas,2, FALSE)), \"Código de Cuenta Incorrecto\", UPPER(VLOOKUP(A48, plan_cuentas, 2, FALSE))), \"\")","v":""},{"$f":"IF(ISBLANK(A48),0,SUMIFS(Registros!H:H,Registros!B:B,\"<\"&fecha_inicial,Registros!C:C,\"=\"&A48)-IF(ISBLANK(A48),0,SUMIFS(Registros!G:G,Registros!B:B,\"<\"&fecha_inicial,Registros!C:C,\"=\"&A48)))","v":0},{"$f":"IF(ISBLANK(A48),0,SUMIFS(Registros!G:G,Registros!B:B,\">=\"&fecha_inicial, Registros!B:B, \"<=\"&fecha_final,Registros!C:C,\"=\"&A48))","v":0},{"$f":"IF(ISBLANK(A48),0,SUMIFS(Registros!H:H,Registros!B:B,\">=\"&fecha_inicial, Registros!B:B, \"<=\"&fecha_final,Registros!C:C,\"=\"&A48))","v":0},0]
[null,{"$f":"IF(A49<>0, IF(ISERROR(VLOOKUP(A49, plan_cuentas,2, FALSE)), \"Código de Cuenta Incorrecto\", UPPER(VLOOKUP(A49, plan_cuentas, 2, FALSE))), \"\")","v":""},{"$f":"IF(ISBLANK(A49),0,SUMIFS(Registros!H:H,Registros!B:B,\"<\"&fecha_inicial,Registros!C:C,\"=\"&A49)-IF(ISBLANK(A49),0,SUMIFS(Registros!G:G,Registros!B:B,\"<\"&fecha_inicial,Registros!C:C,\"=\"&A49)))","v":0},{"$f":"IF(ISBLANK(A49),0,SUMIFS(Registros!G:G,Registros!B:B,\">=\"&fecha_inicial, Registros!B:B, \"<=\"&fecha_final,Registros!C:C,\"=\"&A49))","v":0},{"$f":"IF(ISBLANK(A49),0,SUMIFS(Registros!H:H,Registros!B:B,\">=\"&fecha_inicial, Registros!B:B, \"<=\"&fecha_final,Registros!C:C,\"=\"&A49))","v":0},0]
[null,{"$f":"IF(A50<>0, IF(ISERROR(VLOOKUP(A50, plan_cuentas,2, FALSE)), \"Código de Cuenta Incorrecto\", UPPER(VLOOKUP(A50, plan_cuentas, 2, FALSE))), \"\")","v":""},{"$f":"IF(ISBLANK(A50),0,SUMIFS(Registros!H:H,Registros!B:B,\"<\"&fecha_inicial,Registros!C:C,\"=\"&A50)-IF(ISBLANK(A50),0,SUMIFS(Registros!G:G,Registros!B:B,\"<\"&fecha_inicial,Registros!C:C,\"=\"&A50)))","v":0},{"$f":"IF(ISBLANK(A50),0,SUMIFS(Registros!G:G,Registros!B:B,\">=\"&fecha_inicial, Registros!B:B, \"<=\"&fecha_final,Registros!C:C,\"=\"&A50))","v":0},{"$f":"IF(ISBLANK(A50),0,SUMIFS(Registros!H:H,Registros!B:B,\">=\"&fecha_inicial, Registros!B:B, \"<=\"&fecha_final,Registros!C:C,\"=\"&A50))","v":0},0]
[null,{"$f":"IF(A51<>0, IF(ISERROR(VLOOKUP(A51, plan_cuentas,2, FALSE)), \"Código de Cuenta Incorrecto\", UPPER(VLOOKUP(A51, plan_cuentas, 2, FALSE))), \"\")","v":""},{"$f":"IF(ISBLANK(A51),0,SUMIFS(Registros!H:H,Registros!B:B,\"<\"&fecha_inicial,Registros!C:C,\"=\"&A51)-IF(ISBLANK(A51),0,SUMIFS(Registros!G:G,Registros!B:B,\"<\"&fecha_inicial,Registros!C:C,\"=\"&A51)))","v":0},{"$f":"IF(ISBLANK(A51),0,SUMIFS(Registros!G:G,Registros!B:B,\">=\"&fecha_inicial, Registros!B:B, \"<=\"&fecha_final,Registros!C:C,\"=\"&A51))","v":0},{"$f":"IF(ISBLANK(A51),0,SUMIFS(Registros!H:H,Registros!B:B,\">=\"&fecha_inicial, Registros!B:B, \"<=\"&fecha_final,Registros!C:C,\"=\"&A51))","v":0},0]
[null,{"$f":"IF(A52<>0, IF(ISERROR(VLOOKUP(A52, plan_cuentas,2, FALSE)), \"Código de Cuenta Incorrecto\", UPPER(VLOOKUP(A52, plan_cuentas, 2, FALSE))), \"\")","v":""},{"$f":"IF(ISBLANK(A52),0,SUMIFS(Registros!H:H,Registros!B:B,\"<\"&fecha_inicial,Registros!C:C,\"=\"&A52)-IF(ISBLANK(A52),0,SUMIFS(Registros!G:G,Registros!B:B,\"<\"&fecha_inicial,Registros!C:C,\"=\"&A52)))","v":0},{"$f":"IF(ISBLANK(A52),0,SUMIFS(Registros!G:G,Registros!B:B,\">=\"&fecha_inicial, Registros!B:B, \"<=\"&fecha_final,Registros!C:C,\"=\"&A52))","v":0},{"$f":"IF(ISBLANK(A52),0,SUMIFS(Registros!H:H,Registros!B:B,\">=\"&fecha_inicial, Registros!B:B, \"<=\"&fecha_final,Registros!C:C,\"=\"&A52))","v":0},0]
[null,"",{"$f":"SUM(C54:C59)","v":0},{"$f":"SUM(D54:D59)","v":0},{"$f":"SUM(E54:E59)","v":0},0]
[null,"",{"$f":"IF(ISBLANK(A54),0,SUMIFS(Registros!H:H,Registros!B:B,\"<\"&fecha_inicial,Registros!C:C,\"=\"&A54)-IF(ISBLANK(A54),0,SUMIFS(Registros!G:G,Registros!B:B,\"<\"&fecha_inicial,Registros!C:C,\"=\"&A54)))","v":0},{"$f":"IF(ISBLANK(A54),0,SUMIFS(Registros!G:G,Registros!B:B,\">=\"&fecha_inicial, Registros!B:B, \"<=\"&fecha_final,Registros!C:C,\"=\"&A54))","v":0},{"$f":"IF(ISBLANK(A54),0,SUMIFS(Registros!H:H,Registros!B:B,\">=\"&fecha_inicial, Registros!B:B, \"<=\"&fecha_final,Registros!C:C,\"=\"&A54))","v":0},0]
[null,"",{"$f":"IF(ISBLANK(A55),0,SUMIFS(Registros!H:H,Registros!B:B,\"<\"&fecha_inicial,Registros!C:C,\"=\"&A55)-IF(ISBLANK(A55),0,SUMIFS(Registros!G:G,Registros!B:B,\"<\"&fecha_inicial,Registros!C:C,\"=\"&A55)))","v":0},{"$f":"IF(ISBLANK(A55),0,SUMIFS(Registros!G:G,Registros!B:B,\">=\"&fecha_inicial, Registros!B:B, \"<=\"&fecha_final,Registros!C:C,\"=\"&A55))","v":0},{"$f":"IF(ISBLANK(A55),0,SUMIFS(Registros!H:H,Registros!B:B,\">=\"&fecha_inicial, Registros!B:B, \"<=\"&fecha_final,Registros!C:C,\"=\"&A55))","v":0},0]
[null,"",{"$f":"IF(ISBLANK(A56),0,SUMIFS(Registros!H:H,Registros!B:B,\"<\"&fecha_inicial,Registros!C:C,\"=\"&A56)-IF(ISBLANK(A56),0,SUMIFS(Registros!G:G,Registros!B:B,\"<\"&fecha_inicial,Registros!C:C,\"=\"&A56)))","v":0},{"$f":"IF(ISBLANK(A56),0,SUMIFS(Registros!G:G,Registros!B:B,\">=\"&fecha_inicial, Registros!B:B, \"<=\"&fecha_final,Registros!C:C,\"=\"&A56))","v":0},{"$f":"IF(ISBLANK(A56),0,SUMIFS(Registros!H:H,Registros!B:B,\">=\"&fecha_inicial, Registros!B:B, \"<=\"&fecha_final,Registros!C:C,\"=\"&A56))","v":0},0]
[null,"",{"$f":"IF(ISBLANK(A57),0,SUMIFS(Registros!H:H,Registros!B:B,\"<\"&fecha_inicial,Registros!C:C,\"=\"&A57)-IF(ISBLANK(A57),0,SUMIFS(Registros!G:G,Registros!B:B,\"<\"&fecha_inicial,Registros!C:C,\"=\"&A57)))","v":0},{"$f":"IF(ISBLANK(A57),0,SUMIFS(Registros!G:G,Registros!B:B,\">=\"&fecha_inicial, Registros!B:B, \"<=\"&fecha_final,Registros!C:C,\"=\"&A57))","v":0},{"$f":"IF(ISBLANK(A57),0,SUMIFS(Registros!H:H,Registros!B:B,\">=\"&fecha_inicial, Registros!B:B, \"<=\"&fecha_final,Registros!C:C,\"=\"&A57))","v":0},0]
[null,{"$f":"IF(A58<>0, IF(ISERROR(VLOOKUP(A58, plan_cuentas,2, FALSE)), \"Código de Cuenta Incorrecto\", UPPER(VLOOKUP(A58, plan_cuentas, 2, FALSE))), \"\")","v":""},{"$f":"IF(ISBLANK(A58),0,SUMIFS(Registros!H:H,Registros!B:B,\"<\"&fecha_inicial,Registros!C:C,\"=\"&A58)-IF(ISBLANK(A58),0,SUMIFS(Registros!G:G,Registros!B:B,\"<\"&fecha_inicial,Registros!C:C,\"=\"&A58)))","v":0},{"$f":"IF(ISBLANK(A58),0,SUMIFS(Registros!G:G,Registros!B:B,\">=\"&fecha_inicial, Registros!B:B, \"<=\"&fecha_final,Registros!C:C,\"=\"&A58))","v":0},{"$f":"IF(ISBLANK(A58),0,SUMIFS(Registros!H:H,Registros!B:B,\">=\"&fecha_inicial, Registros!B:B, \"<=\"&fecha_final,Registros!C:C,\"=\"&A58))","v":0},0]
[null,"",{"$f":"IF(ISBLANK(A59),0,SUMIFS(Registros!H:H,Registros!B:B,\"<\"&fecha_inicial,Registros!C:C,\"=\"&A59)-IF(ISBLANK(A59),0,SUMIFS(Registros!G:G,Registros!B:B,\"<\"&fecha_inicial,Registros!C:C,\"=\"&A59)))","v":0},{"$f":"IF(ISBLANK(A59),0,SUMIFS(Registros!G:G,Registros!B:B,\">=\"&fecha_inicial, Registros!B:B, \"<=\"&fecha_final,Registros!C:C,\"=\"&A59))","v":0},{"$f":"IF(ISBLANK(A59),0,SUMIFS(Registros!H:H,Registros!B:B,\">=\"&fecha_inicial, Registros!B:B, \"<=\"&fecha_final,Registros!C:C,\"=\"&A59))","v":0},0]
[{"$f":"\"SALDO FINAL DE LA CUENTA AL \" &TEXT(fecha_final, \"dd\")&\" DE \"&UPPER(TEXT(fecha_final, \"MMMM\"))&\" DEL \"& TEXT(fecha_final, \"YYYY\")","v":"SALDO FINAL DE LA CUENTA AL 31 DE JULIO DEL 2014"},null,{"$f":"C11+C18+C25+C46+C32+C39+C53","v":14758.52},{"$f":"D11+D18+D25+D46+D32+D39+D53","v":0},{"$f":"E11+E18+E25+E46+E32+E39+E53","v":26096.800000000003},40855.320000000007]
[]
[]
[]
[]
["AUTORIZADO POR:",null,null,null,"REVISADO POR:"]
[{"$f":"VLOOKUP(A65, Usuarios!B7:E9, 3, FALSE)","v":"Rodrigo Castro Potoy"},null,null,null,{"$f":"VLOOKUP(E65, Usuarios!B7:E9, 3, FALSE)","v":0}]

{"sheet":"310000","index":24,"n_rows":66,"n_cols":6,"rows_kept":66,"cut":false,"hidden":false,"merged":[[70,2,70,3],[65,0,65,1],[65,4,65,5],[66,0,66,1],[66,4,66,5],[68,2,68,3],[69,2,69,3],[7,5,8,5],[59,0,59,1],[63,0,63,1],[63,4,63,5],[64,0,64,1],[64,4,64,5],[7,0,8,0],[7,1,8,1],[7,2,8,2],[7,3,8,3],[7,4,8,4],[1,0,1,5],[2,0,2,5],[3,0,3,5],[4,0,4,5],[6,3,6,5]]}
[null,null,null,null,"Desproteger"]
[{"$f":"bussiness_name","v":"SOCIEDAD CIVIL COMUNIDAD CONNECT"}]
[{"$f":"\"RESUMEN CONTABLE DE \"&B7","v":"RESUMEN CONTABLE DE CAPITAL SOCIAL"}]
[{"$f":"\"DEL \"&TEXT(fecha_inicial, \"DD\")&\" DE \"&UPPER(TEXT(fecha_inicial, \"MMMM\"))&\" DEL \" & TEXT(fecha_inicial, \"YYYY\") & \" AL \"&TEXT(fecha_final, \"DD\")&\" DE \"&UPPER(TEXT(fecha_final, \"MMMM\"))&\" DEL \"&TEXT(fecha_final, \"YYYY\")","v":"DEL 01 DE JULIO DEL 2014 AL 31 DE JULIO DEL 2014"}]
[{"$f":"address & \" *** Tel/Fax:  \" & tel & \" *** \" & email","v":"Esquina sureste del Parque Central, San Juan del sur, Nicaragua. *** Tel/Fax:  25682731 *** info@comunidadconnect.org"}]
[]
[310000,{"$f":"UPPER(IF(ISBLANK(A7),\"\",IFERROR(VLOOKUP(A7,plan_cuentas,2,FALSE),\"Código de cuenta incorrecto\")))","v":"CAPITAL SOCIAL"},null,{"$f":"\"MOVIMIENTOS DE \"&UPPER(TEXT(fecha_final, \"MMMM\"))","v":"MOVIMIENTOS DE JULIO"}]
["CODIGO","NOMBRE DE LA CUENTA","SALDO INICIAL","DEBITOS","CREDITOS","SALDO FINAL"]
[]
[]
[310100,{"$f":"IF(A11<>\"\", IF(ISERROR(VLOOKUP(A11, plan_cuentas,2, FALSE)), \"Código de Cuenta Incorrecto\", UPPER(VLOOKUP(A11, plan_cuentas, 2, FALSE))), \"\")","v":"APORTE INICIAL"},{"$f":"SUM(C12:C17)","v":1137240.94},{"$f":"SUM(D12:D17)","v":0},{"$f":"SUM(E12:E17)","v":0},{"$f":"C11+E11-D11","v":1137240.94}]
[310101,{"$f":"IF(A12<>\"\", IF(ISERROR(VLOOKUP(A12, plan_cuentas,2, FALSE)), \"Código de Cuenta Incorrecto\", UPPER(VLOOKUP(A12, plan_cuentas, 2, FALSE))), \"\")","v":"FONDO EN RESERVA"},{"$f":"IF(ISBLANK(A12),0,SUMIFS(Registros!H:H,Registros!B:B,\"<\"&fecha_inicial,Registros!C:C,\"=\"&A12)-IF(ISBLANK(A12),0,SUMIFS(Registros!G:G,Registros!B:B,\"<\"&fecha_inicial,Registros!C:C,\"=\"&A12)))","v":0},{"$f":"IF(ISBLANK(A12),0,SUMIFS(Registros!G:G,Registros!B:B,\">=\"&fecha_inicial, Registros!B:B, \"<=\"&fecha_final,Registros!C:C,\"=\"&A12))","v":0},{"$f":"IF(ISBLANK(A12),0,SUMIFS(Registros!H:H,Registros!B:B,\">=\"&fecha_inicial, Registros!B:B, \"<=\"&fecha_final,Registros!C:C,\"=\"&A12))","v":0},{"$f":"C12+E12-D12","v":0}]
[310102,{"$f":"IF(A13<>0, IF(ISERROR(VLOOKUP(A13, plan_cuentas,2, FALSE)), \"Código de Cuenta Incorrecto\", UPPER(VLOOKUP(A13, plan_cuentas, 2, FALSE))), \"\")","v":"FONDO PATRIMONIAL"},{"$f":"IF(ISBLANK(A13),0,SUMIFS(Registros!H:H,Registros!B:B,\"<\"&fecha_inicial,Registros!C:C,\"=\"&A13)-IF(ISBLANK(A13),0,SUMIFS(Registros!G:G,Registros!B:B,\"<\"&fecha_inicial,Registros!C:C,\"=\"&A13)))","v":1137240.94},{"$f":"IF(ISBLANK(A13),0,SUMIFS(Registros!G:G,Registros!B:B,\">=\"&fecha_inicial, Registros!B:B, \"<=\"&fecha_final,Registros!C:C,\"=\"&A13))","v":0},{"$f":"IF(ISBLANK(A13),0,SUMIFS(Registros!H:H,Registros!B:B,\">=\"&fecha_inicial, Registros!B:B, \"<=\"&fecha_final,Registros!C:C,\"=\"&A13))","v":0},1137240.94]
[null,"",{"$f":"IF(ISBLANK(A14),0,SUMIFS(Registros!H:H,Registros!B:B,\"<\"&fecha_inicial,Registros!C:C,\"=\"&A14)-IF(ISBLANK(A14),0,SUMIFS(Registros!G:G,Registros!B:B,\"<\"&fecha_inicial,Registros!C:C,\"=\"&A14)))","v":0},{"$f":"IF(ISBLANK(A14),0,SUMIFS(Registros!G:G,Registros!B:B,\">=\"&fecha_inicial, Registros!B:B, \"<=\"&fecha_final,Registros!C:C,\"=\"&A14))","v":0},{"$f":"IF(ISBLANK(A14),0,SUMIFS(Registros!H:H,Registros!B:B,\">=\"&fecha_inicial, Registros!B:B, \"<=\"&fecha_final,Registros!C:C,\"=\"&A14))","v":0},0]
[null,"",{"$f":"IF(ISBLANK(A15),0,SUMIFS(Registros!H:H,Registros!B:B,\"<\"&fecha_inicial,Registros!C:C,\"=\"&A15)-IF(ISBLANK(A15),0,SUMIFS(Registros!G:G,Registros!B:B,\"<\"&fecha_inicial,Registros!C:C,\"=\"&A15)))","v":0},{"$f":"IF(ISBLANK(A15),0,SUMIFS(Registros!G:G,Registros!B:B,\">=\"&fecha_inicial, Registros!B:B, \"<=\"&fecha_final,Registros!C:C,\"=\"&A15))","v":0},{"$f":"IF(ISBLANK(A15),0,SUMIFS(Registros!H:H,Registros!B:B,\">=\"&fecha_inicial, Registros!B:B, \"<=\"&fecha_final,Registros!C:C,\"=\"&A15))","v":0},0]
[null,"",{"$f":"IF(ISBLANK(A16),0,SUMIFS(Registros!H:H,Registros!B:B,\"<\"&fecha_inicial,Registros!C:C,\"=\"&A16)-IF(ISBLANK(A16),0,SUMIFS(Registros!G:G,Registros!B:B,\"<\"&fecha_inicial,Registros!C:C,\"=\"&A16)))","v":0},{"$f":"IF(ISBLANK(A16),0,SUMIFS(Registros!G:G,Registros!B:B,\">=\"&fecha_inicial, Registros!B:B, \"<=\"&fecha_final,Registros!C:C,\"=\"&A16))","v":0},{"$f":"IF(ISBLANK(A16),0,SUMIFS(Registros!H:H,Registros!B:B,\">=\"&fecha_inicial, Registros!B:B, \"<=\"&fecha_final,Registros!C:C,\"=\"&A16))","v":0},0]
[null,"",{"$f":"IF(ISBLANK(A17),0,SUMIFS(Registros!H:H,Registros!B:B,\"<\"&fecha_inicial,Registros!C:C,\"=\"&A17)-IF(ISBLANK(A17),0,SUMIFS(Registros!G:G,Registros!B:B,\"<\"&fecha_inicial,Registros!C:C,\"=\"&A17)))","v":0},{"$f":"IF(ISBLANK(A17),0,SUMIFS(Registros!G:G,Registros!B:B,\">=\"&fecha_inicial, Registros!B:B, \"<=\"&fecha_final,Registros!C:C,\"=\"&A17))","v":0},{"$f":"IF(ISBLANK(A17),0,SUMIFS(Registros!H:H,Registros!B:B,\">=\"&fecha_inicial, Registros!B:B, \"<=\"&fecha_final,Registros!C:C,\"=\"&A17))","v":0},0]
[310200,"RESULTADOS",{"$f":"SUM(C19:C24)","v":0},{"$f":"SUM(D19:D24)","v":0},{"$f":"SUM(E19:E24)","v":0},0]
[310201,{"$f":"IF(A19<>\"\", IF(ISERROR(VLOOKUP(A19, plan_cuentas,2, FALSE)), \"Código de Cuenta Incorrecto\", UPPER(VLOOKUP(A19, plan_cuentas, 2, FALSE))), \"\")","v":"RESULTADOS ACUMULADOS"},{"$f":"IF(ISBLANK(A19),0,SUMIFS(Registros!H:H,Registros!B:B,\"<\"&fecha_inicial,Registros!C:C,\"=\"&A19)-IF(ISBLANK(A19),0,SUMIFS(Registros!G:G,Registros!B:B,\"<\"&fecha_inicial,Registros!C:C,\"=\"&A19)))","v":0},{"$f":"IF(ISBLANK(A19),0,SUMIFS(Registros!G:G,Registros!B:B,\">=\"&fecha_inicial, Registros!B:B, \"<=\"&fecha_final,Registros!C:C,\"=\"&A19))","v":0},{"$f":"IF(ISBLANK(A19),0,SUMIFS(Registros!H:H,Registros!B:B,\">=\"&fecha_inicial, Registros!B:B, \"<=\"&fecha_final,Registros!C:C,\"=\"&A19))","v":0},0]
[310202,"RESULTADOS DEL EJERCICIO",{"$f":"IF(ISBLANK(A20),0,SUMIFS(Registros!H:H,Registros!B:B,\"<\"&fecha_inicial,Registros!C:C,\"=\"&A20)-IF(ISBLANK(A20),0,SUMIFS(Registros!G:G,Registros!B:B,\"<\"&fecha_inicial,Registros!C:C,\"=\"&A20)))","v":0},{"$f":"IF(ISBLANK(A20),0,SUMIFS(Registros!G:G,Registros!B:B,\">=\"&fecha_inicial, Registros!B:B, \"<=\"&fecha_final,Registros!C:C,\"=\"&A20))","v":0},{"$f":"IF(ISBLANK(A20),0,SUMIFS(Registros!H:H,Registros!B:B,\">=\"&fecha_inicial, Registros!B:B, \"<=\"&fecha_final,Registros!C:C,\"=\"&A20))","v":0},0]
[null,"",{"$f":"IF(ISBLANK(A21),0,SUMIFS(Registros!H:H,Registros!B:B,\"<\"&fecha_inicial,Registros!C:C,\"=\"&A21)-IF(ISBLANK(A21),0,SUMIFS(Registros!G:G,Registros!B:B,\"<\"&fecha_inicial,Registros!C:C,\"=\"&A21)))","v":0},{"$f":"IF(ISBLANK(A21),0,SUMIFS(Registros!G:G,Registros!B:B,\">=\"&fecha_inicial, Registros!B:B, \"<=\"&fecha_final,Registros!C:C,\"=\"&A21))","v":0},{"$f":"IF(ISBLANK(A21),0,SUMIFS(Registros!H:H,Registros!B:B,\">=\"&fecha_inicial, Registros!B:B, \"<=\"&fecha_final,Registros!C:C,\"=\"&A21))","v":0},0]
[null,"",{"$f":"IF(ISBLANK(A22),0,SUMIFS(Registros!H:H,Registros!B:B,\"<\"&fecha_inicial,Registros!C:C,\"=\"&A22)-IF(ISBLANK(A22),0,SUMIFS(Registros!G:G,Registros!B:B,\"<\"&fecha_inicial,Registros!C:C,\"=\"&A22)))","v":0},{"$f":"IF(ISBLANK(A22),0,SUMIFS(Registros!G:G,Registros!B:B,\">=\"&fecha_inicial, Registros!B:B, \"<=\"&fecha_final,Registros!C:C,\"=\"&A22))","v":0},{"$f":"IF(ISBLANK(A22),0,SUMIFS(Registros!H:H,Registros!B:B,\">=\"&fecha_inicial, Registros!B:B, \"<=\"&fecha_final,Registros!C:C,\"=\"&A22))","v":0},0]
[null,"",{"$f":"IF(ISBLANK(A23),0,SUMIFS(Registros!H:H,Registros!B:B,\"<\"&fecha_inicial,Registros!C:C,\"=\"&A23)-IF(ISBLANK(A23),0,SUMIFS(Registros!G:G,Registros!B:B,\"<\"&fecha_inicial,Registros!C:C,\"=\"&A23)))","v":0},{"$f":"IF(ISBLANK(A23),0,SUMIFS(Registros!G:G,Registros!B:B,\">=\"&fecha_inicial, Registros!B:B, \"<=\"&fecha_final,Registros!C:C,\"=\"&A23))","v":0},{"$f":"IF(ISBLANK(A23),0,SUMIFS(Registros!H:H,Registros!B:B,\">=\"&fecha_inicial, Registros!B:B, \"<=\"&fecha_final,Registros!C:C,\"=\"&A23))","v":0},0]
[null,"",{"$f":"IF(ISBLANK(A24),0,SUMIFS(Registros!H:H,Registros!B:B,\"<\"&fecha_inicial,Registros!C:C,\"=\"&A24)-IF(ISBLANK(A24),0,SUMIFS(Registros!G:G,Registros!B:B,\"<\"&fecha_inicial,Registros!C:C,\"=\"&A24)))","v":0},{"$f":"IF(ISBLANK(A24),0,SUMIFS(Registros!G:G,Registros!B:B,\">=\"&fecha_inicial, Registros!B:B, \"<=\"&fecha_final,Registros!C:C,\"=\"&A24))","v":0},{"$f":"IF(ISBLANK(A24),0,SUMIFS(Registros!H:H,Registros!B:B,\">=\"&fecha_inicial, Registros!B:B, \"<=\"&fecha_final,Registros!C:C,\"=\"&A24))","v":0},0]
[null,"",{"$f":"SUM(C26:C31)","v":0},{"$f":"SUM(D26:D31)","v":0},{"$f":"SUM(E26:E31)","v":0},0]
[null,{"$f":"IF(A26<>\"\", IF(ISERROR(VLOOKUP(A26, plan_cuentas,2, FALSE)), \"Código de Cuenta Incorrecto\", UPPER(VLOOKUP(A26, plan_cuentas, 2, FALSE))), \"\")","v":""},{"$f":"IF(ISBLANK(A26),0,SUMIFS(Registros!H:H,Registros!B:B,\"<\"&fecha_inicial,Registros!C:C,\"=\"&A26)-IF(ISBLANK(A26),0,SUMIFS(Registros!G:G,Registros!B:B,\"<\"&fecha_inicial,Registros!C:C,\"=\"&A26)))","v":0},{"$f":"IF(ISBLANK(A26),0,SUMIFS(Registros!G:G,Registros!B:B,\">=\"&fecha_inicial, Registros!B:B, \"<=\"&fecha_final,Registros!C:C,\"=\"&A26))","v":0},{"$f":"IF(ISBLANK(A26),0,SUMIFS(Registros!H:H,Registros!B:B,\">=\"&fecha_inicial, Registros!B:B, \"<=\"&fecha_final,Registros!C:C,\"=\"&A26))","v":0},0]
[null,"",{"$f":"IF(ISBLANK(A27),0,SUMIFS(Registros!H:H,Registros!B:B,\"<\"&fecha_inicial,Registros!C:C,\"=\"&A27)-IF(ISBLANK(A27),0,SUMIFS(Registros!G:G,Registros!B:B,\"<\"&fecha_inicial,Registros!C:C,\"=\"&A27)))","v":0},{"$f":"IF(ISBLANK(A27),0,SUMIFS(Registros!G:G,Registros!B:B,\">=\"&fecha_inicial, Registros!B:B, \"<=\"&fecha_final,Registros!C:C,\"=\"&A27))","v":0},{"$f":"IF(ISBLANK(A27),0,SUMIFS(Registros!H:H,Registros!B:B,\">=\"&fecha_inicial, Registros!B:B, \"<=\"&fecha_final,Registros!C:C,\"=\"&A27))","v":0},0]
[null,"",{"$f":"IF(ISBLANK(A28),0,SUMIFS(Registros!H:H,Registros!B:B,\"<\"&fecha_inicial,Registros!C:C,\"=\"&A28)-IF(ISBLANK(A28),0,SUMIFS(Registros!G:G,Registros!B:B,\"<\"&fecha_inicial,Registros!C:C,\"=\"&A28)))","v":0},{"$f":"IF(ISBLANK(A28),0,SUMIFS(Registros!G:G,Registros!B:B,\">=\"&fecha_inicial, Registros!B:B, \"<=\"&fecha_final,Registros!C:C,\"=\"&A28))","v":0},{"$f":"IF(ISBLANK(A28),0,SUMIFS(Registros!H:H,Registros!B:B,\">=\"&fecha_inicial, Registros!B:B, \"<=\"&fecha_final,Registros!C:C,\"=\"&A28))","v":0},0]
[null,"",{"$f":"IF(ISBLANK(A29),0,SUMIFS(Registros!H:H,Registros!B:B,\"<\"&fecha_inicial,Registros!C:C,\"=\"&A29)-IF(ISBLANK(A29),0,SUMIFS(Registros!G:G,Registros!B:B,\"<\"&fecha_inicial,Registros!C:C,\"=\"&A29)))","v":0},{"$f":"IF(ISBLANK(A29),0,SUMIFS(Registros!G:G,Registros!B:B,\">=\"&fecha_inicial, Registros!B:B, \"<=\"&fecha_final,Registros!C:C,\"=\"&A29))","v":0},{"$f":"IF(ISBLANK(A29),0,SUMIFS(Registros!H:H,Registros!B:B,\">=\"&fecha_inicial, Registros!B:B, \"<=\"&fecha_final,Registros!C:C,\"=\"&A29))","v":0},0]
[null,"",{"$f":"IF(ISBLANK(A30),0,SUMIFS(Registros!H:H,Registros!B:B,\"<\"&fecha_inicial,Registros!C:C,\"=\"&A30)-IF(ISBLANK(A30),0,SUMIFS(Registros!G:G,Registros!B:B,\"<\"&fecha_inicial,Registros!C:C,\"=\"&A30)))","v":0},{"$f":"IF(ISBLANK(A30),0,SUMIFS(Registros!G:G,Registros!B:B,\">=\"&fecha_inicial, Registros!B:B, \"<=\"&fecha_final,Registros!C:C,\"=\"&A30))","v":0},{"$f":"IF(ISBLANK(A30),0,SUMIFS(Registros!H:H,Registros!B:B,\">=\"&fecha_inicial, Registros!B:B, \"<=\"&fecha_final,Registros!C:C,\"=\"&A30))","v":0},0]
[null,"",{"$f":"IF(ISBLANK(A31),0,SUMIFS(Registros!H:H,Registros!B:B,\"<\"&fecha_inicial,Registros!C:C,\"=\"&A31)-IF(ISBLANK(A31),0,SUMIFS(Registros!G:G,Registros!B:B,\"<\"&fecha_inicial,Registros!C:C,\"=\"&A31)))","v":0},{"$f":"IF(ISBLANK(A31),0,SUMIFS(Registros!G:G,Registros!B:B,\">=\"&fecha_inicial, Registros!B:B, \"<=\"&fecha_final,Registros!C:C,\"=\"&A31))","v":0},{"$f":"IF(ISBLANK(A31),0,SUMIFS(Registros!H:H,Registros!B:B,\">=\"&fecha_inicial, Registros!B:B, \"<=\"&fecha_final,Registros!C:C,\"=\"&A31))","v":0},0]
[null,"",{"$f":"SUM(C33:C38)","v":0},{"$f":"SUM(D33:D38)","v":0},{"$f":"SUM(E33:E38)","v":0},0]
[null,"",{"$f":"IF(ISBLANK(A33),0,SUMIFS(Registros!H:H,Registros!B:B,\"<\"&fecha_inicial,Registros!C:C,\"=\"&A33)-IF(ISBLANK(A33),0,SUMIFS(Registros!G:G,Registros!B:B,\"<\"&fecha_inicial,Registros!C:C,\"=\"&A33)))","v":0},{"$f":"IF(ISBLANK(A33),0,SUMIFS(Registros!G:G,Registros!B:B,\">=\"&fecha_inicial, Registros!B:B, \"<=\"&fecha_final,Registros!C:C,\"=\"&A33))","v":0},{"$f":"IF(ISBLANK(A33),0,SUMIFS(Registros!H:H,Registros!B:B,\">=\"&fecha_inicial, Registros!B:B, \"<=\"&fecha_final,Registros!C:C,\"=\"&A33))","v":0},0]
[null,"",{"$f":"IF(ISBLANK(A34),0,SUMIFS(Registros!H:H,Registros!B:B,\"<\"&fecha_inicial,Registros!C:C,\"=\"&A34)-IF(ISBLANK(A34),0,SUMIFS(Registros!G:G,Registros!B:B,\"<\"&fecha_inicial,Registros!C:C,\"=\"&A34)))","v":0},{"$f":"IF(ISBLANK(A34),0,SUMIFS(Registros!G:G,Registros!B:B,\">=\"&fecha_inicial, Registros!B:B, \"<=\"&fecha_final,Registros!C:C,\"=\"&A34))","v":0},{"$f":"IF(ISBLANK(A34),0,SUMIFS(Registros!H:H,Registros!B:B,\">=\"&fecha_inicial, Registros!B:B, \"<=\"&fecha_final,Registros!C:C,\"=\"&A34))","v":0},0]
[null,"",{"$f":"IF(ISBLANK(A35),0,SUMIFS(Registros!H:H,Registros!B:B,\"<\"&fecha_inicial,Registros!C:C,\"=\"&A35)-IF(ISBLANK(A35),0,SUMIFS(Registros!G:G,Registros!B:B,\"<\"&fecha_inicial,Registros!C:C,\"=\"&A35)))","v":0},{"$f":"IF(ISBLANK(A35),0,SUMIFS(Registros!G:G,Registros!B:B,\">=\"&fecha_inicial, Registros!B:B, \"<=\"&fecha_final,Registros!C:C,\"=\"&A35))","v":0},{"$f":"IF(ISBLANK(A35),0,SUMIFS(Registros!H:H,Registros!B:B,\">=\"&fecha_inicial, Registros!B:B, \"<=\"&fecha_final,Registros!C:C,\"=\"&A35))","v":0},0]
[null,"",{"$f":"IF(ISBLANK(A36),0,SUMIFS(Registros!H:H,Registros!B:B,\"<\"&fecha_inicial,Registros!C:C,\"=\"&A36)-IF(ISBLANK(A36),0,SUMIFS(Registros!G:G,Registros!B:B,\"<\"&fecha_inicial,Registros!C:C,\"=\"&A36)))","v":0},{"$f":"IF(ISBLANK(A36),0,SUMIFS(Registros!G:G,Registros!B:B,\">=\"&fecha_inicial, Registros!B:B, \"<=\"&fecha_final,Registros!C:C,\"=\"&A36))","v":0},{"$f":"IF(ISBLANK(A36),0,SUMIFS(Registros!H:H,Registros!B:B,\">=\"&fecha_inicial, Registros!B:B, \"<=\"&fecha_final,Registros!C:C,\"=\"&A36))","v":0},0]
[null,"",{"$f":"IF(ISBLANK(A37),0,SUMIFS(Registros!H:H,Registros!B:B,\"<\"&fecha_inicial,Registros!C:C,\"=\"&A37)-IF(ISBLANK(A37),0,SUMIFS(Registros!G:G,Registros!B:B,\"<\"&fecha_inicial,Registros!C:C,\"=\"&A37)))","v":0},{"$f":"IF(ISBLANK(A37),0,SUMIFS(Registros!G:G,Registros!B:B,\">=\"&fecha_inicial, Registros!B:B, \"<=\"&fecha_final,Registros!C:C,\"=\"&A37))","v":0},{"$f":"IF(ISBLANK(A37),0,SUMIFS(Registros!H:H,Registros!B:B,\">=\"&fecha_inicial, Registros!B:B, \"<=\"&fecha_final,Registros!C:C,\"=\"&A37))","v":0},0]
[null,"",{"$f":"IF(ISBLANK(A38),0,SUMIFS(Registros!H:H,Registros!B:B,\"<\"&fecha_inicial,Registros!C:C,\"=\"&A38)-IF(ISBLANK(A38),0,SUMIFS(Registros!G:G,Registros!B:B,\"<\"&fecha_inicial,Registros!C:C,\"=\"&A38)))","v":0},{"$f":"IF(ISBLANK(A38),0,SUMIFS(Registros!G:G,Registros!B:B,\">=\"&fecha_inicial, Registros!B:B, \"<=\"&fecha_final,Registros!C:C,\"=\"&A38))","v":0},{"$f":"IF(ISBLANK(A38),0,SUMIFS(Registros!H:H,Registros!B:B,\">=\"&fecha_inicial, Registros!B:B, \"<=\"&fecha_final,Registros!C:C,\"=\"&A38))","v":0},0]
[null,"",{"$f":"SUM(C40:C45)","v":0},{"$f":"SUM(D40:D45)","v":0},{"$f":"SUM(E40:E45)","v":0},0]
[null,"",{"$f":"IF(ISBLANK(A40),0,SUMIFS(Registros!H:H,Registros!B:B,\"<\"&fecha_inicial,Registros!C:C,\"=\"&A40)-IF(ISBLANK(A40),0,SUMIFS(Registros!G:G,Registros!B:B,\"<\"&fecha_inicial,Registros!C:C,\"=\"&A40)))","v":0},{"$f":"IF(ISBLANK(A40),0,SUMIFS(Registros!G:G,Registros!B:B,\">=\"&fecha_inicial, Registros!B:B, \"<=\"&fecha_final,Registros!C:C,\"=\"&A40))","v":0},{"$f":"IF(ISBLANK(A40),0,SUMIFS(Registros!H:H,Registros!B:B,\">=\"&fecha_inicial, Registros!B:B, \"<=\"&fecha_final,Registros!C:C,\"=\"&A40))","v":0},0]
[null,"",{"$f":"IF(ISBLANK(A41),0,SUMIFS(Registros!H:H,Registros!B:B,\"<\"&fecha_inicial,Registros!C:C,\"=\"&A41)-IF(ISBLANK(A41),0,SUMIFS(Registros!G:G,Registros!B:B,\"<\"&fecha_inicial,Registros!C:C,\"=\"&A41)))","v":0},{"$f":"IF(ISBLANK(A41),0,SUMIFS(Registros!G:G,Registros!B:B,\">=\"&fecha_inicial, Registros!B:B, \"<=\"&fecha_final,Registros!C:C,\"=\"&A41))","v":0},{"$f":"IF(ISBLANK(A41),0,SUMIFS(Registros!H:H,Registros!B:B,\">=\"&fecha_inicial, Registros!B:B, \"<=\"&fecha_final,Registros!C:C,\"=\"&A41))","v":0},0]
[null,"",{"$f":"IF(ISBLANK(A42),0,SUMIFS(Registros!H:H,Registros!B:B,\"<\"&fecha_inicial,Registros!C:C,\"=\"&A42)-IF(ISBLANK(A42),0,SUMIFS(Registros!G:G,Registros!B:B,\"<\"&fecha_inicial,Registros!C:C,\"=\"&A42)))","v":0},{"$f":"IF(ISBLANK(A42),0,SUMIFS(Registros!G:G,Registros!B:B,\">=\"&fecha_inicial, Registros!B:B, \"<=\"&fecha_final,Registros!C:C,\"=\"&A42))","v":0},{"$f":"IF(ISBLANK(A42),0,SUMIFS(Registros!H:H,Registros!B:B,\">=\"&fecha_inicial, Registros!B:B, \"<=\"&fecha_final,Registros!C:C,\"=\"&A42))","v":0},0]
[null,"",{"$f":"IF(ISBLANK(A43),0,SUMIFS(Registros!H:H,Registros!B:B,\"<\"&fecha_inicial,Registros!C:C,\"=\"&A43)-IF(ISBLANK(A43),0,SUMIFS(Registros!G:G,Registros!B:B,\"<\"&fecha_inicial,Registros!C:C,\"=\"&A43)))","v":0},{"$f":"IF(ISBLANK(A43),0,SUMIFS(Registros!G:G,Registros!B:B,\">=\"&fecha_inicial, Registros!B:B, \"<=\"&fecha_final,Registros!C:C,\"=\"&A43))","v":0},{"$f":"IF(ISBLANK(A43),0,SUMIFS(Registros!H:H,Registros!B:B,\">=\"&fecha_inicial, Registros!B:B, \"<=\"&fecha_final,Registros!C:C,\"=\"&A43))","v":0},0]
[null,"",{"$f":"IF(ISBLANK(A44),0,SUMIFS(Registros!H:H,Registros!B:B,\"<\"&fecha_inicial,Registros!C:C,\"=\"&A44)-IF(ISBLANK(A44),0,SUMIFS(Registros!G:G,Registros!B:B,\"<\"&fecha_inicial,Registros!C:C,\"=\"&A44)))","v":0},{"$f":"IF(ISBLANK(A44),0,SUMIFS(Registros!G:G,Registros!B:B,\">=\"&fecha_inicial, Registros!B:B, \"<=\"&fecha_final,Registros!C:C,\"=\"&A44))","v":0},{"$f":"IF(ISBLANK(A44),0,SUMIFS(Registros!H:H,Registros!B:B,\">=\"&fecha_inicial, Registros!B:B, \"<=\"&fecha_final,Registros!C:C,\"=\"&A44))","v":0},0]
[null,"",{"$f":"IF(ISBLANK(A45),0,SUMIFS(Registros!H:H,Registros!B:B,\"<\"&fecha_inicial,Registros!C:C,\"=\"&A45)-IF(ISBLANK(A45),0,SUMIFS(Registros!G:G,Registros!B:B,\"<\"&fecha_inicial,Registros!C:C,\"=\"&A45)))","v":0},{"$f":"IF(ISBLANK(A45),0,SUMIFS(Registros!G:G,Registros!B:B,\">=\"&fecha_inicial, Registros!B:B, \"<=\"&fecha_final,Registros!C:C,\"=\"&A45))","v":0},{"$f":"IF(ISBLANK(A45),0,SUMIFS(Registros!H:H,Registros!B:B,\">=\"&fecha_inicial, Registros!B:B, \"<=\"&fecha_final,Registros!C:C,\"=\"&A45))","v":0},0]
[null,"",{"$f":"SUM(C47:C52)","v":0},{"$f":"SUM(D47:D52)","v":0},{"$f":"SUM(E47:E52)","v":0},0]
[null,{"$f":"IF(A47<>\"\", IF(ISERROR(VLOOKUP(A47, plan_cuentas,2, FALSE)), \"Código de Cuenta Incorrecto\", UPPER(VLOOKUP(A47, plan_cuentas, 2, FALSE))), \"\")","v":""},{"$f":"IF(ISBLANK(A47),0,SUMIFS(Registros!H:H,Registros!B:B,\"<\"&fecha_inicial,Registros!C:C,\"=\"&A47)-IF(ISBLANK(A47),0,SUMIFS(Registros!G:G,Registros!B:B,\"<\"&fecha_inicial,Registros!C:C,\"=\"&A47)))","v":0},{"$f":"IF(ISBLANK(A47),0,SUMIFS(Registros!G:G,Registros!B:B,\">=\"&fecha_inicial, Registros!B:B, \"<=\"&fecha_final,Registros!C:C,\"=\"&A47))","v":0},{"$f":"IF(ISBLANK(A47),0,SUMIFS(Registros!H:H,Registros!B:B,\">=\"&fecha_inicial, Registros!B:B, \"<=\"&fecha_final,Registros!C:C,\"=\"&A47))","v":0},0]
[null,{"$f":"IF(A48<>0, IF(ISERROR(VLOOKUP(A48, plan_cuentas,2, FALSE)), \"Código de Cuenta Incorrecto\", UPPER(VLOOKUP(A48, plan_cuentas, 2, FALSE))), \"\")","v":""},{"$f":"IF(ISBLANK(A48),0,SUMIFS(Registros!H:H,Registros!B:B,\"<\"&fecha_inicial,Registros!C:C,\"=\"&A48)-IF(ISBLANK(A48),0,SUMIFS(Registros!G:G,Registros!B:B,\"<\"&fecha_inicial,Registros!C:C,\"=\"&A48)))","v":0},{"$f":"IF(ISBLANK(A48),0,SUMIFS(Registros!G:G,Registros!B:B,\">=\"&fecha_inicial, Registros!B:B, \"<=\"&fecha_final,Registros!C:C,\"=\"&A48))","v":0},{"$f":"IF(ISBLANK(A48),0,SUMIFS(Registros!H:H,Registros!B:B,\">=\"&fecha_inicial, Registros!B:B, \"<=\"&fecha_final,Registros!C:C,\"=\"&A48))","v":0},0]
[null,{"$f":"IF(A49<>0, IF(ISERROR(VLOOKUP(A49, plan_cuentas,2, FALSE)), \"Código de Cuenta Incorrecto\", UPPER(VLOOKUP(A49, plan_cuentas, 2, FALSE))), \"\")","v":""},{"$f":"IF(ISBLANK(A49),0,SUMIFS(Registros!H:H,Registros!B:B,\"<\"&fecha_inicial,Registros!C:C,\"=\"&A49)-IF(ISBLANK(A49),0,SUMIFS(Registros!G:G,Registros!B:B,\"<\"&fecha_inicial,Registros!C:C,\"=\"&A49)))","v":0},{"$f":"IF(ISBLANK(A49),0,SUMIFS(Registros!G:G,Registros!B:B,\">=\"&fecha_inicial, Registros!B:B, \"<=\"&fecha_final,Registros!C:C,\"=\"&A49))","v":0},{"$f":"IF(ISBLANK(A49),0,SUMIFS(Registros!H:H,Registros!B:B,\">=\"&fecha_inicial, Registros!B:B, \"<=\"&fecha_final,Registros!C:C,\"=\"&A49))","v":0},0]
[null,{"$f":"IF(A50<>0, IF(ISERROR(VLOOKUP(A50, plan_cuentas,2, FALSE)), \"Código de Cuenta Incorrecto\", UPPER(VLOOKUP(A50, plan_cuentas, 2, FALSE))), \"\")","v":""},{"$f":"IF(ISBLANK(A50),0,SUMIFS(Registros!H:H,Registros!B:B,\"<\"&fecha_inicial,Registros!C:C,\"=\"&A50)-IF(ISBLANK(A50),0,SUMIFS(Registros!G:G,Registros!B:B,\"<\"&fecha_inicial,Registros!C:C,\"=\"&A50)))","v":0},{"$f":"IF(ISBLANK(A50),0,SUMIFS(Registros!G:G,Registros!B:B,\">=\"&fecha_inicial, Registros!B:B, \"<=\"&fecha_final,Registros!C:C,\"=\"&A50))","v":0},{"$f":"IF(ISBLANK(A50),0,SUMIFS(Registros!H:H,Registros!B:B,\">=\"&fecha_inicial, Registros!B:B, \"<=\"&fecha_final,Registros!C:C,\"=\"&A50))","v":0},0]
[null,{"$f":"IF(A51<>0, IF(ISERROR(VLOOKUP(A51, plan_cuentas,2, FALSE)), \"Código de Cuenta Incorrecto\", UPPER(VLOOKUP(A51, plan_cuentas, 2, FALSE))), \"\")","v":""},{"$f":"IF(ISBLANK(A51),0,SUMIFS(Registros!H:H,Registros!B:B,\"<\"&fecha_inicial,Registros!C:C,\"=\"&A51)-IF(ISBLANK(A51),0,SUMIFS(Registros!G:G,Registros!B:B,\"<\"&fecha_inicial,Registros!C:C,\"=\"&A51)))","v":0},{"$f":"IF(ISBLANK(A51),0,SUMIFS(Registros!G:G,Registros!B:B,\">=\"&fecha_inicial, Registros!B:B, \"<=\"&fecha_final,Registros!C:C,\"=\"&A51))","v":0},{"$f":"IF(ISBLANK(A51),0,SUMIFS(Registros!H:H,Registros!B:B,\">=\"&fecha_inicial, Registros!B:B, \"<=\"&fecha_final,Registros!C:C,\"=\"&A51))","v":0},0]
[null,{"$f":"IF(A52<>0, IF(ISERROR(VLOOKUP(A52, plan_cuentas,2, FALSE)), \"Código de Cuenta Incorrecto\", UPPER(VLOOKUP(A52, plan_cuentas, 2, FALSE))), \"\")","v":""},{"$f":"IF(ISBLANK(A52),0,SUMIFS(Registros!H:H,Registros!B:B,\"<\"&fecha_inicial,Registros!C:C,\"=\"&A52)-IF(ISBLANK(A52),0,SUMIFS(Registros!G:G,Registros!B:B,\"<\"&fecha_inicial,Registros!C:C,\"=\"&A52)))","v":0},{"$f":"IF(ISBLANK(A52),0,SUMIFS(Registros!G:G,Registros!B:B,\">=\"&fecha_inicial, Registros!B:B, \"<=\"&fecha_final,Registros!C:C,\"=\"&A52))","v":0},{"$f":"IF(ISBLANK(A52),0,SUMIFS(Registros!H:H,Registros!B:B,\">=\"&fecha_inicial, Registros!B:B, \"<=\"&fecha_final,Registros!C:C,\"=\"&A52))","v":0},0]
[null,"",{"$f":"SUM(C54:C59)","v":0},{"$f":"SUM(D54:D59)","v":0},{"$f":"SUM(E54:E59)","v":0},0]
[null,"",{"$f":"IF(ISBLANK(A54),0,SUMIFS(Registros!H:H,Registros!B:B,\"<\"&fecha_inicial,Registros!C:C,\"=\"&A54)-IF(ISBLANK(A54),0,SUMIFS(Registros!G:G,Registros!B:B,\"<\"&fecha_inicial,Registros!C:C,\"=\"&A54)))","v":0},{"$f":"IF(ISBLANK(A54),0,SUMIFS(Registros!G:G,Registros!B:B,\">=\"&fecha_inicial, Registros!B:B, \"<=\"&fecha_final,Registros!C:C,\"=\"&A54))","v":0},{"$f":"IF(ISBLANK(A54),0,SUMIFS(Registros!H:H,Registros!B:B,\">=\"&fecha_inicial, Registros!B:B, \"<=\"&fecha_final,Registros!C:C,\"=\"&A54))","v":0},0]
[null,"",{"$f":"IF(ISBLANK(A55),0,SUMIFS(Registros!H:H,Registros!B:B,\"<\"&fecha_inicial,Registros!C:C,\"=\"&A55)-IF(ISBLANK(A55),0,SUMIFS(Registros!G:G,Registros!B:B,\"<\"&fecha_inicial,Registros!C:C,\"=\"&A55)))","v":0},{"$f":"IF(ISBLANK(A55),0,SUMIFS(Registros!G:G,Registros!B:B,\">=\"&fecha_inicial, Registros!B:B, \"<=\"&fecha_final,Registros!C:C,\"=\"&A55))","v":0},{"$f":"IF(ISBLANK(A55),0,SUMIFS(Registros!H:H,Registros!B:B,\">=\"&fecha_inicial, Registros!B:B, \"<=\"&fecha_final,Registros!C:C,\"=\"&A55))","v":0},0]
[null,"",{"$f":"IF(ISBLANK(A56),0,SUMIFS(Registros!H:H,Registros!B:B,\"<\"&fecha_inicial,Registros!C:C,\"=\"&A56)-IF(ISBLANK(A56),0,SUMIFS(Registros!G:G,Registros!B:B,\"<\"&fecha_inicial,Registros!C:C,\"=\"&A56)))","v":0},{"$f":"IF(ISBLANK(A56),0,SUMIFS(Registros!G:G,Registros!B:B,\">=\"&fecha_inicial, Registros!B:B, \"<=\"&fecha_final,Registros!C:C,\"=\"&A56))","v":0},{"$f":"IF(ISBLANK(A56),0,SUMIFS(Registros!H:H,Registros!B:B,\">=\"&fecha_inicial, Registros!B:B, \"<=\"&fecha_final,Registros!C:C,\"=\"&A56))","v":0},0]
[null,"",{"$f":"IF(ISBLANK(A57),0,SUMIFS(Registros!H:H,Registros!B:B,\"<\"&fecha_inicial,Registros!C:C,\"=\"&A57)-IF(ISBLANK(A57),0,SUMIFS(Registros!G:G,Registros!B:B,\"<\"&fecha_inicial,Registros!C:C,\"=\"&A57)))","v":0},{"$f":"IF(ISBLANK(A57),0,SUMIFS(Registros!G:G,Registros!B:B,\">=\"&fecha_inicial, Registros!B:B, \"<=\"&fecha_final,Registros!C:C,\"=\"&A57))","v":0},{"$f":"IF(ISBLANK(A57),0,SUMIFS(Registros!H:H,Registros!B:B,\">=\"&fecha_inicial, Registros!B:B, \"<=\"&fecha_final,Registros!C:C,\"=\"&A57))","v":0},0]
[null,{"$f":"IF(A58<>0, IF(ISERROR(VLOOKUP(A58, plan_cuentas,2, FALSE)), \"Código de Cuenta Incorrecto\", UPPER(VLOOKUP(A58, plan_cuentas, 2, FALSE))), \"\")","v":""},{"$f":"IF(ISBLANK(A58),0,SUMIFS(Registros!H:H,Registros!B:B,\"<\"&fecha_inicial,Registros!C:C,\"=\"&A58)-IF(ISBLANK(A58),0,SUMIFS(Registros!G:G,Registros!B:B,\"<\"&fecha_inicial,Registros!C:C,\"=\"&A58)))","v":0},{"$f":"IF(ISBLANK(A58),0,SUMIFS(Registros!G:G,Registros!B:B,\">=\"&fecha_inicial, Registros!B:B, \"<=\"&fecha_final,Registros!C:C,\"=\"&A58))","v":0},{"$f":"IF(ISBLANK(A58),0,SUMIFS(Registros!H:H,Registros!B:B,\">=\"&fecha_inicial, Registros!B:B, \"<=\"&fecha_final,Registros!C:C,\"=\"&A58))","v":0},0]
[null,"",{"$f":"IF(ISBLANK(A59),0,SUMIFS(Registros!H:H,Registros!B:B,\"<\"&fecha_inicial,Registros!C:C,\"=\"&A59)-IF(ISBLANK(A59),0,SUMIFS(Registros!G:G,Registros!B:B,\"<\"&fecha_inicial,Registros!C:C,\"=\"&A59)))","v":0},{"$f":"IF(ISBLANK(A59),0,SUMIFS(Registros!G:G,Registros!B:B,\">=\"&fecha_inicial, Registros!B:B, \"<=\"&fecha_final,Registros!C:C,\"=\"&A59))","v":0},{"$f":"IF(ISBLANK(A59),0,SUMIFS(Registros!H:H,Registros!B:B,\">=\"&fecha_inicial, Registros!B:B, \"<=\"&fecha_final,Registros!C:C,\"=\"&A59))","v":0},0]
[{"$f":"\"SALDO FINAL DE LA CUENTA AL \" &TEXT(fecha_final, \"dd\")&\" DE \"&UPPER(TEXT(fecha_final, \"MMMM\"))&\" DEL \"& TEXT(fecha_final, \"YYYY\")","v":"SALDO FINAL DE LA CUENTA AL 31 DE JULIO DEL 2014"},null,{"$f":"C11+C18+C25+C46+C32+C39+C53","v":1137240.94},{"$f":"D11+D18+D25+D46+D32+D39+D53","v":0},{"$f":"E11+E18+E25+E46+E32+E39+E53","v":0},1137240.94]
[]
[]
[]
[]
["AUTORIZADO POR:",null,null,null,"REVISADO POR:"]
[{"$f":"VLOOKUP(A65, Usuarios!B7:E9, 3, FALSE)","v":"Rodrigo Castro Potoy"},null,null,null,{"$f":"VLOOKUP(E65, Usuarios!B7:E9, 3, FALSE)","v":0}]

{"sheet":"510000","index":25,"n_rows":66,"n_cols":6,"rows_kept":66,"cut":false,"hidden":false,"merged":[[70,2,70,3],[65,0,65,1],[65,4,65,5],[66,0,66,1],[66,4,66,5],[68,2,68,3],[69,2,69,3],[7,5,8,5],[59,0,59,1],[63,0,63,1],[63,4,63,5],[64,0,64,1],[64,4,64,5],[7,0,8,0],[7,1,8,1],[7,2,8,2],[7,3,8,3],[7,4,8,4],[1,0,1,5],[2,0,2,5],[3,0,3,5],[4,0,4,5],[6,3,6,5]]}
[null,null,null,null,"Desproteger"]
[{"$f":"bussiness_name","v":"SOCIEDAD CIVIL COMUNIDAD CONNECT"}]
[{"$f":"\"RESUMEN CONTABLE DE \"&B7","v":"RESUMEN CONTABLE DE INGRESOS POR DONACIONES"}]
[{"$f":"\"DEL \"&TEXT(fecha_inicial, \"DD\")&\" DE \"&UPPER(TEXT(fecha_inicial, \"MMMM\"))&\" DEL \" & TEXT(fecha_inicial, \"YYYY\") & \" AL \"&TEXT(fecha_final, \"DD\")&\" DE \"&UPPER(TEXT(fecha_final, \"MMMM\"))&\" DEL \"&TEXT(fecha_final, \"YYYY\")","v":"DEL 01 DE JULIO DEL 2014 AL 31 DE JULIO DEL 2014"}]
[{"$f":"address & \" *** Tel/Fax:  \" & tel & \" *** \" & email","v":"Esquina sureste del Parque Central, San Juan del sur, Nicaragua. *** Tel/Fax:  25682731 *** info@comunidadconnect.org"}]
[]
[510000,{"$f":"UPPER(IF(ISBLANK(A7),\"\",IFERROR(VLOOKUP(A7,plan_cuentas,2,FALSE),\"Código de cuenta incorrecto\")))","v":"INGRESOS POR DONACIONES"},null,{"$f":"\"MOVIMIENTOS DE \"&UPPER(TEXT(fecha_final, \"MMMM\"))","v":"MOVIMIENTOS DE JULIO"}]
["CODIGO","NOMBRE DE LA CUENTA","SALDO INICIAL","DEBITOS","CREDITOS","SALDO FINAL"]
[]
[]
[510100,{"$f":"IF(A11<>\"\", IF(ISERROR(VLOOKUP(A11, plan_cuentas,2, FALSE)), \"Código de Cuenta Incorrecto\", UPPER(VLOOKUP(A11, plan_cuentas, 2, FALSE))), \"\")","v":"DONACIONES INTERNACIONALES"},{"$f":"SUM(C12:C17)","v":0},{"$f":"SUM(D12:D17)","v":0},{"$f":"SUM(E12:E17)","v":1590848.48},{"$f":"C11+E11-D11","v":1590848.48}]
[510101,{"$f":"IF(A12<>\"\", IF(ISERROR(VLOOKUP(A12, plan_cuentas,2, FALSE)), \"Código de Cuenta Incorrecto\", UPPER(VLOOKUP(A12, plan_cuentas, 2, FALSE))), \"\")","v":"DONACIONES E.U.A."},{"$f":"IF(ISBLANK(A12),0,SUMIFS(Registros!H:H,Registros!B:B,\"<\"&fecha_inicial,Registros!C:C,\"=\"&A12)-IF(ISBLANK(A12),0,SUMIFS(Registros!G:G,Registros!B:B,\"<\"&fecha_inicial,Registros!C:C,\"=\"&A12)))","v":0},{"$f":"IF(ISBLANK(A12),0,SUMIFS(Registros!G:G,Registros!B:B,\">=\"&fecha_inicial, Registros!B:B, \"<=\"&fecha_final,Registros!C:C,\"=\"&A12))","v":0},{"$f":"IF(ISBLANK(A12),0,SUMIFS(Registros!H:H,Registros!B:B,\">=\"&fecha_inicial, Registros!B:B, \"<=\"&fecha_final,Registros!C:C,\"=\"&A12))","v":1590848.48},{"$f":"C12+E12-D12","v":1590848.48}]
[null,{"$f":"IF(A13<>0, IF(ISERROR(VLOOKUP(A13, plan_cuentas,2, FALSE)), \"Código de Cuenta Incorrecto\", UPPER(VLOOKUP(A13, plan_cuentas, 2, FALSE))), \"\")","v":""},{"$f":"IF(ISBLANK(A13),0,SUMIFS(Registros!H:H,Registros!B:B,\"<\"&fecha_inicial,Registros!C:C,\"=\"&A13)-IF(ISBLANK(A13),0,SUMIFS(Registros!G:G,Registros!B:B,\"<\"&fecha_inicial,Registros!C:C,\"=\"&A13)))","v":0},{"$f":"IF(ISBLANK(A13),0,SUMIFS(Registros!G:G,Registros!B:B,\">=\"&fecha_inicial, Registros!B:B, \"<=\"&fecha_final,Registros!C:C,\"=\"&A13))","v":0},{"$f":"IF(ISBLANK(A13),0,SUMIFS(Registros!H:H,Registros!B:B,\">=\"&fecha_inicial, Registros!B:B, \"<=\"&fecha_final,Registros!C:C,\"=\"&A13))","v":0},0]
[null,"",{"$f":"IF(ISBLANK(A14),0,SUMIFS(Registros!H:H,Registros!B:B,\"<\"&fecha_inicial,Registros!C:C,\"=\"&A14)-IF(ISBLANK(A14),0,SUMIFS(Registros!G:G,Registros!B:B,\"<\"&fecha_inicial,Registros!C:C,\"=\"&A14)))","v":0},{"$f":"IF(ISBLANK(A14),0,SUMIFS(Registros!G:G,Registros!B:B,\">=\"&fecha_inicial, Registros!B:B, \"<=\"&fecha_final,Registros!C:C,\"=\"&A14))","v":0},{"$f":"IF(ISBLANK(A14),0,SUMIFS(Registros!H:H,Registros!B:B,\">=\"&fecha_inicial, Registros!B:B, \"<=\"&fecha_final,Registros!C:C,\"=\"&A14))","v":0},0]
[null,"",{"$f":"IF(ISBLANK(A15),0,SUMIFS(Registros!H:H,Registros!B:B,\"<\"&fecha_inicial,Registros!C:C,\"=\"&A15)-IF(ISBLANK(A15),0,SUMIFS(Registros!G:G,Registros!B:B,\"<\"&fecha_inicial,Registros!C:C,\"=\"&A15)))","v":0},{"$f":"IF(ISBLANK(A15),0,SUMIFS(Registros!G:G,Registros!B:B,\">=\"&fecha_inicial, Registros!B:B, \"<=\"&fecha_final,Registros!C:C,\"=\"&A15))","v":0},{"$f":"IF(ISBLANK(A15),0,SUMIFS(Registros!H:H,Registros!B:B,\">=\"&fecha_inicial, Registros!B:B, \"<=\"&fecha_final,Registros!C:C,\"=\"&A15))","v":0},0]
[null,"",{"$f":"IF(ISBLANK(A16),0,SUMIFS(Registros!H:H,Registros!B:B,\"<\"&fecha_inicial,Registros!C:C,\"=\"&A16)-IF(ISBLANK(A16),0,SUMIFS(Registros!G:G,Registros!B:B,\"<\"&fecha_inicial,Registros!C:C,\"=\"&A16)))","v":0},{"$f":"IF(ISBLANK(A16),0,SUMIFS(Registros!G:G,Registros!B:B,\">=\"&fecha_inicial, Registros!B:B, \"<=\"&fecha_final,Registros!C:C,\"=\"&A16))","v":0},{"$f":"IF(ISBLANK(A16),0,SUMIFS(Registros!H:H,Registros!B:B,\">=\"&fecha_inicial, Registros!B:B, \"<=\"&fecha_final,Registros!C:C,\"=\"&A16))","v":0},0]
[null,"",{"$f":"IF(ISBLANK(A17),0,SUMIFS(Registros!H:H,Registros!B:B,\"<\"&fecha_inicial,Registros!C:C,\"=\"&A17)-IF(ISBLANK(A17),0,SUMIFS(Registros!G:G,Registros!B:B,\"<\"&fecha_inicial,Registros!C:C,\"=\"&A17)))","v":0},{"$f":"IF(ISBLANK(A17),0,SUMIFS(Registros!G:G,Registros!B:B,\">=\"&fecha_inicial, Registros!B:B, \"<=\"&fecha_final,Registros!C:C,\"=\"&A17))","v":0},{"$f":"IF(ISBLANK(A17),0,SUMIFS(Registros!H:H,Registros!B:B,\">=\"&fecha_inicial, Registros!B:B, \"<=\"&fecha_final,Registros!C:C,\"=\"&A17))","v":0},0]
[510200,"DONACIONES NACIONALES",{"$f":"SUM(C19:C24)","v":0},{"$f":"SUM(D19:D24)","v":0},{"$f":"SUM(E19:E24)","v":126959},126959]
[510201,{"$f":"IF(A19<>\"\", IF(ISERROR(VLOOKUP(A19, plan_cuentas,2, FALSE)), \"Código de Cuenta Incorrecto\", UPPER(VLOOKUP(A19, plan_cuentas, 2, FALSE))), \"\")","v":"DONACIONES GUBERNAMENTALES"},{"$f":"IF(ISBLANK(A19),0,SUMIFS(Registros!H:H,Registros!B:B,\"<\"&fecha_inicial,Registros!C:C,\"=\"&A19)-IF(ISBLANK(A19),0,SUMIFS(Registros!G:G,Registros!B:B,\"<\"&fecha_inicial,Registros!C:C,\"=\"&A19)))","v":0},{"$f":"IF(ISBLANK(A19),0,SUMIFS(Registros!G:G,Registros!B:B,\">=\"&fecha_inicial, Registros!B:B, \"<=\"&fecha_final,Registros!C:C,\"=\"&A19))","v":0},{"$f":"IF(ISBLANK(A19),0,SUMIFS(Registros!H:H,Registros!B:B,\">=\"&fecha_inicial, Registros!B:B, \"<=\"&fecha_final,Registros!C:C,\"=\"&A19))","v":0},0]
[510202,"DONACIONES INST. PRIVADAS",{"$f":"IF(ISBLANK(A20),0,SUMIFS(Registros!H:H,Registros!B:B,\"<\"&fecha_inicial,Registros!C:C,\"=\"&A20)-IF(ISBLANK(A20),0,SUMIFS(Registros!G:G,Registros!B:B,\"<\"&fecha_inicial,Registros!C:C,\"=\"&A20)))","v":0},{"$f":"IF(ISBLANK(A20),0,SUMIFS(Registros!G:G,Registros!B:B,\">=\"&fecha_inicial, Registros!B:B, \"<=\"&fecha_final,Registros!C:C,\"=\"&A20))","v":0},{"$f":"IF(ISBLANK(A20),0,SUMIFS(Registros!H:H,Registros!B:B,\">=\"&fecha_inicial, Registros!B:B, \"<=\"&fecha_final,Registros!C:C,\"=\"&A20))","v":126959},126959]
[null,"",{"$f":"IF(ISBLANK(A21),0,SUMIFS(Registros!H:H,Registros!B:B,\"<\"&fecha_inicial,Registros!C:C,\"=\"&A21)-IF(ISBLANK(A21),0,SUMIFS(Registros!G:G,Registros!B:B,\"<\"&fecha_inicial,Registros!C:C,\"=\"&A21)))","v":0},{"$f":"IF(ISBLANK(A21),0,SUMIFS(Registros!G:G,Registros!B:B,\">=\"&fecha_inicial, Registros!B:B, \"<=\"&fecha_final,Registros!C:C,\"=\"&A21))","v":0},{"$f":"IF(ISBLANK(A21),0,SUMIFS(Registros!H:H,Registros!B:B,\">=\"&fecha_inicial, Registros!B:B, \"<=\"&fecha_final,Registros!C:C,\"=\"&A21))","v":0},0]
[null,"",{"$f":"IF(ISBLANK(A22),0,SUMIFS(Registros!H:H,Registros!B:B,\"<\"&fecha_inicial,Registros!C:C,\"=\"&A22)-IF(ISBLANK(A22),0,SUMIFS(Registros!G:G,Registros!B:B,\"<\"&fecha_inicial,Registros!C:C,\"=\"&A22)))","v":0},{"$f":"IF(ISBLANK(A22),0,SUMIFS(Registros!G:G,Registros!B:B,\">=\"&fecha_inicial, Registros!B:B, \"<=\"&fecha_final,Registros!C:C,\"=\"&A22))","v":0},{"$f":"IF(ISBLANK(A22),0,SUMIFS(Registros!H:H,Registros!B:B,\">=\"&fecha_inicial, Registros!B:B, \"<=\"&fecha_final,Registros!C:C,\"=\"&A22))","v":0},0]
[null,"",{"$f":"IF(ISBLANK(A23),0,SUMIFS(Registros!H:H,Registros!B:B,\"<\"&fecha_inicial,Registros!C:C,\"=\"&A23)-IF(ISBLANK(A23),0,SUMIFS(Registros!G:G,Registros!B:B,\"<\"&fecha_inicial,Registros!C:C,\"=\"&A23)))","v":0},{"$f":"IF(ISBLANK(A23),0,SUMIFS(Registros!G:G,Registros!B:B,\">=\"&fecha_inicial, Registros!B:B, \"<=\"&fecha_final,Registros!C:C,\"=\"&A23))","v":0},{"$f":"IF(ISBLANK(A23),0,SUMIFS(Registros!H:H,Registros!B:B,\">=\"&fecha_inicial, Registros!B:B, \"<=\"&fecha_final,Registros!C:C,\"=\"&A23))","v":0},0]
[null,"",{"$f":"IF(ISBLANK(A24),0,SUMIFS(Registros!H:H,Registros!B:B,\"<\"&fecha_inicial,Registros!C:C,\"=\"&A24)-IF(ISBLANK(A24),0,SUMIFS(Registros!G:G,Registros!B:B,\"<\"&fecha_inicial,Registros!C:C,\"=\"&A24)))","v":0},{"$f":"IF(ISBLANK(A24),0,SUMIFS(Registros!G:G,Registros!B:B,\">=\"&fecha_inicial, Registros!B:B, \"<=\"&fecha_final,Registros!C:C,\"=\"&A24))","v":0},{"$f":"IF(ISBLANK(A24),0,SUMIFS(Registros!H:H,Registros!B:B,\">=\"&fecha_inicial, Registros!B:B, \"<=\"&fecha_final,Registros!C:C,\"=\"&A24))","v":0},0]
[510300,"DONACIONES GRUPOS VOLUNTARIOS",{"$f":"SUM(C26:C31)","v":0},{"$f":"SUM(D26:D31)","v":0},{"$f":"SUM(E26:E31)","v":28546.75},28546.75]
[510301,{"$f":"IF(A26<>\"\", IF(ISERROR(VLOOKUP(A26, plan_cuentas,2, FALSE)), \"Código de Cuenta Incorrecto\", UPPER(VLOOKUP(A26, plan_cuentas, 2, FALSE))), \"\")","v":"DONACIONES DE VOLUNTARIOS"},{"$f":"IF(ISBLANK(A26),0,SUMIFS(Registros!H:H,Registros!B:B,\"<\"&fecha_inicial,Registros!C:C,\"=\"&A26)-IF(ISBLANK(A26),0,SUMIFS(Registros!G:G,Registros!B:B,\"<\"&fecha_inicial,Registros!C:C,\"=\"&A26)))","v":0},{"$f":"IF(ISBLANK(A26),0,SUMIFS(Registros!G:G,Registros!B:B,\">=\"&fecha_inicial, Registros!B:B, \"<=\"&fecha_final,Registros!C:C,\"=\"&A26))","v":0},{"$f":"IF(ISBLANK(A26),0,SUMIFS(Registros!H:H,Registros!B:B,\">=\"&fecha_inicial, Registros!B:B, \"<=\"&fecha_final,Registros!C:C,\"=\"&A26))","v":28546.75},28546.75]
[null,"",{"$f":"IF(ISBLANK(A27),0,SUMIFS(Registros!H:H,Registros!B:B,\"<\"&fecha_inicial,Registros!C:C,\"=\"&A27)-IF(ISBLANK(A27),0,SUMIFS(Registros!G:G,Registros!B:B,\"<\"&fecha_inicial,Registros!C:C,\"=\"&A27)))","v":0},{"$f":"IF(ISBLANK(A27),0,SUMIFS(Registros!G:G,Registros!B:B,\">=\"&fecha_inicial, Registros!B:B, \"<=\"&fecha_final,Registros!C:C,\"=\"&A27))","v":0},{"$f":"IF(ISBLANK(A27),0,SUMIFS(Registros!H:H,Registros!B:B,\">=\"&fecha_inicial, Registros!B:B, \"<=\"&fecha_final,Registros!C:C,\"=\"&A27))","v":0},0]
[null,"",{"$f":"IF(ISBLANK(A28),0,SUMIFS(Registros!H:H,Registros!B:B,\"<\"&fecha_inicial,Registros!C:C,\"=\"&A28)-IF(ISBLANK(A28),0,SUMIFS(Registros!G:G,Registros!B:B,\"<\"&fecha_inicial,Registros!C:C,\"=\"&A28)))","v":0},{"$f":"IF(ISBLANK(A28),0,SUMIFS(Registros!G:G,Registros!B:B,\">=\"&fecha_inicial, Registros!B:B, \"<=\"&fecha_final,Registros!C:C,\"=\"&A28))","v":0},{"$f":"IF(ISBLANK(A28),0,SUMIFS(Registros!H:H,Registros!B:B,\">=\"&fecha_inicial, Registros!B:B, \"<=\"&fecha_final,Registros!C:C,\"=\"&A28))","v":0},0]
[null,"",{"$f":"IF(ISBLANK(A29),0,SUMIFS(Registros!H:H,Registros!B:B,\"<\"&fecha_inicial,Registros!C:C,\"=\"&A29)-IF(ISBLANK(A29),0,SUMIFS(Registros!G:G,Registros!B:B,\"<\"&fecha_inicial,Registros!C:C,\"=\"&A29)))","v":0},{"$f":"IF(ISBLANK(A29),0,SUMIFS(Registros!G:G,Registros!B:B,\">=\"&fecha_inicial, Registros!B:B, \"<=\"&fecha_final,Registros!C:C,\"=\"&A29))","v":0},{"$f":"IF(ISBLANK(A29),0,SUMIFS(Registros!H:H,Registros!B:B,\">=\"&fecha_inicial, Registros!B:B, \"<=\"&fecha_final,Registros!C:C,\"=\"&A29))","v":0},0]
[null,"",{"$f":"IF(ISBLANK(A30),0,SUMIFS(Registros!H:H,Registros!B:B,\"<\"&fecha_inicial,Registros!C:C,\"=\"&A30)-IF(ISBLANK(A30),0,SUMIFS(Registros!G:G,Registros!B:B,\"<\"&fecha_inicial,Registros!C:C,\"=\"&A30)))","v":0},{"$f":"IF(ISBLANK(A30),0,SUMIFS(Registros!G:G,Registros!B:B,\">=\"&fecha_inicial, Registros!B:B, \"<=\"&fecha_final,Registros!C:C,\"=\"&A30))","v":0},{"$f":"IF(ISBLANK(A30),0,SUMIFS(Registros!H:H,Registros!B:B,\">=\"&fecha_inicial, Registros!B:B, \"<=\"&fecha_final,Registros!C:C,\"=\"&A30))","v":0},0]
[null,"",{"$f":"IF(ISBLANK(A31),0,SUMIFS(Registros!H:H,Registros!B:B,\"<\"&fecha_inicial,Registros!C:C,\"=\"&A31)-IF(ISBLANK(A31),0,SUMIFS(Registros!G:G,Registros!B:B,\"<\"&fecha_inicial,Registros!C:C,\"=\"&A31)))","v":0},{"$f":"IF(ISBLANK(A31),0,SUMIFS(Registros!G:G,Registros!B:B,\">=\"&fecha_inicial, Registros!B:B, \"<=\"&fecha_final,Registros!C:C,\"=\"&A31))","v":0},{"$f":"IF(ISBLANK(A31),0,SUMIFS(Registros!H:H,Registros!B:B,\">=\"&fecha_inicial, Registros!B:B, \"<=\"&fecha_final,Registros!C:C,\"=\"&A31))","v":0},0]
[null,"",{"$f":"SUM(C33:C38)","v":0},{"$f":"SUM(D33:D38)","v":0},{"$f":"SUM(E33:E38)","v":0},0]
[null,"",{"$f":"IF(ISBLANK(A33),0,SUMIFS(Registros!H:H,Registros!B:B,\"<\"&fecha_inicial,Registros!C:C,\"=\"&A33)-IF(ISBLANK(A33),0,SUMIFS(Registros!G:G,Registros!B:B,\"<\"&fecha_inicial,Registros!C:C,\"=\"&A33)))","v":0},{"$f":"IF(ISBLANK(A33),0,SUMIFS(Registros!G:G,Registros!B:B,\">=\"&fecha_inicial, Registros!B:B, \"<=\"&fecha_final,Registros!C:C,\"=\"&A33))","v":0},{"$f":"IF(ISBLANK(A33),0,SUMIFS(Registros!H:H,Registros!B:B,\">=\"&fecha_inicial, Registros!B:B, \"<=\"&fecha_final,Registros!C:C,\"=\"&A33))","v":0},0]
[null,"",{"$f":"IF(ISBLANK(A34),0,SUMIFS(Registros!H:H,Registros!B:B,\"<\"&fecha_inicial,Registros!C:C,\"=\"&A34)-IF(ISBLANK(A34),0,SUMIFS(Registros!G:G,Registros!B:B,\"<\"&fecha_inicial,Registros!C:C,\"=\"&A34)))","v":0},{"$f":"IF(ISBLANK(A34),0,SUMIFS(Registros!G:G,Registros!B:B,\">=\"&fecha_inicial, Registros!B:B, \"<=\"&fecha_final,Registros!C:C,\"=\"&A34))","v":0},{"$f":"IF(ISBLANK(A34),0,SUMIFS(Registros!H:H,Registros!B:B,\">=\"&fecha_inicial, Registros!B:B, \"<=\"&fecha_final,Registros!C:C,\"=\"&A34))","v":0},0]
[null,"",{"$f":"IF(ISBLANK(A35),0,SUMIFS(Registros!H:H,Registros!B:B,\"<\"&fecha_inicial,Registros!C:C,\"=\"&A35)-IF(ISBLANK(A35),0,SUMIFS(Registros!G:G,Registros!B:B,\"<\"&fecha_inicial,Registros!C:C,\"=\"&A35)))","v":0},{"$f":"IF(ISBLANK(A35),0,SUMIFS(Registros!G:G,Registros!B:B,\">=\"&fecha_inicial, Registros!B:B, \"<=\"&fecha_final,Registros!C:C,\"=\"&A35))","v":0},{"$f":"IF(ISBLANK(A35),0,SUMIFS(Registros!H:H,Registros!B:B,\">=\"&fecha_inicial, Registros!B:B, \"<=\"&fecha_final,Registros!C:C,\"=\"&A35))","v":0},0]
[null,"",{"$f":"IF(ISBLANK(A36),0,SUMIFS(Registros!H:H,Registros!B:B,\"<\"&fecha_inicial,Registros!C:C,\"=\"&A36)-IF(ISBLANK(A36),0,SUMIFS(Registros!G:G,Registros!B:B,\"<\"&fecha_inicial,Registros!C:C,\"=\"&A36)))","v":0},{"$f":"IF(ISBLANK(A36),0,SUMIFS(Registros!G:G,Registros!B:B,\">=\"&fecha_inicial, Registros!B:B, \"<=\"&fecha_final,Registros!C:C,\"=\"&A36))","v":0},{"$f":"IF(ISBLANK(A36),0,SUMIFS(Registros!H:H,Registros!B:B,\">=\"&fecha_inicial, Registros!B:B, \"<=\"&fecha_final,Registros!C:C,\"=\"&A36))","v":0},0]
[null,"",{"$f":"IF(ISBLANK(A37),0,SUMIFS(Registros!H:H,Registros!B:B,\"<\"&fecha_inicial,Registros!C:C,\"=\"&A37)-IF(ISBLANK(A37),0,SUMIFS(Registros!G:G,Registros!B:B,\"<\"&fecha_inicial,Registros!C:C,\"=\"&A37)))","v":0},{"$f":"IF(ISBLANK(A37),0,SUMIFS(Registros!G:G,Registros!B:B,\">=\"&fecha_inicial, Registros!B:B, \"<=\"&fecha_final,Registros!C:C,\"=\"&A37))","v":0},{"$f":"IF(ISBLANK(A37),0,SUMIFS(Registros!H:H,Registros!B:B,\">=\"&fecha_inicial, Registros!B:B, \"<=\"&fecha_final,Registros!C:C,\"=\"&A37))","v":0},0]
[null,"",{"$f":"IF(ISBLANK(A38),0,SUMIFS(Registros!H:H,Registros!B:B,\"<\"&fecha_inicial,Registros!C:C,\"=\"&A38)-IF(ISBLANK(A38),0,SUMIFS(Registros!G:G,Registros!B:B,\"<\"&fecha_inicial,Registros!C:C,\"=\"&A38)))","v":0},{"$f":"IF(ISBLANK(A38),0,SUMIFS(Registros!G:G,Registros!B:B,\">=\"&fecha_inicial, Registros!B:B, \"<=\"&fecha_final,Registros!C:C,\"=\"&A38))","v":0},{"$f":"IF(ISBLANK(A38),0,SUMIFS(Registros!H:H,Registros!B:B,\">=\"&fecha_inicial, Registros!B:B, \"<=\"&fecha_final,Registros!C:C,\"=\"&A38))","v":0},0]
[null,"",{"$f":"SUM(C40:C45)","v":0},{"$f":"SUM(D40:D45)","v":0},{"$f":"SUM(E40:E45)","v":0},0]
[null,"",{"$f":"IF(ISBLANK(A40),0,SUMIFS(Registros!H:H,Registros!B:B,\"<\"&fecha_inicial,Registros!C:C,\"=\"&A40)-IF(ISBLANK(A40),0,SUMIFS(Registros!G:G,Registros!B:B,\"<\"&fecha_inicial,Registros!C:C,\"=\"&A40)))","v":0},{"$f":"IF(ISBLANK(A40),0,SUMIFS(Registros!G:G,Registros!B:B,\">=\"&fecha_inicial, Registros!B:B, \"<=\"&fecha_final,Registros!C:C,\"=\"&A40))","v":0},{"$f":"IF(ISBLANK(A40),0,SUMIFS(Registros!H:H,Registros!B:B,\">=\"&fecha_inicial, Registros!B:B, \"<=\"&fecha_final,Registros!C:C,\"=\"&A40))","v":0},0]
[null,"",{"$f":"IF(ISBLANK(A41),0,SUMIFS(Registros!H:H,Registros!B:B,\"<\"&fecha_inicial,Registros!C:C,\"=\"&A41)-IF(ISBLANK(A41),0,SUMIFS(Registros!G:G,Registros!B:B,\"<\"&fecha_inicial,Registros!C:C,\"=\"&A41)))","v":0},{"$f":"IF(ISBLANK(A41),0,SUMIFS(Registros!G:G,Registros!B:B,\">=\"&fecha_inicial, Registros!B:B, \"<=\"&fecha_final,Registros!C:C,\"=\"&A41))","v":0},{"$f":"IF(ISBLANK(A41),0,SUMIFS(Registros!H:H,Registros!B:B,\">=\"&fecha_inicial, Registros!B:B, \"<=\"&fecha_final,Registros!C:C,\"=\"&A41))","v":0},0]
[null,"",{"$f":"IF(ISBLANK(A42),0,SUMIFS(Registros!H:H,Registros!B:B,\"<\"&fecha_inicial,Registros!C:C,\"=\"&A42)-IF(ISBLANK(A42),0,SUMIFS(Registros!G:G,Registros!B:B,\"<\"&fecha_inicial,Registros!C:C,\"=\"&A42)))","v":0},{"$f":"IF(ISBLANK(A42),0,SUMIFS(Registros!G:G,Registros!B:B,\">=\"&fecha_inicial, Registros!B:B, \"<=\"&fecha_final,Registros!C:C,\"=\"&A42))","v":0},{"$f":"IF(ISBLANK(A42),0,SUMIFS(Registros!H:H,Registros!B:B,\">=\"&fecha_inicial, Registros!B:B, \"<=\"&fecha_final,Registros!C:C,\"=\"&A42))","v":0},0]
[null,"",{"$f":"IF(ISBLANK(A43),0,SUMIFS(Registros!H:H,Registros!B:B,\"<\"&fecha_inicial,Registros!C:C,\"=\"&A43)-IF(ISBLANK(A43),0,SUMIFS(Registros!G:G,Registros!B:B,\"<\"&fecha_inicial,Registros!C:C,\"=\"&A43)))","v":0},{"$f":"IF(ISBLANK(A43),0,SUMIFS(Registros!G:G,Registros!B:B,\">=\"&fecha_inicial, Registros!B:B, \"<=\"&fecha_final,Registros!C:C,\"=\"&A43))","v":0},{"$f":"IF(ISBLANK(A43),0,SUMIFS(Registros!H:H,Registros!B:B,\">=\"&fecha_inicial, Registros!B:B, \"<=\"&fecha_final,Registros!C:C,\"=\"&A43))","v":0},0]
[null,"",{"$f":"IF(ISBLANK(A44),0,SUMIFS(Registros!H:H,Registros!B:B,\"<\"&fecha_inicial,Registros!C:C,\"=\"&A44)-IF(ISBLANK(A44),0,SUMIFS(Registros!G:G,Registros!B:B,\"<\"&fecha_inicial,Registros!C:C,\"=\"&A44)))","v":0},{"$f":"IF(ISBLANK(A44),0,SUMIFS(Registros!G:G,Registros!B:B,\">=\"&fecha_inicial, Registros!B:B, \"<=\"&fecha_final,Registros!C:C,\"=\"&A44))","v":0},{"$f":"IF(ISBLANK(A44),0,SUMIFS(Registros!H:H,Registros!B:B,\">=\"&fecha_inicial, Registros!B:B, \"<=\"&fecha_final,Registros!C:C,\"=\"&A44))","v":0},0]
[null,"",{"$f":"IF(ISBLANK(A45),0,SUMIFS(Registros!H:H,Registros!B:B,\"<\"&fecha_inicial,Registros!C:C,\"=\"&A45)-IF(ISBLANK(A45),0,SUMIFS(Registros!G:G,Registros!B:B,\"<\"&fecha_inicial,Registros!C:C,\"=\"&A45)))","v":0},{"$f":"IF(ISBLANK(A45),0,SUMIFS(Registros!G:G,Registros!B:B,\">=\"&fecha_inicial, Registros!B:B, \"<=\"&fecha_final,Registros!C:C,\"=\"&A45))","v":0},{"$f":"IF(ISBLANK(A45),0,SUMIFS(Registros!H:H,Registros!B:B,\">=\"&fecha_inicial, Registros!B:B, \"<=\"&fecha_final,Registros!C:C,\"=\"&A45))","v":0},0]
[null,"",{"$f":"SUM(C47:C52)","v":0},{"$f":"SUM(D47:D52)","v":0},{"$f":"SUM(E47:E52)","v":0},0]
[null,{"$f":"IF(A47<>\"\", IF(ISERROR(VLOOKUP(A47, plan_cuentas,2, FALSE)), \"Código de Cuenta Incorrecto\", UPPER(VLOOKUP(A47, plan_cuentas, 2, FALSE))), \"\")","v":""},{"$f":"IF(ISBLANK(A47),0,SUMIFS(Registros!H:H,Registros!B:B,\"<\"&fecha_inicial,Registros!C:C,\"=\"&A47)-IF(ISBLANK(A47),0,SUMIFS(Registros!G:G,Registros!B:B,\"<\"&fecha_inicial,Registros!C:C,\"=\"&A47)))","v":0},{"$f":"IF(ISBLANK(A47),0,SUMIFS(Registros!G:G,Registros!B:B,\">=\"&fecha_inicial, Registros!B:B, \"<=\"&fecha_final,Registros!C:C,\"=\"&A47))","v":0},{"$f":"IF(ISBLANK(A47),0,SUMIFS(Registros!H:H,Registros!B:B,\">=\"&fecha_inicial, Registros!B:B, \"<=\"&fecha_final,Registros!C:C,\"=\"&A47))","v":0},0]
[null,{"$f":"IF(A48<>0, IF(ISERROR(VLOOKUP(A48, plan_cuentas,2, FALSE)), \"Código de Cuenta Incorrecto\", UPPER(VLOOKUP(A48, plan_cuentas, 2, FALSE))), \"\")","v":""},{"$f":"IF(ISBLANK(A48),0,SUMIFS(Registros!H:H,Registros!B:B,\"<\"&fecha_inicial,Registros!C:C,\"=\"&A48)-IF(ISBLANK(A48),0,SUMIFS(Registros!G:G,Registros!B:B,\"<\"&fecha_inicial,Registros!C:C,\"=\"&A48)))","v":0},{"$f":"IF(ISBLANK(A48),0,SUMIFS(Registros!G:G,Registros!B:B,\">=\"&fecha_inicial, Registros!B:B, \"<=\"&fecha_final,Registros!C:C,\"=\"&A48))","v":0},{"$f":"IF(ISBLANK(A48),0,SUMIFS(Registros!H:H,Registros!B:B,\">=\"&fecha_inicial, Registros!B:B, \"<=\"&fecha_final,Registros!C:C,\"=\"&A48))","v":0},0]
[null,{"$f":"IF(A49<>0, IF(ISERROR(VLOOKUP(A49, plan_cuentas,2, FALSE)), \"Código de Cuenta Incorrecto\", UPPER(VLOOKUP(A49, plan_cuentas, 2, FALSE))), \"\")","v":""},{"$f":"IF(ISBLANK(A49),0,SUMIFS(Registros!H:H,Registros!B:B,\"<\"&fecha_inicial,Registros!C:C,\"=\"&A49)-IF(ISBLANK(A49),0,SUMIFS(Registros!G:G,Registros!B:B,\"<\"&fecha_inicial,Registros!C:C,\"=\"&A49)))","v":0},{"$f":"IF(ISBLANK(A49),0,SUMIFS(Registros!G:G,Registros!B:B,\">=\"&fecha_inicial, Registros!B:B, \"<=\"&fecha_final,Registros!C:C,\"=\"&A49))","v":0},{"$f":"IF(ISBLANK(A49),0,SUMIFS(Registros!H:H,Registros!B:B,\">=\"&fecha_inicial, Registros!B:B, \"<=\"&fecha_final,Registros!C:C,\"=\"&A49))","v":0},0]
[null,{"$f":"IF(A50<>0, IF(ISERROR(VLOOKUP(A50, plan_cuentas,2, FALSE)), \"Código de Cuenta Incorrecto\", UPPER(VLOOKUP(A50, plan_cuentas, 2, FALSE))), \"\")","v":""},{"$f":"IF(ISBLANK(A50),0,SUMIFS(Registros!H:H,Registros!B:B,\"<\"&fecha_inicial,Registros!C:C,\"=\"&A50)-IF(ISBLANK(A50),0,SUMIFS(Registros!G:G,Registros!B:B,\"<\"&fecha_inicial,Registros!C:C,\"=\"&A50)))","v":0},{"$f":"IF(ISBLANK(A50),0,SUMIFS(Registros!G:G,Registros!B:B,\">=\"&fecha_inicial, Registros!B:B, \"<=\"&fecha_final,Registros!C:C,\"=\"&A50))","v":0},{"$f":"IF(ISBLANK(A50),0,SUMIFS(Registros!H:H,Registros!B:B,\">=\"&fecha_inicial, Registros!B:B, \"<=\"&fecha_final,Registros!C:C,\"=\"&A50))","v":0},0]
[null,{"$f":"IF(A51<>0, IF(ISERROR(VLOOKUP(A51, plan_cuentas,2, FALSE)), \"Código de Cuenta Incorrecto\", UPPER(VLOOKUP(A51, plan_cuentas, 2, FALSE))), \"\")","v":""},{"$f":"IF(ISBLANK(A51),0,SUMIFS(Registros!H:H,Registros!B:B,\"<\"&fecha_inicial,Registros!C:C,\"=\"&A51)-IF(ISBLANK(A51),0,SUMIFS(Registros!G:G,Registros!B:B,\"<\"&fecha_inicial,Registros!C:C,\"=\"&A51)))","v":0},{"$f":"IF(ISBLANK(A51),0,SUMIFS(Registros!G:G,Registros!B:B,\">=\"&fecha_inicial, Registros!B:B, \"<=\"&fecha_final,Registros!C:C,\"=\"&A51))","v":0},{"$f":"IF(ISBLANK(A51),0,SUMIFS(Registros!H:H,Registros!B:B,\">=\"&fecha_inicial, Registros!B:B, \"<=\"&fecha_final,Registros!C:C,\"=\"&A51))","v":0},0]
[null,{"$f":"IF(A52<>0, IF(ISERROR(VLOOKUP(A52, plan_cuentas,2, FALSE)), \"Código de Cuenta Incorrecto\", UPPER(VLOOKUP(A52, plan_cuentas, 2, FALSE))), \"\")","v":""},{"$f":"IF(ISBLANK(A52),0,SUMIFS(Registros!H:H,Registros!B:B,\"<\"&fecha_inicial,Registros!C:C,\"=\"&A52)-IF(ISBLANK(A52),0,SUMIFS(Registros!G:G,Registros!B:B,\"<\"&fecha_inicial,Registros!C:C,\"=\"&A52)))","v":0},{"$f":"IF(ISBLANK(A52),0,SUMIFS(Registros!G:G,Registros!B:B,\">=\"&fecha_inicial, Registros!B:B, \"<=\"&fecha_final,Registros!C:C,\"=\"&A52))","v":0},{"$f":"IF(ISBLANK(A52),0,SUMIFS(Registros!H:H,Registros!B:B,\">=\"&fecha_inicial, Registros!B:B, \"<=\"&fecha_final,Registros!C:C,\"=\"&A52))","v":0},0]
[null,"",{"$f":"SUM(C54:C59)","v":0},{"$f":"SUM(D54:D59)","v":0},{"$f":"SUM(E54:E59)","v":0},0]
[null,"",{"$f":"IF(ISBLANK(A54),0,SUMIFS(Registros!H:H,Registros!B:B,\"<\"&fecha_inicial,Registros!C:C,\"=\"&A54)-IF(ISBLANK(A54),0,SUMIFS(Registros!G:G,Registros!B:B,\"<\"&fecha_inicial,Registros!C:C,\"=\"&A54)))","v":0},{"$f":"IF(ISBLANK(A54),0,SUMIFS(Registros!G:G,Registros!B:B,\">=\"&fecha_inicial, Registros!B:B, \"<=\"&fecha_final,Registros!C:C,\"=\"&A54))","v":0},{"$f":"IF(ISBLANK(A54),0,SUMIFS(Registros!H:H,Registros!B:B,\">=\"&fecha_inicial, Registros!B:B, \"<=\"&fecha_final,Registros!C:C,\"=\"&A54))","v":0},0]
[null,"",{"$f":"IF(ISBLANK(A55),0,SUMIFS(Registros!H:H,Registros!B:B,\"<\"&fecha_inicial,Registros!C:C,\"=\"&A55)-IF(ISBLANK(A55),0,SUMIFS(Registros!G:G,Registros!B:B,\"<\"&fecha_inicial,Registros!C:C,\"=\"&A55)))","v":0},{"$f":"IF(ISBLANK(A55),0,SUMIFS(Registros!G:G,Registros!B:B,\">=\"&fecha_inicial, Registros!B:B, \"<=\"&fecha_final,Registros!C:C,\"=\"&A55))","v":0},{"$f":"IF(ISBLANK(A55),0,SUMIFS(Registros!H:H,Registros!B:B,\">=\"&fecha_inicial, Registros!B:B, \"<=\"&fecha_final,Registros!C:C,\"=\"&A55))","v":0},0]
[null,"",{"$f":"IF(ISBLANK(A56),0,SUMIFS(Registros!H:H,Registros!B:B,\"<\"&fecha_inicial,Registros!C:C,\"=\"&A56)-IF(ISBLANK(A56),0,SUMIFS(Registros!G:G,Registros!B:B,\"<\"&fecha_inicial,Registros!C:C,\"=\"&A56)))","v":0},{"$f":"IF(ISBLANK(A56),0,SUMIFS(Registros!G:G,Registros!B:B,\">=\"&fecha_inicial, Registros!B:B, \"<=\"&fecha_final,Registros!C:C,\"=\"&A56))","v":0},{"$f":"IF(ISBLANK(A56),0,SUMIFS(Registros!H:H,Registros!B:B,\">=\"&fecha_inicial, Registros!B:B, \"<=\"&fecha_final,Registros!C:C,\"=\"&A56))","v":0},0]
[null,"",{"$f":"IF(ISBLANK(A57),0,SUMIFS(Registros!H:H,Registros!B:B,\"<\"&fecha_inicial,Registros!C:C,\"=\"&A57)-IF(ISBLANK(A57),0,SUMIFS(Registros!G:G,Registros!B:B,\"<\"&fecha_inicial,Registros!C:C,\"=\"&A57)))","v":0},{"$f":"IF(ISBLANK(A57),0,SUMIFS(Registros!G:G,Registros!B:B,\">=\"&fecha_inicial, Registros!B:B, \"<=\"&fecha_final,Registros!C:C,\"=\"&A57))","v":0},{"$f":"IF(ISBLANK(A57),0,SUMIFS(Registros!H:H,Registros!B:B,\">=\"&fecha_inicial, Registros!B:B, \"<=\"&fecha_final,Registros!C:C,\"=\"&A57))","v":0},0]
[null,{"$f":"IF(A58<>0, IF(ISERROR(VLOOKUP(A58, plan_cuentas,2, FALSE)), \"Código de Cuenta Incorrecto\", UPPER(VLOOKUP(A58, plan_cuentas, 2, FALSE))), \"\")","v":""},{"$f":"IF(ISBLANK(A58),0,SUMIFS(Registros!H:H,Registros!B:B,\"<\"&fecha_inicial,Registros!C:C,\"=\"&A58)-IF(ISBLANK(A58),0,SUMIFS(Registros!G:G,Registros!B:B,\"<\"&fecha_inicial,Registros!C:C,\"=\"&A58)))","v":0},{"$f":"IF(ISBLANK(A58),0,SUMIFS(Registros!G:G,Registros!B:B,\">=\"&fecha_inicial, Registros!B:B, \"<=\"&fecha_final,Registros!C:C,\"=\"&A58))","v":0},{"$f":"IF(ISBLANK(A58),0,SUMIFS(Registros!H:H,Registros!B:B,\">=\"&fecha_inicial, Registros!B:B, \"<=\"&fecha_final,Registros!C:C,\"=\"&A58))","v":0},0]
[null,"",{"$f":"IF(ISBLANK(A59),0,SUMIFS(Registros!H:H,Registros!B:B,\"<\"&fecha_inicial,Registros!C:C,\"=\"&A59)-IF(ISBLANK(A59),0,SUMIFS(Registros!G:G,Registros!B:B,\"<\"&fecha_inicial,Registros!C:C,\"=\"&A59)))","v":0},{"$f":"IF(ISBLANK(A59),0,SUMIFS(Registros!G:G,Registros!B:B,\">=\"&fecha_inicial, Registros!B:B, \"<=\"&fecha_final,Registros!C:C,\"=\"&A59))","v":0},{"$f":"IF(ISBLANK(A59),0,SUMIFS(Registros!H:H,Registros!B:B,\">=\"&fecha_inicial, Registros!B:B, \"<=\"&fecha_final,Registros!C:C,\"=\"&A59))","v":0},0]
[{"$f":"\"SALDO FINAL DE LA CUENTA AL \" &TEXT(fecha_final, \"dd\")&\" DE \"&UPPER(TEXT(fecha_final, \"MMMM\"))&\" DEL \"& TEXT(fecha_final, \"YYYY\")","v":"SALDO FINAL DE LA CUENTA AL 31 DE JULIO DEL 2014"},null,{"$f":"C11+C18+C25+C46+C32+C39+C53","v":0},{"$f":"D11+D18+D25+D46+D32+D39+D53","v":0},{"$f":"E11+E18+E25+E46+E32+E39+E53","v":1746354.23},1746354.23]
[]
[]
[]
[]
["AUTORIZADO POR:",null,null,null,"REVISADO POR:"]
[{"$f":"VLOOKUP(A65, Usuarios!B7:E9, 3, FALSE)","v":"Rodrigo Castro Potoy"},null,null,null,{"$f":"VLOOKUP(E65, Usuarios!B7:E9, 3, FALSE)","v":0}]

{"sheet":"520000","index":26,"n_rows":66,"n_cols":6,"rows_kept":66,"cut":false,"hidden":false,"merged":[[70,2,70,3],[65,0,65,1],[65,4,65,5],[66,0,66,1],[66,4,66,5],[68,2,68,3],[69,2,69,3],[7,5,8,5],[59,0,59,1],[63,0,63,1],[63,4,63,5],[64,0,64,1],[64,4,64,5],[7,0,8,0],[7,1,8,1],[7,2,8,2],[7,3,8,3],[7,4,8,4],[1,0,1,5],[2,0,2,5],[3,0,3,5],[4,0,4,5],[6,3,6,5]]}
[null,null,null,null,"Desproteger"]
[{"$f":"bussiness_name","v":"SOCIEDAD CIVIL COMUNIDAD CONNECT"}]
[{"$f":"\"RESUMEN CONTABLE DE \"&B7","v":"RESUMEN CONTABLE DE OTROS INGRESOS"}]
[{"$f":"\"DEL \"&TEXT(fecha_inicial, \"DD\")&\" DE \"&UPPER(TEXT(fecha_inicial, \"MMMM\"))&\" DEL \" & TEXT(fecha_inicial, \"YYYY\") & \" AL \"&TEXT(fecha_final, \"DD\")&\" DE \"&UPPER(TEXT(fecha_final, \"MMMM\"))&\" DEL \"&TEXT(fecha_final, \"YYYY\")","v":"DEL 01 DE JULIO DEL 2014 AL 31 DE JULIO DEL 2014"}]
[{"$f":"address & \" *** Tel/Fax:  \" & tel & \" *** \" & email","v":"Esquina sureste del Parque Central, San Juan del sur, Nicaragua. *** Tel/Fax:  25682731 *** info@comunidadconnect.org"}]
[]
[520000,{"$f":"UPPER(IF(ISBLANK(A7),\"\",IFERROR(VLOOKUP(A7,plan_cuentas,2,FALSE),\"Código de cuenta incorrecto\")))","v":"OTROS INGRESOS"},null,{"$f":"\"MOVIMIENTOS DE \"&UPPER(TEXT(fecha_final, \"MMMM\"))","v":"MOVIMIENTOS DE JULIO"}]
["CODIGO","NOMBRE DE LA CUENTA","SALDO INICIAL","DEBITOS","CREDITOS","SALDO FINAL"]
[]
[]
[520100,{"$f":"IF(A11<>\"\", IF(ISERROR(VLOOKUP(A11, plan_cuentas,2, FALSE)), \"Código de Cuenta Incorrecto\", UPPER(VLOOKUP(A11, plan_cuentas, 2, FALSE))), \"\")","v":"OTROS INGRESOS"},{"$f":"SUM(C12:C17)","v":10935},{"$f":"SUM(D12:D17)","v":0},{"$f":"SUM(E12:E17)","v":0},{"$f":"C11+E11-D11","v":10935}]
[520101,{"$f":"IF(A12<>\"\", IF(ISERROR(VLOOKUP(A12, plan_cuentas,2, FALSE)), \"Código de Cuenta Incorrecto\", UPPER(VLOOKUP(A12, plan_cuentas, 2, FALSE))), \"\")","v":"OTROS INGRESOS"},{"$f":"IF(ISBLANK(A12),0,SUMIFS(Registros!H:H,Registros!B:B,\"<\"&fecha_inicial,Registros!C:C,\"=\"&A12)-IF(ISBLANK(A12),0,SUMIFS(Registros!G:G,Registros!B:B,\"<\"&fecha_inicial,Registros!C:C,\"=\"&A12)))","v":10935},{"$f":"IF(ISBLANK(A12),0,SUMIFS(Registros!G:G,Registros!B:B,\">=\"&fecha_inicial, Registros!B:B, \"<=\"&fecha_final,Registros!C:C,\"=\"&A12))","v":0},{"$f":"IF(ISBLANK(A12),0,SUMIFS(Registros!H:H,Registros!B:B,\">=\"&fecha_inicial, Registros!B:B, \"<=\"&fecha_final,Registros!C:C,\"=\"&A12))","v":0},{"$f":"C12+E12-D12","v":10935}]
[null,{"$f":"IF(A13<>0, IF(ISERROR(VLOOKUP(A13, plan_cuentas,2, FALSE)), \"Código de Cuenta Incorrecto\", UPPER(VLOOKUP(A13, plan_cuentas, 2, FALSE))), \"\")","v":""},{"$f":"IF(ISBLANK(A13),0,SUMIFS(Registros!H:H,Registros!B:B,\"<\"&fecha_inicial,Registros!C:C,\"=\"&A13)-IF(ISBLANK(A13),0,SUMIFS(Registros!G:G,Registros!B:B,\"<\"&fecha_inicial,Registros!C:C,\"=\"&A13)))","v":0},{"$f":"IF(ISBLANK(A13),0,SUMIFS(Registros!G:G,Registros!B:B,\">=\"&fecha_inicial, Registros!B:B, \"<=\"&fecha_final,Registros!C:C,\"=\"&A13))","v":0},{"$f":"IF(ISBLANK(A13),0,SUMIFS(Registros!H:H,Registros!B:B,\">=\"&fecha_inicial, Registros!B:B, \"<=\"&fecha_final,Registros!C:C,\"=\"&A13))","v":0},0]
[null,"",{"$f":"IF(ISBLANK(A14),0,SUMIFS(Registros!H:H,Registros!B:B,\"<\"&fecha_inicial,Registros!C:C,\"=\"&A14)-IF(ISBLANK(A14),0,SUMIFS(Registros!G:G,Registros!B:B,\"<\"&fecha_inicial,Registros!C:C,\"=\"&A14)))","v":0},{"$f":"IF(ISBLANK(A14),0,SUMIFS(Registros!G:G,Registros!B:B,\">=\"&fecha_inicial, Registros!B:B, \"<=\"&fecha_final,Registros!C:C,\"=\"&A14))","v":0},{"$f":"IF(ISBLANK(A14),0,SUMIFS(Registros!H:H,Registros!B:B,\">=\"&fecha_inicial, Registros!B:B, \"<=\"&fecha_final,Registros!C:C,\"=\"&A14))","v":0},0]
[null,"",{"$f":"IF(ISBLANK(A15),0,SUMIFS(Registros!H:H,Registros!B:B,\"<\"&fecha_inicial,Registros!C:C,\"=\"&A15)-IF(ISBLANK(A15),0,SUMIFS(Registros!G:G,Registros!B:B,\"<\"&fecha_inicial,Registros!C:C,\"=\"&A15)))","v":0},{"$f":"IF(ISBLANK(A15),0,SUMIFS(Registros!G:G,Registros!B:B,\">=\"&fecha_inicial, Registros!B:B, \"<=\"&fecha_final,Registros!C:C,\"=\"&A15))","v":0},{"$f":"IF(ISBLANK(A15),0,SUMIFS(Registros!H:H,Registros!B:B,\">=\"&fecha_inicial, Registros!B:B, \"<=\"&fecha_final,Registros!C:C,\"=\"&A15))","v":0},0]
[null,"",{"$f":"IF(ISBLANK(A16),0,SUMIFS(Registros!H:H,Registros!B:B,\"<\"&fecha_inicial,Registros!C:C,\"=\"&A16)-IF(ISBLANK(A16),0,SUMIFS(Registros!G:G,Registros!B:B,\"<\"&fecha_inicial,Registros!C:C,\"=\"&A16)))","v":0},{"$f":"IF(ISBLANK(A16),0,SUMIFS(Registros!G:G,Registros!B:B,\">=\"&fecha_inicial, Registros!B:B, \"<=\"&fecha_final,Registros!C:C,\"=\"&A16))","v":0},{"$f":"IF(ISBLANK(A16),0,SUMIFS(Registros!H:H,Registros!B:B,\">=\"&fecha_inicial, Registros!B:B, \"<=\"&fecha_final,Registros!C:C,\"=\"&A16))","v":0},0]
[null,"",{"$f":"IF(ISBLANK(A17),0,SUMIFS(Registros!H:H,Registros!B:B,\"<\"&fecha_inicial,Registros!C:C,\"=\"&A17)-IF(ISBLANK(A17),0,SUMIFS(Registros!G:G,Registros!B:B,\"<\"&fecha_inicial,Registros!C:C,\"=\"&A17)))","v":0},{"$f":"IF(ISBLANK(A17),0,SUMIFS(Registros!G:G,Registros!B:B,\">=\"&fecha_inicial, Registros!B:B, \"<=\"&fecha_final,Registros!C:C,\"=\"&A17))","v":0},{"$f":"IF(ISBLANK(A17),0,SUMIFS(Registros!H:H,Registros!B:B,\">=\"&fecha_inicial, Registros!B:B, \"<=\"&fecha_final,Registros!C:C,\"=\"&A17))","v":0},0]
[null,"",{"$f":"SUM(C19:C24)","v":0},{"$f":"SUM(D19:D24)","v":0},{"$f":"SUM(E19:E24)","v":0},0]
[null,{"$f":"IF(A19<>\"\", IF(ISERROR(VLOOKUP(A19, plan_cuentas,2, FALSE)), \"Código de Cuenta Incorrecto\", UPPER(VLOOKUP(A19, plan_cuentas, 2, FALSE))), \"\")","v":""},{"$f":"IF(ISBLANK(A19),0,SUMIFS(Registros!H:H,Registros!B:B,\"<\"&fecha_inicial,Registros!C:C,\"=\"&A19)-IF(ISBLANK(A19),0,SUMIFS(Registros!G:G,Registros!B:B,\"<\"&fecha_inicial,Registros!C:C,\"=\"&A19)))","v":0},{"$f":"IF(ISBLANK(A19),0,SUMIFS(Registros!G:G,Registros!B:B,\">=\"&fecha_inicial, Registros!B:B, \"<=\"&fecha_final,Registros!C:C,\"=\"&A19))","v":0},{"$f":"IF(ISBLANK(A19),0,SUMIFS(Registros!H:H,Registros!B:B,\">=\"&fecha_inicial, Registros!B:B, \"<=\"&fecha_final,Registros!C:C,\"=\"&A19))","v":0},0]
[null,"",{"$f":"IF(ISBLANK(A20),0,SUMIFS(Registros!H:H,Registros!B:B,\"<\"&fecha_inicial,Registros!C:C,\"=\"&A20)-IF(ISBLANK(A20),0,SUMIFS(Registros!G:G,Registros!B:B,\"<\"&fecha_inicial,Registros!C:C,\"=\"&A20)))","v":0},{"$f":"IF(ISBLANK(A20),0,SUMIFS(Registros!G:G,Registros!B:B,\">=\"&fecha_inicial, Registros!B:B, \"<=\"&fecha_final,Registros!C:C,\"=\"&A20))","v":0},{"$f":"IF(ISBLANK(A20),0,SUMIFS(Registros!H:H,Registros!B:B,\">=\"&fecha_inicial, Registros!B:B, \"<=\"&fecha_final,Registros!C:C,\"=\"&A20))","v":0},0]
[null,"",{"$f":"IF(ISBLANK(A21),0,SUMIFS(Registros!H:H,Registros!B:B,\"<\"&fecha_inicial,Registros!C:C,\"=\"&A21)-IF(ISBLANK(A21),0,SUMIFS(Registros!G:G,Registros!B:B,\"<\"&fecha_inicial,Registros!C:C,\"=\"&A21)))","v":0},{"$f":"IF(ISBLANK(A21),0,SUMIFS(Registros!G:G,Registros!B:B,\">=\"&fecha_inicial, Registros!B:B, \"<=\"&fecha_final,Registros!C:C,\"=\"&A21))","v":0},{"$f":"IF(ISBLANK(A21),0,SUMIFS(Registros!H:H,Registros!B:B,\">=\"&fecha_inicial, Registros!B:B, \"<=\"&fecha_final,Registros!C:C,\"=\"&A21))","v":0},0]
[null,"",{"$f":"IF(ISBLANK(A22),0,SUMIFS(Registros!H:H,Registros!B:B,\"<\"&fecha_inicial,Registros!C:C,\"=\"&A22)-IF(ISBLANK(A22),0,SUMIFS(Registros!G:G,Registros!B:B,\"<\"&fecha_inicial,Registros!C:C,\"=\"&A22)))","v":0},{"$f":"IF(ISBLANK(A22),0,SUMIFS(Registros!G:G,Registros!B:B,\">=\"&fecha_inicial, Registros!B:B, \"<=\"&fecha_final,Registros!C:C,\"=\"&A22))","v":0},{"$f":"IF(ISBLANK(A22),0,SUMIFS(Registros!H:H,Registros!B:B,\">=\"&fecha_inicial, Registros!B:B, \"<=\"&fecha_final,Registros!C:C,\"=\"&A22))","v":0},0]
[null,"",{"$f":"IF(ISBLANK(A23),0,SUMIFS(Registros!H:H,Registros!B:B,\"<\"&fecha_inicial,Registros!C:C,\"=\"&A23)-IF(ISBLANK(A23),0,SUMIFS(Registros!G:G,Registros!B:B,\"<\"&fecha_inicial,Registros!C:C,\"=\"&A23)))","v":0},{"$f":"IF(ISBLANK(A23),0,SUMIFS(Registros!G:G,Registros!B:B,\">=\"&fecha_inicial, Registros!B:B, \"<=\"&fecha_final,Registros!C:C,\"=\"&A23))","v":0},{"$f":"IF(ISBLANK(A23),0,SUMIFS(Registros!H:H,Registros!B:B,\">=\"&fecha_inicial, Registros!B:B, \"<=\"&fecha_final,Registros!C:C,\"=\"&A23))","v":0},0]
[null,"",{"$f":"IF(ISBLANK(A24),0,SUMIFS(Registros!H:H,Registros!B:B,\"<\"&fecha_inicial,Registros!C:C,\"=\"&A24)-IF(ISBLANK(A24),0,SUMIFS(Registros!G:G,Registros!B:B,\"<\"&fecha_inicial,Registros!C:C,\"=\"&A24)))","v":0},{"$f":"IF(ISBLANK(A24),0,SUMIFS(Registros!G:G,Registros!B:B,\">=\"&fecha_inicial, Registros!B:B, \"<=\"&fecha_final,Registros!C:C,\"=\"&A24))","v":0},{"$f":"IF(ISBLANK(A24),0,SUMIFS(Registros!H:H,Registros!B:B,\">=\"&fecha_inicial, Registros!B:B, \"<=\"&fecha_final,Registros!C:C,\"=\"&A24))","v":0},0]
[null,"",{"$f":"SUM(C26:C31)","v":0},{"$f":"SUM(D26:D31)","v":0},{"$f":"SUM(E26:E31)","v":0},0]
[null,{"$f":"IF(A26<>\"\", IF(ISERROR(VLOOKUP(A26, plan_cuentas,2, FALSE)), \"Código de Cuenta Incorrecto\", UPPER(VLOOKUP(A26, plan_cuentas, 2, FALSE))), \"\")","v":""},{"$f":"IF(ISBLANK(A26),0,SUMIFS(Registros!H:H,Registros!B:B,\"<\"&fecha_inicial,Registros!C:C,\"=\"&A26)-IF(ISBLANK(A26),0,SUMIFS(Registros!G:G,Registros!B:B,\"<\"&fecha_inicial,Registros!C:C,\"=\"&A26)))","v":0},{"$f":"IF(ISBLANK(A26),0,SUMIFS(Registros!G:G,Registros!B:B,\">=\"&fecha_inicial, Registros!B:B, \"<=\"&fecha_final,Registros!C:C,\"=\"&A26))","v":0},{"$f":"IF(ISBLANK(A26),0,SUMIFS(Registros!H:H,Registros!B:B,\">=\"&fecha_inicial, Registros!B:B, \"<=\"&fecha_final,Registros!C:C,\"=\"&A26))","v":0},0]
[null,"",{"$f":"IF(ISBLANK(A27),0,SUMIFS(Registros!H:H,Registros!B:B,\"<\"&fecha_inicial,Registros!C:C,\"=\"&A27)-IF(ISBLANK(A27),0,SUMIFS(Registros!G:G,Registros!B:B,\"<\"&fecha_inicial,Registros!C:C,\"=\"&A27)))","v":0},{"$f":"IF(ISBLANK(A27),0,SUMIFS(Registros!G:G,Registros!B:B,\">=\"&fecha_inicial, Registros!B:B, \"<=\"&fecha_final,Registros!C:C,\"=\"&A27))","v":0},{"$f":"IF(ISBLANK(A27),0,SUMIFS(Registros!H:H,Registros!B:B,\">=\"&fecha_inicial, Registros!B:B, \"<=\"&fecha_final,Registros!C:C,\"=\"&A27))","v":0},0]
[null,"",{"$f":"IF(ISBLANK(A28),0,SUMIFS(Registros!H:H,Registros!B:B,\"<\"&fecha_inicial,Registros!C:C,\"=\"&A28)-IF(ISBLANK(A28),0,SUMIFS(Registros!G:G,Registros!B:B,\"<\"&fecha_inicial,Registros!C:C,\"=\"&A28)))","v":0},{"$f":"IF(ISBLANK(A28),0,SUMIFS(Registros!G:G,Registros!B:B,\">=\"&fecha_inicial, Registros!B:B, \"<=\"&fecha_final,Registros!C:C,\"=\"&A28))","v":0},{"$f":"IF(ISBLANK(A28),0,SUMIFS(Registros!H:H,Registros!B:B,\">=\"&fecha_inicial, Registros!B:B, \"<=\"&fecha_final,Registros!C:C,\"=\"&A28))","v":0},0]
[null,"",{"$f":"IF(ISBLANK(A29),0,SUMIFS(Registros!H:H,Registros!B:B,\"<\"&fecha_inicial,Registros!C:C,\"=\"&A29)-IF(ISBLANK(A29),0,SUMIFS(Registros!G:G,Registros!B:B,\"<\"&fecha_inicial,Registros!C:C,\"=\"&A29)))","v":0},{"$f":"IF(ISBLANK(A29),0,SUMIFS(Registros!G:G,Registros!B:B,\">=\"&fecha_inicial, Registros!B:B, \"<=\"&fecha_final,Registros!C:C,\"=\"&A29))","v":0},{"$f":"IF(ISBLANK(A29),0,SUMIFS(Registros!H:H,Registros!B:B,\">=\"&fecha_inicial, Registros!B:B, \"<=\"&fecha_final,Registros!C:C,\"=\"&A29))","v":0},0]
[null,"",{"$f":"IF(ISBLANK(A30),0,SUMIFS(Registros!H:H,Registros!B:B,\"<\"&fecha_inicial,Registros!C:C,\"=\"&A30)-IF(ISBLANK(A30),0,SUMIFS(Registros!G:G,Registros!B:B,\"<\"&fecha_inicial,Registros!C:C,\"=\"&A30)))","v":0},{"$f":"IF(ISBLANK(A30),0,SUMIFS(Registros!G:G,Registros!B:B,\">=\"&fecha_inicial, Registros!B:B, \"<=\"&fecha_final,Registros!C:C,\"=\"&A30))","v":0},{"$f":"IF(ISBLANK(A30),0,SUMIFS(Registros!H:H,Registros!B:B,\">=\"&fecha_inicial, Registros!B:B, \"<=\"&fecha_final,Registros!C:C,\"=\"&A30))","v":0},0]
[null,"",{"$f":"IF(ISBLANK(A31),0,SUMIFS(Registros!H:H,Registros!B:B,\"<\"&fecha_inicial,Registros!C:C,\"=\"&A31)-IF(ISBLANK(A31),0,SUMIFS(Registros!G:G,Registros!B:B,\"<\"&fecha_inicial,Registros!C:C,\"=\"&A31)))","v":0},{"$f":"IF(ISBLANK(A31),0,SUMIFS(Registros!G:G,Registros!B:B,\">=\"&fecha_inicial, Registros!B:B, \"<=\"&fecha_final,Registros!C:C,\"=\"&A31))","v":0},{"$f":"IF(ISBLANK(A31),0,SUMIFS(Registros!H:H,Registros!B:B,\">=\"&fecha_inicial, Registros!B:B, \"<=\"&fecha_final,Registros!C:C,\"=\"&A31))","v":0},0]
[null,"",{"$f":"SUM(C33:C38)","v":0},{"$f":"SUM(D33:D38)","v":0},{"$f":"SUM(E33:E38)","v":0},0]
[null,"",{"$f":"IF(ISBLANK(A33),0,SUMIFS(Registros!H:H,Registros!B:B,\"<\"&fecha_inicial,Registros!C:C,\"=\"&A33)-IF(ISBLANK(A33),0,SUMIFS(Registros!G:G,Registros!B:B,\"<\"&fecha_inicial,Registros!C:C,\"=\"&A33)))","v":0},{"$f":"IF(ISBLANK(A33),0,SUMIFS(Registros!G:G,Registros!B:B,\">=\"&fecha_inicial, Registros!B:B, \"<=\"&fecha_final,Registros!C:C,\"=\"&A33))","v":0},{"$f":"IF(ISBLANK(A33),0,SUMIFS(Registros!H:H,Registros!B:B,\">=\"&fecha_inicial, Registros!B:B, \"<=\"&fecha_final,Registros!C:C,\"=\"&A33))","v":0},0]
[null,"",{"$f":"IF(ISBLANK(A34),0,SUMIFS(Registros!H:H,Registros!B:B,\"<\"&fecha_inicial,Registros!C:C,\"=\"&A34)-IF(ISBLANK(A34),0,SUMIFS(Registros!G:G,Registros!B:B,\"<\"&fecha_inicial,Registros!C:C,\"=\"&A34)))","v":0},{"$f":"IF(ISBLANK(A34),0,SUMIFS(Registros!G:G,Registros!B:B,\">=\"&fecha_inicial, Registros!B:B, \"<=\"&fecha_final,Registros!C:C,\"=\"&A34))","v":0},{"$f":"IF(ISBLANK(A34),0,SUMIFS(Registros!H:H,Registros!B:B,\">=\"&fecha_inicial, Registros!B:B, \"<=\"&fecha_final,Registros!C:C,\"=\"&A34))","v":0},0]
[null,"",{"$f":"IF(ISBLANK(A35),0,SUMIFS(Registros!H:H,Registros!B:B,\"<\"&fecha_inicial,Registros!C:C,\"=\"&A35)-IF(ISBLANK(A35),0,SUMIFS(Registros!G:G,Registros!B:B,\"<\"&fecha_inicial,Registros!C:C,\"=\"&A35)))","v":0},{"$f":"IF(ISBLANK(A35),0,SUMIFS(Registros!G:G,Registros!B:B,\">=\"&fecha_inicial, Registros!B:B, \"<=\"&fecha_final,Registros!C:C,\"=\"&A35))","v":0},{"$f":"IF(ISBLANK(A35),0,SUMIFS(Registros!H:H,Registros!B:B,\">=\"&fecha_inicial, Registros!B:B, \"<=\"&fecha_final,Registros!C:C,\"=\"&A35))","v":0},0]
[null,"",{"$f":"IF(ISBLANK(A36),0,SUMIFS(Registros!H:H,Registros!B:B,\"<\"&fecha_inicial,Registros!C:C,\"=\"&A36)-IF(ISBLANK(A36),0,SUMIFS(Registros!G:G,Registros!B:B,\"<\"&fecha_inicial,Registros!C:C,\"=\"&A36)))","v":0},{"$f":"IF(ISBLANK(A36),0,SUMIFS(Registros!G:G,Registros!B:B,\">=\"&fecha_inicial, Registros!B:B, \"<=\"&fecha_final,Registros!C:C,\"=\"&A36))","v":0},{"$f":"IF(ISBLANK(A36),0,SUMIFS(Registros!H:H,Registros!B:B,\">=\"&fecha_inicial, Registros!B:B, \"<=\"&fecha_final,Registros!C:C,\"=\"&A36))","v":0},0]
[null,"",{"$f":"IF(ISBLANK(A37),0,SUMIFS(Registros!H:H,Registros!B:B,\"<\"&fecha_inicial,Registros!C:C,\"=\"&A37)-IF(ISBLANK(A37),0,SUMIFS(Registros!G:G,Registros!B:B,\"<\"&fecha_inicial,Registros!C:C,\"=\"&A37)))","v":0},{"$f":"IF(ISBLANK(A37),0,SUMIFS(Registros!G:G,Registros!B:B,\">=\"&fecha_inicial, Registros!B:B, \"<=\"&fecha_final,Registros!C:C,\"=\"&A37))","v":0},{"$f":"IF(ISBLANK(A37),0,SUMIFS(Registros!H:H,Registros!B:B,\">=\"&fecha_inicial, Registros!B:B, \"<=\"&fecha_final,Registros!C:C,\"=\"&A37))","v":0},0]
[null,"",{"$f":"IF(ISBLANK(A38),0,SUMIFS(Registros!H:H,Registros!B:B,\"<\"&fecha_inicial,Registros!C:C,\"=\"&A38)-IF(ISBLANK(A38),0,SUMIFS(Registros!G:G,Registros!B:B,\"<\"&fecha_inicial,Registros!C:C,\"=\"&A38)))","v":0},{"$f":"IF(ISBLANK(A38),0,SUMIFS(Registros!G:G,Registros!B:B,\">=\"&fecha_inicial, Registros!B:B, \"<=\"&fecha_final,Registros!C:C,\"=\"&A38))","v":0},{"$f":"IF(ISBLANK(A38),0,SUMIFS(Registros!H:H,Registros!B:B,\">=\"&fecha_inicial, Registros!B:B, \"<=\"&fecha_final,Registros!C:C,\"=\"&A38))","v":0},0]
[null,"",{"$f":"SUM(C40:C45)","v":0},{"$f":"SUM(D40:D45)","v":0},{"$f":"SUM(E40:E45)","v":0},0]
[null,"",{"$f":"IF(ISBLANK(A40),0,SUMIFS(Registros!H:H,Registros!B:B,\"<\"&fecha_inicial,Registros!C:C,\"=\"&A40)-IF(ISBLANK(A40),0,SUMIFS(Registros!G:G,Registros!B:B,\"<\"&fecha_inicial,Registros!C:C,\"=\"&A40)))","v":0},{"$f":"IF(ISBLANK(A40),0,SUMIFS(Registros!G:G,Registros!B:B,\">=\"&fecha_inicial, Registros!B:B, \"<=\"&fecha_final,Registros!C:C,\"=\"&A40))","v":0},{"$f":"IF(ISBLANK(A40),0,SUMIFS(Registros!H:H,Registros!B:B,\">=\"&fecha_inicial, Registros!B:B, \"<=\"&fecha_final,Registros!C:C,\"=\"&A40))","v":0},0]
[null,"",{"$f":"IF(ISBLANK(A41),0,SUMIFS(Registros!H:H,Registros!B:B,\"<\"&fecha_inicial,Registros!C:C,\"=\"&A41)-IF(ISBLANK(A41),0,SUMIFS(Registros!G:G,Registros!B:B,\"<\"&fecha_inicial,Registros!C:C,\"=\"&A41)))","v":0},{"$f":"IF(ISBLANK(A41),0,SUMIFS(Registros!G:G,Registros!B:B,\">=\"&fecha_inicial, Registros!B:B, \"<=\"&fecha_final,Registros!C:C,\"=\"&A41))","v":0},{"$f":"IF(ISBLANK(A41),0,SUMIFS(Registros!H:H,Registros!B:B,\">=\"&fecha_inicial, Registros!B:B, \"<=\"&fecha_final,Registros!C:C,\"=\"&A41))","v":0},0]
[null,"",{"$f":"IF(ISBLANK(A42),0,SUMIFS(Registros!H:H,Registros!B:B,\"<\"&fecha_inicial,Registros!C:C,\"=\"&A42)-IF(ISBLANK(A42),0,SUMIFS(Registros!G:G,Registros!B:B,\"<\"&fecha_inicial,Registros!C:C,\"=\"&A42)))","v":0},{"$f":"IF(ISBLANK(A42),0,SUMIFS(Registros!G:G,Registros!B:B,\">=\"&fecha_inicial, Registros!B:B, \"<=\"&fecha_final,Registros!C:C,\"=\"&A42))","v":0},{"$f":"IF(ISBLANK(A42),0,SUMIFS(Registros!H:H,Registros!B:B,\">=\"&fecha_inicial, Registros!B:B, \"<=\"&fecha_final,Registros!C:C,\"=\"&A42))","v":0},0]
[null,"",{"$f":"IF(ISBLANK(A43),0,SUMIFS(Registros!H:H,Registros!B:B,\"<\"&fecha_inicial,Registros!C:C,\"=\"&A43)-IF(ISBLANK(A43),0,SUMIFS(Registros!G:G,Registros!B:B,\"<\"&fecha_inicial,Registros!C:C,\"=\"&A43)))","v":0},{"$f":"IF(ISBLANK(A43),0,SUMIFS(Registros!G:G,Registros!B:B,\">=\"&fecha_inicial, Registros!B:B, \"<=\"&fecha_final,Registros!C:C,\"=\"&A43))","v":0},{"$f":"IF(ISBLANK(A43),0,SUMIFS(Registros!H:H,Registros!B:B,\">=\"&fecha_inicial, Registros!B:B, \"<=\"&fecha_final,Registros!C:C,\"=\"&A43))","v":0},0]
[null,"",{"$f":"IF(ISBLANK(A44),0,SUMIFS(Registros!H:H,Registros!B:B,\"<\"&fecha_inicial,Registros!C:C,\"=\"&A44)-IF(ISBLANK(A44),0,SUMIFS(Registros!G:G,Registros!B:B,\"<\"&fecha_inicial,Registros!C:C,\"=\"&A44)))","v":0},{"$f":"IF(ISBLANK(A44),0,SUMIFS(Registros!G:G,Registros!B:B,\">=\"&fecha_inicial, Registros!B:B, \"<=\"&fecha_final,Registros!C:C,\"=\"&A44))","v":0},{"$f":"IF(ISBLANK(A44),0,SUMIFS(Registros!H:H,Registros!B:B,\">=\"&fecha_inicial, Registros!B:B, \"<=\"&fecha_final,Registros!C:C,\"=\"&A44))","v":0},0]
[null,"",{"$f":"IF(ISBLANK(A45),0,SUMIFS(Registros!H:H,Registros!B:B,\"<\"&fecha_inicial,Registros!C:C,\"=\"&A45)-IF(ISBLANK(A45),0,SUMIFS(Registros!G:G,Registros!B:B,\"<\"&fecha_inicial,Registros!C:C,\"=\"&A45)))","v":0},{"$f":"IF(ISBLANK(A45),0,SUMIFS(Registros!G:G,Registros!B:B,\">=\"&fecha_inicial, Registros!B:B, \"<=\"&fecha_final,Registros!C:C,\"=\"&A45))","v":0},{"$f":"IF(ISBLANK(A45),0,SUMIFS(Registros!H:H,Registros!B:B,\">=\"&fecha_inicial, Registros!B:B, \"<=\"&fecha_final,Registros!C:C,\"=\"&A45))","v":0},0]
[null,"",{"$f":"SUM(C47:C52)","v":0},{"$f":"SUM(D47:D52)","v":0},{"$f":"SUM(E47:E52)","v":0},0]
[null,{"$f":"IF(A47<>\"\", IF(ISERROR(VLOOKUP(A47, plan_cuentas,2, FALSE)), \"Código de Cuenta Incorrecto\", UPPER(VLOOKUP(A47, plan_cuentas, 2, FALSE))), \"\")","v":""},{"$f":"IF(ISBLANK(A47),0,SUMIFS(Registros!H:H,Registros!B:B,\"<\"&fecha_inicial,Registros!C:C,\"=\"&A47)-IF(ISBLANK(A47),0,SUMIFS(Registros!G:G,Registros!B:B,\"<\"&fecha_inicial,Registros!C:C,\"=\"&A47)))","v":0},{"$f":"IF(ISBLANK(A47),0,SUMIFS(Registros!G:G,Registros!B:B,\">=\"&fecha_inicial, Registros!B:B, \"<=\"&fecha_final,Registros!C:C,\"=\"&A47))","v":0},{"$f":"IF(ISBLANK(A47),0,SUMIFS(Registros!H:H,Registros!B:B,\">=\"&fecha_inicial, Registros!B:B, \"<=\"&fecha_final,Registros!C:C,\"=\"&A47))","v":0},0]
[null,{"$f":"IF(A48<>0, IF(ISERROR(VLOOKUP(A48, plan_cuentas,2, FALSE)), \"Código de Cuenta Incorrecto\", UPPER(VLOOKUP(A48, plan_cuentas, 2, FALSE))), \"\")","v":""},{"$f":"IF(ISBLANK(A48),0,SUMIFS(Registros!H:H,Registros!B:B,\"<\"&fecha_inicial,Registros!C:C,\"=\"&A48)-IF(ISBLANK(A48),0,SUMIFS(Registros!G:G,Registros!B:B,\"<\"&fecha_inicial,Registros!C:C,\"=\"&A48)))","v":0},{"$f":"IF(ISBLANK(A48),0,SUMIFS(Registros!G:G,Registros!B:B,\">=\"&fecha_inicial, Registros!B:B, \"<=\"&fecha_final,Registros!C:C,\"=\"&A48))","v":0},{"$f":"IF(ISBLANK(A48),0,SUMIFS(Registros!H:H,Registros!B:B,\">=\"&fecha_inicial, Registros!B:B, \"<=\"&fecha_final,Registros!C:C,\"=\"&A48))","v":0},0]
[null,{"$f":"IF(A49<>0, IF(ISERROR(VLOOKUP(A49, plan_cuentas,2, FALSE)), \"Código de Cuenta Incorrecto\", UPPER(VLOOKUP(A49, plan_cuentas, 2, FALSE))), \"\")","v":""},{"$f":"IF(ISBLANK(A49),0,SUMIFS(Registros!H:H,Registros!B:B,\"<\"&fecha_inicial,Registros!C:C,\"=\"&A49)-IF(ISBLANK(A49),0,SUMIFS(Registros!G:G,Registros!B:B,\"<\"&fecha_inicial,Registros!C:C,\"=\"&A49)))","v":0},{"$f":"IF(ISBLANK(A49),0,SUMIFS(Registros!G:G,Registros!B:B,\">=\"&fecha_inicial, Registros!B:B, \"<=\"&fecha_final,Registros!C:C,\"=\"&A49))","v":0},{"$f":"IF(ISBLANK(A49),0,SUMIFS(Registros!H:H,Registros!B:B,\">=\"&fecha_inicial, Registros!B:B, \"<=\"&fecha_final,Registros!C:C,\"=\"&A49))","v":0},0]
[null,{"$f":"IF(A50<>0, IF(ISERROR(VLOOKUP(A50, plan_cuentas,2, FALSE)), \"Código de Cuenta Incorrecto\", UPPER(VLOOKUP(A50, plan_cuentas, 2, FALSE))), \"\")","v":""},{"$f":"IF(ISBLANK(A50),0,SUMIFS(Registros!H:H,Registros!B:B,\"<\"&fecha_inicial,Registros!C:C,\"=\"&A50)-IF(ISBLANK(A50),0,SUMIFS(Registros!G:G,Registros!B:B,\"<\"&fecha_inicial,Registros!C:C,\"=\"&A50)))","v":0},{"$f":"IF(ISBLANK(A50),0,SUMIFS(Registros!G:G,Registros!B:B,\">=\"&fecha_inicial, Registros!B:B, \"<=\"&fecha_final,Registros!C:C,\"=\"&A50))","v":0},{"$f":"IF(ISBLANK(A50),0,SUMIFS(Registros!H:H,Registros!B:B,\">=\"&fecha_inicial, Registros!B:B, \"<=\"&fecha_final,Registros!C:C,\"=\"&A50))","v":0},0]
[null,{"$f":"IF(A51<>0, IF(ISERROR(VLOOKUP(A51, plan_cuentas,2, FALSE)), \"Código de Cuenta Incorrecto\", UPPER(VLOOKUP(A51, plan_cuentas, 2, FALSE))), \"\")","v":""},{"$f":"IF(ISBLANK(A51),0,SUMIFS(Registros!H:H,Registros!B:B,\"<\"&fecha_inicial,Registros!C:C,\"=\"&A51)-IF(ISBLANK(A51),0,SUMIFS(Registros!G:G,Registros!B:B,\"<\"&fecha_inicial,Registros!C:C,\"=\"&A51)))","v":0},{"$f":"IF(ISBLANK(A51),0,SUMIFS(Registros!G:G,Registros!B:B,\">=\"&fecha_inicial, Registros!B:B, \"<=\"&fecha_final,Registros!C:C,\"=\"&A51))","v":0},{"$f":"IF(ISBLANK(A51),0,SUMIFS(Registros!H:H,Registros!B:B,\">=\"&fecha_inicial, Registros!B:B, \"<=\"&fecha_final,Registros!C:C,\"=\"&A51))","v":0},0]
[null,{"$f":"IF(A52<>0, IF(ISERROR(VLOOKUP(A52, plan_cuentas,2, FALSE)), \"Código de Cuenta Incorrecto\", UPPER(VLOOKUP(A52, plan_cuentas, 2, FALSE))), \"\")","v":""},{"$f":"IF(ISBLANK(A52),0,SUMIFS(Registros!H:H,Registros!B:B,\"<\"&fecha_inicial,Registros!C:C,\"=\"&A52)-IF(ISBLANK(A52),0,SUMIFS(Registros!G:G,Registros!B:B,\"<\"&fecha_inicial,Registros!C:C,\"=\"&A52)))","v":0},{"$f":"IF(ISBLANK(A52),0,SUMIFS(Registros!G:G,Registros!B:B,\">=\"&fecha_inicial, Registros!B:B, \"<=\"&fecha_final,Registros!C:C,\"=\"&A52))","v":0},{"$f":"IF(ISBLANK(A52),0,SUMIFS(Registros!H:H,Registros!B:B,\">=\"&fecha_inicial, Registros!B:B, \"<=\"&fecha_final,Registros!C:C,\"=\"&A52))","v":0},0]
[null,"",{"$f":"SUM(C54:C59)","v":0},{"$f":"SUM(D54:D59)","v":0},{"$f":"SUM(E54:E59)","v":0},0]
[null,"",{"$f":"IF(ISBLANK(A54),0,SUMIFS(Registros!H:H,Registros!B:B,\"<\"&fecha_inicial,Registros!C:C,\"=\"&A54)-IF(ISBLANK(A54),0,SUMIFS(Registros!G:G,Registros!B:B,\"<\"&fecha_inicial,Registros!C:C,\"=\"&A54)))","v":0},{"$f":"IF(ISBLANK(A54),0,SUMIFS(Registros!G:G,Registros!B:B,\">=\"&fecha_inicial, Registros!B:B, \"<=\"&fecha_final,Registros!C:C,\"=\"&A54))","v":0},{"$f":"IF(ISBLANK(A54),0,SUMIFS(Registros!H:H,Registros!B:B,\">=\"&fecha_inicial, Registros!B:B, \"<=\"&fecha_final,Registros!C:C,\"=\"&A54))","v":0},0]
[null,"",{"$f":"IF(ISBLANK(A55),0,SUMIFS(Registros!H:H,Registros!B:B,\"<\"&fecha_inicial,Registros!C:C,\"=\"&A55)-IF(ISBLANK(A55),0,SUMIFS(Registros!G:G,Registros!B:B,\"<\"&fecha_inicial,Registros!C:C,\"=\"&A55)))","v":0},{"$f":"IF(ISBLANK(A55),0,SUMIFS(Registros!G:G,Registros!B:B,\">=\"&fecha_inicial, Registros!B:B, \"<=\"&fecha_final,Registros!C:C,\"=\"&A55))","v":0},{"$f":"IF(ISBLANK(A55),0,SUMIFS(Registros!H:H,Registros!B:B,\">=\"&fecha_inicial, Registros!B:B, \"<=\"&fecha_final,Registros!C:C,\"=\"&A55))","v":0},0]
[null,"",{"$f":"IF(ISBLANK(A56),0,SUMIFS(Registros!H:H,Registros!B:B,\"<\"&fecha_inicial,Registros!C:C,\"=\"&A56)-IF(ISBLANK(A56),0,SUMIFS(Registros!G:G,Registros!B:B,\"<\"&fecha_inicial,Registros!C:C,\"=\"&A56)))","v":0},{"$f":"IF(ISBLANK(A56),0,SUMIFS(Registros!G:G,Registros!B:B,\">=\"&fecha_inicial, Registros!B:B, \"<=\"&fecha_final,Registros!C:C,\"=\"&A56))","v":0},{"$f":"IF(ISBLANK(A56),0,SUMIFS(Registros!H:H,Registros!B:B,\">=\"&fecha_inicial, Registros!B:B, \"<=\"&fecha_final,Registros!C:C,\"=\"&A56))","v":0},0]
[null,"",{"$f":"IF(ISBLANK(A57),0,SUMIFS(Registros!H:H,Registros!B:B,\"<\"&fecha_inicial,Registros!C:C,\"=\"&A57)-IF(ISBLANK(A57),0,SUMIFS(Registros!G:G,Registros!B:B,\"<\"&fecha_inicial,Registros!C:C,\"=\"&A57)))","v":0},{"$f":"IF(ISBLANK(A57),0,SUMIFS(Registros!G:G,Registros!B:B,\">=\"&fecha_inicial, Registros!B:B, \"<=\"&fecha_final,Registros!C:C,\"=\"&A57))","v":0},{"$f":"IF(ISBLANK(A57),0,SUMIFS(Registros!H:H,Registros!B:B,\">=\"&fecha_inicial, Registros!B:B, \"<=\"&fecha_final,Registros!C:C,\"=\"&A57))","v":0},0]
[null,{"$f":"IF(A58<>0, IF(ISERROR(VLOOKUP(A58, plan_cuentas,2, FALSE)), \"Código de Cuenta Incorrecto\", UPPER(VLOOKUP(A58, plan_cuentas, 2, FALSE))), \"\")","v":""},{"$f":"IF(ISBLANK(A58),0,SUMIFS(Registros!H:H,Registros!B:B,\"<\"&fecha_inicial,Registros!C:C,\"=\"&A58)-IF(ISBLANK(A58),0,SUMIFS(Registros!G:G,Registros!B:B,\"<\"&fecha_inicial,Registros!C:C,\"=\"&A58)))","v":0},{"$f":"IF(ISBLANK(A58),0,SUMIFS(Registros!G:G,Registros!B:B,\">=\"&fecha_inicial, Registros!B:B, \"<=\"&fecha_final,Registros!C:C,\"=\"&A58))","v":0},{"$f":"IF(ISBLANK(A58),0,SUMIFS(Registros!H:H,Registros!B:B,\">=\"&fecha_inicial, Registros!B:B, \"<=\"&fecha_final,Registros!C:C,\"=\"&A58))","v":0},0]
[null,"",{"$f":"IF(ISBLANK(A59),0,SUMIFS(Registros!H:H,Registros!B:B,\"<\"&fecha_inicial,Registros!C:C,\"=\"&A59)-IF(ISBLANK(A59),0,SUMIFS(Registros!G:G,Registros!B:B,\"<\"&fecha_inicial,Registros!C:C,\"=\"&A59)))","v":0},{"$f":"IF(ISBLANK(A59),0,SUMIFS(Registros!G:G,Registros!B:B,\">=\"&fecha_inicial, Registros!B:B, \"<=\"&fecha_final,Registros!C:C,\"=\"&A59))","v":0},{"$f":"IF(ISBLANK(A59),0,SUMIFS(Registros!H:H,Registros!B:B,\">=\"&fecha_inicial, Registros!B:B, \"<=\"&fecha_final,Registros!C:C,\"=\"&A59))","v":0},0]
[{"$f":"\"SALDO FINAL DE LA CUENTA AL \" &TEXT(fecha_final, \"dd\")&\" DE \"&UPPER(TEXT(fecha_final, \"MMMM\"))&\" DEL \"& TEXT(fecha_final, \"YYYY\")","v":"SALDO FINAL DE LA CUENTA AL 31 DE JULIO DEL 2014"},null,{"$f":"C11+C18+C25+C46+C32+C39+C53","v":10935},{"$f":"D11+D18+D25+D46+D32+D39+D53","v":0},{"$f":"E11+E18+E25+E46+E32+E39+E53","v":0},10935]
[]
[]
[]
[]
["AUTORIZADO POR:",null,null,null,"REVISADO POR:"]
[{"$f":"VLOOKUP(A65, Usuarios!B7:E9, 3, FALSE)","v":"Rodrigo Castro Potoy"},null,null,null,{"$f":"VLOOKUP(E65, Usuarios!B7:E9, 3, FALSE)","v":0}]

{"sheet":"610000","index":27,"n_rows":65,"n_cols":6,"rows_kept":65,"cut":false,"hidden":false,"merged":[[69,2,69,3],[64,0,64,1],[64,4,64,5],[65,0,65,1],[65,4,65,5],[67,2,67,3],[68,2,68,3],[7,5,8,5],[58,0,58,1],[62,0,62,1],[62,4,62,5],[63,0,63,1],[63,4,63,5],[7,0,8,0],[7,1,8,1],[7,2,8,2],[7,3,8,3],[7,4,8,4],[1,0,1,5],[2,0,2,5],[3,0,3,5],[4,0,4,5],[6,3,6,5]]}
[null,null,null,null,"Proteger"]
[{"$f":"bussiness_name","v":"SOCIEDAD CIVIL COMUNIDAD CONNECT"}]
[{"$f":"\"RESUMEN CONTABLE DE \"&B7","v":"RESUMEN CONTABLE DE GASTOS ADMINISTRATIVOS OFICINA"}]
[{"$f":"\"DEL \"&TEXT(fecha_inicial, \"DD\")&\" DE \"&UPPER(TEXT(fecha_inicial, \"MMMM\"))&\" DEL \" & TEXT(fecha_inicial, \"YYYY\") & \" AL \"&TEXT(fecha_final, \"DD\")&\" DE \"&UPPER(TEXT(fecha_final, \"MMMM\"))&\" DEL \"&TEXT(fecha_final, \"YYYY\")","v":"DEL 01 DE JULIO DEL 2014 AL 31 DE JULIO DEL 2014"}]
[{"$f":"address & \" *** Tel/Fax:  \" & tel & \" *** \" & email","v":"Esquina sureste del Parque Central, San Juan del sur, Nicaragua. *** Tel/Fax:  25682731 *** info@comunidadconnect.org"}]
[]
[610000,{"$f":"UPPER(IF(ISBLANK(A7),\"\",IFERROR(VLOOKUP(A7,plan_cuentas,2,FALSE),\"Código de cuenta incorrecto\")))","v":"GASTOS ADMINISTRATIVOS OFICINA"},null,{"$f":"\"MOVIMIENTOS DE \"&UPPER(TEXT(fecha_final, \"MMMM\"))","v":"MOVIMIENTOS DE JULIO"}]
["CODIGO","NOMBRE DE LA CUENTA","SALDO INICIAL","DEBITOS","CREDITOS","SALDO FINAL"]
[]
[]
[610100,{"$f":"IF(A11<>\"\", IF(ISERROR(VLOOKUP(A11, plan_cuentas,2, FALSE)), \"Código de Cuenta Incorrecto\", UPPER(VLOOKUP(A11, plan_cuentas, 2, FALSE))), \"\")","v":"GASTOS EN REMUNERACIÓN"},{"$f":"SUM(C12:C18)","v":36340},{"$f":"SUM(D12:D18)","v":12916},{"$f":"SUM(E12:E18)","v":0},{"$f":"C11+D11-E11","v":49256}]
[610101,{"$f":"IF(A12<>\"\", IF(ISERROR(VLOOKUP(A12, plan_cuentas,2, FALSE)), \"Código de Cuenta Incorrecto\", UPPER(VLOOKUP(A12, plan_cuentas, 2, FALSE))), \"\")","v":"SALARIOS"},{"$f":"IF(ISBLANK(A12),0,SUMIFS(Registros!G:G,Registros!B:B,\"<\"&fecha_inicial,Registros!C:C,\"=\"&A12)-IF(ISBLANK(A12),0,SUMIFS(Registros!H:H,Registros!B:B,\"<\"&fecha_inicial,Registros!C:C,\"=\"&A12)))","v":35466},{"$f":"IF(ISBLANK(A12),0,SUMIFS(Registros!G:G,Registros!B:B,\">=\"&fecha_inicial, Registros!B:B, \"<=\"&fecha_final,Registros!C:C,\"=\"&A12))","v":12916},{"$f":"IF(ISBLANK(A12),0,SUMIFS(Registros!H:H,Registros!B:B,\">=\"&fecha_inicial, Registros!B:B, \"<=\"&fecha_final,Registros!C:C,\"=\"&A12))","v":0},{"$f":"C12+D12-E12","v":48382}]
[610102,{"$f":"IF(A13<>0, IF(ISERROR(VLOOKUP(A13, plan_cuentas,2, FALSE)), \"Código de Cuenta Incorrecto\", UPPER(VLOOKUP(A13, plan_cuentas, 2, FALSE))), \"\")","v":"VACACIONES"},{"$f":"IF(ISBLANK(A13),0,SUMIFS(Registros!G:G,Registros!B:B,\"<\"&fecha_inicial,Registros!C:C,\"=\"&A13)-IF(ISBLANK(A13),0,SUMIFS(Registros!H:H,Registros!B:B,\"<\"&fecha_inicial,Registros!C:C,\"=\"&A13)))","v":0},{"$f":"IF(ISBLANK(A13),0,SUMIFS(Registros!G:G,Registros!B:B,\">=\"&fecha_inicial, Registros!B:B, \"<=\"&fecha_final,Registros!C:C,\"=\"&A13))","v":0},{"$f":"IF(ISBLANK(A13),0,SUMIFS(Registros!H:H,Registros!B:B,\">=\"&fecha_inicial, Registros!B:B, \"<=\"&fecha_final,Registros!C:C,\"=\"&A13))","v":0},{"$f":"C13+D13-E13","v":0}]
[610103,"DÉCIMO TERCER MES",{"$f":"IF(ISBLANK(A14),0,SUMIFS(Registros!G:G,Registros!B:B,\"<\"&fecha_inicial,Registros!C:C,\"=\"&A14)-IF(ISBLANK(A14),0,SUMIFS(Registros!H:H,Registros!B:B,\"<\"&fecha_inicial,Registros!C:C,\"=\"&A14)))","v":0},{"$f":"IF(ISBLANK(A14),0,SUMIFS(Registros!G:G,Registros!B:B,\">=\"&fecha_inicial, Registros!B:B, \"<=\"&fecha_final,Registros!C:C,\"=\"&A14))","v":0},{"$f":"IF(ISBLANK(A14),0,SUMIFS(Registros!H:H,Registros!B:B,\">=\"&fecha_inicial, Registros!B:B, \"<=\"&fecha_final,Registros!C:C,\"=\"&A14))","v":0},0]
[610104,"INDEMNIZACIONES",{"$f":"IF(ISBLANK(A15),0,SUMIFS(Registros!G:G,Registros!B:B,\"<\"&fecha_inicial,Registros!C:C,\"=\"&A15)-IF(ISBLANK(A15),0,SUMIFS(Registros!H:H,Registros!B:B,\"<\"&fecha_inicial,Registros!C:C,\"=\"&A15)))","v":0},{"$f":"IF(ISBLANK(A15),0,SUMIFS(Registros!G:G,Registros!B:B,\">=\"&fecha_inicial, Registros!B:B, \"<=\"&fecha_final,Registros!C:C,\"=\"&A15))","v":0},{"$f":"IF(ISBLANK(A15),0,SUMIFS(Registros!H:H,Registros!B:B,\">=\"&fecha_inicial, Registros!B:B, \"<=\"&fecha_final,Registros!C:C,\"=\"&A15))","v":0},0]
[610105,"INSS PATRONAL",{"$f":"IF(ISBLANK(A16),0,SUMIFS(Registros!G:G,Registros!B:B,\"<\"&fecha_inicial,Registros!C:C,\"=\"&A16)-IF(ISBLANK(A16),0,SUMIFS(Registros!H:H,Registros!B:B,\"<\"&fecha_inicial,Registros!C:C,\"=\"&A16)))","v":0},{"$f":"IF(ISBLANK(A16),0,SUMIFS(Registros!G:G,Registros!B:B,\">=\"&fecha_inicial, Registros!B:B, \"<=\"&fecha_final,Registros!C:C,\"=\"&A16))","v":0},{"$f":"IF(ISBLANK(A16),0,SUMIFS(Registros!H:H,Registros!B:B,\">=\"&fecha_inicial, Registros!B:B, \"<=\"&fecha_final,Registros!C:C,\"=\"&A16))","v":0},0]
[610106,{"$f":"IF(A17<>0, IF(ISERROR(VLOOKUP(A17, plan_cuentas,2, FALSE)), \"Código de Cuenta Incorrecto\", UPPER(VLOOKUP(A17, plan_cuentas, 2, FALSE))), \"\")","v":"APORTE INATEC"},{"$f":"IF(ISBLANK(A17),0,SUMIFS(Registros!G:G,Registros!B:B,\"<\"&fecha_inicial,Registros!C:C,\"=\"&A17)-IF(ISBLANK(A17),0,SUMIFS(Registros!H:H,Registros!B:B,\"<\"&fecha_inicial,Registros!C:C,\"=\"&A17)))","v":0},{"$f":"IF(ISBLANK(A17),0,SUMIFS(Registros!G:G,Registros!B:B,\">=\"&fecha_inicial, Registros!B:B, \"<=\"&fecha_final,Registros!C:C,\"=\"&A17))","v":0},{"$f":"IF(ISBLANK(A17),0,SUMIFS(Registros!H:H,Registros!B:B,\">=\"&fecha_inicial, Registros!B:B, \"<=\"&fecha_final,Registros!C:C,\"=\"&A17))","v":0},{"$f":"C17+D17-E17","v":0}]
[610107,"OTROS BENEFICIOS",{"$f":"IF(ISBLANK(A18),0,SUMIFS(Registros!G:G,Registros!B:B,\"<\"&fecha_inicial,Registros!C:C,\"=\"&A18)-IF(ISBLANK(A18),0,SUMIFS(Registros!H:H,Registros!B:B,\"<\"&fecha_inicial,Registros!C:C,\"=\"&A18)))","v":874},{"$f":"IF(ISBLANK(A18),0,SUMIFS(Registros!G:G,Registros!B:B,\">=\"&fecha_inicial, Registros!B:B, \"<=\"&fecha_final,Registros!C:C,\"=\"&A18))","v":0},{"$f":"IF(ISBLANK(A18),0,SUMIFS(Registros!H:H,Registros!B:B,\">=\"&fecha_inicial, Registros!B:B, \"<=\"&fecha_final,Registros!C:C,\"=\"&A18))","v":0},874]
[610200,{"$f":"IF(A19<>0, IF(ISERROR(VLOOKUP(A19, plan_cuentas,2, FALSE)), \"Código de Cuenta Incorrecto\", UPPER(VLOOKUP(A19, plan_cuentas, 2, FALSE))), \"\")","v":"ALQUILERES"},{"$f":"SUM(C20:C25)","v":12926.64},{"$f":"SUM(D20:D25)","v":5191.82},{"$f":"SUM(E20:E25)","v":0},18118.46]
[610201,{"$f":"IF(A20<>\"\", IF(ISERROR(VLOOKUP(A20, plan_cuentas,2, FALSE)), \"Código de Cuenta Incorrecto\", UPPER(VLOOKUP(A20, plan_cuentas, 2, FALSE))), \"\")","v":"RENTA DE OFICINA ADMINISTRATIVA"},{"$f":"IF(ISBLANK(A20),0,SUMIFS(Registros!G:G,Registros!B:B,\"<\"&fecha_inicial,Registros!C:C,\"=\"&A20)-IF(ISBLANK(A20),0,SUMIFS(Registros!H:H,Registros!B:B,\"<\"&fecha_inicial,Registros!C:C,\"=\"&A20)))","v":12926.64},{"$f":"IF(ISBLANK(A20),0,SUMIFS(Registros!G:G,Registros!B:B,\">=\"&fecha_inicial, Registros!B:B, \"<=\"&fecha_final,Registros!C:C,\"=\"&A20))","v":5191.82},{"$f":"IF(ISBLANK(A20),0,SUMIFS(Registros!H:H,Registros!B:B,\">=\"&fecha_inicial, Registros!B:B, \"<=\"&fecha_final,Registros!C:C,\"=\"&A20))","v":0},18118.46]
[null,"",{"$f":"IF(ISBLANK(A21),0,SUMIFS(Registros!G:G,Registros!B:B,\"<\"&fecha_inicial,Registros!C:C,\"=\"&A21)-IF(ISBLANK(A21),0,SUMIFS(Registros!H:H,Registros!B:B,\"<\"&fecha_inicial,Registros!C:C,\"=\"&A21)))","v":0},{"$f":"IF(ISBLANK(A21),0,SUMIFS(Registros!G:G,Registros!B:B,\">=\"&fecha_inicial, Registros!B:B, \"<=\"&fecha_final,Registros!C:C,\"=\"&A21))","v":0},{"$f":"IF(ISBLANK(A21),0,SUMIFS(Registros!H:H,Registros!B:B,\">=\"&fecha_inicial, Registros!B:B, \"<=\"&fecha_final,Registros!C:C,\"=\"&A21))","v":0},0]
[null,"",{"$f":"IF(ISBLANK(A22),0,SUMIFS(Registros!G:G,Registros!B:B,\"<\"&fecha_inicial,Registros!C:C,\"=\"&A22)-IF(ISBLANK(A22),0,SUMIFS(Registros!H:H,Registros!B:B,\"<\"&fecha_inicial,Registros!C:C,\"=\"&A22)))","v":0},{"$f":"IF(ISBLANK(A22),0,SUMIFS(Registros!G:G,Registros!B:B,\">=\"&fecha_inicial, Registros!B:B, \"<=\"&fecha_final,Registros!C:C,\"=\"&A22))","v":0},{"$f":"IF(ISBLANK(A22),0,SUMIFS(Registros!H:H,Registros!B:B,\">=\"&fecha_inicial, Registros!B:B, \"<=\"&fecha_final,Registros!C:C,\"=\"&A22))","v":0},0]
[null,"",{"$f":"IF(ISBLANK(A23),0,SUMIFS(Registros!G:G,Registros!B:B,\"<\"&fecha_inicial,Registros!C:C,\"=\"&A23)-IF(ISBLANK(A23),0,SUMIFS(Registros!H:H,Registros!B:B,\"<\"&fecha_inicial,Registros!C:C,\"=\"&A23)))","v":0},{"$f":"IF(ISBLANK(A23),0,SUMIFS(Registros!G:G,Registros!B:B,\">=\"&fecha_inicial, Registros!B:B, \"<=\"&fecha_final,Registros!C:C,\"=\"&A23))","v":0},{"$f":"IF(ISBLANK(A23),0,SUMIFS(Registros!H:H,Registros!B:B,\">=\"&fecha_inicial, Registros!B:B, \"<=\"&fecha_final,Registros!C:C,\"=\"&A23))","v":0},0]
[null,"",{"$f":"IF(ISBLANK(A24),0,SUMIFS(Registros!G:G,Registros!B:B,\"<\"&fecha_inicial,Registros!C:C,\"=\"&A24)-IF(ISBLANK(A24),0,SUMIFS(Registros!H:H,Registros!B:B,\"<\"&fecha_inicial,Registros!C:C,\"=\"&A24)))","v":0},{"$f":"IF(ISBLANK(A24),0,SUMIFS(Registros!G:G,Registros!B:B,\">=\"&fecha_inicial, Registros!B:B, \"<=\"&fecha_final,Registros!C:C,\"=\"&A24))","v":0},{"$f":"IF(ISBLANK(A24),0,SUMIFS(Registros!H:H,Registros!B:B,\">=\"&fecha_inicial, Registros!B:B, \"<=\"&fecha_final,Registros!C:C,\"=\"&A24))","v":0},0]
[null,"",{"$f":"IF(ISBLANK(A25),0,SUMIFS(Registros!G:G,Registros!B:B,\"<\"&fecha_inicial,Registros!C:C,\"=\"&A25)-IF(ISBLANK(A25),0,SUMIFS(Registros!H:H,Registros!B:B,\"<\"&fecha_inicial,Registros!C:C,\"=\"&A25)))","v":0},{"$f":"IF(ISBLANK(A25),0,SUMIFS(Registros!G:G,Registros!B:B,\">=\"&fecha_inicial, Registros!B:B, \"<=\"&fecha_final,Registros!C:C,\"=\"&A25))","v":0},{"$f":"IF(ISBLANK(A25),0,SUMIFS(Registros!H:H,Registros!B:B,\">=\"&fecha_inicial, Registros!B:B, \"<=\"&fecha_final,Registros!C:C,\"=\"&A25))","v":0},0]
[610300,{"$f":"IF(A26<>0, IF(ISERROR(VLOOKUP(A26, plan_cuentas,2, FALSE)), \"Código de Cuenta Incorrecto\", UPPER(VLOOKUP(A26, plan_cuentas, 2, FALSE))), \"\")","v":"SERVICIOS BÁSICOS"},{"$f":"SUM(C27:C32)","v":9522.19},{"$f":"SUM(D27:D32)","v":1042},{"$f":"SUM(E27:E32)","v":0},10564.19]
[610301,{"$f":"IF(A27<>\"\", IF(ISERROR(VLOOKUP(A27, plan_cuentas,2, FALSE)), \"Código de Cuenta Incorrecto\", UPPER(VLOOKUP(A27, plan_cuentas, 2, FALSE))), \"\")","v":"SERVICIO ENERGÍA ELÉCTRICA"},{"$f":"IF(ISBLANK(A27),0,SUMIFS(Registros!G:G,Registros!B:B,\"<\"&fecha_inicial,Registros!C:C,\"=\"&A27)-IF(ISBLANK(A27),0,SUMIFS(Registros!H:H,Registros!B:B,\"<\"&fecha_inicial,Registros!C:C,\"=\"&A27)))","v":0},{"$f":"IF(ISBLANK(A27),0,SUMIFS(Registros!G:G,Registros!B:B,\">=\"&fecha_inicial, Registros!B:B, \"<=\"&fecha_final,Registros!C:C,\"=\"&A27))","v":700},{"$f":"IF(ISBLANK(A27),0,SUMIFS(Registros!H:H,Registros!B:B,\">=\"&fecha_inicial, Registros!B:B, \"<=\"&fecha_final,Registros!C:C,\"=\"&A27))","v":0},700]
[610302,"SERVICIO AGUA POTABLE",{"$f":"IF(ISBLANK(A28),0,SUMIFS(Registros!G:G,Registros!B:B,\"<\"&fecha_inicial,Registros!C:C,\"=\"&A28)-IF(ISBLANK(A28),0,SUMIFS(Registros!H:H,Registros!B:B,\"<\"&fecha_inicial,Registros!C:C,\"=\"&A28)))","v":0},{"$f":"IF(ISBLANK(A28),0,SUMIFS(Registros!G:G,Registros!B:B,\">=\"&fecha_inicial, Registros!B:B, \"<=\"&fecha_final,Registros!C:C,\"=\"&A28))","v":0},{"$f":"IF(ISBLANK(A28),0,SUMIFS(Registros!H:H,Registros!B:B,\">=\"&fecha_inicial, Registros!B:B, \"<=\"&fecha_final,Registros!C:C,\"=\"&A28))","v":0},0]
[610303,"TELEFONÍA FIJA Y CELULAR",{"$f":"IF(ISBLANK(A29),0,SUMIFS(Registros!G:G,Registros!B:B,\"<\"&fecha_inicial,Registros!C:C,\"=\"&A29)-IF(ISBLANK(A29),0,SUMIFS(Registros!H:H,Registros!B:B,\"<\"&fecha_inicial,Registros!C:C,\"=\"&A29)))","v":4982.76},{"$f":"IF(ISBLANK(A29),0,SUMIFS(Registros!G:G,Registros!B:B,\">=\"&fecha_inicial, Registros!B:B, \"<=\"&fecha_final,Registros!C:C,\"=\"&A29))","v":342},{"$f":"IF(ISBLANK(A29),0,SUMIFS(Registros!H:H,Registros!B:B,\">=\"&fecha_inicial, Registros!B:B, \"<=\"&fecha_final,Registros!C:C,\"=\"&A29))","v":0},5324.76]
[610304,"INTERNET FIJO Y MÓVIL",{"$f":"IF(ISBLANK(A30),0,SUMIFS(Registros!G:G,Registros!B:B,\"<\"&fecha_inicial,Registros!C:C,\"=\"&A30)-IF(ISBLANK(A30),0,SUMIFS(Registros!H:H,Registros!B:B,\"<\"&fecha_inicial,Registros!C:C,\"=\"&A30)))","v":4539.43},{"$f":"IF(ISBLANK(A30),0,SUMIFS(Registros!G:G,Registros!B:B,\">=\"&fecha_inicial, Registros!B:B, \"<=\"&fecha_final,Registros!C:C,\"=\"&A30))","v":0},{"$f":"IF(ISBLANK(A30),0,SUMIFS(Registros!H:H,Registros!B:B,\">=\"&fecha_inicial, Registros!B:B, \"<=\"&fecha_final,Registros!C:C,\"=\"&A30))","v":0},4539.43]
[null,"",{"$f":"IF(ISBLANK(A31),0,SUMIFS(Registros!G:G,Registros!B:B,\"<\"&fecha_inicial,Registros!C:C,\"=\"&A31)-IF(ISBLANK(A31),0,SUMIFS(Registros!H:H,Registros!B:B,\"<\"&fecha_inicial,Registros!C:C,\"=\"&A31)))","v":0},{"$f":"IF(ISBLANK(A31),0,SUMIFS(Registros!G:G,Registros!B:B,\">=\"&fecha_inicial, Registros!B:B, \"<=\"&fecha_final,Registros!C:C,\"=\"&A31))","v":0},{"$f":"IF(ISBLANK(A31),0,SUMIFS(Registros!H:H,Registros!B:B,\">=\"&fecha_inicial, Registros!B:B, \"<=\"&fecha_final,Registros!C:C,\"=\"&A31))","v":0},0]
[null,"",{"$f":"IF(ISBLANK(A32),0,SUMIFS(Registros!G:G,Registros!B:B,\"<\"&fecha_inicial,Registros!C:C,\"=\"&A32)-IF(ISBLANK(A32),0,SUMIFS(Registros!H:H,Registros!B:B,\"<\"&fecha_inicial,Registros!C:C,\"=\"&A32)))","v":0},{"$f":"IF(ISBLANK(A32),0,SUMIFS(Registros!G:G,Registros!B:B,\">=\"&fecha_inicial, Registros!B:B, \"<=\"&fecha_final,Registros!C:C,\"=\"&A32))","v":0},{"$f":"IF(ISBLANK(A32),0,SUMIFS(Registros!H:H,Registros!B:B,\">=\"&fecha_inicial, Registros!B:B, \"<=\"&fecha_final,Registros!C:C,\"=\"&A32))","v":0},0]
[610400,"GASTO EN MATERIALES Y SUMINISTROS",{"$f":"SUM(C34:C39)","v":3777.2},{"$f":"SUM(D34:D39)","v":3323.84},{"$f":"SUM(E34:E39)","v":0},7101.04]
[610401,"PAPELERÍA Y ÚTILES DE OFICINA",{"$f":"IF(ISBLANK(A34),0,SUMIFS(Registros!G:G,Registros!B:B,\"<\"&fecha_inicial,Registros!C:C,\"=\"&A34)-IF(ISBLANK(A34),0,SUMIFS(Registros!H:H,Registros!B:B,\"<\"&fecha_inicial,Registros!C:C,\"=\"&A34)))","v":0},{"$f":"IF(ISBLANK(A34),0,SUMIFS(Registros!G:G,Registros!B:B,\">=\"&fecha_inicial, Registros!B:B, \"<=\"&fecha_final,Registros!C:C,\"=\"&A34))","v":0},{"$f":"IF(ISBLANK(A34),0,SUMIFS(Registros!H:H,Registros!B:B,\">=\"&fecha_inicial, Registros!B:B, \"<=\"&fecha_final,Registros!C:C,\"=\"&A34))","v":0},0]
[610402,"PRODUCTOS DE LIMPIEZA",{"$f":"IF(ISBLANK(A35),0,SUMIFS(Registros!G:G,Registros!B:B,\"<\"&fecha_inicial,Registros!C:C,\"=\"&A35)-IF(ISBLANK(A35),0,SUMIFS(Registros!H:H,Registros!B:B,\"<\"&fecha_inicial,Registros!C:C,\"=\"&A35)))","v":1877.2},{"$f":"IF(ISBLANK(A35),0,SUMIFS(Registros!G:G,Registros!B:B,\">=\"&fecha_inicial, Registros!B:B, \"<=\"&fecha_final,Registros!C:C,\"=\"&A35))","v":1889.9},{"$f":"IF(ISBLANK(A35),0,SUMIFS(Registros!H:H,Registros!B:B,\">=\"&fecha_inicial, Registros!B:B, \"<=\"&fecha_final,Registros!C:C,\"=\"&A35))","v":0},3767.1000000000004]
[610403,"COMBUSTIBLE",{"$f":"IF(ISBLANK(A36),0,SUMIFS(Registros!G:G,Registros!B:B,\"<\"&fecha_inicial,Registros!C:C,\"=\"&A36)-IF(ISBLANK(A36),0,SUMIFS(Registros!H:H,Registros!B:B,\"<\"&fecha_inicial,Registros!C:C,\"=\"&A36)))","v":1900},{"$f":"IF(ISBLANK(A36),0,SUMIFS(Registros!G:G,Registros!B:B,\">=\"&fecha_inicial, Registros!B:B, \"<=\"&fecha_final,Registros!C:C,\"=\"&A36))","v":1433.94},{"$f":"IF(ISBLANK(A36),0,SUMIFS(Registros!H:H,Registros!B:B,\">=\"&fecha_inicial, Registros!B:B, \"<=\"&fecha_final,Registros!C:C,\"=\"&A36))","v":0},3333.94]
[null,"",{"$f":"IF(ISBLANK(A37),0,SUMIFS(Registros!G:G,Registros!B:B,\"<\"&fecha_inicial,Registros!C:C,\"=\"&A37)-IF(ISBLANK(A37),0,SUMIFS(Registros!H:H,Registros!B:B,\"<\"&fecha_inicial,Registros!C:C,\"=\"&A37)))","v":0},{"$f":"IF(ISBLANK(A37),0,SUMIFS(Registros!G:G,Registros!B:B,\">=\"&fecha_inicial, Registros!B:B, \"<=\"&fecha_final,Registros!C:C,\"=\"&A37))","v":0},{"$f":"IF(ISBLANK(A37),0,SUMIFS(Registros!H:H,Registros!B:B,\">=\"&fecha_inicial, Registros!B:B, \"<=\"&fecha_final,Registros!C:C,\"=\"&A37))","v":0},0]
[null,"",{"$f":"IF(ISBLANK(A38),0,SUMIFS(Registros!G:G,Registros!B:B,\"<\"&fecha_inicial,Registros!C:C,\"=\"&A38)-IF(ISBLANK(A38),0,SUMIFS(Registros!H:H,Registros!B:B,\"<\"&fecha_inicial,Registros!C:C,\"=\"&A38)))","v":0},{"$f":"IF(ISBLANK(A38),0,SUMIFS(Registros!G:G,Registros!B:B,\">=\"&fecha_inicial, Registros!B:B, \"<=\"&fecha_final,Registros!C:C,\"=\"&A38))","v":0},{"$f":"IF(ISBLANK(A38),0,SUMIFS(Registros!H:H,Registros!B:B,\">=\"&fecha_inicial, Registros!B:B, \"<=\"&fecha_final,Registros!C:C,\"=\"&A38))","v":0},0]
[null,"",{"$f":"IF(ISBLANK(A39),0,SUMIFS(Registros!G:G,Registros!B:B,\"<\"&fecha_inicial,Registros!C:C,\"=\"&A39)-IF(ISBLANK(A39),0,SUMIFS(Registros!H:H,Registros!B:B,\"<\"&fecha_inicial,Registros!C:C,\"=\"&A39)))","v":0},{"$f":"IF(ISBLANK(A39),0,SUMIFS(Registros!G:G,Registros!B:B,\">=\"&fecha_inicial, Registros!B:B, \"<=\"&fecha_final,Registros!C:C,\"=\"&A39))","v":0},{"$f":"IF(ISBLANK(A39),0,SUMIFS(Registros!H:H,Registros!B:B,\">=\"&fecha_inicial, Registros!B:B, \"<=\"&fecha_final,Registros!C:C,\"=\"&A39))","v":0},0]
[610500,"GASTOS DE MANTENIMIENTO",{"$f":"SUM(C41:C46)","v":21745.03},{"$f":"SUM(D41:D46)","v":525.33000000000004},{"$f":"SUM(E41:E46)","v":0},22270.36]
[610501,"MANTENIMIENTO DE EDIFICIOS",{"$f":"IF(ISBLANK(A41),0,SUMIFS(Registros!G:G,Registros!B:B,\"<\"&fecha_inicial,Registros!C:C,\"=\"&A41)-IF(ISBLANK(A41),0,SUMIFS(Registros!H:H,Registros!B:B,\"<\"&fecha_inicial,Registros!C:C,\"=\"&A41)))","v":2000},{"$f":"IF(ISBLANK(A41),0,SUMIFS(Registros!G:G,Registros!B:B,\">=\"&fecha_inicial, Registros!B:B, \"<=\"&fecha_final,Registros!C:C,\"=\"&A41))","v":0},{"$f":"IF(ISBLANK(A41),0,SUMIFS(Registros!H:H,Registros!B:B,\">=\"&fecha_inicial, Registros!B:B, \"<=\"&fecha_final,Registros!C:C,\"=\"&A41))","v":0},2000]
[610502,"MANTENIMIENTO DE VEHÍCULOS",{"$f":"IF(ISBLANK(A42),0,SUMIFS(Registros!G:G,Registros!B:B,\"<\"&fecha_inicial,Registros!C:C,\"=\"&A42)-IF(ISBLANK(A42),0,SUMIFS(Registros!H:H,Registros!B:B,\"<\"&fecha_inicial,Registros!C:C,\"=\"&A42)))","v":19745.03},{"$f":"IF(ISBLANK(A42),0,SUMIFS(Registros!G:G,Registros!B:B,\">=\"&fecha_inicial, Registros!B:B, \"<=\"&fecha_final,Registros!C:C,\"=\"&A42))","v":525.33000000000004},{"$f":"IF(ISBLANK(A42),0,SUMIFS(Registros!H:H,Registros!B:B,\">=\"&fecha_inicial, Registros!B:B, \"<=\"&fecha_final,Registros!C:C,\"=\"&A42))","v":0},20270.36]
[null,"",{"$f":"IF(ISBLANK(A43),0,SUMIFS(Registros!G:G,Registros!B:B,\"<\"&fecha_inicial,Registros!C:C,\"=\"&A43)-IF(ISBLANK(A43),0,SUMIFS(Registros!H:H,Registros!B:B,\"<\"&fecha_inicial,Registros!C:C,\"=\"&A43)))","v":0},{"$f":"IF(ISBLANK(A43),0,SUMIFS(Registros!G:G,Registros!B:B,\">=\"&fecha_inicial, Registros!B:B, \"<=\"&fecha_final,Registros!C:C,\"=\"&A43))","v":0},{"$f":"IF(ISBLANK(A43),0,SUMIFS(Registros!H:H,Registros!B:B,\">=\"&fecha_inicial, Registros!B:B, \"<=\"&fecha_final,Registros!C:C,\"=\"&A43))","v":0},0]
[null,"",{"$f":"IF(ISBLANK(A44),0,SUMIFS(Registros!G:G,Registros!B:B,\"<\"&fecha_inicial,Registros!C:C,\"=\"&A44)-IF(ISBLANK(A44),0,SUMIFS(Registros!H:H,Registros!B:B,\"<\"&fecha_inicial,Registros!C:C,\"=\"&A44)))","v":0},{"$f":"IF(ISBLANK(A44),0,SUMIFS(Registros!G:G,Registros!B:B,\">=\"&fecha_inicial, Registros!B:B, \"<=\"&fecha_final,Registros!C:C,\"=\"&A44))","v":0},{"$f":"IF(ISBLANK(A44),0,SUMIFS(Registros!H:H,Registros!B:B,\">=\"&fecha_inicial, Registros!B:B, \"<=\"&fecha_final,Registros!C:C,\"=\"&A44))","v":0},0]
[null,"",{"$f":"IF(ISBLANK(A45),0,SUMIFS(Registros!G:G,Registros!B:B,\"<\"&fecha_inicial,Registros!C:C,\"=\"&A45)-IF(ISBLANK(A45),0,SUMIFS(Registros!H:H,Registros!B:B,\"<\"&fecha_inicial,Registros!C:C,\"=\"&A45)))","v":0},{"$f":"IF(ISBLANK(A45),0,SUMIFS(Registros!G:G,Registros!B:B,\">=\"&fecha_inicial, Registros!B:B, \"<=\"&fecha_final,Registros!C:C,\"=\"&A45))","v":0},{"$f":"IF(ISBLANK(A45),0,SUMIFS(Registros!H:H,Registros!B:B,\">=\"&fecha_inicial, Registros!B:B, \"<=\"&fecha_final,Registros!C:C,\"=\"&A45))","v":0},0]
[null,"",{"$f":"IF(ISBLANK(A46),0,SUMIFS(Registros!G:G,Registros!B:B,\"<\"&fecha_inicial,Registros!C:C,\"=\"&A46)-IF(ISBLANK(A46),0,SUMIFS(Registros!H:H,Registros!B:B,\"<\"&fecha_inicial,Registros!C:C,\"=\"&A46)))","v":0},{"$f":"IF(ISBLANK(A46),0,SUMIFS(Registros!G:G,Registros!B:B,\">=\"&fecha_inicial, Registros!B:B, \"<=\"&fecha_final,Registros!C:C,\"=\"&A46))","v":0},{"$f":"IF(ISBLANK(A46),0,SUMIFS(Registros!H:H,Registros!B:B,\">=\"&fecha_inicial, Registros!B:B, \"<=\"&fecha_final,Registros!C:C,\"=\"&A46))","v":0},0]
[610600,{"$f":"IF(A47<>0, IF(ISERROR(VLOOKUP(A47, plan_cuentas,2, FALSE)), \"Código de Cuenta Incorrecto\", UPPER(VLOOKUP(A47, plan_cuentas, 2, FALSE))), \"\")","v":"GASTOS VARIOS"},{"$f":"SUM(C48:C53)","v":28450.61},{"$f":"SUM(D48:D53)","v":15547.369999999999},{"$f":"SUM(E48:E53)","v":0},43997.979999999996]
[610601,{"$f":"IF(A48<>\"\", IF(ISERROR(VLOOKUP(A48, plan_cuentas,2, FALSE)), \"Código de Cuenta Incorrecto\", UPPER(VLOOKUP(A48, plan_cuentas, 2, FALSE))), \"\")","v":"VIÁTICOS ALIMENTACIÓN Y TRANSPORTE"},{"$f":"IF(ISBLANK(A48),0,SUMIFS(Registros!G:G,Registros!B:B,\"<\"&fecha_inicial,Registros!C:C,\"=\"&A48)-IF(ISBLANK(A48),0,SUMIFS(Registros!H:H,Registros!B:B,\"<\"&fecha_inicial,Registros!C:C,\"=\"&A48)))","v":323.39999999999998},{"$f":"IF(ISBLANK(A48),0,SUMIFS(Registros!G:G,Registros!B:B,\">=\"&fecha_inicial, Registros!B:B, \"<=\"&fecha_final,Registros!C:C,\"=\"&A48))","v":4191.32},{"$f":"IF(ISBLANK(A48),0,SUMIFS(Registros!H:H,Registros!B:B,\">=\"&fecha_inicial, Registros!B:B, \"<=\"&fecha_final,Registros!C:C,\"=\"&A48))","v":0},4514.7199999999993]
[610602,{"$f":"IF(A49<>\"\", IF(ISERROR(VLOOKUP(A49, plan_cuentas,2, FALSE)), \"Código de Cuenta Incorrecto\", UPPER(VLOOKUP(A49, plan_cuentas, 2, FALSE))), \"\")","v":"GASTOS DE REPRESENTACIÓN"},{"$f":"IF(ISBLANK(A49),0,SUMIFS(Registros!G:G,Registros!B:B,\"<\"&fecha_inicial,Registros!C:C,\"=\"&A49)-IF(ISBLANK(A49),0,SUMIFS(Registros!H:H,Registros!B:B,\"<\"&fecha_inicial,Registros!C:C,\"=\"&A49)))","v":28127.21},{"$f":"IF(ISBLANK(A49),0,SUMIFS(Registros!G:G,Registros!B:B,\">=\"&fecha_inicial, Registros!B:B, \"<=\"&fecha_final,Registros!C:C,\"=\"&A49))","v":2968.77},{"$f":"IF(ISBLANK(A49),0,SUMIFS(Registros!H:H,Registros!B:B,\">=\"&fecha_inicial, Registros!B:B, \"<=\"&fecha_final,Registros!C:C,\"=\"&A49))","v":0},31095.98]
[610603,{"$f":"IF(A50<>\"\", IF(ISERROR(VLOOKUP(A50, plan_cuentas,2, FALSE)), \"Código de Cuenta Incorrecto\", UPPER(VLOOKUP(A50, plan_cuentas, 2, FALSE))), \"\")","v":"GASTOS VARIOS ADMINISTRATIVOS"},{"$f":"IF(ISBLANK(A50),0,SUMIFS(Registros!G:G,Registros!B:B,\"<\"&fecha_inicial,Registros!C:C,\"=\"&A50)-IF(ISBLANK(A50),0,SUMIFS(Registros!H:H,Registros!B:B,\"<\"&fecha_inicial,Registros!C:C,\"=\"&A50)))","v":0},{"$f":"IF(ISBLANK(A50),0,SUMIFS(Registros!G:G,Registros!B:B,\">=\"&fecha_inicial, Registros!B:B, \"<=\"&fecha_final,Registros!C:C,\"=\"&A50))","v":8387.2799999999988},{"$f":"IF(ISBLANK(A50),0,SUMIFS(Registros!H:H,Registros!B:B,\">=\"&fecha_inicial, Registros!B:B, \"<=\"&fecha_final,Registros!C:C,\"=\"&A50))","v":0},8387.2799999999988]
[null,{"$f":"IF(A51<>0, IF(ISERROR(VLOOKUP(A51, plan_cuentas,2, FALSE)), \"Código de Cuenta Incorrecto\", UPPER(VLOOKUP(A51, plan_cuentas, 2, FALSE))), \"\")","v":""},{"$f":"IF(ISBLANK(A51),0,SUMIFS(Registros!G:G,Registros!B:B,\"<\"&fecha_inicial,Registros!C:C,\"=\"&A51)-IF(ISBLANK(A51),0,SUMIFS(Registros!H:H,Registros!B:B,\"<\"&fecha_inicial,Registros!C:C,\"=\"&A51)))","v":0},{"$f":"IF(ISBLANK(A51),0,SUMIFS(Registros!G:G,Registros!B:B,\">=\"&fecha_inicial, Registros!B:B, \"<=\"&fecha_final,Registros!C:C,\"=\"&A51))","v":0},{"$f":"IF(ISBLANK(A51),0,SUMIFS(Registros!H:H,Registros!B:B,\">=\"&fecha_inicial, Registros!B:B, \"<=\"&fecha_final,Registros!C:C,\"=\"&A51))","v":0},0]
[null,{"$f":"IF(A52<>0, IF(ISERROR(VLOOKUP(A52, plan_cuentas,2, FALSE)), \"Código de Cuenta Incorrecto\", UPPER(VLOOKUP(A52, plan_cuentas, 2, FALSE))), \"\")","v":""},{"$f":"IF(ISBLANK(A52),0,SUMIFS(Registros!G:G,Registros!B:B,\"<\"&fecha_inicial,Registros!C:C,\"=\"&A52)-IF(ISBLANK(A52),0,SUMIFS(Registros!H:H,Registros!B:B,\"<\"&fecha_inicial,Registros!C:C,\"=\"&A52)))","v":0},{"$f":"IF(ISBLANK(A52),0,SUMIFS(Registros!G:G,Registros!B:B,\">=\"&fecha_inicial, Registros!B:B, \"<=\"&fecha_final,Registros!C:C,\"=\"&A52))","v":0},{"$f":"IF(ISBLANK(A52),0,SUMIFS(Registros!H:H,Registros!B:B,\">=\"&fecha_inicial, Registros!B:B, \"<=\"&fecha_final,Registros!C:C,\"=\"&A52))","v":0},0]
[null,{"$f":"IF(A53<>0, IF(ISERROR(VLOOKUP(A53, plan_cuentas,2, FALSE)), \"Código de Cuenta Incorrecto\", UPPER(VLOOKUP(A53, plan_cuentas, 2, FALSE))), \"\")","v":""},{"$f":"IF(ISBLANK(A53),0,SUMIFS(Registros!G:G,Registros!B:B,\"<\"&fecha_inicial,Registros!C:C,\"=\"&A53)-IF(ISBLANK(A53),0,SUMIFS(Registros!H:H,Registros!B:B,\"<\"&fecha_inicial,Registros!C:C,\"=\"&A53)))","v":0},{"$f":"IF(ISBLANK(A53),0,SUMIFS(Registros!G:G,Registros!B:B,\">=\"&fecha_inicial, Registros!B:B, \"<=\"&fecha_final,Registros!C:C,\"=\"&A53))","v":0},{"$f":"IF(ISBLANK(A53),0,SUMIFS(Registros!H:H,Registros!B:B,\">=\"&fecha_inicial, Registros!B:B, \"<=\"&fecha_final,Registros!C:C,\"=\"&A53))","v":0},0]
[null,"",{"$f":"SUM(C55:C58)","v":0},{"$f":"SUM(D55:D58)","v":0},{"$f":"SUM(E55:E58)","v":0},0]
[null,"",{"$f":"IF(ISBLANK(A55),0,SUMIFS(Registros!G:G,Registros!B:B,\"<\"&fecha_inicial,Registros!C:C,\"=\"&A55)-IF(ISBLANK(A55),0,SUMIFS(Registros!H:H,Registros!B:B,\"<\"&fecha_inicial,Registros!C:C,\"=\"&A55)))","v":0},{"$f":"IF(ISBLANK(A55),0,SUMIFS(Registros!G:G,Registros!B:B,\">=\"&fecha_inicial, Registros!B:B, \"<=\"&fecha_final,Registros!C:C,\"=\"&A55))","v":0},{"$f":"IF(ISBLANK(A55),0,SUMIFS(Registros!H:H,Registros!B:B,\">=\"&fecha_inicial, Registros!B:B, \"<=\"&fecha_final,Registros!C:C,\"=\"&A55))","v":0},0]
[null,"",{"$f":"IF(ISBLANK(A56),0,SUMIFS(Registros!G:G,Registros!B:B,\"<\"&fecha_inicial,Registros!C:C,\"=\"&A56)-IF(ISBLANK(A56),0,SUMIFS(Registros!H:H,Registros!B:B,\"<\"&fecha_inicial,Registros!C:C,\"=\"&A56)))","v":0},{"$f":"IF(ISBLANK(A56),0,SUMIFS(Registros!G:G,Registros!B:B,\">=\"&fecha_inicial, Registros!B:B, \"<=\"&fecha_final,Registros!C:C,\"=\"&A56))","v":0},{"$f":"IF(ISBLANK(A56),0,SUMIFS(Registros!H:H,Registros!B:B,\">=\"&fecha_inicial, Registros!B:B, \"<=\"&fecha_final,Registros!C:C,\"=\"&A56))","v":0},0]
[null,{"$f":"IF(A57<>0, IF(ISERROR(VLOOKUP(A57, plan_cuentas,2, FALSE)), \"Código de Cuenta Incorrecto\", UPPER(VLOOKUP(A57, plan_cuentas, 2, FALSE))), \"\")","v":""},{"$f":"IF(ISBLANK(A57),0,SUMIFS(Registros!G:G,Registros!B:B,\"<\"&fecha_inicial,Registros!C:C,\"=\"&A57)-IF(ISBLANK(A57),0,SUMIFS(Registros!H:H,Registros!B:B,\"<\"&fecha_inicial,Registros!C:C,\"=\"&A57)))","v":0},{"$f":"IF(ISBLANK(A57),0,SUMIFS(Registros!G:G,Registros!B:B,\">=\"&fecha_inicial, Registros!B:B, \"<=\"&fecha_final,Registros!C:C,\"=\"&A57))","v":0},{"$f":"IF(ISBLANK(A57),0,SUMIFS(Registros!H:H,Registros!B:B,\">=\"&fecha_inicial, Registros!B:B, \"<=\"&fecha_final,Registros!C:C,\"=\"&A57))","v":0},0]
[null,"",{"$f":"IF(ISBLANK(A58),0,SUMIFS(Registros!G:G,Registros!B:B,\"<\"&fecha_inicial,Registros!C:C,\"=\"&A58)-IF(ISBLANK(A58),0,SUMIFS(Registros!H:H,Registros!B:B,\"<\"&fecha_inicial,Registros!C:C,\"=\"&A58)))","v":0},{"$f":"IF(ISBLANK(A58),0,SUMIFS(Registros!G:G,Registros!B:B,\">=\"&fecha_inicial, Registros!B:B, \"<=\"&fecha_final,Registros!C:C,\"=\"&A58))","v":0},{"$f":"IF(ISBLANK(A58),0,SUMIFS(Registros!H:H,Registros!B:B,\">=\"&fecha_inicial, Registros!B:B, \"<=\"&fecha_final,Registros!C:C,\"=\"&A58))","v":0},0]
[{"$f":"\"SALDO FINAL DE LA CUENTA AL \" &TEXT(fecha_final, \"dd\")&\" DE \"&UPPER(TEXT(fecha_final, \"MMMM\"))&\" DEL \"& TEXT(fecha_final, \"YYYY\")","v":"SALDO FINAL DE LA CUENTA AL 31 DE JULIO DEL 2014"},null,{"$f":"C11+C19+C26+C47+C33+C40+C54","v":112761.67},{"$f":"D11+D19+D26+D47+D33+D40+D54","v":38546.36},{"$f":"E11+E19+E26+E47+E33+E40+E54","v":0},{"$f":"C59+D59-E59","v":151308.03}]
[]
[]
[]
[]
["AUTORIZADO POR:",null,null,null,"REVISADO POR:"]
[{"$f":"VLOOKUP(A64, Usuarios!B7:E9, 3, FALSE)","v":"Rodrigo Castro Potoy"},null,null,null,{"$f":"VLOOKUP(E64, Usuarios!B7:E9, 3, FALSE)","v":0}]

{"sheet":"620000","index":28,"n_rows":66,"n_cols":6,"rows_kept":66,"cut":false,"hidden":false,"merged":[[70,2,70,3],[65,0,65,1],[65,4,65,5],[66,0,66,1],[66,4,66,5],[68,2,68,3],[69,2,69,3],[7,5,8,5],[59,0,59,1],[63,0,63,1],[63,4,63,5],[64,0,64,1],[64,4,64,5],[7,0,8,0],[7,1,8,1],[7,2,8,2],[7,3,8,3],[7,4,8,4],[1,0,1,5],[2,0,2,5],[3,0,3,5],[4,0,4,5],[6,3,6,5]]}
[null,null,null,null,"Desproteger"]
[{"$f":"bussiness_name","v":"SOCIEDAD CIVIL COMUNIDAD CONNECT"}]
[{"$f":"\"RESUMEN CONTABLE DE \"&B7","v":"RESUMEN CONTABLE DE DEPRECIACIÓN"}]
[{"$f":"\"DEL \"&TEXT(fecha_inicial, \"DD\")&\" DE \"&UPPER(TEXT(fecha_inicial, \"MMMM\"))&\" DEL \" & TEXT(fecha_inicial, \"YYYY\") & \" AL \"&TEXT(fecha_final, \"DD\")&\" DE \"&UPPER(TEXT(fecha_final, \"MMMM\"))&\" DEL \"&TEXT(fecha_final, \"YYYY\")","v":"DEL 01 DE JULIO DEL 2014 AL 31 DE JULIO DEL 2014"}]
[{"$f":"address & \" *** Tel/Fax:  \" & tel & \" *** \" & email","v":"Esquina sureste del Parque Central, San Juan del sur, Nicaragua. *** Tel/Fax:  25682731 *** info@comunidadconnect.org"}]
[]
[620000,{"$f":"UPPER(IF(ISBLANK(A7),\"\",IFERROR(VLOOKUP(A7,plan_cuentas,2,FALSE),\"Código de cuenta incorrecto\")))","v":"DEPRECIACIÓN"},null,{"$f":"\"MOVIMIENTOS DE \"&UPPER(TEXT(fecha_final, \"MMMM\"))","v":"MOVIMIENTOS DE JULIO"}]
["CODIGO","NOMBRE DE LA CUENTA","SALDO INICIAL","DEBITOS","CREDITOS","SALDO FINAL"]
[]
[]
[620100,{"$f":"IF(A11<>\"\", IF(ISERROR(VLOOKUP(A11, plan_cuentas,2, FALSE)), \"Código de Cuenta Incorrecto\", UPPER(VLOOKUP(A11, plan_cuentas, 2, FALSE))), \"\")","v":"DEPRECIACIÓN DE MOBILIARIO"},{"$f":"SUM(C12:C17)","v":0},{"$f":"SUM(D12:D17)","v":0},{"$f":"SUM(E12:E17)","v":0},{"$f":"C11+D11-E11","v":0}]
[620101,{"$f":"IF(A12<>\"\", IF(ISERROR(VLOOKUP(A12, plan_cuentas,2, FALSE)), \"Código de Cuenta Incorrecto\", UPPER(VLOOKUP(A12, plan_cuentas, 2, FALSE))), \"\")","v":"DEPRECIACIÓN DE MUEBLES Y ENSERES"},{"$f":"IF(ISBLANK(A12),0,SUMIFS(Registros!G:G,Registros!B:B,\"<\"&fecha_inicial,Registros!C:C,\"=\"&A12)-IF(ISBLANK(A12),0,SUMIFS(Registros!H:H,Registros!B:B,\"<\"&fecha_inicial,Registros!C:C,\"=\"&A12)))","v":0},{"$f":"IF(ISBLANK(A12),0,SUMIFS(Registros!G:G,Registros!B:B,\">=\"&fecha_inicial, Registros!B:B, \"<=\"&fecha_final,Registros!C:C,\"=\"&A12))","v":0},{"$f":"IF(ISBLANK(A12),0,SUMIFS(Registros!H:H,Registros!B:B,\">=\"&fecha_inicial, Registros!B:B, \"<=\"&fecha_final,Registros!C:C,\"=\"&A12))","v":0},{"$f":"C12+D12-E12","v":0}]
[null,{"$f":"IF(A13<>0, IF(ISERROR(VLOOKUP(A13, plan_cuentas,2, FALSE)), \"Código de Cuenta Incorrecto\", UPPER(VLOOKUP(A13, plan_cuentas, 2, FALSE))), \"\")","v":""},{"$f":"IF(ISBLANK(A13),0,SUMIFS(Registros!G:G,Registros!B:B,\"<\"&fecha_inicial,Registros!C:C,\"=\"&A13)-IF(ISBLANK(A13),0,SUMIFS(Registros!H:H,Registros!B:B,\"<\"&fecha_inicial,Registros!C:C,\"=\"&A13)))","v":0},{"$f":"IF(ISBLANK(A13),0,SUMIFS(Registros!G:G,Registros!B:B,\">=\"&fecha_inicial, Registros!B:B, \"<=\"&fecha_final,Registros!C:C,\"=\"&A13))","v":0},{"$f":"IF(ISBLANK(A13),0,SUMIFS(Registros!H:H,Registros!B:B,\">=\"&fecha_inicial, Registros!B:B, \"<=\"&fecha_final,Registros!C:C,\"=\"&A13))","v":0},{"$f":"C13+D13-E13","v":0}]
[null,"",{"$f":"IF(ISBLANK(A14),0,SUMIFS(Registros!G:G,Registros!B:B,\"<\"&fecha_inicial,Registros!C:C,\"=\"&A14)-IF(ISBLANK(A14),0,SUMIFS(Registros!H:H,Registros!B:B,\"<\"&fecha_inicial,Registros!C:C,\"=\"&A14)))","v":0},{"$f":"IF(ISBLANK(A14),0,SUMIFS(Registros!G:G,Registros!B:B,\">=\"&fecha_inicial, Registros!B:B, \"<=\"&fecha_final,Registros!C:C,\"=\"&A14))","v":0},{"$f":"IF(ISBLANK(A14),0,SUMIFS(Registros!H:H,Registros!B:B,\">=\"&fecha_inicial, Registros!B:B, \"<=\"&fecha_final,Registros!C:C,\"=\"&A14))","v":0},0]
[null,"",{"$f":"IF(ISBLANK(A15),0,SUMIFS(Registros!G:G,Registros!B:B,\"<\"&fecha_inicial,Registros!C:C,\"=\"&A15)-IF(ISBLANK(A15),0,SUMIFS(Registros!H:H,Registros!B:B,\"<\"&fecha_inicial,Registros!C:C,\"=\"&A15)))","v":0},{"$f":"IF(ISBLANK(A15),0,SUMIFS(Registros!G:G,Registros!B:B,\">=\"&fecha_inicial, Registros!B:B, \"<=\"&fecha_final,Registros!C:C,\"=\"&A15))","v":0},{"$f":"IF(ISBLANK(A15),0,SUMIFS(Registros!H:H,Registros!B:B,\">=\"&fecha_inicial, Registros!B:B, \"<=\"&fecha_final,Registros!C:C,\"=\"&A15))","v":0},0]
[null,"",{"$f":"IF(ISBLANK(A16),0,SUMIFS(Registros!G:G,Registros!B:B,\"<\"&fecha_inicial,Registros!C:C,\"=\"&A16)-IF(ISBLANK(A16),0,SUMIFS(Registros!H:H,Registros!B:B,\"<\"&fecha_inicial,Registros!C:C,\"=\"&A16)))","v":0},{"$f":"IF(ISBLANK(A16),0,SUMIFS(Registros!G:G,Registros!B:B,\">=\"&fecha_inicial, Registros!B:B, \"<=\"&fecha_final,Registros!C:C,\"=\"&A16))","v":0},{"$f":"IF(ISBLANK(A16),0,SUMIFS(Registros!H:H,Registros!B:B,\">=\"&fecha_inicial, Registros!B:B, \"<=\"&fecha_final,Registros!C:C,\"=\"&A16))","v":0},0]
[null,"",{"$f":"IF(ISBLANK(A17),0,SUMIFS(Registros!G:G,Registros!B:B,\"<\"&fecha_inicial,Registros!C:C,\"=\"&A17)-IF(ISBLANK(A17),0,SUMIFS(Registros!H:H,Registros!B:B,\"<\"&fecha_inicial,Registros!C:C,\"=\"&A17)))","v":0},{"$f":"IF(ISBLANK(A17),0,SUMIFS(Registros!G:G,Registros!B:B,\">=\"&fecha_inicial, Registros!B:B, \"<=\"&fecha_final,Registros!C:C,\"=\"&A17))","v":0},{"$f":"IF(ISBLANK(A17),0,SUMIFS(Registros!H:H,Registros!B:B,\">=\"&fecha_inicial, Registros!B:B, \"<=\"&fecha_final,Registros!C:C,\"=\"&A17))","v":0},0]
[620200,{"$f":"IF(A18<>0, IF(ISERROR(VLOOKUP(A18, plan_cuentas,2, FALSE)), \"Código de Cuenta Incorrecto\", UPPER(VLOOKUP(A18, plan_cuentas, 2, FALSE))), \"\")","v":"DEPRECIACIÓN DE EQUIPO"},{"$f":"SUM(C19:C24)","v":0},{"$f":"SUM(D19:D24)","v":0},{"$f":"SUM(E19:E24)","v":0},0]
[620201,{"$f":"IF(A19<>\"\", IF(ISERROR(VLOOKUP(A19, plan_cuentas,2, FALSE)), \"Código de Cuenta Incorrecto\", UPPER(VLOOKUP(A19, plan_cuentas, 2, FALSE))), \"\")","v":"DEPRECIACIÓN EQUIPO INFORMÁTICO"},{"$f":"IF(ISBLANK(A19),0,SUMIFS(Registros!G:G,Registros!B:B,\"<\"&fecha_inicial,Registros!C:C,\"=\"&A19)-IF(ISBLANK(A19),0,SUMIFS(Registros!H:H,Registros!B:B,\"<\"&fecha_inicial,Registros!C:C,\"=\"&A19)))","v":0},{"$f":"IF(ISBLANK(A19),0,SUMIFS(Registros!G:G,Registros!B:B,\">=\"&fecha_inicial, Registros!B:B, \"<=\"&fecha_final,Registros!C:C,\"=\"&A19))","v":0},{"$f":"IF(ISBLANK(A19),0,SUMIFS(Registros!H:H,Registros!B:B,\">=\"&fecha_inicial, Registros!B:B, \"<=\"&fecha_final,Registros!C:C,\"=\"&A19))","v":0},0]
[null,"",{"$f":"IF(ISBLANK(A20),0,SUMIFS(Registros!G:G,Registros!B:B,\"<\"&fecha_inicial,Registros!C:C,\"=\"&A20)-IF(ISBLANK(A20),0,SUMIFS(Registros!H:H,Registros!B:B,\"<\"&fecha_inicial,Registros!C:C,\"=\"&A20)))","v":0},{"$f":"IF(ISBLANK(A20),0,SUMIFS(Registros!G:G,Registros!B:B,\">=\"&fecha_inicial, Registros!B:B, \"<=\"&fecha_final,Registros!C:C,\"=\"&A20))","v":0},{"$f":"IF(ISBLANK(A20),0,SUMIFS(Registros!H:H,Registros!B:B,\">=\"&fecha_inicial, Registros!B:B, \"<=\"&fecha_final,Registros!C:C,\"=\"&A20))","v":0},0]
[null,"",{"$f":"IF(ISBLANK(A21),0,SUMIFS(Registros!G:G,Registros!B:B,\"<\"&fecha_inicial,Registros!C:C,\"=\"&A21)-IF(ISBLANK(A21),0,SUMIFS(Registros!H:H,Registros!B:B,\"<\"&fecha_inicial,Registros!C:C,\"=\"&A21)))","v":0},{"$f":"IF(ISBLANK(A21),0,SUMIFS(Registros!G:G,Registros!B:B,\">=\"&fecha_inicial, Registros!B:B, \"<=\"&fecha_final,Registros!C:C,\"=\"&A21))","v":0},{"$f":"IF(ISBLANK(A21),0,SUMIFS(Registros!H:H,Registros!B:B,\">=\"&fecha_inicial, Registros!B:B, \"<=\"&fecha_final,Registros!C:C,\"=\"&A21))","v":0},0]
[null,"",{"$f":"IF(ISBLANK(A22),0,SUMIFS(Registros!G:G,Registros!B:B,\"<\"&fecha_inicial,Registros!C:C,\"=\"&A22)-IF(ISBLANK(A22),0,SUMIFS(Registros!H:H,Registros!B:B,\"<\"&fecha_inicial,Registros!C:C,\"=\"&A22)))","v":0},{"$f":"IF(ISBLANK(A22),0,SUMIFS(Registros!G:G,Registros!B:B,\">=\"&fecha_inicial, Registros!B:B, \"<=\"&fecha_final,Registros!C:C,\"=\"&A22))","v":0},{"$f":"IF(ISBLANK(A22),0,SUMIFS(Registros!H:H,Registros!B:B,\">=\"&fecha_inicial, Registros!B:B, \"<=\"&fecha_final,Registros!C:C,\"=\"&A22))","v":0},0]
[null,"",{"$f":"IF(ISBLANK(A23),0,SUMIFS(Registros!G:G,Registros!B:B,\"<\"&fecha_inicial,Registros!C:C,\"=\"&A23)-IF(ISBLANK(A23),0,SUMIFS(Registros!H:H,Registros!B:B,\"<\"&fecha_inicial,Registros!C:C,\"=\"&A23)))","v":0},{"$f":"IF(ISBLANK(A23),0,SUMIFS(Registros!G:G,Registros!B:B,\">=\"&fecha_inicial, Registros!B:B, \"<=\"&fecha_final,Registros!C:C,\"=\"&A23))","v":0},{"$f":"IF(ISBLANK(A23),0,SUMIFS(Registros!H:H,Registros!B:B,\">=\"&fecha_inicial, Registros!B:B, \"<=\"&fecha_final,Registros!C:C,\"=\"&A23))","v":0},0]
[null,"",{"$f":"IF(ISBLANK(A24),0,SUMIFS(Registros!G:G,Registros!B:B,\"<\"&fecha_inicial,Registros!C:C,\"=\"&A24)-IF(ISBLANK(A24),0,SUMIFS(Registros!H:H,Registros!B:B,\"<\"&fecha_inicial,Registros!C:C,\"=\"&A24)))","v":0},{"$f":"IF(ISBLANK(A24),0,SUMIFS(Registros!G:G,Registros!B:B,\">=\"&fecha_inicial, Registros!B:B, \"<=\"&fecha_final,Registros!C:C,\"=\"&A24))","v":0},{"$f":"IF(ISBLANK(A24),0,SUMIFS(Registros!H:H,Registros!B:B,\">=\"&fecha_inicial, Registros!B:B, \"<=\"&fecha_final,Registros!C:C,\"=\"&A24))","v":0},0]
[null,{"$f":"IF(A25<>0, IF(ISERROR(VLOOKUP(A25, plan_cuentas,2, FALSE)), \"Código de Cuenta Incorrecto\", UPPER(VLOOKUP(A25, plan_cuentas, 2, FALSE))), \"\")","v":""},{"$f":"SUM(C26:C31)","v":0},{"$f":"SUM(D26:D31)","v":0},{"$f":"SUM(E26:E31)","v":0},0]
[null,{"$f":"IF(A26<>\"\", IF(ISERROR(VLOOKUP(A26, plan_cuentas,2, FALSE)), \"Código de Cuenta Incorrecto\", UPPER(VLOOKUP(A26, plan_cuentas, 2, FALSE))), \"\")","v":""},{"$f":"IF(ISBLANK(A26),0,SUMIFS(Registros!G:G,Registros!B:B,\"<\"&fecha_inicial,Registros!C:C,\"=\"&A26)-IF(ISBLANK(A26),0,SUMIFS(Registros!H:H,Registros!B:B,\"<\"&fecha_inicial,Registros!C:C,\"=\"&A26)))","v":0},{"$f":"IF(ISBLANK(A26),0,SUMIFS(Registros!G:G,Registros!B:B,\">=\"&fecha_inicial, Registros!B:B, \"<=\"&fecha_final,Registros!C:C,\"=\"&A26))","v":0},{"$f":"IF(ISBLANK(A26),0,SUMIFS(Registros!H:H,Registros!B:B,\">=\"&fecha_inicial, Registros!B:B, \"<=\"&fecha_final,Registros!C:C,\"=\"&A26))","v":0},0]
[null,"",{"$f":"IF(ISBLANK(A27),0,SUMIFS(Registros!G:G,Registros!B:B,\"<\"&fecha_inicial,Registros!C:C,\"=\"&A27)-IF(ISBLANK(A27),0,SUMIFS(Registros!H:H,Registros!B:B,\"<\"&fecha_inicial,Registros!C:C,\"=\"&A27)))","v":0},{"$f":"IF(ISBLANK(A27),0,SUMIFS(Registros!G:G,Registros!B:B,\">=\"&fecha_inicial, Registros!B:B, \"<=\"&fecha_final,Registros!C:C,\"=\"&A27))","v":0},{"$f":"IF(ISBLANK(A27),0,SUMIFS(Registros!H:H,Registros!B:B,\">=\"&fecha_inicial, Registros!B:B, \"<=\"&fecha_final,Registros!C:C,\"=\"&A27))","v":0},0]
[null,"",{"$f":"IF(ISBLANK(A28),0,SUMIFS(Registros!G:G,Registros!B:B,\"<\"&fecha_inicial,Registros!C:C,\"=\"&A28)-IF(ISBLANK(A28),0,SUMIFS(Registros!H:H,Registros!B:B,\"<\"&fecha_inicial,Registros!C:C,\"=\"&A28)))","v":0},{"$f":"IF(ISBLANK(A28),0,SUMIFS(Registros!G:G,Registros!B:B,\">=\"&fecha_inicial, Registros!B:B, \"<=\"&fecha_final,Registros!C:C,\"=\"&A28))","v":0},{"$f":"IF(ISBLANK(A28),0,SUMIFS(Registros!H:H,Registros!B:B,\">=\"&fecha_inicial, Registros!B:B, \"<=\"&fecha_final,Registros!C:C,\"=\"&A28))","v":0},0]
[null,"",{"$f":"IF(ISBLANK(A29),0,SUMIFS(Registros!G:G,Registros!B:B,\"<\"&fecha_inicial,Registros!C:C,\"=\"&A29)-IF(ISBLANK(A29),0,SUMIFS(Registros!H:H,Registros!B:B,\"<\"&fecha_inicial,Registros!C:C,\"=\"&A29)))","v":0},{"$f":"IF(ISBLANK(A29),0,SUMIFS(Registros!G:G,Registros!B:B,\">=\"&fecha_inicial, Registros!B:B, \"<=\"&fecha_final,Registros!C:C,\"=\"&A29))","v":0},{"$f":"IF(ISBLANK(A29),0,SUMIFS(Registros!H:H,Registros!B:B,\">=\"&fecha_inicial, Registros!B:B, \"<=\"&fecha_final,Registros!C:C,\"=\"&A29))","v":0},0]
[null,"",{"$f":"IF(ISBLANK(A30),0,SUMIFS(Registros!G:G,Registros!B:B,\"<\"&fecha_inicial,Registros!C:C,\"=\"&A30)-IF(ISBLANK(A30),0,SUMIFS(Registros!H:H,Registros!B:B,\"<\"&fecha_inicial,Registros!C:C,\"=\"&A30)))","v":0},{"$f":"IF(ISBLANK(A30),0,SUMIFS(Registros!G:G,Registros!B:B,\">=\"&fecha_inicial, Registros!B:B, \"<=\"&fecha_final,Registros!C:C,\"=\"&A30))","v":0},{"$f":"IF(ISBLANK(A30),0,SUMIFS(Registros!H:H,Registros!B:B,\">=\"&fecha_inicial, Registros!B:B, \"<=\"&fecha_final,Registros!C:C,\"=\"&A30))","v":0},0]
[null,"",{"$f":"IF(ISBLANK(A31),0,SUMIFS(Registros!G:G,Registros!B:B,\"<\"&fecha_inicial,Registros!C:C,\"=\"&A31)-IF(ISBLANK(A31),0,SUMIFS(Registros!H:H,Registros!B:B,\"<\"&fecha_inicial,Registros!C:C,\"=\"&A31)))","v":0},{"$f":"IF(ISBLANK(A31),0,SUMIFS(Registros!G:G,Registros!B:B,\">=\"&fecha_inicial, Registros!B:B, \"<=\"&fecha_final,Registros!C:C,\"=\"&A31))","v":0},{"$f":"IF(ISBLANK(A31),0,SUMIFS(Registros!H:H,Registros!B:B,\">=\"&fecha_inicial, Registros!B:B, \"<=\"&fecha_final,Registros!C:C,\"=\"&A31))","v":0},0]
[null,"",{"$f":"SUM(C33:C38)","v":0},{"$f":"SUM(D33:D38)","v":0},{"$f":"SUM(E33:E38)","v":0},0]
[null,"",{"$f":"IF(ISBLANK(A33),0,SUMIFS(Registros!G:G,Registros!B:B,\"<\"&fecha_inicial,Registros!C:C,\"=\"&A33)-IF(ISBLANK(A33),0,SUMIFS(Registros!H:H,Registros!B:B,\"<\"&fecha_inicial,Registros!C:C,\"=\"&A33)))","v":0},{"$f":"IF(ISBLANK(A33),0,SUMIFS(Registros!G:G,Registros!B:B,\">=\"&fecha_inicial, Registros!B:B, \"<=\"&fecha_final,Registros!C:C,\"=\"&A33))","v":0},{"$f":"IF(ISBLANK(A33),0,SUMIFS(Registros!H:H,Registros!B:B,\">=\"&fecha_inicial, Registros!B:B, \"<=\"&fecha_final,Registros!C:C,\"=\"&A33))","v":0},0]
[null,"",{"$f":"IF(ISBLANK(A34),0,SUMIFS(Registros!G:G,Registros!B:B,\"<\"&fecha_inicial,Registros!C:C,\"=\"&A34)-IF(ISBLANK(A34),0,SUMIFS(Registros!H:H,Registros!B:B,\"<\"&fecha_inicial,Registros!C:C,\"=\"&A34)))","v":0},{"$f":"IF(ISBLANK(A34),0,SUMIFS(Registros!G:G,Registros!B:B,\">=\"&fecha_inicial, Registros!B:B, \"<=\"&fecha_final,Registros!C:C,\"=\"&A34))","v":0},{"$f":"IF(ISBLANK(A34),0,SUMIFS(Registros!H:H,Registros!B:B,\">=\"&fecha_inicial, Registros!B:B, \"<=\"&fecha_final,Registros!C:C,\"=\"&A34))","v":0},0]
[null,"",{"$f":"IF(ISBLANK(A35),0,SUMIFS(Registros!G:G,Registros!B:B,\"<\"&fecha_inicial,Registros!C:C,\"=\"&A35)-IF(ISBLANK(A35),0,SUMIFS(Registros!H:H,Registros!B:B,\"<\"&fecha_inicial,Registros!C:C,\"=\"&A35)))","v":0},{"$f":"IF(ISBLANK(A35),0,SUMIFS(Registros!G:G,Registros!B:B,\">=\"&fecha_inicial, Registros!B:B, \"<=\"&fecha_final,Registros!C:C,\"=\"&A35))","v":0},{"$f":"IF(ISBLANK(A35),0,SUMIFS(Registros!H:H,Registros!B:B,\">=\"&fecha_inicial, Registros!B:B, \"<=\"&fecha_final,Registros!C:C,\"=\"&A35))","v":0},0]
[null,"",{"$f":"IF(ISBLANK(A36),0,SUMIFS(Registros!G:G,Registros!B:B,\"<\"&fecha_inicial,Registros!C:C,\"=\"&A36)-IF(ISBLANK(A36),0,SUMIFS(Registros!H:H,Registros!B:B,\"<\"&fecha_inicial,Registros!C:C,\"=\"&A36)))","v":0},{"$f":"IF(ISBLANK(A36),0,SUMIFS(Registros!G:G,Registros!B:B,\">=\"&fecha_inicial, Registros!B:B, \"<=\"&fecha_final,Registros!C:C,\"=\"&A36))","v":0},{"$f":"IF(ISBLANK(A36),0,SUMIFS(Registros!H:H,Registros!B:B,\">=\"&fecha_inicial, Registros!B:B, \"<=\"&fecha_final,Registros!C:C,\"=\"&A36))","v":0},0]
[null,"",{"$f":"IF(ISBLANK(A37),0,SUMIFS(Registros!G:G,Registros!B:B,\"<\"&fecha_inicial,Registros!C:C,\"=\"&A37)-IF(ISBLANK(A37),0,SUMIFS(Registros!H:H,Registros!B:B,\"<\"&fecha_inicial,Registros!C:C,\"=\"&A37)))","v":0},{"$f":"IF(ISBLANK(A37),0,SUMIFS(Registros!G:G,Registros!B:B,\">=\"&fecha_inicial, Registros!B:B, \"<=\"&fecha_final,Registros!C:C,\"=\"&A37))","v":0},{"$f":"IF(ISBLANK(A37),0,SUMIFS(Registros!H:H,Registros!B:B,\">=\"&fecha_inicial, Registros!B:B, \"<=\"&fecha_final,Registros!C:C,\"=\"&A37))","v":0},0]
[null,"",{"$f":"IF(ISBLANK(A38),0,SUMIFS(Registros!G:G,Registros!B:B,\"<\"&fecha_inicial,Registros!C:C,\"=\"&A38)-IF(ISBLANK(A38),0,SUMIFS(Registros!H:H,Registros!B:B,\"<\"&fecha_inicial,Registros!C:C,\"=\"&A38)))","v":0},{"$f":"IF(ISBLANK(A38),0,SUMIFS(Registros!G:G,Registros!B:B,\">=\"&fecha_inicial, Registros!B:B, \"<=\"&fecha_final,Registros!C:C,\"=\"&A38))","v":0},{"$f":"IF(ISBLANK(A38),0,SUMIFS(Registros!H:H,Registros!B:B,\">=\"&fecha_inicial, Registros!B:B, \"<=\"&fecha_final,Registros!C:C,\"=\"&A38))","v":0},0]
[null,"",{"$f":"SUM(C40:C45)","v":0},{"$f":"SUM(D40:D45)","v":0},{"$f":"SUM(E40:E45)","v":0},0]
[null,"",{"$f":"IF(ISBLANK(A40),0,SUMIFS(Registros!G:G,Registros!B:B,\"<\"&fecha_inicial,Registros!C:C,\"=\"&A40)-IF(ISBLANK(A40),0,SUMIFS(Registros!H:H,Registros!B:B,\"<\"&fecha_inicial,Registros!C:C,\"=\"&A40)))","v":0},{"$f":"IF(ISBLANK(A40),0,SUMIFS(Registros!G:G,Registros!B:B,\">=\"&fecha_inicial, Registros!B:B, \"<=\"&fecha_final,Registros!C:C,\"=\"&A40))","v":0},{"$f":"IF(ISBLANK(A40),0,SUMIFS(Registros!H:H,Registros!B:B,\">=\"&fecha_inicial, Registros!B:B, \"<=\"&fecha_final,Registros!C:C,\"=\"&A40))","v":0},0]
[null,"",{"$f":"IF(ISBLANK(A41),0,SUMIFS(Registros!G:G,Registros!B:B,\"<\"&fecha_inicial,Registros!C:C,\"=\"&A41)-IF(ISBLANK(A41),0,SUMIFS(Registros!H:H,Registros!B:B,\"<\"&fecha_inicial,Registros!C:C,\"=\"&A41)))","v":0},{"$f":"IF(ISBLANK(A41),0,SUMIFS(Registros!G:G,Registros!B:B,\">=\"&fecha_inicial, Registros!B:B, \"<=\"&fecha_final,Registros!C:C,\"=\"&A41))","v":0},{"$f":"IF(ISBLANK(A41),0,SUMIFS(Registros!H:H,Registros!B:B,\">=\"&fecha_inicial, Registros!B:B, \"<=\"&fecha_final,Registros!C:C,\"=\"&A41))","v":0},0]
[null,"",{"$f":"IF(ISBLANK(A42),0,SUMIFS(Registros!G:G,Registros!B:B,\"<\"&fecha_inicial,Registros!C:C,\"=\"&A42)-IF(ISBLANK(A42),0,SUMIFS(Registros!H:H,Registros!B:B,\"<\"&fecha_inicial,Registros!C:C,\"=\"&A42)))","v":0},{"$f":"IF(ISBLANK(A42),0,SUMIFS(Registros!G:G,Registros!B:B,\">=\"&fecha_inicial, Registros!B:B, \"<=\"&fecha_final,Registros!C:C,\"=\"&A42))","v":0},{"$f":"IF(ISBLANK(A42),0,SUMIFS(Registros!H:H,Registros!B:B,\">=\"&fecha_inicial, Registros!B:B, \"<=\"&fecha_final,Registros!C:C,\"=\"&A42))","v":0},0]
[null,"",{"$f":"IF(ISBLANK(A43),0,SUMIFS(Registros!G:G,Registros!B:B,\"<\"&fecha_inicial,Registros!C:C,\"=\"&A43)-IF(ISBLANK(A43),0,SUMIFS(Registros!H:H,Registros!B:B,\"<\"&fecha_inicial,Registros!C:C,\"=\"&A43)))","v":0},{"$f":"IF(ISBLANK(A43),0,SUMIFS(Registros!G:G,Registros!B:B,\">=\"&fecha_inicial, Registros!B:B, \"<=\"&fecha_final,Registros!C:C,\"=\"&A43))","v":0},{"$f":"IF(ISBLANK(A43),0,SUMIFS(Registros!H:H,Registros!B:B,\">=\"&fecha_inicial, Registros!B:B, \"<=\"&fecha_final,Registros!C:C,\"=\"&A43))","v":0},0]
[null,"",{"$f":"IF(ISBLANK(A44),0,SUMIFS(Registros!G:G,Registros!B:B,\"<\"&fecha_inicial,Registros!C:C,\"=\"&A44)-IF(ISBLANK(A44),0,SUMIFS(Registros!H:H,Registros!B:B,\"<\"&fecha_inicial,Registros!C:C,\"=\"&A44)))","v":0},{"$f":"IF(ISBLANK(A44),0,SUMIFS(Registros!G:G,Registros!B:B,\">=\"&fecha_inicial, Registros!B:B, \"<=\"&fecha_final,Registros!C:C,\"=\"&A44))","v":0},{"$f":"IF(ISBLANK(A44),0,SUMIFS(Registros!H:H,Registros!B:B,\">=\"&fecha_inicial, Registros!B:B, \"<=\"&fecha_final,Registros!C:C,\"=\"&A44))","v":0},0]
[null,"",{"$f":"IF(ISBLANK(A45),0,SUMIFS(Registros!G:G,Registros!B:B,\"<\"&fecha_inicial,Registros!C:C,\"=\"&A45)-IF(ISBLANK(A45),0,SUMIFS(Registros!H:H,Registros!B:B,\"<\"&fecha_inicial,Registros!C:C,\"=\"&A45)))","v":0},{"$f":"IF(ISBLANK(A45),0,SUMIFS(Registros!G:G,Registros!B:B,\">=\"&fecha_inicial, Registros!B:B, \"<=\"&fecha_final,Registros!C:C,\"=\"&A45))","v":0},{"$f":"IF(ISBLANK(A45),0,SUMIFS(Registros!H:H,Registros!B:B,\">=\"&fecha_inicial, Registros!B:B, \"<=\"&fecha_final,Registros!C:C,\"=\"&A45))","v":0},0]
[null,{"$f":"IF(A46<>0, IF(ISERROR(VLOOKUP(A46, plan_cuentas,2, FALSE)), \"Código de Cuenta Incorrecto\", UPPER(VLOOKUP(A46, plan_cuentas, 2, FALSE))), \"\")","v":""},{"$f":"SUM(C47:C52)","v":0},{"$f":"SUM(D47:D52)","v":0},{"$f":"SUM(E47:E52)","v":0},0]
[null,{"$f":"IF(A47<>\"\", IF(ISERROR(VLOOKUP(A47, plan_cuentas,2, FALSE)), \"Código de Cuenta Incorrecto\", UPPER(VLOOKUP(A47, plan_cuentas, 2, FALSE))), \"\")","v":""},{"$f":"IF(ISBLANK(A47),0,SUMIFS(Registros!G:G,Registros!B:B,\"<\"&fecha_inicial,Registros!C:C,\"=\"&A47)-IF(ISBLANK(A47),0,SUMIFS(Registros!H:H,Registros!B:B,\"<\"&fecha_inicial,Registros!C:C,\"=\"&A47)))","v":0},{"$f":"IF(ISBLANK(A47),0,SUMIFS(Registros!G:G,Registros!B:B,\">=\"&fecha_inicial, Registros!B:B, \"<=\"&fecha_final,Registros!C:C,\"=\"&A47))","v":0},{"$f":"IF(ISBLANK(A47),0,SUMIFS(Registros!H:H,Registros!B:B,\">=\"&fecha_inicial, Registros!B:B, \"<=\"&fecha_final,Registros!C:C,\"=\"&A47))","v":0},0]
[null,{"$f":"IF(A48<>0, IF(ISERROR(VLOOKUP(A48, plan_cuentas,2, FALSE)), \"Código de Cuenta Incorrecto\", UPPER(VLOOKUP(A48, plan_cuentas, 2, FALSE))), \"\")","v":""},{"$f":"IF(ISBLANK(A48),0,SUMIFS(Registros!G:G,Registros!B:B,\"<\"&fecha_inicial,Registros!C:C,\"=\"&A48)-IF(ISBLANK(A48),0,SUMIFS(Registros!H:H,Registros!B:B,\"<\"&fecha_inicial,Registros!C:C,\"=\"&A48)))","v":0},{"$f":"IF(ISBLANK(A48),0,SUMIFS(Registros!G:G,Registros!B:B,\">=\"&fecha_inicial, Registros!B:B, \"<=\"&fecha_final,Registros!C:C,\"=\"&A48))","v":0},{"$f":"IF(ISBLANK(A48),0,SUMIFS(Registros!H:H,Registros!B:B,\">=\"&fecha_inicial, Registros!B:B, \"<=\"&fecha_final,Registros!C:C,\"=\"&A48))","v":0},0]
[null,{"$f":"IF(A49<>0, IF(ISERROR(VLOOKUP(A49, plan_cuentas,2, FALSE)), \"Código de Cuenta Incorrecto\", UPPER(VLOOKUP(A49, plan_cuentas, 2, FALSE))), \"\")","v":""},{"$f":"IF(ISBLANK(A49),0,SUMIFS(Registros!G:G,Registros!B:B,\"<\"&fecha_inicial,Registros!C:C,\"=\"&A49)-IF(ISBLANK(A49),0,SUMIFS(Registros!H:H,Registros!B:B,\"<\"&fecha_inicial,Registros!C:C,\"=\"&A49)))","v":0},{"$f":"IF(ISBLANK(A49),0,SUMIFS(Registros!G:G,Registros!B:B,\">=\"&fecha_inicial, Registros!B:B, \"<=\"&fecha_final,Registros!C:C,\"=\"&A49))","v":0},{"$f":"IF(ISBLANK(A49),0,SUMIFS(Registros!H:H,Registros!B:B,\">=\"&fecha_inicial, Registros!B:B, \"<=\"&fecha_final,Registros!C:C,\"=\"&A49))","v":0},0]
[null,{"$f":"IF(A50<>0, IF(ISERROR(VLOOKUP(A50, plan_cuentas,2, FALSE)), \"Código de Cuenta Incorrecto\", UPPER(VLOOKUP(A50, plan_cuentas, 2, FALSE))), \"\")","v":""},{"$f":"IF(ISBLANK(A50),0,SUMIFS(Registros!G:G,Registros!B:B,\"<\"&fecha_inicial,Registros!C:C,\"=\"&A50)-IF(ISBLANK(A50),0,SUMIFS(Registros!H:H,Registros!B:B,\"<\"&fecha_inicial,Registros!C:C,\"=\"&A50)))","v":0},{"$f":"IF(ISBLANK(A50),0,SUMIFS(Registros!G:G,Registros!B:B,\">=\"&fecha_inicial, Registros!B:B, \"<=\"&fecha_final,Registros!C:C,\"=\"&A50))","v":0},{"$f":"IF(ISBLANK(A50),0,SUMIFS(Registros!H:H,Registros!B:B,\">=\"&fecha_inicial, Registros!B:B, \"<=\"&fecha_final,Registros!C:C,\"=\"&A50))","v":0},0]
[null,{"$f":"IF(A51<>0, IF(ISERROR(VLOOKUP(A51, plan_cuentas,2, FALSE)), \"Código de Cuenta Incorrecto\", UPPER(VLOOKUP(A51, plan_cuentas, 2, FALSE))), \"\")","v":""},{"$f":"IF(ISBLANK(A51),0,SUMIFS(Registros!G:G,Registros!B:B,\"<\"&fecha_inicial,Registros!C:C,\"=\"&A51)-IF(ISBLANK(A51),0,SUMIFS(Registros!H:H,Registros!B:B,\"<\"&fecha_inicial,Registros!C:C,\"=\"&A51)))","v":0},{"$f":"IF(ISBLANK(A51),0,SUMIFS(Registros!G:G,Registros!B:B,\">=\"&fecha_inicial, Registros!B:B, \"<=\"&fecha_final,Registros!C:C,\"=\"&A51))","v":0},{"$f":"IF(ISBLANK(A51),0,SUMIFS(Registros!H:H,Registros!B:B,\">=\"&fecha_inicial, Registros!B:B, \"<=\"&fecha_final,Registros!C:C,\"=\"&A51))","v":0},0]
[null,{"$f":"IF(A52<>0, IF(ISERROR(VLOOKUP(A52, plan_cuentas,2, FALSE)), \"Código de Cuenta Incorrecto\", UPPER(VLOOKUP(A52, plan_cuentas, 2, FALSE))), \"\")","v":""},{"$f":"IF(ISBLANK(A52),0,SUMIFS(Registros!G:G,Registros!B:B,\"<\"&fecha_inicial,Registros!C:C,\"=\"&A52)-IF(ISBLANK(A52),0,SUMIFS(Registros!H:H,Registros!B:B,\"<\"&fecha_inicial,Registros!C:C,\"=\"&A52)))","v":0},{"$f":"IF(ISBLANK(A52),0,SUMIFS(Registros!G:G,Registros!B:B,\">=\"&fecha_inicial, Registros!B:B, \"<=\"&fecha_final,Registros!C:C,\"=\"&A52))","v":0},{"$f":"IF(ISBLANK(A52),0,SUMIFS(Registros!H:H,Registros!B:B,\">=\"&fecha_inicial, Registros!B:B, \"<=\"&fecha_final,Registros!C:C,\"=\"&A52))","v":0},0]
[null,"",{"$f":"SUM(C54:C59)","v":0},{"$f":"SUM(D54:D59)","v":0},{"$f":"SUM(E54:E59)","v":0},0]
[null,"",{"$f":"IF(ISBLANK(A54),0,SUMIFS(Registros!G:G,Registros!B:B,\"<\"&fecha_inicial,Registros!C:C,\"=\"&A54)-IF(ISBLANK(A54),0,SUMIFS(Registros!H:H,Registros!B:B,\"<\"&fecha_inicial,Registros!C:C,\"=\"&A54)))","v":0},{"$f":"IF(ISBLANK(A54),0,SUMIFS(Registros!G:G,Registros!B:B,\">=\"&fecha_inicial, Registros!B:B, \"<=\"&fecha_final,Registros!C:C,\"=\"&A54))","v":0},{"$f":"IF(ISBLANK(A54),0,SUMIFS(Registros!H:H,Registros!B:B,\">=\"&fecha_inicial, Registros!B:B, \"<=\"&fecha_final,Registros!C:C,\"=\"&A54))","v":0},0]
[null,"",{"$f":"IF(ISBLANK(A55),0,SUMIFS(Registros!G:G,Registros!B:B,\"<\"&fecha_inicial,Registros!C:C,\"=\"&A55)-IF(ISBLANK(A55),0,SUMIFS(Registros!H:H,Registros!B:B,\"<\"&fecha_inicial,Registros!C:C,\"=\"&A55)))","v":0},{"$f":"IF(ISBLANK(A55),0,SUMIFS(Registros!G:G,Registros!B:B,\">=\"&fecha_inicial, Registros!B:B, \"<=\"&fecha_final,Registros!C:C,\"=\"&A55))","v":0},{"$f":"IF(ISBLANK(A55),0,SUMIFS(Registros!H:H,Registros!B:B,\">=\"&fecha_inicial, Registros!B:B, \"<=\"&fecha_final,Registros!C:C,\"=\"&A55))","v":0},0]
[null,"",{"$f":"IF(ISBLANK(A56),0,SUMIFS(Registros!G:G,Registros!B:B,\"<\"&fecha_inicial,Registros!C:C,\"=\"&A56)-IF(ISBLANK(A56),0,SUMIFS(Registros!H:H,Registros!B:B,\"<\"&fecha_inicial,Registros!C:C,\"=\"&A56)))","v":0},{"$f":"IF(ISBLANK(A56),0,SUMIFS(Registros!G:G,Registros!B:B,\">=\"&fecha_inicial, Registros!B:B, \"<=\"&fecha_final,Registros!C:C,\"=\"&A56))","v":0},{"$f":"IF(ISBLANK(A56),0,SUMIFS(Registros!H:H,Registros!B:B,\">=\"&fecha_inicial, Registros!B:B, \"<=\"&fecha_final,Registros!C:C,\"=\"&A56))","v":0},0]
[null,"",{"$f":"IF(ISBLANK(A57),0,SUMIFS(Registros!G:G,Registros!B:B,\"<\"&fecha_inicial,Registros!C:C,\"=\"&A57)-IF(ISBLANK(A57),0,SUMIFS(Registros!H:H,Registros!B:B,\"<\"&fecha_inicial,Registros!C:C,\"=\"&A57)))","v":0},{"$f":"IF(ISBLANK(A57),0,SUMIFS(Registros!G:G,Registros!B:B,\">=\"&fecha_inicial, Registros!B:B, \"<=\"&fecha_final,Registros!C:C,\"=\"&A57))","v":0},{"$f":"IF(ISBLANK(A57),0,SUMIFS(Registros!H:H,Registros!B:B,\">=\"&fecha_inicial, Registros!B:B, \"<=\"&fecha_final,Registros!C:C,\"=\"&A57))","v":0},0]
[null,{"$f":"IF(A58<>0, IF(ISERROR(VLOOKUP(A58, plan_cuentas,2, FALSE)), \"Código de Cuenta Incorrecto\", UPPER(VLOOKUP(A58, plan_cuentas, 2, FALSE))), \"\")","v":""},{"$f":"IF(ISBLANK(A58),0,SUMIFS(Registros!G:G,Registros!B:B,\"<\"&fecha_inicial,Registros!C:C,\"=\"&A58)-IF(ISBLANK(A58),0,SUMIFS(Registros!H:H,Registros!B:B,\"<\"&fecha_inicial,Registros!C:C,\"=\"&A58)))","v":0},{"$f":"IF(ISBLANK(A58),0,SUMIFS(Registros!G:G,Registros!B:B,\">=\"&fecha_inicial, Registros!B:B, \"<=\"&fecha_final,Registros!C:C,\"=\"&A58))","v":0},{"$f":"IF(ISBLANK(A58),0,SUMIFS(Registros!H:H,Registros!B:B,\">=\"&fecha_inicial, Registros!B:B, \"<=\"&fecha_final,Registros!C:C,\"=\"&A58))","v":0},0]
[null,"",{"$f":"IF(ISBLANK(A59),0,SUMIFS(Registros!G:G,Registros!B:B,\"<\"&fecha_inicial,Registros!C:C,\"=\"&A59)-IF(ISBLANK(A59),0,SUMIFS(Registros!H:H,Registros!B:B,\"<\"&fecha_inicial,Registros!C:C,\"=\"&A59)))","v":0},{"$f":"IF(ISBLANK(A59),0,SUMIFS(Registros!G:G,Registros!B:B,\">=\"&fecha_inicial, Registros!B:B, \"<=\"&fecha_final,Registros!C:C,\"=\"&A59))","v":0},{"$f":"IF(ISBLANK(A59),0,SUMIFS(Registros!H:H,Registros!B:B,\">=\"&fecha_inicial, Registros!B:B, \"<=\"&fecha_final,Registros!C:C,\"=\"&A59))","v":0},0]
[{"$f":"\"SALDO FINAL DE LA CUENTA AL \" &TEXT(fecha_final, \"dd\")&\" DE \"&UPPER(TEXT(fecha_final, \"MMMM\"))&\" DEL \"& TEXT(fecha_final, \"YYYY\")","v":"SALDO FINAL DE LA CUENTA AL 31 DE JULIO DEL 2014"},null,{"$f":"C11+C18+C25+C46+C32+C39+C53","v":0},{"$f":"D11+D18+D25+D46+D32+D39+D53","v":0},{"$f":"E11+E18+E25+E46+E32+E39+E53","v":0},{"$f":"C60+D60-E60","v":0}]
[]
[]
[]
[]
["AUTORIZADO POR:",null,null,null,"REVISADO POR:"]
[{"$f":"VLOOKUP(A65, Usuarios!B7:E9, 3, FALSE)","v":"Rodrigo Castro Potoy"},null,null,null,{"$f":"VLOOKUP(E65, Usuarios!B7:E9, 3, FALSE)","v":0}]

{"sheet":"630000","index":29,"n_rows":67,"n_cols":6,"rows_kept":67,"cut":false,"hidden":false,"merged":[[71,2,71,3],[66,0,66,1],[66,4,66,5],[67,0,67,1],[67,4,67,5],[69,2,69,3],[70,2,70,3],[7,5,8,5],[60,0,60,1],[64,0,64,1],[64,4,64,5],[65,0,65,1],[65,4,65,5],[7,0,8,0],[7,1,8,1],[7,2,8,2],[7,3,8,3],[7,4,8,4],[1,0,1,5],[2,0,2,5],[3,0,3,5],[4,0,4,5],[6,3,6,5]]}
[null,null,null,null,"Desproteger"]
[{"$f":"bussiness_name","v":"SOCIEDAD CIVIL COMUNIDAD CONNECT"}]
[{"$f":"\"RESUMEN CONTABLE DE \"&B7","v":"RESUMEN CONTABLE DE GASTOS DE PROYECTOS"}]
[{"$f":"\"DEL \"&TEXT(fecha_inicial, \"DD\")&\" DE \"&UPPER(TEXT(fecha_inicial, \"MMMM\"))&\" DEL \" & TEXT(fecha_inicial, \"YYYY\") & \" AL \"&TEXT(fecha_final, \"DD\")&\" DE \"&UPPER(TEXT(fecha_final, \"MMMM\"))&\" DEL \"&TEXT(fecha_final, \"YYYY\")","v":"DEL 01 DE JULIO DEL 2014 AL 31 DE JULIO DEL 2014"}]
[{"$f":"address & \" *** Tel/Fax:  \" & tel & \" *** \" & email","v":"Esquina sureste del Parque Central, San Juan del sur, Nicaragua. *** Tel/Fax:  25682731 *** info@comunidadconnect.org"}]
[]
[630000,{"$f":"UPPER(IF(ISBLANK(A7),\"\",IFERROR(VLOOKUP(A7,plan_cuentas,2,FALSE),\"Código de cuenta incorrecto\")))","v":"GASTOS DE PROYECTOS"},null,{"$f":"\"MOVIMIENTOS DE \"&UPPER(TEXT(fecha_final, \"MMMM\"))","v":"MOVIMIENTOS DE JULIO"}]
["CODIGO","NOMBRE DE LA CUENTA","SALDO INICIAL","DEBITOS","CREDITOS","SALDO FINAL"]
[]
[]
[630100,{"$f":"IF(A11<>\"\", IF(ISERROR(VLOOKUP(A11, plan_cuentas,2, FALSE)), \"Código de Cuenta Incorrecto\", UPPER(VLOOKUP(A11, plan_cuentas, 2, FALSE))), \"\")","v":"PROYECTO PARQUE DEPORTIVO"},{"$f":"SUM(C12:C16)","v":7017.62},{"$f":"SUM(D12:D16)","v":2269.31},{"$f":"SUM(E12:E16)","v":0},{"$f":"SUM(F12:F16)","v":9286.93}]
[630101,{"$f":"IF(A12<>\"\", IF(ISERROR(VLOOKUP(A12, plan_cuentas,2, FALSE)), \"Código de Cuenta Incorrecto\", UPPER(VLOOKUP(A12, plan_cuentas, 2, FALSE))), \"\")","v":"ADMINISTRATIVOS Y GENERALES"},{"$f":"IF(ISBLANK(A12),0,SUMIFS(Registros!G:G,Registros!B:B,\"<\"&fecha_inicial,Registros!C:C,\"=\"&A12)-IF(ISBLANK(A12),0,SUMIFS(Registros!H:H,Registros!B:B,\"<\"&fecha_inicial,Registros!C:C,\"=\"&A12)))","v":0},{"$f":"IF(ISBLANK(A12),0,SUMIFS(Registros!G:G,Registros!B:B,\">=\"&fecha_inicial, Registros!B:B, \"<=\"&fecha_final,Registros!C:C,\"=\"&A12))","v":769.31},{"$f":"IF(ISBLANK(A12),0,SUMIFS(Registros!H:H,Registros!B:B,\">=\"&fecha_inicial, Registros!B:B, \"<=\"&fecha_final,Registros!C:C,\"=\"&A12))","v":0},{"$f":"C12+D12-E12","v":769.31}]
[630102,{"$f":"IF(A13<>0, IF(ISERROR(VLOOKUP(A13, plan_cuentas,2, FALSE)), \"Código de Cuenta Incorrecto\", UPPER(VLOOKUP(A13, plan_cuentas, 2, FALSE))), \"\")","v":"GASTOS VARIOS"},{"$f":"IF(ISBLANK(A13),0,SUMIFS(Registros!G:G,Registros!B:B,\"<\"&fecha_inicial,Registros!C:C,\"=\"&A13)-IF(ISBLANK(A13),0,SUMIFS(Registros!H:H,Registros!B:B,\"<\"&fecha_inicial,Registros!C:C,\"=\"&A13)))","v":6757.62},{"$f":"IF(ISBLANK(A13),0,SUMIFS(Registros!G:G,Registros!B:B,\">=\"&fecha_inicial, Registros!B:B, \"<=\"&fecha_final,Registros!C:C,\"=\"&A13))","v":0},{"$f":"IF(ISBLANK(A13),0,SUMIFS(Registros!H:H,Registros!B:B,\">=\"&fecha_inicial, Registros!B:B, \"<=\"&fecha_final,Registros!C:C,\"=\"&A13))","v":0},{"$f":"C13+D13-E13","v":6757.62}]
[630103,"APORTE SOCIAL",{"$f":"IF(ISBLANK(A14),0,SUMIFS(Registros!G:G,Registros!B:B,\"<\"&fecha_inicial,Registros!C:C,\"=\"&A14)-IF(ISBLANK(A14),0,SUMIFS(Registros!H:H,Registros!B:B,\"<\"&fecha_inicial,Registros!C:C,\"=\"&A14)))","v":0},{"$f":"IF(ISBLANK(A14),0,SUMIFS(Registros!G:G,Registros!B:B,\">=\"&fecha_inicial, Registros!B:B, \"<=\"&fecha_final,Registros!C:C,\"=\"&A14))","v":1200},{"$f":"IF(ISBLANK(A14),0,SUMIFS(Registros!H:H,Registros!B:B,\">=\"&fecha_inicial, Registros!B:B, \"<=\"&fecha_final,Registros!C:C,\"=\"&A14))","v":0},1200]
[630104,"GASTO POR MANTO. DE LOCAL",{"$f":"IF(ISBLANK(A15),0,SUMIFS(Registros!G:G,Registros!B:B,\"<\"&fecha_inicial,Registros!C:C,\"=\"&A15)-IF(ISBLANK(A15),0,SUMIFS(Registros!H:H,Registros!B:B,\"<\"&fecha_inicial,Registros!C:C,\"=\"&A15)))","v":0},{"$f":"IF(ISBLANK(A15),0,SUMIFS(Registros!G:G,Registros!B:B,\">=\"&fecha_inicial, Registros!B:B, \"<=\"&fecha_final,Registros!C:C,\"=\"&A15))","v":0},{"$f":"IF(ISBLANK(A15),0,SUMIFS(Registros!H:H,Registros!B:B,\">=\"&fecha_inicial, Registros!B:B, \"<=\"&fecha_final,Registros!C:C,\"=\"&A15))","v":0},0]
[630105,"VIATICOS DE ALIMENTACIÓN Y TRANSPORTE",{"$f":"IF(ISBLANK(A16),0,SUMIFS(Registros!G:G,Registros!B:B,\"<\"&fecha_inicial,Registros!C:C,\"=\"&A16)-IF(ISBLANK(A16),0,SUMIFS(Registros!H:H,Registros!B:B,\"<\"&fecha_inicial,Registros!C:C,\"=\"&A16)))","v":260},{"$f":"IF(ISBLANK(A16),0,SUMIFS(Registros!G:G,Registros!B:B,\">=\"&fecha_inicial, Registros!B:B, \"<=\"&fecha_final,Registros!C:C,\"=\"&A16))","v":300},{"$f":"IF(ISBLANK(A16),0,SUMIFS(Registros!H:H,Registros!B:B,\">=\"&fecha_inicial, Registros!B:B, \"<=\"&fecha_final,Registros!C:C,\"=\"&A16))","v":0},560]
[630200,{"$f":"IF(A17<>0, IF(ISERROR(VLOOKUP(A17, plan_cuentas,2, FALSE)), \"Código de Cuenta Incorrecto\", UPPER(VLOOKUP(A17, plan_cuentas, 2, FALSE))), \"\")","v":"PROYECTO CAMPO VERDE"},{"$f":"SUM(C18:C26)","v":41743.100000000006},{"$f":"SUM(D18:D26)","v":25274.949999999997},{"$f":"SUM(E18:E26)","v":0},{"$f":"SUM(F18:F26)","v":67018.049999999988}]
[630201,{"$f":"IF(A18<>\"\", IF(ISERROR(VLOOKUP(A18, plan_cuentas,2, FALSE)), \"Código de Cuenta Incorrecto\", UPPER(VLOOKUP(A18, plan_cuentas, 2, FALSE))), \"\")","v":"ADMINISTRATIVOS Y GENERALES"},{"$f":"IF(ISBLANK(A18),0,SUMIFS(Registros!G:G,Registros!B:B,\"<\"&fecha_inicial,Registros!C:C,\"=\"&A18)-IF(ISBLANK(A18),0,SUMIFS(Registros!H:H,Registros!B:B,\"<\"&fecha_inicial,Registros!C:C,\"=\"&A18)))","v":0},{"$f":"IF(ISBLANK(A18),0,SUMIFS(Registros!G:G,Registros!B:B,\">=\"&fecha_inicial, Registros!B:B, \"<=\"&fecha_final,Registros!C:C,\"=\"&A18))","v":3985},{"$f":"IF(ISBLANK(A18),0,SUMIFS(Registros!H:H,Registros!B:B,\">=\"&fecha_inicial, Registros!B:B, \"<=\"&fecha_final,Registros!C:C,\"=\"&A18))","v":0},3985]
[630202,"GASTOS VARIOS",{"$f":"IF(ISBLANK(A19),0,SUMIFS(Registros!G:G,Registros!B:B,\"<\"&fecha_inicial,Registros!C:C,\"=\"&A19)-IF(ISBLANK(A19),0,SUMIFS(Registros!H:H,Registros!B:B,\"<\"&fecha_inicial,Registros!C:C,\"=\"&A19)))","v":36},{"$f":"IF(ISBLANK(A19),0,SUMIFS(Registros!G:G,Registros!B:B,\">=\"&fecha_inicial, Registros!B:B, \"<=\"&fecha_final,Registros!C:C,\"=\"&A19))","v":427},{"$f":"IF(ISBLANK(A19),0,SUMIFS(Registros!H:H,Registros!B:B,\">=\"&fecha_inicial, Registros!B:B, \"<=\"&fecha_final,Registros!C:C,\"=\"&A19))","v":0},463]
[630203,"APORTE SOCIAL",{"$f":"IF(ISBLANK(A20),0,SUMIFS(Registros!G:G,Registros!B:B,\"<\"&fecha_inicial,Registros!C:C,\"=\"&A20)-IF(ISBLANK(A20),0,SUMIFS(Registros!H:H,Registros!B:B,\"<\"&fecha_inicial,Registros!C:C,\"=\"&A20)))","v":6272.3},{"$f":"IF(ISBLANK(A20),0,SUMIFS(Registros!G:G,Registros!B:B,\">=\"&fecha_inicial, Registros!B:B, \"<=\"&fecha_final,Registros!C:C,\"=\"&A20))","v":3965},{"$f":"IF(ISBLANK(A20),0,SUMIFS(Registros!H:H,Registros!B:B,\">=\"&fecha_inicial, Registros!B:B, \"<=\"&fecha_final,Registros!C:C,\"=\"&A20))","v":0},10237.299999999999]
[630204,{"$f":"IF(A21<>0, IF(ISERROR(VLOOKUP(A21, plan_cuentas,2, FALSE)), \"Código de Cuenta Incorrecto\", UPPER(VLOOKUP(A21, plan_cuentas, 2, FALSE))), \"\")","v":"SERVICIO DE TRANSPORTE"},{"$f":"IF(ISBLANK(A21),0,SUMIFS(Registros!G:G,Registros!B:B,\"<\"&fecha_inicial,Registros!C:C,\"=\"&A21)-IF(ISBLANK(A21),0,SUMIFS(Registros!H:H,Registros!B:B,\"<\"&fecha_inicial,Registros!C:C,\"=\"&A21)))","v":0},{"$f":"IF(ISBLANK(A21),0,SUMIFS(Registros!G:G,Registros!B:B,\">=\"&fecha_inicial, Registros!B:B, \"<=\"&fecha_final,Registros!C:C,\"=\"&A21))","v":4800},{"$f":"IF(ISBLANK(A21),0,SUMIFS(Registros!H:H,Registros!B:B,\">=\"&fecha_inicial, Registros!B:B, \"<=\"&fecha_final,Registros!C:C,\"=\"&A21))","v":0},{"$f":"C21+D21-E21","v":4800}]
[630205,"SERVICIO DE HOSPEDAJE",{"$f":"IF(ISBLANK(A22),0,SUMIFS(Registros!G:G,Registros!B:B,\"<\"&fecha_inicial,Registros!C:C,\"=\"&A22)-IF(ISBLANK(A22),0,SUMIFS(Registros!H:H,Registros!B:B,\"<\"&fecha_inicial,Registros!C:C,\"=\"&A22)))","v":0},{"$f":"IF(ISBLANK(A22),0,SUMIFS(Registros!G:G,Registros!B:B,\">=\"&fecha_inicial, Registros!B:B, \"<=\"&fecha_final,Registros!C:C,\"=\"&A22))","v":760},{"$f":"IF(ISBLANK(A22),0,SUMIFS(Registros!H:H,Registros!B:B,\">=\"&fecha_inicial, Registros!B:B, \"<=\"&fecha_final,Registros!C:C,\"=\"&A22))","v":0},760]
[630206,"VIATICOS DE ALIMENTANCIÓN Y TRANSPORTE",{"$f":"IF(ISBLANK(A23),0,SUMIFS(Registros!G:G,Registros!B:B,\"<\"&fecha_inicial,Registros!C:C,\"=\"&A23)-IF(ISBLANK(A23),0,SUMIFS(Registros!H:H,Registros!B:B,\"<\"&fecha_inicial,Registros!C:C,\"=\"&A23)))","v":1400},{"$f":"IF(ISBLANK(A23),0,SUMIFS(Registros!G:G,Registros!B:B,\">=\"&fecha_inicial, Registros!B:B, \"<=\"&fecha_final,Registros!C:C,\"=\"&A23))","v":1081},{"$f":"IF(ISBLANK(A23),0,SUMIFS(Registros!H:H,Registros!B:B,\">=\"&fecha_inicial, Registros!B:B, \"<=\"&fecha_final,Registros!C:C,\"=\"&A23))","v":0},2481]
[630207,"INSUMOS Y SUMINISTRO CAMPO VERDE",{"$f":"IF(ISBLANK(A24),0,SUMIFS(Registros!G:G,Registros!B:B,\"<\"&fecha_inicial,Registros!C:C,\"=\"&A24)-IF(ISBLANK(A24),0,SUMIFS(Registros!H:H,Registros!B:B,\"<\"&fecha_inicial,Registros!C:C,\"=\"&A24)))","v":31337},{"$f":"IF(ISBLANK(A24),0,SUMIFS(Registros!G:G,Registros!B:B,\">=\"&fecha_inicial, Registros!B:B, \"<=\"&fecha_final,Registros!C:C,\"=\"&A24))","v":1311.35},{"$f":"IF(ISBLANK(A24),0,SUMIFS(Registros!H:H,Registros!B:B,\">=\"&fecha_inicial, Registros!B:B, \"<=\"&fecha_final,Registros!C:C,\"=\"&A24))","v":0},32648.35]
[630208,"COMBUSTIBLE ",{"$f":"IF(ISBLANK(A25),0,SUMIFS(Registros!G:G,Registros!B:B,\"<\"&fecha_inicial,Registros!C:C,\"=\"&A25)-IF(ISBLANK(A25),0,SUMIFS(Registros!H:H,Registros!B:B,\"<\"&fecha_inicial,Registros!C:C,\"=\"&A25)))","v":1600},{"$f":"IF(ISBLANK(A25),0,SUMIFS(Registros!G:G,Registros!B:B,\">=\"&fecha_inicial, Registros!B:B, \"<=\"&fecha_final,Registros!C:C,\"=\"&A25))","v":1300},{"$f":"IF(ISBLANK(A25),0,SUMIFS(Registros!H:H,Registros!B:B,\">=\"&fecha_inicial, Registros!B:B, \"<=\"&fecha_final,Registros!C:C,\"=\"&A25))","v":0},2900]
[630209,"OTROS PAGOS",{"$f":"IF(ISBLANK(A26),0,SUMIFS(Registros!G:G,Registros!B:B,\"<\"&fecha_inicial,Registros!C:C,\"=\"&A26)-IF(ISBLANK(A26),0,SUMIFS(Registros!H:H,Registros!B:B,\"<\"&fecha_inicial,Registros!C:C,\"=\"&A26)))","v":1097.8},{"$f":"IF(ISBLANK(A26),0,SUMIFS(Registros!G:G,Registros!B:B,\">=\"&fecha_inicial, Registros!B:B, \"<=\"&fecha_final,Registros!C:C,\"=\"&A26))","v":7645.6},{"$f":"IF(ISBLANK(A26),0,SUMIFS(Registros!H:H,Registros!B:B,\">=\"&fecha_inicial, Registros!B:B, \"<=\"&fecha_final,Registros!C:C,\"=\"&A26))","v":0},8743.4]
[630300,"PROYECTO TURISMO SOSTENIBLE",{"$f":"SUM(C28:C35)","v":169529.07},{"$f":"SUM(D28:D35)","v":203209.05},{"$f":"SUM(E28:E35)","v":0},{"$f":"SUM(F28:F35)","v":372738.12}]
[630301,{"$f":"IF(A28<>\"\", IF(ISERROR(VLOOKUP(A28, plan_cuentas,2, FALSE)), \"Código de Cuenta Incorrecto\", UPPER(VLOOKUP(A28, plan_cuentas, 2, FALSE))), \"\")","v":"ADMINISTRATIVOS Y GENERALES"},{"$f":"IF(ISBLANK(A28),0,SUMIFS(Registros!G:G,Registros!B:B,\"<\"&fecha_inicial,Registros!C:C,\"=\"&A28)-IF(ISBLANK(A28),0,SUMIFS(Registros!H:H,Registros!B:B,\"<\"&fecha_inicial,Registros!C:C,\"=\"&A28)))","v":0},{"$f":"IF(ISBLANK(A28),0,SUMIFS(Registros!G:G,Registros!B:B,\">=\"&fecha_inicial, Registros!B:B, \"<=\"&fecha_final,Registros!C:C,\"=\"&A28))","v":400},{"$f":"IF(ISBLANK(A28),0,SUMIFS(Registros!H:H,Registros!B:B,\">=\"&fecha_inicial, Registros!B:B, \"<=\"&fecha_final,Registros!C:C,\"=\"&A28))","v":0},400]
[630302,"GASTOS VARIOS",{"$f":"IF(ISBLANK(A29),0,SUMIFS(Registros!G:G,Registros!B:B,\"<\"&fecha_inicial,Registros!C:C,\"=\"&A29)-IF(ISBLANK(A29),0,SUMIFS(Registros!H:H,Registros!B:B,\"<\"&fecha_inicial,Registros!C:C,\"=\"&A29)))","v":8841},{"$f":"IF(ISBLANK(A29),0,SUMIFS(Registros!G:G,Registros!B:B,\">=\"&fecha_inicial, Registros!B:B, \"<=\"&fecha_final,Registros!C:C,\"=\"&A29))","v":3375.83},{"$f":"IF(ISBLANK(A29),0,SUMIFS(Registros!H:H,Registros!B:B,\">=\"&fecha_inicial, Registros!B:B, \"<=\"&fecha_final,Registros!C:C,\"=\"&A29))","v":0},12216.83]
[630303,"SERVICIO DE TRANSPORTE ",{"$f":"IF(ISBLANK(A30),0,SUMIFS(Registros!G:G,Registros!B:B,\"<\"&fecha_inicial,Registros!C:C,\"=\"&A30)-IF(ISBLANK(A30),0,SUMIFS(Registros!H:H,Registros!B:B,\"<\"&fecha_inicial,Registros!C:C,\"=\"&A30)))","v":33417.31},{"$f":"IF(ISBLANK(A30),0,SUMIFS(Registros!G:G,Registros!B:B,\">=\"&fecha_inicial, Registros!B:B, \"<=\"&fecha_final,Registros!C:C,\"=\"&A30))","v":33841.800000000003},{"$f":"IF(ISBLANK(A30),0,SUMIFS(Registros!H:H,Registros!B:B,\">=\"&fecha_inicial, Registros!B:B, \"<=\"&fecha_final,Registros!C:C,\"=\"&A30))","v":0},67259.11]
[630304,"SERVICIOS DE HOSPEDAJE",{"$f":"IF(ISBLANK(A31),0,SUMIFS(Registros!G:G,Registros!B:B,\"<\"&fecha_inicial,Registros!C:C,\"=\"&A31)-IF(ISBLANK(A31),0,SUMIFS(Registros!H:H,Registros!B:B,\"<\"&fecha_inicial,Registros!C:C,\"=\"&A31)))","v":104351.51000000001},{"$f":"IF(ISBLANK(A31),0,SUMIFS(Registros!G:G,Registros!B:B,\">=\"&fecha_inicial, Registros!B:B, \"<=\"&fecha_final,Registros!C:C,\"=\"&A31))","v":97507.29},{"$f":"IF(ISBLANK(A31),0,SUMIFS(Registros!H:H,Registros!B:B,\">=\"&fecha_inicial, Registros!B:B, \"<=\"&fecha_final,Registros!C:C,\"=\"&A31))","v":0},201858.8]
[630305,"SERVICIO DE ALIMENTACIÓN",{"$f":"IF(ISBLANK(A32),0,SUMIFS(Registros!G:G,Registros!B:B,\"<\"&fecha_inicial,Registros!C:C,\"=\"&A32)-IF(ISBLANK(A32),0,SUMIFS(Registros!H:H,Registros!B:B,\"<\"&fecha_inicial,Registros!C:C,\"=\"&A32)))","v":0},{"$f":"IF(ISBLANK(A32),0,SUMIFS(Registros!G:G,Registros!B:B,\">=\"&fecha_inicial, Registros!B:B, \"<=\"&fecha_final,Registros!C:C,\"=\"&A32))","v":21113.49},{"$f":"IF(ISBLANK(A32),0,SUMIFS(Registros!H:H,Registros!B:B,\">=\"&fecha_inicial, Registros!B:B, \"<=\"&fecha_final,Registros!C:C,\"=\"&A32))","v":0},21113.49]
[630306,"ACTIVIDADES SOCIALES ",{"$f":"IF(ISBLANK(A33),0,SUMIFS(Registros!G:G,Registros!B:B,\"<\"&fecha_inicial,Registros!C:C,\"=\"&A33)-IF(ISBLANK(A33),0,SUMIFS(Registros!H:H,Registros!B:B,\"<\"&fecha_inicial,Registros!C:C,\"=\"&A33)))","v":0},{"$f":"IF(ISBLANK(A33),0,SUMIFS(Registros!G:G,Registros!B:B,\">=\"&fecha_inicial, Registros!B:B, \"<=\"&fecha_final,Registros!C:C,\"=\"&A33))","v":31190.639999999999},{"$f":"IF(ISBLANK(A33),0,SUMIFS(Registros!H:H,Registros!B:B,\">=\"&fecha_inicial, Registros!B:B, \"<=\"&fecha_final,Registros!C:C,\"=\"&A33))","v":0},31190.639999999999]
[630307,{"$f":"IF(A34<>0, IF(ISERROR(VLOOKUP(A34, plan_cuentas,2, FALSE)), \"Código de Cuenta Incorrecto\", UPPER(VLOOKUP(A34, plan_cuentas, 2, FALSE))), \"\")","v":"OTROS PAGOS"},{"$f":"IF(ISBLANK(A34),0,SUMIFS(Registros!G:G,Registros!B:B,\"<\"&fecha_inicial,Registros!C:C,\"=\"&A34)-IF(ISBLANK(A34),0,SUMIFS(Registros!H:H,Registros!B:B,\"<\"&fecha_inicial,Registros!C:C,\"=\"&A34)))","v":17678.22},{"$f":"IF(ISBLANK(A34),0,SUMIFS(Registros!G:G,Registros!B:B,\">=\"&fecha_inicial, Registros!B:B, \"<=\"&fecha_final,Registros!C:C,\"=\"&A34))","v":15780},{"$f":"IF(ISBLANK(A34),0,SUMIFS(Registros!H:H,Registros!B:B,\">=\"&fecha_inicial, Registros!B:B, \"<=\"&fecha_final,Registros!C:C,\"=\"&A34))","v":0},{"$f":"C34+D34-E34","v":33458.22}]
[630308,{"$f":"IF(A35<>0, IF(ISERROR(VLOOKUP(A35, plan_cuentas,2, FALSE)), \"Código de Cuenta Incorrecto\", UPPER(VLOOKUP(A35, plan_cuentas, 2, FALSE))), \"\")","v":"APORTE SOCIAL"},{"$f":"IF(ISBLANK(A35),0,SUMIFS(Registros!G:G,Registros!B:B,\"<\"&fecha_inicial,Registros!C:C,\"=\"&A35)-IF(ISBLANK(A35),0,SUMIFS(Registros!H:H,Registros!B:B,\"<\"&fecha_inicial,Registros!C:C,\"=\"&A35)))","v":5241.03},{"$f":"IF(ISBLANK(A35),0,SUMIFS(Registros!G:G,Registros!B:B,\">=\"&fecha_inicial, Registros!B:B, \"<=\"&fecha_final,Registros!C:C,\"=\"&A35))","v":0},{"$f":"IF(ISBLANK(A35),0,SUMIFS(Registros!H:H,Registros!B:B,\">=\"&fecha_inicial, Registros!B:B, \"<=\"&fecha_final,Registros!C:C,\"=\"&A35))","v":0},{"$f":"C35+D35-E35","v":5241.03}]
[630400,"PROYECTO NICA AGUA",{"$f":"SUM(C37:C39)","v":2800},{"$f":"SUM(D37:D39)","v":0},{"$f":"SUM(E37:E39)","v":0},{"$f":"SUM(F37:F39)","v":2800}]
[630401,"ADMINISTRATIVOS Y GENERALES",{"$f":"IF(ISBLANK(A37),0,SUMIFS(Registros!G:G,Registros!B:B,\"<\"&fecha_inicial,Registros!C:C,\"=\"&A37)-IF(ISBLANK(A37),0,SUMIFS(Registros!H:H,Registros!B:B,\"<\"&fecha_inicial,Registros!C:C,\"=\"&A37)))","v":1800},{"$f":"IF(ISBLANK(A37),0,SUMIFS(Registros!G:G,Registros!B:B,\">=\"&fecha_inicial, Registros!B:B, \"<=\"&fecha_final,Registros!C:C,\"=\"&A37))","v":0},{"$f":"IF(ISBLANK(A37),0,SUMIFS(Registros!H:H,Registros!B:B,\">=\"&fecha_inicial, Registros!B:B, \"<=\"&fecha_final,Registros!C:C,\"=\"&A37))","v":0},1800]
[630402,"VIATICOS ",{"$f":"IF(ISBLANK(A38),0,SUMIFS(Registros!G:G,Registros!B:B,\"<\"&fecha_inicial,Registros!C:C,\"=\"&A38)-IF(ISBLANK(A38),0,SUMIFS(Registros!H:H,Registros!B:B,\"<\"&fecha_inicial,Registros!C:C,\"=\"&A38)))","v":1000},{"$f":"IF(ISBLANK(A38),0,SUMIFS(Registros!G:G,Registros!B:B,\">=\"&fecha_inicial, Registros!B:B, \"<=\"&fecha_final,Registros!C:C,\"=\"&A38))","v":0},{"$f":"IF(ISBLANK(A38),0,SUMIFS(Registros!H:H,Registros!B:B,\">=\"&fecha_inicial, Registros!B:B, \"<=\"&fecha_final,Registros!C:C,\"=\"&A38))","v":0},1000]
[630403,"GASTO DE TRANSPORTE AEREO",{"$f":"IF(ISBLANK(A39),0,SUMIFS(Registros!G:G,Registros!B:B,\"<\"&fecha_inicial,Registros!C:C,\"=\"&A39)-IF(ISBLANK(A39),0,SUMIFS(Registros!H:H,Registros!B:B,\"<\"&fecha_inicial,Registros!C:C,\"=\"&A39)))","v":0},{"$f":"IF(ISBLANK(A39),0,SUMIFS(Registros!G:G,Registros!B:B,\">=\"&fecha_inicial, Registros!B:B, \"<=\"&fecha_final,Registros!C:C,\"=\"&A39))","v":0},{"$f":"IF(ISBLANK(A39),0,SUMIFS(Registros!H:H,Registros!B:B,\">=\"&fecha_inicial, Registros!B:B, \"<=\"&fecha_final,Registros!C:C,\"=\"&A39))","v":0},0]
[630500,"PROYECTO CLINICA LOS ROBLES",{"$f":"SUM(C41:C46)","v":12933.75},{"$f":"SUM(D41:D46)","v":6016.16},{"$f":"SUM(E41:E46)","v":0},{"$f":"SUM(F41:F46)","v":18949.91}]
[630501,"COMBUSTIBLE",{"$f":"IF(ISBLANK(A41),0,SUMIFS(Registros!G:G,Registros!B:B,\"<\"&fecha_inicial,Registros!C:C,\"=\"&A41)-IF(ISBLANK(A41),0,SUMIFS(Registros!H:H,Registros!B:B,\"<\"&fecha_inicial,Registros!C:C,\"=\"&A41)))","v":6110},{"$f":"IF(ISBLANK(A41),0,SUMIFS(Registros!G:G,Registros!B:B,\">=\"&fecha_inicial, Registros!B:B, \"<=\"&fecha_final,Registros!C:C,\"=\"&A41))","v":4080.75},{"$f":"IF(ISBLANK(A41),0,SUMIFS(Registros!H:H,Registros!B:B,\">=\"&fecha_inicial, Registros!B:B, \"<=\"&fecha_final,Registros!C:C,\"=\"&A41))","v":0},10190.75]
[630502,"VIATICOS DE ALIMENTACIÓN",{"$f":"IF(ISBLANK(A42),0,SUMIFS(Registros!G:G,Registros!B:B,\"<\"&fecha_inicial,Registros!C:C,\"=\"&A42)-IF(ISBLANK(A42),0,SUMIFS(Registros!H:H,Registros!B:B,\"<\"&fecha_inicial,Registros!C:C,\"=\"&A42)))","v":6823.75},{"$f":"IF(ISBLANK(A42),0,SUMIFS(Registros!G:G,Registros!B:B,\">=\"&fecha_inicial, Registros!B:B, \"<=\"&fecha_final,Registros!C:C,\"=\"&A42))","v":1935.4099999999999},{"$f":"IF(ISBLANK(A42),0,SUMIFS(Registros!H:H,Registros!B:B,\">=\"&fecha_inicial, Registros!B:B, \"<=\"&fecha_final,Registros!C:C,\"=\"&A42))","v":0},8759.16]
[630503,"INSUMOS MÉDICOS",{"$f":"IF(ISBLANK(A43),0,SUMIFS(Registros!G:G,Registros!B:B,\"<\"&fecha_inicial,Registros!C:C,\"=\"&A43)-IF(ISBLANK(A43),0,SUMIFS(Registros!H:H,Registros!B:B,\"<\"&fecha_inicial,Registros!C:C,\"=\"&A43)))","v":0},{"$f":"IF(ISBLANK(A43),0,SUMIFS(Registros!G:G,Registros!B:B,\">=\"&fecha_inicial, Registros!B:B, \"<=\"&fecha_final,Registros!C:C,\"=\"&A43))","v":0},{"$f":"IF(ISBLANK(A43),0,SUMIFS(Registros!H:H,Registros!B:B,\">=\"&fecha_inicial, Registros!B:B, \"<=\"&fecha_final,Registros!C:C,\"=\"&A43))","v":0},0]
[630504,"PAPELERÍA ",{"$f":"IF(ISBLANK(A44),0,SUMIFS(Registros!G:G,Registros!B:B,\"<\"&fecha_inicial,Registros!C:C,\"=\"&A44)-IF(ISBLANK(A44),0,SUMIFS(Registros!H:H,Registros!B:B,\"<\"&fecha_inicial,Registros!C:C,\"=\"&A44)))","v":0},{"$f":"IF(ISBLANK(A44),0,SUMIFS(Registros!G:G,Registros!B:B,\">=\"&fecha_inicial, Registros!B:B, \"<=\"&fecha_final,Registros!C:C,\"=\"&A44))","v":0},{"$f":"IF(ISBLANK(A44),0,SUMIFS(Registros!H:H,Registros!B:B,\">=\"&fecha_inicial, Registros!B:B, \"<=\"&fecha_final,Registros!C:C,\"=\"&A44))","v":0},0]
[630505,"EQUIPOS Y MOBILIARIOS",{"$f":"IF(ISBLANK(A45),0,SUMIFS(Registros!G:G,Registros!B:B,\"<\"&fecha_inicial,Registros!C:C,\"=\"&A45)-IF(ISBLANK(A45),0,SUMIFS(Registros!H:H,Registros!B:B,\"<\"&fecha_inicial,Registros!C:C,\"=\"&A45)))","v":0},{"$f":"IF(ISBLANK(A45),0,SUMIFS(Registros!G:G,Registros!B:B,\">=\"&fecha_inicial, Registros!B:B, \"<=\"&fecha_final,Registros!C:C,\"=\"&A45))","v":0},{"$f":"IF(ISBLANK(A45),0,SUMIFS(Registros!H:H,Registros!B:B,\">=\"&fecha_inicial, Registros!B:B, \"<=\"&fecha_final,Registros!C:C,\"=\"&A45))","v":0},0]
[630506,"SUMINISTROS DE LIMPIEZA",{"$f":"IF(ISBLANK(A46),0,SUMIFS(Registros!G:G,Registros!B:B,\"<\"&fecha_inicial,Registros!C:C,\"=\"&A46)-IF(ISBLANK(A46),0,SUMIFS(Registros!H:H,Registros!B:B,\"<\"&fecha_inicial,Registros!C:C,\"=\"&A46)))","v":0},{"$f":"IF(ISBLANK(A46),0,SUMIFS(Registros!G:G,Registros!B:B,\">=\"&fecha_inicial, Registros!B:B, \"<=\"&fecha_final,Registros!C:C,\"=\"&A46))","v":0},{"$f":"IF(ISBLANK(A46),0,SUMIFS(Registros!H:H,Registros!B:B,\">=\"&fecha_inicial, Registros!B:B, \"<=\"&fecha_final,Registros!C:C,\"=\"&A46))","v":0},0]
[null,{"$f":"IF(A47<>0, IF(ISERROR(VLOOKUP(A47, plan_cuentas,2, FALSE)), \"Código de Cuenta Incorrecto\", UPPER(VLOOKUP(A47, plan_cuentas, 2, FALSE))), \"\")","v":""},{"$f":"SUM(C48:C53)","v":0},{"$f":"SUM(D48:D53)","v":0},{"$f":"SUM(E48:E53)","v":0},0]
[null,{"$f":"IF(A48<>\"\", IF(ISERROR(VLOOKUP(A48, plan_cuentas,2, FALSE)), \"Código de Cuenta Incorrecto\", UPPER(VLOOKUP(A48, plan_cuentas, 2, FALSE))), \"\")","v":""},{"$f":"IF(ISBLANK(A48),0,SUMIFS(Registros!G:G,Registros!B:B,\"<\"&fecha_inicial,Registros!C:C,\"=\"&A48)-IF(ISBLANK(A48),0,SUMIFS(Registros!H:H,Registros!B:B,\"<\"&fecha_inicial,Registros!C:C,\"=\"&A48)))","v":0},{"$f":"IF(ISBLANK(A48),0,SUMIFS(Registros!G:G,Registros!B:B,\">=\"&fecha_inicial, Registros!B:B, \"<=\"&fecha_final,Registros!C:C,\"=\"&A48))","v":0},{"$f":"IF(ISBLANK(A48),0,SUMIFS(Registros!H:H,Registros!B:B,\">=\"&fecha_inicial, Registros!B:B, \"<=\"&fecha_final,Registros!C:C,\"=\"&A48))","v":0},0]
[null,{"$f":"IF(A49<>0, IF(ISERROR(VLOOKUP(A49, plan_cuentas,2, FALSE)), \"Código de Cuenta Incorrecto\", UPPER(VLOOKUP(A49, plan_cuentas, 2, FALSE))), \"\")","v":""},{"$f":"IF(ISBLANK(A49),0,SUMIFS(Registros!G:G,Registros!B:B,\"<\"&fecha_inicial,Registros!C:C,\"=\"&A49)-IF(ISBLANK(A49),0,SUMIFS(Registros!H:H,Registros!B:B,\"<\"&fecha_inicial,Registros!C:C,\"=\"&A49)))","v":0},{"$f":"IF(ISBLANK(A49),0,SUMIFS(Registros!G:G,Registros!B:B,\">=\"&fecha_inicial, Registros!B:B, \"<=\"&fecha_final,Registros!C:C,\"=\"&A49))","v":0},{"$f":"IF(ISBLANK(A49),0,SUMIFS(Registros!H:H,Registros!B:B,\">=\"&fecha_inicial, Registros!B:B, \"<=\"&fecha_final,Registros!C:C,\"=\"&A49))","v":0},0]
[null,{"$f":"IF(A50<>0, IF(ISERROR(VLOOKUP(A50, plan_cuentas,2, FALSE)), \"Código de Cuenta Incorrecto\", UPPER(VLOOKUP(A50, plan_cuentas, 2, FALSE))), \"\")","v":""},{"$f":"IF(ISBLANK(A50),0,SUMIFS(Registros!G:G,Registros!B:B,\"<\"&fecha_inicial,Registros!C:C,\"=\"&A50)-IF(ISBLANK(A50),0,SUMIFS(Registros!H:H,Registros!B:B,\"<\"&fecha_inicial,Registros!C:C,\"=\"&A50)))","v":0},{"$f":"IF(ISBLANK(A50),0,SUMIFS(Registros!G:G,Registros!B:B,\">=\"&fecha_inicial, Registros!B:B, \"<=\"&fecha_final,Registros!C:C,\"=\"&A50))","v":0},{"$f":"IF(ISBLANK(A50),0,SUMIFS(Registros!H:H,Registros!B:B,\">=\"&fecha_inicial, Registros!B:B, \"<=\"&fecha_final,Registros!C:C,\"=\"&A50))","v":0},0]
[null,{"$f":"IF(A51<>0, IF(ISERROR(VLOOKUP(A51, plan_cuentas,2, FALSE)), \"Código de Cuenta Incorrecto\", UPPER(VLOOKUP(A51, plan_cuentas, 2, FALSE))), \"\")","v":""},{"$f":"IF(ISBLANK(A51),0,SUMIFS(Registros!G:G,Registros!B:B,\"<\"&fecha_inicial,Registros!C:C,\"=\"&A51)-IF(ISBLANK(A51),0,SUMIFS(Registros!H:H,Registros!B:B,\"<\"&fecha_inicial,Registros!C:C,\"=\"&A51)))","v":0},{"$f":"IF(ISBLANK(A51),0,SUMIFS(Registros!G:G,Registros!B:B,\">=\"&fecha_inicial, Registros!B:B, \"<=\"&fecha_final,Registros!C:C,\"=\"&A51))","v":0},{"$f":"IF(ISBLANK(A51),0,SUMIFS(Registros!H:H,Registros!B:B,\">=\"&fecha_inicial, Registros!B:B, \"<=\"&fecha_final,Registros!C:C,\"=\"&A51))","v":0},0]
[null,{"$f":"IF(A52<>0, IF(ISERROR(VLOOKUP(A52, plan_cuentas,2, FALSE)), \"Código de Cuenta Incorrecto\", UPPER(VLOOKUP(A52, plan_cuentas, 2, FALSE))), \"\")","v":""},{"$f":"IF(ISBLANK(A52),0,SUMIFS(Registros!G:G,Registros!B:B,\"<\"&fecha_inicial,Registros!C:C,\"=\"&A52)-IF(ISBLANK(A52),0,SUMIFS(Registros!H:H,Registros!B:B,\"<\"&fecha_inicial,Registros!C:C,\"=\"&A52)))","v":0},{"$f":"IF(ISBLANK(A52),0,SUMIFS(Registros!G:G,Registros!B:B,\">=\"&fecha_inicial, Registros!B:B, \"<=\"&fecha_final,Registros!C:C,\"=\"&A52))","v":0},{"$f":"IF(ISBLANK(A52),0,SUMIFS(Registros!H:H,Registros!B:B,\">=\"&fecha_inicial, Registros!B:B, \"<=\"&fecha_final,Registros!C:C,\"=\"&A52))","v":0},0]
[null,{"$f":"IF(A53<>0, IF(ISERROR(VLOOKUP(A53, plan_cuentas,2, FALSE)), \"Código de Cuenta Incorrecto\", UPPER(VLOOKUP(A53, plan_cuentas, 2, FALSE))), \"\")","v":""},{"$f":"IF(ISBLANK(A53),0,SUMIFS(Registros!G:G,Registros!B:B,\"<\"&fecha_inicial,Registros!C:C,\"=\"&A53)-IF(ISBLANK(A53),0,SUMIFS(Registros!H:H,Registros!B:B,\"<\"&fecha_inicial,Registros!C:C,\"=\"&A53)))","v":0},{"$f":"IF(ISBLANK(A53),0,SUMIFS(Registros!G:G,Registros!B:B,\">=\"&fecha_inicial, Registros!B:B, \"<=\"&fecha_final,Registros!C:C,\"=\"&A53))","v":0},{"$f":"IF(ISBLANK(A53),0,SUMIFS(Registros!H:H,Registros!B:B,\">=\"&fecha_inicial, Registros!B:B, \"<=\"&fecha_final,Registros!C:C,\"=\"&A53))","v":0},0]
[null,"",{"$f":"SUM(C55:C60)","v":0},{"$f":"SUM(D55:D60)","v":0},{"$f":"SUM(E55:E60)","v":0},0]
[null,"",{"$f":"IF(ISBLANK(A55),0,SUMIFS(Registros!G:G,Registros!B:B,\"<\"&fecha_inicial,Registros!C:C,\"=\"&A55)-IF(ISBLANK(A55),0,SUMIFS(Registros!H:H,Registros!B:B,\"<\"&fecha_inicial,Registros!C:C,\"=\"&A55)))","v":0},{"$f":"IF(ISBLANK(A55),0,SUMIFS(Registros!G:G,Registros!B:B,\">=\"&fecha_inicial, Registros!B:B, \"<=\"&fecha_final,Registros!C:C,\"=\"&A55))","v":0},{"$f":"IF(ISBLANK(A55),0,SUMIFS(Registros!H:H,Registros!B:B,\">=\"&fecha_inicial, Registros!B:B, \"<=\"&fecha_final,Registros!C:C,\"=\"&A55))","v":0},0]
[null,"",{"$f":"IF(ISBLANK(A56),0,SUMIFS(Registros!G:G,Registros!B:B,\"<\"&fecha_inicial,Registros!C:C,\"=\"&A56)-IF(ISBLANK(A56),0,SUMIFS(Registros!H:H,Registros!B:B,\"<\"&fecha_inicial,Registros!C:C,\"=\"&A56)))","v":0},{"$f":"IF(ISBLANK(A56),0,SUMIFS(Registros!G:G,Registros!B:B,\">=\"&fecha_inicial, Registros!B:B, \"<=\"&fecha_final,Registros!C:C,\"=\"&A56))","v":0},{"$f":"IF(ISBLANK(A56),0,SUMIFS(Registros!H:H,Registros!B:B,\">=\"&fecha_inicial, Registros!B:B, \"<=\"&fecha_final,Registros!C:C,\"=\"&A56))","v":0},0]
[null,"",{"$f":"IF(ISBLANK(A57),0,SUMIFS(Registros!G:G,Registros!B:B,\"<\"&fecha_inicial,Registros!C:C,\"=\"&A57)-IF(ISBLANK(A57),0,SUMIFS(Registros!H:H,Registros!B:B,\"<\"&fecha_inicial,Registros!C:C,\"=\"&A57)))","v":0},{"$f":"IF(ISBLANK(A57),0,SUMIFS(Registros!G:G,Registros!B:B,\">=\"&fecha_inicial, Registros!B:B, \"<=\"&fecha_final,Registros!C:C,\"=\"&A57))","v":0},{"$f":"IF(ISBLANK(A57),0,SUMIFS(Registros!H:H,Registros!B:B,\">=\"&fecha_inicial, Registros!B:B, \"<=\"&fecha_final,Registros!C:C,\"=\"&A57))","v":0},0]
[null,"",{"$f":"IF(ISBLANK(A58),0,SUMIFS(Registros!G:G,Registros!B:B,\"<\"&fecha_inicial,Registros!C:C,\"=\"&A58)-IF(ISBLANK(A58),0,SUMIFS(Registros!H:H,Registros!B:B,\"<\"&fecha_inicial,Registros!C:C,\"=\"&A58)))","v":0},{"$f":"IF(ISBLANK(A58),0,SUMIFS(Registros!G:G,Registros!B:B,\">=\"&fecha_inicial, Registros!B:B, \"<=\"&fecha_final,Registros!C:C,\"=\"&A58))","v":0},{"$f":"IF(ISBLANK(A58),0,SUMIFS(Registros!H:H,Registros!B:B,\">=\"&fecha_inicial, Registros!B:B, \"<=\"&fecha_final,Registros!C:C,\"=\"&A58))","v":0},0]
[null,{"$f":"IF(A59<>0, IF(ISERROR(VLOOKUP(A59, plan_cuentas,2, FALSE)), \"Código de Cuenta Incorrecto\", UPPER(VLOOKUP(A59, plan_cuentas, 2, FALSE))), \"\")","v":""},{"$f":"IF(ISBLANK(A59),0,SUMIFS(Registros!G:G,Registros!B:B,\"<\"&fecha_inicial,Registros!C:C,\"=\"&A59)-IF(ISBLANK(A59),0,SUMIFS(Registros!H:H,Registros!B:B,\"<\"&fecha_inicial,Registros!C:C,\"=\"&A59)))","v":0},{"$f":"IF(ISBLANK(A59),0,SUMIFS(Registros!G:G,Registros!B:B,\">=\"&fecha_inicial, Registros!B:B, \"<=\"&fecha_final,Registros!C:C,\"=\"&A59))","v":0},{"$f":"IF(ISBLANK(A59),0,SUMIFS(Registros!H:H,Registros!B:B,\">=\"&fecha_inicial, Registros!B:B, \"<=\"&fecha_final,Registros!C:C,\"=\"&A59))","v":0},0]
[null,"",{"$f":"IF(ISBLANK(A60),0,SUMIFS(Registros!G:G,Registros!B:B,\"<\"&fecha_inicial,Registros!C:C,\"=\"&A60)-IF(ISBLANK(A60),0,SUMIFS(Registros!H:H,Registros!B:B,\"<\"&fecha_inicial,Registros!C:C,\"=\"&A60)))","v":0},{"$f":"IF(ISBLANK(A60),0,SUMIFS(Registros!G:G,Registros!B:B,\">=\"&fecha_inicial, Registros!B:B, \"<=\"&fecha_final,Registros!C:C,\"=\"&A60))","v":0},{"$f":"IF(ISBLANK(A60),0,SUMIFS(Registros!H:H,Registros!B:B,\">=\"&fecha_inicial, Registros!B:B, \"<=\"&fecha_final,Registros!C:C,\"=\"&A60))","v":0},0]
[{"$f":"\"SALDO FINAL DE LA CUENTA AL \" &TEXT(fecha_final, \"dd\")&\" DE \"&UPPER(TEXT(fecha_final, \"MMMM\"))&\" DEL \"& TEXT(fecha_final, \"YYYY\")","v":"SALDO FINAL DE LA CUENTA AL 31 DE JULIO DEL 2014"},null,{"$f":"C11+C17+C27+C47+C36+C40+C54","v":234023.54},{"$f":"D11+D17+D27+D47+D36+D40+D54","v":236769.47},{"$f":"E11+E17+E27+E47+E36+E40+E54","v":0},{"$f":"C61+D61-E61","v":470793.01}]
[]
[]
[]
[]
["AUTORIZADO POR:",null,null,null,"REVISADO POR:"]
[{"$f":"VLOOKUP(A66, Usuarios!B7:E9, 3, FALSE)","v":"Rodrigo Castro Potoy"},null,null,null,{"$f":"VLOOKUP(E66, Usuarios!B7:E9, 3, FALSE)","v":0}]

{"sheet":"710000","index":30,"n_rows":66,"n_cols":6,"rows_kept":66,"cut":false,"hidden":false,"merged":[[70,2,70,3],[65,0,65,1],[65,4,65,5],[66,0,66,1],[66,4,66,5],[68,2,68,3],[69,2,69,3],[7,5,8,5],[59,0,59,1],[63,0,63,1],[63,4,63,5],[64,0,64,1],[64,4,64,5],[7,0,8,0],[7,1,8,1],[7,2,8,2],[7,3,8,3],[7,4,8,4],[1,0,1,5],[2,0,2,5],[3,0,3,5],[4,0,4,5],[6,3,6,5]]}
[null,null,null,null,"Proteger"]
[{"$f":"bussiness_name","v":"SOCIEDAD CIVIL COMUNIDAD CONNECT"}]
[{"$f":"\"RESUMEN CONTABLE DE \"&B7","v":"RESUMEN CONTABLE DE COMISIONES BANCARIAS"}]
[{"$f":"\"DEL \"&TEXT(fecha_inicial, \"DD\")&\" DE \"&UPPER(TEXT(fecha_inicial, \"MMMM\"))&\" DEL \" & TEXT(fecha_inicial, \"YYYY\") & \" AL \"&TEXT(fecha_final, \"DD\")&\" DE \"&UPPER(TEXT(fecha_final, \"MMMM\"))&\" DEL \"&TEXT(fecha_final, \"YYYY\")","v":"DEL 01 DE JULIO DEL 2014 AL 31 DE JULIO DEL 2014"}]
[{"$f":"address & \" *** Tel/Fax:  \" & tel & \" *** \" & email","v":"Esquina sureste del Parque Central, San Juan del sur, Nicaragua. *** Tel/Fax:  25682731 *** info@comunidadconnect.org"}]
[]
[710000,{"$f":"UPPER(IF(ISBLANK(A7),\"\",IFERROR(VLOOKUP(A7,plan_cuentas,2,FALSE),\"Código de cuenta incorrecto\")))","v":"COMISIONES BANCARIAS"},null,{"$f":"\"MOVIMIENTOS DE \"&UPPER(TEXT(fecha_final, \"MMMM\"))","v":"MOVIMIENTOS DE JULIO"}]
["CODIGO","NOMBRE DE LA CUENTA","SALDO INICIAL","DEBITOS","CREDITOS","SALDO FINAL"]
[]
[]
[710100,{"$f":"IF(A11<>\"\", IF(ISERROR(VLOOKUP(A11, plan_cuentas,2, FALSE)), \"Código de Cuenta Incorrecto\", UPPER(VLOOKUP(A11, plan_cuentas, 2, FALSE))), \"\")","v":"CARGOS CUENTAS CORRIENTES"},{"$f":"SUM(C12:C17)","v":0},{"$f":"SUM(D12:D17)","v":0},{"$f":"SUM(E12:E17)","v":0},{"$f":"C11+D11-E11","v":0}]
[710101,{"$f":"IF(A12<>\"\", IF(ISERROR(VLOOKUP(A12, plan_cuentas,2, FALSE)), \"Código de Cuenta Incorrecto\", UPPER(VLOOKUP(A12, plan_cuentas, 2, FALSE))), \"\")","v":"CTA. CTE. 356894501 C$"},{"$f":"IF(ISBLANK(A12),0,SUMIFS(Registros!G:G,Registros!B:B,\"<\"&fecha_inicial,Registros!C:C,\"=\"&A12)-IF(ISBLANK(A12),0,SUMIFS(Registros!H:H,Registros!B:B,\"<\"&fecha_inicial,Registros!C:C,\"=\"&A12)))","v":0},{"$f":"IF(ISBLANK(A12),0,SUMIFS(Registros!G:G,Registros!B:B,\">=\"&fecha_inicial, Registros!B:B, \"<=\"&fecha_final,Registros!C:C,\"=\"&A12))","v":0},{"$f":"IF(ISBLANK(A12),0,SUMIFS(Registros!H:H,Registros!B:B,\">=\"&fecha_inicial, Registros!B:B, \"<=\"&fecha_final,Registros!C:C,\"=\"&A12))","v":0},{"$f":"C12+D12-E12","v":0}]
[710102,{"$f":"IF(A13<>0, IF(ISERROR(VLOOKUP(A13, plan_cuentas,2, FALSE)), \"Código de Cuenta Incorrecto\", UPPER(VLOOKUP(A13, plan_cuentas, 2, FALSE))), \"\")","v":"CTA. CTE. 357144914  U$"},{"$f":"IF(ISBLANK(A13),0,SUMIFS(Registros!G:G,Registros!B:B,\"<\"&fecha_inicial,Registros!C:C,\"=\"&A13)-IF(ISBLANK(A13),0,SUMIFS(Registros!H:H,Registros!B:B,\"<\"&fecha_inicial,Registros!C:C,\"=\"&A13)))","v":0},{"$f":"IF(ISBLANK(A13),0,SUMIFS(Registros!G:G,Registros!B:B,\">=\"&fecha_inicial, Registros!B:B, \"<=\"&fecha_final,Registros!C:C,\"=\"&A13))","v":0},{"$f":"IF(ISBLANK(A13),0,SUMIFS(Registros!H:H,Registros!B:B,\">=\"&fecha_inicial, Registros!B:B, \"<=\"&fecha_final,Registros!C:C,\"=\"&A13))","v":0},{"$f":"C13+D13-E13","v":0}]
[710103,"CTA. TRANSFERENCIAS 357144914 U$",{"$f":"IF(ISBLANK(A14),0,SUMIFS(Registros!G:G,Registros!B:B,\"<\"&fecha_inicial,Registros!C:C,\"=\"&A14)-IF(ISBLANK(A14),0,SUMIFS(Registros!H:H,Registros!B:B,\"<\"&fecha_inicial,Registros!C:C,\"=\"&A14)))","v":0},{"$f":"IF(ISBLANK(A14),0,SUMIFS(Registros!G:G,Registros!B:B,\">=\"&fecha_inicial, Registros!B:B, \"<=\"&fecha_final,Registros!C:C,\"=\"&A14))","v":0},{"$f":"IF(ISBLANK(A14),0,SUMIFS(Registros!H:H,Registros!B:B,\">=\"&fecha_inicial, Registros!B:B, \"<=\"&fecha_final,Registros!C:C,\"=\"&A14))","v":0},0]
[null,"",{"$f":"IF(ISBLANK(A15),0,SUMIFS(Registros!G:G,Registros!B:B,\"<\"&fecha_inicial,Registros!C:C,\"=\"&A15)-IF(ISBLANK(A15),0,SUMIFS(Registros!H:H,Registros!B:B,\"<\"&fecha_inicial,Registros!C:C,\"=\"&A15)))","v":0},{"$f":"IF(ISBLANK(A15),0,SUMIFS(Registros!G:G,Registros!B:B,\">=\"&fecha_inicial, Registros!B:B, \"<=\"&fecha_final,Registros!C:C,\"=\"&A15))","v":0},{"$f":"IF(ISBLANK(A15),0,SUMIFS(Registros!H:H,Registros!B:B,\">=\"&fecha_inicial, Registros!B:B, \"<=\"&fecha_final,Registros!C:C,\"=\"&A15))","v":0},0]
[null,"",{"$f":"IF(ISBLANK(A16),0,SUMIFS(Registros!G:G,Registros!B:B,\"<\"&fecha_inicial,Registros!C:C,\"=\"&A16)-IF(ISBLANK(A16),0,SUMIFS(Registros!H:H,Registros!B:B,\"<\"&fecha_inicial,Registros!C:C,\"=\"&A16)))","v":0},{"$f":"IF(ISBLANK(A16),0,SUMIFS(Registros!G:G,Registros!B:B,\">=\"&fecha_inicial, Registros!B:B, \"<=\"&fecha_final,Registros!C:C,\"=\"&A16))","v":0},{"$f":"IF(ISBLANK(A16),0,SUMIFS(Registros!H:H,Registros!B:B,\">=\"&fecha_inicial, Registros!B:B, \"<=\"&fecha_final,Registros!C:C,\"=\"&A16))","v":0},0]
[null,"",{"$f":"IF(ISBLANK(A17),0,SUMIFS(Registros!G:G,Registros!B:B,\"<\"&fecha_inicial,Registros!C:C,\"=\"&A17)-IF(ISBLANK(A17),0,SUMIFS(Registros!H:H,Registros!B:B,\"<\"&fecha_inicial,Registros!C:C,\"=\"&A17)))","v":0},{"$f":"IF(ISBLANK(A17),0,SUMIFS(Registros!G:G,Registros!B:B,\">=\"&fecha_inicial, Registros!B:B, \"<=\"&fecha_final,Registros!C:C,\"=\"&A17))","v":0},{"$f":"IF(ISBLANK(A17),0,SUMIFS(Registros!H:H,Registros!B:B,\">=\"&fecha_inicial, Registros!B:B, \"<=\"&fecha_final,Registros!C:C,\"=\"&A17))","v":0},0]
[null,{"$f":"IF(A18<>0, IF(ISERROR(VLOOKUP(A18, plan_cuentas,2, FALSE)), \"Código de Cuenta Incorrecto\", UPPER(VLOOKUP(A18, plan_cuentas, 2, FALSE))), \"\")","v":""},{"$f":"SUM(C19:C24)","v":0},{"$f":"SUM(D19:D24)","v":0},{"$f":"SUM(E19:E24)","v":0},0]
[null,{"$f":"IF(A19<>\"\", IF(ISERROR(VLOOKUP(A19, plan_cuentas,2, FALSE)), \"Código de Cuenta Incorrecto\", UPPER(VLOOKUP(A19, plan_cuentas, 2, FALSE))), \"\")","v":""},{"$f":"IF(ISBLANK(A19),0,SUMIFS(Registros!G:G,Registros!B:B,\"<\"&fecha_inicial,Registros!C:C,\"=\"&A19)-IF(ISBLANK(A19),0,SUMIFS(Registros!H:H,Registros!B:B,\"<\"&fecha_inicial,Registros!C:C,\"=\"&A19)))","v":0},{"$f":"IF(ISBLANK(A19),0,SUMIFS(Registros!G:G,Registros!B:B,\">=\"&fecha_inicial, Registros!B:B, \"<=\"&fecha_final,Registros!C:C,\"=\"&A19))","v":0},{"$f":"IF(ISBLANK(A19),0,SUMIFS(Registros!H:H,Registros!B:B,\">=\"&fecha_inicial, Registros!B:B, \"<=\"&fecha_final,Registros!C:C,\"=\"&A19))","v":0},0]
[null,"",{"$f":"IF(ISBLANK(A20),0,SUMIFS(Registros!G:G,Registros!B:B,\"<\"&fecha_inicial,Registros!C:C,\"=\"&A20)-IF(ISBLANK(A20),0,SUMIFS(Registros!H:H,Registros!B:B,\"<\"&fecha_inicial,Registros!C:C,\"=\"&A20)))","v":0},{"$f":"IF(ISBLANK(A20),0,SUMIFS(Registros!G:G,Registros!B:B,\">=\"&fecha_inicial, Registros!B:B, \"<=\"&fecha_final,Registros!C:C,\"=\"&A20))","v":0},{"$f":"IF(ISBLANK(A20),0,SUMIFS(Registros!H:H,Registros!B:B,\">=\"&fecha_inicial, Registros!B:B, \"<=\"&fecha_final,Registros!C:C,\"=\"&A20))","v":0},0]
[null,"",{"$f":"IF(ISBLANK(A21),0,SUMIFS(Registros!G:G,Registros!B:B,\"<\"&fecha_inicial,Registros!C:C,\"=\"&A21)-IF(ISBLANK(A21),0,SUMIFS(Registros!H:H,Registros!B:B,\"<\"&fecha_inicial,Registros!C:C,\"=\"&A21)))","v":0},{"$f":"IF(ISBLANK(A21),0,SUMIFS(Registros!G:G,Registros!B:B,\">=\"&fecha_inicial, Registros!B:B, \"<=\"&fecha_final,Registros!C:C,\"=\"&A21))","v":0},{"$f":"IF(ISBLANK(A21),0,SUMIFS(Registros!H:H,Registros!B:B,\">=\"&fecha_inicial, Registros!B:B, \"<=\"&fecha_final,Registros!C:C,\"=\"&A21))","v":0},0]
[null,"",{"$f":"IF(ISBLANK(A22),0,SUMIFS(Registros!G:G,Registros!B:B,\"<\"&fecha_inicial,Registros!C:C,\"=\"&A22)-IF(ISBLANK(A22),0,SUMIFS(Registros!H:H,Registros!B:B,\"<\"&fecha_inicial,Registros!C:C,\"=\"&A22)))","v":0},{"$f":"IF(ISBLANK(A22),0,SUMIFS(Registros!G:G,Registros!B:B,\">=\"&fecha_inicial, Registros!B:B, \"<=\"&fecha_final,Registros!C:C,\"=\"&A22))","v":0},{"$f":"IF(ISBLANK(A22),0,SUMIFS(Registros!H:H,Registros!B:B,\">=\"&fecha_inicial, Registros!B:B, \"<=\"&fecha_final,Registros!C:C,\"=\"&A22))","v":0},0]
[null,"",{"$f":"IF(ISBLANK(A23),0,SUMIFS(Registros!G:G,Registros!B:B,\"<\"&fecha_inicial,Registros!C:C,\"=\"&A23)-IF(ISBLANK(A23),0,SUMIFS(Registros!H:H,Registros!B:B,\"<\"&fecha_inicial,Registros!C:C,\"=\"&A23)))","v":0},{"$f":"IF(ISBLANK(A23),0,SUMIFS(Registros!G:G,Registros!B:B,\">=\"&fecha_inicial, Registros!B:B, \"<=\"&fecha_final,Registros!C:C,\"=\"&A23))","v":0},{"$f":"IF(ISBLANK(A23),0,SUMIFS(Registros!H:H,Registros!B:B,\">=\"&fecha_inicial, Registros!B:B, \"<=\"&fecha_final,Registros!C:C,\"=\"&A23))","v":0},0]
[null,"",{"$f":"IF(ISBLANK(A24),0,SUMIFS(Registros!G:G,Registros!B:B,\"<\"&fecha_inicial,Registros!C:C,\"=\"&A24)-IF(ISBLANK(A24),0,SUMIFS(Registros!H:H,Registros!B:B,\"<\"&fecha_inicial,Registros!C:C,\"=\"&A24)))","v":0},{"$f":"IF(ISBLANK(A24),0,SUMIFS(Registros!G:G,Registros!B:B,\">=\"&fecha_inicial, Registros!B:B, \"<=\"&fecha_final,Registros!C:C,\"=\"&A24))","v":0},{"$f":"IF(ISBLANK(A24),0,SUMIFS(Registros!H:H,Registros!B:B,\">=\"&fecha_inicial, Registros!B:B, \"<=\"&fecha_final,Registros!C:C,\"=\"&A24))","v":0},0]
[null,{"$f":"IF(A25<>0, IF(ISERROR(VLOOKUP(A25, plan_cuentas,2, FALSE)), \"Código de Cuenta Incorrecto\", UPPER(VLOOKUP(A25, plan_cuentas, 2, FALSE))), \"\")","v":""},{"$f":"SUM(C26:C31)","v":0},{"$f":"SUM(D26:D31)","v":0},{"$f":"SUM(E26:E31)","v":0},0]
[null,{"$f":"IF(A26<>\"\", IF(ISERROR(VLOOKUP(A26, plan_cuentas,2, FALSE)), \"Código de Cuenta Incorrecto\", UPPER(VLOOKUP(A26, plan_cuentas, 2, FALSE))), \"\")","v":""},{"$f":"IF(ISBLANK(A26),0,SUMIFS(Registros!G:G,Registros!B:B,\"<\"&fecha_inicial,Registros!C:C,\"=\"&A26)-IF(ISBLANK(A26),0,SUMIFS(Registros!H:H,Registros!B:B,\"<\"&fecha_inicial,Registros!C:C,\"=\"&A26)))","v":0},{"$f":"IF(ISBLANK(A26),0,SUMIFS(Registros!G:G,Registros!B:B,\">=\"&fecha_inicial, Registros!B:B, \"<=\"&fecha_final,Registros!C:C,\"=\"&A26))","v":0},{"$f":"IF(ISBLANK(A26),0,SUMIFS(Registros!H:H,Registros!B:B,\">=\"&fecha_inicial, Registros!B:B, \"<=\"&fecha_final,Registros!C:C,\"=\"&A26))","v":0},0]
[null,"",{"$f":"IF(ISBLANK(A27),0,SUMIFS(Registros!G:G,Registros!B:B,\"<\"&fecha_inicial,Registros!C:C,\"=\"&A27)-IF(ISBLANK(A27),0,SUMIFS(Registros!H:H,Registros!B:B,\"<\"&fecha_inicial,Registros!C:C,\"=\"&A27)))","v":0},{"$f":"IF(ISBLANK(A27),0,SUMIFS(Registros!G:G,Registros!B:B,\">=\"&fecha_inicial, Registros!B:B, \"<=\"&fecha_final,Registros!C:C,\"=\"&A27))","v":0},{"$f":"IF(ISBLANK(A27),0,SUMIFS(Registros!H:H,Registros!B:B,\">=\"&fecha_inicial, Registros!B:B, \"<=\"&fecha_final,Registros!C:C,\"=\"&A27))","v":0},0]
[null,"",{"$f":"IF(ISBLANK(A28),0,SUMIFS(Registros!G:G,Registros!B:B,\"<\"&fecha_inicial,Registros!C:C,\"=\"&A28)-IF(ISBLANK(A28),0,SUMIFS(Registros!H:H,Registros!B:B,\"<\"&fecha_inicial,Registros!C:C,\"=\"&A28)))","v":0},{"$f":"IF(ISBLANK(A28),0,SUMIFS(Registros!G:G,Registros!B:B,\">=\"&fecha_inicial, Registros!B:B, \"<=\"&fecha_final,Registros!C:C,\"=\"&A28))","v":0},{"$f":"IF(ISBLANK(A28),0,SUMIFS(Registros!H:H,Registros!B:B,\">=\"&fecha_inicial, Registros!B:B, \"<=\"&fecha_final,Registros!C:C,\"=\"&A28))","v":0},0]
[null,"",{"$f":"IF(ISBLANK(A29),0,SUMIFS(Registros!G:G,Registros!B:B,\"<\"&fecha_inicial,Registros!C:C,\"=\"&A29)-IF(ISBLANK(A29),0,SUMIFS(Registros!H:H,Registros!B:B,\"<\"&fecha_inicial,Registros!C:C,\"=\"&A29)))","v":0},{"$f":"IF(ISBLANK(A29),0,SUMIFS(Registros!G:G,Registros!B:B,\">=\"&fecha_inicial, Registros!B:B, \"<=\"&fecha_final,Registros!C:C,\"=\"&A29))","v":0},{"$f":"IF(ISBLANK(A29),0,SUMIFS(Registros!H:H,Registros!B:B,\">=\"&fecha_inicial, Registros!B:B, \"<=\"&fecha_final,Registros!C:C,\"=\"&A29))","v":0},0]
[null,"",{"$f":"IF(ISBLANK(A30),0,SUMIFS(Registros!G:G,Registros!B:B,\"<\"&fecha_inicial,Registros!C:C,\"=\"&A30)-IF(ISBLANK(A30),0,SUMIFS(Registros!H:H,Registros!B:B,\"<\"&fecha_inicial,Registros!C:C,\"=\"&A30)))","v":0},{"$f":"IF(ISBLANK(A30),0,SUMIFS(Registros!G:G,Registros!B:B,\">=\"&fecha_inicial, Registros!B:B, \"<=\"&fecha_final,Registros!C:C,\"=\"&A30))","v":0},{"$f":"IF(ISBLANK(A30),0,SUMIFS(Registros!H:H,Registros!B:B,\">=\"&fecha_inicial, Registros!B:B, \"<=\"&fecha_final,Registros!C:C,\"=\"&A30))","v":0},0]
[null,"",{"$f":"IF(ISBLANK(A31),0,SUMIFS(Registros!G:G,Registros!B:B,\"<\"&fecha_inicial,Registros!C:C,\"=\"&A31)-IF(ISBLANK(A31),0,SUMIFS(Registros!H:H,Registros!B:B,\"<\"&fecha_inicial,Registros!C:C,\"=\"&A31)))","v":0},{"$f":"IF(ISBLANK(A31),0,SUMIFS(Registros!G:G,Registros!B:B,\">=\"&fecha_inicial, Registros!B:B, \"<=\"&fecha_final,Registros!C:C,\"=\"&A31))","v":0},{"$f":"IF(ISBLANK(A31),0,SUMIFS(Registros!H:H,Registros!B:B,\">=\"&fecha_inicial, Registros!B:B, \"<=\"&fecha_final,Registros!C:C,\"=\"&A31))","v":0},0]
[null,"",{"$f":"SUM(C33:C38)","v":0},{"$f":"SUM(D33:D38)","v":0},{"$f":"SUM(E33:E38)","v":0},0]
[null,"",{"$f":"IF(ISBLANK(A33),0,SUMIFS(Registros!G:G,Registros!B:B,\"<\"&fecha_inicial,Registros!C:C,\"=\"&A33)-IF(ISBLANK(A33),0,SUMIFS(Registros!H:H,Registros!B:B,\"<\"&fecha_inicial,Registros!C:C,\"=\"&A33)))","v":0},{"$f":"IF(ISBLANK(A33),0,SUMIFS(Registros!G:G,Registros!B:B,\">=\"&fecha_inicial, Registros!B:B, \"<=\"&fecha_final,Registros!C:C,\"=\"&A33))","v":0},{"$f":"IF(ISBLANK(A33),0,SUMIFS(Registros!H:H,Registros!B:B,\">=\"&fecha_inicial, Registros!B:B, \"<=\"&fecha_final,Registros!C:C,\"=\"&A33))","v":0},0]
[null,"",{"$f":"IF(ISBLANK(A34),0,SUMIFS(Registros!G:G,Registros!B:B,\"<\"&fecha_inicial,Registros!C:C,\"=\"&A34)-IF(ISBLANK(A34),0,SUMIFS(Registros!H:H,Registros!B:B,\"<\"&fecha_inicial,Registros!C:C,\"=\"&A34)))","v":0},{"$f":"IF(ISBLANK(A34),0,SUMIFS(Registros!G:G,Registros!B:B,\">=\"&fecha_inicial, Registros!B:B, \"<=\"&fecha_final,Registros!C:C,\"=\"&A34))","v":0},{"$f":"IF(ISBLANK(A34),0,SUMIFS(Registros!H:H,Registros!B:B,\">=\"&fecha_inicial, Registros!B:B, \"<=\"&fecha_final,Registros!C:C,\"=\"&A34))","v":0},0]
[null,"",{"$f":"IF(ISBLANK(A35),0,SUMIFS(Registros!G:G,Registros!B:B,\"<\"&fecha_inicial,Registros!C:C,\"=\"&A35)-IF(ISBLANK(A35),0,SUMIFS(Registros!H:H,Registros!B:B,\"<\"&fecha_inicial,Registros!C:C,\"=\"&A35)))","v":0},{"$f":"IF(ISBLANK(A35),0,SUMIFS(Registros!G:G,Registros!B:B,\">=\"&fecha_inicial, Registros!B:B, \"<=\"&fecha_final,Registros!C:C,\"=\"&A35))","v":0},{"$f":"IF(ISBLANK(A35),0,SUMIFS(Registros!H:H,Registros!B:B,\">=\"&fecha_inicial, Registros!B:B, \"<=\"&fecha_final,Registros!C:C,\"=\"&A35))","v":0},0]
[null,"",{"$f":"IF(ISBLANK(A36),0,SUMIFS(Registros!G:G,Registros!B:B,\"<\"&fecha_inicial,Registros!C:C,\"=\"&A36)-IF(ISBLANK(A36),0,SUMIFS(Registros!H:H,Registros!B:B,\"<\"&fecha_inicial,Registros!C:C,\"=\"&A36)))","v":0},{"$f":"IF(ISBLANK(A36),0,SUMIFS(Registros!G:G,Registros!B:B,\">=\"&fecha_inicial, Registros!B:B, \"<=\"&fecha_final,Registros!C:C,\"=\"&A36))","v":0},{"$f":"IF(ISBLANK(A36),0,SUMIFS(Registros!H:H,Registros!B:B,\">=\"&fecha_inicial, Registros!B:B, \"<=\"&fecha_final,Registros!C:C,\"=\"&A36))","v":0},0]
[null,"",{"$f":"IF(ISBLANK(A37),0,SUMIFS(Registros!G:G,Registros!B:B,\"<\"&fecha_inicial,Registros!C:C,\"=\"&A37)-IF(ISBLANK(A37),0,SUMIFS(Registros!H:H,Registros!B:B,\"<\"&fecha_inicial,Registros!C:C,\"=\"&A37)))","v":0},{"$f":"IF(ISBLANK(A37),0,SUMIFS(Registros!G:G,Registros!B:B,\">=\"&fecha_inicial, Registros!B:B, \"<=\"&fecha_final,Registros!C:C,\"=\"&A37))","v":0},{"$f":"IF(ISBLANK(A37),0,SUMIFS(Registros!H:H,Registros!B:B,\">=\"&fecha_inicial, Registros!B:B, \"<=\"&fecha_final,Registros!C:C,\"=\"&A37))","v":0},0]
[null,"",{"$f":"IF(ISBLANK(A38),0,SUMIFS(Registros!G:G,Registros!B:B,\"<\"&fecha_inicial,Registros!C:C,\"=\"&A38)-IF(ISBLANK(A38),0,SUMIFS(Registros!H:H,Registros!B:B,\"<\"&fecha_inicial,Registros!C:C,\"=\"&A38)))","v":0},{"$f":"IF(ISBLANK(A38),0,SUMIFS(Registros!G:G,Registros!B:B,\">=\"&fecha_inicial, Registros!B:B, \"<=\"&fecha_final,Registros!C:C,\"=\"&A38))","v":0},{"$f":"IF(ISBLANK(A38),0,SUMIFS(Registros!H:H,Registros!B:B,\">=\"&fecha_inicial, Registros!B:B, \"<=\"&fecha_final,Registros!C:C,\"=\"&A38))","v":0},0]
[null,"",{"$f":"SUM(C40:C45)","v":0},{"$f":"SUM(D40:D45)","v":0},{"$f":"SUM(E40:E45)","v":0},0]
[null,"",{"$f":"IF(ISBLANK(A40),0,SUMIFS(Registros!G:G,Registros!B:B,\"<\"&fecha_inicial,Registros!C:C,\"=\"&A40)-IF(ISBLANK(A40),0,SUMIFS(Registros!H:H,Registros!B:B,\"<\"&fecha_inicial,Registros!C:C,\"=\"&A40)))","v":0},{"$f":"IF(ISBLANK(A40),0,SUMIFS(Registros!G:G,Registros!B:B,\">=\"&fecha_inicial, Registros!B:B, \"<=\"&fecha_final,Registros!C:C,\"=\"&A40))","v":0},{"$f":"IF(ISBLANK(A40),0,SUMIFS(Registros!H:H,Registros!B:B,\">=\"&fecha_inicial, Registros!B:B, \"<=\"&fecha_final,Registros!C:C,\"=\"&A40))","v":0},0]
[null,"",{"$f":"IF(ISBLANK(A41),0,SUMIFS(Registros!G:G,Registros!B:B,\"<\"&fecha_inicial,Registros!C:C,\"=\"&A41)-IF(ISBLANK(A41),0,SUMIFS(Registros!H:H,Registros!B:B,\"<\"&fecha_inicial,Registros!C:C,\"=\"&A41)))","v":0},{"$f":"IF(ISBLANK(A41),0,SUMIFS(Registros!G:G,Registros!B:B,\">=\"&fecha_inicial, Registros!B:B, \"<=\"&fecha_final,Registros!C:C,\"=\"&A41))","v":0},{"$f":"IF(ISBLANK(A41),0,SUMIFS(Registros!H:H,Registros!B:B,\">=\"&fecha_inicial, Registros!B:B, \"<=\"&fecha_final,Registros!C:C,\"=\"&A41))","v":0},0]
[null,"",{"$f":"IF(ISBLANK(A42),0,SUMIFS(Registros!G:G,Registros!B:B,\"<\"&fecha_inicial,Registros!C:C,\"=\"&A42)-IF(ISBLANK(A42),0,SUMIFS(Registros!H:H,Registros!B:B,\"<\"&fecha_inicial,Registros!C:C,\"=\"&A42)))","v":0},{"$f":"IF(ISBLANK(A42),0,SUMIFS(Registros!G:G,Registros!B:B,\">=\"&fecha_inicial, Registros!B:B, \"<=\"&fecha_final,Registros!C:C,\"=\"&A42))","v":0},{"$f":"IF(ISBLANK(A42),0,SUMIFS(Registros!H:H,Registros!B:B,\">=\"&fecha_inicial, Registros!B:B, \"<=\"&fecha_final,Registros!C:C,\"=\"&A42))","v":0},0]
[null,"",{"$f":"IF(ISBLANK(A43),0,SUMIFS(Registros!G:G,Registros!B:B,\"<\"&fecha_inicial,Registros!C:C,\"=\"&A43)-IF(ISBLANK(A43),0,SUMIFS(Registros!H:H,Registros!B:B,\"<\"&fecha_inicial,Registros!C:C,\"=\"&A43)))","v":0},{"$f":"IF(ISBLANK(A43),0,SUMIFS(Registros!G:G,Registros!B:B,\">=\"&fecha_inicial, Registros!B:B, \"<=\"&fecha_final,Registros!C:C,\"=\"&A43))","v":0},{"$f":"IF(ISBLANK(A43),0,SUMIFS(Registros!H:H,Registros!B:B,\">=\"&fecha_inicial, Registros!B:B, \"<=\"&fecha_final,Registros!C:C,\"=\"&A43))","v":0},0]
[null,"",{"$f":"IF(ISBLANK(A44),0,SUMIFS(Registros!G:G,Registros!B:B,\"<\"&fecha_inicial,Registros!C:C,\"=\"&A44)-IF(ISBLANK(A44),0,SUMIFS(Registros!H:H,Registros!B:B,\"<\"&fecha_inicial,Registros!C:C,\"=\"&A44)))","v":0},{"$f":"IF(ISBLANK(A44),0,SUMIFS(Registros!G:G,Registros!B:B,\">=\"&fecha_inicial, Registros!B:B, \"<=\"&fecha_final,Registros!C:C,\"=\"&A44))","v":0},{"$f":"IF(ISBLANK(A44),0,SUMIFS(Registros!H:H,Registros!B:B,\">=\"&fecha_inicial, Registros!B:B, \"<=\"&fecha_final,Registros!C:C,\"=\"&A44))","v":0},0]
[null,"",{"$f":"IF(ISBLANK(A45),0,SUMIFS(Registros!G:G,Registros!B:B,\"<\"&fecha_inicial,Registros!C:C,\"=\"&A45)-IF(ISBLANK(A45),0,SUMIFS(Registros!H:H,Registros!B:B,\"<\"&fecha_inicial,Registros!C:C,\"=\"&A45)))","v":0},{"$f":"IF(ISBLANK(A45),0,SUMIFS(Registros!G:G,Registros!B:B,\">=\"&fecha_inicial, Registros!B:B, \"<=\"&fecha_final,Registros!C:C,\"=\"&A45))","v":0},{"$f":"IF(ISBLANK(A45),0,SUMIFS(Registros!H:H,Registros!B:B,\">=\"&fecha_inicial, Registros!B:B, \"<=\"&fecha_final,Registros!C:C,\"=\"&A45))","v":0},0]
[null,{"$f":"IF(A46<>0, IF(ISERROR(VLOOKUP(A46, plan_cuentas,2, FALSE)), \"Código de Cuenta Incorrecto\", UPPER(VLOOKUP(A46, plan_cuentas, 2, FALSE))), \"\")","v":""},{"$f":"SUM(C47:C52)","v":0},{"$f":"SUM(D47:D52)","v":0},{"$f":"SUM(E47:E52)","v":0},0]
[null,{"$f":"IF(A47<>\"\", IF(ISERROR(VLOOKUP(A47, plan_cuentas,2, FALSE)), \"Código de Cuenta Incorrecto\", UPPER(VLOOKUP(A47, plan_cuentas, 2, FALSE))), \"\")","v":""},{"$f":"IF(ISBLANK(A47),0,SUMIFS(Registros!G:G,Registros!B:B,\"<\"&fecha_inicial,Registros!C:C,\"=\"&A47)-IF(ISBLANK(A47),0,SUMIFS(Registros!H:H,Registros!B:B,\"<\"&fecha_inicial,Registros!C:C,\"=\"&A47)))","v":0},{"$f":"IF(ISBLANK(A47),0,SUMIFS(Registros!G:G,Registros!B:B,\">=\"&fecha_inicial, Registros!B:B, \"<=\"&fecha_final,Registros!C:C,\"=\"&A47))","v":0},{"$f":"IF(ISBLANK(A47),0,SUMIFS(Registros!H:H,Registros!B:B,\">=\"&fecha_inicial, Registros!B:B, \"<=\"&fecha_final,Registros!C:C,\"=\"&A47))","v":0},0]
[null,{"$f":"IF(A48<>0, IF(ISERROR(VLOOKUP(A48, plan_cuentas,2, FALSE)), \"Código de Cuenta Incorrecto\", UPPER(VLOOKUP(A48, plan_cuentas, 2, FALSE))), \"\")","v":""},{"$f":"IF(ISBLANK(A48),0,SUMIFS(Registros!G:G,Registros!B:B,\"<\"&fecha_inicial,Registros!C:C,\"=\"&A48)-IF(ISBLANK(A48),0,SUMIFS(Registros!H:H,Registros!B:B,\"<\"&fecha_inicial,Registros!C:C,\"=\"&A48)))","v":0},{"$f":"IF(ISBLANK(A48),0,SUMIFS(Registros!G:G,Registros!B:B,\">=\"&fecha_inicial, Registros!B:B, \"<=\"&fecha_final,Registros!C:C,\"=\"&A48))","v":0},{"$f":"IF(ISBLANK(A48),0,SUMIFS(Registros!H:H,Registros!B:B,\">=\"&fecha_inicial, Registros!B:B, \"<=\"&fecha_final,Registros!C:C,\"=\"&A48))","v":0},0]
[null,{"$f":"IF(A49<>0, IF(ISERROR(VLOOKUP(A49, plan_cuentas,2, FALSE)), \"Código de Cuenta Incorrecto\", UPPER(VLOOKUP(A49, plan_cuentas, 2, FALSE))), \"\")","v":""},{"$f":"IF(ISBLANK(A49),0,SUMIFS(Registros!G:G,Registros!B:B,\"<\"&fecha_inicial,Registros!C:C,\"=\"&A49)-IF(ISBLANK(A49),0,SUMIFS(Registros!H:H,Registros!B:B,\"<\"&fecha_inicial,Registros!C:C,\"=\"&A49)))","v":0},{"$f":"IF(ISBLANK(A49),0,SUMIFS(Registros!G:G,Registros!B:B,\">=\"&fecha_inicial, Registros!B:B, \"<=\"&fecha_final,Registros!C:C,\"=\"&A49))","v":0},{"$f":"IF(ISBLANK(A49),0,SUMIFS(Registros!H:H,Registros!B:B,\">=\"&fecha_inicial, Registros!B:B, \"<=\"&fecha_final,Registros!C:C,\"=\"&A49))","v":0},0]
[null,{"$f":"IF(A50<>0, IF(ISERROR(VLOOKUP(A50, plan_cuentas,2, FALSE)), \"Código de Cuenta Incorrecto\", UPPER(VLOOKUP(A50, plan_cuentas, 2, FALSE))), \"\")","v":""},{"$f":"IF(ISBLANK(A50),0,SUMIFS(Registros!G:G,Registros!B:B,\"<\"&fecha_inicial,Registros!C:C,\"=\"&A50)-IF(ISBLANK(A50),0,SUMIFS(Registros!H:H,Registros!B:B,\"<\"&fecha_inicial,Registros!C:C,\"=\"&A50)))","v":0},{"$f":"IF(ISBLANK(A50),0,SUMIFS(Registros!G:G,Registros!B:B,\">=\"&fecha_inicial, Registros!B:B, \"<=\"&fecha_final,Registros!C:C,\"=\"&A50))","v":0},{"$f":"IF(ISBLANK(A50),0,SUMIFS(Registros!H:H,Registros!B:B,\">=\"&fecha_inicial, Registros!B:B, \"<=\"&fecha_final,Registros!C:C,\"=\"&A50))","v":0},0]
[null,{"$f":"IF(A51<>0, IF(ISERROR(VLOOKUP(A51, plan_cuentas,2, FALSE)), \"Código de Cuenta Incorrecto\", UPPER(VLOOKUP(A51, plan_cuentas, 2, FALSE))), \"\")","v":""},{"$f":"IF(ISBLANK(A51),0,SUMIFS(Registros!G:G,Registros!B:B,\"<\"&fecha_inicial,Registros!C:C,\"=\"&A51)-IF(ISBLANK(A51),0,SUMIFS(Registros!H:H,Registros!B:B,\"<\"&fecha_inicial,Registros!C:C,\"=\"&A51)))","v":0},{"$f":"IF(ISBLANK(A51),0,SUMIFS(Registros!G:G,Registros!B:B,\">=\"&fecha_inicial, Registros!B:B, \"<=\"&fecha_final,Registros!C:C,\"=\"&A51))","v":0},{"$f":"IF(ISBLANK(A51),0,SUMIFS(Registros!H:H,Registros!B:B,\">=\"&fecha_inicial, Registros!B:B, \"<=\"&fecha_final,Registros!C:C,\"=\"&A51))","v":0},0]
[null,{"$f":"IF(A52<>0, IF(ISERROR(VLOOKUP(A52, plan_cuentas,2, FALSE)), \"Código de Cuenta Incorrecto\", UPPER(VLOOKUP(A52, plan_cuentas, 2, FALSE))), \"\")","v":""},{"$f":"IF(ISBLANK(A52),0,SUMIFS(Registros!G:G,Registros!B:B,\"<\"&fecha_inicial,Registros!C:C,\"=\"&A52)-IF(ISBLANK(A52),0,SUMIFS(Registros!H:H,Registros!B:B,\"<\"&fecha_inicial,Registros!C:C,\"=\"&A52)))","v":0},{"$f":"IF(ISBLANK(A52),0,SUMIFS(Registros!G:G,Registros!B:B,\">=\"&fecha_inicial, Registros!B:B, \"<=\"&fecha_final,Registros!C:C,\"=\"&A52))","v":0},{"$f":"IF(ISBLANK(A52),0,SUMIFS(Registros!H:H,Registros!B:B,\">=\"&fecha_inicial, Registros!B:B, \"<=\"&fecha_final,Registros!C:C,\"=\"&A52))","v":0},0]
[null,"",{"$f":"SUM(C54:C59)","v":0},{"$f":"SUM(D54:D59)","v":0},{"$f":"SUM(E54:E59)","v":0},0]
[null,"",{"$f":"IF(ISBLANK(A54),0,SUMIFS(Registros!G:G,Registros!B:B,\"<\"&fecha_inicial,Registros!C:C,\"=\"&A54)-IF(ISBLANK(A54),0,SUMIFS(Registros!H:H,Registros!B:B,\"<\"&fecha_inicial,Registros!C:C,\"=\"&A54)))","v":0},{"$f":"IF(ISBLANK(A54),0,SUMIFS(Registros!G:G,Registros!B:B,\">=\"&fecha_inicial, Registros!B:B, \"<=\"&fecha_final,Registros!C:C,\"=\"&A54))","v":0},{"$f":"IF(ISBLANK(A54),0,SUMIFS(Registros!H:H,Registros!B:B,\">=\"&fecha_inicial, Registros!B:B, \"<=\"&fecha_final,Registros!C:C,\"=\"&A54))","v":0},0]
[null,"",{"$f":"IF(ISBLANK(A55),0,SUMIFS(Registros!G:G,Registros!B:B,\"<\"&fecha_inicial,Registros!C:C,\"=\"&A55)-IF(ISBLANK(A55),0,SUMIFS(Registros!H:H,Registros!B:B,\"<\"&fecha_inicial,Registros!C:C,\"=\"&A55)))","v":0},{"$f":"IF(ISBLANK(A55),0,SUMIFS(Registros!G:G,Registros!B:B,\">=\"&fecha_inicial, Registros!B:B, \"<=\"&fecha_final,Registros!C:C,\"=\"&A55))","v":0},{"$f":"IF(ISBLANK(A55),0,SUMIFS(Registros!H:H,Registros!B:B,\">=\"&fecha_inicial, Registros!B:B, \"<=\"&fecha_final,Registros!C:C,\"=\"&A55))","v":0},0]
[null,"",{"$f":"IF(ISBLANK(A56),0,SUMIFS(Registros!G:G,Registros!B:B,\"<\"&fecha_inicial,Registros!C:C,\"=\"&A56)-IF(ISBLANK(A56),0,SUMIFS(Registros!H:H,Registros!B:B,\"<\"&fecha_inicial,Registros!C:C,\"=\"&A56)))","v":0},{"$f":"IF(ISBLANK(A56),0,SUMIFS(Registros!G:G,Registros!B:B,\">=\"&fecha_inicial, Registros!B:B, \"<=\"&fecha_final,Registros!C:C,\"=\"&A56))","v":0},{"$f":"IF(ISBLANK(A56),0,SUMIFS(Registros!H:H,Registros!B:B,\">=\"&fecha_inicial, Registros!B:B, \"<=\"&fecha_final,Registros!C:C,\"=\"&A56))","v":0},0]
[null,"",{"$f":"IF(ISBLANK(A57),0,SUMIFS(Registros!G:G,Registros!B:B,\"<\"&fecha_inicial,Registros!C:C,\"=\"&A57)-IF(ISBLANK(A57),0,SUMIFS(Registros!H:H,Registros!B:B,\"<\"&fecha_inicial,Registros!C:C,\"=\"&A57)))","v":0},{"$f":"IF(ISBLANK(A57),0,SUMIFS(Registros!G:G,Registros!B:B,\">=\"&fecha_inicial, Registros!B:B, \"<=\"&fecha_final,Registros!C:C,\"=\"&A57))","v":0},{"$f":"IF(ISBLANK(A57),0,SUMIFS(Registros!H:H,Registros!B:B,\">=\"&fecha_inicial, Registros!B:B, \"<=\"&fecha_final,Registros!C:C,\"=\"&A57))","v":0},0]
[null,{"$f":"IF(A58<>0, IF(ISERROR(VLOOKUP(A58, plan_cuentas,2, FALSE)), \"Código de Cuenta Incorrecto\", UPPER(VLOOKUP(A58, plan_cuentas, 2, FALSE))), \"\")","v":""},{"$f":"IF(ISBLANK(A58),0,SUMIFS(Registros!G:G,Registros!B:B,\"<\"&fecha_inicial,Registros!C:C,\"=\"&A58)-IF(ISBLANK(A58),0,SUMIFS(Registros!H:H,Registros!B:B,\"<\"&fecha_inicial,Registros!C:C,\"=\"&A58)))","v":0},{"$f":"IF(ISBLANK(A58),0,SUMIFS(Registros!G:G,Registros!B:B,\">=\"&fecha_inicial, Registros!B:B, \"<=\"&fecha_final,Registros!C:C,\"=\"&A58))","v":0},{"$f":"IF(ISBLANK(A58),0,SUMIFS(Registros!H:H,Registros!B:B,\">=\"&fecha_inicial, Registros!B:B, \"<=\"&fecha_final,Registros!C:C,\"=\"&A58))","v":0},0]
[null,"",{"$f":"IF(ISBLANK(A59),0,SUMIFS(Registros!G:G,Registros!B:B,\"<\"&fecha_inicial,Registros!C:C,\"=\"&A59)-IF(ISBLANK(A59),0,SUMIFS(Registros!H:H,Registros!B:B,\"<\"&fecha_inicial,Registros!C:C,\"=\"&A59)))","v":0},{"$f":"IF(ISBLANK(A59),0,SUMIFS(Registros!G:G,Registros!B:B,\">=\"&fecha_inicial, Registros!B:B, \"<=\"&fecha_final,Registros!C:C,\"=\"&A59))","v":0},{"$f":"IF(ISBLANK(A59),0,SUMIFS(Registros!H:H,Registros!B:B,\">=\"&fecha_inicial, Registros!B:B, \"<=\"&fecha_final,Registros!C:C,\"=\"&A59))","v":0},0]
[{"$f":"\"SALDO FINAL DE LA CUENTA AL \" &TEXT(fecha_final, \"dd\")&\" DE \"&UPPER(TEXT(fecha_final, \"MMMM\"))&\" DEL \"& TEXT(fecha_final, \"YYYY\")","v":"SALDO FINAL DE LA CUENTA AL 31 DE JULIO DEL 2014"},null,{"$f":"C11+C18+C25+C46+C32+C39+C53","v":0},{"$f":"D11+D18+D25+D46+D32+D39+D53","v":0},{"$f":"E11+E18+E25+E46+E32+E39+E53","v":0},{"$f":"C60+D60-E60","v":0}]
[]
[]
[]
[]
["AUTORIZADO POR:",null,null,null,"REVISADO POR:"]
[{"$f":"VLOOKUP(A65, Usuarios!B7:E9, 3, FALSE)","v":"Rodrigo Castro Potoy"},null,null,null,{"$f":"VLOOKUP(E65, Usuarios!B7:E9, 3, FALSE)","v":0}]