Workbook

Sheet Scoring
A1: 1 CONN | B1: 1 | E1: HiSeeds | F1: AnthonyP | G1: ChrisR | H1: EricP | I1: JoeG | J1: JohnP | K1: JoshF | L1: ScottP | N1: Master | P1: 7 | R1: Master | S1: Master | T1: Master | X1: Wstyle | Y1: 1 | AJ1: Master
A2: 1 DUKE | B2: 1 | C2: Round 1 | AA2: HiSeeds | AB2: AnthonyP | AC2: ChrisR | AD2: EricP | AE2: JoeG | AF2: JohnP | AG2: JoshF | AH2: ScottP | AJ2: Best Possible
A3: 1 MD | B3: 1 | C3: Player | D3: Insert3 | E3: 0 | F3: 1 | G3: 2 | H3: 3 | I3: 4 | J3: 5 | K3: 6 | L3: 7 | N3: =AJ3 -> 7 | P3: Favorite | Q3: Underdog | R3: Player1 | S3: Player2 | T3: Winner | U3: Loser | V3: SeedFav | W3: SeedUdr | X3: RndPts | Y3: Weighted Total | Z3: Insert1 | AA3: 0 | AB3: =AA3+1 -> 1 | AC3: =AB3+1 -> 2 | AD3: =AC3+1 -> 3 | AE3: =AD3+1 -> 4 | AF3: =AE3+1 -> 5 | AG3: =AF3+1 -> 6 | AH3: =AG3+1 -> 7 | AJ3: =OFFSET(AK3,0,-3) -> 7 | BB3: Player 1 | BC3: Player 2
A4: 1 OKLA | B4: 1 | C4: E1 | D4: =OFFSET($F4,0,$D$67) -> 1 CONN | E4: #REF! | F4: 1 CONN | G4: 1 CONN | H4: 1 CONN | I4: 1 CONN | J4: 1 CONN | K4: 1 CONN | L4: 1 CONN | N4: =INDIRECT(AW4) -> 1 CONN | P4: =IF($Y$1=3,X4*V4,IF($Y$1=2,X4+V4,IF($Y$1=4,X4,$Y4-($Y4*COUNTIF($F4:$M4,$R4)/$P$1)))) -> 0 | Q4: =IF($Y$1=3,X4*W4,IF($Y$1=2,X4+W4,IF($Y$1=4,X4,$Y4-($Y4*COUNTIF($F4:$M4,$S4)/$P$1)))) -> 7 | R4: =INDIRECT(BB4) -> 1 CONN | S4: =INDIRECT(BC4) -> 16 UVM | T4: =IF(INDIRECT(BD4)=0,"",INDIRECT(BD4)) -> 1 CONN | U4: =IF(S4=0,1,IF(R4=0,1,IF(T4=0,1,IF(T4="","",IF(R4=T4,S4,R4))))) -> 16 UVM | V4: =VLOOKUP(R4,$A$1:$B$64,2) -> 1 | W4: =VLOOKUP(S4,$A$1:$B$64,2) -> 1 | X4: 1 | Y4: 7 | Z4: Redrag4 | AA4: =IF(E4=$T4,(IF(E4=$R4,$P4,$Q4)),0) -> #REF! | AB4: =IF(F4=$T4,(IF(F4=$R4,$P4,$Q4)),0) -> 0 | AC4: =IF(G4=$T4,(IF(G4=$R4,$P4,$Q4)),0) -> 0 | AD4: =IF(H4=$T4,(IF(H4=$R4,$P4,$Q4)),0) -> 0 | AE4: =IF(I4=$T4,(IF(I4=$R4,$P4,$Q4)),0) -> 0 | AF4: =IF(J4=$T4,(IF(J4=$R4,$P4,$Q4)),0) -> 0 | AG4: =IF(K4=$T4,(IF(K4=$R4,$P4,$Q4)),0) -> 0 | AH4: =IF(L4=$T4,(IF(L4=$R4,$P4,$Q4)),0) -> 0 | AJ4: =IF(N4=$T4,(IF(N4=$R4,$P4,$Q4)),0) -> 0 | AL4: E4 | AW4: =CONCATENATE(AJ$1,"!",$AL4) -> Master!E4 | AY4: B2 | AZ4: B6 | BB4: =CONCATENATE(R$1,"!",$AY4) -> Master!B2 | BC4: =CONCATENATE(S$1,"!",$AZ4) -> Master!B6 | BD4: =CONCATENATE(T$1,"!",$AL4) -> Master!E4
A5: 2 A&M | B5: 10 | C5: E2 | D5: =OFFSET($F5,0,$D$67) -> 8 FLA | E5: #REF! | F5: 8 FLA | G5: 8 FLA | H5: 9 TEM | I5: 8 FLA | J5: 8 FLA | K5: 8 FLA | L5: 9 TEM | N5: =INDIRECT(AW5) -> 8 FLA | P5: =IF($Y$1=3,X5*V5,IF($Y$1=2,X5+V5,IF($Y$1=4,X5,$Y5-($Y5*COUNTIF($F5:$M5,$R5)/$P$1)))) -> 2 | Q5: =IF($Y$1=3,X5*W5,IF($Y$1=2,X5+W5,IF($Y$1=4,X5,$Y5-($Y5*COUNTIF($F5:$M5,$S5)/$P$1)))) -> 5 | R5: =INDIRECT(BB5) -> 8 FLA | S5: =INDIRECT(BC5) -> 9 TEM | T5: =IF(INDIRECT(BD5)=0,"",INDIRECT(BD5)) -> 8 FLA | U5: =IF(S5=0,1,IF(R5=0,1,IF(T5=0,1,IF(T5="","",IF(R5=T5,S5,R5))))) -> 9 TEM | V5: =VLOOKUP(R5,$A$1:$B$64,2) -> 16 | W5: =VLOOKUP(S5,$A$1:$B$64,2) -> 9 | X5: 1 | Y5: 7 | AA5: =IF(E5=$T5,(IF(E5=$R5,$P5,$Q5)),0) -> #REF! | AB5: =IF(F5=$T5,(IF(F5=$R5,$P5,$Q5)),0) -> 2 | AC5: =IF(G5=$T5,(IF(G5=$R5,$P5,$Q5)),0) -> 2 | AD5: =IF(H5=$T5,(IF(H5=$R5,$P5,$Q5)),0) -> 0 | AE5: =IF(I5=$T5,(IF(I5=$R5,$P5,$Q5)),0) -> 2 | AF5: =IF(J5=$T5,(IF(J5=$R5,$P5,$Q5)),0) -> 2 | AG5: =IF(K5=$T5,(IF(K5=$R5,$P5,$Q5)),0) -> 2 | AH5: =IF(L5=$T5,(IF(L5=$R5,$P5,$Q5)),0) -> 0 | AJ5: =IF(N5=$T5,(IF(N5=$R5,$P5,$Q5)),0) -> 2 | AL5: E12 | AW5: =CONCATENATE(AJ$1,"!",$AL5) -> Master!E12 | AY5: B10 | AZ5: B14 | BB5: =CONCATENATE(R$1,"!",$AY5) -> Master!B10 | BC5: =CONCATENATE(S$1,"!",$AZ5) -> Master!B14 | BD5: =CONCATENATE(T$1,"!",$AL5) -> Master!E12
A6: 2 AUB | B6: 10 | C6: E3 | D6: =OFFSET($F6,0,$D$67) -> 4 CAL | E6: #REF! | F6: 4 CAL | G6: 4 CAL | H6: 4 CAL | I6: 4 CAL | J6: 4 CAL | K6: 4 CAL | L6: 4 CAL | N6: =INDIRECT(AW6) -> 4 CAL | P6: =IF($Y$1=3,X6*V6,IF($Y$1=2,X6+V6,IF($Y$1=4,X6,$Y6-($Y6*COUNTIF($F6:$M6,$R6)/$P$1)))) -> 0 | Q6: =IF($Y$1=3,X6*W6,IF($Y$1=2,X6+W6,IF($Y$1=4,X6,$Y6-($Y6*COUNTIF($F6:$M6,$S6)/$P$1)))) -> 7 | R6: =INDIRECT(BB6) -> 4 CAL | S6: =INDIRECT(BC6) -> 13 FRES | T6: =IF(INDIRECT(BD6)=0,"",INDIRECT(BD6)) -> 4 CAL | U6: =IF(S6=0,1,IF(R6=0,1,IF(T6=0,1,IF(T6="","",IF(R6=T6,S6,R6))))) -> 13 FRES | V6: =VLOOKUP(R6,$A$1:$B$64,2) -> 12 | W6: =VLOOKUP(S6,$A$1:$B$64,2) -> 1 | X6: 1 | Y6: 7 | AA6: =IF(E6=$T6,(IF(E6=$R6,$P6,$Q6)),0) -> #REF! | AB6: =IF(F6=$T6,(IF(F6=$R6,$P6,$Q6)),0) -> 0 | AC6: =IF(G6=$T6,(IF(G6=$R6,$P6,$Q6)),0) -> 0 | AD6: =IF(H6=$T6,(IF(H6=$R6,$P6,$Q6)),0) -> 0 | AE6: =IF(I6=$T6,(IF(I6=$R6,$P6,$Q6)),0) -> 0 | AF6: =IF(J6=$T6,(IF(J6=$R6,$P6,$Q6)),0) -> 0 | AG6: =IF(K6=$T6,(IF(K6=$R6,$P6,$Q6)),0) -> 0 | AH6: =IF(L6=$T6,(IF(L6=$R6,$P6,$Q6)),0) -> 0 | AJ6: =IF(N6=$T6,(IF(N6=$R6,$P6,$Q6)),0) -> 0 | AL6: E20 | AW6: =CONCATENATE(AJ$1,"!",$AL6) -> Master!E20 | AY6: B18 | AZ6: B22 | BB6: =CONCATENATE(R$1,"!",$AY6) -> Master!B18 | BC6: =CONCATENATE(S$1,"!",$AZ6) -> Master!B22 | BD6: =CONCATENATE(T$1,"!",$AL6) -> Master!E20
A7: 2 BAY | B7: 10 | C7: E4 | D7: =OFFSET($F7,0,$D$67) -> 12 MRST | E7: #REF! | F7: 12 MRST | G7: 5 UVA | H7: 5 UVA | I7: 5 UVA | J7: 5 UVA | K7: 5 UVA | L7: 5 UVA | N7: =INDIRECT(AW7) -> 5 UVA | P7: =IF($Y$1=3,X7*V7,IF($Y$1=2,X7+V7,IF($Y$1=4,X7,$Y7-($Y7*COUNTIF($F7:$M7,$R7)/$P$1)))) -> 1 | Q7: =IF($Y$1=3,X7*W7,IF($Y$1=2,X7+W7,IF($Y$1=4,X7,$Y7-($Y7*COUNTIF($F7:$M7,$S7)/$P$1)))) -> 6 | R7: =INDIRECT(BB7) -> 5 UVA | S7: =INDIRECT(BC7) -> 12 MRST | T7: =IF(INDIRECT(BD7)=0,"",INDIRECT(BD7)) -> 5 UVA | U7: =IF(S7=0,1,IF(R7=0,1,IF(T7=0,1,IF(T7="","",IF(R7=T7,S7,R7))))) -> 12 MRST | V7: =VLOOKUP(R7,$A$1:$B$64,2) -> 13 | W7: =VLOOKUP(S7,$A$1:$B$64,2) -> 1 | X7: 1 | Y7: 7 | AA7: =IF(E7=$T7,(IF(E7=$R7,$P7,$Q7)),0) -> #REF! | AB7: =IF(F7=$T7,(IF(F7=$R7,$P7,$Q7)),0) -> 0 | AC7: =IF(G7=$T7,(IF(G7=$R7,$P7,$Q7)),0) -> 1 | AD7: =IF(H7=$T7,(IF(H7=$R7,$P7,$Q7)),0) -> 1 | AE7: =IF(I7=$T7,(IF(I7=$R7,$P7,$Q7)),0) -> 1 | AF7: =IF(J7=$T7,(IF(J7=$R7,$P7,$Q7)),0) -> 1 | AG7: =IF(K7=$T7,(IF(K7=$R7,$P7,$Q7)),0) -> 1 | AH7: =IF(L7=$T7,(IF(L7=$R7,$P7,$Q7)),0) -> 1 | AJ7: =IF(N7=$T7,(IF(N7=$R7,$P7,$Q7)),0) -> 1 | AL7: E28 | AW7: =CONCATENATE(AJ$1,"!",$AL7) -> Master!E28 | AY7: B26 | AZ7: B30 | BB7: =CONCATENATE(R$1,"!",$AY7) -> Master!B26 | BC7: =CONCATENATE(S$1,"!",$AZ7) -> Master!B30 | BD7: =CONCATENATE(T$1,"!",$AL7) -> Master!E28
A8: 2 STAN | B8: 10 | C8: E5 | D8: =OFFSET($F8,0,$D$67) -> 2 A&M | E8: #REF! | F8: 2 A&M | G8: 2 A&M | H8: 2 A&M | I8: 2 A&M | J8: 2 A&M | K8: 2 A&M | L8: 2 A&M | N8: =INDIRECT(AW8) -> 2 A&M | P8: =IF($Y$1=3,X8*V8,IF($Y$1=2,X8+V8,IF($Y$1=4,X8,$Y8-($Y8*COUNTIF($F8:$M8,$R8)/$P$1)))) -> 0 | Q8: =IF($Y$1=3,X8*W8,IF($Y$1=2,X8+W8,IF($Y$1=4,X8,$Y8-($Y8*COUNTIF($F8:$M8,$S8)/$P$1)))) -> 7 | R8: =INDIRECT(BB8) -> 2 A&M | S8: =INDIRECT(BC8) -> 15 EVAN | T8: =IF(INDIRECT(BD8)=0,"",INDIRECT(BD8)) -> 2 A&M | U8: =IF(S8=0,1,IF(R8=0,1,IF(T8=0,1,IF(T8="","",IF(R8=T8,S8,R8))))) -> 15 EVAN | V8: =VLOOKUP(R8,$A$1:$B$64,2) -> 10 | W8: =VLOOKUP(S8,$A$1:$B$64,2) -> 1 | X8: 1 | Y8: 7 | AA8: =IF(E8=$T8,(IF(E8=$R8,$P8,$Q8)),0) -> #REF! | AB8: =IF(F8=$T8,(IF(F8=$R8,$P8,$Q8)),0) -> 0 | AC8: =IF(G8=$T8,(IF(G8=$R8,$P8,$Q8)),0) -> 0 | AD8: =IF(H8=$T8,(IF(H8=$R8,$P8,$Q8)),0) -> 0 | AE8: =IF(I8=$T8,(IF(I8=$R8,$P8,$Q8)),0) -> 0 | AF8: =IF(J8=$T8,(IF(J8=$R8,$P8,$Q8)),0) -> 0 | AG8: =IF(K8=$T8,(IF(K8=$R8,$P8,$Q8)),0) -> 0 | AH8: =IF(L8=$T8,(IF(L8=$R8,$P8,$Q8)),0) -> 0 | AJ8: =IF(N8=$T8,(IF(N8=$R8,$P8,$Q8)),0) -> 0 | AL8: E36 | AW8: =CONCATENATE(AJ$1,"!",$AL8) -> Master!E36 | AY8: B34 | AZ8: B38 | BB8: =CONCATENATE(R$1,"!",$AY8) -> Master!B34 | BC8: =CONCATENATE(S$1,"!",$AZ8) -> Master!B38 | BD8: =CONCATENATE(T$1,"!",$AL8) -> Master!E36
A9: 3 FSU | B9: 11 | C9: E6 | D9: =OFFSET($F9,0,$D$67) -> 7 ND | E9: #REF! | F9: 7 ND | G9: 7 ND | H9: 10 MINN | I9: 7 ND | J9: 10 MINN | K9: 10 MINN | L9: 10 MINN | N9: =INDIRECT(AW9) -> 10 MINN | P9: =IF($Y$1=3,X9*V9,IF($Y$1=2,X9+V9,IF($Y$1=4,X9,$Y9-($Y9*COUNTIF($F9:$M9,$R9)/$P$1)))) -> 4 | Q9: =IF($Y$1=3,X9*W9,IF($Y$1=2,X9+W9,IF($Y$1=4,X9,$Y9-($Y9*COUNTIF($F9:$M9,$S9)/$P$1)))) -> 3 | R9: =INDIRECT(BB9) -> 7 ND | S9: =INDIRECT(BC9) -> 10 MINN | T9: =IF(INDIRECT(BD9)=0,"",INDIRECT(BD9)) -> 10 MINN | U9: =IF(S9=0,1,IF(R9=0,1,IF(T9=0,1,IF(T9="","",IF(R9=T9,S9,R9))))) -> 7 ND | V9: =VLOOKUP(R9,$A$1:$B$64,2) -> 15 | W9: =VLOOKUP(S9,$A$1:$B$64,2) -> 1 | X9: 1 | Y9: 7 | AA9: =IF(E9=$T9,(IF(E9=$R9,$P9,$Q9)),0) -> #REF! | AB9: =IF(F9=$T9,(IF(F9=$R9,$P9,$Q9)),0) -> 0 | AC9: =IF(G9=$T9,(IF(G9=$R9,$P9,$Q9)),0) -> 0 | AD9: =IF(H9=$T9,(IF(H9=$R9,$P9,$Q9)),0) -> 3 | AE9: =IF(I9=$T9,(IF(I9=$R9,$P9,$Q9)),0) -> 0 | AF9: =IF(J9=$T9,(IF(J9=$R9,$P9,$Q9)),0) -> 3 | AG9: =IF(K9=$T9,(IF(K9=$R9,$P9,$Q9)),0) -> 3 | AH9: =IF(L9=$T9,(IF(L9=$R9,$P9,$Q9)),0) -> 3 | AJ9: =IF(N9=$T9,(IF(N9=$R9,$P9,$Q9)),0) -> 3 | AL9: E44 | AW9: =CONCATENATE(AJ$1,"!",$AL9) -> Master!E44 | AY9: B42 | AZ9: B46 | BB9: =CONCATENATE(R$1,"!",$AY9) -> Master!B42 | BC9: =CONCATENATE(S$1,"!",$AZ9) -> Master!B46 | BD9: =CONCATENATE(T$1,"!",$AL9) -> Master!E44
A10: 3 OSU | B10: 11 | C10: E7 | D10: =OFFSET($F10,0,$D$67) -> 3 FSU | E10: #REF! | F10: 3 FSU | G10: 3 FSU | H10: 3 FSU | I10: 3 FSU | J10: 3 FSU | K10: 3 FSU | L10: 3 FSU | N10: =INDIRECT(AW10) -> 3 FSU | P10: =IF($Y$1=3,X10*V10,IF($Y$1=2,X10+V10,IF($Y$1=4,X10,$Y10-($Y10*COUNTIF($F10:$M10,$R10)/$P$1)))) -> 0 | Q10: =IF($Y$1=3,X10*W10,IF($Y$1=2,X10+W10,IF($Y$1=4,X10,$Y10-($Y10*COUNTIF($F10:$M10,$S10)/$P$1)))) -> 7 | R10: =INDIRECT(BB10) -> 3 FSU | S10: =INDIRECT(BC10) -> 14 NCAT | T10: =IF(INDIRECT(BD10)=0,"",INDIRECT(BD10)) -> 3 FSU | U10: =IF(S10=0,1,IF(R10=0,1,IF(T10=0,1,IF(T10="","",IF(R10=T10,S10,R10))))) -> 14 NCAT | V10: =VLOOKUP(R10,$A$1:$B$64,2) -> 11 | W10: =VLOOKUP(S10,$A$1:$B$64,2) -> 1 | X10: 1 | Y10: 7 | AA10: =IF(E10=$T10,(IF(E10=$R10,$P10,$Q10)),0) -> #REF! | AB10: =IF(F10=$T10,(IF(F10=$R10,$P10,$Q10)),0) -> 0 | AC10: =IF(G10=$T10,(IF(G10=$R10,$P10,$Q10)),0) -> 0 | AD10: =IF(H10=$T10,(IF(H10=$R10,$P10,$Q10)),0) -> 0 | AE10: =IF(I10=$T10,(IF(I10=$R10,$P10,$Q10)),0) -> 0 | AF10: =IF(J10=$T10,(IF(J10=$R10,$P10,$Q10)),0) -> 0 | AG10: =IF(K10=$T10,(IF(K10=$R10,$P10,$Q10)),0) -> 0 | AH10: =IF(L10=$T10,(IF(L10=$R10,$P10,$Q10)),0) -> 0 | AJ10: =IF(N10=$T10,(IF(N10=$R10,$P10,$Q10)),0) -> 0 | AL10: E52 | AW10: =CONCATENATE(AJ$1,"!",$AL10) -> Master!E52 | AY10: B50 | AZ10: B54 | BB10: =CONCATENATE(R$1,"!",$AY10) -> Master!B50 | BC10: =CONCATENATE(S$1,"!",$AZ10) -> Master!B54 | BD10: =CONCATENATE(T$1,"!",$AL10) -> Master!E52
A11: 3 UL | B11: 11 | C11: E8 | D11: =OFFSET($F11,0,$D$67) -> 6 ASU | E11: #REF! | F11: 6 ASU | G11: 6 ASU | H11: 6 ASU | I11: 6 ASU | J11: 6 ASU | K11: 11 UGA | L11: 6 ASU | N11: =INDIRECT(AW11) -> 6 ASU | P11: =IF($Y$1=3,X11*V11,IF($Y$1=2,X11+V11,IF($Y$1=4,X11,$Y11-($Y11*COUNTIF($F11:$M11,$R11)/$P$1)))) -> 1 | Q11: =IF($Y$1=3,X11*W11,IF($Y$1=2,X11+W11,IF($Y$1=4,X11,$Y11-($Y11*COUNTIF($F11:$M11,$S11)/$P$1)))) -> 6 | R11: =INDIRECT(BB11) -> 6 ASU | S11: =INDIRECT(BC11) -> 11 UGA | T11: =IF(INDIRECT(BD11)=0,"",INDIRECT(BD11)) -> 6 ASU | U11: =IF(S11=0,1,IF(R11=0,1,IF(T11=0,1,IF(T11="","",IF(R11=T11,S11,R11))))) -> 11 UGA | V11: =VLOOKUP(R11,$A$1:$B$64,2) -> 14 | W11: =VLOOKUP(S11,$A$1:$B$64,2) -> 1 | X11: 1 | Y11: 7 | AA11: =IF(E11=$T11,(IF(E11=$R11,$P11,$Q11)),0) -> #REF! | AB11: =IF(F11=$T11,(IF(F11=$R11,$P11,$Q11)),0) -> 1 | AC11: =IF(G11=$T11,(IF(G11=$R11,$P11,$Q11)),0) -> 1 | AD11: =IF(H11=$T11,(IF(H11=$R11,$P11,$Q11)),0) -> 1 | AE11: =IF(I11=$T11,(IF(I11=$R11,$P11,$Q11)),0) -> 1 | AF11: =IF(J11=$T11,(IF(J11=$R11,$P11,$Q11)),0) -> 1 | AG11: =IF(K11=$T11,(IF(K11=$R11,$P11,$Q11)),0) -> 0 | AH11: =IF(L11=$T11,(IF(L11=$R11,$P11,$Q11)),0) -> 1 | AJ11: =IF(N11=$T11,(IF(N11=$R11,$P11,$Q11)),0) -> 1 | AL11: E60 | AW11: =CONCATENATE(AJ$1,"!",$AL11) -> Master!E60 | AY11: B58 | AZ11: B62 | BB11: =CONCATENATE(R$1,"!",$AY11) -> Master!B58 | BC11: =CONCATENATE(S$1,"!",$AZ11) -> Master!B62 | BD11: =CONCATENATE(T$1,"!",$AL11) -> Master!E60
A12: 3 UNC | B12: 11 | C12: W1 | D12: =OFFSET($F12,0,$D$67) -> 1 DUKE | E12: #REF! | F12: 1 DUKE | G12: 1 DUKE | H12: 1 DUKE | I12: 1 DUKE | J12: 1 DUKE | K12: 1 DUKE | L12: 1 DUKE | N12: =INDIRECT(AW12) -> 1 DUKE | P12: =IF($Y$1=3,X12*V12,IF($Y$1=2,X12+V12,IF($Y$1=4,X12,$Y12-($Y12*COUNTIF($F12:$M12,$R12)/$P$1)))) -> 0 | Q12: =IF($Y$1=3,X12*W12,IF($Y$1=2,X12+W12,IF($Y$1=4,X12,$Y12-($Y12*COUNTIF($F12:$M12,$S12)/$P$1)))) -> 7 | R12: =INDIRECT(BB12) -> 1 DUKE | S12: =INDIRECT(BC12) -> 16 APSU | T12: =IF(INDIRECT(BD12)=0,"",INDIRECT(BD12)) -> 1 DUKE | U12: =IF(S12=0,1,IF(R12=0,1,IF(T12=0,1,IF(T12="","",IF(R12=T12,S12,R12))))) -> 16 APSU | V12: =VLOOKUP(R12,$A$1:$B$64,2) -> 1 | W12: =VLOOKUP(S12,$A$1:$B$64,2) -> 1 | X12: 1 | Y12: 7 | AA12: =IF(E12=$T12,(IF(E12=$R12,$P12,$Q12)),0) -> #REF! | AB12: =IF(F12=$T12,(IF(F12=$R12,$P12,$Q12)),0) -> 0 | AC12: =IF(G12=$T12,(IF(G12=$R12,$P12,$Q12)),0) -> 0 | AD12: =IF(H12=$T12,(IF(H12=$R12,$P12,$Q12)),0) -> 0 | AE12: =IF(I12=$T12,(IF(I12=$R12,$P12,$Q12)),0) -> 0 | AF12: =IF(J12=$T12,(IF(J12=$R12,$P12,$Q12)),0) -> 0 | AG12: =IF(K12=$T12,(IF(K12=$R12,$P12,$Q12)),0) -> 0 | AH12: =IF(L12=$T12,(IF(L12=$R12,$P12,$Q12)),0) -> 0 | AJ12: =IF(N12=$T12,(IF(N12=$R12,$P12,$Q12)),0) -> 0 | AL12: E70 | AW12: =CONCATENATE(AJ$1,"!",$AL12) -> Master!E70 | AY12: B68 | AZ12: B72 | BB12: =CONCATENATE(R$1,"!",$AY12) -> Master!B68 | BC12: =CONCATENATE(S$1,"!",$AZ12) -> Master!B72 | BD12: =CONCATENATE(T$1,"!",$AL12) -> Master!E70
A13: 4 CAL | B13: 12 | C13: W2 | D13: =OFFSET($F13,0,$D$67) -> 9 MSU | E13: #REF! | F13: 9 MSU | G13: 9 MSU | H13: 9 MSU | I13: 8 MTSU | J13: 9 MSU | K13: 9 MSU | L13: 9 MSU | N13: =INDIRECT(AW13) -> 9 MSU | P13: =IF($Y$1=3,X13*V13,IF($Y$1=2,X13+V13,IF($Y$1=4,X13,$Y13-($Y13*COUNTIF($F13:$M13,$R13)/$P$1)))) -> 6 | Q13: =IF($Y$1=3,X13*W13,IF($Y$1=2,X13+W13,IF($Y$1=4,X13,$Y13-($Y13*COUNTIF($F13:$M13,$S13)/$P$1)))) -> 1 | R13: =INDIRECT(BB13) -> 8 MTSU | S13: =INDIRECT(BC13) -> 9 MSU | T13: =IF(INDIRECT(BD13)=0,"",INDIRECT(BD13)) -> 9 MSU | U13: =IF(S13=0,1,IF(R13=0,1,IF(T13=0,1,IF(T13="","",IF(R13=T13,S13,R13))))) -> 8 MTSU | V13: =VLOOKUP(R13,$A$1:$B$64,2) -> 16 | W13: =VLOOKUP(S13,$A$1:$B$64,2) -> 9 | X13: 1 | Y13: 7 | AA13: =IF(E13=$T13,(IF(E13=$R13,$P13,$Q13)),0) -> #REF! | AB13: =IF(F13=$T13,(IF(F13=$R13,$P13,$Q13)),0) -> 1 | AC13: =IF(G13=$T13,(IF(G13=$R13,$P13,$Q13)),0) -> 1 | AD13: =IF(H13=$T13,(IF(H13=$R13,$P13,$Q13)),0) -> 1 | AE13: =IF(I13=$T13,(IF(I13=$R13,$P13,$Q13)),0) -> 0 | AF13: =IF(J13=$T13,(IF(J13=$R13,$P13,$Q13)),0) -> 1 | AG13: =IF(K13=$T13,(IF(K13=$R13,$P13,$Q13)),0) -> 1 | AH13: =IF(L13=$T13,(IF(L13=$R13,$P13,$Q13)),0) -> 1 | AJ13: =IF(N13=$T13,(IF(N13=$R13,$P13,$Q13)),0) -> 1 | AL13: E78 | AW13: =CONCATENATE(AJ$1,"!",$AL13) -> Master!E78 | AY13: B76 | AZ13: B80 | BB13: =CONCATENATE(R$1,"!",$AY13) -> Master!B76 | BC13: =CONCATENATE(S$1,"!",$AZ13) -> Master!B80 | BD13: =CONCATENATE(T$1,"!",$AL13) -> Master!E78
A14: 4 ISU | B14: 12 | C14: W3 | D14: =OFFSET($F14,0,$D$67) -> 4 ISU | E14: #REF! | F14: 4 ISU | G14: 4 ISU | H14: 4 ISU | I14: 4 ISU | J14: 4 ISU | K14: 4 ISU | L14: 4 ISU | N14: =INDIRECT(AW14) -> 4 ISU | P14: =IF($Y$1=3,X14*V14,IF($Y$1=2,X14+V14,IF($Y$1=4,X14,$Y14-($Y14*COUNTIF($F14:$M14,$R14)/$P$1)))) -> 0 | Q14: =IF($Y$1=3,X14*W14,IF($Y$1=2,X14+W14,IF($Y$1=4,X14,$Y14-($Y14*COUNTIF($F14:$M14,$S14)/$P$1)))) -> 7 | R14: =INDIRECT(BB14) -> 4 ISU | S14: =INDIRECT(BC14) -> 13 ETSU | T14: =IF(INDIRECT(BD14)=0,"",INDIRECT(BD14)) -> 4 ISU | U14: =IF(S14=0,1,IF(R14=0,1,IF(T14=0,1,IF(T14="","",IF(R14=T14,S14,R14))))) -> 13 ETSU | V14: =VLOOKUP(R14,$A$1:$B$64,2) -> 12 | W14: =VLOOKUP(S14,$A$1:$B$64,2) -> 1 | X14: 1 | Y14: 7 | AA14: =IF(E14=$T14,(IF(E14=$R14,$P14,$Q14)),0) -> #REF! | AB14: =IF(F14=$T14,(IF(F14=$R14,$P14,$Q14)),0) -> 0 | AC14: =IF(G14=$T14,(IF(G14=$R14,$P14,$Q14)),0) -> 0 | AD14: =IF(H14=$T14,(IF(H14=$R14,$P14,$Q14)),0) -> 0 | AE14: =IF(I14=$T14,(IF(I14=$R14,$P14,$Q14)),0) -> 0 | AF14: =IF(J14=$T14,(IF(J14=$R14,$P14,$Q14)),0) -> 0 | AG14: =IF(K14=$T14,(IF(K14=$R14,$P14,$Q14)),0) -> 0 | AH14: =IF(L14=$T14,(IF(L14=$R14,$P14,$Q14)),0) -> 0 | AJ14: =IF(N14=$T14,(IF(N14=$R14,$P14,$Q14)),0) -> 0 | AL14: E86 | AW14: =CONCATENATE(AJ$1,"!",$AL14) -> Master!E86 | AY14: B84 | AZ14: B88 | BB14: =CONCATENATE(R$1,"!",$AY14) -> Master!B84 | BC14: =CONCATENATE(S$1,"!",$AZ14) -> Master!B88 | BD14: =CONCATENATE(T$1,"!",$AL14) -> Master!E86
A15: 4 PITT | B15: 12 | C15: W4 | D15: =OFFSET($F15,0,$D$67) -> 5 TENN | E15: #REF! | F15: 5 TENN | G15: 5 TENN | H15: 5 TENN | I15: 5 TENN | J15: 5 TENN | K15: 5 TENN | L15: 5 TENN | N15: =INDIRECT(AW15) -> 12 BALL | P15: =IF($Y$1=3,X15*V15,IF($Y$1=2,X15+V15,IF($Y$1=4,X15,$Y15-($Y15*COUNTIF($F15:$M15,$R15)/$P$1)))) -> 0 | Q15: =IF($Y$1=3,X15*W15,IF($Y$1=2,X15+W15,IF($Y$1=4,X15,$Y15-($Y15*COUNTIF($F15:$M15,$S15)/$P$1)))) -> 7 | R15: =INDIRECT(BB15) -> 5 TENN | S15: =INDIRECT(BC15) -> 12 BALL | T15: =IF(INDIRECT(BD15)=0,"",INDIRECT(BD15)) -> 12 BALL | U15: =IF(S15=0,1,IF(R15=0,1,IF(T15=0,1,IF(T15="","",IF(R15=T15,S15,R15))))) -> 5 TENN | V15: =VLOOKUP(R15,$A$1:$B$64,2) -> 13 | W15: =VLOOKUP(S15,$A$1:$B$64,2) -> 1 | X15: 1 | Y15: 7 | AA15: =IF(E15=$T15,(IF(E15=$R15,$P15,$Q15)),0) -> #REF! | AB15: =IF(F15=$T15,(IF(F15=$R15,$P15,$Q15)),0) -> 0 | AC15: =IF(G15=$T15,(IF(G15=$R15,$P15,$Q15)),0) -> 0 | AD15: =IF(H15=$T15,(IF(H15=$R15,$P15,$Q15)),0) -> 0 | AE15: =IF(I15=$T15,(IF(I15=$R15,$P15,$Q15)),0) -> 0 | AF15: =IF(J15=$T15,(IF(J15=$R15,$P15,$Q15)),0) -> 0 | AG15: =IF(K15=$T15,(IF(K15=$R15,$P15,$Q15)),0) -> 0 | AH15: =IF(L15=$T15,(IF(L15=$R15,$P15,$Q15)),0) -> 0 | AJ15: =IF(N15=$T15,(IF(N15=$R15,$P15,$Q15)),0) -> 7 | AL15: E94 | AW15: =CONCATENATE(AJ$1,"!",$AL15) -> Master!E94 | AY15: B92 | AZ15: B96 | BB15: =CONCATENATE(R$1,"!",$AY15) -> Master!B92 | BC15: =CONCATENATE(S$1,"!",$AZ15) -> Master!B96 | BD15: =CONCATENATE(T$1,"!",$AL15) -> Master!E94
A16: 4 VAN | B16: 12 | C16: W5 | D16: =OFFSET($F16,0,$D$67) -> 2 STAN | E16: #REF! | F16: 2 STAN | G16: 2 STAN | H16: 2 STAN | I16: 2 STAN | J16: 2 STAN | K16: 2 STAN | L16: 2 STAN | N16: =INDIRECT(AW16) -> 2 STAN | P16: =IF($Y$1=3,X16*V16,IF($Y$1=2,X16+V16,IF($Y$1=4,X16,$Y16-($Y16*COUNTIF($F16:$M16,$R16)/$P$1)))) -> 0 | Q16: =IF($Y$1=3,X16*W16,IF($Y$1=2,X16+W16,IF($Y$1=4,X16,$Y16-($Y16*COUNTIF($F16:$M16,$S16)/$P$1)))) -> 7 | R16: =INDIRECT(BB16) -> 2 STAN | S16: =INDIRECT(BC16) -> 15 UCSB | T16: =IF(INDIRECT(BD16)=0,"",INDIRECT(BD16)) -> 2 STAN | U16: =IF(S16=0,1,IF(R16=0,1,IF(T16=0,1,IF(T16="","",IF(R16=T16,S16,R16))))) -> 15 UCSB | V16: =VLOOKUP(R16,$A$1:$B$64,2) -> 10 | W16: =VLOOKUP(S16,$A$1:$B$64,2) -> 1 | X16: 1 | Y16: 7 | AA16: =IF(E16=$T16,(IF(E16=$R16,$P16,$Q16)),0) -> #REF! | AB16: =IF(F16=$T16,(IF(F16=$R16,$P16,$Q16)),0) -> 0 | AC16: =IF(G16=$T16,(IF(G16=$R16,$P16,$Q16)),0) -> 0 | AD16: =IF(H16=$T16,(IF(H16=$R16,$P16,$Q16)),0) -> 0 | AE16: =IF(I16=$T16,(IF(I16=$R16,$P16,$Q16)),0) -> 0 | AF16: =IF(J16=$T16,(IF(J16=$R16,$P16,$Q16)),0) -> 0 | AG16: =IF(K16=$T16,(IF(K16=$R16,$P16,$Q16)),0) -> 0 | AH16: =IF(L16=$T16,(IF(L16=$R16,$P16,$Q16)),0) -> 0 | AJ16: =IF(N16=$T16,(IF(N16=$R16,$P16,$Q16)),0) -> 0 | AL16: E102 | AW16: =CONCATENATE(AJ$1,"!",$AL16) -> Master!E102 | AY16: B100 | AZ16: B104 | BB16: =CONCATENATE(R$1,"!",$AY16) -> Master!B100 | BC16: =CONCATENATE(S$1,"!",$AZ16) -> Master!B104 | BD16: =CONCATENATE(T$1,"!",$AL16) -> Master!E102
... A64: 16 UVM | B64: 9 | C64: EW1 | D64: =OFFSET($F64,0,$D$67) -> 1 CONN | E64: #REF! | F64: 1 CONN | G64: 1 CONN | H64: 1 CONN | I64: 1 CONN | J64: 1 CONN | K64: 1 CONN | L64: 1 CONN | N64: =INDIRECT(AW64) -> 1 CONN | P64: =IF($Y$1=3,X64*V64,IF($Y$1=2,X64+V64,IF($Y$1=4,X64,$Y64-($Y64*COUNTIF($F64:$M64,$R64)/$P$1)))) -> 0 | Q64: =IF($Y$1=3,X64*W64,IF($Y$1=2,X64+W64,IF($Y$1=4,X64,$Y64-($Y64*COUNTIF($F64:$M64,$S64)/$P$1)))) -> 21 | R64: =INDIRECT(BB64) -> 1 CONN | S64: =INDIRECT(BC64) -> 2 STAN | T64: =IF(INDIRECT(BD64)=0,"",INDIRECT(BD64)) -> 1 CONN | U64: =IF(S64=0,1,IF(R64=0,1,IF(T64=0,1,IF(T64="","",IF(R64=T64,S64,R64))))) -> 2 STAN | V64: =VLOOKUP(R64,$A$1:$B$64,2) -> 1 | W64: =VLOOKUP(S64,$A$1:$B$64,2) -> 10 | X64: 3 | Y64: 21 | AA64: =IF(E64=$T64,(IF(E64=$R64,$P64,$Q64)),0) -> #REF! | AB64: =IF(F64=$T64,(IF(F64=$R64,$P64,$Q64)),0) -> 0 | AC64: =IF(G64=$T64,(IF(G64=$R64,$P64,$Q64)),0) -> 0 | AD64: =IF(H64=$T64,(IF(H64=$R64,$P64,$Q64)),0) -> 0 | AE64: =IF(I64=$T64,(IF(I64=$R64,$P64,$Q64)),0) -> 0 | AF64: =IF(J64=$T64,(IF(J64=$R64,$P64,$Q64)),0) -> 0 | AG64: =IF(K64=$T64,(IF(K64=$R64,$P64,$Q64)),0) -> 0 | AH64: =IF(L64=$T64,(IF(L64=$R64,$P64,$Q64)),0) -> 0 | AJ64: =IF(N64=$T64,(IF(N64=$R64,$P64,$Q64)),0) -> 0 | AL64: Q48 | AW64: =CONCATENATE(AJ$1,"!",$AL64) -> Master!Q48 | AY64: N32 | AZ64: N98 | BB64: =CONCATENATE(R$1,"!",$AY64) -> Master!N32 | BC64: =CONCATENATE(S$1,"!",$AZ64) -> Master!N98 | BD64: =CONCATENATE(T$1,"!",$AL64) -> Master!Q48
C65: SMW1 | D65: =OFFSET($F65,0,$D$67) -> 1 OKLA | E65: #REF! | F65: 1 OKLA | G65: 2 AUB | H65: 1 MD | I65: 1 MD | J65: 1 MD | K65: 1 MD | L65: 1 MD | N65: =INDIRECT(AW65) -> 3 UL | P65: =IF($Y$1=3,X65*V65,IF($Y$1=2,X65+V65,IF($Y$1=4,X65,$Y65-($Y65*COUNTIF($F65:$M65,$R65)/$P$1)))) -> 21 | Q65: =IF($Y$1=3,X65*W65,IF($Y$1=2,X65+W65,IF($Y$1=4,X65,$Y65-($Y65*COUNTIF($F65:$M65,$S65)/$P$1)))) -> 18 | R65: =INDIRECT(BB65) -> 3 UL | S65: =INDIRECT(BC65) -> 1 OKLA | T65: =IF(INDIRECT(BD65)=0,"",INDIRECT(BD65)) -> 3 UL | U65: =IF(S65=0,1,IF(R65=0,1,IF(T65=0,1,IF(T65="","",IF(R65=T65,S65,R65))))) -> 1 OKLA | V65: =VLOOKUP(R65,$A$1:$B$64,2) -> 11 | W65: =VLOOKUP(S65,$A$1:$B$64,2) -> 1 | X65: 3 | Y65: 21 | AA65: =IF(E65=$T65,(IF(E65=$R65,$P65,$Q65)),0) -> #REF! | AB65: =IF(F65=$T65,(IF(F65=$R65,$P65,$Q65)),0) -> 0 | AC65: =IF(G65=$T65,(IF(G65=$R65,$P65,$Q65)),0) -> 0 | AD65: =IF(H65=$T65,(IF(H65=$R65,$P65,$Q65)),0) -> 0 | AE65: =IF(I65=$T65,(IF(I65=$R65,$P65,$Q65)),0) -> 0 | AF65: =IF(J65=$T65,(IF(J65=$R65,$P65,$Q65)),0) -> 0 | AG65: =IF(K65=$T65,(IF(K65=$R65,$P65,$Q65)),0) -> 0 | AH65: =IF(L65=$T65,(IF(L65=$R65,$P65,$Q65)),0) -> 0 | AJ65: =IF(N65=$T65,(IF(N65=$R65,$P65,$Q65)),0) -> 21 | AL65: Q82 | AW65: =CONCATENATE(AJ$1,"!",$AL65) -> Master!Q82 | AY65: T32 | AZ65: T98 | BB65: =CONCATENATE(R$1,"!",$AY65) -> Master!T32 | BC65: =CONCATENATE(S$1,"!",$AZ65) -> Master!T98 | BD65: =CONCATENATE(T$1,"!",$AL65) -> Master!Q82
C66: FINAL | D66: =OFFSET($F66,0,$D$67) -> 1 CONN | E66: #REF! | F66: 1 CONN | G66: 1 CONN | H66: 1 MD | I66: 1 CONN | J66: 1 CONN | K66: 1 CONN | L66: 1 CONN | N66: =INDIRECT(AW66) -> 0 | P66: =IF($Y$1=3,X66*V66,IF($Y$1=2,X66+V66,IF($Y$1=4,X66,$Y66-($Y66*COUNTIF($F66:$M66,$R66)/$P$1)))) -> 3.5 | Q66: =IF($Y$1=3,X66*W66,IF($Y$1=2,X66+W66,IF($Y$1=4,X66,$Y66-($Y66*COUNTIF($F66:$M66,$S66)/$P$1)))) -> 24.5 | R66: =INDIRECT(BB66) -> 1 CONN | S66: =INDIRECT(BC66) -> 3 UL | T66: =IF(INDIRECT(BD66)=0,"",INDIRECT(BD66)) | U66: =IF(S66=0,1,IF(R66=0,1,IF(T66=0,1,IF(T66="","",IF(R66=T66,S66,R66))))) | V66: =VLOOKUP(R66,$A$1:$B$64,2) -> 1 | W66: =VLOOKUP(S66,$A$1:$B$64,2) -> 11 | X66: 3.5 | Y66: 24.5 | AA66: =IF(E66=$T66,(IF(E66=$R66,$P66,$Q66)),0) -> #REF! | AB66: =IF(F66=$T66,(IF(F66=$R66,$P66,$Q66)),0) -> 0 | AC66: =IF(G66=$T66,(IF(G66=$R66,$P66,$Q66)),0) -> 0 | AD66: =IF(H66=$T66,(IF(H66=$R66,$P66,$Q66)),0) -> 0 | AE66: =IF(I66=$T66,(IF(I66=$R66,$P66,$Q66)),0) -> 0 | AF66: =IF(J66=$T66,(IF(J66=$R66,$P66,$Q66)),0) -> 0 | AG66: =IF(K66=$T66,(IF(K66=$R66,$P66,$Q66)),0) -> 0 | AH66: =IF(L66=$T66,(IF(L66=$R66,$P66,$Q66)),0) -> 0 | AJ66: =IF(N66=$T66,(IF(N66=$R66,$P66,$Q66)),0) -> 0 | AL66: Q64 | AW66: =CONCATENATE(AJ$1,"!",$AL66) -> Master!Q64 | AY66: Q48 | AZ66: Q82 | BB66: =CONCATENATE(R$1,"!",$AY66) -> Master!Q48 | BC66: =CONCATENATE(S$1,"!",$AZ66) -> Master!Q82 | BD66: =CONCATENATE(T$1,"!",$AL66) -> Master!Q64
Y67: Totals | AA67: =SUM(AA4:AA66) -> #REF! | AB67: =SUM(AB4:AB66) -> 44 | AC67: =SUM(AC4:AC66) -> 27 | AD67: =SUM(AD4:AD66) -> 51.5 | AE67: =SUM(AE4:AE66) -> 51 | AF67: =SUM(AF4:AF66) -> 27.5 | AG67: =SUM(AG4:AG66) -> 38 | AH67: =SUM(AH4:AH66) -> 42 | AJ67: =SUM(AJ4:AJ66) -> 219
Y68: Round 1 | AA68: =SUM(AA4:AA35) -> #REF! | AB68: =SUM(AB4:AB35) -> 6 | AC68: =SUM(AC4:AC35) -> 14 | AD68: =SUM(AD4:AD35) -> 20 | AE68: =SUM(AE4:AE35) -> 10 | AF68: =SUM(AF4:AF35) -> 17 | AG68: =SUM(AG4:AG35) -> 21 | AH68: =SUM(AH4:AH35) -> 20 | AJ68: =SUM(AJ4:AJ35) -> 45
Y69: Round 2 | AA69: =SUM(AA36:AA51) -> #REF! | AB69: =SUM(AB36:AB51) -> 24 | AC69: =SUM(AC36:AC51) -> 9 | AD69: =SUM(AD36:AD51) -> 16.5 | AE69: =SUM(AE36:AE51) -> 27 | AF69: =SUM(AF36:AF51) -> 10.5 | AG69: =SUM(AG36:AG51) -> 3 | AH69: =SUM(AH36:AH51) -> 18 | AJ69: =SUM(AJ36:AJ51) -> 64.5
Y70: Round 3 | AA70: =SUM(AA52:AA59) -> #REF! | AB70: =SUM(AB52:AB59) -> 4 | AC70: =SUM(AC52:AC59) -> 4 | AD70: =SUM(AD52:AD59) -> 0 | AE70: =SUM(AE52:AE59) -> 4 | AF70: =SUM(AF52:AF59) -> 0 | AG70: =SUM(AG52:AG59) -> 4 | AH70: =SUM(AH52:AH59) -> 4 | AJ70: =SUM(AJ52:AJ59) -> 46
Y71: Round 4 | AA71: =SUM(AA60:AA63) -> #REF! | AB71: =SUM(AB60:AB63) -> 10 | AC71: =SUM(AC60:AC63) -> 0 | AD71: =SUM(AD60:AD63) -> 15 | AE71: =SUM(AE60:AE63) -> 10 | AF71: =SUM(AF60:AF63) -> 0 | AG71: =SUM(AG60:AG63) -> 10 | AH71: =SUM(AH60:AH63) -> 0 | AJ71: =SUM(AJ60:AJ63) -> 42.5
Y72: Round 5 | AA72: =SUM(AA64:AA65) -> #REF! | AB72: =SUM(AB64:AB65) -> 0 | AC72: =SUM(AC64:AC65) -> 0 | AD72: =SUM(AD64:AD65) -> 0 | AE72: =SUM(AE64:AE65) -> 0 | AF72: =SUM(AF64:AF65) -> 0 | AG72: =SUM(AG64:AG65) -> 0 | AH72: =SUM(AH64:AH65) -> 0 | AJ72: =SUM(AJ64:AJ65) -> 21
Y73: Round 6 | AA73: =AA66 -> #REF! | AB73: =AB66 -> 0 | AC73: =AC66 -> 0 | AD73: =AD66 -> 0 | AE73: =AE66 -> 0 | AF73: =AF66 -> 0 | AG73: =AG66 -> 0 | AH73: =AH66 -> 0 | AJ73: =AJ66 -> 0
Y74: Points Left For Rd 2-6 | AA74: =SUM(AA116:AA120) -> 0 | AB74: =SUM(AB116:AB120) -> 339 | AC74: =SUM(AC116:AC120) -> 294.5 | AD74: =SUM(AD116:AD120) -> 255.5 | AE74: =SUM(AE116:AE120) -> 224.5 | AF74: =SUM(AF116:AF120) -> 172.5 | AG74: =SUM(AG116:AG120) -> 129 | AH74: =SUM(AH116:AH120) -> 68 | AJ74: =SUM(AJ116:AJ120) -> 382
Y75: Points Left For Rd 3-6 | AA75: =SUM(AA142:AA145) -> 0 | AB75: =SUM(AB142:AB145) -> 62 | AC75: =SUM(AC142:AC145) -> 6.5 | AD75: =SUM(AD142:AD145) -> 33 | AE75: =SUM(AE142:AE145) -> 12.5 | AF75: =SUM(AF142:AF145) -> 3 | AG75: =SUM(AG142:AG145) -> -13.5 | AH75: =SUM(AH142:AH145) -> -18.5 | AJ75: =SUM(AJ142:AJ145) -> 230.5
Y76: Points Left For Rd 4-6 | AA76: =SUM(AA159:AA161) -> 0 | AB76: =SUM(AB159:AB161) -> 31.5 | AC76: =SUM(AC159:AC161) -> -2 | AD76: =SUM(AD159:AD161) -> 39 | AE76: =SUM(AE159:AE161) -> 16.5 | AF76: =SUM(AF159:AF161) -> 9 | AG76: =SUM(AG159:AG161) -> 2.5 | AH76: =SUM(AH159:AH161) -> -2.5 | AJ76: =SUM(AJ159:AJ161) -> 128.5
Y77: Points Left For Rd 5-6 | AA77: =SUM(AA171:AA172) -> 0 | AB77: =SUM(AB171:AB172) -> 18.5 | AC77: =SUM(AC171:AC172) -> 0.5 | AD77: =SUM(AD171:AD172) -> -3 | AE77: =SUM(AE171:AE172) -> 0.5 | AF77: =SUM(AF171:AF172) -> -6 | AG77: =SUM(AG171:AG172) -> -6 | AH77: =SUM(AH171:AH172) -> -9 | AJ77: =SUM(AJ171:AJ172) -> 63.5
Y78: Points Left For Rd 6 | AA78: =SUM(AA180) -> 0 | AB78: =SUM(AB180) -> 3.5 | AC78: =SUM(AC180) -> 3.5 | AD78: =SUM(AD180) -> 0 | AE78: =SUM(AE180) -> 3.5 | AF78: =SUM(AF180) -> 0 | AG78: =SUM(AG180) -> 0 | AH78: =SUM(AH180) -> 0 | AJ78: =SUM(AJ180) -> 24.5
B82: 1 | C82: Round 2 | AA82: =AA2 -> HiSeeds | AB82: =AB2 -> AnthonyP | AC82: =AC2 -> ChrisR | AD82: =AD2 -> EricP | AE82: =AE2 -> JoeG | AF82: =AF2 -> JohnP | AG82: =AG2 -> JoshF | AH82: =AH2 -> ScottP | AJ82: Best Possible
B83: 1 | C83: Player | D83: Insert3 | E83: 0 | F83: 1 | G83: 2 | H83: 3 | I83: 4 | J83: 5 | K83: 6 | L83: 7 | N83: =N3 -> 7 | P83: Favorite | Q83: Underdog | R83: Player1 | S83: Player2 | T83: Winner | U83: Loser | V83: SeedFav | W83: SeedUdr | Z83: Insert1 | AA83: =#REF!+1 -> #REF! | AB83: =#REF!+1 -> #REF! | AC83: =#REF!+1 -> #REF! | AD83: =#REF!+1 -> #REF! | AE83: =#REF!+1 -> #REF! | AF83: =#REF!+1 -> #REF! | AG83: =#REF!+1 -> #REF! | AH83: =#REF!+1 -> #REF! | AJ83: 0 | BB83: Player 1 | BC83: Player 2
B84: 2 | C84: E1 | D84: =D36 -> 1 CONN | E84: #REF! | F84: 1 CONN | G84: 1 CONN | H84: 1 CONN | I84: 1 CONN | J84: 1 CONN | K84: 1 CONN | L84: 1 CONN | N84: =N36 -> 1 CONN | P84: =P36 -> 0 | Q84: =Q36 -> 10.5 | R84: =INDIRECT(BB84) -> 1 CONN | S84: =INDIRECT(BC84) -> 8 FLA | T84: =INDIRECT(BD84) -> 1 CONN | U84: =IF(R84=T84,S84,R84) -> 8 FLA | V84: =VLOOKUP(R84,$A$1:$B$64,2) -> 1 | W84: =VLOOKUP(S84,$A$1:$B$64,2) -> 16 | X84: 1.5 | Y84: 10.5 | AA84: =IF($Y$1=1,($Y84-($Y84*COUNTIF(E84:$F84,E84)/$P$1))*COUNTIF($T$4:$T$35,E84),COUNTIF($T$4:$T$35,E84)*$Y84) -> 0 | AB84: =IF($Y$1=1,($Y84-($Y84*COUNTIF($F84:F84,F84)/$P$1))*COUNTIF($T$4:$T$35,F84),COUNTIF($T$4:$T$35,F84)*$Y84) -> 9 | AC84: =IF($Y$1=1,($Y84-($Y84*COUNTIF($F84:G84,G84)/$P$1))*COUNTIF($T$4:$T$35,G84),COUNTIF($T$4:$T$35,G84)*$Y84) -> 7.5 | AD84: =IF($Y$1=1,($Y84-($Y84*COUNTIF($F84:H84,H84)/$P$1))*COUNTIF($T$4:$T$35,H84),COUNTIF($T$4:$T$35,H84)*$Y84) -> 6 | AE84: =IF($Y$1=1,($Y84-($Y84*COUNTIF($F84:I84,I84)/$P$1))*COUNTIF($T$4:$T$35,I84),COUNTIF($T$4:$T$35,I84)*$Y84) -> 4.5 | AF84: =IF($Y$1=1,($Y84-($Y84*COUNTIF($F84:J84,J84)/$P$1))*COUNTIF($T$4:$T$35,J84),COUNTIF($T$4:$T$35,J84)*$Y84) -> 3 | AG84: =IF($Y$1=1,($Y84-($Y84*COUNTIF($F84:K84,K84)/$P$1))*COUNTIF($T$4:$T$35,K84),COUNTIF($T$4:$T$35,K84)*$Y84) -> 1.5 | AH84: =IF($Y$1=1,($Y84-($Y84*COUNTIF($F84:L84,L84)/$P$1))*COUNTIF($T$4:$T$35,L84),COUNTIF($T$4:$T$35,L84)*$Y84) -> 0 | AJ84: =$Y84-($Y84*COUNTIF($E84:$F84,N84)/$P$1)*COUNTIF($T$4:$T$35,N84) -> 9 | AL84: H8 | AW84: =CONCATENATE(AJ$1,"!",$AL84) -> Master!H8 | AY84: E4 | AZ84: E12 | BB84: =CONCATENATE(R$1,"!",$AY84) -> Master!E4 | BC84: =CONCATENATE(S$1,"!",$AZ84) -> Master!E12 | BD84: =CONCATENATE(T$1,"!",$AL84) -> Master!H8
B85: 3 | C85: E2 | D85: =D37 -> 12 MRST | E85: #REF! | F85: 12 MRST | G85: 4 CAL | H85: 4 CAL | I85: 4 CAL | J85: 5 UVA | K85: 5 UVA | L85: 4 CAL | N85: =N37 -> 4 CAL | P85: =P37 -> 4.5 | Q85: =Q37 -> 7.5 | R85: =INDIRECT(BB85) -> 4 CAL | S85: =INDIRECT(BC85) -> 5 UVA | T85: =INDIRECT(BD85) -> 4 CAL | U85: =IF(R85=T85,S85,R85) -> 5 UVA | V85: =VLOOKUP(R85,$A$1:$B$64,2) -> 12 | W85: =VLOOKUP(S85,$A$1:$B$64,2) -> 13 | X85: 1.5 | Y85: 10.5 | AA85: =IF($Y$1=1,($Y85-($Y85*COUNTIF(E85:$F85,E85)/$P$1))*COUNTIF($T$4:$T$35,E85),COUNTIF($T$4:$T$35,E85)*$Y85) -> 0 | AB85: =IF($Y$1=1,($Y85-($Y85*COUNTIF($F85:F85,F85)/$P$1))*COUNTIF($T$4:$T$35,F85),COUNTIF($T$4:$T$35,F85)*$Y85) -> 0 | AC85: =IF($Y$1=1,($Y85-($Y85*COUNTIF($F85:G85,G85)/$P$1))*COUNTIF($T$4:$T$35,G85),COUNTIF($T$4:$T$35,G85)*$Y85) -> 9 | AD85: =IF($Y$1=1,($Y85-($Y85*COUNTIF($F85:H85,H85)/$P$1))*COUNTIF($T$4:$T$35,H85),COUNTIF($T$4:$T$35,H85)*$Y85) -> 7.5 | AE85: =IF($Y$1=1,($Y85-($Y85*COUNTIF($F85:I85,I85)/$P$1))*COUNTIF($T$4:$T$35,I85),COUNTIF($T$4:$T$35,I85)*$Y85) -> 6 | AF85: =IF($Y$1=1,($Y85-($Y85*COUNTIF($F85:J85,J85)/$P$1))*COUNTIF($T$4:$T$35,J85),COUNTIF($T$4:$T$35,J85)*$Y85) -> 9 | AG85: =IF($Y$1=1,($Y85-($Y85*COUNTIF($F85:K85,K85)/$P$1))*COUNTIF($T$4:$T$35,K85),COUNTIF($T$4:$T$35,K85)*$Y85) -> 7.5 | AH85: =IF($Y$1=1,($Y85-($Y85*COUNTIF($F85:L85,L85)/$P$1))*COUNTIF($T$4:$T$35,L85),COUNTIF($T$4:$T$35,L85)*$Y85) -> 4.5 | AJ85: =$Y85-($Y85*COUNTIF($E85:$F85,N85)/$P$1)*COUNTIF($T$4:$T$35,N85) -> 10.5 | AL85: H24 | AW85: =CONCATENATE(AJ$1,"!",$AL85) -> Master!H24 | AY85: E20 | AZ85: E28 | BB85: =CONCATENATE(R$1,"!",$AY85) -> Master!E20 | BC85: =CONCATENATE(S$1,"!",$AZ85) -> Master!E28 | BD85: =CONCATENATE(T$1,"!",$AL85) -> Master!H24
B86: 3 | C86: E3 | D86: =D38 -> 2 A&M | E86: #REF! | F86: 2 A&M | G86: 2 A&M | H86: 2 A&M | I86: 2 A&M | J86: 2 A&M | K86: 2 A&M | L86: 2 A&M | N86: =N38 -> 2 A&M | P86: =P38 -> 0 | Q86: =Q38 -> 10.5 | R86: =INDIRECT(BB86) -> 2 A&M | S86: =INDIRECT(BC86) -> 10 MINN | T86: =INDIRECT(BD86) -> 2 A&M | U86: =IF(R86=T86,S86,R86) -> 10 MINN | V86: =VLOOKUP(R86,$A$1:$B$64,2) -> 10 | W86: =VLOOKUP(S86,$A$1:$B$64,2) -> 1 | X86: 1.5 | Y86: 10.5 | AA86: =IF($Y$1=1,($Y86-($Y86*COUNTIF(E86:$F86,E86)/$P$1))*COUNTIF($T$4:$T$35,E86),COUNTIF($T$4:$T$35,E86)*$Y86) -> 0 | AB86: =IF($Y$1=1,($Y86-($Y86*COUNTIF($F86:F86,F86)/$P$1))*COUNTIF($T$4:$T$35,F86),COUNTIF($T$4:$T$35,F86)*$Y86) -> 9 | AC86: =IF($Y$1=1,($Y86-($Y86*COUNTIF($F86:G86,G86)/$P$1))*COUNTIF($T$4:$T$35,G86),COUNTIF($T$4:$T$35,G86)*$Y86) -> 7.5 | AD86: =IF($Y$1=1,($Y86-($Y86*COUNTIF($F86:H86,H86)/$P$1))*COUNTIF($T$4:$T$35,H86),COUNTIF($T$4:$T$35,H86)*$Y86) -> 6 | AE86: =IF($Y$1=1,($Y86-($Y86*COUNTIF($F86:I86,I86)/$P$1))*COUNTIF($T$4:$T$35,I86),COUNTIF($T$4:$T$35,I86)*$Y86) -> 4.5 | AF86: =IF($Y$1=1,($Y86-($Y86*COUNTIF($F86:J86,J86)/$P$1))*COUNTIF($T$4:$T$35,J86),COUNTIF($T$4:$T$35,J86)*$Y86) -> 3 | AG86: =IF($Y$1=1,($Y86-($Y86*COUNTIF($F86:K86,K86)/$P$1))*COUNTIF($T$4:$T$35,K86),COUNTIF($T$4:$T$35,K86)*$Y86) -> 1.5 | AH86: =IF($Y$1=1,($Y86-($Y86*COUNTIF($F86:L86,L86)/$P$1))*COUNTIF($T$4:$T$35,L86),COUNTIF($T$4:$T$35,L86)*$Y86) -> 0 | AJ86: =$Y86-($Y86*COUNTIF($E86:$F86,N86)/$P$1)*COUNTIF($T$4:$T$35,N86) -> 9 | AL86: H40 | AW86: =CONCATENATE(AJ$1,"!",$AL86) -> Master!H40 | AY86: E36 | AZ86: E44 | BB86: =CONCATENATE(R$1,"!",$AY86) -> Master!E36 | BC86: =CONCATENATE(S$1,"!",$AZ86) -> Master!E44 | BD86: =CONCATENATE(T$1,"!",$AL86) -> Master!H40
B87: 3 | C87: E4 | D87: =D39 -> 3 FSU | E87: #REF! | F87: 3 FSU | G87: 3 FSU | H87: 3 FSU | I87: 3 FSU | J87: 3 FSU | K87: 3 FSU | L87: 3 FSU | N87: =N39 -> 6 ASU | P87: =P39 -> 0 | Q87: =Q39 -> 10.5 | R87: =INDIRECT(BB87) -> 3 FSU | S87: =INDIRECT(BC87) -> 6 ASU | T87: =INDIRECT(BD87) -> 6 ASU | U87: =IF(R87=T87,S87,R87) -> 3 FSU | V87: =VLOOKUP(R87,$A$1:$B$64,2) -> 11 | W87: =VLOOKUP(S87,$A$1:$B$64,2) -> 14 | X87: 1.5 | Y87: 10.5 | AA87: =IF($Y$1=1,($Y87-($Y87*COUNTIF(E87:$F87,E87)/$P$1))*COUNTIF($T$4:$T$35,E87),COUNTIF($T$4:$T$35,E87)*$Y87) -> 0 | AB87: =IF($Y$1=1,($Y87-($Y87*COUNTIF($F87:F87,F87)/$P$1))*COUNTIF($T$4:$T$35,F87),COUNTIF($T$4:$T$35,F87)*$Y87) -> 9 | AC87: =IF($Y$1=1,($Y87-($Y87*COUNTIF($F87:G87,G87)/$P$1))*COUNTIF($T$4:$T$35,G87),COUNTIF($T$4:$T$35,G87)*$Y87) -> 7.5 | AD87: =IF($Y$1=1,($Y87-($Y87*COUNTIF($F87:H87,H87)/$P$1))*COUNTIF($T$4:$T$35,H87),COUNTIF($T$4:$T$35,H87)*$Y87) -> 6 | AE87: =IF($Y$1=1,($Y87-($Y87*COUNTIF($F87:I87,I87)/$P$1))*COUNTIF($T$4:$T$35,I87),COUNTIF($T$4:$T$35,I87)*$Y87) -> 4.5 | AF87: =IF($Y$1=1,($Y87-($Y87*COUNTIF($F87:J87,J87)/$P$1))*COUNTIF($T$4:$T$35,J87),COUNTIF($T$4:$T$35,J87)*$Y87) -> 3 | AG87: =IF($Y$1=1,($Y87-($Y87*COUNTIF($F87:K87,K87)/$P$1))*COUNTIF($T$4:$T$35,K87),COUNTIF($T$4:$T$35,K87)*$Y87) -> 1.5 | AH87: =IF($Y$1=1,($Y87-($Y87*COUNTIF($F87:L87,L87)/$P$1))*COUNTIF($T$4:$T$35,L87),COUNTIF($T$4:$T$35,L87)*$Y87) -> 0 | AJ87: =$Y87-($Y87*COUNTIF($E87:$F87,N87)/$P$1)*COUNTIF($T$4:$T$35,N87) -> 10.5 | AL87: H56 | AW87: =CONCATENATE(AJ$1,"!",$AL87) -> Master!H56 | AY87: E52 | AZ87: E60 | BB87: =CONCATENATE(R$1,"!",$AY87) -> Master!E52 | BC87: =CONCATENATE(S$1,"!",$AZ87) -> Master!E60 | BD87: =CONCATENATE(T$1,"!",$AL87) -> Master!H56
B88: 3 | C88: W1 | D88: =D40 -> 1 DUKE | E88: #REF! | F88: 1 DUKE | G88: 1 DUKE | H88: 1 DUKE | I88: 1 DUKE | J88: 1 DUKE | K88: 1 DUKE | L88: 1 DUKE | N88: =N40 -> 9 MSU | P88: =P40 -> 0 | Q88: =Q40 -> 10.5 | R88: =INDIRECT(BB88) -> 1 DUKE | S88: =INDIRECT(BC88) -> 9 MSU | T88: =INDIRECT(BD88) -> 9 MSU | U88: =IF(R88=T88,S88,R88) -> 1 DUKE | V88: =VLOOKUP(R88,$A$1:$B$64,2) -> 1 | W88: =VLOOKUP(S88,$A$1:$B$64,2) -> 9 | X88: 1.5 | Y88: 10.5 | AA88: =IF($Y$1=1,($Y88-($Y88*COUNTIF(E88:$F88,E88)/$P$1))*COUNTIF($T$4:$T$35,E88),COUNTIF($T$4:$T$35,E88)*$Y88) -> 0 | AB88: =IF($Y$1=1,($Y88-($Y88*COUNTIF($F88:F88,F88)/$P$1))*COUNTIF($T$4:$T$35,F88),COUNTIF($T$4:$T$35,F88)*$Y88) -> 9 | AC88: =IF($Y$1=1,($Y88-($Y88*COUNTIF($F88:G88,G88)/$P$1))*COUNTIF($T$4:$T$35,G88),COUNTIF($T$4:$T$35,G88)*$Y88) -> 7.5 | AD88: =IF($Y$1=1,($Y88-($Y88*COUNTIF($F88:H88,H88)/$P$1))*COUNTIF($T$4:$T$35,H88),COUNTIF($T$4:$T$35,H88)*$Y88) -> 6 | AE88: =IF($Y$1=1,($Y88-($Y88*COUNTIF($F88:I88,I88)/$P$1))*COUNTIF($T$4:$T$35,I88),COUNTIF($T$4:$T$35,I88)*$Y88) -> 4.5 | AF88: =IF($Y$1=1,($Y88-($Y88*COUNTIF($F88:J88,J88)/$P$1))*COUNTIF($T$4:$T$35,J88),COUNTIF($T$4:$T$35,J88)*$Y88) -> 3 | AG88: =IF($Y$1=1,($Y88-($Y88*COUNTIF($F88:K88,K88)/$P$1))*COUNTIF($T$4:$T$35,K88),COUNTIF($T$4:$T$35,K88)*$Y88) -> 1.5 | AH88: =IF($Y$1=1,($Y88-($Y88*COUNTIF($F88:L88,L88)/$P$1))*COUNTIF($T$4:$T$35,L88),COUNTIF($T$4:$T$35,L88)*$Y88) -> 0 | AJ88: =$Y88-($Y88*COUNTIF($E88:$F88,N88)/$P$1)*COUNTIF($T$4:$T$35,N88) -> 10.5 | AL88: H74 | AW88: =CONCATENATE(AJ$1,"!",$AL88) -> Master!H74 | AY88: E70 | AZ88: E78 | BB88: =CONCATENATE(R$1,"!",$AY88) -> Master!E70 | BC88: =CONCATENATE(S$1,"!",$AZ88) -> Master!E78 | BD88: =CONCATENATE(T$1,"!",$AL88) -> Master!H74
B89: 4 | C89: W2 | D89: =D41 -> 5 TENN | E89: #REF! | F89: 5 TENN | G89: 5 TENN | H89: 5 TENN | I89: 4 ISU | J89: 5 TENN | K89: 5 TENN | L89: 5 TENN | N89: =N41 -> 4 ISU | P89: =P41 -> 9 | Q89: =Q41 -> 10.5 | R89: =INDIRECT(BB89) -> 4 ISU | S89: =INDIRECT(BC89) -> 12 BALL | T89: =INDIRECT(BD89) -> 4 ISU | U89: =IF(R89=T89,S89,R89) -> 12 BALL | V89: =VLOOKUP(R89,$A$1:$B$64,2) -> 12 | W89: =VLOOKUP(S89,$A$1:$B$64,2) -> 1 | X89: 1.5 | Y89: 10.5 | AA89: =IF($Y$1=1,($Y89-($Y89*COUNTIF(E89:$F89,E89)/$P$1))*COUNTIF($T$4:$T$35,E89),COUNTIF($T$4:$T$35,E89)*$Y89) -> 0 | AB89: =IF($Y$1=1,($Y89-($Y89*COUNTIF($F89:F89,F89)/$P$1))*COUNTIF($T$4:$T$35,F89),COUNTIF($T$4:$T$35,F89)*$Y89) -> 0 | AC89: =IF($Y$1=1,($Y89-($Y89*COUNTIF($F89:G89,G89)/$P$1))*COUNTIF($T$4:$T$35,G89),COUNTIF($T$4:$T$35,G89)*$Y89) -> 0 | AD89: =IF($Y$1=1,($Y89-($Y89*COUNTIF($F89:H89,H89)/$P$1))*COUNTIF($T$4:$T$35,H89),COUNTIF($T$4:$T$35,H89)*$Y89) -> 0 | AE89: =IF($Y$1=1,($Y89-($Y89*COUNTIF($F89:I89,I89)/$P$1))*COUNTIF($T$4:$T$35,I89),COUNTIF($T$4:$T$35,I89)*$Y89) -> 9 | AF89: =IF($Y$1=1,($Y89-($Y89*COUNTIF($F89:J89,J89)/$P$1))*COUNTIF($T$4:$T$35,J89),COUNTIF($T$4:$T$35,J89)*$Y89) -> 0 | AG89: =IF($Y$1=1,($Y89-($Y89*COUNTIF($F89:K89,K89)/$P$1))*COUNTIF($T$4:$T$35,K89),COUNTIF($T$4:$T$35,K89)*$Y89) -> 0 | AH89: =IF($Y$1=1,($Y89-($Y89*COUNTIF($F89:L89,L89)/$P$1))*COUNTIF($T$4:$T$35,L89),COUNTIF($T$4:$T$35,L89)*$Y89) -> 0 | AJ89: =$Y89-($Y89*COUNTIF($E89:$F89,N89)/$P$1)*COUNTIF($T$4:$T$35,N89) -> 10.5 | AL89: H90 | AW89: =CONCATENATE(AJ$1,"!",$AL89) -> Master!H90 | AY89: E86 | AZ89: E94 | BB89: =CONCATENATE(R$1,"!",$AY89) -> Master!E86 | BC89: =CONCATENATE(S$1,"!",$AZ89) -> Master!E94 | BD89: =CONCATENATE(T$1,"!",$AL89) -> Master!H90
B90: 4 | C90: W3 | D90: =D42 -> 2 STAN | E90: #REF! | F90: 2 STAN | G90: 2 STAN | H90: 2 STAN | I90: 2 STAN | J90: 2 STAN | K90: 2 STAN | L90: 2 STAN | N90: =N42 -> 2 STAN | P90: =P42 -> 0 | Q90: =Q42 -> 10.5 | R90: =INDIRECT(BB90) -> 2 STAN | S90: =INDIRECT(BC90) -> 10 SDSU | T90: =INDIRECT(BD90) -> 2 STAN | U90: =IF(R90=T90,S90,R90) -> 10 SDSU | V90: =VLOOKUP(R90,$A$1:$B$64,2) -> 10 | W90: =VLOOKUP(S90,$A$1:$B$64,2) -> 1 | X90: 1.5 | Y90: 10.5 | AA90: =IF($Y$1=1,($Y90-($Y90*COUNTIF(E90:$F90,E90)/$P$1))*COUNTIF($T$4:$T$35,E90),COUNTIF($T$4:$T$35,E90)*$Y90) -> 0 | AB90: =IF($Y$1=1,($Y90-($Y90*COUNTIF($F90:F90,F90)/$P$1))*COUNTIF($T$4:$T$35,F90),COUNTIF($T$4:$T$35,F90)*$Y90) -> 9 | AC90: =IF($Y$1=1,($Y90-($Y90*COUNTIF($F90:G90,G90)/$P$1))*COUNTIF($T$4:$T$35,G90),COUNTIF($T$4:$T$35,G90)*$Y90) -> 7.5 | AD90: =IF($Y$1=1,($Y90-($Y90*COUNTIF($F90:H90,H90)/$P$1))*COUNTIF($T$4:$T$35,H90),COUNTIF($T$4:$T$35,H90)*$Y90) -> 6 | AE90: =IF($Y$1=1,($Y90-($Y90*COUNTIF($F90:I90,I90)/$P$1))*COUNTIF($T$4:$T$35,I90),COUNTIF($T$4:$T$35,I90)*$Y90) -> 4.5 | AF90: =IF($Y$1=1,($Y90-($Y90*COUNTIF($F90:J90,J90)/$P$1))*COUNTIF($T$4:$T$35,J90),COUNTIF($T$4:$T$35,J90)*$Y90) -> 3 | AG90: =IF($Y$1=1,($Y90-($Y90*COUNTIF($F90:K90,K90)/$P$1))*COUNTIF($T$4:$T$35,K90),COUNTIF($T$4:$T$35,K90)*$Y90) -> 1.5 | AH90: =IF($Y$1=1,($Y90-($Y90*COUNTIF($F90:L90,L90)/$P$1))*COUNTIF($T$4:$T$35,L90),COUNTIF($T$4:$T$35,L90)*$Y90) -> 0 | AJ90: =$Y90-($Y90*COUNTIF($E90:$F90,N90)/$P$1)*COUNTIF($T$4:$T$35,N90) -> 9 | AL90: H106 | AW90: =CONCATENATE(AJ$1,"!",$AL90) -> Master!H106 | AY90: E102 | AZ90: E110 | BB90: =CONCATENATE(R$1,"!",$AY90) -> Master!E102 | BC90: =CONCATENATE(S$1,"!",$AZ90) -> Master!E110 | BD90: =CONCATENATE(T$1,"!",$AL90) -> Master!H106
...

Sheet Scott's Method Summary
B1: Summary | E1: 7 | G1: Only Valid if Scott's scoring system is being used
C2: # of players who chose team to win
C3: # of points team is worth if they win
E4: Round 1 | G4: Round 2 | I4: Round 3 | K4: Round 4 | M4: Round 5 | O4: Round 6
C5: Seed | D5: Team | E5: Worth= | F5: =Scoring!$Y$4 -> 7 | G5: Worth= | H5: =Scoring!$Y$36 -> 10.5 | I5: Worth= | J5: =Scoring!$Y$52 -> 14 | K5: Worth= | L5: =Scoring!Y60 -> 17.5 | M5: Worth= | N5: =Scoring!Y64 -> 21 | O5: Worth= | P5: =Scoring!Y66 -> 24.5
C6: 1 | D6: =Scoring!A1 -> 1 CONN | E6: =COUNTIF(Scoring!$F$4:M$35,$D6) -> 7 | F6: =IF(E6>0,F$5-(E6/$E$1*F$5),0) -> 0 | G6: =COUNTIF(Scoring!$F$36:M$51,$D6) -> 7 | H6: =IF(G6>0,H$5-(G6/$E$1*H$5),0) -> 0 | I6: =COUNTIF(Scoring!$F$52:M$59,$D6) -> 7 | J6: =IF(I6>0,J$5-(I6/$E$1*J$5),0) -> 0 | K6: =COUNTIF(Scoring!$F$60:M$63,$D6) -> 7 | L6: =IF(K6>0,L$5-(K6/$E$1*L$5),0) -> 0 | M6: =COUNTIF(Scoring!$F$64:M$65,$D6) -> 7 | N6: =IF(M6>0,N$5-(M6/$E$1*N$5),0) -> 0 | O6: =COUNTIF(Scoring!$F$66:M$66,$D6) -> 6 | P6: =IF(O6>0,P$5-(O6/$E$1*P$5),0) -> 3.5 | Q6: =D6 -> 1 CONN
C7: 1 | D7: =Scoring!A2 -> 1 DUKE | E7: =COUNTIF(Scoring!$F$4:M$35,$D7) -> 7 | F7: =IF(E7>0,F$5-(E7/$E$1*F$5),0) -> 0 | G7: =COUNTIF(Scoring!$F$36:M$51,$D7) -> 7 | H7: =IF(G7>0,H$5-(G7/$E$1*H$5),0) -> 0 | I7: =COUNTIF(Scoring!$F$52:M$59,$D7) -> 6 | J7: =IF(I7>0,J$5-(I7/$E$1*J$5),0) -> 2 | K7: =COUNTIF(Scoring!$F$60:M$63,$D7) -> 6 | L7: =IF(K7>0,L$5-(K7/$E$1*L$5),0) -> 2.5 | M7: =COUNTIF(Scoring!$F$64:M$65,$D7) -> 0 | N7: =IF(M7>0,N$5-(M7/$E$1*N$5),0) -> 0 | O7: =COUNTIF(Scoring!$F$66:M$66,$D7) -> 0 | P7: =IF(O7>0,P$5-(O7/$E$1*P$5),0) -> 0 | Q7: =D7 -> 1 DUKE
C8: 1 | D8: =Scoring!A3 -> 1 MD | E8: =COUNTIF(Scoring!$F$4:M$35,$D8) -> 7 | F8: =IF(E8>0,F$5-(E8/$E$1*F$5),0) -> 0 | G8: =COUNTIF(Scoring!$F$36:M$51,$D8) -> 7 | H8: =IF(G8>0,H$5-(G8/$E$1*H$5),0) -> 0 | I8: =COUNTIF(Scoring!$F$52:M$59,$D8) -> 7 | J8: =IF(I8>0,J$5-(I8/$E$1*J$5),0) -> 0 | K8: =COUNTIF(Scoring!$F$60:M$63,$D8) -> 5 | L8: =IF(K8>0,L$5-(K8/$E$1*L$5),0) -> 5 | M8: =COUNTIF(Scoring!$F$64:M$65,$D8) -> 5 | N8: =IF(M8>0,N$5-(M8/$E$1*N$5),0) -> 6 | O8: =COUNTIF(Scoring!$F$66:M$66,$D8) -> 1 | P8: =IF(O8>0,P$5-(O8/$E$1*P$5),0) -> 21 | Q8: =D8 -> 1 MD
C9: 1 | D9: =Scoring!A4 -> 1 OKLA | E9: =COUNTIF(Scoring!$F$4:M$35,$D9) -> 7 | F9: =IF(E9>0,F$5-(E9/$E$1*F$5),0) -> 0 | G9: =COUNTIF(Scoring!$F$36:M$51,$D9) -> 7 | H9: =IF(G9>0,H$5-(G9/$E$1*H$5),0) -> 0 | I9: =COUNTIF(Scoring!$F$52:M$59,$D9) -> 7 | J9: =IF(I9>0,J$5-(I9/$E$1*J$5),0) -> 0 | K9: =COUNTIF(Scoring!$F$60:M$63,$D9) -> 3 | L9: =IF(K9>0,L$5-(K9/$E$1*L$5),0) -> 10 | M9: =COUNTIF(Scoring!$F$64:M$65,$D9) -> 1 | N9: =IF(M9>0,N$5-(M9/$E$1*N$5),0) -> 18 | O9: =COUNTIF(Scoring!$F$66:M$66,$D9) -> 0 | P9: =IF(O9>0,P$5-(O9/$E$1*P$5),0) -> 0 | Q9: =D9 -> 1 OKLA
C10: 2 | D10: =Scoring!A5 -> 2 A&M | E10: =COUNTIF(Scoring!$F$4:M$35,$D10) -> 7 | F10: =IF(E10>0,F$5-(E10/$E$1*F$5),0) -> 0 | G10: =COUNTIF(Scoring!$F$36:M$51,$D10) -> 7 | H10: =IF(G10>0,H$5-(G10/$E$1*H$5),0) -> 0 | I10: =COUNTIF(Scoring!$F$52:M$59,$D10) -> 5 | J10: =IF(I10>0,J$5-(I10/$E$1*J$5),0) -> 4 | K10: =COUNTIF(Scoring!$F$60:M$63,$D10) -> 0 | L10: =IF(K10>0,L$5-(K10/$E$1*L$5),0) -> 0 | M10: =COUNTIF(Scoring!$F$64:M$65,$D10) -> 0 | N10: =IF(M10>0,N$5-(M10/$E$1*N$5),0) -> 0 | O10: =COUNTIF(Scoring!$F$66:M$66,$D10) -> 0 | P10: =IF(O10>0,P$5-(O10/$E$1*P$5),0) -> 0 | Q10: =D10 -> 2 A&M
C11: 2 | D11: =Scoring!A6 -> 2 AUB | E11: =COUNTIF(Scoring!$F$4:M$35,$D11) -> 7 | F11: =IF(E11>0,F$5-(E11/$E$1*F$5),0) -> 0 | G11: =COUNTIF(Scoring!$F$36:M$51,$D11) -> 6 | H11: =IF(G11>0,H$5-(G11/$E$1*H$5),0) -> 1.5 | I11: =COUNTIF(Scoring!$F$52:M$59,$D11) -> 3 | J11: =IF(I11>0,J$5-(I11/$E$1*J$5),0) -> 8 | K11: =COUNTIF(Scoring!$F$60:M$63,$D11) -> 2 | L11: =IF(K11>0,L$5-(K11/$E$1*L$5),0) -> 12.5 | M11: =COUNTIF(Scoring!$F$64:M$65,$D11) -> 1 | N11: =IF(M11>0,N$5-(M11/$E$1*N$5),0) -> 18 | O11: =COUNTIF(Scoring!$F$66:M$66,$D11) -> 0 | P11: =IF(O11>0,P$5-(O11/$E$1*P$5),0) -> 0 | Q11: =D11 -> 2 AUB
C12: 2 | D12: =Scoring!A7 -> 2 BAY | E12: =COUNTIF(Scoring!$F$4:M$35,$D12) -> 7 | F12: =IF(E12>0,F$5-(E12/$E$1*F$5),0) -> 0 | G12: =COUNTIF(Scoring!$F$36:M$51,$D12) -> 7 | H12: =IF(G12>0,H$5-(G12/$E$1*H$5),0) -> 0 | I12: =COUNTIF(Scoring!$F$52:M$59,$D12) -> 6 | J12: =IF(I12>0,J$5-(I12/$E$1*J$5),0) -> 2 | K12: =COUNTIF(Scoring!$F$60:M$63,$D12) -> 2 | L12: =IF(K12>0,L$5-(K12/$E$1*L$5),0) -> 12.5 | M12: =COUNTIF(Scoring!$F$64:M$65,$D12) -> 0 | N12: =IF(M12>0,N$5-(M12/$E$1*N$5),0) -> 0 | O12: =COUNTIF(Scoring!$F$66:M$66,$D12) -> 0 | P12: =IF(O12>0,P$5-(O12/$E$1*P$5),0) -> 0 | Q12: =D12 -> 2 BAY
C13: 2 | D13: =Scoring!A8 -> 2 STAN | E13: =COUNTIF(Scoring!$F$4:M$35,$D13) -> 7 | F13: =IF(E13>0,F$5-(E13/$E$1*F$5),0) -> 0 | G13: =COUNTIF(Scoring!$F$36:M$51,$D13) -> 7 | H13: =IF(G13>0,H$5-(G13/$E$1*H$5),0) -> 0 | I13: =COUNTIF(Scoring!$F$52:M$59,$D13) -> 7 | J13: =IF(I13>0,J$5-(I13/$E$1*J$5),0) -> 0 | K13: =COUNTIF(Scoring!$F$60:M$63,$D13) -> 1 | L13: =IF(K13>0,L$5-(K13/$E$1*L$5),0) -> 15 | M13: =COUNTIF(Scoring!$F$64:M$65,$D13) -> 0 | N13: =IF(M13>0,N$5-(M13/$E$1*N$5),0) -> 0 | O13: =COUNTIF(Scoring!$F$66:M$66,$D13) -> 0 | P13: =IF(O13>0,P$5-(O13/$E$1*P$5),0) -> 0 | Q13: =D13 -> 2 STAN
C14: 3 | D14: =Scoring!A9 -> 3 FSU | E14: =COUNTIF(Scoring!$F$4:M$35,$D14) -> 7 | F14: =IF(E14>0,F$5-(E14/$E$1*F$5),0) -> 0 | G14: =COUNTIF(Scoring!$F$36:M$51,$D14) -> 7 | H14: =IF(G14>0,H$5-(G14/$E$1*H$5),0) -> 0 | I14: =COUNTIF(Scoring!$F$52:M$59,$D14) -> 2 | J14: =IF(I14>0,J$5-(I14/$E$1*J$5),0) -> 10 | K14: =COUNTIF(Scoring!$F$60:M$63,$D14) -> 0 | L14: =IF(K14>0,L$5-(K14/$E$1*L$5),0) -> 0 | M14: =COUNTIF(Scoring!$F$64:M$65,$D14) -> 0 | N14: =IF(M14>0,N$5-(M14/$E$1*N$5),0) -> 0 | O14: =COUNTIF(Scoring!$F$66:M$66,$D14) -> 0 | P14: =IF(O14>0,P$5-(O14/$E$1*P$5),0) -> 0 | Q14: =D14 -> 3 FSU
C15: 3 | D15: =Scoring!A10 -> 3 OSU | E15: =COUNTIF(Scoring!$F$4:M$35,$D15) -> 7 | F15: =IF(E15>0,F$5-(E15/$E$1*F$5),0) -> 0 | G15: =COUNTIF(Scoring!$F$36:M$51,$D15) -> 5 | H15: =IF(G15>0,H$5-(G15/$E$1*H$5),0) -> 3 | I15: =COUNTIF(Scoring!$F$52:M$59,$D15) -> 0 | J15: =IF(I15>0,J$5-(I15/$E$1*J$5),0) -> 0 | K15: =COUNTIF(Scoring!$F$60:M$63,$D15) -> 0 | L15: =IF(K15>0,L$5-(K15/$E$1*L$5),0) -> 0 | M15: =COUNTIF(Scoring!$F$64:M$65,$D15) -> 0 | N15: =IF(M15>0,N$5-(M15/$E$1*N$5),0) -> 0 | O15: =COUNTIF(Scoring!$F$66:M$66,$D15) -> 0 | P15: =IF(O15>0,P$5-(O15/$E$1*P$5),0) -> 0 | Q15: =D15 -> 3 OSU
C16: 3 | D16: =Scoring!A11 -> 3 UL | E16: =COUNTIF(Scoring!$F$4:M$35,$D16) -> 7 | F16: =IF(E16>0,F$5-(E16/$E$1*F$5),0) -> 0 | G16: =COUNTIF(Scoring!$F$36:M$51,$D16) -> 3 | H16: =IF(G16>0,H$5-(G16/$E$1*H$5),0) -> 6 | I16: =COUNTIF(Scoring!$F$52:M$59,$D16) -> 0 | J16: =IF(I16>0,J$5-(I16/$E$1*J$5),0) -> 0 | K16: =COUNTIF(Scoring!$F$60:M$63,$D16) -> 0 | L16: =IF(K16>0,L$5-(K16/$E$1*L$5),0) -> 0 | M16: =COUNTIF(Scoring!$F$64:M$65,$D16) -> 0 | N16: =IF(M16>0,N$5-(M16/$E$1*N$5),0) -> 0 | O16: =COUNTIF(Scoring!$F$66:M$66,$D16) -> 0 | P16: =IF(O16>0,P$5-(O16/$E$1*P$5),0) -> 0 | Q16: =D16 -> 3 UL
C17: 3 | D17: =Scoring!A12 -> 3 UNC | E17: =COUNTIF(Scoring!$F$4:M$35,$D17) -> 7 | F17: =IF(E17>0,F$5-(E17/$E$1*F$5),0) -> 0 | G17: =COUNTIF(Scoring!$F$36:M$51,$D17) -> 5 | H17: =IF(G17>0,H$5-(G17/$E$1*H$5),0) -> 3 | I17: =COUNTIF(Scoring!$F$52:M$59,$D17) -> 3 | J17: =IF(I17>0,J$5-(I17/$E$1*J$5),0) -> 8 | K17: =COUNTIF(Scoring!$F$60:M$63,$D17) -> 2 | L17: =IF(K17>0,L$5-(K17/$E$1*L$5),0) -> 12.5 | M17: =COUNTIF(Scoring!$F$64:M$65,$D17) -> 0 | N17: =IF(M17>0,N$5-(M17/$E$1*N$5),0) -> 0 | O17: =COUNTIF(Scoring!$F$66:M$66,$D17) -> 0 | P17: =IF(O17>0,P$5-(O17/$E$1*P$5),0) -> 0 | Q17: =D17 -> 3 UNC
... C69: 16 | D69: =Scoring!A64 -> 16 UVM | E69: =COUNTIF(Scoring!$F$4:M$35,$D69) -> 0 | F69: =IF(E69>0,F$5-(E69/$E$1*F$5),0) -> 0 | G69: =COUNTIF(Scoring!$F$36:M$51,$D69) -> 0 | H69: =IF(G69>0,H$5-(G69/$E$1*H$5),0) -> 0 | I69: =COUNTIF(Scoring!$F$52:M$59,$D69) -> 0 | J69: =IF(I69>0,J$5-(I69/$E$1*J$5),0) -> 0 | K69: =COUNTIF(Scoring!$F$60:M$63,$D69) -> 0 | L69: =IF(K69>0,L$5-(K69/$E$1*L$5),0) -> 0 | M69: =COUNTIF(Scoring!$F$64:M$65,$D69) -> 0 | N69: =IF(M69>0,N$5-(M69/$E$1*N$5),0) -> 0 | O69: =COUNTIF(Scoring!$F$66:M$66,$D69) -> 0 | P69: =IF(O69>0,P$5-(O69/$E$1*P$5),0) -> 0 | Q69: =D69 -> 16 UVM
E70: =SUM(E6:E69) -> 224 | G70: =SUM(G6:G69) -> 112 | I70: =SUM(I6:I69) -> 56 | K70: =SUM(K6:K69) -> 28 | M70: =SUM(M6:M69) -> 14 | O70: =SUM(O6:O69) -> 7

Sheet Pick Summary (by Player)
B1: =Scoring!F1 -> AnthonyP | C1: =Scoring!G1 -> ChrisR | D1: =Scoring!H1 -> EricP | E1: =Scoring!I1 -> JoeG | F1: =Scoring!J1 -> JohnP | G1: =Scoring!K1 -> JoshF | H1: =Scoring!L1 -> ScottP | K1: Master | L1: Master | M1: Master
K2: Player1 | L2: Player2 | M2: Winner | N2: Loser
A3: Round1 | B3: =Scoring!F4 -> 1 CONN | C3: =Scoring!G4 -> 1 CONN | D3: =Scoring!H4 -> 1 CONN | E3: =Scoring!I4 -> 1 CONN | F3: =Scoring!J4 -> 1 CONN | G3: =Scoring!K4 -> 1 CONN | H3: =Scoring!L4 -> 1 CONN | K3: =Scoring!R4 -> 1 CONN | L3: =Scoring!S4 -> 16 UVM | M3: =Scoring!T4 -> 1 CONN | N3: =IF(M3="","",IF(K3=M3,L3,K3)) -> 16 UVM
B4: =Scoring!F5 -> 8 FLA | C4: =Scoring!G5 -> 8 FLA | D4: =Scoring!H5 -> 9 TEM | E4: =Scoring!I5 -> 8 FLA | F4: =Scoring!J5 -> 8 FLA | G4: =Scoring!K5 -> 8 FLA | H4: =Scoring!L5 -> 9 TEM | K4: =Scoring!R5 -> 8 FLA | L4: =Scoring!S5 -> 9 TEM | M4: =Scoring!T5 -> 8 FLA | N4: =IF(M4="","",IF(K4=M4,L4,K4)) -> 9 TEM
B5: =Scoring!F6 -> 4 CAL | C5: =Scoring!G6 -> 4 CAL | D5: =Scoring!H6 -> 4 CAL | E5: =Scoring!I6 -> 4 CAL | F5: =Scoring!J6 -> 4 CAL | G5: =Scoring!K6 -> 4 CAL | H5: =Scoring!L6 -> 4 CAL | K5: =Scoring!R6 -> 4 CAL | L5: =Scoring!S6 -> 13 FRES | M5: =Scoring!T6 -> 4 CAL | N5: =IF(M5="","",IF(K5=M5,L5,K5)) -> 13 FRES
B6: =Scoring!F7 -> 12 MRST | C6: =Scoring!G7 -> 5 UVA | D6: =Scoring!H7 -> 5 UVA | E6: =Scoring!I7 -> 5 UVA | F6: =Scoring!J7 -> 5 UVA | G6: =Scoring!K7 -> 5 UVA | H6: =Scoring!L7 -> 5 UVA | K6: =Scoring!R7 -> 5 UVA | L6: =Scoring!S7 -> 12 MRST | M6: =Scoring!T7 -> 5 UVA | N6: =IF(M6="","",IF(K6=M6,L6,K6)) -> 12 MRST
B7: =Scoring!F8 -> 2 A&M | C7: =Scoring!G8 -> 2 A&M | D7: =Scoring!H8 -> 2 A&M | E7: =Scoring!I8 -> 2 A&M | F7: =Scoring!J8 -> 2 A&M | G7: =Scoring!K8 -> 2 A&M | H7: =Scoring!L8 -> 2 A&M | K7: =Scoring!R8 -> 2 A&M | L7: =Scoring!S8 -> 15 EVAN | M7: =Scoring!T8 -> 2 A&M | N7: =IF(M7="","",IF(K7=M7,L7,K7)) -> 15 EVAN
B8: =Scoring!F9 -> 7 ND | C8: =Scoring!G9 -> 7 ND | D8: =Scoring!H9 -> 10 MINN | E8: =Scoring!I9 -> 7 ND | F8: =Scoring!J9 -> 10 MINN | G8: =Scoring!K9 -> 10 MINN | H8: =Scoring!L9 -> 10 MINN | K8: =Scoring!R9 -> 7 ND | L8: =Scoring!S9 -> 10 MINN | M8: =Scoring!T9 -> 10 MINN | N8: =IF(M8="","",IF(K8=M8,L8,K8)) -> 7 ND
B9: =Scoring!F10 -> 3 FSU | C9: =Scoring!G10 -> 3 FSU | D9: =Scoring!H10 -> 3 FSU | E9: =Scoring!I10 -> 3 FSU | F9: =Scoring!J10 -> 3 FSU | G9: =Scoring!K10 -> 3 FSU | H9: =Scoring!L10 -> 3 FSU | K9: =Scoring!R10 -> 3 FSU | L9: =Scoring!S10 -> 14 NCAT | M9: =Scoring!T10 -> 3 FSU | N9: =IF(M9="","",IF(K9=M9,L9,K9)) -> 14 NCAT
B10: =Scoring!F11 -> 6 ASU | C10: =Scoring!G11 -> 6 ASU | D10: =Scoring!H11 -> 6 ASU | E10: =Scoring!I11 -> 6 ASU | F10: =Scoring!J11 -> 6 ASU | G10: =Scoring!K11 -> 11 UGA | H10: =Scoring!L11 -> 6 ASU | K10: =Scoring!R11 -> 6 ASU | L10: =Scoring!S11 -> 11 UGA | M10: =Scoring!T11 -> 6 ASU | N10: =IF(M10="","",IF(K10=M10,L10,K10)) -> 11 UGA
B11: =Scoring!F12 -> 1 DUKE | C11: =Scoring!G12 -> 1 DUKE | D11: =Scoring!H12 -> 1 DUKE | E11: =Scoring!I12 -> 1 DUKE | F11: =Scoring!J12 -> 1 DUKE | G11: =Scoring!K12 -> 1 DUKE | H11: =Scoring!L12 -> 1 DUKE | K11: =Scoring!R12 -> 1 DUKE | L11: =Scoring!S12 -> 16 APSU | M11: =Scoring!T12 -> 1 DUKE | N11: =IF(M11="","",IF(K11=M11,L11,K11)) -> 16 APSU
B12: =Scoring!F13 -> 9 MSU | C12: =Scoring!G13 -> 9 MSU | D12: =Scoring!H13 -> 9 MSU | E12: =Scoring!I13 -> 8 MTSU | F12: =Scoring!J13 -> 9 MSU | G12: =Scoring!K13 -> 9 MSU | H12: =Scoring!L13 -> 9 MSU | K12: =Scoring!R13 -> 8 MTSU | L12: =Scoring!S13 -> 9 MSU | M12: =Scoring!T13 -> 9 MSU | N12: =IF(M12="","",IF(K12=M12,L12,K12)) -> 8 MTSU
B13: =Scoring!F14 -> 4 ISU | C13: =Scoring!G14 -> 4 ISU | D13: =Scoring!H14 -> 4 ISU | E13: =Scoring!I14 -> 4 ISU | F13: =Scoring!J14 -> 4 ISU | G13: =Scoring!K14 -> 4 ISU | H13: =Scoring!L14 -> 4 ISU | K13: =Scoring!R14 -> 4 ISU | L13: =Scoring!S14 -> 13 ETSU | M13: =Scoring!T14 -> 4 ISU | N13: =IF(M13="","",IF(K13=M13,L13,K13)) -> 13 ETSU
B14: =Scoring!F15 -> 5 TENN | C14: =Scoring!G15 -> 5 TENN | D14: =Scoring!H15 -> 5 TENN | E14: =Scoring!I15 -> 5 TENN | F14: =Scoring!J15 -> 5 TENN | G14: =Scoring!K15 -> 5 TENN | H14: =Scoring!L15 -> 5 TENN | K14: =Scoring!R15 -> 5 TENN | L14: =Scoring!S15 -> 12 BALL | M14: =Scoring!T15 -> 12 BALL | N14: =IF(M14="","",IF(K14=M14,L14,K14)) -> 5 TENN
B15: =Scoring!F16 -> 2 STAN | C15: =Scoring!G16 -> 2 STAN | D15: =Scoring!H16 -> 2 STAN | E15: =Scoring!I16 -> 2 STAN | F15: =Scoring!J16 -> 2 STAN | G15: =Scoring!K16 -> 2 STAN | H15: =Scoring!L16 -> 2 STAN | K15: =Scoring!R16 -> 2 STAN | L15: =Scoring!S16 -> 15 UCSB | M15: =Scoring!T16 -> 2 STAN | N15: =IF(M15="","",IF(K15=M15,L15,K15)) -> 15 UCSB
... B34: =Scoring!F35 -> 6 PUR | C34: =Scoring!G35 -> 6 PUR | D34: =Scoring!H35 -> 6 PUR | E34: =Scoring!I35 -> 6 PUR | F34: =Scoring!J35 -> 11 CHAR | G34: =Scoring!K35 -> 6 PUR | H34: =Scoring!L35 -> 6 PUR | K34: =Scoring!R35 -> 6 PUR | L34: =Scoring!S35 -> 11 CHAR | M34: =Scoring!T35 -> 6 PUR | N34: =IF(M34="","",IF(K34=M34,L34,K34)) -> 11 CHAR
A35: Round 2 | B35: =Scoring!F36 -> 1 CONN | C35: =Scoring!G36 -> 1 CONN | D35: =Scoring!H36 -> 1 CONN | E35: =Scoring!I36 -> 1 CONN | F35: =Scoring!J36 -> 1 CONN | G35: =Scoring!K36 -> 1 CONN | H35: =Scoring!L36 -> 1 CONN | K35: =Scoring!R36 -> 1 CONN | L35: =Scoring!S36 -> 8 FLA | M35: =Scoring!T36 -> 1 CONN | N35: =IF(M35="","",IF(K35=M35,L35,K35)) -> 8 FLA
B36: =Scoring!F37 -> 12 MRST | C36: =Scoring!G37 -> 4 CAL | D36: =Scoring!H37 -> 4 CAL | E36: =Scoring!I37 -> 4 CAL | F36: =Scoring!J37 -> 5 UVA | G36: =Scoring!K37 -> 5 UVA | H36: =Scoring!L37 -> 4 CAL | K36: =Scoring!R37 -> 4 CAL | L36: =Scoring!S37 -> 5 UVA | M36: =Scoring!T37 -> 4 CAL | N36: =IF(M36="","",IF(K36=M36,L36,K36)) -> 5 UVA
B37: =Scoring!F38 -> 2 A&M | C37: =Scoring!G38 -> 2 A&M | D37: =Scoring!H38 -> 2 A&M | E37: =Scoring!I38 -> 2 A&M | F37: =Scoring!J38 -> 2 A&M | G37: =Scoring!K38 -> 2 A&M | H37: =Scoring!L38 -> 2 A&M | K37: =Scoring!R38 -> 2 A&M | L37: =Scoring!S38 -> 10 MINN | M37: =Scoring!T38 -> 2 A&M | N37: =IF(M37="","",IF(K37=M37,L37,K37)) -> 10 MINN
B38: =Scoring!F39 -> 3 FSU | C38: =Scoring!G39 -> 3 FSU | D38: =Scoring!H39 -> 3 FSU | E38: =Scoring!I39 -> 3 FSU | F38: =Scoring!J39 -> 3 FSU | G38: =Scoring!K39 -> 3 FSU | H38: =Scoring!L39 -> 3 FSU | K38: =Scoring!R39 -> 3 FSU | L38: =Scoring!S39 -> 6 ASU | M38: =Scoring!T39 -> 6 ASU | N38: =IF(M38="","",IF(K38=M38,L38,K38)) -> 3 FSU
B39: =Scoring!F40 -> 1 DUKE | C39: =Scoring!G40 -> 1 DUKE | D39: =Scoring!H40 -> 1 DUKE | E39: =Scoring!I40 -> 1 DUKE | F39: =Scoring!J40 -> 1 DUKE | G39: =Scoring!K40 -> 1 DUKE | H39: =Scoring!L40 -> 1 DUKE | K39: =Scoring!R40 -> 1 DUKE | L39: =Scoring!S40 -> 9 MSU | M39: =Scoring!T40 -> 9 MSU | N39: =IF(M39="","",IF(K39=M39,L39,K39)) -> 1 DUKE
B40: =Scoring!F41 -> 5 TENN | C40: =Scoring!G41 -> 5 TENN | D40: =Scoring!H41 -> 5 TENN | E40: =Scoring!I41 -> 4 ISU | F40: =Scoring!J41 -> 5 TENN | G40: =Scoring!K41 -> 5 TENN | H40: =Scoring!L41 -> 5 TENN | K40: =Scoring!R41 -> 4 ISU | L40: =Scoring!S41 -> 12 BALL | M40: =Scoring!T41 -> 4 ISU | N40: =IF(M40="","",IF(K40=M40,L40,K40)) -> 12 BALL
B41: =Scoring!F42 -> 2 STAN | C41: =Scoring!G42 -> 2 STAN | D41: =Scoring!H42 -> 2 STAN | E41: =Scoring!I42 -> 2 STAN | F41: =Scoring!J42 -> 2 STAN | G41: =Scoring!K42 -> 2 STAN | H41: =Scoring!L42 -> 2 STAN | K41: =Scoring!R42 -> 2 STAN | L41: =Scoring!S42 -> 10 SDSU | M41: =Scoring!T42 -> 2 STAN | N41: =IF(M41="","",IF(K41=M41,L41,K41)) -> 10 SDSU
B42: =Scoring!F43 -> 3 OSU | C42: =Scoring!G43 -> 3 OSU | D42: =Scoring!H43 -> 6 TEX | E42: =Scoring!I43 -> 3 OSU | F42: =Scoring!J43 -> 3 OSU | G42: =Scoring!K43 -> 6 TEX | H42: =Scoring!L43 -> 3 OSU | K42: =Scoring!R43 -> 3 OSU | L42: =Scoring!S43 -> 11 MSU | M42: =Scoring!T43 -> 3 OSU | N42: =IF(M42="","",IF(K42=M42,L42,K42)) -> 11 MSU
B43: =Scoring!F44 -> 1 MD | C43: =Scoring!G44 -> 1 MD | D43: =Scoring!H44 -> 1 MD | E43: =Scoring!I44 -> 1 MD | F43: =Scoring!J44 -> 1 MD | G43: =Scoring!K44 -> 1 MD | H43: =Scoring!L44 -> 1 MD | K43: =Scoring!R44 -> 1 MD | L43: =Scoring!S44 -> 9 UTAH | M43: =Scoring!T44 -> 1 MD | N43: =IF(M43="","",IF(K43=M43,L43,K43)) -> 9 UTAH
B44: =Scoring!F45 -> 4 VAN | C44: =Scoring!G45 -> 4 VAN | D44: =Scoring!H45 -> 4 VAN | E44: =Scoring!I45 -> 4 VAN | F44: =Scoring!J45 -> 4 VAN | G44: =Scoring!K45 -> 5 KSU | H44: =Scoring!L45 -> 4 VAN | K44: =Scoring!R45 -> 4 VAN | L44: =Scoring!S45 -> 5 KSU | M44: =Scoring!T45 -> 4 VAN | N44: =IF(M44="","",IF(K44=M44,L44,K44)) -> 5 KSU
B45: =Scoring!F46 -> 2 BAY | C45: =Scoring!G46 -> 2 BAY | D45: =Scoring!H46 -> 2 BAY | E45: =Scoring!I46 -> 2 BAY | F45: =Scoring!J46 -> 2 BAY | G45: =Scoring!K46 -> 2 BAY | H45: =Scoring!L46 -> 2 BAY | K45: =Scoring!R46 -> 2 BAY | L45: =Scoring!S46 -> 7 SDS | M45: =Scoring!T46 -> 2 BAY | N45: =IF(M45="","",IF(K45=M45,L45,K45)) -> 7 SDS
B46: =Scoring!F47 -> 6 LSU | C46: =Scoring!G47 -> 6 LSU | D46: =Scoring!H47 -> 6 LSU | E46: =Scoring!I47 -> 3 UL | F46: =Scoring!J47 -> 3 UL | G46: =Scoring!K47 -> 6 LSU | H46: =Scoring!L47 -> 3 UL | K46: =Scoring!R47 -> 3 UL | L46: =Scoring!S47 -> 6 LSU | M46: =Scoring!T47 -> 3 UL | N46: =IF(M46="","",IF(K46=M46,L46,K46)) -> 6 LSU
B47: =Scoring!F48 -> 1 OKLA | C47: =Scoring!G48 -> 1 OKLA | D47: =Scoring!H48 -> 1 OKLA | E47: =Scoring!I48 -> 1 OKLA | F47: =Scoring!J48 -> 1 OKLA | G47: =Scoring!K48 -> 1 OKLA | H47: =Scoring!L48 -> 1 OKLA | K47: =Scoring!R48 -> 1 OKLA | L47: =Scoring!S48 -> 9 GT | M47: =Scoring!T48 -> 1 OKLA | N47: =IF(M47="","",IF(K47=M47,L47,K47)) -> 9 GT
... B50: =Scoring!F51 -> 6 PUR | C50: =Scoring!G51 -> 3 UNC | D50: =Scoring!H51 -> 6 PUR | E50: =Scoring!I51 -> 3 UNC | F50: =Scoring!J51 -> 3 UNC | G50: =Scoring!K51 -> 3 UNC | H50: =Scoring!L51 -> 3 UNC | K50: =Scoring!R51 -> 3 UNC | L50: =Scoring!S51 -> 6 PUR | M50: =Scoring!T51 -> 6 PUR | N50: =IF(M50="","",IF(K50=M50,L50,K50)) -> 3 UNC
A51: Round 3 | B51: =Scoring!F52 -> 1 CONN | C51: =Scoring!G52 -> 1 CONN | D51: =Scoring!H52 -> 1 CONN | E51: =Scoring!I52 -> 1 CONN | F51: =Scoring!J52 -> 1 CONN | G51: =Scoring!K52 -> 1 CONN | H51: =Scoring!L52 -> 1 CONN | K51: =Scoring!R52 -> 1 CONN | L51: =Scoring!S52 -> 4 CAL | M51: =Scoring!T52 -> 1 CONN | N51: =IF(M51="","",IF(K51=M51,L51,K51)) -> 4 CAL
B52: =Scoring!F53 -> 2 A&M | C52: =Scoring!G53 -> 2 A&M | D52: =Scoring!H53 -> 3 FSU | E52: =Scoring!I53 -> 2 A&M | F52: =Scoring!J53 -> 3 FSU | G52: =Scoring!K53 -> 2 A&M | H52: =Scoring!L53 -> 2 A&M | K52: =Scoring!R53 -> 2 A&M | L52: =Scoring!S53 -> 6 ASU | M52: =Scoring!T53 -> 2 A&M | N52: =IF(M52="","",IF(K52=M52,L52,K52)) -> 6 ASU
B53: =Scoring!F54 -> 1 DUKE | C53: =Scoring!G54 -> 1 DUKE | D53: =Scoring!H54 -> 5 TENN | E53: =Scoring!I54 -> 1 DUKE | F53: =Scoring!J54 -> 1 DUKE | G53: =Scoring!K54 -> 1 DUKE | H53: =Scoring!L54 -> 1 DUKE | K53: =Scoring!R54 -> 9 MSU | L53: =Scoring!S54 -> 4 ISU | M53: =Scoring!T54 -> 4 ISU | N53: =IF(M53="","",IF(K53=M53,L53,K53)) -> 9 MSU
B54: =Scoring!F55 -> 2 STAN | C54: =Scoring!G55 -> 2 STAN | D54: =Scoring!H55 -> 2 STAN | E54: =Scoring!I55 -> 2 STAN | F54: =Scoring!J55 -> 2 STAN | G54: =Scoring!K55 -> 2 STAN | H54: =Scoring!L55 -> 2 STAN | K54: =Scoring!R55 -> 2 STAN | L54: =Scoring!S55 -> 3 OSU | M54: =Scoring!T55 -> 2 STAN | N54: =IF(M54="","",IF(K54=M54,L54,K54)) -> 3 OSU
B55: =Scoring!F56 -> 1 MD | C55: =Scoring!G56 -> 1 MD | D55: =Scoring!H56 -> 1 MD | E55: =Scoring!I56 -> 1 MD | F55: =Scoring!J56 -> 1 MD | G55: =Scoring!K56 -> 1 MD | H55: =Scoring!L56 -> 1 MD | K55: =Scoring!R56 -> 1 MD | L55: =Scoring!S56 -> 4 VAN | M55: =Scoring!T56 -> 1 MD | N55: =IF(M55="","",IF(K55=M55,L55,K55)) -> 4 VAN
B56: =Scoring!F57 -> 2 BAY | C56: =Scoring!G57 -> 2 BAY | D56: =Scoring!H57 -> 2 BAY | E56: =Scoring!I57 -> 2 BAY | F56: =Scoring!J57 -> 2 BAY | G56: =Scoring!K57 -> 6 LSU | H56: =Scoring!L57 -> 2 BAY | K56: =Scoring!R57 -> 2 BAY | L56: =Scoring!S57 -> 3 UL | M56: =Scoring!T57 -> 3 UL | N56: =IF(M56="","",IF(K56=M56,L56,K56)) -> 2 BAY
