Workbook

Sheet Scoring
A1: 1 CONN | B1: 1 | E1: HiSeeds | F1: AnthonyP | G1: ChrisR | H1: EricP | I1: JoeG | J1: JohnP | K1: JoshF | L1: ScottP | N1: Master | P1: 7 | R1: Master | S1: Master | T1: Master | X1: Wstyle | Y1: 1 | AJ1: Master
A2: 1 DUKE | B2: 1 | C2: Round 1 | AA2: HiSeeds | AB2: AnthonyP | AC2: ChrisR | AD2: EricP | AE2: JoeG | AF2: JohnP | AG2: JoshF | AH2: ScottP | AJ2: Best Possible
A3: 1 MD | B3: 1 | C3: Player | D3: Insert3 | E3: 0 | F3: 1 | G3: 2 | H3: 3 | I3: 4 | J3: 5 | K3: 6 | L3: 7 | N3: =AJ3 -> 7 | P3: Favorite | Q3: Underdog | R3: Player1 | S3: Player2 | T3: Winner | U3: Loser | V3: SeedFav | W3: SeedUdr | X3: RndPts | Y3: Weighted Total | Z3: Insert1 | AA3: 0 | AB3: =AA3+1 -> 1 | AC3: =AB3+1 -> 2 | AD3: =AC3+1 -> 3 | AE3: =AD3+1 -> 4 | AF3: =AE3+1 -> 5 | AG3: =AF3+1 -> 6 | AH3: =AG3+1 -> 7 | AJ3: =OFFSET(AK3,0,-3) -> 7 | BB3: Player 1 | BC3: Player 2
A4: 1 OKLA | B4: 1 | C4: E1 | D4: =OFFSET($F4,0,$D$67) -> 1 CONN | E4: #REF! | F4: 1 CONN | G4: 1 CONN | H4: 1 CONN | I4: 1 CONN | J4: 1 CONN | K4: 1 CONN | L4: 1 CONN | N4: =INDIRECT(AW4) -> 1 CONN | P4: =IF($Y$1=3,X4*V4,IF($Y$1=2,X4+V4,IF($Y$1=4,X4,$Y4-($Y4*COUNTIF($F4:$M4,$R4)/$P$1)))) -> 0 | Q4: =IF($Y$1=3,X4*W4,IF($Y$1=2,X4+W4,IF($Y$1=4,X4,$Y4-($Y4*COUNTIF($F4:$M4,$S4)/$P$1)))) -> 7 | R4: =INDIRECT(BB4) -> 1 CONN | S4: =INDIRECT(BC4) -> 16 UVM | T4: =IF(INDIRECT(BD4)=0,"",INDIRECT(BD4)) -> 1 CONN | U4: =IF(S4=0,1,IF(R4=0,1,IF(T4=0,1,IF(T4="","",IF(R4=T4,S4,R4))))) -> 16 UVM | V4: =VLOOKUP(R4,$A$1:$B$64,2) -> 1 | W4: =VLOOKUP(S4,$A$1:$B$64,2) -> 1 | X4: 1 | Y4: 7 | Z4: Redrag4 | AA4: =IF(E4=$T4,(IF(E4=$R4,$P4,$Q4)),0) -> #REF! | AB4: =IF(F4=$T4,(IF(F4=$R4,$P4,$Q4)),0) -> 0 | AC4: =IF(G4=$T4,(IF(G4=$R4,$P4,$Q4)),0) -> 0 | AD4: =IF(H4=$T4,(IF(H4=$R4,$P4,$Q4)),0) -> 0 | AE4: =IF(I4=$T4,(IF(I4=$R4,$P4,$Q4)),0) -> 0 | AF4: =IF(J4=$T4,(IF(J4=$R4,$P4,$Q4)),0) -> 0 | AG4: =IF(K4=$T4,(IF(K4=$R4,$P4,$Q4)),0) -> 0 | AH4: =IF(L4=$T4,(IF(L4=$R4,$P4,$Q4)),0) -> 0 | AJ4: =IF(N4=$T4,(IF(N4=$R4,$P4,$Q4)),0) -> 0 | AL4: E4 | AW4: =CONCATENATE(AJ$1,"!",$AL4) -> Master!E4 | AY4: B2 | AZ4: B6 | BB4: =CONCATENATE(R$1,"!",$AY4) -> Master!B2 | BC4: =CONCATENATE(S$1,"!",$AZ4) -> Master!B6 | BD4: =CONCATENATE(T$1,"!",$AL4) -> Master!E4
A5: 2 A&M | B5: 10 | C5: E2 | D5: =OFFSET($F5,0,$D$67) -> 8 FLA | E5: #REF! | F5: 8 FLA | G5: 8 FLA | H5: 9 TEM | I5: 8 FLA | J5: 8 FLA | K5: 8 FLA | L5: 9 TEM | N5: =INDIRECT(AW5) -> 8 FLA | P5: =IF($Y$1=3,X5*V5,IF($Y$1=2,X5+V5,IF($Y$1=4,X5,$Y5-($Y5*COUNTIF($F5:$M5,$R5)/$P$1)))) -> 2 | Q5: =IF($Y$1=3,X5*W5,IF($Y$1=2,X5+W5,IF($Y$1=4,X5,$Y5-($Y5*COUNTIF($F5:$M5,$S5)/$P$1)))) -> 5 | R5: =INDIRECT(BB5) -> 8 FLA | S5: =INDIRECT(BC5) -> 9 TEM | T5: =IF(INDIRECT(BD5)=0,"",INDIRECT(BD5)) -> 8 FLA | U5: =IF(S5=0,1,IF(R5=0,1,IF(T5=0,1,IF(T5="","",IF(R5=T5,S5,R5))))) -> 9 TEM | V5: =VLOOKUP(R5,$A$1:$B$64,2) -> 16 | W5: =VLOOKUP(S5,$A$1:$B$64,2) -> 9 | X5: 1 | Y5: 7 | AA5: =IF(E5=$T5,(IF(E5=$R5,$P5,$Q5)),0) -> #REF! | AB5: =IF(F5=$T5,(IF(F5=$R5,$P5,$Q5)),0) -> 2 | AC5: =IF(G5=$T5,(IF(G5=$R5,$P5,$Q5)),0) -> 2 | AD5: =IF(H5=$T5,(IF(H5=$R5,$P5,$Q5)),0) -> 0 | AE5: =IF(I5=$T5,(IF(I5=$R5,$P5,$Q5)),0) -> 2 | AF5: =IF(J5=$T5,(IF(J5=$R5,$P5,$Q5)),0) -> 2 | AG5: =IF(K5=$T5,(IF(K5=$R5,$P5,$Q5)),0) -> 2 | AH5: =IF(L5=$T5,(IF(L5=$R5,$P5,$Q5)),0) -> 0 | AJ5: =IF(N5=$T5,(IF(N5=$R5,$P5,$Q5)),0) -> 2 | AL5: E12 | AW5: =CONCATENATE(AJ$1,"!",$AL5) -> Master!E12 | AY5: B10 | AZ5: B14 | BB5: =CONCATENATE(R$1,"!",$AY5) -> Master!B10 | BC5: =CONCATENATE(S$1,"!",$AZ5) -> Master!B14 | BD5: =CONCATENATE(T$1,"!",$AL5) -> Master!E12
A6: 2 AUB | B6: 10 | C6: E3 | D6: =OFFSET($F6,0,$D$67) -> 4 CAL | E6: #REF! | F6: 4 CAL | G6: 4 CAL | H6: 4 CAL | I6: 4 CAL | J6: 4 CAL | K6: 4 CAL | L6: 4 CAL | N6: =INDIRECT(AW6) -> 4 CAL | P6: =IF($Y$1=3,X6*V6,IF($Y$1=2,X6+V6,IF($Y$1=4,X6,$Y6-($Y6*COUNTIF($F6:$M6,$R6)/$P$1)))) -> 0 | Q6: =IF($Y$1=3,X6*W6,IF($Y$1=2,X6+W6,IF($Y$1=4,X6,$Y6-($Y6*COUNTIF($F6:$M6,$S6)/$P$1)))) -> 7 | R6: =INDIRECT(BB6) -> 4 CAL | S6: =INDIRECT(BC6) -> 13 FRES | T6: =IF(INDIRECT(BD6)=0,"",INDIRECT(BD6)) -> 4 CAL | U6: =IF(S6=0,1,IF(R6=0,1,IF(T6=0,1,IF(T6="","",IF(R6=T6,S6,R6))))) -> 13 FRES | V6: =VLOOKUP(R6,$A$1:$B$64,2) -> 12 | W6: =VLOOKUP(S6,$A$1:$B$64,2) -> 1 | X6: 1 | Y6: 7 | AA6: =IF(E6=$T6,(IF(E6=$R6,$P6,$Q6)),0) -> #REF! | AB6: =IF(F6=$T6,(IF(F6=$R6,$P6,$Q6)),0) -> 0 | AC6: =IF(G6=$T6,(IF(G6=$R6,$P6,$Q6)),0) -> 0 | AD6: =IF(H6=$T6,(IF(H6=$R6,$P6,$Q6)),0) -> 0 | AE6: =IF(I6=$T6,(IF(I6=$R6,$P6,$Q6)),0) -> 0 | AF6: =IF(J6=$T6,(IF(J6=$R6,$P6,$Q6)),0) -> 0 | AG6: =IF(K6=$T6,(IF(K6=$R6,$P6,$Q6)),0) -> 0 | AH6: =IF(L6=$T6,(IF(L6=$R6,$P6,$Q6)),0) -> 0 | AJ6: =IF(N6=$T6,(IF(N6=$R6,$P6,$Q6)),0) -> 0 | AL6: E20 | AW6: =CONCATENATE(AJ$1,"!",$AL6) -> Master!E20 | AY6: B18 | AZ6: B22 | BB6: =CONCATENATE(R$1,"!",$AY6) -> Master!B18 | BC6: =CONCATENATE(S$1,"!",$AZ6) -> Master!B22 | BD6: =CONCATENATE(T$1,"!",$AL6) -> Master!E20
A7: 2 BAY | B7: 10 | C7: E4 | D7: =OFFSET($F7,0,$D$67) -> 12 MRST | E7: #REF! | F7: 12 MRST | G7: 5 UVA | H7: 5 UVA | I7: 5 UVA | J7: 5 UVA | K7: 5 UVA | L7: 5 UVA | N7: =INDIRECT(AW7) -> 5 UVA | P7: =IF($Y$1=3,X7*V7,IF($Y$1=2,X7+V7,IF($Y$1=4,X7,$Y7-($Y7*COUNTIF($F7:$M7,$R7)/$P$1)))) -> 1 | Q7: =IF($Y$1=3,X7*W7,IF($Y$1=2,X7+W7,IF($Y$1=4,X7,$Y7-($Y7*COUNTIF($F7:$M7,$S7)/$P$1)))) -> 6 | R7: =INDIRECT(BB7) -> 5 UVA | S7: =INDIRECT(BC7) -> 12 MRST | T7: =IF(INDIRECT(BD7)=0,"",INDIRECT(BD7)) -> 5 UVA | U7: =IF(S7=0,1,IF(R7=0,1,IF(T7=0,1,IF(T7="","",IF(R7=T7,S7,R7))))) -> 12 MRST | V7: =VLOOKUP(R7,$A$1:$B$64,2) -> 13 | W7: =VLOOKUP(S7,$A$1:$B$64,2) -> 1 | X7: 1 | Y7: 7 | AA7: =IF(E7=$T7,(IF(E7=$R7,$P7,$Q7)),0) -> #REF! | AB7: =IF(F7=$T7,(IF(F7=$R7,$P7,$Q7)),0) -> 0 | AC7: =IF(G7=$T7,(IF(G7=$R7,$P7,$Q7)),0) -> 1 | AD7: =IF(H7=$T7,(IF(H7=$R7,$P7,$Q7)),0) -> 1 | AE7: =IF(I7=$T7,(IF(I7=$R7,$P7,$Q7)),0) -> 1 | AF7: =IF(J7=$T7,(IF(J7=$R7,$P7,$Q7)),0) -> 1 | AG7: =IF(K7=$T7,(IF(K7=$R7,$P7,$Q7)),0) -> 1 | AH7: =IF(L7=$T7,(IF(L7=$R7,$P7,$Q7)),0) -> 1 | AJ7: =IF(N7=$T7,(IF(N7=$R7,$P7,$Q7)),0) -> 1 | AL7: E28 | AW7: =CONCATENATE(AJ$1,"!",$AL7) -> Master!E28 | AY7: B26 | AZ7: B30 | BB7: =CONCATENATE(R$1,"!",$AY7) -> Master!B26 | BC7: =CONCATENATE(S$1,"!",$AZ7) -> Master!B30 | BD7: =CONCATENATE(T$1,"!",$AL7) -> Master!E28
A8: 2 STAN | B8: 10 | C8: E5 | D8: =OFFSET($F8,0,$D$67) -> 2 A&M | E8: #REF! | F8: 2 A&M | G8: 2 A&M | H8: 2 A&M | I8: 2 A&M | J8: 2 A&M | K8: 2 A&M | L8: 2 A&M | N8: =INDIRECT(AW8) -> 2 A&M | P8: =IF($Y$1=3,X8*V8,IF($Y$1=2,X8+V8,IF($Y$1=4,X8,$Y8-($Y8*COUNTIF($F8:$M8,$R8)/$P$1)))) -> 0 | Q8: =IF($Y$1=3,X8*W8,IF($Y$1=2,X8+W8,IF($Y$1=4,X8,$Y8-($Y8*COUNTIF($F8:$M8,$S8)/$P$1)))) -> 7 | R8: =INDIRECT(BB8) -> 2 A&M | S8: =INDIRECT(BC8) -> 15 EVAN | T8: =IF(INDIRECT(BD8)=0,"",INDIRECT(BD8)) -> 2 A&M | U8: =IF(S8=0,1,IF(R8=0,1,IF(T8=0,1,IF(T8="","",IF(R8=T8,S8,R8))))) -> 15 EVAN | V8: =VLOOKUP(R8,$A$1:$B$64,2) -> 10 | W8: =VLOOKUP(S8,$A$1:$B$64,2) -> 1 | X8: 1 | Y8: 7 | AA8: =IF(E8=$T8,(IF(E8=$R8,$P8,$Q8)),0) -> #REF! | AB8: =IF(F8=$T8,(IF(F8=$R8,$P8,$Q8)),0) -> 0 | AC8: =IF(G8=$T8,(IF(G8=$R8,$P8,$Q8)),0) -> 0 | AD8: =IF(H8=$T8,(IF(H8=$R8,$P8,$Q8)),0) -> 0 | AE8: =IF(I8=$T8,(IF(I8=$R8,$P8,$Q8)),0) -> 0 | AF8: =IF(J8=$T8,(IF(J8=$R8,$P8,$Q8)),0) -> 0 | AG8: =IF(K8=$T8,(IF(K8=$R8,$P8,$Q8)),0) -> 0 | AH8: =IF(L8=$T8,(IF(L8=$R8,$P8,$Q8)),0) -> 0 | AJ8: =IF(N8=$T8,(IF(N8=$R8,$P8,$Q8)),0) -> 0 | AL8: E36 | AW8: =CONCATENATE(AJ$1,"!",$AL8) -> Master!E36 | AY8: B34 | AZ8: B38 | BB8: =CONCATENATE(R$1,"!",$AY8) -> Master!B34 | BC8: =CONCATENATE(S$1,"!",$AZ8) -> Master!B38 | BD8: =CONCATENATE(T$1,"!",$AL8) -> Master!E36
A9: 3 FSU | B9: 11 | C9: E6 | D9: =OFFSET($F9,0,$D$67) -> 7 ND | E9: #REF! | F9: 7 ND | G9: 7 ND | H9: 10 MINN | I9: 7 ND | J9: 10 MINN | K9: 10 MINN | L9: 10 MINN | N9: =INDIRECT(AW9) -> 10 MINN | P9: =IF($Y$1=3,X9*V9,IF($Y$1=2,X9+V9,IF($Y$1=4,X9,$Y9-($Y9*COUNTIF($F9:$M9,$R9)/$P$1)))) -> 4 | Q9: =IF($Y$1=3,X9*W9,IF($Y$1=2,X9+W9,IF($Y$1=4,X9,$Y9-($Y9*COUNTIF($F9:$M9,$S9)/$P$1)))) -> 3 | R9: =INDIRECT(BB9) -> 7 ND | S9: =INDIRECT(BC9) -> 10 MINN | T9: =IF(INDIRECT(BD9)=0,"",INDIRECT(BD9)) -> 10 MINN | U9: =IF(S9=0,1,IF(R9=0,1,IF(T9=0,1,IF(T9="","",IF(R9=T9,S9,R9))))) -> 7 ND | V9: =VLOOKUP(R9,$A$1:$B$64,2) -> 15 | W9: =VLOOKUP(S9,$A$1:$B$64,2) -> 1 | X9: 1 | Y9: 7 | AA9: =IF(E9=$T9,(IF(E9=$R9,$P9,$Q9)),0) -> #REF! | AB9: =IF(F9=$T9,(IF(F9=$R9,$P9,$Q9)),0) -> 0 | AC9: =IF(G9=$T9,(IF(G9=$R9,$P9,$Q9)),0) -> 0 | AD9: =IF(H9=$T9,(IF(H9=$R9,$P9,$Q9)),0) -> 3 | AE9: =IF(I9=$T9,(IF(I9=$R9,$P9,$Q9)),0) -> 0 | AF9: =IF(J9=$T9,(IF(J9=$R9,$P9,$Q9)),0) -> 3 | AG9: =IF(K9=$T9,(IF(K9=$R9,$P9,$Q9)),0) -> 3 | AH9: =IF(L9=$T9,(IF(L9=$R9,$P9,$Q9)),0) -> 3 | AJ9: =IF(N9=$T9,(IF(N9=$R9,$P9,$Q9)),0) -> 3 | AL9: E44 | AW9: =CONCATENATE(AJ$1,"!",$AL9) -> Master!E44 | AY9: B42 | AZ9: B46 | BB9: =CONCATENATE(R$1,"!",$AY9) -> Master!B42 | BC9: =CONCATENATE(S$1,"!",$AZ9) -> Master!B46 | BD9: =CONCATENATE(T$1,"!",$AL9) -> Master!E44
A10: 3 OSU | B10: 11 | C10: E7 | D10: =OFFSET($F10,0,$D$67) -> 3 FSU | E10: #REF! | F10: 3 FSU | G10: 3 FSU | H10: 3 FSU | I10: 3 FSU | J10: 3 FSU | K10: 3 FSU | L10: 3 FSU | N10: =INDIRECT(AW10) -> 3 FSU | P10: =IF($Y$1=3,X10*V10,IF($Y$1=2,X10+V10,IF($Y$1=4,X10,$Y10-($Y10*COUNTIF($F10:$M10,$R10)/$P$1)))) -> 0 | Q10: =IF($Y$1=3,X10*W10,IF($Y$1=2,X10+W10,IF($Y$1=4,X10,$Y10-($Y10*COUNTIF($F10:$M10,$S10)/$P$1)))) -> 7 | R10: =INDIRECT(BB10) -> 3 FSU | S10: =INDIRECT(BC10) -> 14 NCAT | T10: =IF(INDIRECT(BD10)=0,"",INDIRECT(BD10)) -> 3 FSU | U10: =IF(S10=0,1,IF(R10=0,1,IF(T10=0,1,IF(T10="","",IF(R10=T10,S10,R10))))) -> 14 NCAT | V10: =VLOOKUP(R10,$A$1:$B$64,2) -> 11 | W10: =VLOOKUP(S10,$A$1:$B$64,2) -> 1 | X10: 1 | Y10: 7 | AA10: =IF(E10=$T10,(IF(E10=$R10,$P10,$Q10)),0) -> #REF! | AB10: =IF(F10=$T10,(IF(F10=$R10,$P10,$Q10)),0) -> 0 | AC10: =IF(G10=$T10,(IF(G10=$R10,$P10,$Q10)),0) -> 0 | AD10: =IF(H10=$T10,(IF(H10=$R10,$P10,$Q10)),0) -> 0 | AE10: =IF(I10=$T10,(IF(I10=$R10,$P10,$Q10)),0) -> 0 | AF10: =IF(J10=$T10,(IF(J10=$R10,$P10,$Q10)),0) -> 0 | AG10: =IF(K10=$T10,(IF(K10=$R10,$P10,$Q10)),0) -> 0 | AH10: =IF(L10=$T10,(IF(L10=$R10,$P10,$Q10)),0) -> 0 | AJ10: =IF(N10=$T10,(IF(N10=$R10,$P10,$Q10)),0) -> 0 | AL10: E52 | AW10: =CONCATENATE(AJ$1,"!",$AL10) -> Master!E52 | AY10: B50 | AZ10: B54 | BB10: =CONCATENATE(R$1,"!",$AY10) -> Master!B50 | BC10: =CONCATENATE(S$1,"!",$AZ10) -> Master!B54 | BD10: =CONCATENATE(T$1,"!",$AL10) -> Master!E52
A11: 3 UL | B11: 11 | C11: E8 | D11: =OFFSET($F11,0,$D$67) -> 6 ASU | E11: #REF! | F11: 6 ASU | G11: 6 ASU | H11: 6 ASU | I11: 6 ASU | J11: 6 ASU | K11: 11 UGA | L11: 6 ASU | N11: =INDIRECT(AW11) -> 6 ASU | P11: =IF($Y$1=3,X11*V11,IF($Y$1=2,X11+V11,IF($Y$1=4,X11,$Y11-($Y11*COUNTIF($F11:$M11,$R11)/$P$1)))) -> 1 | Q11: =IF($Y$1=3,X11*W11,IF($Y$1=2,X11+W11,IF($Y$1=4,X11,$Y11-($Y11*COUNTIF($F11:$M11,$S11)/$P$1)))) -> 6 | R11: =INDIRECT(BB11) -> 6 ASU | S11: =INDIRECT(BC11) -> 11 UGA | T11: =IF(INDIRECT(BD11)=0,"",INDIRECT(BD11)) -> 6 ASU | U11: =IF(S11=0,1,IF(R11=0,1,IF(T11=0,1,IF(T11="","",IF(R11=T11,S11,R11))))) -> 11 UGA | V11: =VLOOKUP(R11,$A$1:$B$64,2) -> 14 | W11: =VLOOKUP(S11,$A$1:$B$64,2) -> 1 | X11: 1 | Y11: 7 | AA11: =IF(E11=$T11,(IF(E11=$R11,$P11,$Q11)),0) -> #REF! | AB11: =IF(F11=$T11,(IF(F11=$R11,$P11,$Q11)),0) -> 1 | AC11: =IF(G11=$T11,(IF(G11=$R11,$P11,$Q11)),0) -> 1 | AD11: =IF(H11=$T11,(IF(H11=$R11,$P11,$Q11)),0) -> 1 | AE11: =IF(I11=$T11,(IF(I11=$R11,$P11,$Q11)),0) -> 1 | AF11: =IF(J11=$T11,(IF(J11=$R11,$P11,$Q11)),0) -> 1 | AG11: =IF(K11=$T11,(IF(K11=$R11,$P11,$Q11)),0) -> 0 | AH11: =IF(L11=$T11,(IF(L11=$R11,$P11,$Q11)),0) -> 1 | AJ11: =IF(N11=$T11,(IF(N11=$R11,$P11,$Q11)),0) -> 1 | AL11: E60 | AW11: =CONCATENATE(AJ$1,"!",$AL11) -> Master!E60 | AY11: B58 | AZ11: B62 | BB11: =CONCATENATE(R$1,"!",$AY11) -> Master!B58 | BC11: =CONCATENATE(S$1,"!",$AZ11) -> Master!B62 | BD11: =CONCATENATE(T$1,"!",$AL11) -> Master!E60
A12: 3 UNC | B12: 11 | C12: W1 | D12: =OFFSET($F12,0,$D$67) -> 1 DUKE | E12: #REF! | F12: 1 DUKE | G12: 1 DUKE | H12: 1 DUKE | I12: 1 DUKE | J12: 1 DUKE | K12: 1 DUKE | L12: 1 DUKE | N12: =INDIRECT(AW12) -> 1 DUKE | P12: =IF($Y$1=3,X12*V12,IF($Y$1=2,X12+V12,IF($Y$1=4,X12,$Y12-($Y12*COUNTIF($F12:$M12,$R12)/$P$1)))) -> 0 | Q12: =IF($Y$1=3,X12*W12,IF($Y$1=2,X12+W12,IF($Y$1=4,X12,$Y12-($Y12*COUNTIF($F12:$M12,$S12)/$P$1)))) -> 7 | R12: =INDIRECT(BB12) -> 1 DUKE | S12: =INDIRECT(BC12) -> 16 APSU | T12: =IF(INDIRECT(BD12)=0,"",INDIRECT(BD12)) -> 1 DUKE | U12: =IF(S12=0,1,IF(R12=0,1,IF(T12=0,1,IF(T12="","",IF(R12=T12,S12,R12))))) -> 16 APSU | V12: =VLOOKUP(R12,$A$1:$B$64,2) -> 1 | W12: =VLOOKUP(S12,$A$1:$B$64,2) -> 1 | X12: 1 | Y12: 7 | AA12: =IF(E12=$T12,(IF(E12=$R12,$P12,$Q12)),0) -> #REF! | AB12: =IF(F12=$T12,(IF(F12=$R12,$P12,$Q12)),0) -> 0 | AC12: =IF(G12=$T12,(IF(G12=$R12,$P12,$Q12)),0) -> 0 | AD12: =IF(H12=$T12,(IF(H12=$R12,$P12,$Q12)),0) -> 0 | AE12: =IF(I12=$T12,(IF(I12=$R12,$P12,$Q12)),0) -> 0 | AF12: =IF(J12=$T12,(IF(J12=$R12,$P12,$Q12)),0) -> 0 | AG12: =IF(K12=$T12,(IF(K12=$R12,$P12,$Q12)),0) -> 0 | AH12: =IF(L12=$T12,(IF(L12=$R12,$P12,$Q12)),0) -> 0 | AJ12: =IF(N12=$T12,(IF(N12=$R12,$P12,$Q12)),0) -> 0 | AL12: E70 | AW12: =CONCATENATE(AJ$1,"!",$AL12) -> Master!E70 | AY12: B68 | AZ12: B72 | BB12: =CONCATENATE(R$1,"!",$AY12) -> Master!B68 | BC12: =CONCATENATE(S$1,"!",$AZ12) -> Master!B72 | BD12: =CONCATENATE(T$1,"!",$AL12) -> Master!E70
A13: 4 CAL | B13: 12 | C13: W2 | D13: =OFFSET($F13,0,$D$67) -> 9 MSU | E13: #REF! | F13: 9 MSU | G13: 9 MSU | H13: 9 MSU | I13: 8 MTSU | J13: 9 MSU | K13: 9 MSU | L13: 9 MSU | N13: =INDIRECT(AW13) -> 9 MSU | P13: =IF($Y$1=3,X13*V13,IF($Y$1=2,X13+V13,IF($Y$1=4,X13,$Y13-($Y13*COUNTIF($F13:$M13,$R13)/$P$1)))) -> 6 | Q13: =IF($Y$1=3,X13*W13,IF($Y$1=2,X13+W13,IF($Y$1=4,X13,$Y13-($Y13*COUNTIF($F13:$M13,$S13)/$P$1)))) -> 1 | R13: =INDIRECT(BB13) -> 8 MTSU | S13: =INDIRECT(BC13) -> 9 MSU | T13: =IF(INDIRECT(BD13)=0,"",INDIRECT(BD13)) -> 9 MSU | U13: =IF(S13=0,1,IF(R13=0,1,IF(T13=0,1,IF(T13="","",IF(R13=T13,S13,R13))))) -> 8 MTSU | V13: =VLOOKUP(R13,$A$1:$B$64,2) -> 16 | W13: =VLOOKUP(S13,$A$1:$B$64,2) -> 9 | X13: 1 | Y13: 7 | AA13: =IF(E13=$T13,(IF(E13=$R13,$P13,$Q13)),0) -> #REF! | AB13: =IF(F13=$T13,(IF(F13=$R13,$P13,$Q13)),0) -> 1 | AC13: =IF(G13=$T13,(IF(G13=$R13,$P13,$Q13)),0) -> 1 | AD13: =IF(H13=$T13,(IF(H13=$R13,$P13,$Q13)),0) -> 1 | AE13: =IF(I13=$T13,(IF(I13=$R13,$P13,$Q13)),0) -> 0 | AF13: =IF(J13=$T13,(IF(J13=$R13,$P13,$Q13)),0) -> 1 | AG13: =IF(K13=$T13,(IF(K13=$R13,$P13,$Q13)),0) -> 1 | AH13: =IF(L13=$T13,(IF(L13=$R13,$P13,$Q13)),0) -> 1 | AJ13: =IF(N13=$T13,(IF(N13=$R13,$P13,$Q13)),0) -> 1 | AL13: E78 | AW13: =CONCATENATE(AJ$1,"!",$AL13) -> Master!E78 | AY13: B76 | AZ13: B80 | BB13: =CONCATENATE(R$1,"!",$AY13) -> Master!B76 | BC13: =CONCATENATE(S$1,"!",$AZ13) -> Master!B80 | BD13: =CONCATENATE(T$1,"!",$AL13) -> Master!E78
A14: 4 ISU | B14: 12 | C14: W3 | D14: =OFFSET($F14,0,$D$67) -> 4 ISU | E14: #REF! | F14: 4 ISU | G14: 4 ISU | H14: 4 ISU | I14: 4 ISU | J14: 4 ISU | K14: 4 ISU | L14: 4 ISU | N14: =INDIRECT(AW14) -> 4 ISU | P14: =IF($Y$1=3,X14*V14,IF($Y$1=2,X14+V14,IF($Y$1=4,X14,$Y14-($Y14*COUNTIF($F14:$M14,$R14)/$P$1)))) -> 0 | Q14: =IF($Y$1=3,X14*W14,IF($Y$1=2,X14+W14,IF($Y$1=4,X14,$Y14-($Y14*COUNTIF($F14:$M14,$S14)/$P$1)))) -> 7 | R14: =INDIRECT(BB14) -> 4 ISU | S14: =INDIRECT(BC14) -> 13 ETSU | T14: =IF(INDIRECT(BD14)=0,"",INDIRECT(BD14)) -> 4 ISU | U14: =IF(S14=0,1,IF(R14=0,1,IF(T14=0,1,IF(T14="","",IF(R14=T14,S14,R14))))) -> 13 ETSU | V14: =VLOOKUP(R14,$A$1:$B$64,2) -> 12 | W14: =VLOOKUP(S14,$A$1:$B$64,2) -> 1 | X14: 1 | Y14: 7 | AA14: =IF(E14=$T14,(IF(E14=$R14,$P14,$Q14)),0) -> #REF! | AB14: =IF(F14=$T14,(IF(F14=$R14,$P14,$Q14)),0) -> 0 | AC14: =IF(G14=$T14,(IF(G14=$R14,$P14,$Q14)),0) -> 0 | AD14: =IF(H14=$T14,(IF(H14=$R14,$P14,$Q14)),0) -> 0 | AE14: =IF(I14=$T14,(IF(I14=$R14,$P14,$Q14)),0) -> 0 | AF14: =IF(J14=$T14,(IF(J14=$R14,$P14,$Q14)),0) -> 0 | AG14: =IF(K14=$T14,(IF(K14=$R14,$P14,$Q14)),0) -> 0 | AH14: =IF(L14=$T14,(IF(L14=$R14,$P14,$Q14)),0) -> 0 | AJ14: =IF(N14=$T14,(IF(N14=$R14,$P14,$Q14)),0) -> 0 | AL14: E86 | AW14: =CONCATENATE(AJ$1,"!",$AL14) -> Master!E86 | AY14: B84 | AZ14: B88 | BB14: =CONCATENATE(R$1,"!",$AY14) -> Master!B84 | BC14: =CONCATENATE(S$1,"!",$AZ14) -> Master!B88 | BD14: =CONCATENATE(T$1,"!",$AL14) -> Master!E86
A15: 4 PITT | B15: 12 | C15: W4 | D15: =OFFSET($F15,0,$D$67) -> 5 TENN | E15: #REF! | F15: 5 TENN | G15: 5 TENN | H15: 5 TENN | I15: 5 TENN | J15: 5 TENN | K15: 5 TENN | L15: 5 TENN | N15: =INDIRECT(AW15) -> 12 BALL | P15: =IF($Y$1=3,X15*V15,IF($Y$1=2,X15+V15,IF($Y$1=4,X15,$Y15-($Y15*COUNTIF($F15:$M15,$R15)/$P$1)))) -> 0 | Q15: =IF($Y$1=3,X15*W15,IF($Y$1=2,X15+W15,IF($Y$1=4,X15,$Y15-($Y15*COUNTIF($F15:$M15,$S15)/$P$1)))) -> 7 | R15: =INDIRECT(BB15) -> 5 TENN | S15: =INDIRECT(BC15) -> 12 BALL | T15: =IF(INDIRECT(BD15)=0,"",INDIRECT(BD15)) -> 12 BALL | U15: =IF(S15=0,1,IF(R15=0,1,IF(T15=0,1,IF(T15="","",IF(R15=T15,S15,R15))))) -> 5 TENN | V15: =VLOOKUP(R15,$A$1:$B$64,2) -> 13 | W15: =VLOOKUP(S15,$A$1:$B$64,2) -> 1 | X15: 1 | Y15: 7 | AA15: =IF(E15=$T15,(IF(E15=$R15,$P15,$Q15)),0) -> #REF! | AB15: =IF(F15=$T15,(IF(F15=$R15,$P15,$Q15)),0) -> 0 | AC15: =IF(G15=$T15,(IF(G15=$R15,$P15,$Q15)),0) -> 0 | AD15: =IF(H15=$T15,(IF(H15=$R15,$P15,$Q15)),0) -> 0 | AE15: =IF(I15=$T15,(IF(I15=$R15,$P15,$Q15)),0) -> 0 | AF15: =IF(J15=$T15,(IF(J15=$R15,$P15,$Q15)),0) -> 0 | AG15: =IF(K15=$T15,(IF(K15=$R15,$P15,$Q15)),0) -> 0 | AH15: =IF(L15=$T15,(IF(L15=$R15,$P15,$Q15)),0) -> 0 | AJ15: =IF(N15=$T15,(IF(N15=$R15,$P15,$Q15)),0) -> 7 | AL15: E94 | AW15: =CONCATENATE(AJ$1,"!",$AL15) -> Master!E94 | AY15: B92 | AZ15: B96 | BB15: =CONCATENATE(R$1,"!",$AY15) -> Master!B92 | BC15: =CONCATENATE(S$1,"!",$AZ15) -> Master!B96 | BD15: =CONCATENATE(T$1,"!",$AL15) -> Master!E94
A16: 4 VAN | B16: 12 | C16: W5 | D16: =OFFSET($F16,0,$D$67) -> 2 STAN | E16: #REF! | F16: 2 STAN | G16: 2 STAN | H16: 2 STAN | I16: 2 STAN | J16: 2 STAN | K16: 2 STAN | L16: 2 STAN | N16: =INDIRECT(AW16) -> 2 STAN | P16: =IF($Y$1=3,X16*V16,IF($Y$1=2,X16+V16,IF($Y$1=4,X16,$Y16-($Y16*COUNTIF($F16:$M16,$R16)/$P$1)))) -> 0 | Q16: =IF($Y$1=3,X16*W16,IF($Y$1=2,X16+W16,IF($Y$1=4,X16,$Y16-($Y16*COUNTIF($F16:$M16,$S16)/$P$1)))) -> 7 | R16: =INDIRECT(BB16) -> 2 STAN | S16: =INDIRECT(BC16) -> 15 UCSB | T16: =IF(INDIRECT(BD16)=0,"",INDIRECT(BD16)) -> 2 STAN | U16: =IF(S16=0,1,IF(R16=0,1,IF(T16=0,1,IF(T16="","",IF(R16=T16,S16,R16))))) -> 15 UCSB | V16: =VLOOKUP(R16,$A$1:$B$64,2) -> 10 | W16: =VLOOKUP(S16,$A$1:$B$64,2) -> 1 | X16: 1 | Y16: 7 | AA16: =IF(E16=$T16,(IF(E16=$R16,$P16,$Q16)),0) -> #REF! | AB16: =IF(F16=$T16,(IF(F16=$R16,$P16,$Q16)),0) -> 0 | AC16: =IF(G16=$T16,(IF(G16=$R16,$P16,$Q16)),0) -> 0 | AD16: =IF(H16=$T16,(IF(H16=$R16,$P16,$Q16)),0) -> 0 | AE16: =IF(I16=$T16,(IF(I16=$R16,$P16,$Q16)),0) -> 0 | AF16: =IF(J16=$T16,(IF(J16=$R16,$P16,$Q16)),0) -> 0 | AG16: =IF(K16=$T16,(IF(K16=$R16,$P16,$Q16)),0) -> 0 | AH16: =IF(L16=$T16,(IF(L16=$R16,$P16,$Q16)),0) -> 0 | AJ16: =IF(N16=$T16,(IF(N16=$R16,$P16,$Q16)),0) -> 0 | AL16: E102 | AW16: =CONCATENATE(AJ$1,"!",$AL16) -> Master!E102 | AY16: B100 | AZ16: B104 | BB16: =CONCATENATE(R$1,"!",$AY16) -> Master!B100 | BC16: =CONCATENATE(S$1,"!",$AZ16) -> Master!B104 | BD16: =CONCATENATE(T$1,"!",$AL16) -> Master!E102
... A64: 16 UVM | B64: 9 | C64: EW1 | D64: =OFFSET($F64,0,$D$67) -> 1 CONN | E64: #REF! | F64: 1 CONN | G64: 1 CONN | H64: 1 CONN | I64: 1 CONN | J64: 1 CONN | K64: 1 CONN | L64: 1 CONN | N64: =INDIRECT(AW64) -> 1 CONN | P64: =IF($Y$1=3,X64*V64,IF($Y$1=2,X64+V64,IF($Y$1=4,X64,$Y64-($Y64*COUNTIF($F64:$M64,$R64)/$P$1)))) -> 0 | Q64: =IF($Y$1=3,X64*W64,IF($Y$1=2,X64+W64,IF($Y$1=4,X64,$Y64-($Y64*COUNTIF($F64:$M64,$S64)/$P$1)))) -> 21 | R64: =INDIRECT(BB64) -> 1 CONN | S64: =INDIRECT(BC64) -> 2 STAN | T64: =IF(INDIRECT(BD64)=0,"",INDIRECT(BD64)) -> 1 CONN | U64: =IF(S64=0,1,IF(R64=0,1,IF(T64=0,1,IF(T64="","",IF(R64=T64,S64,R64))))) -> 2 STAN | V64: =VLOOKUP(R64,$A$1:$B$64,2) -> 1 | W64: =VLOOKUP(S64,$A$1:$B$64,2) -> 10 | X64: 3 | Y64: 21 | AA64: =IF(E64=$T64,(IF(E64=$R64,$P64,$Q64)),0) -> #REF! | AB64: =IF(F64=$T64,(IF(F64=$R64,$P64,$Q64)),0) -> 0 | AC64: =IF(G64=$T64,(IF(G64=$R64,$P64,$Q64)),0) -> 0 | AD64: =IF(H64=$T64,(IF(H64=$R64,$P64,$Q64)),0) -> 0 | AE64: =IF(I64=$T64,(IF(I64=$R64,$P64,$Q64)),0) -> 0 | AF64: =IF(J64=$T64,(IF(J64=$R64,$P64,$Q64)),0) -> 0 | AG64: =IF(K64=$T64,(IF(K64=$R64,$P64,$Q64)),0) -> 0 | AH64: =IF(L64=$T64,(IF(L64=$R64,$P64,$Q64)),0) -> 0 | AJ64: =IF(N64=$T64,(IF(N64=$R64,$P64,$Q64)),0) -> 0 | AL64: Q48 | AW64: =CONCATENATE(AJ$1,"!",$AL64) -> Master!Q48 | AY64: N32 | AZ64: N98 | BB64: =CONCATENATE(R$1,"!",$AY64) -> Master!N32 | BC64: =CONCATENATE(S$1,"!",$AZ64) -> Master!N98 | BD64: =CONCATENATE(T$1,"!",$AL64) -> Master!Q48
C65: SMW1 | D65: =OFFSET($F65,0,$D$67) -> 1 OKLA | E65: #REF! | F65: 1 OKLA | G65: 2 AUB | H65: 1 MD | I65: 1 MD | J65: 1 MD | K65: 1 MD | L65: 1 MD | N65: =INDIRECT(AW65) -> 3 UL | P65: =IF($Y$1=3,X65*V65,IF($Y$1=2,X65+V65,IF($Y$1=4,X65,$Y65-($Y65*COUNTIF($F65:$M65,$R65)/$P$1)))) -> 21 | Q65: =IF($Y$1=3,X65*W65,IF($Y$1=2,X65+W65,IF($Y$1=4,X65,$Y65-($Y65*COUNTIF($F65:$M65,$S65)/$P$1)))) -> 18 | R65: =INDIRECT(BB65) -> 3 UL | S65: =INDIRECT(BC65) -> 1 OKLA | T65: =IF(INDIRECT(BD65)=0,"",INDIRECT(BD65)) -> 3 UL | U65: =IF(S65=0,1,IF(R65=0,1,IF(T65=0,1,IF(T65="","",IF(R65=T65,S65,R65))))) -> 1 OKLA | V65: =VLOOKUP(R65,$A$1:$B$64,2) -> 11 | W65: =VLOOKUP(S65,$A$1:$B$64,2) -> 1 | X65: 3 | Y65: 21 | AA65: =IF(E65=$T65,(IF(E65=$R65,$P65,$Q65)),0) -> #REF! | AB65: =IF(F65=$T65,(IF(F65=$R65,$P65,$Q65)),0) -> 0 | AC65: =IF(G65=$T65,(IF(G65=$R65,$P65,$Q65)),0) -> 0 | AD65: =IF(H65=$T65,(IF(H65=$R65,$P65,$Q65)),0) -> 0 | AE65: =IF(I65=$T65,(IF(I65=$R65,$P65,$Q65)),0) -> 0 | AF65: =IF(J65=$T65,(IF(J65=$R65,$P65,$Q65)),0) -> 0 | AG65: =IF(K65=$T65,(IF(K65=$R65,$P65,$Q65)),0) -> 0 | AH65: =IF(L65=$T65,(IF(L65=$R65,$P65,$Q65)),0) -> 0 | AJ65: =IF(N65=$T65,(IF(N65=$R65,$P65,$Q65)),0) -> 21 | AL65: Q82 | AW65: =CONCATENATE(AJ$1,"!",$AL65) -> Master!Q82 | AY65: T32 | AZ65: T98 | BB65: =CONCATENATE(R$1,"!",$AY65) -> Master!T32 | BC65: =CONCATENATE(S$1,"!",$AZ65) -> Master!T98 | BD65: =CONCATENATE(T$1,"!",$AL65) -> Master!Q82
C66: FINAL | D66: =OFFSET($F66,0,$D$67) -> 1 CONN | E66: #REF! | F66: 1 CONN | G66: 1 CONN | H66: 1 MD | I66: 1 CONN | J66: 1 CONN | K66: 1 CONN | L66: 1 CONN | N66: =INDIRECT(AW66) -> 0 | P66: =IF($Y$1=3,X66*V66,IF($Y$1=2,X66+V66,IF($Y$1=4,X66,$Y66-($Y66*COUNTIF($F66:$M66,$R66)/$P$1)))) -> 3.5 | Q66: =IF($Y$1=3,X66*W66,IF($Y$1=2,X66+W66,IF($Y$1=4,X66,$Y66-($Y66*COUNTIF($F66:$M66,$S66)/$P$1)))) -> 24.5 | R66: =INDIRECT(BB66) -> 1 CONN | S66: =INDIRECT(BC66) -> 3 UL | T66: =IF(INDIRECT(BD66)=0,"",INDIRECT(BD66)) | U66: =IF(S66=0,1,IF(R66=0,1,IF(T66=0,1,IF(T66="","",IF(R66=T66,S66,R66))))) | V66: =VLOOKUP(R66,$A$1:$B$64,2) -> 1 | W66: =VLOOKUP(S66,$A$1:$B$64,2) -> 11 | X66: 3.5 | Y66: 24.5 | AA66: =IF(E66=$T66,(IF(E66=$R66,$P66,$Q66)),0) -> #REF! | AB66: =IF(F66=$T66,(IF(F66=$R66,$P66,$Q66)),0) -> 0 | AC66: =IF(G66=$T66,(IF(G66=$R66,$P66,$Q66)),0) -> 0 | AD66: =IF(H66=$T66,(IF(H66=$R66,$P66,$Q66)),0) -> 0 | AE66: =IF(I66=$T66,(IF(I66=$R66,$P66,$Q66)),0) -> 0 | AF66: =IF(J66=$T66,(IF(J66=$R66,$P66,$Q66)),0) -> 0 | AG66: =IF(K66=$T66,(IF(K66=$R66,$P66,$Q66)),0) -> 0 | AH66: =IF(L66=$T66,(IF(L66=$R66,$P66,$Q66)),0) -> 0 | AJ66: =IF(N66=$T66,(IF(N66=$R66,$P66,$Q66)),0) -> 0 | AL66: Q64 | AW66: =CONCATENATE(AJ$1,"!",$AL66) -> Master!Q64 | AY66: Q48 | AZ66: Q82 | BB66: =CONCATENATE(R$1,"!",$AY66) -> Master!Q48 | BC66: =CONCATENATE(S$1,"!",$AZ66) -> Master!Q82 | BD66: =CONCATENATE(T$1,"!",$AL66) -> Master!Q64
Y67: Totals | AA67: =SUM(AA4:AA66) -> #REF! | AB67: =SUM(AB4:AB66) -> 44 | AC67: =SUM(AC4:AC66) -> 27 | AD67: =SUM(AD4:AD66) -> 51.5 | AE67: =SUM(AE4:AE66) -> 51 | AF67: =SUM(AF4:AF66) -> 27.5 | AG67: =SUM(AG4:AG66) -> 38 | AH67: =SUM(AH4:AH66) -> 42 | AJ67: =SUM(AJ4:AJ66) -> 219
Y68: Round 1 | AA68: =SUM(AA4:AA35) -> #REF! | AB68: =SUM(AB4:AB35) -> 6 | AC68: =SUM(AC4:AC35) -> 14 | AD68: =SUM(AD4:AD35) -> 20 | AE68: =SUM(AE4:AE35) -> 10 | AF68: =SUM(AF4:AF35) -> 17 | AG68: =SUM(AG4:AG35) -> 21 | AH68: =SUM(AH4:AH35) -> 20 | AJ68: =SUM(AJ4:AJ35) -> 45
Y69: Round 2 | AA69: =SUM(AA36:AA51) -> #REF! | AB69: =SUM(AB36:AB51) -> 24 | AC69: =SUM(AC36:AC51) -> 9 | AD69: =SUM(AD36:AD51) -> 16.5 | AE69: =SUM(AE36:AE51) -> 27 | AF69: =SUM(AF36:AF51) -> 10.5 | AG69: =SUM(AG36:AG51) -> 3 | AH69: =SUM(AH36:AH51) -> 18 | AJ69: =SUM(AJ36:AJ51) -> 64.5
Y70: Round 3 | AA70: =SUM(AA52:AA59) -> #REF! | AB70: =SUM(AB52:AB59) -> 4 | AC70: =SUM(AC52:AC59) -> 4 | AD70: =SUM(AD52:AD59) -> 0 | AE70: =SUM(AE52:AE59) -> 4 | AF70: =SUM(AF52:AF59) -> 0 | AG70: =SUM(AG52:AG59) -> 4 | AH70: =SUM(AH52:AH59) -> 4 | AJ70: =SUM(AJ52:AJ59) -> 46
Y71: Round 4 | AA71: =SUM(AA60:AA63) -> #REF! | AB71: =SUM(AB60:AB63) -> 10 | AC71: =SUM(AC60:AC63) -> 0 | AD71: =SUM(AD60:AD63) -> 15 | AE71: =SUM(AE60:AE63) -> 10 | AF71: =SUM(AF60:AF63) -> 0 | AG71: =SUM(AG60:AG63) -> 10 | AH71: =SUM(AH60:AH63) -> 0 | AJ71: =SUM(AJ60:AJ63) -> 42.5
Y72: Round 5 | AA72: =SUM(AA64:AA65) -> #REF! | AB72: =SUM(AB64:AB65) -> 0 | AC72: =SUM(AC64:AC65) -> 0 | AD72: =SUM(AD64:AD65) -> 0 | AE72: =SUM(AE64:AE65) -> 0 | AF72: =SUM(AF64:AF65) -> 0 | AG72: =SUM(AG64:AG65) -> 0 | AH72: =SUM(AH64:AH65) -> 0 | AJ72: =SUM(AJ64:AJ65) -> 21
Y73: Round 6 | AA73: =AA66 -> #REF! | AB73: =AB66 -> 0 | AC73: =AC66 -> 0 | AD73: =AD66 -> 0 | AE73: =AE66 -> 0 | AF73: =AF66 -> 0 | AG73: =AG66 -> 0 | AH73: =AH66 -> 0 | AJ73: =AJ66 -> 0
Y74: Points Left For Rd 2-6 | AA74: =SUM(AA116:AA120) -> 0 | AB74: =SUM(AB116:AB120) -> 339 | AC74: =SUM(AC116:AC120) -> 294.5 | AD74: =SUM(AD116:AD120) -> 255.5 | AE74: =SUM(AE116:AE120) -> 224.5 | AF74: =SUM(AF116:AF120) -> 172.5 | AG74: =SUM(AG116:AG120) -> 129 | AH74: =SUM(AH116:AH120) -> 68 | AJ74: =SUM(AJ116:AJ120) -> 382
Y75: Points Left For Rd 3-6 | AA75: =SUM(AA142:AA145) -> 0 | AB75: =SUM(AB142:AB145) -> 62 | AC75: =SUM(AC142:AC145) -> 6.5 | AD75: =SUM(AD142:AD145) -> 33 | AE75: =SUM(AE142:AE145) -> 12.5 | AF75: =SUM(AF142:AF145) -> 3 | AG75: =SUM(AG142:AG145) -> -13.5 | AH75: =SUM(AH142:AH145) -> -18.5 | AJ75: =SUM(AJ142:AJ145) -> 230.5
Y76: Points Left For Rd 4-6 | AA76: =SUM(AA159:AA161) -> 0 | AB76: =SUM(AB159:AB161) -> 31.5 | AC76: =SUM(AC159:AC161) -> -2 | AD76: =SUM(AD159:AD161) -> 39 | AE76: =SUM(AE159:AE161) -> 16.5 | AF76: =SUM(AF159:AF161) -> 9 | AG76: =SUM(AG159:AG161) -> 2.5 | AH76: =SUM(AH159:AH161) -> -2.5 | AJ76: =SUM(AJ159:AJ161) -> 128.5
Y77: Points Left For Rd 5-6 | AA77: =SUM(AA171:AA172) -> 0 | AB77: =SUM(AB171:AB172) -> 18.5 | AC77: =SUM(AC171:AC172) -> 0.5 | AD77: =SUM(AD171:AD172) -> -3 | AE77: =SUM(AE171:AE172) -> 0.5 | AF77: =SUM(AF171:AF172) -> -6 | AG77: =SUM(AG171:AG172) -> -6 | AH77: =SUM(AH171:AH172) -> -9 | AJ77: =SUM(AJ171:AJ172) -> 63.5
Y78: Points Left For Rd 6 | AA78: =SUM(AA180) -> 0 | AB78: =SUM(AB180) -> 3.5 | AC78: =SUM(AC180) -> 3.5 | AD78: =SUM(AD180) -> 0 | AE78: =SUM(AE180) -> 3.5 | AF78: =SUM(AF180) -> 0 | AG78: =SUM(AG180) -> 0 | AH78: =SUM(AH180) -> 0 | AJ78: =SUM(AJ180) -> 24.5
B82: 1 | C82: Round 2 | AA82: =AA2 -> HiSeeds | AB82: =AB2 -> AnthonyP | AC82: =AC2 -> ChrisR | AD82: =AD2 -> EricP | AE82: =AE2 -> JoeG | AF82: =AF2 -> JohnP | AG82: =AG2 -> JoshF | AH82: =AH2 -> ScottP | AJ82: Best Possible
B83: 1 | C83: Player | D83: Insert3 | E83: 0 | F83: 1 | G83: 2 | H83: 3 | I83: 4 | J83: 5 | K83: 6 | L83: 7 | N83: =N3 -> 7 | P83: Favorite | Q83: Underdog | R83: Player1 | S83: Player2 | T83: Winner | U83: Loser | V83: SeedFav | W83: SeedUdr | Z83: Insert1 | AA83: =#REF!+1 -> #REF! | AB83: =#REF!+1 -> #REF! | AC83: =#REF!+1 -> #REF! | AD83: =#REF!+1 -> #REF! | AE83: =#REF!+1 -> #REF! | AF83: =#REF!+1 -> #REF! | AG83: =#REF!+1 -> #REF! | AH83: =#REF!+1 -> #REF! | AJ83: 0 | BB83: Player 1 | BC83: Player 2
B84: 2 | C84: E1 | D84: =D36 -> 1 CONN | E84: #REF! | F84: 1 CONN | G84: 1 CONN | H84: 1 CONN | I84: 1 CONN | J84: 1 CONN | K84: 1 CONN | L84: 1 CONN | N84: =N36 -> 1 CONN | P84: =P36 -> 0 | Q84: =Q36 -> 10.5 | R84: =INDIRECT(BB84) -> 1 CONN | S84: =INDIRECT(BC84) -> 8 FLA | T84: =INDIRECT(BD84) -> 1 CONN | U84: =IF(R84=T84,S84,R84) -> 8 FLA | V84: =VLOOKUP(R84,$A$1:$B$64,2) -> 1 | W84: =VLOOKUP(S84,$A$1:$B$64,2) -> 16 | X84: 1.5 | Y84: 10.5 | AA84: =IF($Y$1=1,($Y84-($Y84*COUNTIF(E84:$F84,E84)/$P$1))*COUNTIF($T$4:$T$35,E84),COUNTIF($T$4:$T$35,E84)*$Y84) -> 0 | AB84: =IF($Y$1=1,($Y84-($Y84*COUNTIF($F84:F84,F84)/$P$1))*COUNTIF($T$4:$T$35,F84),COUNTIF($T$4:$T$35,F84)*$Y84) -> 9 | AC84: =IF($Y$1=1,($Y84-($Y84*COUNTIF($F84:G84,G84)/$P$1))*COUNTIF($T$4:$T$35,G84),COUNTIF($T$4:$T$35,G84)*$Y84) -> 7.5 | AD84: =IF($Y$1=1,($Y84-($Y84*COUNTIF($F84:H84,H84)/$P$1))*COUNTIF($T$4:$T$35,H84),COUNTIF($T$4:$T$35,H84)*$Y84) -> 6 | AE84: =IF($Y$1=1,($Y84-($Y84*COUNTIF($F84:I84,I84)/$P$1))*COUNTIF($T$4:$T$35,I84),COUNTIF($T$4:$T$35,I84)*$Y84) -> 4.5 | AF84: =IF($Y$1=1,($Y84-($Y84*COUNTIF($F84:J84,J84)/$P$1))*COUNTIF($T$4:$T$35,J84),COUNTIF($T$4:$T$35,J84)*$Y84) -> 3 | AG84: =IF($Y$1=1,($Y84-($Y84*COUNTIF($F84:K84,K84)/$P$1))*COUNTIF($T$4:$T$35,K84),COUNTIF($T$4:$T$35,K84)*$Y84) -> 1.5 | AH84: =IF($Y$1=1,($Y84-($Y84*COUNTIF($F84:L84,L84)/$P$1))*COUNTIF($T$4:$T$35,L84),COUNTIF($T$4:$T$35,L84)*$Y84) -> 0 | AJ84: =$Y84-($Y84*COUNTIF($E84:$F84,N84)/$P$1)*COUNTIF($T$4:$T$35,N84) -> 9 | AL84: H8 | AW84: =CONCATENATE(AJ$1,"!",$AL84) -> Master!H8 | AY84: E4 | AZ84: E12 | BB84: =CONCATENATE(R$1,"!",$AY84) -> Master!E4 | BC84: =CONCATENATE(S$1,"!",$AZ84) -> Master!E12 | BD84: =CONCATENATE(T$1,"!",$AL84) -> Master!H8
B85: 3 | C85: E2 | D85: =D37 -> 12 MRST | E85: #REF! | F85: 12 MRST | G85: 4 CAL | H85: 4 CAL | I85: 4 CAL | J85: 5 UVA | K85: 5 UVA | L85: 4 CAL | N85: =N37 -> 4 CAL | P85: =P37 -> 4.5 | Q85: =Q37 -> 7.5 | R85: =INDIRECT(BB85) -> 4 CAL | S85: =INDIRECT(BC85) -> 5 UVA | T85: =INDIRECT(BD85) -> 4 CAL | U85: =IF(R85=T85,S85,R85) -> 5 UVA | V85: =VLOOKUP(R85,$A$1:$B$64,2) -> 12 | W85: =VLOOKUP(S85,$A$1:$B$64,2) -> 13 | X85: 1.5 | Y85: 10.5 | AA85: =IF($Y$1=1,($Y85-($Y85*COUNTIF(E85:$F85,E85)/$P$1))*COUNTIF($T$4:$T$35,E85),COUNTIF($T$4:$T$35,E85)*$Y85) -> 0 | AB85: =IF($Y$1=1,($Y85-($Y85*COUNTIF($F85:F85,F85)/$P$1))*COUNTIF($T$4:$T$35,F85),COUNTIF($T$4:$T$35,F85)*$Y85) -> 0 | AC85: =IF($Y$1=1,($Y85-($Y85*COUNTIF($F85:G85,G85)/$P$1))*COUNTIF($T$4:$T$35,G85),COUNTIF($T$4:$T$35,G85)*$Y85) -> 9 | AD85: =IF($Y$1=1,($Y85-($Y85*COUNTIF($F85:H85,H85)/$P$1))*COUNTIF($T$4:$T$35,H85),COUNTIF($T$4:$T$35,H85)*$Y85) -> 7.5 | AE85: =IF($Y$1=1,($Y85-($Y85*COUNTIF($F85:I85,I85)/$P$1))*COUNTIF($T$4:$T$35,I85),COUNTIF($T$4:$T$35,I85)*$Y85) -> 6 | AF85: =IF($Y$1=1,($Y85-($Y85*COUNTIF($F85:J85,J85)/$P$1))*COUNTIF($T$4:$T$35,J85),COUNTIF($T$4:$T$35,J85)*$Y85) -> 9 | AG85: =IF($Y$1=1,($Y85-($Y85*COUNTIF($F85:K85,K85)/$P$1))*COUNTIF($T$4:$T$35,K85),COUNTIF($T$4:$T$35,K85)*$Y85) -> 7.5 | AH85: =IF($Y$1=1,($Y85-($Y85*COUNTIF($F85:L85,L85)/$P$1))*COUNTIF($T$4:$T$35,L85),COUNTIF($T$4:$T$35,L85)*$Y85) -> 4.5 | AJ85: =$Y85-($Y85*COUNTIF($E85:$F85,N85)/$P$1)*COUNTIF($T$4:$T$35,N85) -> 10.5 | AL85: H24 | AW85: =CONCATENATE(AJ$1,"!",$AL85) -> Master!H24 | AY85: E20 | AZ85: E28 | BB85: =CONCATENATE(R$1,"!",$AY85) -> Master!E20 | BC85: =CONCATENATE(S$1,"!",$AZ85) -> Master!E28 | BD85: =CONCATENATE(T$1,"!",$AL85) -> Master!H24
B86: 3 | C86: E3 | D86: =D38 -> 2 A&M | E86: #REF! | F86: 2 A&M | G86: 2 A&M | H86: 2 A&M | I86: 2 A&M | J86: 2 A&M | K86: 2 A&M | L86: 2 A&M | N86: =N38 -> 2 A&M | P86: =P38 -> 0 | Q86: =Q38 -> 10.5 | R86: =INDIRECT(BB86) -> 2 A&M | S86: =INDIRECT(BC86) -> 10 MINN | T86: =INDIRECT(BD86) -> 2 A&M | U86: =IF(R86=T86,S86,R86) -> 10 MINN | V86: =VLOOKUP(R86,$A$1:$B$64,2) -> 10 | W86: =VLOOKUP(S86,$A$1:$B$64,2) -> 1 | X86: 1.5 | Y86: 10.5 | AA86: =IF($Y$1=1,($Y86-($Y86*COUNTIF(E86:$F86,E86)/$P$1))*COUNTIF($T$4:$T$35,E86),COUNTIF($T$4:$T$35,E86)*$Y86) -> 0 | AB86: =IF($Y$1=1,($Y86-($Y86*COUNTIF($F86:F86,F86)/$P$1))*COUNTIF($T$4:$T$35,F86),COUNTIF($T$4:$T$35,F86)*$Y86) -> 9 | AC86: =IF($Y$1=1,($Y86-($Y86*COUNTIF($F86:G86,G86)/$P$1))*COUNTIF($T$4:$T$35,G86),COUNTIF($T$4:$T$35,G86)*$Y86) -> 7.5 | AD86: =IF($Y$1=1,($Y86-($Y86*COUNTIF($F86:H86,H86)/$P$1))*COUNTIF($T$4:$T$35,H86),COUNTIF($T$4:$T$35,H86)*$Y86) -> 6 | AE86: =IF($Y$1=1,($Y86-($Y86*COUNTIF($F86:I86,I86)/$P$1))*COUNTIF($T$4:$T$35,I86),COUNTIF($T$4:$T$35,I86)*$Y86) -> 4.5 | AF86: =IF($Y$1=1,($Y86-($Y86*COUNTIF($F86:J86,J86)/$P$1))*COUNTIF($T$4:$T$35,J86),COUNTIF($T$4:$T$35,J86)*$Y86) -> 3 | AG86: =IF($Y$1=1,($Y86-($Y86*COUNTIF($F86:K86,K86)/$P$1))*COUNTIF($T$4:$T$35,K86),COUNTIF($T$4:$T$35,K86)*$Y86) -> 1.5 | AH86: =IF($Y$1=1,($Y86-($Y86*COUNTIF($F86:L86,L86)/$P$1))*COUNTIF($T$4:$T$35,L86),COUNTIF($T$4:$T$35,L86)*$Y86) -> 0 | AJ86: =$Y86-($Y86*COUNTIF($E86:$F86,N86)/$P$1)*COUNTIF($T$4:$T$35,N86) -> 9 | AL86: H40 | AW86: =CONCATENATE(AJ$1,"!",$AL86) -> Master!H40 | AY86: E36 | AZ86: E44 | BB86: =CONCATENATE(R$1,"!",$AY86) -> Master!E36 | BC86: =CONCATENATE(S$1,"!",$AZ86) -> Master!E44 | BD86: =CONCATENATE(T$1,"!",$AL86) -> Master!H40
B87: 3 | C87: E4 | D87: =D39 -> 3 FSU | E87: #REF! | F87: 3 FSU | G87: 3 FSU | H87: 3 FSU | I87: 3 FSU | J87: 3 FSU | K87: 3 FSU | L87: 3 FSU | N87: =N39 -> 6 ASU | P87: =P39 -> 0 | Q87: =Q39 -> 10.5 | R87: =INDIRECT(BB87) -> 3 FSU | S87: =INDIRECT(BC87) -> 6 ASU | T87: =INDIRECT(BD87) -> 6 ASU | U87: =IF(R87=T87,S87,R87) -> 3 FSU | V87: =VLOOKUP(R87,$A$1:$B$64,2) -> 11 | W87: =VLOOKUP(S87,$A$1:$B$64,2) -> 14 | X87: 1.5 | Y87: 10.5 | AA87: =IF($Y$1=1,($Y87-($Y87*COUNTIF(E87:$F87,E87)/$P$1))*COUNTIF($T$4:$T$35,E87),COUNTIF($T$4:$T$35,E87)*$Y87) -> 0 | AB87: =IF($Y$1=1,($Y87-($Y87*COUNTIF($F87:F87,F87)/$P$1))*COUNTIF($T$4:$T$35,F87),COUNTIF($T$4:$T$35,F87)*$Y87) -> 9 | AC87: =IF($Y$1=1,($Y87-($Y87*COUNTIF($F87:G87,G87)/$P$1))*COUNTIF($T$4:$T$35,G87),COUNTIF($T$4:$T$35,G87)*$Y87) -> 7.5 | AD87: =IF($Y$1=1,($Y87-($Y87*COUNTIF($F87:H87,H87)/$P$1))*COUNTIF($T$4:$T$35,H87),COUNTIF($T$4:$T$35,H87)*$Y87) -> 6 | AE87: =IF($Y$1=1,($Y87-($Y87*COUNTIF($F87:I87,I87)/$P$1))*COUNTIF($T$4:$T$35,I87),COUNTIF($T$4:$T$35,I87)*$Y87) -> 4.5 | AF87: =IF($Y$1=1,($Y87-($Y87*COUNTIF($F87:J87,J87)/$P$1))*COUNTIF($T$4:$T$35,J87),COUNTIF($T$4:$T$35,J87)*$Y87) -> 3 | AG87: =IF($Y$1=1,($Y87-($Y87*COUNTIF($F87:K87,K87)/$P$1))*COUNTIF($T$4:$T$35,K87),COUNTIF($T$4:$T$35,K87)*$Y87) -> 1.5 | AH87: =IF($Y$1=1,($Y87-($Y87*COUNTIF($F87:L87,L87)/$P$1))*COUNTIF($T$4:$T$35,L87),COUNTIF($T$4:$T$35,L87)*$Y87) -> 0 | AJ87: =$Y87-($Y87*COUNTIF($E87:$F87,N87)/$P$1)*COUNTIF($T$4:$T$35,N87) -> 10.5 | AL87: H56 | AW87: =CONCATENATE(AJ$1,"!",$AL87) -> Master!H56 | AY87: E52 | AZ87: E60 | BB87: =CONCATENATE(R$1,"!",$AY87) -> Master!E52 | BC87: =CONCATENATE(S$1,"!",$AZ87) -> Master!E60 | BD87: =CONCATENATE(T$1,"!",$AL87) -> Master!H56
B88: 3 | C88: W1 | D88: =D40 -> 1 DUKE | E88: #REF! | F88: 1 DUKE | G88: 1 DUKE | H88: 1 DUKE | I88: 1 DUKE | J88: 1 DUKE | K88: 1 DUKE | L88: 1 DUKE | N88: =N40 -> 9 MSU | P88: =P40 -> 0 | Q88: =Q40 -> 10.5 | R88: =INDIRECT(BB88) -> 1 DUKE | S88: =INDIRECT(BC88) -> 9 MSU | T88: =INDIRECT(BD88) -> 9 MSU | U88: =IF(R88=T88,S88,R88) -> 1 DUKE | V88: =VLOOKUP(R88,$A$1:$B$64,2) -> 1 | W88: =VLOOKUP(S88,$A$1:$B$64,2) -> 9 | X88: 1.5 | Y88: 10.5 | AA88: =IF($Y$1=1,($Y88-($Y88*COUNTIF(E88:$F88,E88)/$P$1))*COUNTIF($T$4:$T$35,E88),COUNTIF($T$4:$T$35,E88)*$Y88) -> 0 | AB88: =IF($Y$1=1,($Y88-($Y88*COUNTIF($F88:F88,F88)/$P$1))*COUNTIF($T$4:$T$35,F88),COUNTIF($T$4:$T$35,F88)*$Y88) -> 9 | AC88: =IF($Y$1=1,($Y88-($Y88*COUNTIF($F88:G88,G88)/$P$1))*COUNTIF($T$4:$T$35,G88),COUNTIF($T$4:$T$35,G88)*$Y88) -> 7.5 | AD88: =IF($Y$1=1,($Y88-($Y88*COUNTIF($F88:H88,H88)/$P$1))*COUNTIF($T$4:$T$35,H88),COUNTIF($T$4:$T$35,H88)*$Y88) -> 6 | AE88: =IF($Y$1=1,($Y88-($Y88*COUNTIF($F88:I88,I88)/$P$1))*COUNTIF($T$4:$T$35,I88),COUNTIF($T$4:$T$35,I88)*$Y88) -> 4.5 | AF88: =IF($Y$1=1,($Y88-($Y88*COUNTIF($F88:J88,J88)/$P$1))*COUNTIF($T$4:$T$35,J88),COUNTIF($T$4:$T$35,J88)*$Y88) -> 3 | AG88: =IF($Y$1=1,($Y88-($Y88*COUNTIF($F88:K88,K88)/$P$1))*COUNTIF($T$4:$T$35,K88),COUNTIF($T$4:$T$35,K88)*$Y88) -> 1.5 | AH88: =IF($Y$1=1,($Y88-($Y88*COUNTIF($F88:L88,L88)/$P$1))*COUNTIF($T$4:$T$35,L88),COUNTIF($T$4:$T$35,L88)*$Y88) -> 0 | AJ88: =$Y88-($Y88*COUNTIF($E88:$F88,N88)/$P$1)*COUNTIF($T$4:$T$35,N88) -> 10.5 | AL88: H74 | AW88: =CONCATENATE(AJ$1,"!",$AL88) -> Master!H74 | AY88: E70 | AZ88: E78 | BB88: =CONCATENATE(R$1,"!",$AY88) -> Master!E70 | BC88: =CONCATENATE(S$1,"!",$AZ88) -> Master!E78 | BD88: =CONCATENATE(T$1,"!",$AL88) -> Master!H74
B89: 4 | C89: W2 | D89: =D41 -> 5 TENN | E89: #REF! | F89: 5 TENN | G89: 5 TENN | H89: 5 TENN | I89: 4 ISU | J89: 5 TENN | K89: 5 TENN | L89: 5 TENN | N89: =N41 -> 4 ISU | P89: =P41 -> 9 | Q89: =Q41 -> 10.5 | R89: =INDIRECT(BB89) -> 4 ISU | S89: =INDIRECT(BC89) -> 12 BALL | T89: =INDIRECT(BD89) -> 4 ISU | U89: =IF(R89=T89,S89,R89) -> 12 BALL | V89: =VLOOKUP(R89,$A$1:$B$64,2) -> 12 | W89: =VLOOKUP(S89,$A$1:$B$64,2) -> 1 | X89: 1.5 | Y89: 10.5 | AA89: =IF($Y$1=1,($Y89-($Y89*COUNTIF(E89:$F89,E89)/$P$1))*COUNTIF($T$4:$T$35,E89),COUNTIF($T$4:$T$35,E89)*$Y89) -> 0 | AB89: =IF($Y$1=1,($Y89-($Y89*COUNTIF($F89:F89,F89)/$P$1))*COUNTIF($T$4:$T$35,F89),COUNTIF($T$4:$T$35,F89)*$Y89) -> 0 | AC89: =IF($Y$1=1,($Y89-($Y89*COUNTIF($F89:G89,G89)/$P$1))*COUNTIF($T$4:$T$35,G89),COUNTIF($T$4:$T$35,G89)*$Y89) -> 0 | AD89: =IF($Y$1=1,($Y89-($Y89*COUNTIF($F89:H89,H89)/$P$1))*COUNTIF($T$4:$T$35,H89),COUNTIF($T$4:$T$35,H89)*$Y89) -> 0 | AE89: =IF($Y$1=1,($Y89-($Y89*COUNTIF($F89:I89,I89)/$P$1))*COUNTIF($T$4:$T$35,I89),COUNTIF($T$4:$T$35,I89)*$Y89) -> 9 | AF89: =IF($Y$1=1,($Y89-($Y89*COUNTIF($F89:J89,J89)/$P$1))*COUNTIF($T$4:$T$35,J89),COUNTIF($T$4:$T$35,J89)*$Y89) -> 0 | AG89: =IF($Y$1=1,($Y89-($Y89*COUNTIF($F89:K89,K89)/$P$1))*COUNTIF($T$4:$T$35,K89),COUNTIF($T$4:$T$35,K89)*$Y89) -> 0 | AH89: =IF($Y$1=1,($Y89-($Y89*COUNTIF($F89:L89,L89)/$P$1))*COUNTIF($T$4:$T$35,L89),COUNTIF($T$4:$T$35,L89)*$Y89) -> 0 | AJ89: =$Y89-($Y89*COUNTIF($E89:$F89,N89)/$P$1)*COUNTIF($T$4:$T$35,N89) -> 10.5 | AL89: H90 | AW89: =CONCATENATE(AJ$1,"!",$AL89) -> Master!H90 | AY89: E86 | AZ89: E94 | BB89: =CONCATENATE(R$1,"!",$AY89) -> Master!E86 | BC89: =CONCATENATE(S$1,"!",$AZ89) -> Master!E94 | BD89: =CONCATENATE(T$1,"!",$AL89) -> Master!H90
B90: 4 | C90: W3 | D90: =D42 -> 2 STAN | E90: #REF! | F90: 2 STAN | G90: 2 STAN | H90: 2 STAN | I90: 2 STAN | J90: 2 STAN | K90: 2 STAN | L90: 2 STAN | N90: =N42 -> 2 STAN | P90: =P42 -> 0 | Q90: =Q42 -> 10.5 | R90: =INDIRECT(BB90) -> 2 STAN | S90: =INDIRECT(BC90) -> 10 SDSU | T90: =INDIRECT(BD90) -> 2 STAN | U90: =IF(R90=T90,S90,R90) -> 10 SDSU | V90: =VLOOKUP(R90,$A$1:$B$64,2) -> 10 | W90: =VLOOKUP(S90,$A$1:$B$64,2) -> 1 | X90: 1.5 | Y90: 10.5 | AA90: =IF($Y$1=1,($Y90-($Y90*COUNTIF(E90:$F90,E90)/$P$1))*COUNTIF($T$4:$T$35,E90),COUNTIF($T$4:$T$35,E90)*$Y90) -> 0 | AB90: =IF($Y$1=1,($Y90-($Y90*COUNTIF($F90:F90,F90)/$P$1))*COUNTIF($T$4:$T$35,F90),COUNTIF($T$4:$T$35,F90)*$Y90) -> 9 | AC90: =IF($Y$1=1,($Y90-($Y90*COUNTIF($F90:G90,G90)/$P$1))*COUNTIF($T$4:$T$35,G90),COUNTIF($T$4:$T$35,G90)*$Y90) -> 7.5 | AD90: =IF($Y$1=1,($Y90-($Y90*COUNTIF($F90:H90,H90)/$P$1))*COUNTIF($T$4:$T$35,H90),COUNTIF($T$4:$T$35,H90)*$Y90) -> 6 | AE90: =IF($Y$1=1,($Y90-($Y90*COUNTIF($F90:I90,I90)/$P$1))*COUNTIF($T$4:$T$35,I90),COUNTIF($T$4:$T$35,I90)*$Y90) -> 4.5 | AF90: =IF($Y$1=1,($Y90-($Y90*COUNTIF($F90:J90,J90)/$P$1))*COUNTIF($T$4:$T$35,J90),COUNTIF($T$4:$T$35,J90)*$Y90) -> 3 | AG90: =IF($Y$1=1,($Y90-($Y90*COUNTIF($F90:K90,K90)/$P$1))*COUNTIF($T$4:$T$35,K90),COUNTIF($T$4:$T$35,K90)*$Y90) -> 1.5 | AH90: =IF($Y$1=1,($Y90-($Y90*COUNTIF($F90:L90,L90)/$P$1))*COUNTIF($T$4:$T$35,L90),COUNTIF($T$4:$T$35,L90)*$Y90) -> 0 | AJ90: =$Y90-($Y90*COUNTIF($E90:$F90,N90)/$P$1)*COUNTIF($T$4:$T$35,N90) -> 9 | AL90: H106 | AW90: =CONCATENATE(AJ$1,"!",$AL90) -> Master!H106 | AY90: E102 | AZ90: E110 | BB90: =CONCATENATE(R$1,"!",$AY90) -> Master!E102 | BC90: =CONCATENATE(S$1,"!",$AZ90) -> Master!E110 | BD90: =CONCATENATE(T$1,"!",$AL90) -> Master!H106
B91: 4 | C91: W4 | D91: =D43 -> 3 OSU | E91: #REF! | F91: 3 OSU | G91: 3 OSU | H91: 6 TEX | I91: 3 OSU | J91: 3 OSU | K91: 6 TEX | L91: 3 OSU | N91: =N43 -> 3 OSU | P91: =P43 -> 3 | Q91: =Q43 -> 10.5 | R91: =INDIRECT(BB91) -> 3 OSU | S91: =INDIRECT(BC91) -> 11 MSU | T91: =INDIRECT(BD91) -> 3 OSU | U91: =IF(R91=T91,S91,R91) -> 11 MSU | V91: =VLOOKUP(R91,$A$1:$B$64,2) -> 11 | W91: =VLOOKUP(S91,$A$1:$B$64,2) -> 1 | X91: 1.5 | Y91: 10.5 | AA91: =IF($Y$1=1,($Y91-($Y91*COUNTIF(E91:$F91,E91)/$P$1))*COUNTIF($T$4:$T$35,E91),COUNTIF($T$4:$T$35,E91)*$Y91) -> 0 | AB91: =IF($Y$1=1,($Y91-($Y91*COUNTIF($F91:F91,F91)/$P$1))*COUNTIF($T$4:$T$35,F91),COUNTIF($T$4:$T$35,F91)*$Y91) -> 9 | AC91: =IF($Y$1=1,($Y91-($Y91*COUNTIF($F91:G91,G91)/$P$1))*COUNTIF($T$4:$T$35,G91),COUNTIF($T$4:$T$35,G91)*$Y91) -> 7.5 | AD91: =IF($Y$1=1,($Y91-($Y91*COUNTIF($F91:H91,H91)/$P$1))*COUNTIF($T$4:$T$35,H91),COUNTIF($T$4:$T$35,H91)*$Y91) -> 0 | AE91: =IF($Y$1=1,($Y91-($Y91*COUNTIF($F91:I91,I91)/$P$1))*COUNTIF($T$4:$T$35,I91),COUNTIF($T$4:$T$35,I91)*$Y91) -> 6 | AF91: =IF($Y$1=1,($Y91-($Y91*COUNTIF($F91:J91,J91)/$P$1))*COUNTIF($T$4:$T$35,J91),COUNTIF($T$4:$T$35,J91)*$Y91) -> 4.5 | AG91: =IF($Y$1=1,($Y91-($Y91*COUNTIF($F91:K91,K91)/$P$1))*COUNTIF($T$4:$T$35,K91),COUNTIF($T$4:$T$35,K91)*$Y91) -> 0 | AH91: =IF($Y$1=1,($Y91-($Y91*COUNTIF($F91:L91,L91)/$P$1))*COUNTIF($T$4:$T$35,L91),COUNTIF($T$4:$T$35,L91)*$Y91) -> 3 | AJ91: =$Y91-($Y91*COUNTIF($E91:$F91,N91)/$P$1)*COUNTIF($T$4:$T$35,N91) -> 9 | AL91: H122 | AW91: =CONCATENATE(AJ$1,"!",$AL91) -> Master!H122 | AY91: E118 | AZ91: E126 | BB91: =CONCATENATE(R$1,"!",$AY91) -> Master!E118 | BC91: =CONCATENATE(S$1,"!",$AZ91) -> Master!E126 | BD91: =CONCATENATE(T$1,"!",$AL91) -> Master!H122
B92: 4 | C92: S1 | D92: =D44 -> 1 MD | E92: #REF! | F92: 1 MD | G92: 1 MD | H92: 1 MD | I92: 1 MD | J92: 1 MD | K92: 1 MD | L92: 1 MD | N92: =N44 -> 1 MD | P92: =P44 -> 0 | Q92: =Q44 -> 10.5 | R92: =INDIRECT(BB92) -> 1 MD | S92: =INDIRECT(BC92) -> 9 UTAH | T92: =INDIRECT(BD92) -> 1 MD | U92: =IF(R92=T92,S92,R92) -> 9 UTAH | V92: =VLOOKUP(R92,$A$1:$B$64,2) -> 1 | W92: =VLOOKUP(S92,$A$1:$B$64,2) -> 9 | X92: 1.5 | Y92: 10.5 | AA92: =IF($Y$1=1,($Y92-($Y92*COUNTIF(E92:$F92,E92)/$P$1))*COUNTIF($T$4:$T$35,E92),COUNTIF($T$4:$T$35,E92)*$Y92) -> 0 | AB92: =IF($Y$1=1,($Y92-($Y92*COUNTIF($F92:F92,F92)/$P$1))*COUNTIF($T$4:$T$35,F92),COUNTIF($T$4:$T$35,F92)*$Y92) -> 9 | AC92: =IF($Y$1=1,($Y92-($Y92*COUNTIF($F92:G92,G92)/$P$1))*COUNTIF($T$4:$T$35,G92),COUNTIF($T$4:$T$35,G92)*$Y92) -> 7.5 | AD92: =IF($Y$1=1,($Y92-($Y92*COUNTIF($F92:H92,H92)/$P$1))*COUNTIF($T$4:$T$35,H92),COUNTIF($T$4:$T$35,H92)*$Y92) -> 6 | AE92: =IF($Y$1=1,($Y92-($Y92*COUNTIF($F92:I92,I92)/$P$1))*COUNTIF($T$4:$T$35,I92),COUNTIF($T$4:$T$35,I92)*$Y92) -> 4.5 | AF92: =IF($Y$1=1,($Y92-($Y92*COUNTIF($F92:J92,J92)/$P$1))*COUNTIF($T$4:$T$35,J92),COUNTIF($T$4:$T$35,J92)*$Y92) -> 3 | AG92: =IF($Y$1=1,($Y92-($Y92*COUNTIF($F92:K92,K92)/$P$1))*COUNTIF($T$4:$T$35,K92),COUNTIF($T$4:$T$35,K92)*$Y92) -> 1.5 | AH92: =IF($Y$1=1,($Y92-($Y92*COUNTIF($F92:L92,L92)/$P$1))*COUNTIF($T$4:$T$35,L92),COUNTIF($T$4:$T$35,L92)*$Y92) -> 0 | AJ92: =$Y92-($Y92*COUNTIF($E92:$F92,N92)/$P$1)*COUNTIF($T$4:$T$35,N92) -> 9 | AL92: Z8 | AW92: =CONCATENATE(AJ$1,"!",$AL92) -> Master!Z8 | AY92: AC4 | AZ92: AC12 | BB92: =CONCATENATE(R$1,"!",$AY92) -> Master!AC4 | BC92: =CONCATENATE(S$1,"!",$AZ92) -> Master!AC12 | BD92: =CONCATENATE(T$1,"!",$AL92) -> Master!Z8
B93: 5 | C93: S2 | D93: =D45 -> 4 VAN | E93: #REF! | F93: 4 VAN | G93: 4 VAN | H93: 4 VAN | I93: 4 VAN | J93: 4 VAN | K93: 5 KSU | L93: 4 VAN | N93: =N45 -> 4 VAN | P93: =P45 -> 1.5 | Q93: =Q45 -> 9 | R93: =INDIRECT(BB93) -> 4 VAN | S93: =INDIRECT(BC93) -> 5 KSU | T93: =INDIRECT(BD93) -> 4 VAN | U93: =IF(R93=T93,S93,R93) -> 5 KSU | V93: =VLOOKUP(R93,$A$1:$B$64,2) -> 12 | W93: =VLOOKUP(S93,$A$1:$B$64,2) -> 13 | X93: 1.5 | Y93: 10.5 | AA93: =IF($Y$1=1,($Y93-($Y93*COUNTIF(E93:$F93,E93)/$P$1))*COUNTIF($T$4:$T$35,E93),COUNTIF($T$4:$T$35,E93)*$Y93) -> 0 | AB93: =IF($Y$1=1,($Y93-($Y93*COUNTIF($F93:F93,F93)/$P$1))*COUNTIF($T$4:$T$35,F93),COUNTIF($T$4:$T$35,F93)*$Y93) -> 9 | AC93: =IF($Y$1=1,($Y93-($Y93*COUNTIF($F93:G93,G93)/$P$1))*COUNTIF($T$4:$T$35,G93),COUNTIF($T$4:$T$35,G93)*$Y93) -> 7.5 | AD93: =IF($Y$1=1,($Y93-($Y93*COUNTIF($F93:H93,H93)/$P$1))*COUNTIF($T$4:$T$35,H93),COUNTIF($T$4:$T$35,H93)*$Y93) -> 6 | AE93: =IF($Y$1=1,($Y93-($Y93*COUNTIF($F93:I93,I93)/$P$1))*COUNTIF($T$4:$T$35,I93),COUNTIF($T$4:$T$35,I93)*$Y93) -> 4.5 | AF93: =IF($Y$1=1,($Y93-($Y93*COUNTIF($F93:J93,J93)/$P$1))*COUNTIF($T$4:$T$35,J93),COUNTIF($T$4:$T$35,J93)*$Y93) -> 3 | AG93: =IF($Y$1=1,($Y93-($Y93*COUNTIF($F93:K93,K93)/$P$1))*COUNTIF($T$4:$T$35,K93),COUNTIF($T$4:$T$35,K93)*$Y93) -> 9 | AH93: =IF($Y$1=1,($Y93-($Y93*COUNTIF($F93:L93,L93)/$P$1))*COUNTIF($T$4:$T$35,L93),COUNTIF($T$4:$T$35,L93)*$Y93) -> 1.5 | AJ93: =$Y93-($Y93*COUNTIF($E93:$F93,N93)/$P$1)*COUNTIF($T$4:$T$35,N93) -> 9 | AL93: Z24 | AW93: =CONCATENATE(AJ$1,"!",$AL93) -> Master!Z24 | AY93: AC20 | AZ93: AC28 | BB93: =CONCATENATE(R$1,"!",$AY93) -> Master!AC20 | BC93: =CONCATENATE(S$1,"!",$AZ93) -> Master!AC28 | BD93: =CONCATENATE(T$1,"!",$AL93) -> Master!Z24
B94: 5 | C94: S3 | D94: =D46 -> 2 BAY | E94: #REF! | F94: 2 BAY | G94: 2 BAY | H94: 2 BAY | I94: 2 BAY | J94: 2 BAY | K94: 2 BAY | L94: 2 BAY | N94: =N46 -> 2 BAY | P94: =P46 -> 0 | Q94: =Q46 -> 10.5 | R94: =INDIRECT(BB94) -> 2 BAY | S94: =INDIRECT(BC94) -> 7 SDS | T94: =INDIRECT(BD94) -> 2 BAY | U94: =IF(R94=T94,S94,R94) -> 7 SDS | V94: =VLOOKUP(R94,$A$1:$B$64,2) -> 10 | W94: =VLOOKUP(S94,$A$1:$B$64,2) -> 15 | X94: 1.5 | Y94: 10.5 | AA94: =IF($Y$1=1,($Y94-($Y94*COUNTIF(E94:$F94,E94)/$P$1))*COUNTIF($T$4:$T$35,E94),COUNTIF($T$4:$T$35,E94)*$Y94) -> 0 | AB94: =IF($Y$1=1,($Y94-($Y94*COUNTIF($F94:F94,F94)/$P$1))*COUNTIF($T$4:$T$35,F94),COUNTIF($T$4:$T$35,F94)*$Y94) -> 9 | AC94: =IF($Y$1=1,($Y94-($Y94*COUNTIF($F94:G94,G94)/$P$1))*COUNTIF($T$4:$T$35,G94),COUNTIF($T$4:$T$35,G94)*$Y94) -> 7.5 | AD94: =IF($Y$1=1,($Y94-($Y94*COUNTIF($F94:H94,H94)/$P$1))*COUNTIF($T$4:$T$35,H94),COUNTIF($T$4:$T$35,H94)*$Y94) -> 6 | AE94: =IF($Y$1=1,($Y94-($Y94*COUNTIF($F94:I94,I94)/$P$1))*COUNTIF($T$4:$T$35,I94),COUNTIF($T$4:$T$35,I94)*$Y94) -> 4.5 | AF94: =IF($Y$1=1,($Y94-($Y94*COUNTIF($F94:J94,J94)/$P$1))*COUNTIF($T$4:$T$35,J94),COUNTIF($T$4:$T$35,J94)*$Y94) -> 3 | AG94: =IF($Y$1=1,($Y94-($Y94*COUNTIF($F94:K94,K94)/$P$1))*COUNTIF($T$4:$T$35,K94),COUNTIF($T$4:$T$35,K94)*$Y94) -> 1.5 | AH94: =IF($Y$1=1,($Y94-($Y94*COUNTIF($F94:L94,L94)/$P$1))*COUNTIF($T$4:$T$35,L94),COUNTIF($T$4:$T$35,L94)*$Y94) -> 0 | AJ94: =$Y94-($Y94*COUNTIF($E94:$F94,N94)/$P$1)*COUNTIF($T$4:$T$35,N94) -> 9 | AL94: Z40 | AW94: =CONCATENATE(AJ$1,"!",$AL94) -> Master!Z40 | AY94: AC36 | AZ94: AC44 | BB94: =CONCATENATE(R$1,"!",$AY94) -> Master!AC36 | BC94: =CONCATENATE(S$1,"!",$AZ94) -> Master!AC44 | BD94: =CONCATENATE(T$1,"!",$AL94) -> Master!Z40
B95: 5 | C95: S4 | D95: =D47 -> 6 LSU | E95: #REF! | F95: 6 LSU | G95: 6 LSU | H95: 6 LSU | I95: 3 UL | J95: 3 UL | K95: 6 LSU | L95: 3 UL | N95: =N47 -> 3 UL | P95: =P47 -> 6 | Q95: =Q47 -> 4.5 | R95: =INDIRECT(BB95) -> 3 UL | S95: =INDIRECT(BC95) -> 6 LSU | T95: =INDIRECT(BD95) -> 3 UL | U95: =IF(R95=T95,S95,R95) -> 6 LSU | V95: =VLOOKUP(R95,$A$1:$B$64,2) -> 11 | W95: =VLOOKUP(S95,$A$1:$B$64,2) -> 14 | X95: 1.5 | Y95: 10.5 | AA95: =IF($Y$1=1,($Y95-($Y95*COUNTIF(E95:$F95,E95)/$P$1))*COUNTIF($T$4:$T$35,E95),COUNTIF($T$4:$T$35,E95)*$Y95) -> 0 | AB95: =IF($Y$1=1,($Y95-($Y95*COUNTIF($F95:F95,F95)/$P$1))*COUNTIF($T$4:$T$35,F95),COUNTIF($T$4:$T$35,F95)*$Y95) -> 9 | AC95: =IF($Y$1=1,($Y95-($Y95*COUNTIF($F95:G95,G95)/$P$1))*COUNTIF($T$4:$T$35,G95),COUNTIF($T$4:$T$35,G95)*$Y95) -> 7.5 | AD95: =IF($Y$1=1,($Y95-($Y95*COUNTIF($F95:H95,H95)/$P$1))*COUNTIF($T$4:$T$35,H95),COUNTIF($T$4:$T$35,H95)*$Y95) -> 6 | AE95: =IF($Y$1=1,($Y95-($Y95*COUNTIF($F95:I95,I95)/$P$1))*COUNTIF($T$4:$T$35,I95),COUNTIF($T$4:$T$35,I95)*$Y95) -> 9 | AF95: =IF($Y$1=1,($Y95-($Y95*COUNTIF($F95:J95,J95)/$P$1))*COUNTIF($T$4:$T$35,J95),COUNTIF($T$4:$T$35,J95)*$Y95) -> 7.5 | AG95: =IF($Y$1=1,($Y95-($Y95*COUNTIF($F95:K95,K95)/$P$1))*COUNTIF($T$4:$T$35,K95),COUNTIF($T$4:$T$35,K95)*$Y95) -> 4.5 | AH95: =IF($Y$1=1,($Y95-($Y95*COUNTIF($F95:L95,L95)/$P$1))*COUNTIF($T$4:$T$35,L95),COUNTIF($T$4:$T$35,L95)*$Y95) -> 6 | AJ95: =$Y95-($Y95*COUNTIF($E95:$F95,N95)/$P$1)*COUNTIF($T$4:$T$35,N95) -> 10.5 | AL95: Z56 | AW95: =CONCATENATE(AJ$1,"!",$AL95) -> Master!Z56 | AY95: AC52 | AZ95: AC60 | BB95: =CONCATENATE(R$1,"!",$AY95) -> Master!AC52 | BC95: =CONCATENATE(S$1,"!",$AZ95) -> Master!AC60 | BD95: =CONCATENATE(T$1,"!",$AL95) -> Master!Z56
... B112: 9 | C112: EW1 | D112: =D64 -> 1 CONN | E112: #REF! | F112: 1 CONN | G112: 1 CONN | H112: 1 CONN | I112: 1 CONN | J112: 1 CONN | K112: 1 CONN | L112: 1 CONN | N112: =N64 -> 1 CONN | P112: =P64 -> 0 | Q112: =Q64 -> 21 | R112: =INDIRECT(BB112) -> 1 CONN | S112: =INDIRECT(BC112) -> 2 STAN | T112: =INDIRECT(BD112) -> 1 CONN | U112: =IF(R112=T112,S112,R112) -> 2 STAN | V112: =VLOOKUP(R112,$A$1:$B$64,2) -> 1 | W112: =VLOOKUP(S112,$A$1:$B$64,2) -> 10 | X112: 3 | Y112: 21 | AA112: =IF($Y$1=1,($Y112-($Y112*COUNTIF(E112:$F112,E112)/$P$1))*COUNTIF($T$4:$T$35,E112),COUNTIF($T$4:$T$35,E112)*$Y112) -> 0 | AB112: =IF($Y$1=1,($Y112-($Y112*COUNTIF($F112:F112,F112)/$P$1))*COUNTIF($T$4:$T$35,F112),COUNTIF($T$4:$T$35,F112)*$Y112) -> 18 | AC112: =IF($Y$1=1,($Y112-($Y112*COUNTIF($F112:G112,G112)/$P$1))*COUNTIF($T$4:$T$35,G112),COUNTIF($T$4:$T$35,G112)*$Y112) -> 15 | AD112: =IF($Y$1=1,($Y112-($Y112*COUNTIF($F112:H112,H112)/$P$1))*COUNTIF($T$4:$T$35,H112),COUNTIF($T$4:$T$35,H112)*$Y112) -> 12 | AE112: =IF($Y$1=1,($Y112-($Y112*COUNTIF($F112:I112,I112)/$P$1))*COUNTIF($T$4:$T$35,I112),COUNTIF($T$4:$T$35,I112)*$Y112) -> 9 | AF112: =IF($Y$1=1,($Y112-($Y112*COUNTIF($F112:J112,J112)/$P$1))*COUNTIF($T$4:$T$35,J112),COUNTIF($T$4:$T$35,J112)*$Y112) -> 6 | AG112: =IF($Y$1=1,($Y112-($Y112*COUNTIF($F112:K112,K112)/$P$1))*COUNTIF($T$4:$T$35,K112),COUNTIF($T$4:$T$35,K112)*$Y112) -> 3 | AH112: =IF($Y$1=1,($Y112-($Y112*COUNTIF($F112:L112,L112)/$P$1))*COUNTIF($T$4:$T$35,L112),COUNTIF($T$4:$T$35,L112)*$Y112) -> 0 | AJ112: =$Y112-($Y112*COUNTIF($E112:$F112,N112)/$P$1)*COUNTIF($T$4:$T$35,N112) -> 18 | AL112: Q48 | AW112: =CONCATENATE(AJ$1,"!",$AL112) -> Master!Q48 | AY112: N32 | AZ112: N98 | BB112: =CONCATENATE(R$1,"!",$AY112) -> Master!N32 | BC112: =CONCATENATE(S$1,"!",$AZ112) -> Master!N98 | BD112: =CONCATENATE(T$1,"!",$AL112) -> Master!Q48
C113: SMW1 | D113: =D65 -> 1 OKLA | E113: #REF! | F113: 1 OKLA | G113: 2 AUB | H113: 1 MD | I113: 1 MD | J113: 1 MD | K113: 1 MD | L113: 1 MD | N113: =N65 -> 3 UL | P113: =P65 -> 21 | Q113: =Q65 -> 18 | R113: =INDIRECT(BB113) -> 3 UL | S113: =INDIRECT(BC113) -> 1 OKLA | T113: =INDIRECT(BD113) -> 3 UL | U113: =IF(R113=T113,S113,R113) -> 1 OKLA | V113: =VLOOKUP(R113,$A$1:$B$64,2) -> 11 | W113: =VLOOKUP(S113,$A$1:$B$64,2) -> 1 | X113: 3 | Y113: 21 | AA113: =IF($Y$1=1,($Y113-($Y113*COUNTIF(E113:$F113,E113)/$P$1))*COUNTIF($T$4:$T$35,E113),COUNTIF($T$4:$T$35,E113)*$Y113) -> 0 | AB113: =IF($Y$1=1,($Y113-($Y113*COUNTIF($F113:F113,F113)/$P$1))*COUNTIF($T$4:$T$35,F113),COUNTIF($T$4:$T$35,F113)*$Y113) -> 18 | AC113: =IF($Y$1=1,($Y113-($Y113*COUNTIF($F113:G113,G113)/$P$1))*COUNTIF($T$4:$T$35,G113),COUNTIF($T$4:$T$35,G113)*$Y113) -> 18 | AD113: =IF($Y$1=1,($Y113-($Y113*COUNTIF($F113:H113,H113)/$P$1))*COUNTIF($T$4:$T$35,H113),COUNTIF($T$4:$T$35,H113)*$Y113) -> 18 | AE113: =IF($Y$1=1,($Y113-($Y113*COUNTIF($F113:I113,I113)/$P$1))*COUNTIF($T$4:$T$35,I113),COUNTIF($T$4:$T$35,I113)*$Y113) -> 15 | AF113: =IF($Y$1=1,($Y113-($Y113*COUNTIF($F113:J113,J113)/$P$1))*COUNTIF($T$4:$T$35,J113),COUNTIF($T$4:$T$35,J113)*$Y113) -> 12 | AG113: =IF($Y$1=1,($Y113-($Y113*COUNTIF($F113:K113,K113)/$P$1))*COUNTIF($T$4:$T$35,K113),COUNTIF($T$4:$T$35,K113)*$Y113) -> 9 | AH113: =IF($Y$1=1,($Y113-($Y113*COUNTIF($F113:L113,L113)/$P$1))*COUNTIF($T$4:$T$35,L113),COUNTIF($T$4:$T$35,L113)*$Y113) -> 6 | AJ113: =$Y113-($Y113*COUNTIF($E113:$F113,N113)/$P$1)*COUNTIF($T$4:$T$35,N113) -> 21 | AL113: Q82 | AW113: =CONCATENATE(AJ$1,"!",$AL113) -> Master!Q82 | AY113: T32 | AZ113: T98 | BB113: =CONCATENATE(R$1,"!",$AY113) -> Master!T32 | BC113: =CONCATENATE(S$1,"!",$AZ113) -> Master!T98 | BD113: =CONCATENATE(T$1,"!",$AL113) -> Master!Q82
C114: FINAL | D114: =D66 -> 1 CONN | E114: #REF! | F114: 1 CONN | G114: 1 CONN | H114: 1 MD | I114: 1 CONN | J114: 1 CONN | K114: 1 CONN | L114: 1 CONN | N114: =N66 -> 0 | P114: =P66 -> 3.5 | Q114: =Q66 -> 24.5 | R114: =INDIRECT(BB114) -> 1 CONN | S114: =INDIRECT(BC114) -> 3 UL | T114: =INDIRECT(BD114) -> 0 | U114: =IF(R114=T114,S114,R114) -> 1 CONN | V114: =VLOOKUP(R114,$A$1:$B$64,2) -> 1 | W114: =VLOOKUP(S114,$A$1:$B$64,2) -> 11 | X114: 3.5 | Y114: 24.5 | AA114: =IF($Y$1=1,($Y114-($Y114*COUNTIF(E114:$F114,E114)/$P$1))*COUNTIF($T$4:$T$35,E114),COUNTIF($T$4:$T$35,E114)*$Y114) -> 0 | AB114: =IF($Y$1=1,($Y114-($Y114*COUNTIF($F114:F114,F114)/$P$1))*COUNTIF($T$4:$T$35,F114),COUNTIF($T$4:$T$35,F114)*$Y114) -> 21 | AC114: =IF($Y$1=1,($Y114-($Y114*COUNTIF($F114:G114,G114)/$P$1))*COUNTIF($T$4:$T$35,G114),COUNTIF($T$4:$T$35,G114)*$Y114) -> 17.5 | AD114: =IF($Y$1=1,($Y114-($Y114*COUNTIF($F114:H114,H114)/$P$1))*COUNTIF($T$4:$T$35,H114),COUNTIF($T$4:$T$35,H114)*$Y114) -> 21 | AE114: =IF($Y$1=1,($Y114-($Y114*COUNTIF($F114:I114,I114)/$P$1))*COUNTIF($T$4:$T$35,I114),COUNTIF($T$4:$T$35,I114)*$Y114) -> 14 | AF114: =IF($Y$1=1,($Y114-($Y114*COUNTIF($F114:J114,J114)/$P$1))*COUNTIF($T$4:$T$35,J114),COUNTIF($T$4:$T$35,J114)*$Y114) -> 10.5 | AG114: =IF($Y$1=1,($Y114-($Y114*COUNTIF($F114:K114,K114)/$P$1))*COUNTIF($T$4:$T$35,K114),COUNTIF($T$4:$T$35,K114)*$Y114) -> 7 | AH114: =IF($Y$1=1,($Y114-($Y114*COUNTIF($F114:L114,L114)/$P$1))*COUNTIF($T$4:$T$35,L114),COUNTIF($T$4:$T$35,L114)*$Y114) -> 3.5 | AJ114: =$Y114-($Y114*COUNTIF($E114:$F114,N114)/$P$1)*COUNTIF($T$4:$T$35,N114) -> 24.5 | AL114: Q64 | AW114: =CONCATENATE(AJ$1,"!",$AL114) -> Master!Q64 | AY114: Q48 | AZ114: Q82 | BB114: =CONCATENATE(R$1,"!",$AY114) -> Master!Q48 | BC114: =CONCATENATE(S$1,"!",$AZ114) -> Master!Q82 | BD114: =CONCATENATE(T$1,"!",$AL114) -> Master!Q64
Y115: Totals | AA115: =SUM(AA84:AA114) -> 0 | AB115: =SUM(AB84:AB114) -> 339 | AC115: =SUM(AC84:AC114) -> 294.5 | AD115: =SUM(AD84:AD114) -> 255.5 | AE115: =SUM(AE84:AE114) -> 224.5 | AF115: =SUM(AF84:AF114) -> 172.5 | AG115: =SUM(AG84:AG114) -> 129 | AH115: =SUM(AH84:AH114) -> 68 | AJ115: =SUM(AJ84:AJ114) -> 382
Y116: Round 2 | AA116: =SUM(AA84:AA99) -> 0 | AB116: =SUM(AB84:AB99) -> 126 | AC116: =SUM(AC84:AC99) -> 109.5 | AD116: =SUM(AD84:AD99) -> 90 | AE116: =SUM(AE84:AE99) -> 90 | AF116: =SUM(AF84:AF99) -> 58.5 | AG116: =SUM(AG84:AG99) -> 45 | AH116: =SUM(AH84:AH99) -> 22.5 | AJ116: =SUM(AJ84:AJ99) -> 151.5
Y117: Round 3 | AA117: =SUM(AA100:AA107) -> 0 | AB117: =SUM(AB100:AB107) -> 96 | AC117: =SUM(AC100:AC107) -> 82 | AD117: =SUM(AD100:AD107) -> 62 | AE117: =SUM(AE100:AE107) -> 54 | AF117: =SUM(AF100:AF107) -> 48 | AG117: =SUM(AG100:AG107) -> 40 | AH117: =SUM(AH100:AH107) -> 16 | AJ117: =SUM(AJ100:AJ107) -> 102
Y118: Round 4 | AA118: =SUM(AA108:AA111) -> 0 | AB118: =SUM(AB108:AB111) -> 60 | AC118: =SUM(AC108:AC111) -> 52.5 | AD118: =SUM(AD108:AD111) -> 52.5 | AE118: =SUM(AE108:AE111) -> 42.5 | AF118: =SUM(AF108:AF111) -> 37.5 | AG118: =SUM(AG108:AG111) -> 25 | AH118: =SUM(AH108:AH111) -> 20 | AJ118: =SUM(AJ108:AJ111) -> 65
Y119: Round 5 | AA119: =SUM(AA112:AA113) -> 0 | AB119: =SUM(AB112:AB113) -> 36 | AC119: =SUM(AC112:AC113) -> 33 | AD119: =SUM(AD112:AD113) -> 30 | AE119: =SUM(AE112:AE113) -> 24 | AF119: =SUM(AF112:AF113) -> 18 | AG119: =SUM(AG112:AG113) -> 12 | AH119: =SUM(AH112:AH113) -> 6 | AJ119: =SUM(AJ112:AJ113) -> 39
Y120: Round 6 | AA120: =AA114 -> 0 | AB120: =AB114 -> 21 | AC120: =AC114 -> 17.5 | AD120: =AD114 -> 21 | AE120: =AE114 -> 14 | AF120: =AF114 -> 10.5 | AG120: =AG114 -> 7 | AH120: =AH114 -> 3.5 | AJ120: =AJ114 -> 24.5
B124: 1 | C124: Round 3 | AA124: =AA82 -> HiSeeds | AB124: =AB82 -> AnthonyP | AC124: =AC82 -> ChrisR | AD124: =AD82 -> EricP | AE124: =AE82 -> JoeG | AF124: =AF82 -> JohnP | AG124: =AG82 -> JoshF | AH124: =AH82 -> ScottP | AJ124: Best Possible
B125: 1 | C125: Player | D125: Insert3 | E125: 0 | F125: 1 | G125: 2 | H125: 3 | I125: 4 | J125: 5 | K125: 6 | L125: 7 | N125: =N83 -> 7 | P125: Favorite | Q125: Underdog | R125: Player1 | S125: Player2 | T125: Winner | U125: Loser | V125: SeedFav | W125: SeedUdr | Z125: Insert1 | AA125: =#REF!+1 -> #REF! | AB125: =#REF!+1 -> #REF! | AC125: =#REF!+1 -> #REF! | AD125: =#REF!+1 -> #REF! | AE125: =#REF!+1 -> #REF! | AF125: =#REF!+1 -> #REF! | AG125: =#REF!+1 -> #REF! | AH125: =#REF!+1 -> #REF! | AJ125: 0 | BB125: Player 1 | BC125: Player 2
B126: 6 | C126: E1 | D126: =D100 -> 1 CONN | E126: #REF! | F126: 1 CONN | G126: 1 CONN | H126: 1 CONN | I126: 1 CONN | J126: 1 CONN | K126: 1 CONN | L126: 1 CONN | N126: =N100 -> 1 CONN | P126: =P100 -> 0 | Q126: =Q100 -> 14 | R126: =INDIRECT(BB126) -> 1 CONN | S126: =INDIRECT(BC126) -> 4 CAL | T126: =INDIRECT(BD126) -> 1 CONN | U126: =IF(R126=T126,S126,R126) -> 4 CAL | V126: =VLOOKUP(R126,$A$1:$B$64,2) -> 1 | W126: =VLOOKUP(S126,$A$1:$B$64,2) -> 12 | X126: 2 | Y126: 14 | AA126: =IF($Y$1=1,($Y126-($Y126*COUNTIF($F126:F126,E126)/$P$1))*COUNTIF($T$36:$T$51,E126),COUNTIF($T$36:$T$51,E126)*$Y126) -> 0 | AB126: =IF($Y$1=1,($Y126-($Y126*COUNTIF($F126:M126,F126)/$P$1))*COUNTIF($T$36:$T$51,F126),COUNTIF($T$36:$T$51,F126)*$Y126) -> 0 | AC126: =IF($Y$1=1,($Y126-($Y126*COUNTIF($F126:N126,G126)/$P$1))*COUNTIF($T$36:$T$51,G126),COUNTIF($T$36:$T$51,G126)*$Y126) -> -2 | AD126: =IF($Y$1=1,($Y126-($Y126*COUNTIF($F126:O126,H126)/$P$1))*COUNTIF($T$36:$T$51,H126),COUNTIF($T$36:$T$51,H126)*$Y126) -> -2 | AE126: =IF($Y$1=1,($Y126-($Y126*COUNTIF($F126:P126,I126)/$P$1))*COUNTIF($T$36:$T$51,I126),COUNTIF($T$36:$T$51,I126)*$Y126) -> -2 | AF126: =IF($Y$1=1,($Y126-($Y126*COUNTIF($F126:Q126,J126)/$P$1))*COUNTIF($T$36:$T$51,J126),COUNTIF($T$36:$T$51,J126)*$Y126) -> -2 | AG126: =IF($Y$1=1,($Y126-($Y126*COUNTIF($F126:R126,K126)/$P$1))*COUNTIF($T$36:$T$51,K126),COUNTIF($T$36:$T$51,K126)*$Y126) -> -4 | AH126: =IF($Y$1=1,($Y126-($Y126*COUNTIF($F126:S126,L126)/$P$1))*COUNTIF($T$36:$T$51,L126),COUNTIF($T$36:$T$51,L126)*$Y126) -> -4 | AJ126: =$Y126-($Y126*COUNTIF($E126:$F126,N126)/$P$1)*COUNTIF($T$36:$T$51,N126) -> 12 | AL126: K16 | AW126: =CONCATENATE(AJ$1,"!",$AL126) -> Master!K16 | AY126: H8 | AZ126: H24 | BB126: =CONCATENATE(R$1,"!",$AY126) -> Master!H8 | BC126: =CONCATENATE(S$1,"!",$AZ126) -> Master!H24 | BD126: =CONCATENATE(T$1,"!",$AL126) -> Master!K16
B127: 7 | C127: E2 | D127: =D101 -> 2 A&M | E127: #REF! | F127: 2 A&M | G127: 2 A&M | H127: 3 FSU | I127: 2 A&M | J127: 3 FSU | K127: 2 A&M | L127: 2 A&M | N127: =N101 -> 2 A&M | P127: =P101 -> 4 | Q127: =Q101 -> 14 | R127: =INDIRECT(BB127) -> 2 A&M | S127: =INDIRECT(BC127) -> 6 ASU | T127: =INDIRECT(BD127) -> 2 A&M | U127: =IF(R127=T127,S127,R127) -> 6 ASU | V127: =VLOOKUP(R127,$A$1:$B$64,2) -> 10 | W127: =VLOOKUP(S127,$A$1:$B$64,2) -> 14 | X127: 2 | Y127: 14 | AA127: =IF($Y$1=1,($Y127-($Y127*COUNTIF($F127:F127,E127)/$P$1))*COUNTIF($T$36:$T$51,E127),COUNTIF($T$36:$T$51,E127)*$Y127) -> 0 | AB127: =IF($Y$1=1,($Y127-($Y127*COUNTIF($F127:M127,F127)/$P$1))*COUNTIF($T$36:$T$51,F127),COUNTIF($T$36:$T$51,F127)*$Y127) -> 4 | AC127: =IF($Y$1=1,($Y127-($Y127*COUNTIF($F127:N127,G127)/$P$1))*COUNTIF($T$36:$T$51,G127),COUNTIF($T$36:$T$51,G127)*$Y127) -> 2 | AD127: =IF($Y$1=1,($Y127-($Y127*COUNTIF($F127:O127,H127)/$P$1))*COUNTIF($T$36:$T$51,H127),COUNTIF($T$36:$T$51,H127)*$Y127) -> 0 | AE127: =IF($Y$1=1,($Y127-($Y127*COUNTIF($F127:P127,I127)/$P$1))*COUNTIF($T$36:$T$51,I127),COUNTIF($T$36:$T$51,I127)*$Y127) -> 2 | AF127: =IF($Y$1=1,($Y127-($Y127*COUNTIF($F127:Q127,J127)/$P$1))*COUNTIF($T$36:$T$51,J127),COUNTIF($T$36:$T$51,J127)*$Y127) -> 0 | AG127: =IF($Y$1=1,($Y127-($Y127*COUNTIF($F127:R127,K127)/$P$1))*COUNTIF($T$36:$T$51,K127),COUNTIF($T$36:$T$51,K127)*$Y127) -> 0 | AH127: =IF($Y$1=1,($Y127-($Y127*COUNTIF($F127:S127,L127)/$P$1))*COUNTIF($T$36:$T$51,L127),COUNTIF($T$36:$T$51,L127)*$Y127) -> 0 | AJ127: =$Y127-($Y127*COUNTIF($E127:$F127,N127)/$P$1)*COUNTIF($T$36:$T$51,N127) -> 12 | AL127: K48 | AW127: =CONCATENATE(AJ$1,"!",$AL127) -> Master!K48 | AY127: H40 | AZ127: H56 | BB127: =CONCATENATE(R$1,"!",$AY127) -> Master!H40 | BC127: =CONCATENATE(S$1,"!",$AZ127) -> Master!H56 | BD127: =CONCATENATE(T$1,"!",$AL127) -> Master!K48
B128: 7 | C128: W1 | D128: =D102 -> 1 DUKE | E128: #REF! | F128: 1 DUKE | G128: 1 DUKE | H128: 5 TENN | I128: 1 DUKE | J128: 1 DUKE | K128: 1 DUKE | L128: 1 DUKE | N128: =N102 -> 4 ISU | P128: =P102 -> 14 | Q128: =Q102 -> 14 | R128: =INDIRECT(BB128) -> 9 MSU | S128: =INDIRECT(BC128) -> 4 ISU | T128: =INDIRECT(BD128) -> 4 ISU | U128: =IF(R128=T128,S128,R128) -> 9 MSU | V128: =VLOOKUP(R128,$A$1:$B$64,2) -> 9 | W128: =VLOOKUP(S128,$A$1:$B$64,2) -> 12 | X128: 2 | Y128: 14 | AA128: =IF($Y$1=1,($Y128-($Y128*COUNTIF($F128:F128,E128)/$P$1))*COUNTIF($T$36:$T$51,E128),COUNTIF($T$36:$T$51,E128)*$Y128) -> 0 | AB128: =IF($Y$1=1,($Y128-($Y128*COUNTIF($F128:M128,F128)/$P$1))*COUNTIF($T$36:$T$51,F128),COUNTIF($T$36:$T$51,F128)*$Y128) -> 0 | AC128: =IF($Y$1=1,($Y128-($Y128*COUNTIF($F128:N128,G128)/$P$1))*COUNTIF($T$36:$T$51,G128),COUNTIF($T$36:$T$51,G128)*$Y128) -> 0 | AD128: =IF($Y$1=1,($Y128-($Y128*COUNTIF($F128:O128,H128)/$P$1))*COUNTIF($T$36:$T$51,H128),COUNTIF($T$36:$T$51,H128)*$Y128) -> 0 | AE128: =IF($Y$1=1,($Y128-($Y128*COUNTIF($F128:P128,I128)/$P$1))*COUNTIF($T$36:$T$51,I128),COUNTIF($T$36:$T$51,I128)*$Y128) -> 0 | AF128: =IF($Y$1=1,($Y128-($Y128*COUNTIF($F128:Q128,J128)/$P$1))*COUNTIF($T$36:$T$51,J128),COUNTIF($T$36:$T$51,J128)*$Y128) -> 0 | AG128: =IF($Y$1=1,($Y128-($Y128*COUNTIF($F128:R128,K128)/$P$1))*COUNTIF($T$36:$T$51,K128),COUNTIF($T$36:$T$51,K128)*$Y128) -> 0 | AH128: =IF($Y$1=1,($Y128-($Y128*COUNTIF($F128:S128,L128)/$P$1))*COUNTIF($T$36:$T$51,L128),COUNTIF($T$36:$T$51,L128)*$Y128) -> 0 | AJ128: =$Y128-($Y128*COUNTIF($E128:$F128,N128)/$P$1)*COUNTIF($T$36:$T$51,N128) -> 14 | AL128: K82 | AW128: =CONCATENATE(AJ$1,"!",$AL128) -> Master!K82 | AY128: H74 | AZ128: H90 | BB128: =CONCATENATE(R$1,"!",$AY128) -> Master!H74 | BC128: =CONCATENATE(S$1,"!",$AZ128) -> Master!H90 | BD128: =CONCATENATE(T$1,"!",$AL128) -> Master!K82
B129: 7 | C129: W2 | D129: =D103 -> 2 STAN | E129: #REF! | F129: 2 STAN | G129: 2 STAN | H129: 2 STAN | I129: 2 STAN | J129: 2 STAN | K129: 2 STAN | L129: 2 STAN | N129: =N103 -> 2 STAN | P129: =P103 -> 0 | Q129: =Q103 -> 14 | R129: =INDIRECT(BB129) -> 2 STAN | S129: =INDIRECT(BC129) -> 3 OSU | T129: =INDIRECT(BD129) -> 2 STAN | U129: =IF(R129=T129,S129,R129) -> 3 OSU | V129: =VLOOKUP(R129,$A$1:$B$64,2) -> 10 | W129: =VLOOKUP(S129,$A$1:$B$64,2) -> 11 | X129: 2 | Y129: 14 | AA129: =IF($Y$1=1,($Y129-($Y129*COUNTIF($F129:F129,E129)/$P$1))*COUNTIF($T$36:$T$51,E129),COUNTIF($T$36:$T$51,E129)*$Y129) -> 0 | AB129: =IF($Y$1=1,($Y129-($Y129*COUNTIF($F129:M129,F129)/$P$1))*COUNTIF($T$36:$T$51,F129),COUNTIF($T$36:$T$51,F129)*$Y129) -> 0 | AC129: =IF($Y$1=1,($Y129-($Y129*COUNTIF($F129:N129,G129)/$P$1))*COUNTIF($T$36:$T$51,G129),COUNTIF($T$36:$T$51,G129)*$Y129) -> -2 | AD129: =IF($Y$1=1,($Y129-($Y129*COUNTIF($F129:O129,H129)/$P$1))*COUNTIF($T$36:$T$51,H129),COUNTIF($T$36:$T$51,H129)*$Y129) -> -2 | AE129: =IF($Y$1=1,($Y129-($Y129*COUNTIF($F129:P129,I129)/$P$1))*COUNTIF($T$36:$T$51,I129),COUNTIF($T$36:$T$51,I129)*$Y129) -> -2 | AF129: =IF($Y$1=1,($Y129-($Y129*COUNTIF($F129:Q129,J129)/$P$1))*COUNTIF($T$36:$T$51,J129),COUNTIF($T$36:$T$51,J129)*$Y129) -> -2 | AG129: =IF($Y$1=1,($Y129-($Y129*COUNTIF($F129:R129,K129)/$P$1))*COUNTIF($T$36:$T$51,K129),COUNTIF($T$36:$T$51,K129)*$Y129) -> -4 | AH129: =IF($Y$1=1,($Y129-($Y129*COUNTIF($F129:S129,L129)/$P$1))*COUNTIF($T$36:$T$51,L129),COUNTIF($T$36:$T$51,L129)*$Y129) -> -4 | AJ129: =$Y129-($Y129*COUNTIF($E129:$F129,N129)/$P$1)*COUNTIF($T$36:$T$51,N129) -> 12 | AL129: K114 | AW129: =CONCATENATE(AJ$1,"!",$AL129) -> Master!K114 | AY129: H106 | AZ129: H122 | BB129: =CONCATENATE(R$1,"!",$AY129) -> Master!H106 | BC129: =CONCATENATE(S$1,"!",$AZ129) -> Master!H122 | BD129: =CONCATENATE(T$1,"!",$AL129) -> Master!K114
B130: 7 | C130: S1 | D130: =D104 -> 1 MD | E130: #REF! | F130: 1 MD | G130: 1 MD | H130: 1 MD | I130: 1 MD | J130: 1 MD | K130: 1 MD | L130: 1 MD | N130: =N104 -> 1 MD | P130: =P104 -> 0 | Q130: =Q104 -> 14 | R130: =INDIRECT(BB130) -> 1 MD | S130: =INDIRECT(BC130) -> 4 VAN | T130: =INDIRECT(BD130) -> 1 MD | U130: =IF(R130=T130,S130,R130) -> 4 VAN | V130: =VLOOKUP(R130,$A$1:$B$64,2) -> 1 | W130: =VLOOKUP(S130,$A$1:$B$64,2) -> 12 | X130: 2 | Y130: 14 | AA130: =IF($Y$1=1,($Y130-($Y130*COUNTIF($F130:F130,E130)/$P$1))*COUNTIF($T$36:$T$51,E130),COUNTIF($T$36:$T$51,E130)*$Y130) -> 0 | AB130: =IF($Y$1=1,($Y130-($Y130*COUNTIF($F130:M130,F130)/$P$1))*COUNTIF($T$36:$T$51,F130),COUNTIF($T$36:$T$51,F130)*$Y130) -> 0 | AC130: =IF($Y$1=1,($Y130-($Y130*COUNTIF($F130:N130,G130)/$P$1))*COUNTIF($T$36:$T$51,G130),COUNTIF($T$36:$T$51,G130)*$Y130) -> -2 | AD130: =IF($Y$1=1,($Y130-($Y130*COUNTIF($F130:O130,H130)/$P$1))*COUNTIF($T$36:$T$51,H130),COUNTIF($T$36:$T$51,H130)*$Y130) -> -2 | AE130: =IF($Y$1=1,($Y130-($Y130*COUNTIF($F130:P130,I130)/$P$1))*COUNTIF($T$36:$T$51,I130),COUNTIF($T$36:$T$51,I130)*$Y130) -> -2 | AF130: =IF($Y$1=1,($Y130-($Y130*COUNTIF($F130:Q130,J130)/$P$1))*COUNTIF($T$36:$T$51,J130),COUNTIF($T$36:$T$51,J130)*$Y130) -> -2 | AG130: =IF($Y$1=1,($Y130-($Y130*COUNTIF($F130:R130,K130)/$P$1))*COUNTIF($T$36:$T$51,K130),COUNTIF($T$36:$T$51,K130)*$Y130) -> -4 | AH130: =IF($Y$1=1,($Y130-($Y130*COUNTIF($F130:S130,L130)/$P$1))*COUNTIF($T$36:$T$51,L130),COUNTIF($T$36:$T$51,L130)*$Y130) -> -4 | AJ130: =$Y130-($Y130*COUNTIF($E130:$F130,N130)/$P$1)*COUNTIF($T$36:$T$51,N130) -> 12 | AL130: W16 | AW130: =CONCATENATE(AJ$1,"!",$AL130) -> Master!W16 | AY130: Z8 | AZ130: Z24 | BB130: =CONCATENATE(R$1,"!",$AY130) -> Master!Z8 | BC130: =CONCATENATE(S$1,"!",$AZ130) -> Master!Z24 | BD130: =CONCATENATE(T$1,"!",$AL130) -> Master!W16
B131: 8 | C131: S2 | D131: =D105 -> 2 BAY | E131: #REF! | F131: 2 BAY | G131: 2 BAY | H131: 2 BAY | I131: 2 BAY | J131: 2 BAY | K131: 6 LSU | L131: 2 BAY | N131: =N105 -> 3 UL | P131: =P105 -> 2 | Q131: =Q105 -> 14 | R131: =INDIRECT(BB131) -> 2 BAY | S131: =INDIRECT(BC131) -> 3 UL | T131: =INDIRECT(BD131) -> 3 UL | U131: =IF(R131=T131,S131,R131) -> 2 BAY | V131: =VLOOKUP(R131,$A$1:$B$64,2) -> 10 | W131: =VLOOKUP(S131,$A$1:$B$64,2) -> 11 | X131: 2 | Y131: 14 | AA131: =IF($Y$1=1,($Y131-($Y131*COUNTIF($F131:F131,E131)/$P$1))*COUNTIF($T$36:$T$51,E131),COUNTIF($T$36:$T$51,E131)*$Y131) -> 0 | AB131: =IF($Y$1=1,($Y131-($Y131*COUNTIF($F131:M131,F131)/$P$1))*COUNTIF($T$36:$T$51,F131),COUNTIF($T$36:$T$51,F131)*$Y131) -> 2 | AC131: =IF($Y$1=1,($Y131-($Y131*COUNTIF($F131:N131,G131)/$P$1))*COUNTIF($T$36:$T$51,G131),COUNTIF($T$36:$T$51,G131)*$Y131) -> 2 | AD131: =IF($Y$1=1,($Y131-($Y131*COUNTIF($F131:O131,H131)/$P$1))*COUNTIF($T$36:$T$51,H131),COUNTIF($T$36:$T$51,H131)*$Y131) -> 2 | AE131: =IF($Y$1=1,($Y131-($Y131*COUNTIF($F131:P131,I131)/$P$1))*COUNTIF($T$36:$T$51,I131),COUNTIF($T$36:$T$51,I131)*$Y131) -> 2 | AF131: =IF($Y$1=1,($Y131-($Y131*COUNTIF($F131:Q131,J131)/$P$1))*COUNTIF($T$36:$T$51,J131),COUNTIF($T$36:$T$51,J131)*$Y131) -> 2 | AG131: =IF($Y$1=1,($Y131-($Y131*COUNTIF($F131:R131,K131)/$P$1))*COUNTIF($T$36:$T$51,K131),COUNTIF($T$36:$T$51,K131)*$Y131) -> 0 | AH131: =IF($Y$1=1,($Y131-($Y131*COUNTIF($F131:S131,L131)/$P$1))*COUNTIF($T$36:$T$51,L131),COUNTIF($T$36:$T$51,L131)*$Y131) -> 0 | AJ131: =$Y131-($Y131*COUNTIF($E131:$F131,N131)/$P$1)*COUNTIF($T$36:$T$51,N131) -> 14 | AL131: W48 | AW131: =CONCATENATE(AJ$1,"!",$AL131) -> Master!W48 | AY131: Z40 | AZ131: Z56 | BB131: =CONCATENATE(R$1,"!",$AY131) -> Master!Z40 | BC131: =CONCATENATE(S$1,"!",$AZ131) -> Master!Z56 | BD131: =CONCATENATE(T$1,"!",$AL131) -> Master!W48
B132: 8 | C132: MW1 | D132: =D106 -> 1 OKLA | E132: #REF! | F132: 1 OKLA | G132: 1 OKLA | H132: 1 OKLA | I132: 1 OKLA | J132: 1 OKLA | K132: 1 OKLA | L132: 1 OKLA | N132: =N106 -> 1 OKLA | P132: =P106 -> 0 | Q132: =Q106 -> 14 | R132: =INDIRECT(BB132) -> 1 OKLA | S132: =INDIRECT(BC132) -> 4 PITT | T132: =INDIRECT(BD132) -> 1 OKLA | U132: =IF(R132=T132,S132,R132) -> 4 PITT | V132: =VLOOKUP(R132,$A$1:$B$64,2) -> 1 | W132: =VLOOKUP(S132,$A$1:$B$64,2) -> 12 | X132: 2 | Y132: 14 | AA132: =IF($Y$1=1,($Y132-($Y132*COUNTIF($F132:F132,E132)/$P$1))*COUNTIF($T$36:$T$51,E132),COUNTIF($T$36:$T$51,E132)*$Y132) -> 0 | AB132: =IF($Y$1=1,($Y132-($Y132*COUNTIF($F132:M132,F132)/$P$1))*COUNTIF($T$36:$T$51,F132),COUNTIF($T$36:$T$51,F132)*$Y132) -> 0 | AC132: =IF($Y$1=1,($Y132-($Y132*COUNTIF($F132:N132,G132)/$P$1))*COUNTIF($T$36:$T$51,G132),COUNTIF($T$36:$T$51,G132)*$Y132) -> -2 | AD132: =IF($Y$1=1,($Y132-($Y132*COUNTIF($F132:O132,H132)/$P$1))*COUNTIF($T$36:$T$51,H132),COUNTIF($T$36:$T$51,H132)*$Y132) -> -2 | AE132: =IF($Y$1=1,($Y132-($Y132*COUNTIF($F132:P132,I132)/$P$1))*COUNTIF($T$36:$T$51,I132),COUNTIF($T$36:$T$51,I132)*$Y132) -> -2 | AF132: =IF($Y$1=1,($Y132-($Y132*COUNTIF($F132:Q132,J132)/$P$1))*COUNTIF($T$36:$T$51,J132),COUNTIF($T$36:$T$51,J132)*$Y132) -> -2 | AG132: =IF($Y$1=1,($Y132-($Y132*COUNTIF($F132:R132,K132)/$P$1))*COUNTIF($T$36:$T$51,K132),COUNTIF($T$36:$T$51,K132)*$Y132) -> -4 | AH132: =IF($Y$1=1,($Y132-($Y132*COUNTIF($F132:S132,L132)/$P$1))*COUNTIF($T$36:$T$51,L132),COUNTIF($T$36:$T$51,L132)*$Y132) -> -4 | AJ132: =$Y132-($Y132*COUNTIF($E132:$F132,N132)/$P$1)*COUNTIF($T$36:$T$51,N132) -> 12 | AL132: W82 | AW132: =CONCATENATE(AJ$1,"!",$AL132) -> Master!W82 | AY132: Z74 | AZ132: Z90 | BB132: =CONCATENATE(R$1,"!",$AY132) -> Master!Z74 | BC132: =CONCATENATE(S$1,"!",$AZ132) -> Master!Z90 | BD132: =CONCATENATE(T$1,"!",$AL132) -> Master!W82
B133: 8 | C133: MW2 | D133: =D107 -> 7 RUT | E133: #REF! | F133: 7 RUT | G133: 2 AUB | H133: 2 AUB | I133: 2 AUB | J133: 3 UNC | K133: 3 UNC | L133: 3 UNC | N133: =N107 -> 6 PUR | P133: =P107 -> 12 | Q133: =Q107 -> 14 | R133: =INDIRECT(BB133) -> 7 RUT | S133: =INDIRECT(BC133) -> 6 PUR | T133: =INDIRECT(BD133) -> 6 PUR | U133: =IF(R133=T133,S133,R133) -> 7 RUT | V133: =VLOOKUP(R133,$A$1:$B$64,2) -> 15 | W133: =VLOOKUP(S133,$A$1:$B$64,2) -> 14 | X133: 2 | Y133: 14 | AA133: =IF($Y$1=1,($Y133-($Y133*COUNTIF($F133:F133,E133)/$P$1))*COUNTIF($T$36:$T$51,E133),COUNTIF($T$36:$T$51,E133)*$Y133) -> 0 | AB133: =IF($Y$1=1,($Y133-($Y133*COUNTIF($F133:M133,F133)/$P$1))*COUNTIF($T$36:$T$51,F133),COUNTIF($T$36:$T$51,F133)*$Y133) -> 12 | AC133: =IF($Y$1=1,($Y133-($Y133*COUNTIF($F133:N133,G133)/$P$1))*COUNTIF($T$36:$T$51,G133),COUNTIF($T$36:$T$51,G133)*$Y133) -> 0 | AD133: =IF($Y$1=1,($Y133-($Y133*COUNTIF($F133:O133,H133)/$P$1))*COUNTIF($T$36:$T$51,H133),COUNTIF($T$36:$T$51,H133)*$Y133) -> 0 | AE133: =IF($Y$1=1,($Y133-($Y133*COUNTIF($F133:P133,I133)/$P$1))*COUNTIF($T$36:$T$51,I133),COUNTIF($T$36:$T$51,I133)*$Y133) -> 0 | AF133: =IF($Y$1=1,($Y133-($Y133*COUNTIF($F133:Q133,J133)/$P$1))*COUNTIF($T$36:$T$51,J133),COUNTIF($T$36:$T$51,J133)*$Y133) -> 0 | AG133: =IF($Y$1=1,($Y133-($Y133*COUNTIF($F133:R133,K133)/$P$1))*COUNTIF($T$36:$T$51,K133),COUNTIF($T$36:$T$51,K133)*$Y133) -> 0 | AH133: =IF($Y$1=1,($Y133-($Y133*COUNTIF($F133:S133,L133)/$P$1))*COUNTIF($T$36:$T$51,L133),COUNTIF($T$36:$T$51,L133)*$Y133) -> 0 | AJ133: =$Y133-($Y133*COUNTIF($E133:$F133,N133)/$P$1)*COUNTIF($T$36:$T$51,N133) -> 14 | AL133: W114 | AW133: =CONCATENATE(AJ$1,"!",$AL133) -> Master!W114 | AY133: Z106 | AZ133: Z122 | BB133: =CONCATENATE(R$1,"!",$AY133) -> Master!Z106 | BC133: =CONCATENATE(S$1,"!",$AZ133) -> Master!Z122 | BD133: =CONCATENATE(T$1,"!",$AL133) -> Master!W114
B134: 8 | C134: E1 | D134: =D108 -> 1 CONN | E134: #REF! | F134: 1 CONN | G134: 1 CONN | H134: 1 CONN | I134: 1 CONN | J134: 1 CONN | K134: 1 CONN | L134: 1 CONN | N134: =N108 -> 1 CONN | P134: =P108 -> 0 | Q134: =Q108 -> 17.5 | R134: =INDIRECT(BB134) -> 1 CONN | S134: =INDIRECT(BC134) -> 2 A&M | T134: =INDIRECT(BD134) -> 1 CONN | U134: =IF(R134=T134,S134,R134) -> 2 A&M | V134: =VLOOKUP(R134,$A$1:$B$64,2) -> 1 | W134: =VLOOKUP(S134,$A$1:$B$64,2) -> 10 | X134: 2.5 | Y134: 17.5 | AA134: =IF($Y$1=1,($Y134-($Y134*COUNTIF($F134:F134,E134)/$P$1))*COUNTIF($T$36:$T$51,E134),COUNTIF($T$36:$T$51,E134)*$Y134) -> 0 | AB134: =IF($Y$1=1,($Y134-($Y134*COUNTIF($F134:M134,F134)/$P$1))*COUNTIF($T$36:$T$51,F134),COUNTIF($T$36:$T$51,F134)*$Y134) -> 0 | AC134: =IF($Y$1=1,($Y134-($Y134*COUNTIF($F134:N134,G134)/$P$1))*COUNTIF($T$36:$T$51,G134),COUNTIF($T$36:$T$51,G134)*$Y134) -> -2.5 | AD134: =IF($Y$1=1,($Y134-($Y134*COUNTIF($F134:O134,H134)/$P$1))*COUNTIF($T$36:$T$51,H134),COUNTIF($T$36:$T$51,H134)*$Y134) -> -2.5 | AE134: =IF($Y$1=1,($Y134-($Y134*COUNTIF($F134:P134,I134)/$P$1))*COUNTIF($T$36:$T$51,I134),COUNTIF($T$36:$T$51,I134)*$Y134) -> -2.5 | AF134: =IF($Y$1=1,($Y134-($Y134*COUNTIF($F134:Q134,J134)/$P$1))*COUNTIF($T$36:$T$51,J134),COUNTIF($T$36:$T$51,J134)*$Y134) -> -2.5 | AG134: =IF($Y$1=1,($Y134-($Y134*COUNTIF($F134:R134,K134)/$P$1))*COUNTIF($T$36:$T$51,K134),COUNTIF($T$36:$T$51,K134)*$Y134) -> -5 | AH134: =IF($Y$1=1,($Y134-($Y134*COUNTIF($F134:S134,L134)/$P$1))*COUNTIF($T$36:$T$51,L134),COUNTIF($T$36:$T$51,L134)*$Y134) -> -5 | AJ134: =$Y134-($Y134*COUNTIF($E134:$F134,N134)/$P$1)*COUNTIF($T$36:$T$51,N134) -> 15 | AL134: N32 | AW134: =CONCATENATE(AJ$1,"!",$AL134) -> Master!N32 | AY134: K16 | AZ134: K48 | BB134: =CONCATENATE(R$1,"!",$AY134) -> Master!K16 | BC134: =CONCATENATE(S$1,"!",$AZ134) -> Master!K48 | BD134: =CONCATENATE(T$1,"!",$AL134) -> Master!N32
B135: 9 | C135: W1 | D135: =D109 -> 1 DUKE | E135: #REF! | F135: 1 DUKE | G135: 1 DUKE | H135: 2 STAN | I135: 1 DUKE | J135: 1 DUKE | K135: 1 DUKE | L135: 1 DUKE | N135: =N109 -> 2 STAN | P135: =P109 -> 17.5 | Q135: =Q109 -> 15 | R135: =INDIRECT(BB135) -> 4 ISU | S135: =INDIRECT(BC135) -> 2 STAN | T135: =INDIRECT(BD135) -> 2 STAN | U135: =IF(R135=T135,S135,R135) -> 4 ISU | V135: =VLOOKUP(R135,$A$1:$B$64,2) -> 12 | W135: =VLOOKUP(S135,$A$1:$B$64,2) -> 10 | X135: 2.5 | Y135: 17.5 | AA135: =IF($Y$1=1,($Y135-($Y135*COUNTIF($F135:F135,E135)/$P$1))*COUNTIF($T$36:$T$51,E135),COUNTIF($T$36:$T$51,E135)*$Y135) -> 0 | AB135: =IF($Y$1=1,($Y135-($Y135*COUNTIF($F135:M135,F135)/$P$1))*COUNTIF($T$36:$T$51,F135),COUNTIF($T$36:$T$51,F135)*$Y135) -> 0 | AC135: =IF($Y$1=1,($Y135-($Y135*COUNTIF($F135:N135,G135)/$P$1))*COUNTIF($T$36:$T$51,G135),COUNTIF($T$36:$T$51,G135)*$Y135) -> 0 | AD135: =IF($Y$1=1,($Y135-($Y135*COUNTIF($F135:O135,H135)/$P$1))*COUNTIF($T$36:$T$51,H135),COUNTIF($T$36:$T$51,H135)*$Y135) -> 12.5 | AE135: =IF($Y$1=1,($Y135-($Y135*COUNTIF($F135:P135,I135)/$P$1))*COUNTIF($T$36:$T$51,I135),COUNTIF($T$36:$T$51,I135)*$Y135) -> 0 | AF135: =IF($Y$1=1,($Y135-($Y135*COUNTIF($F135:Q135,J135)/$P$1))*COUNTIF($T$36:$T$51,J135),COUNTIF($T$36:$T$51,J135)*$Y135) -> 0 | AG135: =IF($Y$1=1,($Y135-($Y135*COUNTIF($F135:R135,K135)/$P$1))*COUNTIF($T$36:$T$51,K135),COUNTIF($T$36:$T$51,K135)*$Y135) -> 0 | AH135: =IF($Y$1=1,($Y135-($Y135*COUNTIF($F135:S135,L135)/$P$1))*COUNTIF($T$36:$T$51,L135),COUNTIF($T$36:$T$51,L135)*$Y135) -> 0 | AJ135: =$Y135-($Y135*COUNTIF($E135:$F135,N135)/$P$1)*COUNTIF($T$36:$T$51,N135) -> 17.5 | AL135: N98 | AW135: =CONCATENATE(AJ$1,"!",$AL135) -> Master!N98 | AY135: K82 | AZ135: K114 | BB135: =CONCATENATE(R$1,"!",$AY135) -> Master!K82 | BC135: =CONCATENATE(S$1,"!",$AZ135) -> Master!K114 | BD135: =CONCATENATE(T$1,"!",$AL135) -> Master!N98
B136: 9 | C136: S1 | D136: =D110 -> 2 BAY | E136: #REF! | F136: 2 BAY | G136: 2 BAY | H136: 1 MD | I136: 1 MD | J136: 1 MD | K136: 1 MD | L136: 1 MD | N136: =N110 -> 3 UL | P136: =P110 -> 5 | Q136: =Q110 -> 17.5 | R136: =INDIRECT(BB136) -> 1 MD | S136: =INDIRECT(BC136) -> 3 UL | T136: =INDIRECT(BD136) -> 3 UL | U136: =IF(R136=T136,S136,R136) -> 1 MD | V136: =VLOOKUP(R136,$A$1:$B$64,2) -> 1 | W136: =VLOOKUP(S136,$A$1:$B$64,2) -> 11 | X136: 2.5 | Y136: 17.5 | AA136: =IF($Y$1=1,($Y136-($Y136*COUNTIF($F136:F136,E136)/$P$1))*COUNTIF($T$36:$T$51,E136),COUNTIF($T$36:$T$51,E136)*$Y136) -> 0 | AB136: =IF($Y$1=1,($Y136-($Y136*COUNTIF($F136:M136,F136)/$P$1))*COUNTIF($T$36:$T$51,F136),COUNTIF($T$36:$T$51,F136)*$Y136) -> 12.5 | AC136: =IF($Y$1=1,($Y136-($Y136*COUNTIF($F136:N136,G136)/$P$1))*COUNTIF($T$36:$T$51,G136),COUNTIF($T$36:$T$51,G136)*$Y136) -> 12.5 | AD136: =IF($Y$1=1,($Y136-($Y136*COUNTIF($F136:O136,H136)/$P$1))*COUNTIF($T$36:$T$51,H136),COUNTIF($T$36:$T$51,H136)*$Y136) -> 5 | AE136: =IF($Y$1=1,($Y136-($Y136*COUNTIF($F136:P136,I136)/$P$1))*COUNTIF($T$36:$T$51,I136),COUNTIF($T$36:$T$51,I136)*$Y136) -> 5 | AF136: =IF($Y$1=1,($Y136-($Y136*COUNTIF($F136:Q136,J136)/$P$1))*COUNTIF($T$36:$T$51,J136),COUNTIF($T$36:$T$51,J136)*$Y136) -> 5 | AG136: =IF($Y$1=1,($Y136-($Y136*COUNTIF($F136:R136,K136)/$P$1))*COUNTIF($T$36:$T$51,K136),COUNTIF($T$36:$T$51,K136)*$Y136) -> 2.5 | AH136: =IF($Y$1=1,($Y136-($Y136*COUNTIF($F136:S136,L136)/$P$1))*COUNTIF($T$36:$T$51,L136),COUNTIF($T$36:$T$51,L136)*$Y136) -> 2.5 | AJ136: =$Y136-($Y136*COUNTIF($E136:$F136,N136)/$P$1)*COUNTIF($T$36:$T$51,N136) -> 17.5 | AL136: T32 | AW136: =CONCATENATE(AJ$1,"!",$AL136) -> Master!T32 | AY136: W16 | AZ136: W48 | BB136: =CONCATENATE(R$1,"!",$AY136) -> Master!W16 | BC136: =CONCATENATE(S$1,"!",$AZ136) -> Master!W48 | BD136: =CONCATENATE(T$1,"!",$AL136) -> Master!T32
B137: 9 | C137: MW1 | D137: =D111 -> 1 OKLA | E137: #REF! | F137: 1 OKLA | G137: 2 AUB | H137: 2 AUB | I137: 1 OKLA | J137: 3 UNC | K137: 1 OKLA | L137: 3 UNC | N137: =N111 -> 1 OKLA | P137: =P111 -> 10 | Q137: =Q111 -> 17.5 | R137: =INDIRECT(BB137) -> 1 OKLA | S137: =INDIRECT(BC137) -> 6 PUR | T137: =INDIRECT(BD137) -> 1 OKLA | U137: =IF(R137=T137,S137,R137) -> 6 PUR | V137: =VLOOKUP(R137,$A$1:$B$64,2) -> 1 | W137: =VLOOKUP(S137,$A$1:$B$64,2) -> 14 | X137: 2.5 | Y137: 17.5 | AA137: =IF($Y$1=1,($Y137-($Y137*COUNTIF($F137:F137,E137)/$P$1))*COUNTIF($T$36:$T$51,E137),COUNTIF($T$36:$T$51,E137)*$Y137) -> 0 | AB137: =IF($Y$1=1,($Y137-($Y137*COUNTIF($F137:M137,F137)/$P$1))*COUNTIF($T$36:$T$51,F137),COUNTIF($T$36:$T$51,F137)*$Y137) -> 10 | AC137: =IF($Y$1=1,($Y137-($Y137*COUNTIF($F137:N137,G137)/$P$1))*COUNTIF($T$36:$T$51,G137),COUNTIF($T$36:$T$51,G137)*$Y137) -> 0 | AD137: =IF($Y$1=1,($Y137-($Y137*COUNTIF($F137:O137,H137)/$P$1))*COUNTIF($T$36:$T$51,H137),COUNTIF($T$36:$T$51,H137)*$Y137) -> 0 | AE137: =IF($Y$1=1,($Y137-($Y137*COUNTIF($F137:P137,I137)/$P$1))*COUNTIF($T$36:$T$51,I137),COUNTIF($T$36:$T$51,I137)*$Y137) -> 7.5 | AF137: =IF($Y$1=1,($Y137-($Y137*COUNTIF($F137:Q137,J137)/$P$1))*COUNTIF($T$36:$T$51,J137),COUNTIF($T$36:$T$51,J137)*$Y137) -> 0 | AG137: =IF($Y$1=1,($Y137-($Y137*COUNTIF($F137:R137,K137)/$P$1))*COUNTIF($T$36:$T$51,K137),COUNTIF($T$36:$T$51,K137)*$Y137) -> 5 | AH137: =IF($Y$1=1,($Y137-($Y137*COUNTIF($F137:S137,L137)/$P$1))*COUNTIF($T$36:$T$51,L137),COUNTIF($T$36:$T$51,L137)*$Y137) -> 0 | AJ137: =$Y137-($Y137*COUNTIF($E137:$F137,N137)/$P$1)*COUNTIF($T$36:$T$51,N137) -> 15 | AL137: T98 | AW137: =CONCATENATE(AJ$1,"!",$AL137) -> Master!T98 | AY137: W82 | AZ137: W114 | BB137: =CONCATENATE(R$1,"!",$AY137) -> Master!W82 | BC137: =CONCATENATE(S$1,"!",$AZ137) -> Master!W114 | BD137: =CONCATENATE(T$1,"!",$AL137) -> Master!T98
B138: 9 | C138: EW1 | D138: =D112 -> 1 CONN | E138: #REF! | F138: 1 CONN | G138: 1 CONN | H138: 1 CONN | I138: 1 CONN | J138: 1 CONN | K138: 1 CONN | L138: 1 CONN | N138: =N112 -> 1 CONN | P138: =P112 -> 0 | Q138: =Q112 -> 21 | R138: =INDIRECT(BB138) -> 1 CONN | S138: =INDIRECT(BC138) -> 2 STAN | T138: =INDIRECT(BD138) -> 1 CONN | U138: =IF(R138=T138,S138,R138) -> 2 STAN | V138: =VLOOKUP(R138,$A$1:$B$64,2) -> 1 | W138: =VLOOKUP(S138,$A$1:$B$64,2) -> 10 | X138: 3 | Y138: 21 | AA138: =IF($Y$1=1,($Y138-($Y138*COUNTIF($F138:F138,E138)/$P$1))*COUNTIF($T$36:$T$51,E138),COUNTIF($T$36:$T$51,E138)*$Y138) -> 0 | AB138: =IF($Y$1=1,($Y138-($Y138*COUNTIF($F138:M138,F138)/$P$1))*COUNTIF($T$36:$T$51,F138),COUNTIF($T$36:$T$51,F138)*$Y138) -> 0 | AC138: =IF($Y$1=1,($Y138-($Y138*COUNTIF($F138:N138,G138)/$P$1))*COUNTIF($T$36:$T$51,G138),COUNTIF($T$36:$T$51,G138)*$Y138) -> -3 | AD138: =IF($Y$1=1,($Y138-($Y138*COUNTIF($F138:O138,H138)/$P$1))*COUNTIF($T$36:$T$51,H138),COUNTIF($T$36:$T$51,H138)*$Y138) -> -3 | AE138: =IF($Y$1=1,($Y138-($Y138*COUNTIF($F138:P138,I138)/$P$1))*COUNTIF($T$36:$T$51,I138),COUNTIF($T$36:$T$51,I138)*$Y138) -> -3 | AF138: =IF($Y$1=1,($Y138-($Y138*COUNTIF($F138:Q138,J138)/$P$1))*COUNTIF($T$36:$T$51,J138),COUNTIF($T$36:$T$51,J138)*$Y138) -> -3 | AG138: =IF($Y$1=1,($Y138-($Y138*COUNTIF($F138:R138,K138)/$P$1))*COUNTIF($T$36:$T$51,K138),COUNTIF($T$36:$T$51,K138)*$Y138) -> -6 | AH138: =IF($Y$1=1,($Y138-($Y138*COUNTIF($F138:S138,L138)/$P$1))*COUNTIF($T$36:$T$51,L138),COUNTIF($T$36:$T$51,L138)*$Y138) -> -6 | AJ138: =$Y138-($Y138*COUNTIF($E138:$F138,N138)/$P$1)*COUNTIF($T$36:$T$51,N138) -> 18 | AL138: Q48 | AW138: =CONCATENATE(AJ$1,"!",$AL138) -> Master!Q48 | AY138: N32 | AZ138: N98 | BB138: =CONCATENATE(R$1,"!",$AY138) -> Master!N32 | BC138: =CONCATENATE(S$1,"!",$AZ138) -> Master!N98 | BD138: =CONCATENATE(T$1,"!",$AL138) -> Master!Q48
C139: SMW1 | D139: =D113 -> 1 OKLA | E139: #REF! | F139: 1 OKLA | G139: 2 AUB | H139: 1 MD | I139: 1 MD | J139: 1 MD | K139: 1 MD | L139: 1 MD | N139: =N113 -> 3 UL | P139: =P113 -> 21 | Q139: =Q113 -> 18 | R139: =INDIRECT(BB139) -> 3 UL | S139: =INDIRECT(BC139) -> 1 OKLA | T139: =INDIRECT(BD139) -> 3 UL | U139: =IF(R139=T139,S139,R139) -> 1 OKLA | V139: =VLOOKUP(R139,$A$1:$B$64,2) -> 11 | W139: =VLOOKUP(S139,$A$1:$B$64,2) -> 1 | X139: 3 | Y139: 21 | AA139: =IF($Y$1=1,($Y139-($Y139*COUNTIF($F139:F139,E139)/$P$1))*COUNTIF($T$36:$T$51,E139),COUNTIF($T$36:$T$51,E139)*$Y139) -> 0 | AB139: =IF($Y$1=1,($Y139-($Y139*COUNTIF($F139:M139,F139)/$P$1))*COUNTIF($T$36:$T$51,F139),COUNTIF($T$36:$T$51,F139)*$Y139) -> 18 | AC139: =IF($Y$1=1,($Y139-($Y139*COUNTIF($F139:N139,G139)/$P$1))*COUNTIF($T$36:$T$51,G139),COUNTIF($T$36:$T$51,G139)*$Y139) -> 0 | AD139: =IF($Y$1=1,($Y139-($Y139*COUNTIF($F139:O139,H139)/$P$1))*COUNTIF($T$36:$T$51,H139),COUNTIF($T$36:$T$51,H139)*$Y139) -> 6 | AE139: =IF($Y$1=1,($Y139-($Y139*COUNTIF($F139:P139,I139)/$P$1))*COUNTIF($T$36:$T$51,I139),COUNTIF($T$36:$T$51,I139)*$Y139) -> 6 | AF139: =IF($Y$1=1,($Y139-($Y139*COUNTIF($F139:Q139,J139)/$P$1))*COUNTIF($T$36:$T$51,J139),COUNTIF($T$36:$T$51,J139)*$Y139) -> 6 | AG139: =IF($Y$1=1,($Y139-($Y139*COUNTIF($F139:R139,K139)/$P$1))*COUNTIF($T$36:$T$51,K139),COUNTIF($T$36:$T$51,K139)*$Y139) -> 6 | AH139: =IF($Y$1=1,($Y139-($Y139*COUNTIF($F139:S139,L139)/$P$1))*COUNTIF($T$36:$T$51,L139),COUNTIF($T$36:$T$51,L139)*$Y139) -> 6 | AJ139: =$Y139-($Y139*COUNTIF($E139:$F139,N139)/$P$1)*COUNTIF($T$36:$T$51,N139) -> 21 | AL139: Q82 | AW139: =CONCATENATE(AJ$1,"!",$AL139) -> Master!Q82 | AY139: T32 | AZ139: T98 | BB139: =CONCATENATE(R$1,"!",$AY139) -> Master!T32 | BC139: =CONCATENATE(S$1,"!",$AZ139) -> Master!T98 | BD139: =CONCATENATE(T$1,"!",$AL139) -> Master!Q82
C140: FINAL | D140: =D114 -> 1 CONN | E140: #REF! | F140: 1 CONN | G140: 1 CONN | H140: 1 MD | I140: 1 CONN | J140: 1 CONN | K140: 1 CONN | L140: 1 CONN | N140: =N114 -> 0 | P140: =P114 -> 3.5 | Q140: =Q114 -> 24.5 | R140: =INDIRECT(BB140) -> 1 CONN | S140: =INDIRECT(BC140) -> 3 UL | T140: =INDIRECT(BD140) -> 0 | U140: =IF(R140=T140,S140,R140) -> 1 CONN | V140: =VLOOKUP(R140,$A$1:$B$64,2) -> 1 | W140: =VLOOKUP(S140,$A$1:$B$64,2) -> 11 | X140: 3.5 | Y140: 24.5 | AA140: =IF($Y$1=1,($Y140-($Y140*COUNTIF($F140:F140,E140)/$P$1))*COUNTIF($T$36:$T$51,E140),COUNTIF($T$36:$T$51,E140)*$Y140) -> 0 | AB140: =IF($Y$1=1,($Y140-($Y140*COUNTIF($F140:M140,F140)/$P$1))*COUNTIF($T$36:$T$51,F140),COUNTIF($T$36:$T$51,F140)*$Y140) -> 3.5 | AC140: =IF($Y$1=1,($Y140-($Y140*COUNTIF($F140:N140,G140)/$P$1))*COUNTIF($T$36:$T$51,G140),COUNTIF($T$36:$T$51,G140)*$Y140) -> 3.5 | AD140: =IF($Y$1=1,($Y140-($Y140*COUNTIF($F140:O140,H140)/$P$1))*COUNTIF($T$36:$T$51,H140),COUNTIF($T$36:$T$51,H140)*$Y140) -> 21 | AE140: =IF($Y$1=1,($Y140-($Y140*COUNTIF($F140:P140,I140)/$P$1))*COUNTIF($T$36:$T$51,I140),COUNTIF($T$36:$T$51,I140)*$Y140) -> 3.5 | AF140: =IF($Y$1=1,($Y140-($Y140*COUNTIF($F140:Q140,J140)/$P$1))*COUNTIF($T$36:$T$51,J140),COUNTIF($T$36:$T$51,J140)*$Y140) -> 3.5 | AG140: =IF($Y$1=1,($Y140-($Y140*COUNTIF($F140:R140,K140)/$P$1))*COUNTIF($T$36:$T$51,K140),COUNTIF($T$36:$T$51,K140)*$Y140) -> 0 | AH140: =IF($Y$1=1,($Y140-($Y140*COUNTIF($F140:S140,L140)/$P$1))*COUNTIF($T$36:$T$51,L140),COUNTIF($T$36:$T$51,L140)*$Y140) -> 0 | AJ140: =$Y140-($Y140*COUNTIF($E140:$F140,N140)/$P$1)*COUNTIF($T$36:$T$51,N140) -> 24.5 | AL140: Q64 | AW140: =CONCATENATE(AJ$1,"!",$AL140) -> Master!Q64 | AY140: Q48 | AZ140: Q82 | BB140: =CONCATENATE(R$1,"!",$AY140) -> Master!Q48 | BC140: =CONCATENATE(S$1,"!",$AZ140) -> Master!Q82 | BD140: =CONCATENATE(T$1,"!",$AL140) -> Master!Q64
Y141: Totals | AA141: =SUM(AA126:AA140) -> 0 | AB141: =SUM(AB126:AB140) -> 62 | AC141: =SUM(AC126:AC140) -> 6.5 | AD141: =SUM(AD126:AD140) -> 33 | AE141: =SUM(AE126:AE140) -> 12.5 | AF141: =SUM(AF126:AF140) -> 3 | AG141: =SUM(AG126:AG140) -> -13.5 | AH141: =SUM(AH126:AH140) -> -18.5 | AJ141: =SUM(AJ126:AJ140) -> 230.5
Y142: Round 3 | AA142: =SUM(AA126:AA133) -> 0 | AB142: =SUM(AB126:AB133) -> 18 | AC142: =SUM(AC126:AC133) -> -4 | AD142: =SUM(AD126:AD133) -> -6 | AE142: =SUM(AE126:AE133) -> -4 | AF142: =SUM(AF126:AF133) -> -6 | AG142: =SUM(AG126:AG133) -> -16 | AH142: =SUM(AH126:AH133) -> -16 | AJ142: =SUM(AJ126:AJ133) -> 102
Y143: Round 4 | AA143: =SUM(AA134:AA137) -> 0 | AB143: =SUM(AB134:AB137) -> 22.5 | AC143: =SUM(AC134:AC137) -> 10 | AD143: =SUM(AD134:AD137) -> 15 | AE143: =SUM(AE134:AE137) -> 10 | AF143: =SUM(AF134:AF137) -> 2.5 | AG143: =SUM(AG134:AG137) -> 2.5 | AH143: =SUM(AH134:AH137) -> -2.5 | AJ143: =SUM(AJ134:AJ137) -> 65
Y144: Round 5 | AA144: =SUM(AA138:AA139) -> 0 | AB144: =SUM(AB138:AB139) -> 18 | AC144: =SUM(AC138:AC139) -> -3 | AD144: =SUM(AD138:AD139) -> 3 | AE144: =SUM(AE138:AE139) -> 3 | AF144: =SUM(AF138:AF139) -> 3 | AG144: =SUM(AG138:AG139) -> 0 | AH144: =SUM(AH138:AH139) -> 0 | AJ144: =SUM(AJ138:AJ139) -> 39
Y145: Round 6 | AA145: =AA140 -> 0 | AB145: =AB140 -> 3.5 | AC145: =AC140 -> 3.5 | AD145: =AD140 -> 21 | AE145: =AE140 -> 3.5 | AF145: =AF140 -> 3.5 | AG145: =AG140 -> 0 | AH145: =AH140 -> 0 | AJ145: =AJ140 -> 24.5
B149: 1 | C149: Round 4 | AA149: =AA124 -> HiSeeds | AB149: =AB124 -> AnthonyP | AC149: =AC124 -> ChrisR | AD149: =AD124 -> EricP | AE149: =AE124 -> JoeG | AF149: =AF124 -> JohnP | AG149: =AG124 -> JoshF | AH149: =AH124 -> ScottP | AJ149: Best Possible
B150: 1 | C150: Player | D150: Insert3 | E150: 0 | F150: 1 | G150: 2 | H150: 3 | I150: 4 | J150: 5 | K150: 6 | L150: 7 | N150: =N125 -> 7 | P150: Favorite | Q150: Underdog | R150: Player1 | S150: Player2 | T150: Winner | U150: Loser | V150: SeedFav | W150: SeedUdr | Z150: Insert1 | AA150: =#REF!+1 -> #REF! | AB150: =#REF!+1 -> #REF! | AC150: =#REF!+1 -> #REF! | AD150: =#REF!+1 -> #REF! | AE150: =#REF!+1 -> #REF! | AF150: =#REF!+1 -> #REF! | AG150: =#REF!+1 -> #REF! | AH150: =#REF!+1 -> #REF! | AJ150: 0 | BB150: Player 1 | BC150: Player 2
B151: 8 | C151: E1 | D151: =D134 -> 1 CONN | E151: #REF! | F151: 1 CONN | G151: 1 CONN | H151: 1 CONN | I151: 1 CONN | J151: 1 CONN | K151: 1 CONN | L151: 1 CONN | N151: =N134 -> 1 CONN | P151: =P134 -> 0 | Q151: =Q134 -> 17.5 | R151: =INDIRECT(BB151) -> 1 CONN | S151: =INDIRECT(BC151) -> 2 A&M | T151: =INDIRECT(BD151) -> 1 CONN | U151: =IF(R151=T151,S151,R151) -> 2 A&M | V151: =VLOOKUP(R151,$A$1:$B$64,2) -> 1 | W151: =VLOOKUP(S151,$A$1:$B$64,2) -> 10 | X151: 2.5 | Y151: 17.5 | AA151: =IF($Y$1=1,($Y151-($Y151*COUNTIF($F151:F151,E151)/$P$1))*COUNTIF($T$52:$T$59,E151),COUNTIF($T$52:$T$59,E151)*$Y151) -> 0 | AB151: =IF($Y$1=1,($Y151-($Y151*COUNTIF($F151:M151,F151)/$P$1))*COUNTIF($T$52:$T$59,F151),COUNTIF($T$52:$T$59,F151)*$Y151) -> 0 | AC151: =IF($Y$1=1,($Y151-($Y151*COUNTIF($F151:N151,G151)/$P$1))*COUNTIF($T$52:$T$59,G151),COUNTIF($T$52:$T$59,G151)*$Y151) -> -2.5 | AD151: =IF($Y$1=1,($Y151-($Y151*COUNTIF($F151:O151,H151)/$P$1))*COUNTIF($T$52:$T$59,H151),COUNTIF($T$52:$T$59,H151)*$Y151) -> -2.5 | AE151: =IF($Y$1=1,($Y151-($Y151*COUNTIF($F151:P151,I151)/$P$1))*COUNTIF($T$52:$T$59,I151),COUNTIF($T$52:$T$59,I151)*$Y151) -> -2.5 | AF151: =IF($Y$1=1,($Y151-($Y151*COUNTIF($F151:Q151,J151)/$P$1))*COUNTIF($T$52:$T$59,J151),COUNTIF($T$52:$T$59,J151)*$Y151) -> -2.5 | AG151: =IF($Y$1=1,($Y151-($Y151*COUNTIF($F151:R151,K151)/$P$1))*COUNTIF($T$52:$T$59,K151),COUNTIF($T$52:$T$59,K151)*$Y151) -> -5 | AH151: =IF($Y$1=1,($Y151-($Y151*COUNTIF($F151:S151,L151)/$P$1))*COUNTIF($T$52:$T$59,L151),COUNTIF($T$52:$T$59,L151)*$Y151) -> -5 | AJ151: =$Y151-($Y151*COUNTIF($E151:$F151,N151)/$P$1)*COUNTIF($T$52:$T$59,N151) -> 15 | AL151: N32 | AW151: =CONCATENATE(AJ$1,"!",$AL151) -> Master!N32 | AY151: K16 | AZ151: K48 | BB151: =CONCATENATE(R$1,"!",$AY151) -> Master!K16 | BC151: =CONCATENATE(S$1,"!",$AZ151) -> Master!K48 | BD151: =CONCATENATE(T$1,"!",$AL151) -> Master!N32
B152: 9 | C152: W1 | D152: =D135 -> 1 DUKE | E152: #REF! | F152: 1 DUKE | G152: 1 DUKE | H152: 2 STAN | I152: 1 DUKE | J152: 1 DUKE | K152: 1 DUKE | L152: 1 DUKE | N152: =N135 -> 2 STAN | P152: =P135 -> 17.5 | Q152: =Q135 -> 15 | R152: =INDIRECT(BB152) -> 4 ISU | S152: =INDIRECT(BC152) -> 2 STAN | T152: =INDIRECT(BD152) -> 2 STAN | U152: =IF(R152=T152,S152,R152) -> 4 ISU | V152: =VLOOKUP(R152,$A$1:$B$64,2) -> 12 | W152: =VLOOKUP(S152,$A$1:$B$64,2) -> 10 | X152: 2.5 | Y152: 17.5 | AA152: =IF($Y$1=1,($Y152-($Y152*COUNTIF($F152:F152,E152)/$P$1))*COUNTIF($T$52:$T$59,E152),COUNTIF($T$52:$T$59,E152)*$Y152) -> 0 | AB152: =IF($Y$1=1,($Y152-($Y152*COUNTIF($F152:M152,F152)/$P$1))*COUNTIF($T$52:$T$59,F152),COUNTIF($T$52:$T$59,F152)*$Y152) -> 0 | AC152: =IF($Y$1=1,($Y152-($Y152*COUNTIF($F152:N152,G152)/$P$1))*COUNTIF($T$52:$T$59,G152),COUNTIF($T$52:$T$59,G152)*$Y152) -> 0 | AD152: =IF($Y$1=1,($Y152-($Y152*COUNTIF($F152:O152,H152)/$P$1))*COUNTIF($T$52:$T$59,H152),COUNTIF($T$52:$T$59,H152)*$Y152) -> 12.5 | AE152: =IF($Y$1=1,($Y152-($Y152*COUNTIF($F152:P152,I152)/$P$1))*COUNTIF($T$52:$T$59,I152),COUNTIF($T$52:$T$59,I152)*$Y152) -> 0 | AF152: =IF($Y$1=1,($Y152-($Y152*COUNTIF($F152:Q152,J152)/$P$1))*COUNTIF($T$52:$T$59,J152),COUNTIF($T$52:$T$59,J152)*$Y152) -> 0 | AG152: =IF($Y$1=1,($Y152-($Y152*COUNTIF($F152:R152,K152)/$P$1))*COUNTIF($T$52:$T$59,K152),COUNTIF($T$52:$T$59,K152)*$Y152) -> 0 | AH152: =IF($Y$1=1,($Y152-($Y152*COUNTIF($F152:S152,L152)/$P$1))*COUNTIF($T$52:$T$59,L152),COUNTIF($T$52:$T$59,L152)*$Y152) -> 0 | AJ152: =$Y152-($Y152*COUNTIF($E152:$F152,N152)/$P$1)*COUNTIF($T$52:$T$59,N152) -> 17.5 | AL152: N98 | AW152: =CONCATENATE(AJ$1,"!",$AL152) -> Master!N98 | AY152: K82 | AZ152: K114 | BB152: =CONCATENATE(R$1,"!",$AY152) -> Master!K82 | BC152: =CONCATENATE(S$1,"!",$AZ152) -> Master!K114 | BD152: =CONCATENATE(T$1,"!",$AL152) -> Master!N98
B153: 9 | C153: S1 | D153: =D136 -> 2 BAY | E153: #REF! | F153: 2 BAY | G153: 2 BAY | H153: 1 MD | I153: 1 MD | J153: 1 MD | K153: 1 MD | L153: 1 MD | N153: =N136 -> 3 UL | P153: =P136 -> 5 | Q153: =Q136 -> 17.5 | R153: =INDIRECT(BB153) -> 1 MD | S153: =INDIRECT(BC153) -> 3 UL | T153: =INDIRECT(BD153) -> 3 UL | U153: =IF(R153=T153,S153,R153) -> 1 MD | V153: =VLOOKUP(R153,$A$1:$B$64,2) -> 1 | W153: =VLOOKUP(S153,$A$1:$B$64,2) -> 11 | X153: 2.5 | Y153: 17.5 | AA153: =IF($Y$1=1,($Y153-($Y153*COUNTIF($F153:F153,E153)/$P$1))*COUNTIF($T$52:$T$59,E153),COUNTIF($T$52:$T$59,E153)*$Y153) -> 0 | AB153: =IF($Y$1=1,($Y153-($Y153*COUNTIF($F153:M153,F153)/$P$1))*COUNTIF($T$52:$T$59,F153),COUNTIF($T$52:$T$59,F153)*$Y153) -> 0 | AC153: =IF($Y$1=1,($Y153-($Y153*COUNTIF($F153:N153,G153)/$P$1))*COUNTIF($T$52:$T$59,G153),COUNTIF($T$52:$T$59,G153)*$Y153) -> 0 | AD153: =IF($Y$1=1,($Y153-($Y153*COUNTIF($F153:O153,H153)/$P$1))*COUNTIF($T$52:$T$59,H153),COUNTIF($T$52:$T$59,H153)*$Y153) -> 5 | AE153: =IF($Y$1=1,($Y153-($Y153*COUNTIF($F153:P153,I153)/$P$1))*COUNTIF($T$52:$T$59,I153),COUNTIF($T$52:$T$59,I153)*$Y153) -> 5 | AF153: =IF($Y$1=1,($Y153-($Y153*COUNTIF($F153:Q153,J153)/$P$1))*COUNTIF($T$52:$T$59,J153),COUNTIF($T$52:$T$59,J153)*$Y153) -> 5 | AG153: =IF($Y$1=1,($Y153-($Y153*COUNTIF($F153:R153,K153)/$P$1))*COUNTIF($T$52:$T$59,K153),COUNTIF($T$52:$T$59,K153)*$Y153) -> 2.5 | AH153: =IF($Y$1=1,($Y153-($Y153*COUNTIF($F153:S153,L153)/$P$1))*COUNTIF($T$52:$T$59,L153),COUNTIF($T$52:$T$59,L153)*$Y153) -> 2.5 | AJ153: =$Y153-($Y153*COUNTIF($E153:$F153,N153)/$P$1)*COUNTIF($T$52:$T$59,N153) -> 17.5 | AL153: T32 | AW153: =CONCATENATE(AJ$1,"!",$AL153) -> Master!T32 | AY153: W16 | AZ153: W48 | BB153: =CONCATENATE(R$1,"!",$AY153) -> Master!W16 | BC153: =CONCATENATE(S$1,"!",$AZ153) -> Master!W48 | BD153: =CONCATENATE(T$1,"!",$AL153) -> Master!T32
B154: 9 | C154: MW1 | D154: =D137 -> 1 OKLA | E154: #REF! | F154: 1 OKLA | G154: 2 AUB | H154: 2 AUB | I154: 1 OKLA | J154: 3 UNC | K154: 1 OKLA | L154: 3 UNC | N154: =N137 -> 1 OKLA | P154: =P137 -> 10 | Q154: =Q137 -> 17.5 | R154: =INDIRECT(BB154) -> 1 OKLA | S154: =INDIRECT(BC154) -> 6 PUR | T154: =INDIRECT(BD154) -> 1 OKLA | U154: =IF(R154=T154,S154,R154) -> 6 PUR | V154: =VLOOKUP(R154,$A$1:$B$64,2) -> 1 | W154: =VLOOKUP(S154,$A$1:$B$64,2) -> 14 | X154: 2.5 | Y154: 17.5 | AA154: =IF($Y$1=1,($Y154-($Y154*COUNTIF($F154:F154,E154)/$P$1))*COUNTIF($T$52:$T$59,E154),COUNTIF($T$52:$T$59,E154)*$Y154) -> 0 | AB154: =IF($Y$1=1,($Y154-($Y154*COUNTIF($F154:M154,F154)/$P$1))*COUNTIF($T$52:$T$59,F154),COUNTIF($T$52:$T$59,F154)*$Y154) -> 10 | AC154: =IF($Y$1=1,($Y154-($Y154*COUNTIF($F154:N154,G154)/$P$1))*COUNTIF($T$52:$T$59,G154),COUNTIF($T$52:$T$59,G154)*$Y154) -> 0 | AD154: =IF($Y$1=1,($Y154-($Y154*COUNTIF($F154:O154,H154)/$P$1))*COUNTIF($T$52:$T$59,H154),COUNTIF($T$52:$T$59,H154)*$Y154) -> 0 | AE154: =IF($Y$1=1,($Y154-($Y154*COUNTIF($F154:P154,I154)/$P$1))*COUNTIF($T$52:$T$59,I154),COUNTIF($T$52:$T$59,I154)*$Y154) -> 7.5 | AF154: =IF($Y$1=1,($Y154-($Y154*COUNTIF($F154:Q154,J154)/$P$1))*COUNTIF($T$52:$T$59,J154),COUNTIF($T$52:$T$59,J154)*$Y154) -> 0 | AG154: =IF($Y$1=1,($Y154-($Y154*COUNTIF($F154:R154,K154)/$P$1))*COUNTIF($T$52:$T$59,K154),COUNTIF($T$52:$T$59,K154)*$Y154) -> 5 | AH154: =IF($Y$1=1,($Y154-($Y154*COUNTIF($F154:S154,L154)/$P$1))*COUNTIF($T$52:$T$59,L154),COUNTIF($T$52:$T$59,L154)*$Y154) -> 0 | AJ154: =$Y154-($Y154*COUNTIF($E154:$F154,N154)/$P$1)*COUNTIF($T$52:$T$59,N154) -> 15 | AL154: T98 | AW154: =CONCATENATE(AJ$1,"!",$AL154) -> Master!T98 | AY154: W82 | AZ154: W114 | BB154: =CONCATENATE(R$1,"!",$AY154) -> Master!W82 | BC154: =CONCATENATE(S$1,"!",$AZ154) -> Master!W114 | BD154: =CONCATENATE(T$1,"!",$AL154) -> Master!T98
B155: 9 | C155: EW1 | D155: =D138 -> 1 CONN | E155: #REF! | F155: 1 CONN | G155: 1 CONN | H155: 1 CONN | I155: 1 CONN | J155: 1 CONN | K155: 1 CONN | L155: 1 CONN | N155: =N138 -> 1 CONN | P155: =P138 -> 0 | Q155: =Q138 -> 21 | R155: =INDIRECT(BB155) -> 1 CONN | S155: =INDIRECT(BC155) -> 2 STAN | T155: =INDIRECT(BD155) -> 1 CONN | U155: =IF(R155=T155,S155,R155) -> 2 STAN | V155: =VLOOKUP(R155,$A$1:$B$64,2) -> 1 | W155: =VLOOKUP(S155,$A$1:$B$64,2) -> 10 | X155: 3 | Y155: 21 | AA155: =IF($Y$1=1,($Y155-($Y155*COUNTIF($F155:F155,E155)/$P$1))*COUNTIF($T$52:$T$59,E155),COUNTIF($T$52:$T$59,E155)*$Y155) -> 0 | AB155: =IF($Y$1=1,($Y155-($Y155*COUNTIF($F155:M155,F155)/$P$1))*COUNTIF($T$52:$T$59,F155),COUNTIF($T$52:$T$59,F155)*$Y155) -> 0 | AC155: =IF($Y$1=1,($Y155-($Y155*COUNTIF($F155:N155,G155)/$P$1))*COUNTIF($T$52:$T$59,G155),COUNTIF($T$52:$T$59,G155)*$Y155) -> -3 | AD155: =IF($Y$1=1,($Y155-($Y155*COUNTIF($F155:O155,H155)/$P$1))*COUNTIF($T$52:$T$59,H155),COUNTIF($T$52:$T$59,H155)*$Y155) -> -3 | AE155: =IF($Y$1=1,($Y155-($Y155*COUNTIF($F155:P155,I155)/$P$1))*COUNTIF($T$52:$T$59,I155),COUNTIF($T$52:$T$59,I155)*$Y155) -> -3 | AF155: =IF($Y$1=1,($Y155-($Y155*COUNTIF($F155:Q155,J155)/$P$1))*COUNTIF($T$52:$T$59,J155),COUNTIF($T$52:$T$59,J155)*$Y155) -> -3 | AG155: =IF($Y$1=1,($Y155-($Y155*COUNTIF($F155:R155,K155)/$P$1))*COUNTIF($T$52:$T$59,K155),COUNTIF($T$52:$T$59,K155)*$Y155) -> -6 | AH155: =IF($Y$1=1,($Y155-($Y155*COUNTIF($F155:S155,L155)/$P$1))*COUNTIF($T$52:$T$59,L155),COUNTIF($T$52:$T$59,L155)*$Y155) -> -6 | AJ155: =$Y155-($Y155*COUNTIF($E155:$F155,N155)/$P$1)*COUNTIF($T$52:$T$59,N155) -> 18 | AL155: Q48 | AW155: =CONCATENATE(AJ$1,"!",$AL155) -> Master!Q48 | AY155: N32 | AZ155: N98 | BB155: =CONCATENATE(R$1,"!",$AY155) -> Master!N32 | BC155: =CONCATENATE(S$1,"!",$AZ155) -> Master!N98 | BD155: =CONCATENATE(T$1,"!",$AL155) -> Master!Q48
C156: SMW1 | D156: =D139 -> 1 OKLA | E156: #REF! | F156: 1 OKLA | G156: 2 AUB | H156: 1 MD | I156: 1 MD | J156: 1 MD | K156: 1 MD | L156: 1 MD | N156: =N139 -> 3 UL | P156: =P139 -> 21 | Q156: =Q139 -> 18 | R156: =INDIRECT(BB156) -> 3 UL | S156: =INDIRECT(BC156) -> 1 OKLA | T156: =INDIRECT(BD156) -> 3 UL | U156: =IF(R156=T156,S156,R156) -> 1 OKLA | V156: =VLOOKUP(R156,$A$1:$B$64,2) -> 11 | W156: =VLOOKUP(S156,$A$1:$B$64,2) -> 1 | X156: 3 | Y156: 21 | AA156: =IF($Y$1=1,($Y156-($Y156*COUNTIF($F156:F156,E156)/$P$1))*COUNTIF($T$52:$T$59,E156),COUNTIF($T$52:$T$59,E156)*$Y156) -> 0 | AB156: =IF($Y$1=1,($Y156-($Y156*COUNTIF($F156:M156,F156)/$P$1))*COUNTIF($T$52:$T$59,F156),COUNTIF($T$52:$T$59,F156)*$Y156) -> 18 | AC156: =IF($Y$1=1,($Y156-($Y156*COUNTIF($F156:N156,G156)/$P$1))*COUNTIF($T$52:$T$59,G156),COUNTIF($T$52:$T$59,G156)*$Y156) -> 0 | AD156: =IF($Y$1=1,($Y156-($Y156*COUNTIF($F156:O156,H156)/$P$1))*COUNTIF($T$52:$T$59,H156),COUNTIF($T$52:$T$59,H156)*$Y156) -> 6 | AE156: =IF($Y$1=1,($Y156-($Y156*COUNTIF($F156:P156,I156)/$P$1))*COUNTIF($T$52:$T$59,I156),COUNTIF($T$52:$T$59,I156)*$Y156) -> 6 | AF156: =IF($Y$1=1,($Y156-($Y156*COUNTIF($F156:Q156,J156)/$P$1))*COUNTIF($T$52:$T$59,J156),COUNTIF($T$52:$T$59,J156)*$Y156) -> 6 | AG156: =IF($Y$1=1,($Y156-($Y156*COUNTIF($F156:R156,K156)/$P$1))*COUNTIF($T$52:$T$59,K156),COUNTIF($T$52:$T$59,K156)*$Y156) -> 6 | AH156: =IF($Y$1=1,($Y156-($Y156*COUNTIF($F156:S156,L156)/$P$1))*COUNTIF($T$52:$T$59,L156),COUNTIF($T$52:$T$59,L156)*$Y156) -> 6 | AJ156: =$Y156-($Y156*COUNTIF($E156:$F156,N156)/$P$1)*COUNTIF($T$52:$T$59,N156) -> 21 | AL156: Q82 | AW156: =CONCATENATE(AJ$1,"!",$AL156) -> Master!Q82 | AY156: T32 | AZ156: T98 | BB156: =CONCATENATE(R$1,"!",$AY156) -> Master!T32 | BC156: =CONCATENATE(S$1,"!",$AZ156) -> Master!T98 | BD156: =CONCATENATE(T$1,"!",$AL156) -> Master!Q82
C157: FINAL | D157: =D140 -> 1 CONN | E157: #REF! | F157: 1 CONN | G157: 1 CONN | H157: 1 MD | I157: 1 CONN | J157: 1 CONN | K157: 1 CONN | L157: 1 CONN | N157: =N140 -> 0 | P157: =P140 -> 3.5 | Q157: =Q140 -> 24.5 | R157: =INDIRECT(BB157) -> 1 CONN | S157: =INDIRECT(BC157) -> 3 UL | T157: =INDIRECT(BD157) -> 0 | U157: =IF(R157=T157,S157,R157) -> 1 CONN | V157: =VLOOKUP(R157,$A$1:$B$64,2) -> 1 | W157: =VLOOKUP(S157,$A$1:$B$64,2) -> 11 | X157: 3.5 | Y157: 24.5 | AA157: =IF($Y$1=1,($Y157-($Y157*COUNTIF($F157:F157,E157)/$P$1))*COUNTIF($T$52:$T$59,E157),COUNTIF($T$52:$T$59,E157)*$Y157) -> 0 | AB157: =IF($Y$1=1,($Y157-($Y157*COUNTIF($F157:M157,F157)/$P$1))*COUNTIF($T$52:$T$59,F157),COUNTIF($T$52:$T$59,F157)*$Y157) -> 3.5 | AC157: =IF($Y$1=1,($Y157-($Y157*COUNTIF($F157:N157,G157)/$P$1))*COUNTIF($T$52:$T$59,G157),COUNTIF($T$52:$T$59,G157)*$Y157) -> 3.5 | AD157: =IF($Y$1=1,($Y157-($Y157*COUNTIF($F157:O157,H157)/$P$1))*COUNTIF($T$52:$T$59,H157),COUNTIF($T$52:$T$59,H157)*$Y157) -> 21 | AE157: =IF($Y$1=1,($Y157-($Y157*COUNTIF($F157:P157,I157)/$P$1))*COUNTIF($T$52:$T$59,I157),COUNTIF($T$52:$T$59,I157)*$Y157) -> 3.5 | AF157: =IF($Y$1=1,($Y157-($Y157*COUNTIF($F157:Q157,J157)/$P$1))*COUNTIF($T$52:$T$59,J157),COUNTIF($T$52:$T$59,J157)*$Y157) -> 3.5 | AG157: =IF($Y$1=1,($Y157-($Y157*COUNTIF($F157:R157,K157)/$P$1))*COUNTIF($T$52:$T$59,K157),COUNTIF($T$52:$T$59,K157)*$Y157) -> 0 | AH157: =IF($Y$1=1,($Y157-($Y157*COUNTIF($F157:S157,L157)/$P$1))*COUNTIF($T$52:$T$59,L157),COUNTIF($T$52:$T$59,L157)*$Y157) -> 0 | AJ157: =$Y157-($Y157*COUNTIF($E157:$F157,N157)/$P$1)*COUNTIF($T$52:$T$59,N157) -> 24.5 | AL157: Q64 | AW157: =CONCATENATE(AJ$1,"!",$AL157) -> Master!Q64 | AY157: Q48 | AZ157: Q82 | BB157: =CONCATENATE(R$1,"!",$AY157) -> Master!Q48 | BC157: =CONCATENATE(S$1,"!",$AZ157) -> Master!Q82 | BD157: =CONCATENATE(T$1,"!",$AL157) -> Master!Q64
Y158: Totals | AA158: =SUM(AA151:AA157) -> 0 | AB158: =SUM(AB151:AB157) -> 31.5 | AC158: =SUM(AC151:AC157) -> -2 | AD158: =SUM(AD151:AD157) -> 39 | AE158: =SUM(AE151:AE157) -> 16.5 | AF158: =SUM(AF151:AF157) -> 9 | AG158: =SUM(AG151:AG157) -> 2.5 | AH158: =SUM(AH151:AH157) -> -2.5 | AJ158: =SUM(AJ151:AJ157) -> 128.5
Y159: Round 4 | AA159: =SUM(AA151:AA154) -> 0 | AB159: =SUM(AB151:AB154) -> 10 | AC159: =SUM(AC151:AC154) -> -2.5 | AD159: =SUM(AD151:AD154) -> 15 | AE159: =SUM(AE151:AE154) -> 10 | AF159: =SUM(AF151:AF154) -> 2.5 | AG159: =SUM(AG151:AG154) -> 2.5 | AH159: =SUM(AH151:AH154) -> -2.5 | AJ159: =SUM(AJ151:AJ154) -> 65
Y160: Round 5 | AA160: =SUM(AA155:AA156) -> 0 | AB160: =SUM(AB155:AB156) -> 18 | AC160: =SUM(AC155:AC156) -> -3 | AD160: =SUM(AD155:AD156) -> 3 | AE160: =SUM(AE155:AE156) -> 3 | AF160: =SUM(AF155:AF156) -> 3 | AG160: =SUM(AG155:AG156) -> 0 | AH160: =SUM(AH155:AH156) -> 0 | AJ160: =SUM(AJ155:AJ156) -> 39
Y161: Round 6 | AA161: =AA157 -> 0 | AB161: =AB157 -> 3.5 | AC161: =AC157 -> 3.5 | AD161: =AD157 -> 21 | AE161: =AE157 -> 3.5 | AF161: =AF157 -> 3.5 | AG161: =AG157 -> 0 | AH161: =AH157 -> 0 | AJ161: =AJ157 -> 24.5
B165: 1 | C165: Round 5 | AA165: =AA149 -> HiSeeds | AB165: =AB149 -> AnthonyP | AC165: =AC149 -> ChrisR | AD165: =AD149 -> EricP | AE165: =AE149 -> JoeG | AF165: =AF149 -> JohnP | AG165: =AG149 -> JoshF | AH165: =AH149 -> ScottP | AJ165: Best Possible
B166: 1 | C166: Player | D166: Insert3 | E166: 0 | F166: 1 | G166: 2 | H166: 3 | I166: 4 | J166: 5 | K166: 6 | L166: 7 | N166: =N150 -> 7 | P166: Favorite | Q166: Underdog | R166: Player1 | S166: Player2 | T166: Winner | U166: Loser | V166: SeedFav | W166: SeedUdr | Z166: Insert1 | AA166: =#REF!+1 -> #REF! | AB166: =#REF!+1 -> #REF! | AC166: =#REF!+1 -> #REF! | AD166: =#REF!+1 -> #REF! | AE166: =#REF!+1 -> #REF! | AF166: =#REF!+1 -> #REF! | AG166: =#REF!+1 -> #REF! | AH166: =#REF!+1 -> #REF! | AJ166: 0 | BB166: Player 1 | BC166: Player 2
B167: 9 | C167: EW1 | D167: =D155 -> 1 CONN | E167: #REF! | F167: 1 CONN | G167: 1 CONN | H167: 1 CONN | I167: 1 CONN | J167: 1 CONN | K167: 1 CONN | L167: 1 CONN | N167: =N155 -> 1 CONN | P167: =P155 -> 0 | Q167: =Q155 -> 21 | R167: =INDIRECT(BB167) -> 1 CONN | S167: =INDIRECT(BC167) -> 2 STAN | T167: =INDIRECT(BD167) -> 1 CONN | U167: =IF(R167=T167,S167,R167) -> 2 STAN | V167: =VLOOKUP(R167,$A$1:$B$64,2) -> 1 | W167: =VLOOKUP(S167,$A$1:$B$64,2) -> 10 | X167: 3 | Y167: 21 | AA167: =IF($Y$1=1,($Y167-($Y167*COUNTIF($F167:F167,E167)/$P$1))*COUNTIF($T$60:$T$63,E167),COUNTIF($T$60:$T$63,E167)*$Y167) -> 0 | AB167: =IF($Y$1=1,($Y167-($Y167*COUNTIF($F167:N167,F167)/$P$1))*COUNTIF($T$60:$T$63,F167),COUNTIF($T$60:$T$63,F167)*$Y167) -> -3 | AC167: =IF($Y$1=1,($Y167-($Y167*COUNTIF($F167:O167,G167)/$P$1))*COUNTIF($T$60:$T$63,G167),COUNTIF($T$60:$T$63,G167)*$Y167) -> -3 | AD167: =IF($Y$1=1,($Y167-($Y167*COUNTIF($F167:P167,H167)/$P$1))*COUNTIF($T$60:$T$63,H167),COUNTIF($T$60:$T$63,H167)*$Y167) -> -3 | AE167: =IF($Y$1=1,($Y167-($Y167*COUNTIF($F167:Q167,I167)/$P$1))*COUNTIF($T$60:$T$63,I167),COUNTIF($T$60:$T$63,I167)*$Y167) -> -3 | AF167: =IF($Y$1=1,($Y167-($Y167*COUNTIF($F167:R167,J167)/$P$1))*COUNTIF($T$60:$T$63,J167),COUNTIF($T$60:$T$63,J167)*$Y167) -> -6 | AG167: =IF($Y$1=1,($Y167-($Y167*COUNTIF($F167:S167,K167)/$P$1))*COUNTIF($T$60:$T$63,K167),COUNTIF($T$60:$T$63,K167)*$Y167) -> -6 | AH167: =IF($Y$1=1,($Y167-($Y167*COUNTIF($F167:T167,L167)/$P$1))*COUNTIF($T$60:$T$63,L167),COUNTIF($T$60:$T$63,L167)*$Y167) -> -9 | AJ167: =$Y167-($Y167*COUNTIF($E167:$F167,N167)/$P$1)*COUNTIF($T$60:$T$63,N167) -> 18 | AL167: Q48 | AW167: =CONCATENATE(AJ$1,"!",$AL167) -> Master!Q48 | AY167: N32 | AZ167: N98 | BB167: =CONCATENATE(R$1,"!",$AY167) -> Master!N32 | BC167: =CONCATENATE(S$1,"!",$AZ167) -> Master!N98 | BD167: =CONCATENATE(T$1,"!",$AL167) -> Master!Q48
C168: SMW1 | D168: =D156 -> 1 OKLA | E168: #REF! | F168: 1 OKLA | G168: 2 AUB | H168: 1 MD | I168: 1 MD | J168: 1 MD | K168: 1 MD | L168: 1 MD | N168: =N156 -> 3 UL | P168: =P156 -> 21 | Q168: =Q156 -> 18 | R168: =INDIRECT(BB168) -> 3 UL | S168: =INDIRECT(BC168) -> 1 OKLA | T168: =INDIRECT(BD168) -> 3 UL | U168: =IF(R168=T168,S168,R168) -> 1 OKLA | V168: =VLOOKUP(R168,$A$1:$B$64,2) -> 11 | W168: =VLOOKUP(S168,$A$1:$B$64,2) -> 1 | X168: 3 | Y168: 21 | AA168: =IF($Y$1=1,($Y168-($Y168*COUNTIF($F168:F168,E168)/$P$1))*COUNTIF($T$60:$T$63,E168),COUNTIF($T$60:$T$63,E168)*$Y168) -> 0 | AB168: =IF($Y$1=1,($Y168-($Y168*COUNTIF($F168:N168,F168)/$P$1))*COUNTIF($T$60:$T$63,F168),COUNTIF($T$60:$T$63,F168)*$Y168) -> 18 | AC168: =IF($Y$1=1,($Y168-($Y168*COUNTIF($F168:O168,G168)/$P$1))*COUNTIF($T$60:$T$63,G168),COUNTIF($T$60:$T$63,G168)*$Y168) -> 0 | AD168: =IF($Y$1=1,($Y168-($Y168*COUNTIF($F168:P168,H168)/$P$1))*COUNTIF($T$60:$T$63,H168),COUNTIF($T$60:$T$63,H168)*$Y168) -> 0 | AE168: =IF($Y$1=1,($Y168-($Y168*COUNTIF($F168:Q168,I168)/$P$1))*COUNTIF($T$60:$T$63,I168),COUNTIF($T$60:$T$63,I168)*$Y168) -> 0 | AF168: =IF($Y$1=1,($Y168-($Y168*COUNTIF($F168:R168,J168)/$P$1))*COUNTIF($T$60:$T$63,J168),COUNTIF($T$60:$T$63,J168)*$Y168) -> 0 | AG168: =IF($Y$1=1,($Y168-($Y168*COUNTIF($F168:S168,K168)/$P$1))*COUNTIF($T$60:$T$63,K168),COUNTIF($T$60:$T$63,K168)*$Y168) -> 0 | AH168: =IF($Y$1=1,($Y168-($Y168*COUNTIF($F168:T168,L168)/$P$1))*COUNTIF($T$60:$T$63,L168),COUNTIF($T$60:$T$63,L168)*$Y168) -> 0 | AJ168: =$Y168-($Y168*COUNTIF($E168:$F168,N168)/$P$1)*COUNTIF($T$60:$T$63,N168) -> 21 | AL168: Q82 | AW168: =CONCATENATE(AJ$1,"!",$AL168) -> Master!Q82 | AY168: T32 | AZ168: T98 | BB168: =CONCATENATE(R$1,"!",$AY168) -> Master!T32 | BC168: =CONCATENATE(S$1,"!",$AZ168) -> Master!T98 | BD168: =CONCATENATE(T$1,"!",$AL168) -> Master!Q82
C169: FINAL | D169: =D157 -> 1 CONN | E169: #REF! | F169: 1 CONN | G169: 1 CONN | H169: 1 MD | I169: 1 CONN | J169: 1 CONN | K169: 1 CONN | L169: 1 CONN | N169: =N157 -> 0 | P169: =P157 -> 3.5 | Q169: =Q157 -> 24.5 | R169: =INDIRECT(BB169) -> 1 CONN | S169: =INDIRECT(BC169) -> 3 UL | T169: =INDIRECT(BD169) -> 0 | U169: =IF(R169=T169,S169,R169) -> 1 CONN | V169: =VLOOKUP(R169,$A$1:$B$64,2) -> 1 | W169: =VLOOKUP(S169,$A$1:$B$64,2) -> 11 | X169: 3.5 | Y169: 24.5 | AA169: =IF($Y$1=1,($Y169-($Y169*COUNTIF($F169:F169,E169)/$P$1))*COUNTIF($T$60:$T$63,E169),COUNTIF($T$60:$T$63,E169)*$Y169) -> 0 | AB169: =IF($Y$1=1,($Y169-($Y169*COUNTIF($F169:N169,F169)/$P$1))*COUNTIF($T$60:$T$63,F169),COUNTIF($T$60:$T$63,F169)*$Y169) -> 3.5 | AC169: =IF($Y$1=1,($Y169-($Y169*COUNTIF($F169:O169,G169)/$P$1))*COUNTIF($T$60:$T$63,G169),COUNTIF($T$60:$T$63,G169)*$Y169) -> 3.5 | AD169: =IF($Y$1=1,($Y169-($Y169*COUNTIF($F169:P169,H169)/$P$1))*COUNTIF($T$60:$T$63,H169),COUNTIF($T$60:$T$63,H169)*$Y169) -> 0 | AE169: =IF($Y$1=1,($Y169-($Y169*COUNTIF($F169:Q169,I169)/$P$1))*COUNTIF($T$60:$T$63,I169),COUNTIF($T$60:$T$63,I169)*$Y169) -> 3.5 | AF169: =IF($Y$1=1,($Y169-($Y169*COUNTIF($F169:R169,J169)/$P$1))*COUNTIF($T$60:$T$63,J169),COUNTIF($T$60:$T$63,J169)*$Y169) -> 0 | AG169: =IF($Y$1=1,($Y169-($Y169*COUNTIF($F169:S169,K169)/$P$1))*COUNTIF($T$60:$T$63,K169),COUNTIF($T$60:$T$63,K169)*$Y169) -> 0 | AH169: =IF($Y$1=1,($Y169-($Y169*COUNTIF($F169:T169,L169)/$P$1))*COUNTIF($T$60:$T$63,L169),COUNTIF($T$60:$T$63,L169)*$Y169) -> 0 | AJ169: =$Y169-($Y169*COUNTIF($E169:$F169,N169)/$P$1)*COUNTIF($T$60:$T$63,N169) -> 24.5 | AL169: Q64 | AW169: =CONCATENATE(AJ$1,"!",$AL169) -> Master!Q64 | AY169: Q48 | AZ169: Q82 | BB169: =CONCATENATE(R$1,"!",$AY169) -> Master!Q48 | BC169: =CONCATENATE(S$1,"!",$AZ169) -> Master!Q82 | BD169: =CONCATENATE(T$1,"!",$AL169) -> Master!Q64
Y170: Totals | AA170: =SUM(AA167:AA169) -> 0 | AB170: =SUM(AB167:AB169) -> 18.5 | AC170: =SUM(AC167:AC169) -> 0.5 | AD170: =SUM(AD167:AD169) -> -3 | AE170: =SUM(AE167:AE169) -> 0.5 | AF170: =SUM(AF167:AF169) -> -6 | AG170: =SUM(AG167:AG169) -> -6 | AH170: =SUM(AH167:AH169) -> -9 | AJ170: =SUM(AJ167:AJ169) -> 63.5
Y171: Round 5 | AA171: =SUM(AA167:AA168) -> 0 | AB171: =SUM(AB167:AB168) -> 15 | AC171: =SUM(AC167:AC168) -> -3 | AD171: =SUM(AD167:AD168) -> -3 | AE171: =SUM(AE167:AE168) -> -3 | AF171: =SUM(AF167:AF168) -> -6 | AG171: =SUM(AG167:AG168) -> -6 | AH171: =SUM(AH167:AH168) -> -9 | AJ171: =SUM(AJ167:AJ168) -> 39
Y172: Round 6 | AA172: =AA169 -> 0 | AB172: =AB169 -> 3.5 | AC172: =AC169 -> 3.5 | AD172: =AD169 -> 0 | AE172: =AE169 -> 3.5 | AF172: =AF169 -> 0 | AG172: =AG169 -> 0 | AH172: =AH169 -> 0 | AJ172: =AJ169 -> 24.5
B176: 1 | C176: Round 6 | AA176: Anthony$ | AB176: Anthony$ | AC176: Anthony$ | AD176: Anthony$ | AE176: Anthony$ | AF176: Anthony$ | AG176: Anthony$ | AH176: Anthony$ | AJ176: Best Possible
B177: 1 | C177: Player | D177: Insert3 | E177: 0 | F177: 1 | G177: 2 | H177: 3 | I177: 4 | J177: 5 | K177: 6 | L177: 7 | N177: =N166 -> 7 | P177: Favorite | Q177: Underdog | R177: Player1 | S177: Player2 | T177: Winner | U177: Loser | V177: SeedFav | W177: SeedUdr | Z177: Insert1 | AA177: =#REF!+1 -> #REF! | AB177: =#REF!+1 -> #REF! | AC177: =#REF!+1 -> #REF! | AD177: =#REF!+1 -> #REF! | AE177: =#REF!+1 -> #REF! | AF177: =#REF!+1 -> #REF! | AG177: =#REF!+1 -> #REF! | AH177: =#REF!+1 -> #REF! | AJ177: 0 | BB177: Player 1 | BC177: Player 2
C178: FINAL | D178: =D169 -> 1 CONN | E178: #REF! | F178: 1 CONN | G178: 1 CONN | H178: 1 MD | I178: 1 CONN | J178: 1 CONN | K178: 1 CONN | L178: 1 CONN | N178: =N169 -> 0 | P178: =P169 -> 3.5 | Q178: =Q169 -> 24.5 | R178: =INDIRECT(BB178) -> 1 CONN | S178: =INDIRECT(BC178) -> 3 UL | T178: =INDIRECT(BD178) -> 0 | U178: =IF(R178=T178,S178,R178) -> 1 CONN | V178: =VLOOKUP(R178,$A$1:$B$64,2) -> 1 | W178: =VLOOKUP(S178,$A$1:$B$64,2) -> 11 | X178: 3.5 | Y178: 24.5 | AA178: =IF($Y$1=1,($Y178-($Y178*COUNTIF($F178:F178,E178)/$P$1))*COUNTIF($T$112:$T$113,E178),COUNTIF($T$112:$T$113,E178)*$Y178) -> 0 | AB178: =IF($Y$1=1,($Y178-($Y178*COUNTIF($F178:N178,F178)/$P$1))*COUNTIF($T$112:$T$113,F178),COUNTIF($T$112:$T$113,F178)*$Y178) -> 3.5 | AC178: =IF($Y$1=1,($Y178-($Y178*COUNTIF($F178:O178,G178)/$P$1))*COUNTIF($T$112:$T$113,G178),COUNTIF($T$112:$T$113,G178)*$Y178) -> 3.5 | AD178: =IF($Y$1=1,($Y178-($Y178*COUNTIF($F178:P178,H178)/$P$1))*COUNTIF($T$112:$T$113,H178),COUNTIF($T$112:$T$113,H178)*$Y178) -> 0 | AE178: =IF($Y$1=1,($Y178-($Y178*COUNTIF($F178:Q178,I178)/$P$1))*COUNTIF($T$112:$T$113,I178),COUNTIF($T$112:$T$113,I178)*$Y178) -> 3.5 | AF178: =IF($Y$1=1,($Y178-($Y178*COUNTIF($F178:R178,J178)/$P$1))*COUNTIF($T$112:$T$113,J178),COUNTIF($T$112:$T$113,J178)*$Y178) -> 0 | AG178: =IF($Y$1=1,($Y178-($Y178*COUNTIF($F178:S178,K178)/$P$1))*COUNTIF($T$112:$T$113,K178),COUNTIF($T$112:$T$113,K178)*$Y178) -> 0 | AH178: =IF($Y$1=1,($Y178-($Y178*COUNTIF($F178:T178,L178)/$P$1))*COUNTIF($T$112:$T$113,L178),COUNTIF($T$112:$T$113,L178)*$Y178) -> 0 | AJ178: =$Y178-($Y178*COUNTIF($E178:$F178,N178)/$P$1)*COUNTIF($T$64:$T$65,N178) -> 24.5 | AL178: Q64 | AW178: =CONCATENATE(AJ$1,"!",$AL178) -> Master!Q64 | AY178: Q48 | AZ178: Q82 | BB178: =CONCATENATE(R$1,"!",$AY178) -> Master!Q48 | BC178: =CONCATENATE(S$1,"!",$AZ178) -> Master!Q82 | BD178: =CONCATENATE(T$1,"!",$AL178) -> Master!Q64
...

Sheet Scott's Method Summary
B1: Summary | E1: 7 | G1: Only Valid if Scott's scoring system is being used
C2: # of players who chose team to win
C3: # of points team is worth if they win
E4: Round 1 | G4: Round 2 | I4: Round 3 | K4: Round 4 | M4: Round 5 | O4: Round 6
C5: Seed | D5: Team | E5: Worth= | F5: =Scoring!$Y$4 -> 7 | G5: Worth= | H5: =Scoring!$Y$36 -> 10.5 | I5: Worth= | J5: =Scoring!$Y$52 -> 14 | K5: Worth= | L5: =Scoring!Y60 -> 17.5 | M5: Worth= | N5: =Scoring!Y64 -> 21 | O5: Worth= | P5: =Scoring!Y66 -> 24.5
C6: 1 | D6: =Scoring!A1 -> 1 CONN | E6: =COUNTIF(Scoring!$F$4:M$35,$D6) -> 7 | F6: =IF(E6>0,F$5-(E6/$E$1*F$5),0) -> 0 | G6: =COUNTIF(Scoring!$F$36:M$51,$D6) -> 7 | H6: =IF(G6>0,H$5-(G6/$E$1*H$5),0) -> 0 | I6: =COUNTIF(Scoring!$F$52:M$59,$D6) -> 7 | J6: =IF(I6>0,J$5-(I6/$E$1*J$5),0) -> 0 | K6: =COUNTIF(Scoring!$F$60:M$63,$D6) -> 7 | L6: =IF(K6>0,L$5-(K6/$E$1*L$5),0) -> 0 | M6: =COUNTIF(Scoring!$F$64:M$65,$D6) -> 7 | N6: =IF(M6>0,N$5-(M6/$E$1*N$5),0) -> 0 | O6: =COUNTIF(Scoring!$F$66:M$66,$D6) -> 6 | P6: =IF(O6>0,P$5-(O6/$E$1*P$5),0) -> 3.5 | Q6: =D6 -> 1 CONN
C7: 1 | D7: =Scoring!A2 -> 1 DUKE | E7: =COUNTIF(Scoring!$F$4:M$35,$D7) -> 7 | F7: =IF(E7>0,F$5-(E7/$E$1*F$5),0) -> 0 | G7: =COUNTIF(Scoring!$F$36:M$51,$D7) -> 7 | H7: =IF(G7>0,H$5-(G7/$E$1*H$5),0) -> 0 | I7: =COUNTIF(Scoring!$F$52:M$59,$D7) -> 6 | J7: =IF(I7>0,J$5-(I7/$E$1*J$5),0) -> 2 | K7: =COUNTIF(Scoring!$F$60:M$63,$D7) -> 6 | L7: =IF(K7>0,L$5-(K7/$E$1*L$5),0) -> 2.5 | M7: =COUNTIF(Scoring!$F$64:M$65,$D7) -> 0 | N7: =IF(M7>0,N$5-(M7/$E$1*N$5),0) -> 0 | O7: =COUNTIF(Scoring!$F$66:M$66,$D7) -> 0 | P7: =IF(O7>0,P$5-(O7/$E$1*P$5),0) -> 0 | Q7: =D7 -> 1 DUKE
C8: 1 | D8: =Scoring!A3 -> 1 MD | E8: =COUNTIF(Scoring!$F$4:M$35,$D8) -> 7 | F8: =IF(E8>0,F$5-(E8/$E$1*F$5),0) -> 0 | G8: =COUNTIF(Scoring!$F$36:M$51,$D8) -> 7 | H8: =IF(G8>0,H$5-(G8/$E$1*H$5),0) -> 0 | I8: =COUNTIF(Scoring!$F$52:M$59,$D8) -> 7 | J8: =IF(I8>0,J$5-(I8/$E$1*J$5),0) -> 0 | K8: =COUNTIF(Scoring!$F$60:M$63,$D8) -> 5 | L8: =IF(K8>0,L$5-(K8/$E$1*L$5),0) -> 5 | M8: =COUNTIF(Scoring!$F$64:M$65,$D8) -> 5 | N8: =IF(M8>0,N$5-(M8/$E$1*N$5),0) -> 6 | O8: =COUNTIF(Scoring!$F$66:M$66,$D8) -> 1 | P8: =IF(O8>0,P$5-(O8/$E$1*P$5),0) -> 21 | Q8: =D8 -> 1 MD
C9: 1 | D9: =Scoring!A4 -> 1 OKLA | E9: =COUNTIF(Scoring!$F$4:M$35,$D9) -> 7 | F9: =IF(E9>0,F$5-(E9/$E$1*F$5),0) -> 0 | G9: =COUNTIF(Scoring!$F$36:M$51,$D9) -> 7 | H9: =IF(G9>0,H$5-(G9/$E$1*H$5),0) -> 0 | I9: =COUNTIF(Scoring!$F$52:M$59,$D9) -> 7 | J9: =IF(I9>0,J$5-(I9/$E$1*J$5),0) -> 0 | K9: =COUNTIF(Scoring!$F$60:M$63,$D9) -> 3 | L9: =IF(K9>0,L$5-(K9/$E$1*L$5),0) -> 10 | M9: =COUNTIF(Scoring!$F$64:M$65,$D9) -> 1 | N9: =IF(M9>0,N$5-(M9/$E$1*N$5),0) -> 18 | O9: =COUNTIF(Scoring!$F$66:M$66,$D9) -> 0 | P9: =IF(O9>0,P$5-(O9/$E$1*P$5),0) -> 0 | Q9: =D9 -> 1 OKLA
C10: 2 | D10: =Scoring!A5 -> 2 A&M | E10: =COUNTIF(Scoring!$F$4:M$35,$D10) -> 7 | F10: =IF(E10>0,F$5-(E10/$E$1*F$5),0) -> 0 | G10: =COUNTIF(Scoring!$F$36:M$51,$D10) -> 7 | H10: =IF(G10>0,H$5-(G10/$E$1*H$5),0) -> 0 | I10: =COUNTIF(Scoring!$F$52:M$59,$D10) -> 5 | J10: =IF(I10>0,J$5-(I10/$E$1*J$5),0) -> 4 | K10: =COUNTIF(Scoring!$F$60:M$63,$D10) -> 0 | L10: =IF(K10>0,L$5-(K10/$E$1*L$5),0) -> 0 | M10: =COUNTIF(Scoring!$F$64:M$65,$D10) -> 0 | N10: =IF(M10>0,N$5-(M10/$E$1*N$5),0) -> 0 | O10: =COUNTIF(Scoring!$F$66:M$66,$D10) -> 0 | P10: =IF(O10>0,P$5-(O10/$E$1*P$5),0) -> 0 | Q10: =D10 -> 2 A&M
C11: 2 | D11: =Scoring!A6 -> 2 AUB | E11: =COUNTIF(Scoring!$F$4:M$35,$D11) -> 7 | F11: =IF(E11>0,F$5-(E11/$E$1*F$5),0) -> 0 | G11: =COUNTIF(Scoring!$F$36:M$51,$D11) -> 6 | H11: =IF(G11>0,H$5-(G11/$E$1*H$5),0) -> 1.5 | I11: =COUNTIF(Scoring!$F$52:M$59,$D11) -> 3 | J11: =IF(I11>0,J$5-(I11/$E$1*J$5),0) -> 8 | K11: =COUNTIF(Scoring!$F$60:M$63,$D11) -> 2 | L11: =IF(K11>0,L$5-(K11/$E$1*L$5),0) -> 12.5 | M11: =COUNTIF(Scoring!$F$64:M$65,$D11) -> 1 | N11: =IF(M11>0,N$5-(M11/$E$1*N$5),0) -> 18 | O11: =COUNTIF(Scoring!$F$66:M$66,$D11) -> 0 | P11: =IF(O11>0,P$5-(O11/$E$1*P$5),0) -> 0 | Q11: =D11 -> 2 AUB
C12: 2 | D12: =Scoring!A7 -> 2 BAY | E12: =COUNTIF(Scoring!$F$4:M$35,$D12) -> 7 | F12: =IF(E12>0,F$5-(E12/$E$1*F$5),0) -> 0 | G12: =COUNTIF(Scoring!$F$36:M$51,$D12) -> 7 | H12: =IF(G12>0,H$5-(G12/$E$1*H$5),0) -> 0 | I12: =COUNTIF(Scoring!$F$52:M$59,$D12) -> 6 | J12: =IF(I12>0,J$5-(I12/$E$1*J$5),0) -> 2 | K12: =COUNTIF(Scoring!$F$60:M$63,$D12) -> 2 | L12: =IF(K12>0,L$5-(K12/$E$1*L$5),0) -> 12.5 | M12: =COUNTIF(Scoring!$F$64:M$65,$D12) -> 0 | N12: =IF(M12>0,N$5-(M12/$E$1*N$5),0) -> 0 | O12: =COUNTIF(Scoring!$F$66:M$66,$D12) -> 0 | P12: =IF(O12>0,P$5-(O12/$E$1*P$5),0) -> 0 | Q12: =D12 -> 2 BAY
C13: 2 | D13: =Scoring!A8 -> 2 STAN | E13: =COUNTIF(Scoring!$F$4:M$35,$D13) -> 7 | F13: =IF(E13>0,F$5-(E13/$E$1*F$5),0) -> 0 | G13: =COUNTIF(Scoring!$F$36:M$51,$D13) -> 7 | H13: =IF(G13>0,H$5-(G13/$E$1*H$5),0) -> 0 | I13: =COUNTIF(Scoring!$F$52:M$59,$D13) -> 7 | J13: =IF(I13>0,J$5-(I13/$E$1*J$5),0) -> 0 | K13: =COUNTIF(Scoring!$F$60:M$63,$D13) -> 1 | L13: =IF(K13>0,L$5-(K13/$E$1*L$5),0) -> 15 | M13: =COUNTIF(Scoring!$F$64:M$65,$D13) -> 0 | N13: =IF(M13>0,N$5-(M13/$E$1*N$5),0) -> 0 | O13: =COUNTIF(Scoring!$F$66:M$66,$D13) -> 0 | P13: =IF(O13>0,P$5-(O13/$E$1*P$5),0) -> 0 | Q13: =D13 -> 2 STAN
C14: 3 | D14: =Scoring!A9 -> 3 FSU | E14: =COUNTIF(Scoring!$F$4:M$35,$D14) -> 7 | F14: =IF(E14>0,F$5-(E14/$E$1*F$5),0) -> 0 | G14: =COUNTIF(Scoring!$F$36:M$51,$D14) -> 7 | H14: =IF(G14>0,H$5-(G14/$E$1*H$5),0) -> 0 | I14: =COUNTIF(Scoring!$F$52:M$59,$D14) -> 2 | J14: =IF(I14>0,J$5-(I14/$E$1*J$5),0) -> 10 | K14: =COUNTIF(Scoring!$F$60:M$63,$D14) -> 0 | L14: =IF(K14>0,L$5-(K14/$E$1*L$5),0) -> 0 | M14: =COUNTIF(Scoring!$F$64:M$65,$D14) -> 0 | N14: =IF(M14>0,N$5-(M14/$E$1*N$5),0) -> 0 | O14: =COUNTIF(Scoring!$F$66:M$66,$D14) -> 0 | P14: =IF(O14>0,P$5-(O14/$E$1*P$5),0) -> 0 | Q14: =D14 -> 3 FSU
C15: 3 | D15: =Scoring!A10 -> 3 OSU | E15: =COUNTIF(Scoring!$F$4:M$35,$D15) -> 7 | F15: =IF(E15>0,F$5-(E15/$E$1*F$5),0) -> 0 | G15: =COUNTIF(Scoring!$F$36:M$51,$D15) -> 5 | H15: =IF(G15>0,H$5-(G15/$E$1*H$5),0) -> 3 | I15: =COUNTIF(Scoring!$F$52:M$59,$D15) -> 0 | J15: =IF(I15>0,J$5-(I15/$E$1*J$5),0) -> 0 | K15: =COUNTIF(Scoring!$F$60:M$63,$D15) -> 0 | L15: =IF(K15>0,L$5-(K15/$E$1*L$5),0) -> 0 | M15: =COUNTIF(Scoring!$F$64:M$65,$D15) -> 0 | N15: =IF(M15>0,N$5-(M15/$E$1*N$5),0) -> 0 | O15: =COUNTIF(Scoring!$F$66:M$66,$D15) -> 0 | P15: =IF(O15>0,P$5-(O15/$E$1*P$5),0) -> 0 | Q15: =D15 -> 3 OSU
C16: 3 | D16: =Scoring!A11 -> 3 UL | E16: =COUNTIF(Scoring!$F$4:M$35,$D16) -> 7 | F16: =IF(E16>0,F$5-(E16/$E$1*F$5),0) -> 0 | G16: =COUNTIF(Scoring!$F$36:M$51,$D16) -> 3 | H16: =IF(G16>0,H$5-(G16/$E$1*H$5),0) -> 6 | I16: =COUNTIF(Scoring!$F$52:M$59,$D16) -> 0 | J16: =IF(I16>0,J$5-(I16/$E$1*J$5),0) -> 0 | K16: =COUNTIF(Scoring!$F$60:M$63,$D16) -> 0 | L16: =IF(K16>0,L$5-(K16/$E$1*L$5),0) -> 0 | M16: =COUNTIF(Scoring!$F$64:M$65,$D16) -> 0 | N16: =IF(M16>0,N$5-(M16/$E$1*N$5),0) -> 0 | O16: =COUNTIF(Scoring!$F$66:M$66,$D16) -> 0 | P16: =IF(O16>0,P$5-(O16/$E$1*P$5),0) -> 0 | Q16: =D16 -> 3 UL
C17: 3 | D17: =Scoring!A12 -> 3 UNC | E17: =COUNTIF(Scoring!$F$4:M$35,$D17) -> 7 | F17: =IF(E17>0,F$5-(E17/$E$1*F$5),0) -> 0 | G17: =COUNTIF(Scoring!$F$36:M$51,$D17) -> 5 | H17: =IF(G17>0,H$5-(G17/$E$1*H$5),0) -> 3 | I17: =COUNTIF(Scoring!$F$52:M$59,$D17) -> 3 | J17: =IF(I17>0,J$5-(I17/$E$1*J$5),0) -> 8 | K17: =COUNTIF(Scoring!$F$60:M$63,$D17) -> 2 | L17: =IF(K17>0,L$5-(K17/$E$1*L$5),0) -> 12.5 | M17: =COUNTIF(Scoring!$F$64:M$65,$D17) -> 0 | N17: =IF(M17>0,N$5-(M17/$E$1*N$5),0) -> 0 | O17: =COUNTIF(Scoring!$F$66:M$66,$D17) -> 0 | P17: =IF(O17>0,P$5-(O17/$E$1*P$5),0) -> 0 | Q17: =D17 -> 3 UNC
... C69: 16 | D69: =Scoring!A64 -> 16 UVM | E69: =COUNTIF(Scoring!$F$4:M$35,$D69) -> 0 | F69: =IF(E69>0,F$5-(E69/$E$1*F$5),0) -> 0 | G69: =COUNTIF(Scoring!$F$36:M$51,$D69) -> 0 | H69: =IF(G69>0,H$5-(G69/$E$1*H$5),0) -> 0 | I69: =COUNTIF(Scoring!$F$52:M$59,$D69) -> 0 | J69: =IF(I69>0,J$5-(I69/$E$1*J$5),0) -> 0 | K69: =COUNTIF(Scoring!$F$60:M$63,$D69) -> 0 | L69: =IF(K69>0,L$5-(K69/$E$1*L$5),0) -> 0 | M69: =COUNTIF(Scoring!$F$64:M$65,$D69) -> 0 | N69: =IF(M69>0,N$5-(M69/$E$1*N$5),0) -> 0 | O69: =COUNTIF(Scoring!$F$66:M$66,$D69) -> 0 | P69: =IF(O69>0,P$5-(O69/$E$1*P$5),0) -> 0 | Q69: =D69 -> 16 UVM
E70: =SUM(E6:E69) -> 224 | G70: =SUM(G6:G69) -> 112 | I70: =SUM(I6:I69) -> 56 | K70: =SUM(K6:K69) -> 28 | M70: =SUM(M6:M69) -> 14 | O70: =SUM(O6:O69) -> 7

Sheet Pick Summary (by Player)
B1: =Scoring!F1 -> AnthonyP | C1: =Scoring!G1 -> ChrisR | D1: =Scoring!H1 -> EricP | E1: =Scoring!I1 -> JoeG | F1: =Scoring!J1 -> JohnP | G1: =Scoring!K1 -> JoshF | H1: =Scoring!L1 -> ScottP | K1: Master | L1: Master | M1: Master
K2: Player1 | L2: Player2 | M2: Winner | N2: Loser
A3: Round1 | B3: =Scoring!F4 -> 1 CONN | C3: =Scoring!G4 -> 1 CONN | D3: =Scoring!H4 -> 1 CONN | E3: =Scoring!I4 -> 1 CONN | F3: =Scoring!J4 -> 1 CONN | G3: =Scoring!K4 -> 1 CONN | H3: =Scoring!L4 -> 1 CONN | K3: =Scoring!R4 -> 1 CONN | L3: =Scoring!S4 -> 16 UVM | M3: =Scoring!T4 -> 1 CONN | N3: =IF(M3="","",IF(K3=M3,L3,K3)) -> 16 UVM
B4: =Scoring!F5 -> 8 FLA | C4: =Scoring!G5 -> 8 FLA | D4: =Scoring!H5 -> 9 TEM | E4: =Scoring!I5 -> 8 FLA | F4: =Scoring!J5 -> 8 FLA | G4: =Scoring!K5 -> 8 FLA | H4: =Scoring!L5 -> 9 TEM | K4: =Scoring!R5 -> 8 FLA | L4: =Scoring!S5 -> 9 TEM | M4: =Scoring!T5 -> 8 FLA | N4: =IF(M4="","",IF(K4=M4,L4,K4)) -> 9 TEM
B5: =Scoring!F6 -> 4 CAL | C5: =Scoring!G6 -> 4 CAL | D5: =Scoring!H6 -> 4 CAL | E5: =Scoring!I6 -> 4 CAL | F5: =Scoring!J6 -> 4 CAL | G5: =Scoring!K6 -> 4 CAL | H5: =Scoring!L6 -> 4 CAL | K5: =Scoring!R6 -> 4 CAL | L5: =Scoring!S6 -> 13 FRES | M5: =Scoring!T6 -> 4 CAL | N5: =IF(M5="","",IF(K5=M5,L5,K5)) -> 13 FRES
B6: =Scoring!F7 -> 12 MRST | C6: =Scoring!G7 -> 5 UVA | D6: =Scoring!H7 -> 5 UVA | E6: =Scoring!I7 -> 5 UVA | F6: =Scoring!J7 -> 5 UVA | G6: =Scoring!K7 -> 5 UVA | H6: =Scoring!L7 -> 5 UVA | K6: =Scoring!R7 -> 5 UVA | L6: =Scoring!S7 -> 12 MRST | M6: =Scoring!T7 -> 5 UVA | N6: =IF(M6="","",IF(K6=M6,L6,K6)) -> 12 MRST
B7: =Scoring!F8 -> 2 A&M | C7: =Scoring!G8 -> 2 A&M | D7: =Scoring!H8 -> 2 A&M | E7: =Scoring!I8 -> 2 A&M | F7: =Scoring!J8 -> 2 A&M | G7: =Scoring!K8 -> 2 A&M | H7: =Scoring!L8 -> 2 A&M | K7: =Scoring!R8 -> 2 A&M | L7: =Scoring!S8 -> 15 EVAN | M7: =Scoring!T8 -> 2 A&M | N7: =IF(M7="","",IF(K7=M7,L7,K7)) -> 15 EVAN
B8: =Scoring!F9 -> 7 ND | C8: =Scoring!G9 -> 7 ND | D8: =Scoring!H9 -> 10 MINN | E8: =Scoring!I9 -> 7 ND | F8: =Scoring!J9 -> 10 MINN | G8: =Scoring!K9 -> 10 MINN | H8: =Scoring!L9 -> 10 MINN | K8: =Scoring!R9 -> 7 ND | L8: =Scoring!S9 -> 10 MINN | M8: =Scoring!T9 -> 10 MINN | N8: =IF(M8="","",IF(K8=M8,L8,K8)) -> 7 ND
B9: =Scoring!F10 -> 3 FSU | C9: =Scoring!G10 -> 3 FSU | D9: =Scoring!H10 -> 3 FSU | E9: =Scoring!I10 -> 3 FSU | F9: =Scoring!J10 -> 3 FSU | G9: =Scoring!K10 -> 3 FSU | H9: =Scoring!L10 -> 3 FSU | K9: =Scoring!R10 -> 3 FSU | L9: =Scoring!S10 -> 14 NCAT | M9: =Scoring!T10 -> 3 FSU | N9: =IF(M9="","",IF(K9=M9,L9,K9)) -> 14 NCAT
B10: =Scoring!F11 -> 6 ASU | C10: =Scoring!G11 -> 6 ASU | D10: =Scoring!H11 -> 6 ASU | E10: =Scoring!I11 -> 6 ASU | F10: =Scoring!J11 -> 6 ASU | G10: =Scoring!K11 -> 11 UGA | H10: =Scoring!L11 -> 6 ASU | K10: =Scoring!R11 -> 6 ASU | L10: =Scoring!S11 -> 11 UGA | M10: =Scoring!T11 -> 6 ASU | N10: =IF(M10="","",IF(K10=M10,L10,K10)) -> 11 UGA
B11: =Scoring!F12 -> 1 DUKE | C11: =Scoring!G12 -> 1 DUKE | D11: =Scoring!H12 -> 1 DUKE | E11: =Scoring!I12 -> 1 DUKE | F11: =Scoring!J12 -> 1 DUKE | G11: =Scoring!K12 -> 1 DUKE | H11: =Scoring!L12 -> 1 DUKE | K11: =Scoring!R12 -> 1 DUKE | L11: =Scoring!S12 -> 16 APSU | M11: =Scoring!T12 -> 1 DUKE | N11: =IF(M11="","",IF(K11=M11,L11,K11)) -> 16 APSU
B12: =Scoring!F13 -> 9 MSU | C12: =Scoring!G13 -> 9 MSU | D12: =Scoring!H13 -> 9 MSU | E12: =Scoring!I13 -> 8 MTSU | F12: =Scoring!J13 -> 9 MSU | G12: =Scoring!K13 -> 9 MSU | H12: =Scoring!L13 -> 9 MSU | K12: =Scoring!R13 -> 8 MTSU | L12: =Scoring!S13 -> 9 MSU | M12: =Scoring!T13 -> 9 MSU | N12: =IF(M12="","",IF(K12=M12,L12,K12)) -> 8 MTSU
B13: =Scoring!F14 -> 4 ISU | C13: =Scoring!G14 -> 4 ISU | D13: =Scoring!H14 -> 4 ISU | E13: =Scoring!I14 -> 4 ISU | F13: =Scoring!J14 -> 4 ISU | G13: =Scoring!K14 -> 4 ISU | H13: =Scoring!L14 -> 4 ISU | K13: =Scoring!R14 -> 4 ISU | L13: =Scoring!S14 -> 13 ETSU | M13: =Scoring!T14 -> 4 ISU | N13: =IF(M13="","",IF(K13=M13,L13,K13)) -> 13 ETSU
B14: =Scoring!F15 -> 5 TENN | C14: =Scoring!G15 -> 5 TENN | D14: =Scoring!H15 -> 5 TENN | E14: =Scoring!I15 -> 5 TENN | F14: =Scoring!J15 -> 5 TENN | G14: =Scoring!K15 -> 5 TENN | H14: =Scoring!L15 -> 5 TENN | K14: =Scoring!R15 -> 5 TENN | L14: =Scoring!S15 -> 12 BALL | M14: =Scoring!T15 -> 12 BALL | N14: =IF(M14="","",IF(K14=M14,L14,K14)) -> 5 TENN
B15: =Scoring!F16 -> 2 STAN | C15: =Scoring!G16 -> 2 STAN | D15: =Scoring!H16 -> 2 STAN | E15: =Scoring!I16 -> 2 STAN | F15: =Scoring!J16 -> 2 STAN | G15: =Scoring!K16 -> 2 STAN | H15: =Scoring!L16 -> 2 STAN | K15: =Scoring!R16 -> 2 STAN | L15: =Scoring!S16 -> 15 UCSB | M15: =Scoring!T16 -> 2 STAN | N15: =IF(M15="","",IF(K15=M15,L15,K15)) -> 15 UCSB
... B34: =Scoring!F35 -> 6 PUR | C34: =Scoring!G35 -> 6 PUR | D34: =Scoring!H35 -> 6 PUR | E34: =Scoring!I35 -> 6 PUR | F34: =Scoring!J35 -> 11 CHAR | G34: =Scoring!K35 -> 6 PUR | H34: =Scoring!L35 -> 6 PUR | K34: =Scoring!R35 -> 6 PUR | L34: =Scoring!S35 -> 11 CHAR | M34: =Scoring!T35 -> 6 PUR | N34: =IF(M34="","",IF(K34=M34,L34,K34)) -> 11 CHAR
A35: Round 2 | B35: =Scoring!F36 -> 1 CONN | C35: =Scoring!G36 -> 1 CONN | D35: =Scoring!H36 -> 1 CONN | E35: =Scoring!I36 -> 1 CONN | F35: =Scoring!J36 -> 1 CONN | G35: =Scoring!K36 -> 1 CONN | H35: =Scoring!L36 -> 1 CONN | K35: =Scoring!R36 -> 1 CONN | L35: =Scoring!S36 -> 8 FLA | M35: =Scoring!T36 -> 1 CONN | N35: =IF(M35="","",IF(K35=M35,L35,K35)) -> 8 FLA
B36: =Scoring!F37 -> 12 MRST | C36: =Scoring!G37 -> 4 CAL | D36: =Scoring!H37 -> 4 CAL | E36: =Scoring!I37 -> 4 CAL | F36: =Scoring!J37 -> 5 UVA | G36: =Scoring!K37 -> 5 UVA | H36: =Scoring!L37 -> 4 CAL | K36: =Scoring!R37 -> 4 CAL | L36: =Scoring!S37 -> 5 UVA | M36: =Scoring!T37 -> 4 CAL | N36: =IF(M36="","",IF(K36=M36,L36,K36)) -> 5 UVA
B37: =Scoring!F38 -> 2 A&M | C37: =Scoring!G38 -> 2 A&M | D37: =Scoring!H38 -> 2 A&M | E37: =Scoring!I38 -> 2 A&M | F37: =Scoring!J38 -> 2 A&M | G37: =Scoring!K38 -> 2 A&M | H37: =Scoring!L38 -> 2 A&M | K37: =Scoring!R38 -> 2 A&M | L37: =Scoring!S38 -> 10 MINN | M37: =Scoring!T38 -> 2 A&M | N37: =IF(M37="","",IF(K37=M37,L37,K37)) -> 10 MINN
B38: =Scoring!F39 -> 3 FSU | C38: =Scoring!G39 -> 3 FSU | D38: =Scoring!H39 -> 3 FSU | E38: =Scoring!I39 -> 3 FSU | F38: =Scoring!J39 -> 3 FSU | G38: =Scoring!K39 -> 3 FSU | H38: =Scoring!L39 -> 3 FSU | K38: =Scoring!R39 -> 3 FSU | L38: =Scoring!S39 -> 6 ASU | M38: =Scoring!T39 -> 6 ASU | N38: =IF(M38="","",IF(K38=M38,L38,K38)) -> 3 FSU
B39: =Scoring!F40 -> 1 DUKE | C39: =Scoring!G40 -> 1 DUKE | D39: =Scoring!H40 -> 1 DUKE | E39: =Scoring!I40 -> 1 DUKE | F39: =Scoring!J40 -> 1 DUKE | G39: =Scoring!K40 -> 1 DUKE | H39: =Scoring!L40 -> 1 DUKE | K39: =Scoring!R40 -> 1 DUKE | L39: =Scoring!S40 -> 9 MSU | M39: =Scoring!T40 -> 9 MSU | N39: =IF(M39="","",IF(K39=M39,L39,K39)) -> 1 DUKE
B40: =Scoring!F41 -> 5 TENN | C40: =Scoring!G41 -> 5 TENN | D40: =Scoring!H41 -> 5 TENN | E40: =Scoring!I41 -> 4 ISU | F40: =Scoring!J41 -> 5 TENN | G40: =Scoring!K41 -> 5 TENN | H40: =Scoring!L41 -> 5 TENN | K40: =Scoring!R41 -> 4 ISU | L40: =Scoring!S41 -> 12 BALL | M40: =Scoring!T41 -> 4 ISU | N40: =IF(M40="","",IF(K40=M40,L40,K40)) -> 12 BALL
B41: =Scoring!F42 -> 2 STAN | C41: =Scoring!G42 -> 2 STAN | D41: =Scoring!H42 -> 2 STAN | E41: =Scoring!I42 -> 2 STAN | F41: =Scoring!J42 -> 2 STAN | G41: =Scoring!K42 -> 2 STAN | H41: =Scoring!L42 -> 2 STAN | K41: =Scoring!R42 -> 2 STAN | L41: =Scoring!S42 -> 10 SDSU | M41: =Scoring!T42 -> 2 STAN | N41: =IF(M41="","",IF(K41=M41,L41,K41)) -> 10 SDSU
B42: =Scoring!F43 -> 3 OSU | C42: =Scoring!G43 -> 3 OSU | D42: =Scoring!H43 -> 6 TEX | E42: =Scoring!I43 -> 3 OSU | F42: =Scoring!J43 -> 3 OSU | G42: =Scoring!K43 -> 6 TEX | H42: =Scoring!L43 -> 3 OSU | K42: =Scoring!R43 -> 3 OSU | L42: =Scoring!S43 -> 11 MSU | M42: =Scoring!T43 -> 3 OSU | N42: =IF(M42="","",IF(K42=M42,L42,K42)) -> 11 MSU
B43: =Scoring!F44 -> 1 MD | C43: =Scoring!G44 -> 1 MD | D43: =Scoring!H44 -> 1 MD | E43: =Scoring!I44 -> 1 MD | F43: =Scoring!J44 -> 1 MD | G43: =Scoring!K44 -> 1 MD | H43: =Scoring!L44 -> 1 MD | K43: =Scoring!R44 -> 1 MD | L43: =Scoring!S44 -> 9 UTAH | M43: =Scoring!T44 -> 1 MD | N43: =IF(M43="","",IF(K43=M43,L43,K43)) -> 9 UTAH
B44: =Scoring!F45 -> 4 VAN | C44: =Scoring!G45 -> 4 VAN | D44: =Scoring!H45 -> 4 VAN | E44: =Scoring!I45 -> 4 VAN | F44: =Scoring!J45 -> 4 VAN | G44: =Scoring!K45 -> 5 KSU | H44: =Scoring!L45 -> 4 VAN | K44: =Scoring!R45 -> 4 VAN | L44: =Scoring!S45 -> 5 KSU | M44: =Scoring!T45 -> 4 VAN | N44: =IF(M44="","",IF(K44=M44,L44,K44)) -> 5 KSU
B45: =Scoring!F46 -> 2 BAY | C45: =Scoring!G46 -> 2 BAY | D45: =Scoring!H46 -> 2 BAY | E45: =Scoring!I46 -> 2 BAY | F45: =Scoring!J46 -> 2 BAY | G45: =Scoring!K46 -> 2 BAY | H45: =Scoring!L46 -> 2 BAY | K45: =Scoring!R46 -> 2 BAY | L45: =Scoring!S46 -> 7 SDS | M45: =Scoring!T46 -> 2 BAY | N45: =IF(M45="","",IF(K45=M45,L45,K45)) -> 7 SDS
B46: =Scoring!F47 -> 6 LSU | C46: =Scoring!G47 -> 6 LSU | D46: =Scoring!H47 -> 6 LSU | E46: =Scoring!I47 -> 3 UL | F46: =Scoring!J47 -> 3 UL | G46: =Scoring!K47 -> 6 LSU | H46: =Scoring!L47 -> 3 UL | K46: =Scoring!R47 -> 3 UL | L46: =Scoring!S47 -> 6 LSU | M46: =Scoring!T47 -> 3 UL | N46: =IF(M46="","",IF(K46=M46,L46,K46)) -> 6 LSU
B47: =Scoring!F48 -> 1 OKLA | C47: =Scoring!G48 -> 1 OKLA | D47: =Scoring!H48 -> 1 OKLA | E47: =Scoring!I48 -> 1 OKLA | F47: =Scoring!J48 -> 1 OKLA | G47: =Scoring!K48 -> 1 OKLA | H47: =Scoring!L48 -> 1 OKLA | K47: =Scoring!R48 -> 1 OKLA | L47: =Scoring!S48 -> 9 GT | M47: =Scoring!T48 -> 1 OKLA | N47: =IF(M47="","",IF(K47=M47,L47,K47)) -> 9 GT
... B50: =Scoring!F51 -> 6 PUR | C50: =Scoring!G51 -> 3 UNC | D50: =Scoring!H51 -> 6 PUR | E50: =Scoring!I51 -> 3 UNC | F50: =Scoring!J51 -> 3 UNC | G50: =Scoring!K51 -> 3 UNC | H50: =Scoring!L51 -> 3 UNC | K50: =Scoring!R51 -> 3 UNC | L50: =Scoring!S51 -> 6 PUR | M50: =Scoring!T51 -> 6 PUR | N50: =IF(M50="","",IF(K50=M50,L50,K50)) -> 3 UNC
A51: Round 3 | B51: =Scoring!F52 -> 1 CONN | C51: =Scoring!G52 -> 1 CONN | D51: =Scoring!H52 -> 1 CONN | E51: =Scoring!I52 -> 1 CONN | F51: =Scoring!J52 -> 1 CONN | G51: =Scoring!K52 -> 1 CONN | H51: =Scoring!L52 -> 1 CONN | K51: =Scoring!R52 -> 1 CONN | L51: =Scoring!S52 -> 4 CAL | M51: =Scoring!T52 -> 1 CONN | N51: =IF(M51="","",IF(K51=M51,L51,K51)) -> 4 CAL
B52: =Scoring!F53 -> 2 A&M | C52: =Scoring!G53 -> 2 A&M | D52: =Scoring!H53 -> 3 FSU | E52: =Scoring!I53 -> 2 A&M | F52: =Scoring!J53 -> 3 FSU | G52: =Scoring!K53 -> 2 A&M | H52: =Scoring!L53 -> 2 A&M | K52: =Scoring!R53 -> 2 A&M | L52: =Scoring!S53 -> 6 ASU | M52: =Scoring!T53 -> 2 A&M | N52: =IF(M52="","",IF(K52=M52,L52,K52)) -> 6 ASU
B53: =Scoring!F54 -> 1 DUKE | C53: =Scoring!G54 -> 1 DUKE | D53: =Scoring!H54 -> 5 TENN | E53: =Scoring!I54 -> 1 DUKE | F53: =Scoring!J54 -> 1 DUKE | G53: =Scoring!K54 -> 1 DUKE | H53: =Scoring!L54 -> 1 DUKE | K53: =Scoring!R54 -> 9 MSU | L53: =Scoring!S54 -> 4 ISU | M53: =Scoring!T54 -> 4 ISU | N53: =IF(M53="","",IF(K53=M53,L53,K53)) -> 9 MSU
B54: =Scoring!F55 -> 2 STAN | C54: =Scoring!G55 -> 2 STAN | D54: =Scoring!H55 -> 2 STAN | E54: =Scoring!I55 -> 2 STAN | F54: =Scoring!J55 -> 2 STAN | G54: =Scoring!K55 -> 2 STAN | H54: =Scoring!L55 -> 2 STAN | K54: =Scoring!R55 -> 2 STAN | L54: =Scoring!S55 -> 3 OSU | M54: =Scoring!T55 -> 2 STAN | N54: =IF(M54="","",IF(K54=M54,L54,K54)) -> 3 OSU
B55: =Scoring!F56 -> 1 MD | C55: =Scoring!G56 -> 1 MD | D55: =Scoring!H56 -> 1 MD | E55: =Scoring!I56 -> 1 MD | F55: =Scoring!J56 -> 1 MD | G55: =Scoring!K56 -> 1 MD | H55: =Scoring!L56 -> 1 MD | K55: =Scoring!R56 -> 1 MD | L55: =Scoring!S56 -> 4 VAN | M55: =Scoring!T56 -> 1 MD | N55: =IF(M55="","",IF(K55=M55,L55,K55)) -> 4 VAN
B56: =Scoring!F57 -> 2 BAY | C56: =Scoring!G57 -> 2 BAY | D56: =Scoring!H57 -> 2 BAY | E56: =Scoring!I57 -> 2 BAY | F56: =Scoring!J57 -> 2 BAY | G56: =Scoring!K57 -> 6 LSU | H56: =Scoring!L57 -> 2 BAY | K56: =Scoring!R57 -> 2 BAY | L56: =Scoring!S57 -> 3 UL | M56: =Scoring!T57 -> 3 UL | N56: =IF(M56="","",IF(K56=M56,L56,K56)) -> 2 BAY
B57: =Scoring!F58 -> 1 OKLA | C57: =Scoring!G58 -> 1 OKLA | D57: =Scoring!H58 -> 1 OKLA | E57: =Scoring!I58 -> 1 OKLA | F57: =Scoring!J58 -> 1 OKLA | G57: =Scoring!K58 -> 1 OKLA | H57: =Scoring!L58 -> 1 OKLA | K57: =Scoring!R58 -> 1 OKLA | L57: =Scoring!S58 -> 4 PITT | M57: =Scoring!T58 -> 1 OKLA | N57: =IF(M57="","",IF(K57=M57,L57,K57)) -> 4 PITT
B58: =Scoring!F59 -> 7 RUT | C58: =Scoring!G59 -> 2 AUB | D58: =Scoring!H59 -> 2 AUB | E58: =Scoring!I59 -> 2 AUB | F58: =Scoring!J59 -> 3 UNC | G58: =Scoring!K59 -> 3 UNC | H58: =Scoring!L59 -> 3 UNC | K58: =Scoring!R59 -> 7 RUT | L58: =Scoring!S59 -> 6 PUR | M58: =Scoring!T59 -> 6 PUR | N58: =IF(M58="","",IF(K58=M58,L58,K58)) -> 7 RUT
A59: ROUND 4 | B59: =Scoring!F60 -> 1 CONN | C59: =Scoring!G60 -> 1 CONN | D59: =Scoring!H60 -> 1 CONN | E59: =Scoring!I60 -> 1 CONN | F59: =Scoring!J60 -> 1 CONN | G59: =Scoring!K60 -> 1 CONN | H59: =Scoring!L60 -> 1 CONN | K59: =Scoring!R60 -> 1 CONN | L59: =Scoring!S60 -> 2 A&M | M59: =Scoring!T60 -> 1 CONN | N59: =IF(M59="","",IF(K59=M59,L59,K59)) -> 2 A&M
B60: =Scoring!F61 -> 1 DUKE | C60: =Scoring!G61 -> 1 DUKE | D60: =Scoring!H61 -> 2 STAN | E60: =Scoring!I61 -> 1 DUKE | F60: =Scoring!J61 -> 1 DUKE | G60: =Scoring!K61 -> 1 DUKE | H60: =Scoring!L61 -> 1 DUKE | K60: =Scoring!R61 -> 4 ISU | L60: =Scoring!S61 -> 2 STAN | M60: =Scoring!T61 -> 2 STAN | N60: =IF(M60="","",IF(K60=M60,L60,K60)) -> 4 ISU
B61: =Scoring!F62 -> 2 BAY | C61: =Scoring!G62 -> 2 BAY | D61: =Scoring!H62 -> 1 MD | E61: =Scoring!I62 -> 1 MD | F61: =Scoring!J62 -> 1 MD | G61: =Scoring!K62 -> 1 MD | H61: =Scoring!L62 -> 1 MD | K61: =Scoring!R62 -> 1 MD | L61: =Scoring!S62 -> 3 UL | M61: =Scoring!T62 -> 3 UL | N61: =IF(M61="","",IF(K61=M61,L61,K61)) -> 1 MD
B62: =Scoring!F63 -> 1 OKLA | C62: =Scoring!G63 -> 2 AUB | D62: =Scoring!H63 -> 2 AUB | E62: =Scoring!I63 -> 1 OKLA | F62: =Scoring!J63 -> 3 UNC | G62: =Scoring!K63 -> 1 OKLA | H62: =Scoring!L63 -> 3 UNC | K62: =Scoring!R63 -> 1 OKLA | L62: =Scoring!S63 -> 6 PUR | M62: =Scoring!T63 -> 1 OKLA | N62: =IF(M62="","",IF(K62=M62,L62,K62)) -> 6 PUR
A63: ROUND 5 | B63: =Scoring!F64 -> 1 CONN | C63: =Scoring!G64 -> 1 CONN | D63: =Scoring!H64 -> 1 CONN | E63: =Scoring!I64 -> 1 CONN | F63: =Scoring!J64 -> 1 CONN | G63: =Scoring!K64 -> 1 CONN | H63: =Scoring!L64 -> 1 CONN | K63: =Scoring!R64 -> 1 CONN | L63: =Scoring!S64 -> 2 STAN | M63: =Scoring!T64 -> 1 CONN | N63: =IF(M63="","",IF(K63=M63,L63,K63)) -> 2 STAN
B64: =Scoring!F65 -> 1 OKLA | C64: =Scoring!G65 -> 2 AUB | D64: =Scoring!H65 -> 1 MD | E64: =Scoring!I65 -> 1 MD | F64: =Scoring!J65 -> 1 MD | G64: =Scoring!K65 -> 1 MD | H64: =Scoring!L65 -> 1 MD | K64: =Scoring!R65 -> 3 UL | L64: =Scoring!S65 -> 1 OKLA | M64: =Scoring!T65 -> 3 UL | N64: =IF(M64="","",IF(K64=M64,L64,K64)) -> 1 OKLA
A65: FINAL | B65: =Scoring!F66 -> 1 CONN | C65: =Scoring!G66 -> 1 CONN | D65: =Scoring!H66 -> 1 MD | E65: =Scoring!I66 -> 1 CONN | F65: =Scoring!J66 -> 1 CONN | G65: =Scoring!K66 -> 1 CONN | H65: =Scoring!L66 -> 1 CONN | K65: =Scoring!R66 -> 1 CONN | L65: =Scoring!S66 -> 3 UL | M65: =Scoring!T66 | N65: =IF(M65="","",IF(K65=M65,L65,K65))

Sheet Placings
A2: Scoring: Seeds | B2: =Scoring!AB2 -> AnthonyP | C2: =Scoring!AC2 -> ChrisR | D2: =Scoring!AD2 -> EricP | E2: =Scoring!AE2 -> JoeG | F2: =Scoring!AF2 -> JohnP | G2: =Scoring!AG2 -> JoshF | H2: =Scoring!AH2 -> ScottP
A3: Current Place | B3: =RANK(B4,$B$4:$I$4) -> 3 | C3: =RANK(C4,$B$4:$I$4) -> 7 | D3: =RANK(D4,$B$4:$I$4) -> 1 | E3: =RANK(E4,$B$4:$I$4) -> 2 | F3: =RANK(F4,$B$4:$I$4) -> 6 | G3: =RANK(G4,$B$4:$I$4) -> 5 | H3: =RANK(H4,$B$4:$I$4) -> 4
A4: Total | B4: =Scoring!AB67 -> 44 | C4: =Scoring!AC67 -> 27 | D4: =Scoring!AD67 -> 51.5 | E4: =Scoring!AE67 -> 51 | F4: =Scoring!AF67 -> 27.5 | G4: =Scoring!AG67 -> 38 | H4: =Scoring!AH67 -> 42
A5: Round 1 | B5: =Scoring!AB68 -> 6 | C5: =Scoring!AC68 -> 14 | D5: =Scoring!AD68 -> 20 | E5: =Scoring!AE68 -> 10 | F5: =Scoring!AF68 -> 17 | G5: =Scoring!AG68 -> 21 | H5: =Scoring!AH68 -> 20
A6: Round 2 | B6: =Scoring!AB69 -> 24 | C6: =Scoring!AC69 -> 9 | D6: =Scoring!AD69 -> 16.5 | E6: =Scoring!AE69 -> 27 | F6: =Scoring!AF69 -> 10.5 | G6: =Scoring!AG69 -> 3 | H6: =Scoring!AH69 -> 18
A7: Round 3 | B7: =Scoring!AB70 -> 4 | C7: =Scoring!AC70 -> 4 | D7: =Scoring!AD70 -> 0 | E7: =Scoring!AE70 -> 4 | F7: =Scoring!AF70 -> 0 | G7: =Scoring!AG70 -> 4 | H7: =Scoring!AH70 -> 4
A8: Round 4 | B8: =Scoring!AB71 -> 10 | C8: =Scoring!AC71 -> 0 | D8: =Scoring!AD71 -> 15 | E8: =Scoring!AE71 -> 10 | F8: =Scoring!AF71 -> 0 | G8: =Scoring!AG71 -> 10 | H8: =Scoring!AH71 -> 0
A9: Round 5 | B9: =Scoring!AB72 -> 0 | C9: =Scoring!AC72 -> 0 | D9: =Scoring!AD72 -> 0 | E9: =Scoring!AE72 -> 0 | F9: =Scoring!AF72 -> 0 | G9: =Scoring!AG72 -> 0 | H9: =Scoring!AH72 -> 0
A10: Round 6 | B10: =Scoring!AB73 -> 0 | C10: =Scoring!AC73 -> 0 | D10: =Scoring!AD73 -> 0 | E10: =Scoring!AE73 -> 0 | F10: =Scoring!AF73 -> 0 | G10: =Scoring!AG73 -> 0 | H10: =Scoring!AH73 -> 0
A12: =Scoring!Y74 -> Points Left For Rd 2-6 | B12: =Scoring!AB74 -> 339 | C12: =Scoring!AC74 -> 294.5 | D12: =Scoring!AD74 -> 255.5 | E12: =Scoring!AE74 -> 224.5 | F12: =Scoring!AF74 -> 172.5 | G12: =Scoring!AG74 -> 129 | H12: =Scoring!AH74 -> 68
A13: =Scoring!Y75 -> Points Left For Rd 3-6 | B13: =Scoring!AB75 -> 62 | C13: =Scoring!AC75 -> 6.5 | D13: =Scoring!AD75 -> 33 | E13: =Scoring!AE75 -> 12.5 | F13: =Scoring!AF75 -> 3 | G13: =Scoring!AG75 -> -13.5 | H13: =Scoring!AH75 -> -18.5
A14: =Scoring!Y76 -> Points Left For Rd 4-6 | B14: =Scoring!AB76 -> 31.5 | C14: =Scoring!AC76 -> -2 | D14: =Scoring!AD76 -> 39 | E14: =Scoring!AE76 -> 16.5 | F14: =Scoring!AF76 -> 9 | G14: =Scoring!AG76 -> 2.5 | H14: =Scoring!AH76 -> -2.5
A15: =Scoring!Y77 -> Points Left For Rd 5-6 | B15: =Scoring!AB77 -> 18.5 | C15: =Scoring!AC77 -> 0.5 | D15: =Scoring!AD77 -> -3 | E15: =Scoring!AE77 -> 0.5 | F15: =Scoring!AF77 -> -6 | G15: =Scoring!AG77 -> -6 | H15: =Scoring!AH77 -> -9
A16: =Scoring!Y78 -> Points Left For Rd 6 | B16: =Scoring!AB78 -> 3.5 | C16: =Scoring!AC78 -> 3.5 | D16: =Scoring!AD78 -> 0 | E16: =Scoring!AE78 -> 3.5 | F16: =Scoring!AF78 -> 0 | G16: =Scoring!AG78 -> 0 | H16: =Scoring!AH78 -> 0
A18: Number of Wins Rd 1 | B18: =Scoring!F244 -> 23 | C18: =Scoring!G244 -> 26 | D18: =Scoring!H244 -> 27 | E18: =Scoring!I244 -> 24 | F18: =Scoring!J244 -> 25 | G18: =Scoring!K244 -> 27 | H18: =Scoring!L244 -> 27
A19: Number of Wins Rd 2 | B19: =Scoring!F245 -> 11 | C19: =Scoring!G245 -> 9 | D19: =Scoring!H245 -> 10 | E19: =Scoring!I245 -> 12 | F19: =Scoring!J245 -> 9 | G19: =Scoring!K245 -> 7 | H19: =Scoring!L245 -> 11
A20: Number of Wins Rd 3 | B20: =Scoring!F246 -> 5 | C20: =Scoring!G246 -> 5 | D20: =Scoring!H246 -> 4 | E20: =Scoring!I246 -> 5 | F20: =Scoring!J246 -> 4 | G20: =Scoring!K246 -> 5 | H20: =Scoring!L246 -> 5
A21: Number of Wins Rd 4 | B21: =Scoring!F247 -> 2 | C21: =Scoring!G247 -> 1 | D21: =Scoring!H247 -> 2 | E21: =Scoring!I247 -> 2 | F21: =Scoring!J247 -> 1 | G21: =Scoring!K247 -> 2 | H21: =Scoring!L247 -> 1
A22: Number of Wins Rd 5 | B22: =Scoring!F248 -> 1 | C22: =Scoring!G248 -> 1 | D22: =Scoring!H248 -> 1 | E22: =Scoring!I248 -> 1 | F22: =Scoring!J248 -> 1 | G22: =Scoring!K248 -> 1 | H22: =Scoring!L248 -> 1
A23: Number of Wins Rd 6 | B23: =Scoring!F249 -> 0 | C23: =Scoring!G249 -> 0 | D23: =Scoring!H249 -> 0 | E23: =Scoring!I249 -> 0 | F23: =Scoring!J249 -> 0 | G23: =Scoring!K249 -> 0 | H23: =Scoring!L249 -> 0
A24: Total Wins | B24: =SUM(B18:B23) -> 42 | C24: =SUM(C18:C23) -> 42 | D24: =SUM(D18:D23) -> 44 | E24: =SUM(E18:E23) -> 44 | F24: =SUM(F18:F23) -> 40 | G24: =SUM(G18:G23) -> 42 | H24: =SUM(H18:H23) -> 45
A25: Tot Rank for Wins | B25: =RANK(B24,$B$24:$I$24) -> 4 | C25: =RANK(C24,$B$24:$I$24) -> 4 | D25: =RANK(D24,$B$24:$I$24) -> 2 | E25: =RANK(E24,$B$24:$I$24) -> 2 | F25: =RANK(F24,$B$24:$I$24) -> 7 | G25: =RANK(G24,$B$24:$I$24) -> 4 | H25: =RANK(H24,$B$24:$I$24) -> 1

Sheet Master
A2: Indianapolis | B2: 1 CONN | AF2: 1 MD | AH2: Boston MA
E4: =B2 -> 1 CONN | AC4: =AF2 -> 1 MD
B6: 16 UVM | AF6: 16 DART
H8: =E4 -> 1 CONN | Z8: =Master!AC4 -> 1 MD
B10: 8 FLA | AF10: 8 VILL
E12: =B10 -> 8 FLA | AC12: =AF14 -> 9 UTAH
B14: 9 TEM | AF14: 9 UTAH
K16: =H8 -> 1 CONN | W16: =Z8 -> 1 MD
B18: 4 CAL | AF18: 4 VAN
E20: =B18 -> 4 CAL | AC20: =AF18 -> 4 VAN
B22: 13 FRES | AF22: 13 WCU
H24: =E20 -> 4 CAL | Z24: =AC20 -> 4 VAN
B26: 5 UVA | AF26: 5 KSU
E28: =B26 -> 5 UVA | AC28: =AF26 -> 5 KSU
B30: 12 MRST | AF30: 12 DREX
N32: =K16 -> 1 CONN | T32: =W48 -> 3 UL
B34: 2 A&M | AF34: 2 BAY
E36: =B34 -> 2 A&M | AC36: =AF34 -> 2 BAY
B38: 15 EVAN | AF38: 15 UTSA
H40: =E36 -> 2 A&M | Z40: =AC36 -> 2 BAY
B42: 7 ND | AF42: 7 SDS
E44: =B46 -> 10 MINN | AC44: =AF42 -> 7 SDS
B46: 10 MINN | AF46: 10 TCU
K48: =H40 -> 2 A&M | Q48: =N32 -> 1 CONN | W48: =Z56 -> 3 UL
B50: 3 FSU | AF50: 3 UL
E52: =B50 -> 3 FSU | AC52: =AF50 -> 3 UL
B54: 14 NCAT | AF54: 14 LIB
H56: =E60 -> 6 ASU | Z56: =AC52 -> 3 UL
B58: 6 ASU | AF58: 6 LSU
E60: =B58 -> 6 ASU | AC60: =AF58 -> 6 LSU
B62: 11 UGA | AF62: 11 UWGB
A68: Glendale AZ | B68: 1 DUKE | AF68: 1 OKLA | AH68: Memhis
E70: =B68 -> 1 DUKE | AC70: =AF68 -> 1 OKLA
B72: 16 APSU | AF72: 16 PV
H74: =E78 -> 9 MSU | Z74: =AC70 -> 1 OKLA
B76: 8 MTSU | AF76: 8 IOWA
E78: =B80 -> 9 MSU | AC78: =AF80 -> 9 GT
B80: 9 MSU | AF80: 9 GT
K82: =H90 -> 4 ISU | Q82: =T32 -> 3 UL | W82: =Z74 -> 1 OKLA
B84: 4 ISU | AF84: 4 PITT
E86: =B84 -> 4 ISU | AC86: =AF84 -> 4 PITT
B88: 13 ETSU | AF88: 13 MONT
H90: =E86 -> 4 ISU | Z90: =AC86 -> 4 PITT
B92: 5 TENN | AF92: 5 XAV
E94: =B96 -> 12 BALL | AC94: =AF96 -> 12 GONZ
B96: 12 BALL | AF96: 12 GONZ
N98: =K114 -> 2 STAN | T98: =W82 -> 1 OKLA
B100: 2 STAN | AF100: 2 AUB
E102: =B100 -> 2 STAN | AC102: =AF100 -> 2 AUB
B104: 15 UCSB | AF104: 15 LEH
H106: =E102 -> 2 STAN | Z106: =AC110 -> 7 RUT
B108: 7 DEP | AF108: 7 RUT
E110: =B112 -> 10 SDSU | AC110: =AF108 -> 7 RUT
B112: 10 SDSU | AF112: 10 VCU
K114: =H106 -> 2 STAN | W114: =Z122 -> 6 PUR
B116: 3 OSU | AF116: 3 UNC
E118: =B116 -> 3 OSU | AC118: =AF116 -> 3 UNC
B120: 14 SHU | AF120: 14 UCF
H122: =E118 -> 3 OSU | Z122: =AC126 -> 6 PUR
B124: 6 TEX | AF124: 6 PUR
E126: =B128 -> 11 MSU | AC126: =AF124 -> 6 PUR
B128: 11 MSU | AF128: 11 CHAR
B139: =Scoring!A179 -> Winner | C139: =Scoring!B179 -> Loser
B140: =Scoring!A180 -> 1 CONN | C140: =Scoring!B180 -> 16 UVM
B141: =Scoring!A181 -> 8 FLA | C141: =Scoring!B181 -> 9 TEM
B142: =Scoring!A182 -> 4 CAL | C142: =Scoring!B182 -> 13 FRES
B143: =Scoring!A183 -> 5 UVA | C143: =Scoring!B183 -> 12 MRST
B144: =Scoring!A184 -> 2 A&M | C144: =Scoring!B184 -> 15 EVAN
B145: =Scoring!A185 -> 10 MINN | C145: =Scoring!B185 -> 7 ND
B146: =Scoring!A186 -> 3 FSU | C146: =Scoring!B186 -> 14 NCAT
B147: =Scoring!A187 -> 6 ASU | C147: =Scoring!B187 -> 11 UGA
B148: =Scoring!A188 -> 1 DUKE | C148: =Scoring!B188 -> 16 APSU
B149: =Scoring!A189 -> 9 MSU | C149: =Scoring!B189 -> 8 MTSU
B150: =Scoring!A190 -> 4 ISU | C150: =Scoring!B190 -> 13 ETSU
... B202: =Scoring!A242 | C202: =Scoring!B242
