Workbook

Sheet Scoring
A1: 1 Connecticut | B1: 1 | E1: HiSeeds | F1: AnthonyP | G1: BenC | H1: CandaceP | I1: ChrisR | J1: DanielV | K1: DavidS | L1: EricP | M1: JamesB | N1: JoeG | O1: JohnP | P1: JoshF | Q1: MasonC | R1: MelodyS | S1: MichaelJ | T1: ScottP | V1: Master | X1: 15 | Z1: Master | AA1: Master | AB1: Master | AF1: Wstyle | AG1: 1 | AZ1: Master
A2: 1 Louisville | B2: 1 | C2: Round 1 | AI2: HiSeeds | AJ2: AnthonyP | AK2: BenC | AL2: CandaceP | AM2: ChrisR | AN2: DanielV | AO2: DavidS | AP2: EricP | AQ2: JamesB | AR2: JoeG | AS2: JohnP | AT2: JoshF | AU2: MasonC | AV2: MelodyS | AW2: MichaelJ | AX2: ScottP | AZ2: Best Possible
A3: 1 North Carolina | B3: 1 | C3: Player | D3: Insert3 | E3: 0 | F3: 1 | G3: 2 | H3: 3 | I3: 4 | J3: 5 | K3: 6 | L3: 7 | M3: 8 | N3: 9 | O3: 10 | P3: 11 | Q3: 12 | R3: 13 | S3: 14 | T3: 15 | V3: =AZ3 -> 15 | X3: Favorite | Y3: Underdog | Z3: Player1 | AA3: Player2 | AB3: Winner | AC3: Loser | AD3: SeedFav | AE3: SeedUdr | AF3: RndPts | AG3: Weighted Total | AH3: Insert1 | AI3: 0 | AJ3: =AI3+1 -> 1 | AK3: =AJ3+1 -> 2 | AL3: =AK3+1 -> 3 | AM3: =AL3+1 -> 4 | AN3: =AM3+1 -> 5 | AO3: =AN3+1 -> 6 | AP3: =AO3+1 -> 7 | AQ3: =AP3+1 -> 8 | ... AX3: =AW3+1 -> 15 | AZ3: =OFFSET(BA3,0,-3) -> 15 | BZ3: Player 1 | CA3: Player 2
A4: 1 Pittsburgh | B4: 1 | C4: E1 | D4: =OFFSET($F4,0,$D$67) -> 1 Louisville | E4: 1 Louisville | F4: 1 Louisville | G4: 1 Louisville | H4: 1 Louisville | I4: 1 Louisville | J4: 1 Louisville | K4: 1 Louisville | L4: 1 Louisville | M4: 1 Louisville | N4: 1 Louisville | O4: 1 Louisville | P4: 1 Louisville | Q4: 1 Louisville | R4: 1 Louisville | S4: 1 Louisville | T4: 1 Louisville | V4: =INDIRECT(BU4) -> 1 Louisville | X4: =IF($AG$1=3,AF4*AD4,IF($AG$1=2,AF4+AD4,IF($AG$1=4,AF4,$AG4-($AG4*COUNTIF($F4:$U4,$Z4)/$X$1)))) -> 0 | Y4: =IF($AG$1=3,AF4*AE4,IF($AG$1=2,AF4+AE4,IF($AG$1=4,AF4,$AG4-($AG4*COUNTIF($F4:$U4,$AA4)/$X$1)))) -> 15 | Z4: =INDIRECT(BZ4) -> 1 Louisville | AA4: =INDIRECT(CA4) -> 16 Alabama State-Morehead State winner | AB4: =IF(INDIRECT(CB4)=0,"",INDIRECT(CB4)) -> 1 Louisville | AC4: =IF(AA4=0,1,IF(Z4=0,1,IF(AB4=0,1,IF(AB4="","",IF(Z4=AB4,AA4,Z4))))) -> 16 Alabama State-Morehead State winner | AD4: =VLOOKUP(Z4,$A$1:$B$64,2) -> 1 | AE4: =VLOOKUP(AA4,$A$1:$B$64,2) -> 1 | AF4: 1 | AG4: 15 | AH4: Redrag4 | AI4: =IF(E4=$AB4,(IF(E4=$Z4,$X4,$Y4)),0) -> 0 | AJ4: =IF(F4=$AB4,(IF(F4=$Z4,$X4,$Y4)),0) -> 0 | AK4: =IF(G4=$AB4,(IF(G4=$Z4,$X4,$Y4)),0) -> 0 | AL4: =IF(H4=$AB4,(IF(H4=$Z4,$X4,$Y4)),0) -> 0 | AM4: =IF(I4=$AB4,(IF(I4=$Z4,$X4,$Y4)),0) -> 0 | AN4: =IF(J4=$AB4,(IF(J4=$Z4,$X4,$Y4)),0) -> 0 | AO4: =IF(K4=$AB4,(IF(K4=$Z4,$X4,$Y4)),0) -> 0 | AP4: =IF(L4=$AB4,(IF(L4=$Z4,$X4,$Y4)),0) -> 0 | ... AX4: =IF(T4=$AB4,(IF(T4=$Z4,$X4,$Y4)),0) -> 0 | AZ4: =IF(V4=$AB4,(IF(V4=$Z4,$X4,$Y4)),0) -> 0 | BB4: E4 | BU4: =CONCATENATE(AZ$1,"!",$BB4) -> Master!E4 | BW4: B2 | BX4: B6 | BZ4: =CONCATENATE(Z$1,"!",$BW4) -> Master!B2 | CA4: =CONCATENATE(AA$1,"!",$BX4) -> Master!B6 | CB4: =CONCATENATE(AB$1,"!",$BB4) -> Master!E4
A5: 2 Duke | B5: 10 | C5: E2 | D5: =OFFSET($F5,0,$D$67) -> 8 Ohio State | E5: 8 Ohio State | F5: 8 Ohio State | G5: 9 Siena | H5: 8 Ohio State | I5: 9 Siena | J5: 8 Ohio State | K5: 8 Ohio State | L5: 8 Ohio State | M5: 9 Siena | N5: 8 Ohio State | O5: 8 Ohio State | P5: 8 Ohio State | Q5: 8 Ohio State | R5: 8 Ohio State | S5: 8 Ohio State | T5: 8 Ohio State | V5: =INDIRECT(BU5) -> 9 Siena | X5: =IF($AG$1=3,AF5*AD5,IF($AG$1=2,AF5+AD5,IF($AG$1=4,AF5,$AG5-($AG5*COUNTIF($F5:$U5,$Z5)/$X$1)))) -> 3 | Y5: =IF($AG$1=3,AF5*AE5,IF($AG$1=2,AF5+AE5,IF($AG$1=4,AF5,$AG5-($AG5*COUNTIF($F5:$U5,$AA5)/$X$1)))) -> 12 | Z5: =INDIRECT(BZ5) -> 8 Ohio State | AA5: =INDIRECT(CA5) -> 9 Siena | AB5: =IF(INDIRECT(CB5)=0,"",INDIRECT(CB5)) -> 9 Siena | AC5: =IF(AA5=0,1,IF(Z5=0,1,IF(AB5=0,1,IF(AB5="","",IF(Z5=AB5,AA5,Z5))))) -> 8 Ohio State | AD5: =VLOOKUP(Z5,$A$1:$B$64,2) -> 16 | AE5: =VLOOKUP(AA5,$A$1:$B$64,2) -> 9 | AF5: 1 | AG5: 15 | AI5: =IF(E5=$AB5,(IF(E5=$Z5,$X5,$Y5)),0) -> 0 | AJ5: =IF(F5=$AB5,(IF(F5=$Z5,$X5,$Y5)),0) -> 0 | AK5: =IF(G5=$AB5,(IF(G5=$Z5,$X5,$Y5)),0) -> 12 | AL5: =IF(H5=$AB5,(IF(H5=$Z5,$X5,$Y5)),0) -> 0 | AM5: =IF(I5=$AB5,(IF(I5=$Z5,$X5,$Y5)),0) -> 12 | AN5: =IF(J5=$AB5,(IF(J5=$Z5,$X5,$Y5)),0) -> 0 | AO5: =IF(K5=$AB5,(IF(K5=$Z5,$X5,$Y5)),0) -> 0 | AP5: =IF(L5=$AB5,(IF(L5=$Z5,$X5,$Y5)),0) -> 0 | ... AX5: =IF(T5=$AB5,(IF(T5=$Z5,$X5,$Y5)),0) -> 0 | AZ5: =IF(V5=$AB5,(IF(V5=$Z5,$X5,$Y5)),0) -> 12 | BB5: E12 | BU5: =CONCATENATE(AZ$1,"!",$BB5) -> Master!E12 | BW5: B10 | BX5: B14 | BZ5: =CONCATENATE(Z$1,"!",$BW5) -> Master!B10 | CA5: =CONCATENATE(AA$1,"!",$BX5) -> Master!B14 | CB5: =CONCATENATE(AB$1,"!",$BB5) -> Master!E12
A6: 2 Memphis | B6: 10 | C6: E3 | D6: =OFFSET($F6,0,$D$67) -> 4 Wake Forest | E6: 4 Wake Forest | F6: 4 Wake Forest | G6: 4 Wake Forest | H6: 4 Wake Forest | I6: 4 Wake Forest | J6: 4 Wake Forest | K6: 13 Cleveland State | L6: 4 Wake Forest | M6: 4 Wake Forest | N6: 4 Wake Forest | O6: 4 Wake Forest | P6: 4 Wake Forest | Q6: 4 Wake Forest | R6: 4 Wake Forest | S6: 4 Wake Forest | T6: 4 Wake Forest | V6: =INDIRECT(BU6) -> 13 Cleveland State | X6: =IF($AG$1=3,AF6*AD6,IF($AG$1=2,AF6+AD6,IF($AG$1=4,AF6,$AG6-($AG6*COUNTIF($F6:$U6,$Z6)/$X$1)))) -> 1 | Y6: =IF($AG$1=3,AF6*AE6,IF($AG$1=2,AF6+AE6,IF($AG$1=4,AF6,$AG6-($AG6*COUNTIF($F6:$U6,$AA6)/$X$1)))) -> 14 | Z6: =INDIRECT(BZ6) -> 4 Wake Forest | AA6: =INDIRECT(CA6) -> 13 Cleveland State | AB6: =IF(INDIRECT(CB6)=0,"",INDIRECT(CB6)) -> 13 Cleveland State | AC6: =IF(AA6=0,1,IF(Z6=0,1,IF(AB6=0,1,IF(AB6="","",IF(Z6=AB6,AA6,Z6))))) -> 4 Wake Forest | AD6: =VLOOKUP(Z6,$A$1:$B$64,2) -> 12 | AE6: =VLOOKUP(AA6,$A$1:$B$64,2) -> 1 | AF6: 1 | AG6: 15 | AI6: =IF(E6=$AB6,(IF(E6=$Z6,$X6,$Y6)),0) -> 0 | AJ6: =IF(F6=$AB6,(IF(F6=$Z6,$X6,$Y6)),0) -> 0 | AK6: =IF(G6=$AB6,(IF(G6=$Z6,$X6,$Y6)),0) -> 0 | AL6: =IF(H6=$AB6,(IF(H6=$Z6,$X6,$Y6)),0) -> 0 | AM6: =IF(I6=$AB6,(IF(I6=$Z6,$X6,$Y6)),0) -> 0 | AN6: =IF(J6=$AB6,(IF(J6=$Z6,$X6,$Y6)),0) -> 0 | AO6: =IF(K6=$AB6,(IF(K6=$Z6,$X6,$Y6)),0) -> 14 | AP6: =IF(L6=$AB6,(IF(L6=$Z6,$X6,$Y6)),0) -> 0 | ... AX6: =IF(T6=$AB6,(IF(T6=$Z6,$X6,$Y6)),0) -> 0 | AZ6: =IF(V6=$AB6,(IF(V6=$Z6,$X6,$Y6)),0) -> 14 | BB6: E20 | BU6: =CONCATENATE(AZ$1,"!",$BB6) -> Master!E20 | BW6: B18 | BX6: B22 | BZ6: =CONCATENATE(Z$1,"!",$BW6) -> Master!B18 | CA6: =CONCATENATE(AA$1,"!",$BX6) -> Master!B22 | CB6: =CONCATENATE(AB$1,"!",$BB6) -> Master!E20
A7: 2 Michigan State | B7: 10 | C7: E4 | D7: =OFFSET($F7,0,$D$67) -> 12 Arizona | E7: 5 Utah | F7: 12 Arizona | G7: 5 Utah | H7: 12 Arizona | I7: 5 Utah | J7: 5 Utah | K7: 5 Utah | L7: 5 Utah | M7: 12 Arizona | N7: 5 Utah | O7: 5 Utah | P7: 12 Arizona | Q7: 12 Arizona | R7: 12 Arizona | S7: 5 Utah | T7: 12 Arizona | V7: =INDIRECT(BU7) -> 12 Arizona | X7: =IF($AG$1=3,AF7*AD7,IF($AG$1=2,AF7+AD7,IF($AG$1=4,AF7,$AG7-($AG7*COUNTIF($F7:$U7,$Z7)/$X$1)))) -> 7 | Y7: =IF($AG$1=3,AF7*AE7,IF($AG$1=2,AF7+AE7,IF($AG$1=4,AF7,$AG7-($AG7*COUNTIF($F7:$U7,$AA7)/$X$1)))) -> 8 | Z7: =INDIRECT(BZ7) -> 5 Utah | AA7: =INDIRECT(CA7) -> 12 Arizona | AB7: =IF(INDIRECT(CB7)=0,"",INDIRECT(CB7)) -> 12 Arizona | AC7: =IF(AA7=0,1,IF(Z7=0,1,IF(AB7=0,1,IF(AB7="","",IF(Z7=AB7,AA7,Z7))))) -> 5 Utah | AD7: =VLOOKUP(Z7,$A$1:$B$64,2) -> 13 | AE7: =VLOOKUP(AA7,$A$1:$B$64,2) -> 1 | AF7: 1 | AG7: 15 | AI7: =IF(E7=$AB7,(IF(E7=$Z7,$X7,$Y7)),0) -> 0 | AJ7: =IF(F7=$AB7,(IF(F7=$Z7,$X7,$Y7)),0) -> 8 | AK7: =IF(G7=$AB7,(IF(G7=$Z7,$X7,$Y7)),0) -> 0 | AL7: =IF(H7=$AB7,(IF(H7=$Z7,$X7,$Y7)),0) -> 8 | AM7: =IF(I7=$AB7,(IF(I7=$Z7,$X7,$Y7)),0) -> 0 | AN7: =IF(J7=$AB7,(IF(J7=$Z7,$X7,$Y7)),0) -> 0 | AO7: =IF(K7=$AB7,(IF(K7=$Z7,$X7,$Y7)),0) -> 0 | AP7: =IF(L7=$AB7,(IF(L7=$Z7,$X7,$Y7)),0) -> 0 | ... AX7: =IF(T7=$AB7,(IF(T7=$Z7,$X7,$Y7)),0) -> 8 | AZ7: =IF(V7=$AB7,(IF(V7=$Z7,$X7,$Y7)),0) -> 8 | BB7: E28 | BU7: =CONCATENATE(AZ$1,"!",$BB7) -> Master!E28 | BW7: B26 | BX7: B30 | BZ7: =CONCATENATE(Z$1,"!",$BW7) -> Master!B26 | CA7: =CONCATENATE(AA$1,"!",$BX7) -> Master!B30 | CB7: =CONCATENATE(AB$1,"!",$BB7) -> Master!E28
A8: 2 Oklahoma | B8: 10 | C8: E5 | D8: =OFFSET($F8,0,$D$67) -> 2 Michigan State | E8: 2 Michigan State | F8: 2 Michigan State | G8: 2 Michigan State | H8: 2 Michigan State | I8: 2 Michigan State | J8: 2 Michigan State | K8: 2 Michigan State | L8: 2 Michigan State | M8: 2 Michigan State | N8: 2 Michigan State | O8: 2 Michigan State | P8: 2 Michigan State | Q8: 2 Michigan State | R8: 2 Michigan State | S8: 2 Michigan State | T8: 2 Michigan State | V8: =INDIRECT(BU8) -> 2 Michigan State | X8: =IF($AG$1=3,AF8*AD8,IF($AG$1=2,AF8+AD8,IF($AG$1=4,AF8,$AG8-($AG8*COUNTIF($F8:$U8,$Z8)/$X$1)))) -> 0 | Y8: =IF($AG$1=3,AF8*AE8,IF($AG$1=2,AF8+AE8,IF($AG$1=4,AF8,$AG8-($AG8*COUNTIF($F8:$U8,$AA8)/$X$1)))) -> 15 | Z8: =INDIRECT(BZ8) -> 2 Michigan State | AA8: =INDIRECT(CA8) -> 15 Robert Morris | AB8: =IF(INDIRECT(CB8)=0,"",INDIRECT(CB8)) -> 2 Michigan State | AC8: =IF(AA8=0,1,IF(Z8=0,1,IF(AB8=0,1,IF(AB8="","",IF(Z8=AB8,AA8,Z8))))) -> 15 Robert Morris | AD8: =VLOOKUP(Z8,$A$1:$B$64,2) -> 10 | AE8: =VLOOKUP(AA8,$A$1:$B$64,2) -> 1 | AF8: 1 | AG8: 15 | AI8: =IF(E8=$AB8,(IF(E8=$Z8,$X8,$Y8)),0) -> 0 | AJ8: =IF(F8=$AB8,(IF(F8=$Z8,$X8,$Y8)),0) -> 0 | AK8: =IF(G8=$AB8,(IF(G8=$Z8,$X8,$Y8)),0) -> 0 | AL8: =IF(H8=$AB8,(IF(H8=$Z8,$X8,$Y8)),0) -> 0 | AM8: =IF(I8=$AB8,(IF(I8=$Z8,$X8,$Y8)),0) -> 0 | AN8: =IF(J8=$AB8,(IF(J8=$Z8,$X8,$Y8)),0) -> 0 | AO8: =IF(K8=$AB8,(IF(K8=$Z8,$X8,$Y8)),0) -> 0 | AP8: =IF(L8=$AB8,(IF(L8=$Z8,$X8,$Y8)),0) -> 0 | ... AX8: =IF(T8=$AB8,(IF(T8=$Z8,$X8,$Y8)),0) -> 0 | AZ8: =IF(V8=$AB8,(IF(V8=$Z8,$X8,$Y8)),0) -> 0 | BB8: E36 | BU8: =CONCATENATE(AZ$1,"!",$BB8) -> Master!E36 | BW8: B34 | BX8: B38 | BZ8: =CONCATENATE(Z$1,"!",$BW8) -> Master!B34 | CA8: =CONCATENATE(AA$1,"!",$BX8) -> Master!B38 | CB8: =CONCATENATE(AB$1,"!",$BB8) -> Master!E36
A9: 3 Kansas | B9: 11 | C9: E6 | D9: =OFFSET($F9,0,$D$67) -> 10 USC | E9: 7 Boston College | F9: 10 USC | G9: 7 Boston College | H9: 10 USC | I9: 10 USC | J9: 10 USC | K9: 10 USC | L9: 10 USC | M9: 10 USC | N9: 7 Boston College | O9: 10 USC | P9: 7 Boston College | Q9: 10 USC | R9: 10 USC | S9: 7 Boston College | T9: 7 Boston College | V9: =INDIRECT(BU9) -> 10 USC | X9: =IF($AG$1=3,AF9*AD9,IF($AG$1=2,AF9+AD9,IF($AG$1=4,AF9,$AG9-($AG9*COUNTIF($F9:$U9,$Z9)/$X$1)))) -> 10 | Y9: =IF($AG$1=3,AF9*AE9,IF($AG$1=2,AF9+AE9,IF($AG$1=4,AF9,$AG9-($AG9*COUNTIF($F9:$U9,$AA9)/$X$1)))) -> 5 | Z9: =INDIRECT(BZ9) -> 7 Boston College | AA9: =INDIRECT(CA9) -> 10 USC | AB9: =IF(INDIRECT(CB9)=0,"",INDIRECT(CB9)) -> 10 USC | AC9: =IF(AA9=0,1,IF(Z9=0,1,IF(AB9=0,1,IF(AB9="","",IF(Z9=AB9,AA9,Z9))))) -> 7 Boston College | AD9: =VLOOKUP(Z9,$A$1:$B$64,2) -> 15 | AE9: =VLOOKUP(AA9,$A$1:$B$64,2) -> 1 | AF9: 1 | AG9: 15 | AI9: =IF(E9=$AB9,(IF(E9=$Z9,$X9,$Y9)),0) -> 0 | AJ9: =IF(F9=$AB9,(IF(F9=$Z9,$X9,$Y9)),0) -> 5 | AK9: =IF(G9=$AB9,(IF(G9=$Z9,$X9,$Y9)),0) -> 0 | AL9: =IF(H9=$AB9,(IF(H9=$Z9,$X9,$Y9)),0) -> 5 | AM9: =IF(I9=$AB9,(IF(I9=$Z9,$X9,$Y9)),0) -> 5 | AN9: =IF(J9=$AB9,(IF(J9=$Z9,$X9,$Y9)),0) -> 5 | AO9: =IF(K9=$AB9,(IF(K9=$Z9,$X9,$Y9)),0) -> 5 | AP9: =IF(L9=$AB9,(IF(L9=$Z9,$X9,$Y9)),0) -> 5 | ... AX9: =IF(T9=$AB9,(IF(T9=$Z9,$X9,$Y9)),0) -> 0 | AZ9: =IF(V9=$AB9,(IF(V9=$Z9,$X9,$Y9)),0) -> 5 | BB9: E44 | BU9: =CONCATENATE(AZ$1,"!",$BB9) -> Master!E44 | BW9: B42 | BX9: B46 | BZ9: =CONCATENATE(Z$1,"!",$BW9) -> Master!B42 | CA9: =CONCATENATE(AA$1,"!",$BX9) -> Master!B46 | CB9: =CONCATENATE(AB$1,"!",$BB9) -> Master!E44
A10: 3 Missouri | B10: 11 | C10: E7 | D10: =OFFSET($F10,0,$D$67) -> 3 Kansas | E10: 3 Kansas | F10: 3 Kansas | G10: 3 Kansas | H10: 3 Kansas | I10: 3 Kansas | J10: 3 Kansas | K10: 3 Kansas | L10: 3 Kansas | M10: 3 Kansas | N10: 3 Kansas | O10: 3 Kansas | P10: 3 Kansas | Q10: 3 Kansas | R10: 3 Kansas | S10: 14 North Dakota State | T10: 3 Kansas | V10: =INDIRECT(BU10) -> 3 Kansas | X10: =IF($AG$1=3,AF10*AD10,IF($AG$1=2,AF10+AD10,IF($AG$1=4,AF10,$AG10-($AG10*COUNTIF($F10:$U10,$Z10)/$X$1)))) -> 1 | Y10: =IF($AG$1=3,AF10*AE10,IF($AG$1=2,AF10+AE10,IF($AG$1=4,AF10,$AG10-($AG10*COUNTIF($F10:$U10,$AA10)/$X$1)))) -> 14 | Z10: =INDIRECT(BZ10) -> 3 Kansas | AA10: =INDIRECT(CA10) -> 14 North Dakota State | AB10: =IF(INDIRECT(CB10)=0,"",INDIRECT(CB10)) -> 3 Kansas | AC10: =IF(AA10=0,1,IF(Z10=0,1,IF(AB10=0,1,IF(AB10="","",IF(Z10=AB10,AA10,Z10))))) -> 14 North Dakota State | AD10: =VLOOKUP(Z10,$A$1:$B$64,2) -> 11 | AE10: =VLOOKUP(AA10,$A$1:$B$64,2) -> 1 | AF10: 1 | AG10: 15 | AI10: =IF(E10=$AB10,(IF(E10=$Z10,$X10,$Y10)),0) -> 1 | AJ10: =IF(F10=$AB10,(IF(F10=$Z10,$X10,$Y10)),0) -> 1 | AK10: =IF(G10=$AB10,(IF(G10=$Z10,$X10,$Y10)),0) -> 1 | AL10: =IF(H10=$AB10,(IF(H10=$Z10,$X10,$Y10)),0) -> 1 | AM10: =IF(I10=$AB10,(IF(I10=$Z10,$X10,$Y10)),0) -> 1 | AN10: =IF(J10=$AB10,(IF(J10=$Z10,$X10,$Y10)),0) -> 1 | AO10: =IF(K10=$AB10,(IF(K10=$Z10,$X10,$Y10)),0) -> 1 | AP10: =IF(L10=$AB10,(IF(L10=$Z10,$X10,$Y10)),0) -> 1 | ... AX10: =IF(T10=$AB10,(IF(T10=$Z10,$X10,$Y10)),0) -> 1 | AZ10: =IF(V10=$AB10,(IF(V10=$Z10,$X10,$Y10)),0) -> 1 | BB10: E52 | BU10: =CONCATENATE(AZ$1,"!",$BB10) -> Master!E52 | BW10: B50 | BX10: B54 | BZ10: =CONCATENATE(Z$1,"!",$BW10) -> Master!B50 | CA10: =CONCATENATE(AA$1,"!",$BX10) -> Master!B54 | CB10: =CONCATENATE(AB$1,"!",$BB10) -> Master!E52
A11: 3 Syracuse | B11: 11 | C11: E8 | D11: =OFFSET($F11,0,$D$67) -> 6 West Virginia | E11: 6 West Virginia | F11: 6 West Virginia | G11: 6 West Virginia | H11: 6 West Virginia | I11: 6 West Virginia | J11: 11 Dayton | K11: 11 Dayton | L11: 6 West Virginia | M11: 6 West Virginia | N11: 6 West Virginia | O11: 6 West Virginia | P11: 6 West Virginia | Q11: 6 West Virginia | R11: 11 Dayton | S11: 6 West Virginia | T11: 6 West Virginia | V11: =INDIRECT(BU11) -> 11 Dayton | X11: =IF($AG$1=3,AF11*AD11,IF($AG$1=2,AF11+AD11,IF($AG$1=4,AF11,$AG11-($AG11*COUNTIF($F11:$U11,$Z11)/$X$1)))) -> 3 | Y11: =IF($AG$1=3,AF11*AE11,IF($AG$1=2,AF11+AE11,IF($AG$1=4,AF11,$AG11-($AG11*COUNTIF($F11:$U11,$AA11)/$X$1)))) -> 12 | Z11: =INDIRECT(BZ11) -> 6 West Virginia | AA11: =INDIRECT(CA11) -> 11 Dayton | AB11: =IF(INDIRECT(CB11)=0,"",INDIRECT(CB11)) -> 11 Dayton | AC11: =IF(AA11=0,1,IF(Z11=0,1,IF(AB11=0,1,IF(AB11="","",IF(Z11=AB11,AA11,Z11))))) -> 6 West Virginia | AD11: =VLOOKUP(Z11,$A$1:$B$64,2) -> 14 | AE11: =VLOOKUP(AA11,$A$1:$B$64,2) -> 1 | AF11: 1 | AG11: 15 | AI11: =IF(E11=$AB11,(IF(E11=$Z11,$X11,$Y11)),0) -> 0 | AJ11: =IF(F11=$AB11,(IF(F11=$Z11,$X11,$Y11)),0) -> 0 | AK11: =IF(G11=$AB11,(IF(G11=$Z11,$X11,$Y11)),0) -> 0 | AL11: =IF(H11=$AB11,(IF(H11=$Z11,$X11,$Y11)),0) -> 0 | AM11: =IF(I11=$AB11,(IF(I11=$Z11,$X11,$Y11)),0) -> 0 | AN11: =IF(J11=$AB11,(IF(J11=$Z11,$X11,$Y11)),0) -> 12 | AO11: =IF(K11=$AB11,(IF(K11=$Z11,$X11,$Y11)),0) -> 12 | AP11: =IF(L11=$AB11,(IF(L11=$Z11,$X11,$Y11)),0) -> 0 | ... AX11: =IF(T11=$AB11,(IF(T11=$Z11,$X11,$Y11)),0) -> 0 | AZ11: =IF(V11=$AB11,(IF(V11=$Z11,$X11,$Y11)),0) -> 12 | BB11: E60 | BU11: =CONCATENATE(AZ$1,"!",$BB11) -> Master!E60 | BW11: B58 | BX11: B62 | BZ11: =CONCATENATE(Z$1,"!",$BW11) -> Master!B58 | CA11: =CONCATENATE(AA$1,"!",$BX11) -> Master!B62 | CB11: =CONCATENATE(AB$1,"!",$BB11) -> Master!E60
A12: 3 Villanova | B12: 11 | C12: W1 | D12: =OFFSET($F12,0,$D$67) -> 1 Connecticut | E12: 1 Connecticut | F12: 1 Connecticut | G12: 1 Connecticut | H12: 1 Connecticut | I12: 1 Connecticut | J12: 1 Connecticut | K12: 1 Connecticut | L12: 1 Connecticut | M12: 1 Connecticut | N12: 1 Connecticut | O12: 1 Connecticut | P12: 1 Connecticut | Q12: 1 Connecticut | R12: 1 Connecticut | S12: 1 Connecticut | T12: 1 Connecticut | V12: =INDIRECT(BU12) -> 1 Connecticut | X12: =IF($AG$1=3,AF12*AD12,IF($AG$1=2,AF12+AD12,IF($AG$1=4,AF12,$AG12-($AG12*COUNTIF($F12:$U12,$Z12)/$X$1)))) -> 0 | Y12: =IF($AG$1=3,AF12*AE12,IF($AG$1=2,AF12+AE12,IF($AG$1=4,AF12,$AG12-($AG12*COUNTIF($F12:$U12,$AA12)/$X$1)))) -> 15 | Z12: =INDIRECT(BZ12) -> 1 Connecticut | AA12: =INDIRECT(CA12) -> 16 Chattanooga | AB12: =IF(INDIRECT(CB12)=0,"",INDIRECT(CB12)) -> 1 Connecticut | AC12: =IF(AA12=0,1,IF(Z12=0,1,IF(AB12=0,1,IF(AB12="","",IF(Z12=AB12,AA12,Z12))))) -> 16 Chattanooga | AD12: =VLOOKUP(Z12,$A$1:$B$64,2) -> 1 | AE12: =VLOOKUP(AA12,$A$1:$B$64,2) -> 1 | AF12: 1 | AG12: 15 | AI12: =IF(E12=$AB12,(IF(E12=$Z12,$X12,$Y12)),0) -> 0 | AJ12: =IF(F12=$AB12,(IF(F12=$Z12,$X12,$Y12)),0) -> 0 | AK12: =IF(G12=$AB12,(IF(G12=$Z12,$X12,$Y12)),0) -> 0 | AL12: =IF(H12=$AB12,(IF(H12=$Z12,$X12,$Y12)),0) -> 0 | AM12: =IF(I12=$AB12,(IF(I12=$Z12,$X12,$Y12)),0) -> 0 | AN12: =IF(J12=$AB12,(IF(J12=$Z12,$X12,$Y12)),0) -> 0 | AO12: =IF(K12=$AB12,(IF(K12=$Z12,$X12,$Y12)),0) -> 0 | AP12: =IF(L12=$AB12,(IF(L12=$Z12,$X12,$Y12)),0) -> 0 | ... AX12: =IF(T12=$AB12,(IF(T12=$Z12,$X12,$Y12)),0) -> 0 | AZ12: =IF(V12=$AB12,(IF(V12=$Z12,$X12,$Y12)),0) -> 0 | BB12: E70 | BU12: =CONCATENATE(AZ$1,"!",$BB12) -> Master!E70 | BW12: B68 | BX12: B72 | BZ12: =CONCATENATE(Z$1,"!",$BW12) -> Master!B68 | CA12: =CONCATENATE(AA$1,"!",$BX12) -> Master!B72 | CB12: =CONCATENATE(AB$1,"!",$BB12) -> Master!E70
A13: 4 Gonzaga | B13: 12 | C13: W2 | D13: =OFFSET($F13,0,$D$67) -> 9 Texas A&M | E13: 8 BYU | F13: 9 Texas A&M | G13: 9 Texas A&M | H13: 9 Texas A&M | I13: 9 Texas A&M | J13: 9 Texas A&M | K13: 9 Texas A&M | L13: 9 Texas A&M | M13: 9 Texas A&M | N13: 8 BYU | O13: 9 Texas A&M | P13: 8 BYU | Q13: 9 Texas A&M | R13: 9 Texas A&M | S13: 8 BYU | T13: 9 Texas A&M | V13: =INDIRECT(BU13) -> 9 Texas A&M | X13: =IF($AG$1=3,AF13*AD13,IF($AG$1=2,AF13+AD13,IF($AG$1=4,AF13,$AG13-($AG13*COUNTIF($F13:$U13,$Z13)/$X$1)))) -> 12 | Y13: =IF($AG$1=3,AF13*AE13,IF($AG$1=2,AF13+AE13,IF($AG$1=4,AF13,$AG13-($AG13*COUNTIF($F13:$U13,$AA13)/$X$1)))) -> 3 | Z13: =INDIRECT(BZ13) -> 8 BYU | AA13: =INDIRECT(CA13) -> 9 Texas A&M | AB13: =IF(INDIRECT(CB13)=0,"",INDIRECT(CB13)) -> 9 Texas A&M | AC13: =IF(AA13=0,1,IF(Z13=0,1,IF(AB13=0,1,IF(AB13="","",IF(Z13=AB13,AA13,Z13))))) -> 8 BYU | AD13: =VLOOKUP(Z13,$A$1:$B$64,2) -> 16 | AE13: =VLOOKUP(AA13,$A$1:$B$64,2) -> 9 | AF13: 1 | AG13: 15 | AI13: =IF(E13=$AB13,(IF(E13=$Z13,$X13,$Y13)),0) -> 0 | AJ13: =IF(F13=$AB13,(IF(F13=$Z13,$X13,$Y13)),0) -> 3 | AK13: =IF(G13=$AB13,(IF(G13=$Z13,$X13,$Y13)),0) -> 3 | AL13: =IF(H13=$AB13,(IF(H13=$Z13,$X13,$Y13)),0) -> 3 | AM13: =IF(I13=$AB13,(IF(I13=$Z13,$X13,$Y13)),0) -> 3 | AN13: =IF(J13=$AB13,(IF(J13=$Z13,$X13,$Y13)),0) -> 3 | AO13: =IF(K13=$AB13,(IF(K13=$Z13,$X13,$Y13)),0) -> 3 | AP13: =IF(L13=$AB13,(IF(L13=$Z13,$X13,$Y13)),0) -> 3 | ... AX13: =IF(T13=$AB13,(IF(T13=$Z13,$X13,$Y13)),0) -> 3 | AZ13: =IF(V13=$AB13,(IF(V13=$Z13,$X13,$Y13)),0) -> 3 | BB13: E78 | BU13: =CONCATENATE(AZ$1,"!",$BB13) -> Master!E78 | BW13: B76 | BX13: B80 | BZ13: =CONCATENATE(Z$1,"!",$BW13) -> Master!B76 | CA13: =CONCATENATE(AA$1,"!",$BX13) -> Master!B80 | CB13: =CONCATENATE(AB$1,"!",$BB13) -> Master!E78
A14: 4 Wake Forest | B14: 12 | C14: W3 | D14: =OFFSET($F14,0,$D$67) -> 5 Purdue | E14: 5 Purdue | F14: 5 Purdue | G14: 5 Purdue | H14: 5 Purdue | I14: 5 Purdue | J14: 5 Purdue | K14: 5 Purdue | L14: 5 Purdue | M14: 5 Purdue | N14: 5 Purdue | O14: 5 Purdue | P14: 5 Purdue | Q14: 5 Purdue | R14: 5 Purdue | S14: 5 Purdue | T14: 5 Purdue | V14: =INDIRECT(BU14) -> 5 Purdue | X14: =IF($AG$1=3,AF14*AD14,IF($AG$1=2,AF14+AD14,IF($AG$1=4,AF14,$AG14-($AG14*COUNTIF($F14:$U14,$Z14)/$X$1)))) -> 0 | Y14: =IF($AG$1=3,AF14*AE14,IF($AG$1=2,AF14+AE14,IF($AG$1=4,AF14,$AG14-($AG14*COUNTIF($F14:$U14,$AA14)/$X$1)))) -> 15 | Z14: =INDIRECT(BZ14) -> 5 Purdue | AA14: =INDIRECT(CA14) -> 12 Northern Iowa | AB14: =IF(INDIRECT(CB14)=0,"",INDIRECT(CB14)) -> 5 Purdue | AC14: =IF(AA14=0,1,IF(Z14=0,1,IF(AB14=0,1,IF(AB14="","",IF(Z14=AB14,AA14,Z14))))) -> 12 Northern Iowa | AD14: =VLOOKUP(Z14,$A$1:$B$64,2) -> 13 | AE14: =VLOOKUP(AA14,$A$1:$B$64,2) -> 1 | AF14: 1 | AG14: 15 | AI14: =IF(E14=$AB14,(IF(E14=$Z14,$X14,$Y14)),0) -> 0 | AJ14: =IF(F14=$AB14,(IF(F14=$Z14,$X14,$Y14)),0) -> 0 | AK14: =IF(G14=$AB14,(IF(G14=$Z14,$X14,$Y14)),0) -> 0 | AL14: =IF(H14=$AB14,(IF(H14=$Z14,$X14,$Y14)),0) -> 0 | AM14: =IF(I14=$AB14,(IF(I14=$Z14,$X14,$Y14)),0) -> 0 | AN14: =IF(J14=$AB14,(IF(J14=$Z14,$X14,$Y14)),0) -> 0 | AO14: =IF(K14=$AB14,(IF(K14=$Z14,$X14,$Y14)),0) -> 0 | AP14: =IF(L14=$AB14,(IF(L14=$Z14,$X14,$Y14)),0) -> 0 | ... AX14: =IF(T14=$AB14,(IF(T14=$Z14,$X14,$Y14)),0) -> 0 | AZ14: =IF(V14=$AB14,(IF(V14=$Z14,$X14,$Y14)),0) -> 0 | BB14: E86 | BU14: =CONCATENATE(AZ$1,"!",$BB14) -> Master!E86 | BW14: B84 | BX14: B88 | BZ14: =CONCATENATE(Z$1,"!",$BW14) -> Master!B84 | CA14: =CONCATENATE(AA$1,"!",$BX14) -> Master!B88 | CB14: =CONCATENATE(AB$1,"!",$BB14) -> Master!E86
A15: 4 Washington | B15: 12 | C15: W4 | D15: =OFFSET($F15,0,$D$67) -> 4 Washington | E15: 4 Washington | F15: 4 Washington | G15: 4 Washington | H15: 4 Washington | I15: 4 Washington | J15: 4 Washington | K15: 4 Washington | L15: 4 Washington | M15: 4 Washington | N15: 4 Washington | O15: 4 Washington | P15: 13 Mississippi State | Q15: 4 Washington | R15: 4 Washington | S15: 4 Washington | T15: 4 Washington | V15: =INDIRECT(BU15) -> 4 Washington | X15: =IF($AG$1=3,AF15*AD15,IF($AG$1=2,AF15+AD15,IF($AG$1=4,AF15,$AG15-($AG15*COUNTIF($F15:$U15,$Z15)/$X$1)))) -> 1 | Y15: =IF($AG$1=3,AF15*AE15,IF($AG$1=2,AF15+AE15,IF($AG$1=4,AF15,$AG15-($AG15*COUNTIF($F15:$U15,$AA15)/$X$1)))) -> 14 | Z15: =INDIRECT(BZ15) -> 4 Washington | AA15: =INDIRECT(CA15) -> 13 Mississippi State | AB15: =IF(INDIRECT(CB15)=0,"",INDIRECT(CB15)) -> 4 Washington | AC15: =IF(AA15=0,1,IF(Z15=0,1,IF(AB15=0,1,IF(AB15="","",IF(Z15=AB15,AA15,Z15))))) -> 13 Mississippi State | AD15: =VLOOKUP(Z15,$A$1:$B$64,2) -> 12 | AE15: =VLOOKUP(AA15,$A$1:$B$64,2) -> 1 | AF15: 1 | AG15: 15 | AI15: =IF(E15=$AB15,(IF(E15=$Z15,$X15,$Y15)),0) -> 1 | AJ15: =IF(F15=$AB15,(IF(F15=$Z15,$X15,$Y15)),0) -> 1 | AK15: =IF(G15=$AB15,(IF(G15=$Z15,$X15,$Y15)),0) -> 1 | AL15: =IF(H15=$AB15,(IF(H15=$Z15,$X15,$Y15)),0) -> 1 | AM15: =IF(I15=$AB15,(IF(I15=$Z15,$X15,$Y15)),0) -> 1 | AN15: =IF(J15=$AB15,(IF(J15=$Z15,$X15,$Y15)),0) -> 1 | AO15: =IF(K15=$AB15,(IF(K15=$Z15,$X15,$Y15)),0) -> 1 | AP15: =IF(L15=$AB15,(IF(L15=$Z15,$X15,$Y15)),0) -> 1 | ... AX15: =IF(T15=$AB15,(IF(T15=$Z15,$X15,$Y15)),0) -> 1 | AZ15: =IF(V15=$AB15,(IF(V15=$Z15,$X15,$Y15)),0) -> 1 | BB15: E94 | BU15: =CONCATENATE(AZ$1,"!",$BB15) -> Master!E94 | BW15: B92 | BX15: B96 | BZ15: =CONCATENATE(Z$1,"!",$BW15) -> Master!B92 | CA15: =CONCATENATE(AA$1,"!",$BX15) -> Master!B96 | CB15: =CONCATENATE(AB$1,"!",$BB15) -> Master!E94
A16: 4 Xavier | B16: 12 | C16: W5 | D16: =OFFSET($F16,0,$D$67) -> 2 Memphis | E16: 2 Memphis | F16: 2 Memphis | G16: 2 Memphis | H16: 2 Memphis | I16: 2 Memphis | J16: 2 Memphis | K16: 2 Memphis | L16: 2 Memphis | M16: 2 Memphis | N16: 2 Memphis | O16: 2 Memphis | P16: 2 Memphis | Q16: 2 Memphis | R16: 2 Memphis | S16: 2 Memphis | T16: 2 Memphis | V16: =INDIRECT(BU16) -> 2 Memphis | X16: =IF($AG$1=3,AF16*AD16,IF($AG$1=2,AF16+AD16,IF($AG$1=4,AF16,$AG16-($AG16*COUNTIF($F16:$U16,$Z16)/$X$1)))) -> 0 | Y16: =IF($AG$1=3,AF16*AE16,IF($AG$1=2,AF16+AE16,IF($AG$1=4,AF16,$AG16-($AG16*COUNTIF($F16:$U16,$AA16)/$X$1)))) -> 15 | Z16: =INDIRECT(BZ16) -> 2 Memphis | AA16: =INDIRECT(CA16) -> 15 Cal State-Northridge | AB16: =IF(INDIRECT(CB16)=0,"",INDIRECT(CB16)) -> 2 Memphis | AC16: =IF(AA16=0,1,IF(Z16=0,1,IF(AB16=0,1,IF(AB16="","",IF(Z16=AB16,AA16,Z16))))) -> 15 Cal State-Northridge | AD16: =VLOOKUP(Z16,$A$1:$B$64,2) -> 10 | AE16: =VLOOKUP(AA16,$A$1:$B$64,2) -> 1 | AF16: 1 | AG16: 15 | AI16: =IF(E16=$AB16,(IF(E16=$Z16,$X16,$Y16)),0) -> 0 | AJ16: =IF(F16=$AB16,(IF(F16=$Z16,$X16,$Y16)),0) -> 0 | AK16: =IF(G16=$AB16,(IF(G16=$Z16,$X16,$Y16)),0) -> 0 | AL16: =IF(H16=$AB16,(IF(H16=$Z16,$X16,$Y16)),0) -> 0 | AM16: =IF(I16=$AB16,(IF(I16=$Z16,$X16,$Y16)),0) -> 0 | AN16: =IF(J16=$AB16,(IF(J16=$Z16,$X16,$Y16)),0) -> 0 | AO16: =IF(K16=$AB16,(IF(K16=$Z16,$X16,$Y16)),0) -> 0 | AP16: =IF(L16=$AB16,(IF(L16=$Z16,$X16,$Y16)),0) -> 0 | ... AX16: =IF(T16=$AB16,(IF(T16=$Z16,$X16,$Y16)),0) -> 0 | AZ16: =IF(V16=$AB16,(IF(V16=$Z16,$X16,$Y16)),0) -> 0 | BB16: E102 | BU16: =CONCATENATE(AZ$1,"!",$BB16) -> Master!E102 | BW16: B100 | BX16: B104 | BZ16: =CONCATENATE(Z$1,"!",$BW16) -> Master!B100 | CA16: =CONCATENATE(AA$1,"!",$BX16) -> Master!B104 | CB16: =CONCATENATE(AB$1,"!",$BB16) -> Master!E102
... A64: 16 Radford | B64: 9 | C64: EW1 | D64: =OFFSET($F64,0,$D$67) -> 1 Louisville | E64: 1 Louisville | F64: 1 Louisville | G64: 1 Connecticut | H64: 2 Michigan State | I64: 1 Louisville | J64: 3 Kansas | K64: 7 California | L64: 1 Louisville | M64: 1 Louisville | N64: 1 Louisville | O64: 1 Connecticut | P64: 1 Louisville | Q64: 1 Louisville | R64: 2 Memphis | S64: 1 Connecticut | T64: 1 Louisville | V64: =INDIRECT(BU64) -> 2 Michigan State | X64: =IF($AG$1=3,AF64*AD64,IF($AG$1=2,AF64+AD64,IF($AG$1=4,AF64,$AG64-($AG64*COUNTIF($F64:$U64,$Z64)/$X$1)))) -> 42 | Y64: =IF($AG$1=3,AF64*AE64,IF($AG$1=2,AF64+AE64,IF($AG$1=4,AF64,$AG64-($AG64*COUNTIF($F64:$U64,$AA64)/$X$1)))) -> 36 | Z64: =INDIRECT(BZ64) -> 2 Michigan State | AA64: =INDIRECT(CA64) -> 1 Connecticut | AB64: =IF(INDIRECT(CB64)=0,"",INDIRECT(CB64)) -> 2 Michigan State | AC64: =IF(AA64=0,1,IF(Z64=0,1,IF(AB64=0,1,IF(AB64="","",IF(Z64=AB64,AA64,Z64))))) -> 1 Connecticut | AD64: =VLOOKUP(Z64,$A$1:$B$64,2) -> 10 | AE64: =VLOOKUP(AA64,$A$1:$B$64,2) -> 1 | AF64: 3 | AG64: 45 | AI64: =IF(E64=$AB64,(IF(E64=$Z64,$X64,$Y64)),0) -> 0 | AJ64: =IF(F64=$AB64,(IF(F64=$Z64,$X64,$Y64)),0) -> 0 | AK64: =IF(G64=$AB64,(IF(G64=$Z64,$X64,$Y64)),0) -> 0 | AL64: =IF(H64=$AB64,(IF(H64=$Z64,$X64,$Y64)),0) -> 42 | AM64: =IF(I64=$AB64,(IF(I64=$Z64,$X64,$Y64)),0) -> 0 | AN64: =IF(J64=$AB64,(IF(J64=$Z64,$X64,$Y64)),0) -> 0 | AO64: =IF(K64=$AB64,(IF(K64=$Z64,$X64,$Y64)),0) -> 0 | AP64: =IF(L64=$AB64,(IF(L64=$Z64,$X64,$Y64)),0) -> 0 | ... AX64: =IF(T64=$AB64,(IF(T64=$Z64,$X64,$Y64)),0) -> 0 | AZ64: =IF(V64=$AB64,(IF(V64=$Z64,$X64,$Y64)),0) -> 42 | BB64: Q48 | BU64: =CONCATENATE(AZ$1,"!",$BB64) -> Master!Q48 | BW64: N32 | BX64: N98 | BZ64: =CONCATENATE(Z$1,"!",$BW64) -> Master!N32 | CA64: =CONCATENATE(AA$1,"!",$BX64) -> Master!N98 | CB64: =CONCATENATE(AB$1,"!",$BB64) -> Master!Q48
C65: SMW1 | D65: =OFFSET($F65,0,$D$67) -> 2 Oklahoma | E65: 1 Pittsburgh | F65: 2 Oklahoma | G65: 1 Pittsburgh | H65: 1 North Carolina | I65: 1 Pittsburgh | J65: 1 North Carolina | K65: 6 Arizona State | L65: 1 North Carolina | M65: 1 Pittsburgh | N65: 1 Pittsburgh | O65: 1 North Carolina | P65: 1 North Carolina | Q65: 1 North Carolina | R65: 1 North Carolina | S65: 2 Duke | T65: 1 North Carolina | V65: =INDIRECT(BU65) -> 1 North Carolina | X65: =IF($AG$1=3,AF65*AD65,IF($AG$1=2,AF65+AD65,IF($AG$1=4,AF65,$AG65-($AG65*COUNTIF($F65:$U65,$Z65)/$X$1)))) -> 45 | Y65: =IF($AG$1=3,AF65*AE65,IF($AG$1=2,AF65+AE65,IF($AG$1=4,AF65,$AG65-($AG65*COUNTIF($F65:$U65,$AA65)/$X$1)))) -> 21 | Z65: =INDIRECT(BZ65) -> 3 Villanova | AA65: =INDIRECT(CA65) -> 1 North Carolina | AB65: =IF(INDIRECT(CB65)=0,"",INDIRECT(CB65)) -> 1 North Carolina | AC65: =IF(AA65=0,1,IF(Z65=0,1,IF(AB65=0,1,IF(AB65="","",IF(Z65=AB65,AA65,Z65))))) -> 3 Villanova | AD65: =VLOOKUP(Z65,$A$1:$B$64,2) -> 11 | AE65: =VLOOKUP(AA65,$A$1:$B$64,2) -> 1 | AF65: 3 | AG65: 45 | AI65: =IF(E65=$AB65,(IF(E65=$Z65,$X65,$Y65)),0) -> 0 | AJ65: =IF(F65=$AB65,(IF(F65=$Z65,$X65,$Y65)),0) -> 0 | AK65: =IF(G65=$AB65,(IF(G65=$Z65,$X65,$Y65)),0) -> 0 | AL65: =IF(H65=$AB65,(IF(H65=$Z65,$X65,$Y65)),0) -> 21 | AM65: =IF(I65=$AB65,(IF(I65=$Z65,$X65,$Y65)),0) -> 0 | AN65: =IF(J65=$AB65,(IF(J65=$Z65,$X65,$Y65)),0) -> 21 | AO65: =IF(K65=$AB65,(IF(K65=$Z65,$X65,$Y65)),0) -> 0 | AP65: =IF(L65=$AB65,(IF(L65=$Z65,$X65,$Y65)),0) -> 21 | ... AX65: =IF(T65=$AB65,(IF(T65=$Z65,$X65,$Y65)),0) -> 21 | AZ65: =IF(V65=$AB65,(IF(V65=$Z65,$X65,$Y65)),0) -> 21 | BB65: Q82 | BU65: =CONCATENATE(AZ$1,"!",$BB65) -> Master!Q82 | BW65: T32 | BX65: T98 | BZ65: =CONCATENATE(Z$1,"!",$BW65) -> Master!T32 | CA65: =CONCATENATE(AA$1,"!",$BX65) -> Master!T98 | CB65: =CONCATENATE(AB$1,"!",$BB65) -> Master!Q82
C66: FINAL | D66: =OFFSET($F66,0,$D$67) -> 1 Louisville | E66: 1 Louisville | F66: 1 Louisville | G66: 1 Connecticut | H66: 1 North Carolina | I66: 1 Louisville | J66: 3 Kansas | K66: 6 Arizona State | L66: 1 Louisville | M66: 1 Pittsburgh | N66: 1 Louisville | O66: 1 North Carolina | P66: 1 North Carolina | Q66: 1 North Carolina | R66: 2 Memphis | S66: 2 Duke | T66: 1 North Carolina | V66: =INDIRECT(BU66) -> 0 | X66: =IF($AG$1=3,AF66*AD66,IF($AG$1=2,AF66+AD66,IF($AG$1=4,AF66,$AG66-($AG66*COUNTIF($F66:$U66,$Z66)/$X$1)))) -> 52.5 | Y66: =IF($AG$1=3,AF66*AE66,IF($AG$1=2,AF66+AE66,IF($AG$1=4,AF66,$AG66-($AG66*COUNTIF($F66:$U66,$AA66)/$X$1)))) -> 35 | Z66: =INDIRECT(BZ66) -> 2 Michigan State | AA66: =INDIRECT(CA66) -> 1 North Carolina | AB66: =IF(INDIRECT(CB66)=0,"",INDIRECT(CB66)) | AC66: =IF(AA66=0,1,IF(Z66=0,1,IF(AB66=0,1,IF(AB66="","",IF(Z66=AB66,AA66,Z66))))) | AD66: =VLOOKUP(Z66,$A$1:$B$64,2) -> 10 | AE66: =VLOOKUP(AA66,$A$1:$B$64,2) -> 1 | AF66: 3.5 | AG66: 52.5 | AI66: =IF(E66=$AB66,(IF(E66=$Z66,$X66,$Y66)),0) -> 0 | AJ66: =IF(F66=$AB66,(IF(F66=$Z66,$X66,$Y66)),0) -> 0 | AK66: =IF(G66=$AB66,(IF(G66=$Z66,$X66,$Y66)),0) -> 0 | AL66: =IF(H66=$AB66,(IF(H66=$Z66,$X66,$Y66)),0) -> 0 | AM66: =IF(I66=$AB66,(IF(I66=$Z66,$X66,$Y66)),0) -> 0 | AN66: =IF(J66=$AB66,(IF(J66=$Z66,$X66,$Y66)),0) -> 0 | AO66: =IF(K66=$AB66,(IF(K66=$Z66,$X66,$Y66)),0) -> 0 | AP66: =IF(L66=$AB66,(IF(L66=$Z66,$X66,$Y66)),0) -> 0 | ... AX66: =IF(T66=$AB66,(IF(T66=$Z66,$X66,$Y66)),0) -> 0 | AZ66: =IF(V66=$AB66,(IF(V66=$Z66,$X66,$Y66)),0) -> 0 | BB66: Q64 | BU66: =CONCATENATE(AZ$1,"!",$BB66) -> Master!Q64 | BW66: Q48 | BX66: Q82 | BZ66: =CONCATENATE(Z$1,"!",$BW66) -> Master!Q48 | CA66: =CONCATENATE(AA$1,"!",$BX66) -> Master!Q82 | CB66: =CONCATENATE(AB$1,"!",$BB66) -> Master!Q64
AG67: Totals | AI67: =SUM(AI4:AI66) -> 182.5 | AJ67: =SUM(AJ4:AJ66) -> 166 | AK67: =SUM(AK4:AK66) -> 146.5 | AL67: =SUM(AL4:AL66) -> 243.5 | AM67: =SUM(AM4:AM66) -> 142.5 | AN67: =SUM(AN4:AN66) -> 175 | AO67: =SUM(AO4:AO66) -> 71.5 | AP67: =SUM(AP4:AP66) -> 164 | ... AX67: =SUM(AX4:AX66) -> 255.5 | AZ67: =SUM(AZ4:AZ66) -> 474.5
AG68: Round 1 | AI68: =SUM(AI4:AI35) -> 29 | AJ68: =SUM(AJ4:AJ35) -> 52 | AK68: =SUM(AK4:AK35) -> 39 | AL68: =SUM(AL4:AL35) -> 39 | AM68: =SUM(AM4:AM35) -> 62 | AN68: =SUM(AN4:AN35) -> 40 | AO68: =SUM(AO4:AO35) -> 61 | AP68: =SUM(AP4:AP35) -> 51 | ... AX68: =SUM(AX4:AX35) -> 61 | AZ68: =SUM(AZ4:AZ35) -> 125
AG69: Round 2 | AI69: =SUM(AI36:AI51) -> 75 | AJ69: =SUM(AJ36:AJ51) -> 66 | AK69: =SUM(AK36:AK51) -> 45 | AL69: =SUM(AL36:AL51) -> 54 | AM69: =SUM(AM36:AM51) -> 39 | AN69: =SUM(AN36:AN51) -> 52.5 | AO69: =SUM(AO36:AO51) -> 10.5 | AP69: =SUM(AP36:AP51) -> 34.5 | ... AX69: =SUM(AX36:AX51) -> 75 | AZ69: =SUM(AZ36:AZ51) -> 94.5
AG70: Round 3 | AI70: =SUM(AI52:AI59) -> 46 | AJ70: =SUM(AJ52:AJ59) -> 48 | AK70: =SUM(AK52:AK59) -> 30 | AL70: =SUM(AL52:AL59) -> 50 | AM70: =SUM(AM52:AM59) -> 34 | AN70: =SUM(AN52:AN59) -> 54 | AO70: =SUM(AO52:AO59) -> 0 | AP70: =SUM(AP52:AP59) -> 50 | ... AX70: =SUM(AX52:AX59) -> 66 | AZ70: =SUM(AZ52:AZ59) -> 92
AG71: Round 4 | AI71: =SUM(AI60:AI63) -> 32.5 | AJ71: =SUM(AJ60:AJ63) -> 0 | AK71: =SUM(AK60:AK63) -> 32.5 | AL71: =SUM(AL60:AL63) -> 37.5 | AM71: =SUM(AM60:AM63) -> 7.5 | AN71: =SUM(AN60:AN63) -> 7.5 | AO71: =SUM(AO60:AO63) -> 0 | AP71: =SUM(AP60:AP63) -> 7.5 | ... AX71: =SUM(AX60:AX63) -> 32.5 | AZ71: =SUM(AZ60:AZ63) -> 100
AG72: Round 5 | AI72: =SUM(AI64:AI65) -> 0 | AJ72: =SUM(AJ64:AJ65) -> 0 | AK72: =SUM(AK64:AK65) -> 0 | AL72: =SUM(AL64:AL65) -> 63 | AM72: =SUM(AM64:AM65) -> 0 | AN72: =SUM(AN64:AN65) -> 21 | AO72: =SUM(AO64:AO65) -> 0 | AP72: =SUM(AP64:AP65) -> 21 | ... AX72: =SUM(AX64:AX65) -> 21 | AZ72: =SUM(AZ64:AZ65) -> 63
AG73: Round 6 | AI73: =AI66 -> 0 | AJ73: =AJ66 -> 0 | AK73: =AK66 -> 0 | AL73: =AL66 -> 0 | AM73: =AM66 -> 0 | AN73: =AN66 -> 0 | AO73: =AO66 -> 0 | AP73: =AP66 -> 0 | ... AX73: =AX66 -> 0 | AZ73: =AZ66 -> 0
AG74: Points Left For Rd 2-6 | AI74: =SUM(AI116:AI120) -> 772.5 | AJ74: =SUM(AJ116:AJ120) -> 812 | AK74: =SUM(AK116:AK120) -> 742 | AL74: =SUM(AL116:AL120) -> 739.5 | AM74: =SUM(AM116:AM120) -> 684 | AN74: =SUM(AN116:AN120) -> 674 | AO74: =SUM(AO116:AO120) -> 459 | AP74: =SUM(AP116:AP120) -> 563 | ... AX74: =SUM(AX116:AX120) -> 281 | AZ74: =SUM(AZ116:AZ120) -> 823.5
AG75: Points Left For Rd 3-6 | AI75: =SUM(AI142:AI145) -> 511 | AJ75: =SUM(AJ142:AJ145) -> 283.5 | AK75: =SUM(AK142:AK145) -> 224 | AL75: =SUM(AL142:AL145) -> 285.5 | AM75: =SUM(AM142:AM145) -> 204.5 | AN75: =SUM(AN142:AN145) -> 289 | AO75: =SUM(AO142:AO145) -> 56.5 | AP75: =SUM(AP142:AP145) -> 165 | ... AX75: =SUM(AX142:AX145) -> 122.5 | AZ75: =SUM(AZ142:AZ145) -> 505.5
AG76: Points Left For Rd 4-6 | AI76: =SUM(AI159:AI161) -> 281 | AJ76: =SUM(AJ159:AJ161) -> 159 | AK76: =SUM(AK159:AK161) -> 168 | AL76: =SUM(AL159:AL161) -> 159.5 | AM76: =SUM(AM159:AM161) -> 120 | AN76: =SUM(AN159:AN161) -> 33 | AO76: =SUM(AO159:AO161) -> 0 | AP76: =SUM(AP159:AP161) -> 94.5 | ... AX76: =SUM(AX159:AX161) -> 94.5 | AZ76: =SUM(AZ159:AZ161) -> 287.5
AG77: Points Left For Rd 5-6 | AI77: =SUM(AI171:AI172) -> 0 | AJ77: =SUM(AJ171:AJ172) -> 0 | AK77: =SUM(AK171:AK172) -> 85 | AL77: =SUM(AL171:AL172) -> 92 | AM77: =SUM(AM171:AM172) -> 0 | AN77: =SUM(AN171:AN172) -> 18 | AO77: =SUM(AO171:AO172) -> 0 | AP77: =SUM(AP171:AP172) -> 12 | ... AX77: =SUM(AX171:AX172) -> 43.5 | AZ77: =SUM(AZ171:AZ172) -> 142.5
AG78: Points Left For Rd 6 | AI78: =SUM(AI180) -> 0 | AJ78: =SUM(AJ180) -> 0 | AK78: =SUM(AK180) -> 0 | AL78: =SUM(AL180) -> 35 | AM78: =SUM(AM180) -> 0 | AN78: =SUM(AN180) -> 0 | AO78: =SUM(AO180) -> 0 | AP78: =SUM(AP180) -> 0 | ... AX78: =SUM(AX180) -> 31.5 | AZ78: =SUM(AZ180) -> 52.5
B82: 1 | C82: Round 2 | AI82: =AI2 -> HiSeeds | AJ82: =AJ2 -> AnthonyP | AK82: =AK2 -> BenC | AL82: =AL2 -> CandaceP | AM82: =AM2 -> ChrisR | AN82: =AN2 -> DanielV | AO82: =AO2 -> DavidS | AP82: =AP2 -> EricP | ... AX82: =AX2 -> ScottP | AZ82: Best Possible
B83: 1 | C83: Player | D83: Insert3 | E83: 0 | F83: 1 | G83: 2 | H83: 3 | I83: 4 | J83: 5 | K83: 6 | L83: 7 | M83: 8 | N83: 9 | O83: 10 | P83: 11 | Q83: 12 | R83: 13 | S83: 14 | T83: 15 | V83: =V3 -> 15 | X83: Favorite | Y83: Underdog | Z83: Player1 | AA83: Player2 | AB83: Winner | AC83: Loser | AD83: SeedFav | AE83: SeedUdr | AH83: Insert1 | AI83: =#REF!+1 -> #REF! | AJ83: =#REF!+1 -> #REF! | AK83: =#REF!+1 -> #REF! | AL83: =#REF!+1 -> #REF! | AM83: =#REF!+1 -> #REF! | AN83: =#REF!+1 -> #REF! | AO83: =#REF!+1 -> #REF! | AP83: =#REF!+1 -> #REF! | ... AX83: =#REF!+1 -> #REF! | AZ83: 0 | BZ83: Player 1 | CA83: Player 2
B84: 2 | C84: E1 | D84: =D36 -> 1 Louisville | E84: 1 Louisville | F84: 1 Louisville | G84: 1 Louisville | H84: 1 Louisville | I84: 1 Louisville | J84: 1 Louisville | K84: 1 Louisville | L84: 1 Louisville | M84: 1 Louisville | N84: 1 Louisville | O84: 1 Louisville | P84: 1 Louisville | Q84: 1 Louisville | R84: 1 Louisville | S84: 1 Louisville | T84: 1 Louisville | V84: =V36 -> 1 Louisville | X84: =X36 -> 0 | Y84: =Y36 -> 22.5 | Z84: =INDIRECT(BZ84) -> 1 Louisville | AA84: =INDIRECT(CA84) -> 9 Siena | AB84: =INDIRECT(CB84) -> 1 Louisville | AC84: =IF(Z84=AB84,AA84,Z84) -> 9 Siena | AD84: =VLOOKUP(Z84,$A$1:$B$64,2) -> 1 | AE84: =VLOOKUP(AA84,$A$1:$B$64,2) -> 9 | AF84: 1.5 | AG84: 22.5 | AI84: =IF($AG$1=1,($AG84-($AG84*COUNTIF(E84:$F84,E84)/$X$1))*COUNTIF($AB$4:$AB$35,E84),COUNTIF($AB$4:$AB$35,E84)*$AG84) -> 19.5 | AJ84: =IF($AG$1=1,($AG84-($AG84*COUNTIF($F84:F84,F84)/$X$1))*COUNTIF($AB$4:$AB$35,F84),COUNTIF($AB$4:$AB$35,F84)*$AG84) -> 21 | AK84: =IF($AG$1=1,($AG84-($AG84*COUNTIF($F84:G84,G84)/$X$1))*COUNTIF($AB$4:$AB$35,G84),COUNTIF($AB$4:$AB$35,G84)*$AG84) -> 19.5 | AL84: =IF($AG$1=1,($AG84-($AG84*COUNTIF($F84:H84,H84)/$X$1))*COUNTIF($AB$4:$AB$35,H84),COUNTIF($AB$4:$AB$35,H84)*$AG84) -> 18 | AM84: =IF($AG$1=1,($AG84-($AG84*COUNTIF($F84:I84,I84)/$X$1))*COUNTIF($AB$4:$AB$35,I84),COUNTIF($AB$4:$AB$35,I84)*$AG84) -> 16.5 | AN84: =IF($AG$1=1,($AG84-($AG84*COUNTIF($F84:J84,J84)/$X$1))*COUNTIF($AB$4:$AB$35,J84),COUNTIF($AB$4:$AB$35,J84)*$AG84) -> 15 | AO84: =IF($AG$1=1,($AG84-($AG84*COUNTIF($F84:K84,K84)/$X$1))*COUNTIF($AB$4:$AB$35,K84),COUNTIF($AB$4:$AB$35,K84)*$AG84) -> 13.5 | AP84: =IF($AG$1=1,($AG84-($AG84*COUNTIF($F84:L84,L84)/$X$1))*COUNTIF($AB$4:$AB$35,L84),COUNTIF($AB$4:$AB$35,L84)*$AG84) -> 12 | AQ84: =IF($AG$1=1,($AG84-($AG84*COUNTIF($F84:M84,M84)/$X$1))*COUNTIF($AB$4:$AB$35,M84),COUNTIF($AB$4:$AB$35,M84)*$AG84) -> 10.5 | ... AX84: =IF($AG$1=1,($AG84-($AG84*COUNTIF($F84:T84,T84)/$X$1))*COUNTIF($AB$4:$AB$35,T84),COUNTIF($AB$4:$AB$35,T84)*$AG84) -> 0 | AZ84: =$AG84-($AG84*COUNTIF($E84:$F84,V84)/$X$1)*COUNTIF($AB$4:$AB$35,V84) -> 19.5 | BB84: H8 | BU84: =CONCATENATE(AZ$1,"!",$BB84) -> Master!H8 | BW84: E4 | BX84: E12 | BZ84: =CONCATENATE(Z$1,"!",$BW84) -> Master!E4 | CA84: =CONCATENATE(AA$1,"!",$BX84) -> Master!E12 | CB84: =CONCATENATE(AB$1,"!",$BB84) -> Master!H8
B85: 3 | C85: E2 | D85: =D37 -> 12 Arizona | E85: 4 Wake Forest | F85: 12 Arizona | G85: 4 Wake Forest | H85: 4 Wake Forest | I85: 4 Wake Forest | J85: 5 Utah | K85: 5 Utah | L85: 4 Wake Forest | M85: 4 Wake Forest | N85: 4 Wake Forest | O85: 4 Wake Forest | P85: 4 Wake Forest | Q85: 12 Arizona | R85: 4 Wake Forest | S85: 4 Wake Forest | T85: 4 Wake Forest | V85: =V37 -> 12 Arizona | X85: =X37 -> 22.5 | Y85: =Y37 -> 19.5 | Z85: =INDIRECT(BZ85) -> 13 Cleveland State | AA85: =INDIRECT(CA85) -> 12 Arizona | AB85: =INDIRECT(CB85) -> 12 Arizona | AC85: =IF(Z85=AB85,AA85,Z85) -> 13 Cleveland State | AD85: =VLOOKUP(Z85,$A$1:$B$64,2) -> 1 | AE85: =VLOOKUP(AA85,$A$1:$B$64,2) -> 1 | AF85: 1.5 | AG85: 22.5 | AI85: =IF($AG$1=1,($AG85-($AG85*COUNTIF(E85:$F85,E85)/$X$1))*COUNTIF($AB$4:$AB$35,E85),COUNTIF($AB$4:$AB$35,E85)*$AG85) -> 0 | AJ85: =IF($AG$1=1,($AG85-($AG85*COUNTIF($F85:F85,F85)/$X$1))*COUNTIF($AB$4:$AB$35,F85),COUNTIF($AB$4:$AB$35,F85)*$AG85) -> 21 | AK85: =IF($AG$1=1,($AG85-($AG85*COUNTIF($F85:G85,G85)/$X$1))*COUNTIF($AB$4:$AB$35,G85),COUNTIF($AB$4:$AB$35,G85)*$AG85) -> 0 | AL85: =IF($AG$1=1,($AG85-($AG85*COUNTIF($F85:H85,H85)/$X$1))*COUNTIF($AB$4:$AB$35,H85),COUNTIF($AB$4:$AB$35,H85)*$AG85) -> 0 | AM85: =IF($AG$1=1,($AG85-($AG85*COUNTIF($F85:I85,I85)/$X$1))*COUNTIF($AB$4:$AB$35,I85),COUNTIF($AB$4:$AB$35,I85)*$AG85) -> 0 | AN85: =IF($AG$1=1,($AG85-($AG85*COUNTIF($F85:J85,J85)/$X$1))*COUNTIF($AB$4:$AB$35,J85),COUNTIF($AB$4:$AB$35,J85)*$AG85) -> 0 | AO85: =IF($AG$1=1,($AG85-($AG85*COUNTIF($F85:K85,K85)/$X$1))*COUNTIF($AB$4:$AB$35,K85),COUNTIF($AB$4:$AB$35,K85)*$AG85) -> 0 | AP85: =IF($AG$1=1,($AG85-($AG85*COUNTIF($F85:L85,L85)/$X$1))*COUNTIF($AB$4:$AB$35,L85),COUNTIF($AB$4:$AB$35,L85)*$AG85) -> 0 | AQ85: =IF($AG$1=1,($AG85-($AG85*COUNTIF($F85:M85,M85)/$X$1))*COUNTIF($AB$4:$AB$35,M85),COUNTIF($AB$4:$AB$35,M85)*$AG85) -> 0 | ... AX85: =IF($AG$1=1,($AG85-($AG85*COUNTIF($F85:T85,T85)/$X$1))*COUNTIF($AB$4:$AB$35,T85),COUNTIF($AB$4:$AB$35,T85)*$AG85) -> 0 | AZ85: =$AG85-($AG85*COUNTIF($E85:$F85,V85)/$X$1)*COUNTIF($AB$4:$AB$35,V85) -> 21 | BB85: H24 | BU85: =CONCATENATE(AZ$1,"!",$BB85) -> Master!H24 | BW85: E20 | BX85: E28 | BZ85: =CONCATENATE(Z$1,"!",$BW85) -> Master!E20 | CA85: =CONCATENATE(AA$1,"!",$BX85) -> Master!E28 | CB85: =CONCATENATE(AB$1,"!",$BB85) -> Master!H24
B86: 3 | C86: E3 | D86: =D38 -> 10 USC | E86: 2 Michigan State | F86: 10 USC | G86: 2 Michigan State | H86: 2 Michigan State | I86: 10 USC | J86: 2 Michigan State | K86: 2 Michigan State | L86: 2 Michigan State | M86: 2 Michigan State | N86: 2 Michigan State | O86: 2 Michigan State | P86: 2 Michigan State | Q86: 2 Michigan State | R86: 2 Michigan State | S86: 2 Michigan State | T86: 2 Michigan State | V86: =V38 -> 2 Michigan State | X86: =X38 -> 3 | Y86: =Y38 -> 19.5 | Z86: =INDIRECT(BZ86) -> 2 Michigan State | AA86: =INDIRECT(CA86) -> 10 USC | AB86: =INDIRECT(CB86) -> 2 Michigan State | AC86: =IF(Z86=AB86,AA86,Z86) -> 10 USC | AD86: =VLOOKUP(Z86,$A$1:$B$64,2) -> 10 | AE86: =VLOOKUP(AA86,$A$1:$B$64,2) -> 1 | AF86: 1.5 | AG86: 22.5 | AI86: =IF($AG$1=1,($AG86-($AG86*COUNTIF(E86:$F86,E86)/$X$1))*COUNTIF($AB$4:$AB$35,E86),COUNTIF($AB$4:$AB$35,E86)*$AG86) -> 21 | AJ86: =IF($AG$1=1,($AG86-($AG86*COUNTIF($F86:F86,F86)/$X$1))*COUNTIF($AB$4:$AB$35,F86),COUNTIF($AB$4:$AB$35,F86)*$AG86) -> 21 | AK86: =IF($AG$1=1,($AG86-($AG86*COUNTIF($F86:G86,G86)/$X$1))*COUNTIF($AB$4:$AB$35,G86),COUNTIF($AB$4:$AB$35,G86)*$AG86) -> 21 | AL86: =IF($AG$1=1,($AG86-($AG86*COUNTIF($F86:H86,H86)/$X$1))*COUNTIF($AB$4:$AB$35,H86),COUNTIF($AB$4:$AB$35,H86)*$AG86) -> 19.5 | AM86: =IF($AG$1=1,($AG86-($AG86*COUNTIF($F86:I86,I86)/$X$1))*COUNTIF($AB$4:$AB$35,I86),COUNTIF($AB$4:$AB$35,I86)*$AG86) -> 19.5 | AN86: =IF($AG$1=1,($AG86-($AG86*COUNTIF($F86:J86,J86)/$X$1))*COUNTIF($AB$4:$AB$35,J86),COUNTIF($AB$4:$AB$35,J86)*$AG86) -> 18 | AO86: =IF($AG$1=1,($AG86-($AG86*COUNTIF($F86:K86,K86)/$X$1))*COUNTIF($AB$4:$AB$35,K86),COUNTIF($AB$4:$AB$35,K86)*$AG86) -> 16.5 | AP86: =IF($AG$1=1,($AG86-($AG86*COUNTIF($F86:L86,L86)/$X$1))*COUNTIF($AB$4:$AB$35,L86),COUNTIF($AB$4:$AB$35,L86)*$AG86) -> 15 | AQ86: =IF($AG$1=1,($AG86-($AG86*COUNTIF($F86:M86,M86)/$X$1))*COUNTIF($AB$4:$AB$35,M86),COUNTIF($AB$4:$AB$35,M86)*$AG86) -> 13.5 | ... AX86: =IF($AG$1=1,($AG86-($AG86*COUNTIF($F86:T86,T86)/$X$1))*COUNTIF($AB$4:$AB$35,T86),COUNTIF($AB$4:$AB$35,T86)*$AG86) -> 3 | AZ86: =$AG86-($AG86*COUNTIF($E86:$F86,V86)/$X$1)*COUNTIF($AB$4:$AB$35,V86) -> 21 | BB86: H40 | BU86: =CONCATENATE(AZ$1,"!",$BB86) -> Master!H40 | BW86: E36 | BX86: E44 | BZ86: =CONCATENATE(Z$1,"!",$BW86) -> Master!E36 | CA86: =CONCATENATE(AA$1,"!",$BX86) -> Master!E44 | CB86: =CONCATENATE(AB$1,"!",$BB86) -> Master!H40
B87: 3 | C87: E4 | D87: =D39 -> 3 Kansas | E87: 3 Kansas | F87: 3 Kansas | G87: 3 Kansas | H87: 3 Kansas | I87: 3 Kansas | J87: 3 Kansas | K87: 3 Kansas | L87: 6 West Virginia | M87: 3 Kansas | N87: 3 Kansas | O87: 6 West Virginia | P87: 6 West Virginia | Q87: 6 West Virginia | R87: 3 Kansas | S87: 6 West Virginia | T87: 3 Kansas | V87: =V39 -> 3 Kansas | X87: =X39 -> 7.5 | Y87: =Y39 -> 22.5 | Z87: =INDIRECT(BZ87) -> 3 Kansas | AA87: =INDIRECT(CA87) -> 11 Dayton | AB87: =INDIRECT(CB87) -> 3 Kansas | AC87: =IF(Z87=AB87,AA87,Z87) -> 11 Dayton | AD87: =VLOOKUP(Z87,$A$1:$B$64,2) -> 11 | AE87: =VLOOKUP(AA87,$A$1:$B$64,2) -> 1 | AF87: 1.5 | AG87: 22.5 | AI87: =IF($AG$1=1,($AG87-($AG87*COUNTIF(E87:$F87,E87)/$X$1))*COUNTIF($AB$4:$AB$35,E87),COUNTIF($AB$4:$AB$35,E87)*$AG87) -> 19.5 | AJ87: =IF($AG$1=1,($AG87-($AG87*COUNTIF($F87:F87,F87)/$X$1))*COUNTIF($AB$4:$AB$35,F87),COUNTIF($AB$4:$AB$35,F87)*$AG87) -> 21 | AK87: =IF($AG$1=1,($AG87-($AG87*COUNTIF($F87:G87,G87)/$X$1))*COUNTIF($AB$4:$AB$35,G87),COUNTIF($AB$4:$AB$35,G87)*$AG87) -> 19.5 | AL87: =IF($AG$1=1,($AG87-($AG87*COUNTIF($F87:H87,H87)/$X$1))*COUNTIF($AB$4:$AB$35,H87),COUNTIF($AB$4:$AB$35,H87)*$AG87) -> 18 | AM87: =IF($AG$1=1,($AG87-($AG87*COUNTIF($F87:I87,I87)/$X$1))*COUNTIF($AB$4:$AB$35,I87),COUNTIF($AB$4:$AB$35,I87)*$AG87) -> 16.5 | AN87: =IF($AG$1=1,($AG87-($AG87*COUNTIF($F87:J87,J87)/$X$1))*COUNTIF($AB$4:$AB$35,J87),COUNTIF($AB$4:$AB$35,J87)*$AG87) -> 15 | AO87: =IF($AG$1=1,($AG87-($AG87*COUNTIF($F87:K87,K87)/$X$1))*COUNTIF($AB$4:$AB$35,K87),COUNTIF($AB$4:$AB$35,K87)*$AG87) -> 13.5 | AP87: =IF($AG$1=1,($AG87-($AG87*COUNTIF($F87:L87,L87)/$X$1))*COUNTIF($AB$4:$AB$35,L87),COUNTIF($AB$4:$AB$35,L87)*$AG87) -> 0 | AQ87: =IF($AG$1=1,($AG87-($AG87*COUNTIF($F87:M87,M87)/$X$1))*COUNTIF($AB$4:$AB$35,M87),COUNTIF($AB$4:$AB$35,M87)*$AG87) -> 12 | ... AX87: =IF($AG$1=1,($AG87-($AG87*COUNTIF($F87:T87,T87)/$X$1))*COUNTIF($AB$4:$AB$35,T87),COUNTIF($AB$4:$AB$35,T87)*$AG87) -> 7.5 | AZ87: =$AG87-($AG87*COUNTIF($E87:$F87,V87)/$X$1)*COUNTIF($AB$4:$AB$35,V87) -> 19.5 | BB87: H56 | BU87: =CONCATENATE(AZ$1,"!",$BB87) -> Master!H56 | BW87: E52 | BX87: E60 | BZ87: =CONCATENATE(Z$1,"!",$BW87) -> Master!E52 | CA87: =CONCATENATE(AA$1,"!",$BX87) -> Master!E60 | CB87: =CONCATENATE(AB$1,"!",$BB87) -> Master!H56
B88: 3 | C88: W1 | D88: =D40 -> 1 Connecticut | E88: 1 Connecticut | F88: 1 Connecticut | G88: 1 Connecticut | H88: 1 Connecticut | I88: 1 Connecticut | J88: 1 Connecticut | K88: 1 Connecticut | L88: 1 Connecticut | M88: 1 Connecticut | N88: 1 Connecticut | O88: 1 Connecticut | P88: 1 Connecticut | Q88: 1 Connecticut | R88: 1 Connecticut | S88: 1 Connecticut | T88: 1 Connecticut | V88: =V40 -> 1 Connecticut | X88: =X40 -> 0 | Y88: =Y40 -> 22.5 | Z88: =INDIRECT(BZ88) -> 1 Connecticut | AA88: =INDIRECT(CA88) -> 9 Texas A&M | AB88: =INDIRECT(CB88) -> 1 Connecticut | AC88: =IF(Z88=AB88,AA88,Z88) -> 9 Texas A&M | AD88: =VLOOKUP(Z88,$A$1:$B$64,2) -> 1 | AE88: =VLOOKUP(AA88,$A$1:$B$64,2) -> 9 | AF88: 1.5 | AG88: 22.5 | AI88: =IF($AG$1=1,($AG88-($AG88*COUNTIF(E88:$F88,E88)/$X$1))*COUNTIF($AB$4:$AB$35,E88),COUNTIF($AB$4:$AB$35,E88)*$AG88) -> 19.5 | AJ88: =IF($AG$1=1,($AG88-($AG88*COUNTIF($F88:F88,F88)/$X$1))*COUNTIF($AB$4:$AB$35,F88),COUNTIF($AB$4:$AB$35,F88)*$AG88) -> 21 | AK88: =IF($AG$1=1,($AG88-($AG88*COUNTIF($F88:G88,G88)/$X$1))*COUNTIF($AB$4:$AB$35,G88),COUNTIF($AB$4:$AB$35,G88)*$AG88) -> 19.5 | AL88: =IF($AG$1=1,($AG88-($AG88*COUNTIF($F88:H88,H88)/$X$1))*COUNTIF($AB$4:$AB$35,H88),COUNTIF($AB$4:$AB$35,H88)*$AG88) -> 18 | AM88: =IF($AG$1=1,($AG88-($AG88*COUNTIF($F88:I88,I88)/$X$1))*COUNTIF($AB$4:$AB$35,I88),COUNTIF($AB$4:$AB$35,I88)*$AG88) -> 16.5 | AN88: =IF($AG$1=1,($AG88-($AG88*COUNTIF($F88:J88,J88)/$X$1))*COUNTIF($AB$4:$AB$35,J88),COUNTIF($AB$4:$AB$35,J88)*$AG88) -> 15 | AO88: =IF($AG$1=1,($AG88-($AG88*COUNTIF($F88:K88,K88)/$X$1))*COUNTIF($AB$4:$AB$35,K88),COUNTIF($AB$4:$AB$35,K88)*$AG88) -> 13.5 | AP88: =IF($AG$1=1,($AG88-($AG88*COUNTIF($F88:L88,L88)/$X$1))*COUNTIF($AB$4:$AB$35,L88),COUNTIF($AB$4:$AB$35,L88)*$AG88) -> 12 | AQ88: =IF($AG$1=1,($AG88-($AG88*COUNTIF($F88:M88,M88)/$X$1))*COUNTIF($AB$4:$AB$35,M88),COUNTIF($AB$4:$AB$35,M88)*$AG88) -> 10.5 | ... AX88: =IF($AG$1=1,($AG88-($AG88*COUNTIF($F88:T88,T88)/$X$1))*COUNTIF($AB$4:$AB$35,T88),COUNTIF($AB$4:$AB$35,T88)*$AG88) -> 0 | AZ88: =$AG88-($AG88*COUNTIF($E88:$F88,V88)/$X$1)*COUNTIF($AB$4:$AB$35,V88) -> 19.5 | BB88: H74 | BU88: =CONCATENATE(AZ$1,"!",$BB88) -> Master!H74 | BW88: E70 | BX88: E78 | BZ88: =CONCATENATE(Z$1,"!",$BW88) -> Master!E70 | CA88: =CONCATENATE(AA$1,"!",$BX88) -> Master!E78 | CB88: =CONCATENATE(AB$1,"!",$BB88) -> Master!H74
B89: 4 | C89: W2 | D89: =D41 -> 4 Washington | E89: 5 Purdue | F89: 4 Washington | G89: 5 Purdue | H89: 4 Washington | I89: 4 Washington | J89: 5 Purdue | K89: 4 Washington | L89: 4 Washington | M89: 5 Purdue | N89: 4 Washington | O89: 5 Purdue | P89: 5 Purdue | Q89: 5 Purdue | R89: 4 Washington | S89: 5 Purdue | T89: 5 Purdue | V89: =V41 -> 5 Purdue | X89: =X41 -> 10.5 | Y89: =Y41 -> 12 | Z89: =INDIRECT(BZ89) -> 5 Purdue | AA89: =INDIRECT(CA89) -> 4 Washington | AB89: =INDIRECT(CB89) -> 5 Purdue | AC89: =IF(Z89=AB89,AA89,Z89) -> 4 Washington | AD89: =VLOOKUP(Z89,$A$1:$B$64,2) -> 13 | AE89: =VLOOKUP(AA89,$A$1:$B$64,2) -> 12 | AF89: 1.5 | AG89: 22.5 | AI89: =IF($AG$1=1,($AG89-($AG89*COUNTIF(E89:$F89,E89)/$X$1))*COUNTIF($AB$4:$AB$35,E89),COUNTIF($AB$4:$AB$35,E89)*$AG89) -> 21 | AJ89: =IF($AG$1=1,($AG89-($AG89*COUNTIF($F89:F89,F89)/$X$1))*COUNTIF($AB$4:$AB$35,F89),COUNTIF($AB$4:$AB$35,F89)*$AG89) -> 21 | AK89: =IF($AG$1=1,($AG89-($AG89*COUNTIF($F89:G89,G89)/$X$1))*COUNTIF($AB$4:$AB$35,G89),COUNTIF($AB$4:$AB$35,G89)*$AG89) -> 21 | AL89: =IF($AG$1=1,($AG89-($AG89*COUNTIF($F89:H89,H89)/$X$1))*COUNTIF($AB$4:$AB$35,H89),COUNTIF($AB$4:$AB$35,H89)*$AG89) -> 19.5 | AM89: =IF($AG$1=1,($AG89-($AG89*COUNTIF($F89:I89,I89)/$X$1))*COUNTIF($AB$4:$AB$35,I89),COUNTIF($AB$4:$AB$35,I89)*$AG89) -> 18 | AN89: =IF($AG$1=1,($AG89-($AG89*COUNTIF($F89:J89,J89)/$X$1))*COUNTIF($AB$4:$AB$35,J89),COUNTIF($AB$4:$AB$35,J89)*$AG89) -> 19.5 | AO89: =IF($AG$1=1,($AG89-($AG89*COUNTIF($F89:K89,K89)/$X$1))*COUNTIF($AB$4:$AB$35,K89),COUNTIF($AB$4:$AB$35,K89)*$AG89) -> 16.5 | AP89: =IF($AG$1=1,($AG89-($AG89*COUNTIF($F89:L89,L89)/$X$1))*COUNTIF($AB$4:$AB$35,L89),COUNTIF($AB$4:$AB$35,L89)*$AG89) -> 15 | AQ89: =IF($AG$1=1,($AG89-($AG89*COUNTIF($F89:M89,M89)/$X$1))*COUNTIF($AB$4:$AB$35,M89),COUNTIF($AB$4:$AB$35,M89)*$AG89) -> 18 | ... AX89: =IF($AG$1=1,($AG89-($AG89*COUNTIF($F89:T89,T89)/$X$1))*COUNTIF($AB$4:$AB$35,T89),COUNTIF($AB$4:$AB$35,T89)*$AG89) -> 10.5 | AZ89: =$AG89-($AG89*COUNTIF($E89:$F89,V89)/$X$1)*COUNTIF($AB$4:$AB$35,V89) -> 21 | BB89: H90 | BU89: =CONCATENATE(AZ$1,"!",$BB89) -> Master!H90 | BW89: E86 | BX89: E94 | BZ89: =CONCATENATE(Z$1,"!",$BW89) -> Master!E86 | CA89: =CONCATENATE(AA$1,"!",$BX89) -> Master!E94 | CB89: =CONCATENATE(AB$1,"!",$BB89) -> Master!H90
B90: 4 | C90: W3 | D90: =D42 -> 2 Memphis | E90: 2 Memphis | F90: 2 Memphis | G90: 2 Memphis | H90: 7 California | I90: 2 Memphis | J90: 2 Memphis | K90: 7 California | L90: 2 Memphis | M90: 2 Memphis | N90: 2 Memphis | O90: 2 Memphis | P90: 2 Memphis | Q90: 2 Memphis | R90: 2 Memphis | S90: 2 Memphis | T90: 2 Memphis | V90: =V42 -> 2 Memphis | X90: =X42 -> 3 | Y90: =Y42 -> 22.5 | Z90: =INDIRECT(BZ90) -> 2 Memphis | AA90: =INDIRECT(CA90) -> 10 Maryland | AB90: =INDIRECT(CB90) -> 2 Memphis | AC90: =IF(Z90=AB90,AA90,Z90) -> 10 Maryland | AD90: =VLOOKUP(Z90,$A$1:$B$64,2) -> 10 | AE90: =VLOOKUP(AA90,$A$1:$B$64,2) -> 1 | AF90: 1.5 | AG90: 22.5 | AI90: =IF($AG$1=1,($AG90-($AG90*COUNTIF(E90:$F90,E90)/$X$1))*COUNTIF($AB$4:$AB$35,E90),COUNTIF($AB$4:$AB$35,E90)*$AG90) -> 19.5 | AJ90: =IF($AG$1=1,($AG90-($AG90*COUNTIF($F90:F90,F90)/$X$1))*COUNTIF($AB$4:$AB$35,F90),COUNTIF($AB$4:$AB$35,F90)*$AG90) -> 21 | AK90: =IF($AG$1=1,($AG90-($AG90*COUNTIF($F90:G90,G90)/$X$1))*COUNTIF($AB$4:$AB$35,G90),COUNTIF($AB$4:$AB$35,G90)*$AG90) -> 19.5 | AL90: =IF($AG$1=1,($AG90-($AG90*COUNTIF($F90:H90,H90)/$X$1))*COUNTIF($AB$4:$AB$35,H90),COUNTIF($AB$4:$AB$35,H90)*$AG90) -> 0 | AM90: =IF($AG$1=1,($AG90-($AG90*COUNTIF($F90:I90,I90)/$X$1))*COUNTIF($AB$4:$AB$35,I90),COUNTIF($AB$4:$AB$35,I90)*$AG90) -> 18 | AN90: =IF($AG$1=1,($AG90-($AG90*COUNTIF($F90:J90,J90)/$X$1))*COUNTIF($AB$4:$AB$35,J90),COUNTIF($AB$4:$AB$35,J90)*$AG90) -> 16.5 | AO90: =IF($AG$1=1,($AG90-($AG90*COUNTIF($F90:K90,K90)/$X$1))*COUNTIF($AB$4:$AB$35,K90),COUNTIF($AB$4:$AB$35,K90)*$AG90) -> 0 | AP90: =IF($AG$1=1,($AG90-($AG90*COUNTIF($F90:L90,L90)/$X$1))*COUNTIF($AB$4:$AB$35,L90),COUNTIF($AB$4:$AB$35,L90)*$AG90) -> 15 | AQ90: =IF($AG$1=1,($AG90-($AG90*COUNTIF($F90:M90,M90)/$X$1))*COUNTIF($AB$4:$AB$35,M90),COUNTIF($AB$4:$AB$35,M90)*$AG90) -> 13.5 | ... AX90: =IF($AG$1=1,($AG90-($AG90*COUNTIF($F90:T90,T90)/$X$1))*COUNTIF($AB$4:$AB$35,T90),COUNTIF($AB$4:$AB$35,T90)*$AG90) -> 3 | AZ90: =$AG90-($AG90*COUNTIF($E90:$F90,V90)/$X$1)*COUNTIF($AB$4:$AB$35,V90) -> 19.5 | BB90: H106 | BU90: =CONCATENATE(AZ$1,"!",$BB90) -> Master!H106 | BW90: E102 | BX90: E110 | BZ90: =CONCATENATE(Z$1,"!",$BW90) -> Master!E102 | CA90: =CONCATENATE(AA$1,"!",$BX90) -> Master!E110 | CB90: =CONCATENATE(AB$1,"!",$BB90) -> Master!H106
B91: 4 | C91: W4 | D91: =D43 -> 3 Missouri | E91: 3 Missouri | F91: 3 Missouri | G91: 3 Missouri | H91: 3 Missouri | I91: 3 Missouri | J91: 3 Missouri | K91: 6 Marquette | L91: 3 Missouri | M91: 6 Marquette | N91: 3 Missouri | O91: 6 Marquette | P91: 11 Utah State | Q91: 3 Missouri | R91: 3 Missouri | S91: 11 Utah State | T91: 3 Missouri | V91: =V43 -> 3 Missouri | X91: =X43 -> 7.5 | Y91: =Y43 -> 18 | Z91: =INDIRECT(BZ91) -> 3 Missouri | AA91: =INDIRECT(CA91) -> 6 Marquette | AB91: =INDIRECT(CB91) -> 3 Missouri | AC91: =IF(Z91=AB91,AA91,Z91) -> 6 Marquette | AD91: =VLOOKUP(Z91,$A$1:$B$64,2) -> 11 | AE91: =VLOOKUP(AA91,$A$1:$B$64,2) -> 14 | AF91: 1.5 | AG91: 22.5 | AI91: =IF($AG$1=1,($AG91-($AG91*COUNTIF(E91:$F91,E91)/$X$1))*COUNTIF($AB$4:$AB$35,E91),COUNTIF($AB$4:$AB$35,E91)*$AG91) -> 19.5 | AJ91: =IF($AG$1=1,($AG91-($AG91*COUNTIF($F91:F91,F91)/$X$1))*COUNTIF($AB$4:$AB$35,F91),COUNTIF($AB$4:$AB$35,F91)*$AG91) -> 21 | AK91: =IF($AG$1=1,($AG91-($AG91*COUNTIF($F91:G91,G91)/$X$1))*COUNTIF($AB$4:$AB$35,G91),COUNTIF($AB$4:$AB$35,G91)*$AG91) -> 19.5 | AL91: =IF($AG$1=1,($AG91-($AG91*COUNTIF($F91:H91,H91)/$X$1))*COUNTIF($AB$4:$AB$35,H91),COUNTIF($AB$4:$AB$35,H91)*$AG91) -> 18 | AM91: =IF($AG$1=1,($AG91-($AG91*COUNTIF($F91:I91,I91)/$X$1))*COUNTIF($AB$4:$AB$35,I91),COUNTIF($AB$4:$AB$35,I91)*$AG91) -> 16.5 | AN91: =IF($AG$1=1,($AG91-($AG91*COUNTIF($F91:J91,J91)/$X$1))*COUNTIF($AB$4:$AB$35,J91),COUNTIF($AB$4:$AB$35,J91)*$AG91) -> 15 | AO91: =IF($AG$1=1,($AG91-($AG91*COUNTIF($F91:K91,K91)/$X$1))*COUNTIF($AB$4:$AB$35,K91),COUNTIF($AB$4:$AB$35,K91)*$AG91) -> 21 | AP91: =IF($AG$1=1,($AG91-($AG91*COUNTIF($F91:L91,L91)/$X$1))*COUNTIF($AB$4:$AB$35,L91),COUNTIF($AB$4:$AB$35,L91)*$AG91) -> 13.5 | AQ91: =IF($AG$1=1,($AG91-($AG91*COUNTIF($F91:M91,M91)/$X$1))*COUNTIF($AB$4:$AB$35,M91),COUNTIF($AB$4:$AB$35,M91)*$AG91) -> 19.5 | ... AX91: =IF($AG$1=1,($AG91-($AG91*COUNTIF($F91:T91,T91)/$X$1))*COUNTIF($AB$4:$AB$35,T91),COUNTIF($AB$4:$AB$35,T91)*$AG91) -> 7.5 | AZ91: =$AG91-($AG91*COUNTIF($E91:$F91,V91)/$X$1)*COUNTIF($AB$4:$AB$35,V91) -> 19.5 | BB91: H122 | BU91: =CONCATENATE(AZ$1,"!",$BB91) -> Master!H122 | BW91: E118 | BX91: E126 | BZ91: =CONCATENATE(Z$1,"!",$BW91) -> Master!E118 | CA91: =CONCATENATE(AA$1,"!",$BX91) -> Master!E126 | CB91: =CONCATENATE(AB$1,"!",$BB91) -> Master!H122
B92: 4 | C92: S1 | D92: =D44 -> 1 Pittsburgh | E92: 1 Pittsburgh | F92: 1 Pittsburgh | G92: 1 Pittsburgh | H92: 1 Pittsburgh | I92: 1 Pittsburgh | J92: 1 Pittsburgh | K92: 8 Oklahoma State | L92: 1 Pittsburgh | M92: 1 Pittsburgh | N92: 1 Pittsburgh | O92: 1 Pittsburgh | P92: 1 Pittsburgh | Q92: 1 Pittsburgh | R92: 1 Pittsburgh | S92: 1 Pittsburgh | T92: 1 Pittsburgh | V92: =V44 -> 1 Pittsburgh | X92: =X44 -> 1.5 | Y92: =Y44 -> 21 | Z92: =INDIRECT(BZ92) -> 1 Pittsburgh | AA92: =INDIRECT(CA92) -> 8 Oklahoma State | AB92: =INDIRECT(CB92) -> 1 Pittsburgh | AC92: =IF(Z92=AB92,AA92,Z92) -> 8 Oklahoma State | AD92: =VLOOKUP(Z92,$A$1:$B$64,2) -> 1 | AE92: =VLOOKUP(AA92,$A$1:$B$64,2) -> 16 | AF92: 1.5 | AG92: 22.5 | AI92: =IF($AG$1=1,($AG92-($AG92*COUNTIF(E92:$F92,E92)/$X$1))*COUNTIF($AB$4:$AB$35,E92),COUNTIF($AB$4:$AB$35,E92)*$AG92) -> 19.5 | AJ92: =IF($AG$1=1,($AG92-($AG92*COUNTIF($F92:F92,F92)/$X$1))*COUNTIF($AB$4:$AB$35,F92),COUNTIF($AB$4:$AB$35,F92)*$AG92) -> 21 | AK92: =IF($AG$1=1,($AG92-($AG92*COUNTIF($F92:G92,G92)/$X$1))*COUNTIF($AB$4:$AB$35,G92),COUNTIF($AB$4:$AB$35,G92)*$AG92) -> 19.5 | AL92: =IF($AG$1=1,($AG92-($AG92*COUNTIF($F92:H92,H92)/$X$1))*COUNTIF($AB$4:$AB$35,H92),COUNTIF($AB$4:$AB$35,H92)*$AG92) -> 18 | AM92: =IF($AG$1=1,($AG92-($AG92*COUNTIF($F92:I92,I92)/$X$1))*COUNTIF($AB$4:$AB$35,I92),COUNTIF($AB$4:$AB$35,I92)*$AG92) -> 16.5 | AN92: =IF($AG$1=1,($AG92-($AG92*COUNTIF($F92:J92,J92)/$X$1))*COUNTIF($AB$4:$AB$35,J92),COUNTIF($AB$4:$AB$35,J92)*$AG92) -> 15 | AO92: =IF($AG$1=1,($AG92-($AG92*COUNTIF($F92:K92,K92)/$X$1))*COUNTIF($AB$4:$AB$35,K92),COUNTIF($AB$4:$AB$35,K92)*$AG92) -> 21 | AP92: =IF($AG$1=1,($AG92-($AG92*COUNTIF($F92:L92,L92)/$X$1))*COUNTIF($AB$4:$AB$35,L92),COUNTIF($AB$4:$AB$35,L92)*$AG92) -> 13.5 | AQ92: =IF($AG$1=1,($AG92-($AG92*COUNTIF($F92:M92,M92)/$X$1))*COUNTIF($AB$4:$AB$35,M92),COUNTIF($AB$4:$AB$35,M92)*$AG92) -> 12 | ... AX92: =IF($AG$1=1,($AG92-($AG92*COUNTIF($F92:T92,T92)/$X$1))*COUNTIF($AB$4:$AB$35,T92),COUNTIF($AB$4:$AB$35,T92)*$AG92) -> 1.5 | AZ92: =$AG92-($AG92*COUNTIF($E92:$F92,V92)/$X$1)*COUNTIF($AB$4:$AB$35,V92) -> 19.5 | BB92: Z8 | BU92: =CONCATENATE(AZ$1,"!",$BB92) -> Master!Z8 | BW92: AC4 | BX92: AC12 | BZ92: =CONCATENATE(Z$1,"!",$BW92) -> Master!AC4 | CA92: =CONCATENATE(AA$1,"!",$BX92) -> Master!AC12 | CB92: =CONCATENATE(AB$1,"!",$BB92) -> Master!Z8
B93: 5 | C93: S2 | D93: =D45 -> 5 Florida State | E93: 4 Xavier | F93: 5 Florida State | G93: 5 Florida State | H93: 4 Xavier | I93: 5 Florida State | J93: 4 Xavier | K93: 13 Portland State | L93: 5 Florida State | M93: 5 Florida State | N93: 4 Xavier | O93: 5 Florida State | P93: 5 Florida State | Q93: 5 Florida State | R93: 5 Florida State | S93: 4 Xavier | T93: 4 Xavier | V93: =V45 -> 4 Xavier | X93: =X45 -> 15 | Y93: =Y45 -> 22.5 | Z93: =INDIRECT(BZ93) -> 4 Xavier | AA93: =INDIRECT(CA93) -> 12 Wisconsin | AB93: =INDIRECT(CB93) -> 4 Xavier | AC93: =IF(Z93=AB93,AA93,Z93) -> 12 Wisconsin | AD93: =VLOOKUP(Z93,$A$1:$B$64,2) -> 12 | AE93: =VLOOKUP(AA93,$A$1:$B$64,2) -> 1 | AF93: 1.5 | AG93: 22.5 | AI93: =IF($AG$1=1,($AG93-($AG93*COUNTIF(E93:$F93,E93)/$X$1))*COUNTIF($AB$4:$AB$35,E93),COUNTIF($AB$4:$AB$35,E93)*$AG93) -> 21 | AJ93: =IF($AG$1=1,($AG93-($AG93*COUNTIF($F93:F93,F93)/$X$1))*COUNTIF($AB$4:$AB$35,F93),COUNTIF($AB$4:$AB$35,F93)*$AG93) -> 0 | AK93: =IF($AG$1=1,($AG93-($AG93*COUNTIF($F93:G93,G93)/$X$1))*COUNTIF($AB$4:$AB$35,G93),COUNTIF($AB$4:$AB$35,G93)*$AG93) -> 0 | AL93: =IF($AG$1=1,($AG93-($AG93*COUNTIF($F93:H93,H93)/$X$1))*COUNTIF($AB$4:$AB$35,H93),COUNTIF($AB$4:$AB$35,H93)*$AG93) -> 21 | AM93: =IF($AG$1=1,($AG93-($AG93*COUNTIF($F93:I93,I93)/$X$1))*COUNTIF($AB$4:$AB$35,I93),COUNTIF($AB$4:$AB$35,I93)*$AG93) -> 0 | AN93: =IF($AG$1=1,($AG93-($AG93*COUNTIF($F93:J93,J93)/$X$1))*COUNTIF($AB$4:$AB$35,J93),COUNTIF($AB$4:$AB$35,J93)*$AG93) -> 19.5 | AO93: =IF($AG$1=1,($AG93-($AG93*COUNTIF($F93:K93,K93)/$X$1))*COUNTIF($AB$4:$AB$35,K93),COUNTIF($AB$4:$AB$35,K93)*$AG93) -> 0 | AP93: =IF($AG$1=1,($AG93-($AG93*COUNTIF($F93:L93,L93)/$X$1))*COUNTIF($AB$4:$AB$35,L93),COUNTIF($AB$4:$AB$35,L93)*$AG93) -> 0 | AQ93: =IF($AG$1=1,($AG93-($AG93*COUNTIF($F93:M93,M93)/$X$1))*COUNTIF($AB$4:$AB$35,M93),COUNTIF($AB$4:$AB$35,M93)*$AG93) -> 0 | ... AX93: =IF($AG$1=1,($AG93-($AG93*COUNTIF($F93:T93,T93)/$X$1))*COUNTIF($AB$4:$AB$35,T93),COUNTIF($AB$4:$AB$35,T93)*$AG93) -> 15 | AZ93: =$AG93-($AG93*COUNTIF($E93:$F93,V93)/$X$1)*COUNTIF($AB$4:$AB$35,V93) -> 21 | BB93: Z24 | BU93: =CONCATENATE(AZ$1,"!",$BB93) -> Master!Z24 | BW93: AC20 | BX93: AC28 | BZ93: =CONCATENATE(Z$1,"!",$BW93) -> Master!AC20 | CA93: =CONCATENATE(AA$1,"!",$BX93) -> Master!AC28 | CB93: =CONCATENATE(AB$1,"!",$BB93) -> Master!Z24
B94: 5 | C94: S3 | D94: =D46 -> 2 Duke | E94: 2 Duke | F94: 2 Duke | G94: 2 Duke | H94: 2 Duke | I94: 2 Duke | J94: 2 Duke | K94: 2 Duke | L94: 2 Duke | M94: 2 Duke | N94: 2 Duke | O94: 2 Duke | P94: 2 Duke | Q94: 2 Duke | R94: 2 Duke | S94: 2 Duke | T94: 2 Duke | V94: =V46 -> 2 Duke | X94: =X46 -> 0 | Y94: =Y46 -> 22.5 | Z94: =INDIRECT(BZ94) -> 2 Duke | AA94: =INDIRECT(CA94) -> 7 Texas | AB94: =INDIRECT(CB94) -> 2 Duke | AC94: =IF(Z94=AB94,AA94,Z94) -> 7 Texas | AD94: =VLOOKUP(Z94,$A$1:$B$64,2) -> 10 | AE94: =VLOOKUP(AA94,$A$1:$B$64,2) -> 15 | AF94: 1.5 | AG94: 22.5 | AI94: =IF($AG$1=1,($AG94-($AG94*COUNTIF(E94:$F94,E94)/$X$1))*COUNTIF($AB$4:$AB$35,E94),COUNTIF($AB$4:$AB$35,E94)*$AG94) -> 19.5 | AJ94: =IF($AG$1=1,($AG94-($AG94*COUNTIF($F94:F94,F94)/$X$1))*COUNTIF($AB$4:$AB$35,F94),COUNTIF($AB$4:$AB$35,F94)*$AG94) -> 21 | AK94: =IF($AG$1=1,($AG94-($AG94*COUNTIF($F94:G94,G94)/$X$1))*COUNTIF($AB$4:$AB$35,G94),COUNTIF($AB$4:$AB$35,G94)*$AG94) -> 19.5 | AL94: =IF($AG$1=1,($AG94-($AG94*COUNTIF($F94:H94,H94)/$X$1))*COUNTIF($AB$4:$AB$35,H94),COUNTIF($AB$4:$AB$35,H94)*$AG94) -> 18 | AM94: =IF($AG$1=1,($AG94-($AG94*COUNTIF($F94:I94,I94)/$X$1))*COUNTIF($AB$4:$AB$35,I94),COUNTIF($AB$4:$AB$35,I94)*$AG94) -> 16.5 | AN94: =IF($AG$1=1,($AG94-($AG94*COUNTIF($F94:J94,J94)/$X$1))*COUNTIF($AB$4:$AB$35,J94),COUNTIF($AB$4:$AB$35,J94)*$AG94) -> 15 | AO94: =IF($AG$1=1,($AG94-($AG94*COUNTIF($F94:K94,K94)/$X$1))*COUNTIF($AB$4:$AB$35,K94),COUNTIF($AB$4:$AB$35,K94)*$AG94) -> 13.5 | AP94: =IF($AG$1=1,($AG94-($AG94*COUNTIF($F94:L94,L94)/$X$1))*COUNTIF($AB$4:$AB$35,L94),COUNTIF($AB$4:$AB$35,L94)*$AG94) -> 12 | AQ94: =IF($AG$1=1,($AG94-($AG94*COUNTIF($F94:M94,M94)/$X$1))*COUNTIF($AB$4:$AB$35,M94),COUNTIF($AB$4:$AB$35,M94)*$AG94) -> 10.5 | ... AX94: =IF($AG$1=1,($AG94-($AG94*COUNTIF($F94:T94,T94)/$X$1))*COUNTIF($AB$4:$AB$35,T94),COUNTIF($AB$4:$AB$35,T94)*$AG94) -> 0 | AZ94: =$AG94-($AG94*COUNTIF($E94:$F94,V94)/$X$1)*COUNTIF($AB$4:$AB$35,V94) -> 19.5 | BB94: Z40 | BU94: =CONCATENATE(AZ$1,"!",$BB94) -> Master!Z40 | BW94: AC36 | BX94: AC44 | BZ94: =CONCATENATE(Z$1,"!",$BW94) -> Master!AC36 | CA94: =CONCATENATE(AA$1,"!",$BX94) -> Master!AC44 | CB94: =CONCATENATE(AB$1,"!",$BB94) -> Master!Z40
B95: 5 | C95: S4 | D95: =D47 -> 3 Villanova | E95: 3 Villanova | F95: 3 Villanova | G95: 6 UCLA | H95: 6 UCLA | I95: 3 Villanova | J95: 6 UCLA | K95: 6 UCLA | L95: 3 Villanova | M95: 3 Villanova | N95: 3 Villanova | O95: 6 UCLA | P95: 3 Villanova | Q95: 3 Villanova | R95: 3 Villanova | S95: 3 Villanova | T95: 3 Villanova | V95: =V47 -> 3 Villanova | X95: =X47 -> 7.5 | Y95: =Y47 -> 15 | Z95: =INDIRECT(BZ95) -> 3 Villanova | AA95: =INDIRECT(CA95) -> 6 UCLA | AB95: =INDIRECT(CB95) -> 3 Villanova | AC95: =IF(Z95=AB95,AA95,Z95) -> 6 UCLA | AD95: =VLOOKUP(Z95,$A$1:$B$64,2) -> 11 | AE95: =VLOOKUP(AA95,$A$1:$B$64,2) -> 14 | AF95: 1.5 | AG95: 22.5 | AI95: =IF($AG$1=1,($AG95-($AG95*COUNTIF(E95:$F95,E95)/$X$1))*COUNTIF($AB$4:$AB$35,E95),COUNTIF($AB$4:$AB$35,E95)*$AG95) -> 19.5 | AJ95: =IF($AG$1=1,($AG95-($AG95*COUNTIF($F95:F95,F95)/$X$1))*COUNTIF($AB$4:$AB$35,F95),COUNTIF($AB$4:$AB$35,F95)*$AG95) -> 21 | AK95: =IF($AG$1=1,($AG95-($AG95*COUNTIF($F95:G95,G95)/$X$1))*COUNTIF($AB$4:$AB$35,G95),COUNTIF($AB$4:$AB$35,G95)*$AG95) -> 21 | AL95: =IF($AG$1=1,($AG95-($AG95*COUNTIF($F95:H95,H95)/$X$1))*COUNTIF($AB$4:$AB$35,H95),COUNTIF($AB$4:$AB$35,H95)*$AG95) -> 19.5 | AM95: =IF($AG$1=1,($AG95-($AG95*COUNTIF($F95:I95,I95)/$X$1))*COUNTIF($AB$4:$AB$35,I95),COUNTIF($AB$4:$AB$35,I95)*$AG95) -> 19.5 | AN95: =IF($AG$1=1,($AG95-($AG95*COUNTIF($F95:J95,J95)/$X$1))*COUNTIF($AB$4:$AB$35,J95),COUNTIF($AB$4:$AB$35,J95)*$AG95) -> 18 | AO95: =IF($AG$1=1,($AG95-($AG95*COUNTIF($F95:K95,K95)/$X$1))*COUNTIF($AB$4:$AB$35,K95),COUNTIF($AB$4:$AB$35,K95)*$AG95) -> 16.5 | AP95: =IF($AG$1=1,($AG95-($AG95*COUNTIF($F95:L95,L95)/$X$1))*COUNTIF($AB$4:$AB$35,L95),COUNTIF($AB$4:$AB$35,L95)*$AG95) -> 18 | AQ95: =IF($AG$1=1,($AG95-($AG95*COUNTIF($F95:M95,M95)/$X$1))*COUNTIF($AB$4:$AB$35,M95),COUNTIF($AB$4:$AB$35,M95)*$AG95) -> 16.5 | ... AX95: =IF($AG$1=1,($AG95-($AG95*COUNTIF($F95:T95,T95)/$X$1))*COUNTIF($AB$4:$AB$35,T95),COUNTIF($AB$4:$AB$35,T95)*$AG95) -> 7.5 | AZ95: =$AG95-($AG95*COUNTIF($E95:$F95,V95)/$X$1)*COUNTIF($AB$4:$AB$35,V95) -> 19.5 | BB95: Z56 | BU95: =CONCATENATE(AZ$1,"!",$BB95) -> Master!Z56 | BW95: AC52 | BX95: AC60 | BZ95: =CONCATENATE(Z$1,"!",$BW95) -> Master!AC52 | CA95: =CONCATENATE(AA$1,"!",$BX95) -> Master!AC60 | CB95: =CONCATENATE(AB$1,"!",$BB95) -> Master!Z56
... B112: 9 | C112: EW1 | D112: =D64 -> 1 Louisville | E112: 1 Louisville | F112: 1 Louisville | G112: 1 Connecticut | H112: 2 Michigan State | I112: 1 Louisville | J112: 3 Kansas | K112: 7 California | L112: 1 Louisville | M112: 1 Louisville | N112: 1 Louisville | O112: 1 Connecticut | P112: 1 Louisville | Q112: 1 Louisville | R112: 2 Memphis | S112: 1 Connecticut | T112: 1 Louisville | V112: =V64 -> 2 Michigan State | X112: =X64 -> 42 | Y112: =Y64 -> 36 | Z112: =INDIRECT(BZ112) -> 2 Michigan State | AA112: =INDIRECT(CA112) -> 1 Connecticut | AB112: =INDIRECT(CB112) -> 2 Michigan State | AC112: =IF(Z112=AB112,AA112,Z112) -> 1 Connecticut | AD112: =VLOOKUP(Z112,$A$1:$B$64,2) -> 10 | AE112: =VLOOKUP(AA112,$A$1:$B$64,2) -> 1 | AF112: 3 | AG112: 45 | AI112: =IF($AG$1=1,($AG112-($AG112*COUNTIF(E112:$F112,E112)/$X$1))*COUNTIF($AB$4:$AB$35,E112),COUNTIF($AB$4:$AB$35,E112)*$AG112) -> 39 | AJ112: =IF($AG$1=1,($AG112-($AG112*COUNTIF($F112:F112,F112)/$X$1))*COUNTIF($AB$4:$AB$35,F112),COUNTIF($AB$4:$AB$35,F112)*$AG112) -> 42 | AK112: =IF($AG$1=1,($AG112-($AG112*COUNTIF($F112:G112,G112)/$X$1))*COUNTIF($AB$4:$AB$35,G112),COUNTIF($AB$4:$AB$35,G112)*$AG112) -> 42 | AL112: =IF($AG$1=1,($AG112-($AG112*COUNTIF($F112:H112,H112)/$X$1))*COUNTIF($AB$4:$AB$35,H112),COUNTIF($AB$4:$AB$35,H112)*$AG112) -> 42 | AM112: =IF($AG$1=1,($AG112-($AG112*COUNTIF($F112:I112,I112)/$X$1))*COUNTIF($AB$4:$AB$35,I112),COUNTIF($AB$4:$AB$35,I112)*$AG112) -> 39 | AN112: =IF($AG$1=1,($AG112-($AG112*COUNTIF($F112:J112,J112)/$X$1))*COUNTIF($AB$4:$AB$35,J112),COUNTIF($AB$4:$AB$35,J112)*$AG112) -> 42 | AO112: =IF($AG$1=1,($AG112-($AG112*COUNTIF($F112:K112,K112)/$X$1))*COUNTIF($AB$4:$AB$35,K112),COUNTIF($AB$4:$AB$35,K112)*$AG112) -> 0 | AP112: =IF($AG$1=1,($AG112-($AG112*COUNTIF($F112:L112,L112)/$X$1))*COUNTIF($AB$4:$AB$35,L112),COUNTIF($AB$4:$AB$35,L112)*$AG112) -> 36 | AQ112: =IF($AG$1=1,($AG112-($AG112*COUNTIF($F112:M112,M112)/$X$1))*COUNTIF($AB$4:$AB$35,M112),COUNTIF($AB$4:$AB$35,M112)*$AG112) -> 33 | ... AX112: =IF($AG$1=1,($AG112-($AG112*COUNTIF($F112:T112,T112)/$X$1))*COUNTIF($AB$4:$AB$35,T112),COUNTIF($AB$4:$AB$35,T112)*$AG112) -> 21 | AZ112: =$AG112-($AG112*COUNTIF($E112:$F112,V112)/$X$1)*COUNTIF($AB$4:$AB$35,V112) -> 45 | BB112: Q48 | BU112: =CONCATENATE(AZ$1,"!",$BB112) -> Master!Q48 | BW112: N32 | BX112: N98 | BZ112: =CONCATENATE(Z$1,"!",$BW112) -> Master!N32 | CA112: =CONCATENATE(AA$1,"!",$BX112) -> Master!N98 | CB112: =CONCATENATE(AB$1,"!",$BB112) -> Master!Q48
C113: SMW1 | D113: =D65 -> 2 Oklahoma | E113: 1 Pittsburgh | F113: 2 Oklahoma | G113: 1 Pittsburgh | H113: 1 North Carolina | I113: 1 Pittsburgh | J113: 1 North Carolina | K113: 6 Arizona State | L113: 1 North Carolina | M113: 1 Pittsburgh | N113: 1 Pittsburgh | O113: 1 North Carolina | P113: 1 North Carolina | Q113: 1 North Carolina | R113: 1 North Carolina | S113: 2 Duke | T113: 1 North Carolina | V113: =V65 -> 1 North Carolina | X113: =X65 -> 45 | Y113: =Y65 -> 21 | Z113: =INDIRECT(BZ113) -> 3 Villanova | AA113: =INDIRECT(CA113) -> 1 North Carolina | AB113: =INDIRECT(CB113) -> 1 North Carolina | AC113: =IF(Z113=AB113,AA113,Z113) -> 3 Villanova | AD113: =VLOOKUP(Z113,$A$1:$B$64,2) -> 11 | AE113: =VLOOKUP(AA113,$A$1:$B$64,2) -> 1 | AF113: 3 | AG113: 45 | AI113: =IF($AG$1=1,($AG113-($AG113*COUNTIF(E113:$F113,E113)/$X$1))*COUNTIF($AB$4:$AB$35,E113),COUNTIF($AB$4:$AB$35,E113)*$AG113) -> 42 | AJ113: =IF($AG$1=1,($AG113-($AG113*COUNTIF($F113:F113,F113)/$X$1))*COUNTIF($AB$4:$AB$35,F113),COUNTIF($AB$4:$AB$35,F113)*$AG113) -> 42 | AK113: =IF($AG$1=1,($AG113-($AG113*COUNTIF($F113:G113,G113)/$X$1))*COUNTIF($AB$4:$AB$35,G113),COUNTIF($AB$4:$AB$35,G113)*$AG113) -> 42 | AL113: =IF($AG$1=1,($AG113-($AG113*COUNTIF($F113:H113,H113)/$X$1))*COUNTIF($AB$4:$AB$35,H113),COUNTIF($AB$4:$AB$35,H113)*$AG113) -> 42 | AM113: =IF($AG$1=1,($AG113-($AG113*COUNTIF($F113:I113,I113)/$X$1))*COUNTIF($AB$4:$AB$35,I113),COUNTIF($AB$4:$AB$35,I113)*$AG113) -> 39 | AN113: =IF($AG$1=1,($AG113-($AG113*COUNTIF($F113:J113,J113)/$X$1))*COUNTIF($AB$4:$AB$35,J113),COUNTIF($AB$4:$AB$35,J113)*$AG113) -> 39 | AO113: =IF($AG$1=1,($AG113-($AG113*COUNTIF($F113:K113,K113)/$X$1))*COUNTIF($AB$4:$AB$35,K113),COUNTIF($AB$4:$AB$35,K113)*$AG113) -> 42 | AP113: =IF($AG$1=1,($AG113-($AG113*COUNTIF($F113:L113,L113)/$X$1))*COUNTIF($AB$4:$AB$35,L113),COUNTIF($AB$4:$AB$35,L113)*$AG113) -> 36 | AQ113: =IF($AG$1=1,($AG113-($AG113*COUNTIF($F113:M113,M113)/$X$1))*COUNTIF($AB$4:$AB$35,M113),COUNTIF($AB$4:$AB$35,M113)*$AG113) -> 36 | ... AX113: =IF($AG$1=1,($AG113-($AG113*COUNTIF($F113:T113,T113)/$X$1))*COUNTIF($AB$4:$AB$35,T113),COUNTIF($AB$4:$AB$35,T113)*$AG113) -> 21 | AZ113: =$AG113-($AG113*COUNTIF($E113:$F113,V113)/$X$1)*COUNTIF($AB$4:$AB$35,V113) -> 45 | BB113: Q82 | BU113: =CONCATENATE(AZ$1,"!",$BB113) -> Master!Q82 | BW113: T32 | BX113: T98 | BZ113: =CONCATENATE(Z$1,"!",$BW113) -> Master!T32 | CA113: =CONCATENATE(AA$1,"!",$BX113) -> Master!T98 | CB113: =CONCATENATE(AB$1,"!",$BB113) -> Master!Q82
C114: FINAL | D114: =D66 -> 1 Louisville | E114: 1 Louisville | F114: 1 Louisville | G114: 1 Connecticut | H114: 1 North Carolina | I114: 1 Louisville | J114: 3 Kansas | K114: 6 Arizona State | L114: 1 Louisville | M114: 1 Pittsburgh | N114: 1 Louisville | O114: 1 North Carolina | P114: 1 North Carolina | Q114: 1 North Carolina | R114: 2 Memphis | S114: 2 Duke | T114: 1 North Carolina | V114: =V66 -> 0 | X114: =X66 -> 52.5 | Y114: =Y66 -> 35 | Z114: =INDIRECT(BZ114) -> 2 Michigan State | AA114: =INDIRECT(CA114) -> 1 North Carolina | AB114: =INDIRECT(CB114) -> 0 | AC114: =IF(Z114=AB114,AA114,Z114) -> 2 Michigan State | AD114: =VLOOKUP(Z114,$A$1:$B$64,2) -> 10 | AE114: =VLOOKUP(AA114,$A$1:$B$64,2) -> 1 | AF114: 3.5 | AG114: 52.5 | AI114: =IF($AG$1=1,($AG114-($AG114*COUNTIF(E114:$F114,E114)/$X$1))*COUNTIF($AB$4:$AB$35,E114),COUNTIF($AB$4:$AB$35,E114)*$AG114) -> 45.5 | AJ114: =IF($AG$1=1,($AG114-($AG114*COUNTIF($F114:F114,F114)/$X$1))*COUNTIF($AB$4:$AB$35,F114),COUNTIF($AB$4:$AB$35,F114)*$AG114) -> 49 | AK114: =IF($AG$1=1,($AG114-($AG114*COUNTIF($F114:G114,G114)/$X$1))*COUNTIF($AB$4:$AB$35,G114),COUNTIF($AB$4:$AB$35,G114)*$AG114) -> 49 | AL114: =IF($AG$1=1,($AG114-($AG114*COUNTIF($F114:H114,H114)/$X$1))*COUNTIF($AB$4:$AB$35,H114),COUNTIF($AB$4:$AB$35,H114)*$AG114) -> 49 | AM114: =IF($AG$1=1,($AG114-($AG114*COUNTIF($F114:I114,I114)/$X$1))*COUNTIF($AB$4:$AB$35,I114),COUNTIF($AB$4:$AB$35,I114)*$AG114) -> 45.5 | AN114: =IF($AG$1=1,($AG114-($AG114*COUNTIF($F114:J114,J114)/$X$1))*COUNTIF($AB$4:$AB$35,J114),COUNTIF($AB$4:$AB$35,J114)*$AG114) -> 49 | AO114: =IF($AG$1=1,($AG114-($AG114*COUNTIF($F114:K114,K114)/$X$1))*COUNTIF($AB$4:$AB$35,K114),COUNTIF($AB$4:$AB$35,K114)*$AG114) -> 49 | AP114: =IF($AG$1=1,($AG114-($AG114*COUNTIF($F114:L114,L114)/$X$1))*COUNTIF($AB$4:$AB$35,L114),COUNTIF($AB$4:$AB$35,L114)*$AG114) -> 42 | AQ114: =IF($AG$1=1,($AG114-($AG114*COUNTIF($F114:M114,M114)/$X$1))*COUNTIF($AB$4:$AB$35,M114),COUNTIF($AB$4:$AB$35,M114)*$AG114) -> 49 | ... AX114: =IF($AG$1=1,($AG114-($AG114*COUNTIF($F114:T114,T114)/$X$1))*COUNTIF($AB$4:$AB$35,T114),COUNTIF($AB$4:$AB$35,T114)*$AG114) -> 35 | AZ114: =$AG114-($AG114*COUNTIF($E114:$F114,V114)/$X$1)*COUNTIF($AB$4:$AB$35,V114) -> 52.5 | BB114: Q64 | BU114: =CONCATENATE(AZ$1,"!",$BB114) -> Master!Q64 | BW114: Q48 | BX114: Q82 | BZ114: =CONCATENATE(Z$1,"!",$BW114) -> Master!Q48 | CA114: =CONCATENATE(AA$1,"!",$BX114) -> Master!Q82 | CB114: =CONCATENATE(AB$1,"!",$BB114) -> Master!Q64
AG115: Totals | AI115: =SUM(AI84:AI114) -> 772.5 | AJ115: =SUM(AJ84:AJ114) -> 812 | AK115: =SUM(AK84:AK114) -> 742 | AL115: =SUM(AL84:AL114) -> 739.5 | AM115: =SUM(AM84:AM114) -> 684 | AN115: =SUM(AN84:AN114) -> 674 | AO115: =SUM(AO84:AO114) -> 459 | AP115: =SUM(AP84:AP114) -> 563 | ... AX115: =SUM(AX84:AX114) -> 281 | AZ115: =SUM(AZ84:AZ114) -> 823.5
AG116: Round 2 | AI116: =SUM(AI84:AI99) -> 297 | AJ116: =SUM(AJ84:AJ99) -> 315 | AK116: =SUM(AK84:AK99) -> 258 | AL116: =SUM(AL84:AL99) -> 261 | AM116: =SUM(AM84:AM99) -> 246 | AN116: =SUM(AN84:AN99) -> 231 | AO116: =SUM(AO84:AO99) -> 184.5 | AP116: =SUM(AP84:AP99) -> 169.5 | ... AX116: =SUM(AX84:AX99) -> 75 | AZ116: =SUM(AZ84:AZ99) -> 318
AG117: Round 3 | AI117: =SUM(AI100:AI107) -> 214 | AJ117: =SUM(AJ100:AJ107) -> 224 | AK117: =SUM(AK100:AK107) -> 216 | AL117: =SUM(AL100:AL107) -> 208 | AM117: =SUM(AM100:AM107) -> 192 | AN117: =SUM(AN100:AN107) -> 188 | AO117: =SUM(AO100:AO107) -> 116 | AP117: =SUM(AP100:AP107) -> 172 | ... AX117: =SUM(AX100:AX107) -> 74 | AZ117: =SUM(AZ100:AZ107) -> 218
AG118: Round 4 | AI118: =SUM(AI108:AI111) -> 135 | AJ118: =SUM(AJ108:AJ111) -> 140 | AK118: =SUM(AK108:AK111) -> 135 | AL118: =SUM(AL108:AL111) -> 137.5 | AM118: =SUM(AM108:AM111) -> 122.5 | AN118: =SUM(AN108:AN111) -> 125 | AO118: =SUM(AO108:AO111) -> 67.5 | AP118: =SUM(AP108:AP111) -> 107.5 | ... AX118: =SUM(AX108:AX111) -> 55 | AZ118: =SUM(AZ108:AZ111) -> 145
AG119: Round 5 | AI119: =SUM(AI112:AI113) -> 81 | AJ119: =SUM(AJ112:AJ113) -> 84 | AK119: =SUM(AK112:AK113) -> 84 | AL119: =SUM(AL112:AL113) -> 84 | AM119: =SUM(AM112:AM113) -> 78 | AN119: =SUM(AN112:AN113) -> 81 | AO119: =SUM(AO112:AO113) -> 42 | AP119: =SUM(AP112:AP113) -> 72 | ... AX119: =SUM(AX112:AX113) -> 42 | AZ119: =SUM(AZ112:AZ113) -> 90
AG120: Round 6 | AI120: =AI114 -> 45.5 | AJ120: =AJ114 -> 49 | AK120: =AK114 -> 49 | AL120: =AL114 -> 49 | AM120: =AM114 -> 45.5 | AN120: =AN114 -> 49 | AO120: =AO114 -> 49 | AP120: =AP114 -> 42 | ... AX120: =AX114 -> 35 | AZ120: =AZ114 -> 52.5
B124: 1 | C124: Round 3 | AI124: =AI82 -> HiSeeds | AJ124: =AJ82 -> AnthonyP | AK124: =AK82 -> BenC | AL124: =AL82 -> CandaceP | AM124: =AM82 -> ChrisR | AN124: =AN82 -> DanielV | AO124: =AO82 -> DavidS | AP124: =AP82 -> EricP | ... AX124: =AX82 -> ScottP | AZ124: Best Possible
B125: 1 | C125: Player | D125: Insert3 | E125: 0 | F125: 1 | G125: 2 | H125: 3 | I125: 4 | J125: 5 | K125: 6 | L125: 7 | M125: 8 | N125: 9 | O125: 10 | P125: 11 | Q125: 12 | R125: 13 | S125: 14 | T125: 15 | V125: =V83 -> 15 | X125: Favorite | Y125: Underdog | Z125: Player1 | AA125: Player2 | AB125: Winner | AC125: Loser | AD125: SeedFav | AE125: SeedUdr | AH125: Insert1 | AI125: =#REF!+1 -> #REF! | AJ125: =#REF!+1 -> #REF! | AK125: =#REF!+1 -> #REF! | AL125: =#REF!+1 -> #REF! | AM125: =#REF!+1 -> #REF! | AN125: =#REF!+1 -> #REF! | AO125: =#REF!+1 -> #REF! | AP125: =#REF!+1 -> #REF! | ... AX125: =#REF!+1 -> #REF! | AZ125: 0 | BZ125: Player 1 | CA125: Player 2
B126: 6 | C126: E1 | D126: =D100 -> 1 Louisville | E126: 1 Louisville | F126: 1 Louisville | G126: 1 Louisville | H126: 1 Louisville | I126: 1 Louisville | J126: 1 Louisville | K126: 1 Louisville | L126: 1 Louisville | M126: 1 Louisville | N126: 1 Louisville | O126: 1 Louisville | P126: 1 Louisville | Q126: 1 Louisville | R126: 1 Louisville | S126: 1 Louisville | T126: 1 Louisville | V126: =V100 -> 1 Louisville | X126: =X100 -> 0 | Y126: =Y100 -> 30 | Z126: =INDIRECT(BZ126) -> 1 Louisville | AA126: =INDIRECT(CA126) -> 12 Arizona | AB126: =INDIRECT(CB126) -> 1 Louisville | AC126: =IF(Z126=AB126,AA126,Z126) -> 12 Arizona | AD126: =VLOOKUP(Z126,$A$1:$B$64,2) -> 1 | AE126: =VLOOKUP(AA126,$A$1:$B$64,2) -> 1 | AF126: 2 | AG126: 30 | AI126: =IF($AG$1=1,($AG126-($AG126*COUNTIF($F126:F126,E126)/$X$1))*COUNTIF($AB$36:$AB$51,E126),COUNTIF($AB$36:$AB$51,E126)*$AG126) -> 28 | AJ126: =IF($AG$1=1,($AG126-($AG126*COUNTIF($F126:U126,F126)/$X$1))*COUNTIF($AB$36:$AB$51,F126),COUNTIF($AB$36:$AB$51,F126)*$AG126) -> 0 | AK126: =IF($AG$1=1,($AG126-($AG126*COUNTIF($F126:V126,G126)/$X$1))*COUNTIF($AB$36:$AB$51,G126),COUNTIF($AB$36:$AB$51,G126)*$AG126) -> -2 | AL126: =IF($AG$1=1,($AG126-($AG126*COUNTIF($F126:W126,H126)/$X$1))*COUNTIF($AB$36:$AB$51,H126),COUNTIF($AB$36:$AB$51,H126)*$AG126) -> -2 | AM126: =IF($AG$1=1,($AG126-($AG126*COUNTIF($F126:X126,I126)/$X$1))*COUNTIF($AB$36:$AB$51,I126),COUNTIF($AB$36:$AB$51,I126)*$AG126) -> -2 | AN126: =IF($AG$1=1,($AG126-($AG126*COUNTIF($F126:Y126,J126)/$X$1))*COUNTIF($AB$36:$AB$51,J126),COUNTIF($AB$36:$AB$51,J126)*$AG126) -> -2 | AO126: =IF($AG$1=1,($AG126-($AG126*COUNTIF($F126:Z126,K126)/$X$1))*COUNTIF($AB$36:$AB$51,K126),COUNTIF($AB$36:$AB$51,K126)*$AG126) -> -4 | AP126: =IF($AG$1=1,($AG126-($AG126*COUNTIF($F126:AA126,L126)/$X$1))*COUNTIF($AB$36:$AB$51,L126),COUNTIF($AB$36:$AB$51,L126)*$AG126) -> -4 | AQ126: =IF($AG$1=1,($AG126-($AG126*COUNTIF($F126:AB126,M126)/$X$1))*COUNTIF($AB$36:$AB$51,M126),COUNTIF($AB$36:$AB$51,M126)*$AG126) -> -6 | ... AX126: =IF($AG$1=1,($AG126-($AG126*COUNTIF($F126:AI126,T126)/$X$1))*COUNTIF($AB$36:$AB$51,T126),COUNTIF($AB$36:$AB$51,T126)*$AG126) -> -6 | AZ126: =$AG126-($AG126*COUNTIF($E126:$F126,V126)/$X$1)*COUNTIF($AB$36:$AB$51,V126) -> 26 | BB126: K16 | BU126: =CONCATENATE(AZ$1,"!",$BB126) -> Master!K16 | BW126: H8 | BX126: H24 | BZ126: =CONCATENATE(Z$1,"!",$BW126) -> Master!H8 | CA126: =CONCATENATE(AA$1,"!",$BX126) -> Master!H24 | CB126: =CONCATENATE(AB$1,"!",$BB126) -> Master!K16
B127: 7 | C127: E2 | D127: =D101 -> 3 Kansas | E127: 2 Michigan State | F127: 3 Kansas | G127: 2 Michigan State | H127: 2 Michigan State | I127: 3 Kansas | J127: 3 Kansas | K127: 3 Kansas | L127: 2 Michigan State | M127: 2 Michigan State | N127: 2 Michigan State | O127: 2 Michigan State | P127: 6 West Virginia | Q127: 2 Michigan State | R127: 3 Kansas | S127: 2 Michigan State | T127: 2 Michigan State | V127: =V101 -> 2 Michigan State | X127: =X101 -> 12 | Y127: =Y101 -> 20 | Z127: =INDIRECT(BZ127) -> 2 Michigan State | AA127: =INDIRECT(CA127) -> 3 Kansas | AB127: =INDIRECT(CB127) -> 2 Michigan State | AC127: =IF(Z127=AB127,AA127,Z127) -> 3 Kansas | AD127: =VLOOKUP(Z127,$A$1:$B$64,2) -> 10 | AE127: =VLOOKUP(AA127,$A$1:$B$64,2) -> 11 | AF127: 2 | AG127: 30 | AI127: =IF($AG$1=1,($AG127-($AG127*COUNTIF($F127:F127,E127)/$X$1))*COUNTIF($AB$36:$AB$51,E127),COUNTIF($AB$36:$AB$51,E127)*$AG127) -> 30 | AJ127: =IF($AG$1=1,($AG127-($AG127*COUNTIF($F127:U127,F127)/$X$1))*COUNTIF($AB$36:$AB$51,F127),COUNTIF($AB$36:$AB$51,F127)*$AG127) -> 20 | AK127: =IF($AG$1=1,($AG127-($AG127*COUNTIF($F127:V127,G127)/$X$1))*COUNTIF($AB$36:$AB$51,G127),COUNTIF($AB$36:$AB$51,G127)*$AG127) -> 10 | AL127: =IF($AG$1=1,($AG127-($AG127*COUNTIF($F127:W127,H127)/$X$1))*COUNTIF($AB$36:$AB$51,H127),COUNTIF($AB$36:$AB$51,H127)*$AG127) -> 10 | AM127: =IF($AG$1=1,($AG127-($AG127*COUNTIF($F127:X127,I127)/$X$1))*COUNTIF($AB$36:$AB$51,I127),COUNTIF($AB$36:$AB$51,I127)*$AG127) -> 20 | AN127: =IF($AG$1=1,($AG127-($AG127*COUNTIF($F127:Y127,J127)/$X$1))*COUNTIF($AB$36:$AB$51,J127),COUNTIF($AB$36:$AB$51,J127)*$AG127) -> 20 | AO127: =IF($AG$1=1,($AG127-($AG127*COUNTIF($F127:Z127,K127)/$X$1))*COUNTIF($AB$36:$AB$51,K127),COUNTIF($AB$36:$AB$51,K127)*$AG127) -> 20 | AP127: =IF($AG$1=1,($AG127-($AG127*COUNTIF($F127:AA127,L127)/$X$1))*COUNTIF($AB$36:$AB$51,L127),COUNTIF($AB$36:$AB$51,L127)*$AG127) -> 8 | AQ127: =IF($AG$1=1,($AG127-($AG127*COUNTIF($F127:AB127,M127)/$X$1))*COUNTIF($AB$36:$AB$51,M127),COUNTIF($AB$36:$AB$51,M127)*$AG127) -> 6 | ... AX127: =IF($AG$1=1,($AG127-($AG127*COUNTIF($F127:AI127,T127)/$X$1))*COUNTIF($AB$36:$AB$51,T127),COUNTIF($AB$36:$AB$51,T127)*$AG127) -> 6 | AZ127: =$AG127-($AG127*COUNTIF($E127:$F127,V127)/$X$1)*COUNTIF($AB$36:$AB$51,V127) -> 28 | BB127: K48 | BU127: =CONCATENATE(AZ$1,"!",$BB127) -> Master!K48 | BW127: H40 | BX127: H56 | BZ127: =CONCATENATE(Z$1,"!",$BW127) -> Master!H40 | CA127: =CONCATENATE(AA$1,"!",$BX127) -> Master!H56 | CB127: =CONCATENATE(AB$1,"!",$BB127) -> Master!K48
B128: 7 | C128: W1 | D128: =D102 -> 1 Connecticut | E128: 1 Connecticut | F128: 1 Connecticut | G128: 1 Connecticut | H128: 1 Connecticut | I128: 1 Connecticut | J128: 5 Purdue | K128: 4 Washington | L128: 1 Connecticut | M128: 1 Connecticut | N128: 1 Connecticut | O128: 1 Connecticut | P128: 1 Connecticut | Q128: 5 Purdue | R128: 1 Connecticut | S128: 1 Connecticut | T128: 1 Connecticut | V128: =V102 -> 1 Connecticut | X128: =X102 -> 6 | Y128: =Y102 -> 26 | Z128: =INDIRECT(BZ128) -> 1 Connecticut | AA128: =INDIRECT(CA128) -> 5 Purdue | AB128: =INDIRECT(CB128) -> 1 Connecticut | AC128: =IF(Z128=AB128,AA128,Z128) -> 5 Purdue | AD128: =VLOOKUP(Z128,$A$1:$B$64,2) -> 1 | AE128: =VLOOKUP(AA128,$A$1:$B$64,2) -> 13 | AF128: 2 | AG128: 30 | AI128: =IF($AG$1=1,($AG128-($AG128*COUNTIF($F128:F128,E128)/$X$1))*COUNTIF($AB$36:$AB$51,E128),COUNTIF($AB$36:$AB$51,E128)*$AG128) -> 28 | AJ128: =IF($AG$1=1,($AG128-($AG128*COUNTIF($F128:U128,F128)/$X$1))*COUNTIF($AB$36:$AB$51,F128),COUNTIF($AB$36:$AB$51,F128)*$AG128) -> 6 | AK128: =IF($AG$1=1,($AG128-($AG128*COUNTIF($F128:V128,G128)/$X$1))*COUNTIF($AB$36:$AB$51,G128),COUNTIF($AB$36:$AB$51,G128)*$AG128) -> 4 | AL128: =IF($AG$1=1,($AG128-($AG128*COUNTIF($F128:W128,H128)/$X$1))*COUNTIF($AB$36:$AB$51,H128),COUNTIF($AB$36:$AB$51,H128)*$AG128) -> 4 | AM128: =IF($AG$1=1,($AG128-($AG128*COUNTIF($F128:X128,I128)/$X$1))*COUNTIF($AB$36:$AB$51,I128),COUNTIF($AB$36:$AB$51,I128)*$AG128) -> 4 | AN128: =IF($AG$1=1,($AG128-($AG128*COUNTIF($F128:Y128,J128)/$X$1))*COUNTIF($AB$36:$AB$51,J128),COUNTIF($AB$36:$AB$51,J128)*$AG128) -> 26 | AO128: =IF($AG$1=1,($AG128-($AG128*COUNTIF($F128:Z128,K128)/$X$1))*COUNTIF($AB$36:$AB$51,K128),COUNTIF($AB$36:$AB$51,K128)*$AG128) -> 0 | AP128: =IF($AG$1=1,($AG128-($AG128*COUNTIF($F128:AA128,L128)/$X$1))*COUNTIF($AB$36:$AB$51,L128),COUNTIF($AB$36:$AB$51,L128)*$AG128) -> 2 | AQ128: =IF($AG$1=1,($AG128-($AG128*COUNTIF($F128:AB128,M128)/$X$1))*COUNTIF($AB$36:$AB$51,M128),COUNTIF($AB$36:$AB$51,M128)*$AG128) -> 0 | ... AX128: =IF($AG$1=1,($AG128-($AG128*COUNTIF($F128:AI128,T128)/$X$1))*COUNTIF($AB$36:$AB$51,T128),COUNTIF($AB$36:$AB$51,T128)*$AG128) -> 0 | AZ128: =$AG128-($AG128*COUNTIF($E128:$F128,V128)/$X$1)*COUNTIF($AB$36:$AB$51,V128) -> 26 | BB128: K82 | BU128: =CONCATENATE(AZ$1,"!",$BB128) -> Master!K82 | BW128: H74 | BX128: H90 | BZ128: =CONCATENATE(Z$1,"!",$BW128) -> Master!H74 | CA128: =CONCATENATE(AA$1,"!",$BX128) -> Master!H90 | CB128: =CONCATENATE(AB$1,"!",$BB128) -> Master!K82
B129: 7 | C129: W2 | D129: =D103 -> 2 Memphis | E129: 2 Memphis | F129: 2 Memphis | G129: 2 Memphis | H129: 3 Missouri | I129: 2 Memphis | J129: 3 Missouri | K129: 7 California | L129: 2 Memphis | M129: 2 Memphis | N129: 2 Memphis | O129: 6 Marquette | P129: 2 Memphis | Q129: 2 Memphis | R129: 2 Memphis | S129: 2 Memphis | T129: 2 Memphis | V129: =V103 -> 3 Missouri | X129: =X103 -> 8 | Y129: =Y103 -> 26 | Z129: =INDIRECT(BZ129) -> 2 Memphis | AA129: =INDIRECT(CA129) -> 3 Missouri | AB129: =INDIRECT(CB129) -> 3 Missouri | AC129: =IF(Z129=AB129,AA129,Z129) -> 2 Memphis | AD129: =VLOOKUP(Z129,$A$1:$B$64,2) -> 10 | AE129: =VLOOKUP(AA129,$A$1:$B$64,2) -> 11 | AF129: 2 | AG129: 30 | AI129: =IF($AG$1=1,($AG129-($AG129*COUNTIF($F129:F129,E129)/$X$1))*COUNTIF($AB$36:$AB$51,E129),COUNTIF($AB$36:$AB$51,E129)*$AG129) -> 28 | AJ129: =IF($AG$1=1,($AG129-($AG129*COUNTIF($F129:U129,F129)/$X$1))*COUNTIF($AB$36:$AB$51,F129),COUNTIF($AB$36:$AB$51,F129)*$AG129) -> 8 | AK129: =IF($AG$1=1,($AG129-($AG129*COUNTIF($F129:V129,G129)/$X$1))*COUNTIF($AB$36:$AB$51,G129),COUNTIF($AB$36:$AB$51,G129)*$AG129) -> 8 | AL129: =IF($AG$1=1,($AG129-($AG129*COUNTIF($F129:W129,H129)/$X$1))*COUNTIF($AB$36:$AB$51,H129),COUNTIF($AB$36:$AB$51,H129)*$AG129) -> 24 | AM129: =IF($AG$1=1,($AG129-($AG129*COUNTIF($F129:X129,I129)/$X$1))*COUNTIF($AB$36:$AB$51,I129),COUNTIF($AB$36:$AB$51,I129)*$AG129) -> 8 | AN129: =IF($AG$1=1,($AG129-($AG129*COUNTIF($F129:Y129,J129)/$X$1))*COUNTIF($AB$36:$AB$51,J129),COUNTIF($AB$36:$AB$51,J129)*$AG129) -> 24 | AO129: =IF($AG$1=1,($AG129-($AG129*COUNTIF($F129:Z129,K129)/$X$1))*COUNTIF($AB$36:$AB$51,K129),COUNTIF($AB$36:$AB$51,K129)*$AG129) -> 0 | AP129: =IF($AG$1=1,($AG129-($AG129*COUNTIF($F129:AA129,L129)/$X$1))*COUNTIF($AB$36:$AB$51,L129),COUNTIF($AB$36:$AB$51,L129)*$AG129) -> 6 | AQ129: =IF($AG$1=1,($AG129-($AG129*COUNTIF($F129:AB129,M129)/$X$1))*COUNTIF($AB$36:$AB$51,M129),COUNTIF($AB$36:$AB$51,M129)*$AG129) -> 6 | ... AX129: =IF($AG$1=1,($AG129-($AG129*COUNTIF($F129:AI129,T129)/$X$1))*COUNTIF($AB$36:$AB$51,T129),COUNTIF($AB$36:$AB$51,T129)*$AG129) -> 4 | AZ129: =$AG129-($AG129*COUNTIF($E129:$F129,V129)/$X$1)*COUNTIF($AB$36:$AB$51,V129) -> 30 | BB129: K114 | BU129: =CONCATENATE(AZ$1,"!",$BB129) -> Master!K114 | BW129: H106 | BX129: H122 | BZ129: =CONCATENATE(Z$1,"!",$BW129) -> Master!H106 | CA129: =CONCATENATE(AA$1,"!",$BX129) -> Master!H122 | CB129: =CONCATENATE(AB$1,"!",$BB129) -> Master!K114
B130: 7 | C130: S1 | D130: =D104 -> 1 Pittsburgh | E130: 1 Pittsburgh | F130: 1 Pittsburgh | G130: 1 Pittsburgh | H130: 4 Xavier | I130: 1 Pittsburgh | J130: 1 Pittsburgh | K130: 13 Portland State | L130: 1 Pittsburgh | M130: 1 Pittsburgh | N130: 1 Pittsburgh | O130: 1 Pittsburgh | P130: 1 Pittsburgh | Q130: 1 Pittsburgh | R130: 5 Florida State | S130: 1 Pittsburgh | T130: 1 Pittsburgh | V130: =V104 -> 1 Pittsburgh | X130: =X104 -> 6 | Y130: =Y104 -> 28 | Z130: =INDIRECT(BZ130) -> 1 Pittsburgh | AA130: =INDIRECT(CA130) -> 4 Xavier | AB130: =INDIRECT(CB130) -> 1 Pittsburgh | AC130: =IF(Z130=AB130,AA130,Z130) -> 4 Xavier | AD130: =VLOOKUP(Z130,$A$1:$B$64,2) -> 1 | AE130: =VLOOKUP(AA130,$A$1:$B$64,2) -> 12 | AF130: 2 | AG130: 30 | AI130: =IF($AG$1=1,($AG130-($AG130*COUNTIF($F130:F130,E130)/$X$1))*COUNTIF($AB$36:$AB$51,E130),COUNTIF($AB$36:$AB$51,E130)*$AG130) -> 28 | AJ130: =IF($AG$1=1,($AG130-($AG130*COUNTIF($F130:U130,F130)/$X$1))*COUNTIF($AB$36:$AB$51,F130),COUNTIF($AB$36:$AB$51,F130)*$AG130) -> 6 | AK130: =IF($AG$1=1,($AG130-($AG130*COUNTIF($F130:V130,G130)/$X$1))*COUNTIF($AB$36:$AB$51,G130),COUNTIF($AB$36:$AB$51,G130)*$AG130) -> 4 | AL130: =IF($AG$1=1,($AG130-($AG130*COUNTIF($F130:W130,H130)/$X$1))*COUNTIF($AB$36:$AB$51,H130),COUNTIF($AB$36:$AB$51,H130)*$AG130) -> 28 | AM130: =IF($AG$1=1,($AG130-($AG130*COUNTIF($F130:X130,I130)/$X$1))*COUNTIF($AB$36:$AB$51,I130),COUNTIF($AB$36:$AB$51,I130)*$AG130) -> 4 | AN130: =IF($AG$1=1,($AG130-($AG130*COUNTIF($F130:Y130,J130)/$X$1))*COUNTIF($AB$36:$AB$51,J130),COUNTIF($AB$36:$AB$51,J130)*$AG130) -> 4 | AO130: =IF($AG$1=1,($AG130-($AG130*COUNTIF($F130:Z130,K130)/$X$1))*COUNTIF($AB$36:$AB$51,K130),COUNTIF($AB$36:$AB$51,K130)*$AG130) -> 0 | AP130: =IF($AG$1=1,($AG130-($AG130*COUNTIF($F130:AA130,L130)/$X$1))*COUNTIF($AB$36:$AB$51,L130),COUNTIF($AB$36:$AB$51,L130)*$AG130) -> 2 | AQ130: =IF($AG$1=1,($AG130-($AG130*COUNTIF($F130:AB130,M130)/$X$1))*COUNTIF($AB$36:$AB$51,M130),COUNTIF($AB$36:$AB$51,M130)*$AG130) -> 0 | ... AX130: =IF($AG$1=1,($AG130-($AG130*COUNTIF($F130:AI130,T130)/$X$1))*COUNTIF($AB$36:$AB$51,T130),COUNTIF($AB$36:$AB$51,T130)*$AG130) -> 0 | AZ130: =$AG130-($AG130*COUNTIF($E130:$F130,V130)/$X$1)*COUNTIF($AB$36:$AB$51,V130) -> 26 | BB130: W16 | BU130: =CONCATENATE(AZ$1,"!",$BB130) -> Master!W16 | BW130: Z8 | BX130: Z24 | BZ130: =CONCATENATE(Z$1,"!",$BW130) -> Master!Z8 | CA130: =CONCATENATE(AA$1,"!",$BX130) -> Master!Z24 | CB130: =CONCATENATE(AB$1,"!",$BB130) -> Master!W16
B131: 8 | C131: S2 | D131: =D105 -> 3 Villanova | E131: 2 Duke | F131: 3 Villanova | G131: 2 Duke | H131: 2 Duke | I131: 2 Duke | J131: 2 Duke | K131: 2 Duke | L131: 3 Villanova | M131: 3 Villanova | N131: 2 Duke | O131: 2 Duke | P131: 2 Duke | Q131: 3 Villanova | R131: 2 Duke | S131: 2 Duke | T131: 3 Villanova | V131: =V105 -> 3 Villanova | X131: =X105 -> 10 | Y131: =Y105 -> 20 | Z131: =INDIRECT(BZ131) -> 2 Duke | AA131: =INDIRECT(CA131) -> 3 Villanova | AB131: =INDIRECT(CB131) -> 3 Villanova | AC131: =IF(Z131=AB131,AA131,Z131) -> 2 Duke | AD131: =VLOOKUP(Z131,$A$1:$B$64,2) -> 10 | AE131: =VLOOKUP(AA131,$A$1:$B$64,2) -> 11 | AF131: 2 | AG131: 30 | AI131: =IF($AG$1=1,($AG131-($AG131*COUNTIF($F131:F131,E131)/$X$1))*COUNTIF($AB$36:$AB$51,E131),COUNTIF($AB$36:$AB$51,E131)*$AG131) -> 30 | AJ131: =IF($AG$1=1,($AG131-($AG131*COUNTIF($F131:U131,F131)/$X$1))*COUNTIF($AB$36:$AB$51,F131),COUNTIF($AB$36:$AB$51,F131)*$AG131) -> 20 | AK131: =IF($AG$1=1,($AG131-($AG131*COUNTIF($F131:V131,G131)/$X$1))*COUNTIF($AB$36:$AB$51,G131),COUNTIF($AB$36:$AB$51,G131)*$AG131) -> 10 | AL131: =IF($AG$1=1,($AG131-($AG131*COUNTIF($F131:W131,H131)/$X$1))*COUNTIF($AB$36:$AB$51,H131),COUNTIF($AB$36:$AB$51,H131)*$AG131) -> 10 | AM131: =IF($AG$1=1,($AG131-($AG131*COUNTIF($F131:X131,I131)/$X$1))*COUNTIF($AB$36:$AB$51,I131),COUNTIF($AB$36:$AB$51,I131)*$AG131) -> 10 | AN131: =IF($AG$1=1,($AG131-($AG131*COUNTIF($F131:Y131,J131)/$X$1))*COUNTIF($AB$36:$AB$51,J131),COUNTIF($AB$36:$AB$51,J131)*$AG131) -> 10 | AO131: =IF($AG$1=1,($AG131-($AG131*COUNTIF($F131:Z131,K131)/$X$1))*COUNTIF($AB$36:$AB$51,K131),COUNTIF($AB$36:$AB$51,K131)*$AG131) -> 8 | AP131: =IF($AG$1=1,($AG131-($AG131*COUNTIF($F131:AA131,L131)/$X$1))*COUNTIF($AB$36:$AB$51,L131),COUNTIF($AB$36:$AB$51,L131)*$AG131) -> 16 | AQ131: =IF($AG$1=1,($AG131-($AG131*COUNTIF($F131:AB131,M131)/$X$1))*COUNTIF($AB$36:$AB$51,M131),COUNTIF($AB$36:$AB$51,M131)*$AG131) -> 14 | ... AX131: =IF($AG$1=1,($AG131-($AG131*COUNTIF($F131:AI131,T131)/$X$1))*COUNTIF($AB$36:$AB$51,T131),COUNTIF($AB$36:$AB$51,T131)*$AG131) -> 14 | AZ131: =$AG131-($AG131*COUNTIF($E131:$F131,V131)/$X$1)*COUNTIF($AB$36:$AB$51,V131) -> 28 | BB131: W48 | BU131: =CONCATENATE(AZ$1,"!",$BB131) -> Master!W48 | BW131: Z40 | BX131: Z56 | BZ131: =CONCATENATE(Z$1,"!",$BW131) -> Master!Z40 | CA131: =CONCATENATE(AA$1,"!",$BX131) -> Master!Z56 | CB131: =CONCATENATE(AB$1,"!",$BB131) -> Master!W48
B132: 8 | C132: MW1 | D132: =D106 -> 4 Gonzaga | E132: 1 North Carolina | F132: 4 Gonzaga | G132: 1 North Carolina | H132: 1 North Carolina | I132: 1 North Carolina | J132: 1 North Carolina | K132: 5 Illinois | L132: 1 North Carolina | M132: 1 North Carolina | N132: 1 North Carolina | O132: 1 North Carolina | P132: 1 North Carolina | Q132: 1 North Carolina | R132: 1 North Carolina | S132: 4 Gonzaga | T132: 1 North Carolina | V132: =V106 -> 1 North Carolina | X132: =X106 -> 6 | Y132: =Y106 -> 26 | Z132: =INDIRECT(BZ132) -> 1 North Carolina | AA132: =INDIRECT(CA132) -> 4 Gonzaga | AB132: =INDIRECT(CB132) -> 1 North Carolina | AC132: =IF(Z132=AB132,AA132,Z132) -> 4 Gonzaga | AD132: =VLOOKUP(Z132,$A$1:$B$64,2) -> 1 | AE132: =VLOOKUP(AA132,$A$1:$B$64,2) -> 12 | AF132: 2 | AG132: 30 | AI132: =IF($AG$1=1,($AG132-($AG132*COUNTIF($F132:F132,E132)/$X$1))*COUNTIF($AB$36:$AB$51,E132),COUNTIF($AB$36:$AB$51,E132)*$AG132) -> 30 | AJ132: =IF($AG$1=1,($AG132-($AG132*COUNTIF($F132:U132,F132)/$X$1))*COUNTIF($AB$36:$AB$51,F132),COUNTIF($AB$36:$AB$51,F132)*$AG132) -> 26 | AK132: =IF($AG$1=1,($AG132-($AG132*COUNTIF($F132:V132,G132)/$X$1))*COUNTIF($AB$36:$AB$51,G132),COUNTIF($AB$36:$AB$51,G132)*$AG132) -> 4 | AL132: =IF($AG$1=1,($AG132-($AG132*COUNTIF($F132:W132,H132)/$X$1))*COUNTIF($AB$36:$AB$51,H132),COUNTIF($AB$36:$AB$51,H132)*$AG132) -> 4 | AM132: =IF($AG$1=1,($AG132-($AG132*COUNTIF($F132:X132,I132)/$X$1))*COUNTIF($AB$36:$AB$51,I132),COUNTIF($AB$36:$AB$51,I132)*$AG132) -> 4 | AN132: =IF($AG$1=1,($AG132-($AG132*COUNTIF($F132:Y132,J132)/$X$1))*COUNTIF($AB$36:$AB$51,J132),COUNTIF($AB$36:$AB$51,J132)*$AG132) -> 4 | AO132: =IF($AG$1=1,($AG132-($AG132*COUNTIF($F132:Z132,K132)/$X$1))*COUNTIF($AB$36:$AB$51,K132),COUNTIF($AB$36:$AB$51,K132)*$AG132) -> 0 | AP132: =IF($AG$1=1,($AG132-($AG132*COUNTIF($F132:AA132,L132)/$X$1))*COUNTIF($AB$36:$AB$51,L132),COUNTIF($AB$36:$AB$51,L132)*$AG132) -> 2 | AQ132: =IF($AG$1=1,($AG132-($AG132*COUNTIF($F132:AB132,M132)/$X$1))*COUNTIF($AB$36:$AB$51,M132),COUNTIF($AB$36:$AB$51,M132)*$AG132) -> 0 | ... AX132: =IF($AG$1=1,($AG132-($AG132*COUNTIF($F132:AI132,T132)/$X$1))*COUNTIF($AB$36:$AB$51,T132),COUNTIF($AB$36:$AB$51,T132)*$AG132) -> 0 | AZ132: =$AG132-($AG132*COUNTIF($E132:$F132,V132)/$X$1)*COUNTIF($AB$36:$AB$51,V132) -> 28 | BB132: W82 | BU132: =CONCATENATE(AZ$1,"!",$BB132) -> Master!W82 | BW132: Z74 | BX132: Z90 | BZ132: =CONCATENATE(Z$1,"!",$BW132) -> Master!Z74 | CA132: =CONCATENATE(AA$1,"!",$BX132) -> Master!Z90 | CB132: =CONCATENATE(AB$1,"!",$BB132) -> Master!W82
B133: 8 | C133: MW2 | D133: =D107 -> 2 Oklahoma | E133: 2 Oklahoma | F133: 2 Oklahoma | G133: 3 Syracuse | H133: 3 Syracuse | I133: 2 Oklahoma | J133: 2 Oklahoma | K133: 6 Arizona State | L133: 3 Syracuse | M133: 2 Oklahoma | N133: 2 Oklahoma | O133: 3 Syracuse | P133: 3 Syracuse | Q133: 2 Oklahoma | R133: 3 Syracuse | S133: 6 Arizona State | T133: 2 Oklahoma | V133: =V107 -> 2 Oklahoma | X133: =X107 -> 16 | Y133: =Y107 -> 18 | Z133: =INDIRECT(BZ133) -> 2 Oklahoma | AA133: =INDIRECT(CA133) -> 3 Syracuse | AB133: =INDIRECT(CB133) -> 2 Oklahoma | AC133: =IF(Z133=AB133,AA133,Z133) -> 3 Syracuse | AD133: =VLOOKUP(Z133,$A$1:$B$64,2) -> 10 | AE133: =VLOOKUP(AA133,$A$1:$B$64,2) -> 11 | AF133: 2 | AG133: 30 | AI133: =IF($AG$1=1,($AG133-($AG133*COUNTIF($F133:F133,E133)/$X$1))*COUNTIF($AB$36:$AB$51,E133),COUNTIF($AB$36:$AB$51,E133)*$AG133) -> 28 | AJ133: =IF($AG$1=1,($AG133-($AG133*COUNTIF($F133:U133,F133)/$X$1))*COUNTIF($AB$36:$AB$51,F133),COUNTIF($AB$36:$AB$51,F133)*$AG133) -> 16 | AK133: =IF($AG$1=1,($AG133-($AG133*COUNTIF($F133:V133,G133)/$X$1))*COUNTIF($AB$36:$AB$51,G133),COUNTIF($AB$36:$AB$51,G133)*$AG133) -> 18 | AL133: =IF($AG$1=1,($AG133-($AG133*COUNTIF($F133:W133,H133)/$X$1))*COUNTIF($AB$36:$AB$51,H133),COUNTIF($AB$36:$AB$51,H133)*$AG133) -> 18 | AM133: =IF($AG$1=1,($AG133-($AG133*COUNTIF($F133:X133,I133)/$X$1))*COUNTIF($AB$36:$AB$51,I133),COUNTIF($AB$36:$AB$51,I133)*$AG133) -> 14 | AN133: =IF($AG$1=1,($AG133-($AG133*COUNTIF($F133:Y133,J133)/$X$1))*COUNTIF($AB$36:$AB$51,J133),COUNTIF($AB$36:$AB$51,J133)*$AG133) -> 14 | AO133: =IF($AG$1=1,($AG133-($AG133*COUNTIF($F133:Z133,K133)/$X$1))*COUNTIF($AB$36:$AB$51,K133),COUNTIF($AB$36:$AB$51,K133)*$AG133) -> 0 | AP133: =IF($AG$1=1,($AG133-($AG133*COUNTIF($F133:AA133,L133)/$X$1))*COUNTIF($AB$36:$AB$51,L133),COUNTIF($AB$36:$AB$51,L133)*$AG133) -> 16 | AQ133: =IF($AG$1=1,($AG133-($AG133*COUNTIF($F133:AB133,M133)/$X$1))*COUNTIF($AB$36:$AB$51,M133),COUNTIF($AB$36:$AB$51,M133)*$AG133) -> 10 | ... AX133: =IF($AG$1=1,($AG133-($AG133*COUNTIF($F133:AI133,T133)/$X$1))*COUNTIF($AB$36:$AB$51,T133),COUNTIF($AB$36:$AB$51,T133)*$AG133) -> 10 | AZ133: =$AG133-($AG133*COUNTIF($E133:$F133,V133)/$X$1)*COUNTIF($AB$36:$AB$51,V133) -> 26 | BB133: W114 | BU133: =CONCATENATE(AZ$1,"!",$BB133) -> Master!W114 | BW133: Z106 | BX133: Z122 | BZ133: =CONCATENATE(Z$1,"!",$BW133) -> Master!Z106 | CA133: =CONCATENATE(AA$1,"!",$BX133) -> Master!Z122 | CB133: =CONCATENATE(AB$1,"!",$BB133) -> Master!W114
B134: 8 | C134: E1 | D134: =D108 -> 1 Louisville | E134: 1 Louisville | F134: 1 Louisville | G134: 1 Louisville | H134: 2 Michigan State | I134: 1 Louisville | J134: 3 Kansas | K134: 3 Kansas | L134: 1 Louisville | M134: 1 Louisville | N134: 1 Louisville | O134: 2 Michigan State | P134: 1 Louisville | Q134: 1 Louisville | R134: 1 Louisville | S134: 2 Michigan State | T134: 1 Louisville | V134: =V108 -> 2 Michigan State | X134: =X108 -> 12.5 | Y134: =Y108 -> 30 | Z134: =INDIRECT(BZ134) -> 1 Louisville | AA134: =INDIRECT(CA134) -> 2 Michigan State | AB134: =INDIRECT(CB134) -> 2 Michigan State | AC134: =IF(Z134=AB134,AA134,Z134) -> 1 Louisville | AD134: =VLOOKUP(Z134,$A$1:$B$64,2) -> 1 | AE134: =VLOOKUP(AA134,$A$1:$B$64,2) -> 10 | AF134: 2.5 | AG134: 37.5 | AI134: =IF($AG$1=1,($AG134-($AG134*COUNTIF($F134:F134,E134)/$X$1))*COUNTIF($AB$36:$AB$51,E134),COUNTIF($AB$36:$AB$51,E134)*$AG134) -> 35 | AJ134: =IF($AG$1=1,($AG134-($AG134*COUNTIF($F134:U134,F134)/$X$1))*COUNTIF($AB$36:$AB$51,F134),COUNTIF($AB$36:$AB$51,F134)*$AG134) -> 12.5 | AK134: =IF($AG$1=1,($AG134-($AG134*COUNTIF($F134:V134,G134)/$X$1))*COUNTIF($AB$36:$AB$51,G134),COUNTIF($AB$36:$AB$51,G134)*$AG134) -> 12.5 | AL134: =IF($AG$1=1,($AG134-($AG134*COUNTIF($F134:W134,H134)/$X$1))*COUNTIF($AB$36:$AB$51,H134),COUNTIF($AB$36:$AB$51,H134)*$AG134) -> 27.5 | AM134: =IF($AG$1=1,($AG134-($AG134*COUNTIF($F134:X134,I134)/$X$1))*COUNTIF($AB$36:$AB$51,I134),COUNTIF($AB$36:$AB$51,I134)*$AG134) -> 12.5 | AN134: =IF($AG$1=1,($AG134-($AG134*COUNTIF($F134:Y134,J134)/$X$1))*COUNTIF($AB$36:$AB$51,J134),COUNTIF($AB$36:$AB$51,J134)*$AG134) -> 32.5 | AO134: =IF($AG$1=1,($AG134-($AG134*COUNTIF($F134:Z134,K134)/$X$1))*COUNTIF($AB$36:$AB$51,K134),COUNTIF($AB$36:$AB$51,K134)*$AG134) -> 32.5 | AP134: =IF($AG$1=1,($AG134-($AG134*COUNTIF($F134:AA134,L134)/$X$1))*COUNTIF($AB$36:$AB$51,L134),COUNTIF($AB$36:$AB$51,L134)*$AG134) -> 10 | AQ134: =IF($AG$1=1,($AG134-($AG134*COUNTIF($F134:AB134,M134)/$X$1))*COUNTIF($AB$36:$AB$51,M134),COUNTIF($AB$36:$AB$51,M134)*$AG134) -> 10 | ... AX134: =IF($AG$1=1,($AG134-($AG134*COUNTIF($F134:AI134,T134)/$X$1))*COUNTIF($AB$36:$AB$51,T134),COUNTIF($AB$36:$AB$51,T134)*$AG134) -> 7.5 | AZ134: =$AG134-($AG134*COUNTIF($E134:$F134,V134)/$X$1)*COUNTIF($AB$36:$AB$51,V134) -> 37.5 | BB134: N32 | BU134: =CONCATENATE(AZ$1,"!",$BB134) -> Master!N32 | BW134: K16 | BX134: K48 | BZ134: =CONCATENATE(Z$1,"!",$BW134) -> Master!K16 | CA134: =CONCATENATE(AA$1,"!",$BX134) -> Master!K48 | CB134: =CONCATENATE(AB$1,"!",$BB134) -> Master!N32
B135: 9 | C135: W1 | D135: =D109 -> 2 Memphis | E135: 1 Connecticut | F135: 2 Memphis | G135: 1 Connecticut | H135: 3 Missouri | I135: 2 Memphis | J135: 5 Purdue | K135: 7 California | L135: 2 Memphis | M135: 2 Memphis | N135: 1 Connecticut | O135: 1 Connecticut | P135: 2 Memphis | Q135: 5 Purdue | R135: 2 Memphis | S135: 1 Connecticut | T135: 1 Connecticut | V135: =V109 -> 1 Connecticut | X135: =X109 -> 25 | Y135: =Y109 -> 35 | Z135: =INDIRECT(BZ135) -> 1 Connecticut | AA135: =INDIRECT(CA135) -> 3 Missouri | AB135: =INDIRECT(CB135) -> 1 Connecticut | AC135: =IF(Z135=AB135,AA135,Z135) -> 3 Missouri | AD135: =VLOOKUP(Z135,$A$1:$B$64,2) -> 1 | AE135: =VLOOKUP(AA135,$A$1:$B$64,2) -> 11 | AF135: 2.5 | AG135: 37.5 | AI135: =IF($AG$1=1,($AG135-($AG135*COUNTIF($F135:F135,E135)/$X$1))*COUNTIF($AB$36:$AB$51,E135),COUNTIF($AB$36:$AB$51,E135)*$AG135) -> 37.5 | AJ135: =IF($AG$1=1,($AG135-($AG135*COUNTIF($F135:U135,F135)/$X$1))*COUNTIF($AB$36:$AB$51,F135),COUNTIF($AB$36:$AB$51,F135)*$AG135) -> 22.5 | AK135: =IF($AG$1=1,($AG135-($AG135*COUNTIF($F135:V135,G135)/$X$1))*COUNTIF($AB$36:$AB$51,G135),COUNTIF($AB$36:$AB$51,G135)*$AG135) -> 22.5 | AL135: =IF($AG$1=1,($AG135-($AG135*COUNTIF($F135:W135,H135)/$X$1))*COUNTIF($AB$36:$AB$51,H135),COUNTIF($AB$36:$AB$51,H135)*$AG135) -> 35 | AM135: =IF($AG$1=1,($AG135-($AG135*COUNTIF($F135:X135,I135)/$X$1))*COUNTIF($AB$36:$AB$51,I135),COUNTIF($AB$36:$AB$51,I135)*$AG135) -> 22.5 | AN135: =IF($AG$1=1,($AG135-($AG135*COUNTIF($F135:Y135,J135)/$X$1))*COUNTIF($AB$36:$AB$51,J135),COUNTIF($AB$36:$AB$51,J135)*$AG135) -> 32.5 | AO135: =IF($AG$1=1,($AG135-($AG135*COUNTIF($F135:Z135,K135)/$X$1))*COUNTIF($AB$36:$AB$51,K135),COUNTIF($AB$36:$AB$51,K135)*$AG135) -> 0 | AP135: =IF($AG$1=1,($AG135-($AG135*COUNTIF($F135:AA135,L135)/$X$1))*COUNTIF($AB$36:$AB$51,L135),COUNTIF($AB$36:$AB$51,L135)*$AG135) -> 22.5 | AQ135: =IF($AG$1=1,($AG135-($AG135*COUNTIF($F135:AB135,M135)/$X$1))*COUNTIF($AB$36:$AB$51,M135),COUNTIF($AB$36:$AB$51,M135)*$AG135) -> 22.5 | ... AX135: =IF($AG$1=1,($AG135-($AG135*COUNTIF($F135:AI135,T135)/$X$1))*COUNTIF($AB$36:$AB$51,T135),COUNTIF($AB$36:$AB$51,T135)*$AG135) -> 17.5 | AZ135: =$AG135-($AG135*COUNTIF($E135:$F135,V135)/$X$1)*COUNTIF($AB$36:$AB$51,V135) -> 35 | BB135: N98 | BU135: =CONCATENATE(AZ$1,"!",$BB135) -> Master!N98 | BW135: K82 | BX135: K114 | BZ135: =CONCATENATE(Z$1,"!",$BW135) -> Master!K82 | CA135: =CONCATENATE(AA$1,"!",$BX135) -> Master!K114 | CB135: =CONCATENATE(AB$1,"!",$BB135) -> Master!N98
B136: 9 | C136: S1 | D136: =D110 -> 1 Pittsburgh | E136: 1 Pittsburgh | F136: 1 Pittsburgh | G136: 1 Pittsburgh | H136: 2 Duke | I136: 1 Pittsburgh | J136: 1 Pittsburgh | K136: 13 Portland State | L136: 1 Pittsburgh | M136: 1 Pittsburgh | N136: 1 Pittsburgh | O136: 1 Pittsburgh | P136: 1 Pittsburgh | Q136: 1 Pittsburgh | R136: 2 Duke | S136: 2 Duke | T136: 1 Pittsburgh | V136: =V110 -> 3 Villanova | X136: =X110 -> 10 | Y136: =Y110 -> 37.5 | Z136: =INDIRECT(BZ136) -> 1 Pittsburgh | AA136: =INDIRECT(CA136) -> 3 Villanova | AB136: =INDIRECT(CB136) -> 3 Villanova | AC136: =IF(Z136=AB136,AA136,Z136) -> 1 Pittsburgh | AD136: =VLOOKUP(Z136,$A$1:$B$64,2) -> 1 | AE136: =VLOOKUP(AA136,$A$1:$B$64,2) -> 11 | AF136: 2.5 | AG136: 37.5 | AI136: =IF($AG$1=1,($AG136-($AG136*COUNTIF($F136:F136,E136)/$X$1))*COUNTIF($AB$36:$AB$51,E136),COUNTIF($AB$36:$AB$51,E136)*$AG136) -> 35 | AJ136: =IF($AG$1=1,($AG136-($AG136*COUNTIF($F136:U136,F136)/$X$1))*COUNTIF($AB$36:$AB$51,F136),COUNTIF($AB$36:$AB$51,F136)*$AG136) -> 10 | AK136: =IF($AG$1=1,($AG136-($AG136*COUNTIF($F136:V136,G136)/$X$1))*COUNTIF($AB$36:$AB$51,G136),COUNTIF($AB$36:$AB$51,G136)*$AG136) -> 10 | AL136: =IF($AG$1=1,($AG136-($AG136*COUNTIF($F136:W136,H136)/$X$1))*COUNTIF($AB$36:$AB$51,H136),COUNTIF($AB$36:$AB$51,H136)*$AG136) -> 30 | AM136: =IF($AG$1=1,($AG136-($AG136*COUNTIF($F136:X136,I136)/$X$1))*COUNTIF($AB$36:$AB$51,I136),COUNTIF($AB$36:$AB$51,I136)*$AG136) -> 10 | AN136: =IF($AG$1=1,($AG136-($AG136*COUNTIF($F136:Y136,J136)/$X$1))*COUNTIF($AB$36:$AB$51,J136),COUNTIF($AB$36:$AB$51,J136)*$AG136) -> 10 | AO136: =IF($AG$1=1,($AG136-($AG136*COUNTIF($F136:Z136,K136)/$X$1))*COUNTIF($AB$36:$AB$51,K136),COUNTIF($AB$36:$AB$51,K136)*$AG136) -> 0 | AP136: =IF($AG$1=1,($AG136-($AG136*COUNTIF($F136:AA136,L136)/$X$1))*COUNTIF($AB$36:$AB$51,L136),COUNTIF($AB$36:$AB$51,L136)*$AG136) -> 7.5 | AQ136: =IF($AG$1=1,($AG136-($AG136*COUNTIF($F136:AB136,M136)/$X$1))*COUNTIF($AB$36:$AB$51,M136),COUNTIF($AB$36:$AB$51,M136)*$AG136) -> 7.5 | ... AX136: =IF($AG$1=1,($AG136-($AG136*COUNTIF($F136:AI136,T136)/$X$1))*COUNTIF($AB$36:$AB$51,T136),COUNTIF($AB$36:$AB$51,T136)*$AG136) -> 5 | AZ136: =$AG136-($AG136*COUNTIF($E136:$F136,V136)/$X$1)*COUNTIF($AB$36:$AB$51,V136) -> 37.5 | BB136: T32 | BU136: =CONCATENATE(AZ$1,"!",$BB136) -> Master!T32 | BW136: W16 | BX136: W48 | BZ136: =CONCATENATE(Z$1,"!",$BW136) -> Master!W16 | CA136: =CONCATENATE(AA$1,"!",$BX136) -> Master!W48 | CB136: =CONCATENATE(AB$1,"!",$BB136) -> Master!T32
B137: 9 | C137: MW1 | D137: =D111 -> 2 Oklahoma | E137: 1 North Carolina | F137: 2 Oklahoma | G137: 1 North Carolina | H137: 1 North Carolina | I137: 1 North Carolina | J137: 1 North Carolina | K137: 6 Arizona State | L137: 1 North Carolina | M137: 1 North Carolina | N137: 1 North Carolina | O137: 1 North Carolina | P137: 1 North Carolina | Q137: 1 North Carolina | R137: 1 North Carolina | S137: 4 Gonzaga | T137: 1 North Carolina | V137: =V111 -> 1 North Carolina | X137: =X111 -> 7.5 | Y137: =Y111 -> 35 | Z137: =INDIRECT(BZ137) -> 1 North Carolina | AA137: =INDIRECT(CA137) -> 2 Oklahoma | AB137: =INDIRECT(CB137) -> 1 North Carolina | AC137: =IF(Z137=AB137,AA137,Z137) -> 2 Oklahoma | AD137: =VLOOKUP(Z137,$A$1:$B$64,2) -> 1 | AE137: =VLOOKUP(AA137,$A$1:$B$64,2) -> 10 | AF137: 2.5 | AG137: 37.5 | AI137: =IF($AG$1=1,($AG137-($AG137*COUNTIF($F137:F137,E137)/$X$1))*COUNTIF($AB$36:$AB$51,E137),COUNTIF($AB$36:$AB$51,E137)*$AG137) -> 37.5 | AJ137: =IF($AG$1=1,($AG137-($AG137*COUNTIF($F137:U137,F137)/$X$1))*COUNTIF($AB$36:$AB$51,F137),COUNTIF($AB$36:$AB$51,F137)*$AG137) -> 35 | AK137: =IF($AG$1=1,($AG137-($AG137*COUNTIF($F137:V137,G137)/$X$1))*COUNTIF($AB$36:$AB$51,G137),COUNTIF($AB$36:$AB$51,G137)*$AG137) -> 5 | AL137: =IF($AG$1=1,($AG137-($AG137*COUNTIF($F137:W137,H137)/$X$1))*COUNTIF($AB$36:$AB$51,H137),COUNTIF($AB$36:$AB$51,H137)*$AG137) -> 5 | AM137: =IF($AG$1=1,($AG137-($AG137*COUNTIF($F137:X137,I137)/$X$1))*COUNTIF($AB$36:$AB$51,I137),COUNTIF($AB$36:$AB$51,I137)*$AG137) -> 5 | AN137: =IF($AG$1=1,($AG137-($AG137*COUNTIF($F137:Y137,J137)/$X$1))*COUNTIF($AB$36:$AB$51,J137),COUNTIF($AB$36:$AB$51,J137)*$AG137) -> 5 | AO137: =IF($AG$1=1,($AG137-($AG137*COUNTIF($F137:Z137,K137)/$X$1))*COUNTIF($AB$36:$AB$51,K137),COUNTIF($AB$36:$AB$51,K137)*$AG137) -> 0 | AP137: =IF($AG$1=1,($AG137-($AG137*COUNTIF($F137:AA137,L137)/$X$1))*COUNTIF($AB$36:$AB$51,L137),COUNTIF($AB$36:$AB$51,L137)*$AG137) -> 2.5 | AQ137: =IF($AG$1=1,($AG137-($AG137*COUNTIF($F137:AB137,M137)/$X$1))*COUNTIF($AB$36:$AB$51,M137),COUNTIF($AB$36:$AB$51,M137)*$AG137) -> 0 | ... AX137: =IF($AG$1=1,($AG137-($AG137*COUNTIF($F137:AI137,T137)/$X$1))*COUNTIF($AB$36:$AB$51,T137),COUNTIF($AB$36:$AB$51,T137)*$AG137) -> 0 | AZ137: =$AG137-($AG137*COUNTIF($E137:$F137,V137)/$X$1)*COUNTIF($AB$36:$AB$51,V137) -> 35 | BB137: T98 | BU137: =CONCATENATE(AZ$1,"!",$BB137) -> Master!T98 | BW137: W82 | BX137: W114 | BZ137: =CONCATENATE(Z$1,"!",$BW137) -> Master!W82 | CA137: =CONCATENATE(AA$1,"!",$BX137) -> Master!W114 | CB137: =CONCATENATE(AB$1,"!",$BB137) -> Master!T98
B138: 9 | C138: EW1 | D138: =D112 -> 1 Louisville | E138: 1 Louisville | F138: 1 Louisville | G138: 1 Connecticut | H138: 2 Michigan State | I138: 1 Louisville | J138: 3 Kansas | K138: 7 California | L138: 1 Louisville | M138: 1 Louisville | N138: 1 Louisville | O138: 1 Connecticut | P138: 1 Louisville | Q138: 1 Louisville | R138: 2 Memphis | S138: 1 Connecticut | T138: 1 Louisville | V138: =V112 -> 2 Michigan State | X138: =X112 -> 42 | Y138: =Y112 -> 36 | Z138: =INDIRECT(BZ138) -> 2 Michigan State | AA138: =INDIRECT(CA138) -> 1 Connecticut | AB138: =INDIRECT(CB138) -> 2 Michigan State | AC138: =IF(Z138=AB138,AA138,Z138) -> 1 Connecticut | AD138: =VLOOKUP(Z138,$A$1:$B$64,2) -> 10 | AE138: =VLOOKUP(AA138,$A$1:$B$64,2) -> 1 | AF138: 3 | AG138: 45 | AI138: =IF($AG$1=1,($AG138-($AG138*COUNTIF($F138:F138,E138)/$X$1))*COUNTIF($AB$36:$AB$51,E138),COUNTIF($AB$36:$AB$51,E138)*$AG138) -> 42 | AJ138: =IF($AG$1=1,($AG138-($AG138*COUNTIF($F138:U138,F138)/$X$1))*COUNTIF($AB$36:$AB$51,F138),COUNTIF($AB$36:$AB$51,F138)*$AG138) -> 21 | AK138: =IF($AG$1=1,($AG138-($AG138*COUNTIF($F138:V138,G138)/$X$1))*COUNTIF($AB$36:$AB$51,G138),COUNTIF($AB$36:$AB$51,G138)*$AG138) -> 36 | AL138: =IF($AG$1=1,($AG138-($AG138*COUNTIF($F138:W138,H138)/$X$1))*COUNTIF($AB$36:$AB$51,H138),COUNTIF($AB$36:$AB$51,H138)*$AG138) -> 39 | AM138: =IF($AG$1=1,($AG138-($AG138*COUNTIF($F138:X138,I138)/$X$1))*COUNTIF($AB$36:$AB$51,I138),COUNTIF($AB$36:$AB$51,I138)*$AG138) -> 21 | AN138: =IF($AG$1=1,($AG138-($AG138*COUNTIF($F138:Y138,J138)/$X$1))*COUNTIF($AB$36:$AB$51,J138),COUNTIF($AB$36:$AB$51,J138)*$AG138) -> 42 | AO138: =IF($AG$1=1,($AG138-($AG138*COUNTIF($F138:Z138,K138)/$X$1))*COUNTIF($AB$36:$AB$51,K138),COUNTIF($AB$36:$AB$51,K138)*$AG138) -> 0 | AP138: =IF($AG$1=1,($AG138-($AG138*COUNTIF($F138:AA138,L138)/$X$1))*COUNTIF($AB$36:$AB$51,L138),COUNTIF($AB$36:$AB$51,L138)*$AG138) -> 21 | AQ138: =IF($AG$1=1,($AG138-($AG138*COUNTIF($F138:AB138,M138)/$X$1))*COUNTIF($AB$36:$AB$51,M138),COUNTIF($AB$36:$AB$51,M138)*$AG138) -> 21 | ... AX138: =IF($AG$1=1,($AG138-($AG138*COUNTIF($F138:AI138,T138)/$X$1))*COUNTIF($AB$36:$AB$51,T138),COUNTIF($AB$36:$AB$51,T138)*$AG138) -> 21 | AZ138: =$AG138-($AG138*COUNTIF($E138:$F138,V138)/$X$1)*COUNTIF($AB$36:$AB$51,V138) -> 45 | BB138: Q48 | BU138: =CONCATENATE(AZ$1,"!",$BB138) -> Master!Q48 | BW138: N32 | BX138: N98 | BZ138: =CONCATENATE(Z$1,"!",$BW138) -> Master!N32 | CA138: =CONCATENATE(AA$1,"!",$BX138) -> Master!N98 | CB138: =CONCATENATE(AB$1,"!",$BB138) -> Master!Q48
C139: SMW1 | D139: =D113 -> 2 Oklahoma | E139: 1 Pittsburgh | F139: 2 Oklahoma | G139: 1 Pittsburgh | H139: 1 North Carolina | I139: 1 Pittsburgh | J139: 1 North Carolina | K139: 6 Arizona State | L139: 1 North Carolina | M139: 1 Pittsburgh | N139: 1 Pittsburgh | O139: 1 North Carolina | P139: 1 North Carolina | Q139: 1 North Carolina | R139: 1 North Carolina | S139: 2 Duke | T139: 1 North Carolina | V139: =V113 -> 1 North Carolina | X139: =X113 -> 45 | Y139: =Y113 -> 21 | Z139: =INDIRECT(BZ139) -> 3 Villanova | AA139: =INDIRECT(CA139) -> 1 North Carolina | AB139: =INDIRECT(CB139) -> 1 North Carolina | AC139: =IF(Z139=AB139,AA139,Z139) -> 3 Villanova | AD139: =VLOOKUP(Z139,$A$1:$B$64,2) -> 11 | AE139: =VLOOKUP(AA139,$A$1:$B$64,2) -> 1 | AF139: 3 | AG139: 45 | AI139: =IF($AG$1=1,($AG139-($AG139*COUNTIF($F139:F139,E139)/$X$1))*COUNTIF($AB$36:$AB$51,E139),COUNTIF($AB$36:$AB$51,E139)*$AG139) -> 45 | AJ139: =IF($AG$1=1,($AG139-($AG139*COUNTIF($F139:U139,F139)/$X$1))*COUNTIF($AB$36:$AB$51,F139),COUNTIF($AB$36:$AB$51,F139)*$AG139) -> 42 | AK139: =IF($AG$1=1,($AG139-($AG139*COUNTIF($F139:V139,G139)/$X$1))*COUNTIF($AB$36:$AB$51,G139),COUNTIF($AB$36:$AB$51,G139)*$AG139) -> 33 | AL139: =IF($AG$1=1,($AG139-($AG139*COUNTIF($F139:W139,H139)/$X$1))*COUNTIF($AB$36:$AB$51,H139),COUNTIF($AB$36:$AB$51,H139)*$AG139) -> 18 | AM139: =IF($AG$1=1,($AG139-($AG139*COUNTIF($F139:X139,I139)/$X$1))*COUNTIF($AB$36:$AB$51,I139),COUNTIF($AB$36:$AB$51,I139)*$AG139) -> 33 | AN139: =IF($AG$1=1,($AG139-($AG139*COUNTIF($F139:Y139,J139)/$X$1))*COUNTIF($AB$36:$AB$51,J139),COUNTIF($AB$36:$AB$51,J139)*$AG139) -> 18 | AO139: =IF($AG$1=1,($AG139-($AG139*COUNTIF($F139:Z139,K139)/$X$1))*COUNTIF($AB$36:$AB$51,K139),COUNTIF($AB$36:$AB$51,K139)*$AG139) -> 0 | AP139: =IF($AG$1=1,($AG139-($AG139*COUNTIF($F139:AA139,L139)/$X$1))*COUNTIF($AB$36:$AB$51,L139),COUNTIF($AB$36:$AB$51,L139)*$AG139) -> 15 | AQ139: =IF($AG$1=1,($AG139-($AG139*COUNTIF($F139:AB139,M139)/$X$1))*COUNTIF($AB$36:$AB$51,M139),COUNTIF($AB$36:$AB$51,M139)*$AG139) -> 33 | ... AX139: =IF($AG$1=1,($AG139-($AG139*COUNTIF($F139:AI139,T139)/$X$1))*COUNTIF($AB$36:$AB$51,T139),COUNTIF($AB$36:$AB$51,T139)*$AG139) -> 12 | AZ139: =$AG139-($AG139*COUNTIF($E139:$F139,V139)/$X$1)*COUNTIF($AB$36:$AB$51,V139) -> 45 | BB139: Q82 | BU139: =CONCATENATE(AZ$1,"!",$BB139) -> Master!Q82 | BW139: T32 | BX139: T98 | BZ139: =CONCATENATE(Z$1,"!",$BW139) -> Master!T32 | CA139: =CONCATENATE(AA$1,"!",$BX139) -> Master!T98 | CB139: =CONCATENATE(AB$1,"!",$BB139) -> Master!Q82
C140: FINAL | D140: =D114 -> 1 Louisville | E140: 1 Louisville | F140: 1 Louisville | G140: 1 Connecticut | H140: 1 North Carolina | I140: 1 Louisville | J140: 3 Kansas | K140: 6 Arizona State | L140: 1 Louisville | M140: 1 Pittsburgh | N140: 1 Louisville | O140: 1 North Carolina | P140: 1 North Carolina | Q140: 1 North Carolina | R140: 2 Memphis | S140: 2 Duke | T140: 1 North Carolina | V140: =V114 -> 0 | X140: =X114 -> 52.5 | Y140: =Y114 -> 35 | Z140: =INDIRECT(BZ140) -> 2 Michigan State | AA140: =INDIRECT(CA140) -> 1 North Carolina | AB140: =INDIRECT(CB140) -> 0 | AC140: =IF(Z140=AB140,AA140,Z140) -> 2 Michigan State | AD140: =VLOOKUP(Z140,$A$1:$B$64,2) -> 10 | AE140: =VLOOKUP(AA140,$A$1:$B$64,2) -> 1 | AF140: 3.5 | AG140: 52.5 | AI140: =IF($AG$1=1,($AG140-($AG140*COUNTIF($F140:F140,E140)/$X$1))*COUNTIF($AB$36:$AB$51,E140),COUNTIF($AB$36:$AB$51,E140)*$AG140) -> 49 | AJ140: =IF($AG$1=1,($AG140-($AG140*COUNTIF($F140:U140,F140)/$X$1))*COUNTIF($AB$36:$AB$51,F140),COUNTIF($AB$36:$AB$51,F140)*$AG140) -> 38.5 | AK140: =IF($AG$1=1,($AG140-($AG140*COUNTIF($F140:V140,G140)/$X$1))*COUNTIF($AB$36:$AB$51,G140),COUNTIF($AB$36:$AB$51,G140)*$AG140) -> 49 | AL140: =IF($AG$1=1,($AG140-($AG140*COUNTIF($F140:W140,H140)/$X$1))*COUNTIF($AB$36:$AB$51,H140),COUNTIF($AB$36:$AB$51,H140)*$AG140) -> 35 | AM140: =IF($AG$1=1,($AG140-($AG140*COUNTIF($F140:X140,I140)/$X$1))*COUNTIF($AB$36:$AB$51,I140),COUNTIF($AB$36:$AB$51,I140)*$AG140) -> 38.5 | AN140: =IF($AG$1=1,($AG140-($AG140*COUNTIF($F140:Y140,J140)/$X$1))*COUNTIF($AB$36:$AB$51,J140),COUNTIF($AB$36:$AB$51,J140)*$AG140) -> 49 | AO140: =IF($AG$1=1,($AG140-($AG140*COUNTIF($F140:Z140,K140)/$X$1))*COUNTIF($AB$36:$AB$51,K140),COUNTIF($AB$36:$AB$51,K140)*$AG140) -> 0 | AP140: =IF($AG$1=1,($AG140-($AG140*COUNTIF($F140:AA140,L140)/$X$1))*COUNTIF($AB$36:$AB$51,L140),COUNTIF($AB$36:$AB$51,L140)*$AG140) -> 38.5 | AQ140: =IF($AG$1=1,($AG140-($AG140*COUNTIF($F140:AB140,M140)/$X$1))*COUNTIF($AB$36:$AB$51,M140),COUNTIF($AB$36:$AB$51,M140)*$AG140) -> 49 | ... AX140: =IF($AG$1=1,($AG140-($AG140*COUNTIF($F140:AI140,T140)/$X$1))*COUNTIF($AB$36:$AB$51,T140),COUNTIF($AB$36:$AB$51,T140)*$AG140) -> 31.5 | AZ140: =$AG140-($AG140*COUNTIF($E140:$F140,V140)/$X$1)*COUNTIF($AB$36:$AB$51,V140) -> 52.5 | BB140: Q64 | BU140: =CONCATENATE(AZ$1,"!",$BB140) -> Master!Q64 | BW140: Q48 | BX140: Q82 | BZ140: =CONCATENATE(Z$1,"!",$BW140) -> Master!Q48 | CA140: =CONCATENATE(AA$1,"!",$BX140) -> Master!Q82 | CB140: =CONCATENATE(AB$1,"!",$BB140) -> Master!Q64
AG141: Totals | AI141: =SUM(AI126:AI140) -> 511 | AJ141: =SUM(AJ126:AJ140) -> 283.5 | AK141: =SUM(AK126:AK140) -> 224 | AL141: =SUM(AL126:AL140) -> 285.5 | AM141: =SUM(AM126:AM140) -> 204.5 | AN141: =SUM(AN126:AN140) -> 289 | AO141: =SUM(AO126:AO140) -> 56.5 | AP141: =SUM(AP126:AP140) -> 165 | ... AX141: =SUM(AX126:AX140) -> 122.5 | AZ141: =SUM(AZ126:AZ140) -> 505.5
AG142: Round 3 | AI142: =SUM(AI126:AI133) -> 230 | AJ142: =SUM(AJ126:AJ133) -> 102 | AK142: =SUM(AK126:AK133) -> 56 | AL142: =SUM(AL126:AL133) -> 96 | AM142: =SUM(AM126:AM133) -> 62 | AN142: =SUM(AN126:AN133) -> 100 | AO142: =SUM(AO126:AO133) -> 24 | AP142: =SUM(AP126:AP133) -> 48 | ... AX142: =SUM(AX126:AX133) -> 28 | AZ142: =SUM(AZ126:AZ133) -> 218
AG143: Round 4 | AI143: =SUM(AI134:AI137) -> 145 | AJ143: =SUM(AJ134:AJ137) -> 80 | AK143: =SUM(AK134:AK137) -> 50 | AL143: =SUM(AL134:AL137) -> 97.5 | AM143: =SUM(AM134:AM137) -> 50 | AN143: =SUM(AN134:AN137) -> 80 | AO143: =SUM(AO134:AO137) -> 32.5 | AP143: =SUM(AP134:AP137) -> 42.5 | ... AX143: =SUM(AX134:AX137) -> 30 | AZ143: =SUM(AZ134:AZ137) -> 145
AG144: Round 5 | AI144: =SUM(AI138:AI139) -> 87 | AJ144: =SUM(AJ138:AJ139) -> 63 | AK144: =SUM(AK138:AK139) -> 69 | AL144: =SUM(AL138:AL139) -> 57 | AM144: =SUM(AM138:AM139) -> 54 | AN144: =SUM(AN138:AN139) -> 60 | AO144: =SUM(AO138:AO139) -> 0 | AP144: =SUM(AP138:AP139) -> 36 | ... AX144: =SUM(AX138:AX139) -> 33 | AZ144: =SUM(AZ138:AZ139) -> 90
AG145: Round 6 | AI145: =AI140 -> 49 | AJ145: =AJ140 -> 38.5 | AK145: =AK140 -> 49 | AL145: =AL140 -> 35 | AM145: =AM140 -> 38.5 | AN145: =AN140 -> 49 | AO145: =AO140 -> 0 | AP145: =AP140 -> 38.5 | ... AX145: =AX140 -> 31.5 | AZ145: =AZ140 -> 52.5
B149: 1 | C149: Round 4 | AI149: =AI124 -> HiSeeds | AJ149: =AJ124 -> AnthonyP | AK149: =AK124 -> BenC | AL149: =AL124 -> CandaceP | AM149: =AM124 -> ChrisR | AN149: =AN124 -> DanielV | AO149: =AO124 -> DavidS | AP149: =AP124 -> EricP | ... AX149: =AX124 -> ScottP | AZ149: Best Possible
B150: 1 | C150: Player | D150: Insert3 | E150: 0 | F150: 1 | G150: 2 | H150: 3 | I150: 4 | J150: 5 | K150: 6 | L150: 7 | M150: 8 | N150: 9 | O150: 10 | P150: 11 | Q150: 12 | R150: 13 | S150: 14 | T150: 15 | V150: =V125 -> 15 | X150: Favorite | Y150: Underdog | Z150: Player1 | AA150: Player2 | AB150: Winner | AC150: Loser | AD150: SeedFav | AE150: SeedUdr | AH150: Insert1 | AI150: =#REF!+1 -> #REF! | AJ150: =#REF!+1 -> #REF! | AK150: =#REF!+1 -> #REF! | AL150: =#REF!+1 -> #REF! | AM150: =#REF!+1 -> #REF! | AN150: =#REF!+1 -> #REF! | AO150: =#REF!+1 -> #REF! | AP150: =#REF!+1 -> #REF! | ... AX150: =#REF!+1 -> #REF! | AZ150: 0 | BZ150: Player 1 | CA150: Player 2
B151: 8 | C151: E1 | D151: =D134 -> 1 Louisville | E151: 1 Louisville | F151: 1 Louisville | G151: 1 Louisville | H151: 2 Michigan State | I151: 1 Louisville | J151: 3 Kansas | K151: 3 Kansas | L151: 1 Louisville | M151: 1 Louisville | N151: 1 Louisville | O151: 2 Michigan State | P151: 1 Louisville | Q151: 1 Louisville | R151: 1 Louisville | S151: 2 Michigan State | T151: 1 Louisville | V151: =V134 -> 2 Michigan State | X151: =X134 -> 12.5 | Y151: =Y134 -> 30 | Z151: =INDIRECT(BZ151) -> 1 Louisville | AA151: =INDIRECT(CA151) -> 2 Michigan State | AB151: =INDIRECT(CB151) -> 2 Michigan State | AC151: =IF(Z151=AB151,AA151,Z151) -> 1 Louisville | AD151: =VLOOKUP(Z151,$A$1:$B$64,2) -> 1 | AE151: =VLOOKUP(AA151,$A$1:$B$64,2) -> 10 | AF151: 2.5 | AG151: 37.5 | AI151: =IF($AG$1=1,($AG151-($AG151*COUNTIF($F151:F151,E151)/$X$1))*COUNTIF($AB$52:$AB$59,E151),COUNTIF($AB$52:$AB$59,E151)*$AG151) -> 35 | AJ151: =IF($AG$1=1,($AG151-($AG151*COUNTIF($F151:U151,F151)/$X$1))*COUNTIF($AB$52:$AB$59,F151),COUNTIF($AB$52:$AB$59,F151)*$AG151) -> 12.5 | AK151: =IF($AG$1=1,($AG151-($AG151*COUNTIF($F151:V151,G151)/$X$1))*COUNTIF($AB$52:$AB$59,G151),COUNTIF($AB$52:$AB$59,G151)*$AG151) -> 12.5 | AL151: =IF($AG$1=1,($AG151-($AG151*COUNTIF($F151:W151,H151)/$X$1))*COUNTIF($AB$52:$AB$59,H151),COUNTIF($AB$52:$AB$59,H151)*$AG151) -> 27.5 | AM151: =IF($AG$1=1,($AG151-($AG151*COUNTIF($F151:X151,I151)/$X$1))*COUNTIF($AB$52:$AB$59,I151),COUNTIF($AB$52:$AB$59,I151)*$AG151) -> 12.5 | AN151: =IF($AG$1=1,($AG151-($AG151*COUNTIF($F151:Y151,J151)/$X$1))*COUNTIF($AB$52:$AB$59,J151),COUNTIF($AB$52:$AB$59,J151)*$AG151) -> 0 | AO151: =IF($AG$1=1,($AG151-($AG151*COUNTIF($F151:Z151,K151)/$X$1))*COUNTIF($AB$52:$AB$59,K151),COUNTIF($AB$52:$AB$59,K151)*$AG151) -> 0 | AP151: =IF($AG$1=1,($AG151-($AG151*COUNTIF($F151:AA151,L151)/$X$1))*COUNTIF($AB$52:$AB$59,L151),COUNTIF($AB$52:$AB$59,L151)*$AG151) -> 10 | AQ151: =IF($AG$1=1,($AG151-($AG151*COUNTIF($F151:AB151,M151)/$X$1))*COUNTIF($AB$52:$AB$59,M151),COUNTIF($AB$52:$AB$59,M151)*$AG151) -> 10 | ... AX151: =IF($AG$1=1,($AG151-($AG151*COUNTIF($F151:AI151,T151)/$X$1))*COUNTIF($AB$52:$AB$59,T151),COUNTIF($AB$52:$AB$59,T151)*$AG151) -> 7.5 | AZ151: =$AG151-($AG151*COUNTIF($E151:$F151,V151)/$X$1)*COUNTIF($AB$52:$AB$59,V151) -> 37.5 | BB151: N32 | BU151: =CONCATENATE(AZ$1,"!",$BB151) -> Master!N32 | BW151: K16 | BX151: K48 | BZ151: =CONCATENATE(Z$1,"!",$BW151) -> Master!K16 | CA151: =CONCATENATE(AA$1,"!",$BX151) -> Master!K48 | CB151: =CONCATENATE(AB$1,"!",$BB151) -> Master!N32
B152: 9 | C152: W1 | D152: =D135 -> 2 Memphis | E152: 1 Connecticut | F152: 2 Memphis | G152: 1 Connecticut | H152: 3 Missouri | I152: 2 Memphis | J152: 5 Purdue | K152: 7 California | L152: 2 Memphis | M152: 2 Memphis | N152: 1 Connecticut | O152: 1 Connecticut | P152: 2 Memphis | Q152: 5 Purdue | R152: 2 Memphis | S152: 1 Connecticut | T152: 1 Connecticut | V152: =V135 -> 1 Connecticut | X152: =X135 -> 25 | Y152: =Y135 -> 35 | Z152: =INDIRECT(BZ152) -> 1 Connecticut | AA152: =INDIRECT(CA152) -> 3 Missouri | AB152: =INDIRECT(CB152) -> 1 Connecticut | AC152: =IF(Z152=AB152,AA152,Z152) -> 3 Missouri | AD152: =VLOOKUP(Z152,$A$1:$B$64,2) -> 1 | AE152: =VLOOKUP(AA152,$A$1:$B$64,2) -> 11 | AF152: 2.5 | AG152: 37.5 | AI152: =IF($AG$1=1,($AG152-($AG152*COUNTIF($F152:F152,E152)/$X$1))*COUNTIF($AB$52:$AB$59,E152),COUNTIF($AB$52:$AB$59,E152)*$AG152) -> 37.5 | AJ152: =IF($AG$1=1,($AG152-($AG152*COUNTIF($F152:U152,F152)/$X$1))*COUNTIF($AB$52:$AB$59,F152),COUNTIF($AB$52:$AB$59,F152)*$AG152) -> 0 | AK152: =IF($AG$1=1,($AG152-($AG152*COUNTIF($F152:V152,G152)/$X$1))*COUNTIF($AB$52:$AB$59,G152),COUNTIF($AB$52:$AB$59,G152)*$AG152) -> 22.5 | AL152: =IF($AG$1=1,($AG152-($AG152*COUNTIF($F152:W152,H152)/$X$1))*COUNTIF($AB$52:$AB$59,H152),COUNTIF($AB$52:$AB$59,H152)*$AG152) -> 35 | AM152: =IF($AG$1=1,($AG152-($AG152*COUNTIF($F152:X152,I152)/$X$1))*COUNTIF($AB$52:$AB$59,I152),COUNTIF($AB$52:$AB$59,I152)*$AG152) -> 0 | AN152: =IF($AG$1=1,($AG152-($AG152*COUNTIF($F152:Y152,J152)/$X$1))*COUNTIF($AB$52:$AB$59,J152),COUNTIF($AB$52:$AB$59,J152)*$AG152) -> 0 | AO152: =IF($AG$1=1,($AG152-($AG152*COUNTIF($F152:Z152,K152)/$X$1))*COUNTIF($AB$52:$AB$59,K152),COUNTIF($AB$52:$AB$59,K152)*$AG152) -> 0 | AP152: =IF($AG$1=1,($AG152-($AG152*COUNTIF($F152:AA152,L152)/$X$1))*COUNTIF($AB$52:$AB$59,L152),COUNTIF($AB$52:$AB$59,L152)*$AG152) -> 0 | AQ152: =IF($AG$1=1,($AG152-($AG152*COUNTIF($F152:AB152,M152)/$X$1))*COUNTIF($AB$52:$AB$59,M152),COUNTIF($AB$52:$AB$59,M152)*$AG152) -> 0 | ... AX152: =IF($AG$1=1,($AG152-($AG152*COUNTIF($F152:AI152,T152)/$X$1))*COUNTIF($AB$52:$AB$59,T152),COUNTIF($AB$52:$AB$59,T152)*$AG152) -> 17.5 | AZ152: =$AG152-($AG152*COUNTIF($E152:$F152,V152)/$X$1)*COUNTIF($AB$52:$AB$59,V152) -> 35 | BB152: N98 | BU152: =CONCATENATE(AZ$1,"!",$BB152) -> Master!N98 | BW152: K82 | BX152: K114 | BZ152: =CONCATENATE(Z$1,"!",$BW152) -> Master!K82 | CA152: =CONCATENATE(AA$1,"!",$BX152) -> Master!K114 | CB152: =CONCATENATE(AB$1,"!",$BB152) -> Master!N98
B153: 9 | C153: S1 | D153: =D136 -> 1 Pittsburgh | E153: 1 Pittsburgh | F153: 1 Pittsburgh | G153: 1 Pittsburgh | H153: 2 Duke | I153: 1 Pittsburgh | J153: 1 Pittsburgh | K153: 13 Portland State | L153: 1 Pittsburgh | M153: 1 Pittsburgh | N153: 1 Pittsburgh | O153: 1 Pittsburgh | P153: 1 Pittsburgh | Q153: 1 Pittsburgh | R153: 2 Duke | S153: 2 Duke | T153: 1 Pittsburgh | V153: =V136 -> 3 Villanova | X153: =X136 -> 10 | Y153: =Y136 -> 37.5 | Z153: =INDIRECT(BZ153) -> 1 Pittsburgh | AA153: =INDIRECT(CA153) -> 3 Villanova | AB153: =INDIRECT(CB153) -> 3 Villanova | AC153: =IF(Z153=AB153,AA153,Z153) -> 1 Pittsburgh | AD153: =VLOOKUP(Z153,$A$1:$B$64,2) -> 1 | AE153: =VLOOKUP(AA153,$A$1:$B$64,2) -> 11 | AF153: 2.5 | AG153: 37.5 | AI153: =IF($AG$1=1,($AG153-($AG153*COUNTIF($F153:F153,E153)/$X$1))*COUNTIF($AB$52:$AB$59,E153),COUNTIF($AB$52:$AB$59,E153)*$AG153) -> 35 | AJ153: =IF($AG$1=1,($AG153-($AG153*COUNTIF($F153:U153,F153)/$X$1))*COUNTIF($AB$52:$AB$59,F153),COUNTIF($AB$52:$AB$59,F153)*$AG153) -> 10 | AK153: =IF($AG$1=1,($AG153-($AG153*COUNTIF($F153:V153,G153)/$X$1))*COUNTIF($AB$52:$AB$59,G153),COUNTIF($AB$52:$AB$59,G153)*$AG153) -> 10 | AL153: =IF($AG$1=1,($AG153-($AG153*COUNTIF($F153:W153,H153)/$X$1))*COUNTIF($AB$52:$AB$59,H153),COUNTIF($AB$52:$AB$59,H153)*$AG153) -> 0 | AM153: =IF($AG$1=1,($AG153-($AG153*COUNTIF($F153:X153,I153)/$X$1))*COUNTIF($AB$52:$AB$59,I153),COUNTIF($AB$52:$AB$59,I153)*$AG153) -> 10 | AN153: =IF($AG$1=1,($AG153-($AG153*COUNTIF($F153:Y153,J153)/$X$1))*COUNTIF($AB$52:$AB$59,J153),COUNTIF($AB$52:$AB$59,J153)*$AG153) -> 10 | AO153: =IF($AG$1=1,($AG153-($AG153*COUNTIF($F153:Z153,K153)/$X$1))*COUNTIF($AB$52:$AB$59,K153),COUNTIF($AB$52:$AB$59,K153)*$AG153) -> 0 | AP153: =IF($AG$1=1,($AG153-($AG153*COUNTIF($F153:AA153,L153)/$X$1))*COUNTIF($AB$52:$AB$59,L153),COUNTIF($AB$52:$AB$59,L153)*$AG153) -> 7.5 | AQ153: =IF($AG$1=1,($AG153-($AG153*COUNTIF($F153:AB153,M153)/$X$1))*COUNTIF($AB$52:$AB$59,M153),COUNTIF($AB$52:$AB$59,M153)*$AG153) -> 7.5 | ... AX153: =IF($AG$1=1,($AG153-($AG153*COUNTIF($F153:AI153,T153)/$X$1))*COUNTIF($AB$52:$AB$59,T153),COUNTIF($AB$52:$AB$59,T153)*$AG153) -> 5 | AZ153: =$AG153-($AG153*COUNTIF($E153:$F153,V153)/$X$1)*COUNTIF($AB$52:$AB$59,V153) -> 37.5 | BB153: T32 | BU153: =CONCATENATE(AZ$1,"!",$BB153) -> Master!T32 | BW153: W16 | BX153: W48 | BZ153: =CONCATENATE(Z$1,"!",$BW153) -> Master!W16 | CA153: =CONCATENATE(AA$1,"!",$BX153) -> Master!W48 | CB153: =CONCATENATE(AB$1,"!",$BB153) -> Master!T32
B154: 9 | C154: MW1 | D154: =D137 -> 2 Oklahoma | E154: 1 North Carolina | F154: 2 Oklahoma | G154: 1 North Carolina | H154: 1 North Carolina | I154: 1 North Carolina | J154: 1 North Carolina | K154: 6 Arizona State | L154: 1 North Carolina | M154: 1 North Carolina | N154: 1 North Carolina | O154: 1 North Carolina | P154: 1 North Carolina | Q154: 1 North Carolina | R154: 1 North Carolina | S154: 4 Gonzaga | T154: 1 North Carolina | V154: =V137 -> 1 North Carolina | X154: =X137 -> 7.5 | Y154: =Y137 -> 35 | Z154: =INDIRECT(BZ154) -> 1 North Carolina | AA154: =INDIRECT(CA154) -> 2 Oklahoma | AB154: =INDIRECT(CB154) -> 1 North Carolina | AC154: =IF(Z154=AB154,AA154,Z154) -> 2 Oklahoma | AD154: =VLOOKUP(Z154,$A$1:$B$64,2) -> 1 | AE154: =VLOOKUP(AA154,$A$1:$B$64,2) -> 10 | AF154: 2.5 | AG154: 37.5 | AI154: =IF($AG$1=1,($AG154-($AG154*COUNTIF($F154:F154,E154)/$X$1))*COUNTIF($AB$52:$AB$59,E154),COUNTIF($AB$52:$AB$59,E154)*$AG154) -> 37.5 | AJ154: =IF($AG$1=1,($AG154-($AG154*COUNTIF($F154:U154,F154)/$X$1))*COUNTIF($AB$52:$AB$59,F154),COUNTIF($AB$52:$AB$59,F154)*$AG154) -> 35 | AK154: =IF($AG$1=1,($AG154-($AG154*COUNTIF($F154:V154,G154)/$X$1))*COUNTIF($AB$52:$AB$59,G154),COUNTIF($AB$52:$AB$59,G154)*$AG154) -> 5 | AL154: =IF($AG$1=1,($AG154-($AG154*COUNTIF($F154:W154,H154)/$X$1))*COUNTIF($AB$52:$AB$59,H154),COUNTIF($AB$52:$AB$59,H154)*$AG154) -> 5 | AM154: =IF($AG$1=1,($AG154-($AG154*COUNTIF($F154:X154,I154)/$X$1))*COUNTIF($AB$52:$AB$59,I154),COUNTIF($AB$52:$AB$59,I154)*$AG154) -> 5 | AN154: =IF($AG$1=1,($AG154-($AG154*COUNTIF($F154:Y154,J154)/$X$1))*COUNTIF($AB$52:$AB$59,J154),COUNTIF($AB$52:$AB$59,J154)*$AG154) -> 5 | AO154: =IF($AG$1=1,($AG154-($AG154*COUNTIF($F154:Z154,K154)/$X$1))*COUNTIF($AB$52:$AB$59,K154),COUNTIF($AB$52:$AB$59,K154)*$AG154) -> 0 | AP154: =IF($AG$1=1,($AG154-($AG154*COUNTIF($F154:AA154,L154)/$X$1))*COUNTIF($AB$52:$AB$59,L154),COUNTIF($AB$52:$AB$59,L154)*$AG154) -> 2.5 | AQ154: =IF($AG$1=1,($AG154-($AG154*COUNTIF($F154:AB154,M154)/$X$1))*COUNTIF($AB$52:$AB$59,M154),COUNTIF($AB$52:$AB$59,M154)*$AG154) -> 0 | ... AX154: =IF($AG$1=1,($AG154-($AG154*COUNTIF($F154:AI154,T154)/$X$1))*COUNTIF($AB$52:$AB$59,T154),COUNTIF($AB$52:$AB$59,T154)*$AG154) -> 0 | AZ154: =$AG154-($AG154*COUNTIF($E154:$F154,V154)/$X$1)*COUNTIF($AB$52:$AB$59,V154) -> 35 | BB154: T98 | BU154: =CONCATENATE(AZ$1,"!",$BB154) -> Master!T98 | BW154: W82 | BX154: W114 | BZ154: =CONCATENATE(Z$1,"!",$BW154) -> Master!W82 | CA154: =CONCATENATE(AA$1,"!",$BX154) -> Master!W114 | CB154: =CONCATENATE(AB$1,"!",$BB154) -> Master!T98
B155: 9 | C155: EW1 | D155: =D138 -> 1 Louisville | E155: 1 Louisville | F155: 1 Louisville | G155: 1 Connecticut | H155: 2 Michigan State | I155: 1 Louisville | J155: 3 Kansas | K155: 7 California | L155: 1 Louisville | M155: 1 Louisville | N155: 1 Louisville | O155: 1 Connecticut | P155: 1 Louisville | Q155: 1 Louisville | R155: 2 Memphis | S155: 1 Connecticut | T155: 1 Louisville | V155: =V138 -> 2 Michigan State | X155: =X138 -> 42 | Y155: =Y138 -> 36 | Z155: =INDIRECT(BZ155) -> 2 Michigan State | AA155: =INDIRECT(CA155) -> 1 Connecticut | AB155: =INDIRECT(CB155) -> 2 Michigan State | AC155: =IF(Z155=AB155,AA155,Z155) -> 1 Connecticut | AD155: =VLOOKUP(Z155,$A$1:$B$64,2) -> 10 | AE155: =VLOOKUP(AA155,$A$1:$B$64,2) -> 1 | AF155: 3 | AG155: 45 | AI155: =IF($AG$1=1,($AG155-($AG155*COUNTIF($F155:F155,E155)/$X$1))*COUNTIF($AB$52:$AB$59,E155),COUNTIF($AB$52:$AB$59,E155)*$AG155) -> 42 | AJ155: =IF($AG$1=1,($AG155-($AG155*COUNTIF($F155:U155,F155)/$X$1))*COUNTIF($AB$52:$AB$59,F155),COUNTIF($AB$52:$AB$59,F155)*$AG155) -> 21 | AK155: =IF($AG$1=1,($AG155-($AG155*COUNTIF($F155:V155,G155)/$X$1))*COUNTIF($AB$52:$AB$59,G155),COUNTIF($AB$52:$AB$59,G155)*$AG155) -> 36 | AL155: =IF($AG$1=1,($AG155-($AG155*COUNTIF($F155:W155,H155)/$X$1))*COUNTIF($AB$52:$AB$59,H155),COUNTIF($AB$52:$AB$59,H155)*$AG155) -> 39 | AM155: =IF($AG$1=1,($AG155-($AG155*COUNTIF($F155:X155,I155)/$X$1))*COUNTIF($AB$52:$AB$59,I155),COUNTIF($AB$52:$AB$59,I155)*$AG155) -> 21 | AN155: =IF($AG$1=1,($AG155-($AG155*COUNTIF($F155:Y155,J155)/$X$1))*COUNTIF($AB$52:$AB$59,J155),COUNTIF($AB$52:$AB$59,J155)*$AG155) -> 0 | AO155: =IF($AG$1=1,($AG155-($AG155*COUNTIF($F155:Z155,K155)/$X$1))*COUNTIF($AB$52:$AB$59,K155),COUNTIF($AB$52:$AB$59,K155)*$AG155) -> 0 | AP155: =IF($AG$1=1,($AG155-($AG155*COUNTIF($F155:AA155,L155)/$X$1))*COUNTIF($AB$52:$AB$59,L155),COUNTIF($AB$52:$AB$59,L155)*$AG155) -> 21 | AQ155: =IF($AG$1=1,($AG155-($AG155*COUNTIF($F155:AB155,M155)/$X$1))*COUNTIF($AB$52:$AB$59,M155),COUNTIF($AB$52:$AB$59,M155)*$AG155) -> 21 | ... AX155: =IF($AG$1=1,($AG155-($AG155*COUNTIF($F155:AI155,T155)/$X$1))*COUNTIF($AB$52:$AB$59,T155),COUNTIF($AB$52:$AB$59,T155)*$AG155) -> 21 | AZ155: =$AG155-($AG155*COUNTIF($E155:$F155,V155)/$X$1)*COUNTIF($AB$52:$AB$59,V155) -> 45 | BB155: Q48 | BU155: =CONCATENATE(AZ$1,"!",$BB155) -> Master!Q48 | BW155: N32 | BX155: N98 | BZ155: =CONCATENATE(Z$1,"!",$BW155) -> Master!N32 | CA155: =CONCATENATE(AA$1,"!",$BX155) -> Master!N98 | CB155: =CONCATENATE(AB$1,"!",$BB155) -> Master!Q48
C156: SMW1 | D156: =D139 -> 2 Oklahoma | E156: 1 Pittsburgh | F156: 2 Oklahoma | G156: 1 Pittsburgh | H156: 1 North Carolina | I156: 1 Pittsburgh | J156: 1 North Carolina | K156: 6 Arizona State | L156: 1 North Carolina | M156: 1 Pittsburgh | N156: 1 Pittsburgh | O156: 1 North Carolina | P156: 1 North Carolina | Q156: 1 North Carolina | R156: 1 North Carolina | S156: 2 Duke | T156: 1 North Carolina | V156: =V139 -> 1 North Carolina | X156: =X139 -> 45 | Y156: =Y139 -> 21 | Z156: =INDIRECT(BZ156) -> 3 Villanova | AA156: =INDIRECT(CA156) -> 1 North Carolina | AB156: =INDIRECT(CB156) -> 1 North Carolina | AC156: =IF(Z156=AB156,AA156,Z156) -> 3 Villanova | AD156: =VLOOKUP(Z156,$A$1:$B$64,2) -> 11 | AE156: =VLOOKUP(AA156,$A$1:$B$64,2) -> 1 | AF156: 3 | AG156: 45 | AI156: =IF($AG$1=1,($AG156-($AG156*COUNTIF($F156:F156,E156)/$X$1))*COUNTIF($AB$52:$AB$59,E156),COUNTIF($AB$52:$AB$59,E156)*$AG156) -> 45 | AJ156: =IF($AG$1=1,($AG156-($AG156*COUNTIF($F156:U156,F156)/$X$1))*COUNTIF($AB$52:$AB$59,F156),COUNTIF($AB$52:$AB$59,F156)*$AG156) -> 42 | AK156: =IF($AG$1=1,($AG156-($AG156*COUNTIF($F156:V156,G156)/$X$1))*COUNTIF($AB$52:$AB$59,G156),COUNTIF($AB$52:$AB$59,G156)*$AG156) -> 33 | AL156: =IF($AG$1=1,($AG156-($AG156*COUNTIF($F156:W156,H156)/$X$1))*COUNTIF($AB$52:$AB$59,H156),COUNTIF($AB$52:$AB$59,H156)*$AG156) -> 18 | AM156: =IF($AG$1=1,($AG156-($AG156*COUNTIF($F156:X156,I156)/$X$1))*COUNTIF($AB$52:$AB$59,I156),COUNTIF($AB$52:$AB$59,I156)*$AG156) -> 33 | AN156: =IF($AG$1=1,($AG156-($AG156*COUNTIF($F156:Y156,J156)/$X$1))*COUNTIF($AB$52:$AB$59,J156),COUNTIF($AB$52:$AB$59,J156)*$AG156) -> 18 | AO156: =IF($AG$1=1,($AG156-($AG156*COUNTIF($F156:Z156,K156)/$X$1))*COUNTIF($AB$52:$AB$59,K156),COUNTIF($AB$52:$AB$59,K156)*$AG156) -> 0 | AP156: =IF($AG$1=1,($AG156-($AG156*COUNTIF($F156:AA156,L156)/$X$1))*COUNTIF($AB$52:$AB$59,L156),COUNTIF($AB$52:$AB$59,L156)*$AG156) -> 15 | AQ156: =IF($AG$1=1,($AG156-($AG156*COUNTIF($F156:AB156,M156)/$X$1))*COUNTIF($AB$52:$AB$59,M156),COUNTIF($AB$52:$AB$59,M156)*$AG156) -> 33 | ... AX156: =IF($AG$1=1,($AG156-($AG156*COUNTIF($F156:AI156,T156)/$X$1))*COUNTIF($AB$52:$AB$59,T156),COUNTIF($AB$52:$AB$59,T156)*$AG156) -> 12 | AZ156: =$AG156-($AG156*COUNTIF($E156:$F156,V156)/$X$1)*COUNTIF($AB$52:$AB$59,V156) -> 45 | BB156: Q82 | BU156: =CONCATENATE(AZ$1,"!",$BB156) -> Master!Q82 | BW156: T32 | BX156: T98 | BZ156: =CONCATENATE(Z$1,"!",$BW156) -> Master!T32 | CA156: =CONCATENATE(AA$1,"!",$BX156) -> Master!T98 | CB156: =CONCATENATE(AB$1,"!",$BB156) -> Master!Q82
C157: FINAL | D157: =D140 -> 1 Louisville | E157: 1 Louisville | F157: 1 Louisville | G157: 1 Connecticut | H157: 1 North Carolina | I157: 1 Louisville | J157: 3 Kansas | K157: 6 Arizona State | L157: 1 Louisville | M157: 1 Pittsburgh | N157: 1 Louisville | O157: 1 North Carolina | P157: 1 North Carolina | Q157: 1 North Carolina | R157: 2 Memphis | S157: 2 Duke | T157: 1 North Carolina | V157: =V140 -> 0 | X157: =X140 -> 52.5 | Y157: =Y140 -> 35 | Z157: =INDIRECT(BZ157) -> 2 Michigan State | AA157: =INDIRECT(CA157) -> 1 North Carolina | AB157: =INDIRECT(CB157) -> 0 | AC157: =IF(Z157=AB157,AA157,Z157) -> 2 Michigan State | AD157: =VLOOKUP(Z157,$A$1:$B$64,2) -> 10 | AE157: =VLOOKUP(AA157,$A$1:$B$64,2) -> 1 | AF157: 3.5 | AG157: 52.5 | AI157: =IF($AG$1=1,($AG157-($AG157*COUNTIF($F157:F157,E157)/$X$1))*COUNTIF($AB$52:$AB$59,E157),COUNTIF($AB$52:$AB$59,E157)*$AG157) -> 49 | AJ157: =IF($AG$1=1,($AG157-($AG157*COUNTIF($F157:U157,F157)/$X$1))*COUNTIF($AB$52:$AB$59,F157),COUNTIF($AB$52:$AB$59,F157)*$AG157) -> 38.5 | AK157: =IF($AG$1=1,($AG157-($AG157*COUNTIF($F157:V157,G157)/$X$1))*COUNTIF($AB$52:$AB$59,G157),COUNTIF($AB$52:$AB$59,G157)*$AG157) -> 49 | AL157: =IF($AG$1=1,($AG157-($AG157*COUNTIF($F157:W157,H157)/$X$1))*COUNTIF($AB$52:$AB$59,H157),COUNTIF($AB$52:$AB$59,H157)*$AG157) -> 35 | AM157: =IF($AG$1=1,($AG157-($AG157*COUNTIF($F157:X157,I157)/$X$1))*COUNTIF($AB$52:$AB$59,I157),COUNTIF($AB$52:$AB$59,I157)*$AG157) -> 38.5 | AN157: =IF($AG$1=1,($AG157-($AG157*COUNTIF($F157:Y157,J157)/$X$1))*COUNTIF($AB$52:$AB$59,J157),COUNTIF($AB$52:$AB$59,J157)*$AG157) -> 0 | AO157: =IF($AG$1=1,($AG157-($AG157*COUNTIF($F157:Z157,K157)/$X$1))*COUNTIF($AB$52:$AB$59,K157),COUNTIF($AB$52:$AB$59,K157)*$AG157) -> 0 | AP157: =IF($AG$1=1,($AG157-($AG157*COUNTIF($F157:AA157,L157)/$X$1))*COUNTIF($AB$52:$AB$59,L157),COUNTIF($AB$52:$AB$59,L157)*$AG157) -> 38.5 | AQ157: =IF($AG$1=1,($AG157-($AG157*COUNTIF($F157:AB157,M157)/$X$1))*COUNTIF($AB$52:$AB$59,M157),COUNTIF($AB$52:$AB$59,M157)*$AG157) -> 49 | ... AX157: =IF($AG$1=1,($AG157-($AG157*COUNTIF($F157:AI157,T157)/$X$1))*COUNTIF($AB$52:$AB$59,T157),COUNTIF($AB$52:$AB$59,T157)*$AG157) -> 31.5 | AZ157: =$AG157-($AG157*COUNTIF($E157:$F157,V157)/$X$1)*COUNTIF($AB$52:$AB$59,V157) -> 52.5 | BB157: Q64 | BU157: =CONCATENATE(AZ$1,"!",$BB157) -> Master!Q64 | BW157: Q48 | BX157: Q82 | BZ157: =CONCATENATE(Z$1,"!",$BW157) -> Master!Q48 | CA157: =CONCATENATE(AA$1,"!",$BX157) -> Master!Q82 | CB157: =CONCATENATE(AB$1,"!",$BB157) -> Master!Q64
AG158: Totals | AI158: =SUM(AI151:AI157) -> 281 | AJ158: =SUM(AJ151:AJ157) -> 159 | AK158: =SUM(AK151:AK157) -> 168 | AL158: =SUM(AL151:AL157) -> 159.5 | AM158: =SUM(AM151:AM157) -> 120 | AN158: =SUM(AN151:AN157) -> 33 | AO158: =SUM(AO151:AO157) -> 0 | AP158: =SUM(AP151:AP157) -> 94.5 | ... AX158: =SUM(AX151:AX157) -> 94.5 | AZ158: =SUM(AZ151:AZ157) -> 287.5
AG159: Round 4 | AI159: =SUM(AI151:AI154) -> 145 | AJ159: =SUM(AJ151:AJ154) -> 57.5 | AK159: =SUM(AK151:AK154) -> 50 | AL159: =SUM(AL151:AL154) -> 67.5 | AM159: =SUM(AM151:AM154) -> 27.5 | AN159: =SUM(AN151:AN154) -> 15 | AO159: =SUM(AO151:AO154) -> 0 | AP159: =SUM(AP151:AP154) -> 20 | ... AX159: =SUM(AX151:AX154) -> 30 | AZ159: =SUM(AZ151:AZ154) -> 145
AG160: Round 5 | AI160: =SUM(AI155:AI156) -> 87 | AJ160: =SUM(AJ155:AJ156) -> 63 | AK160: =SUM(AK155:AK156) -> 69 | AL160: =SUM(AL155:AL156) -> 57 | AM160: =SUM(AM155:AM156) -> 54 | AN160: =SUM(AN155:AN156) -> 18 | AO160: =SUM(AO155:AO156) -> 0 | AP160: =SUM(AP155:AP156) -> 36 | ... AX160: =SUM(AX155:AX156) -> 33 | AZ160: =SUM(AZ155:AZ156) -> 90
AG161: Round 6 | AI161: =AI157 -> 49 | AJ161: =AJ157 -> 38.5 | AK161: =AK157 -> 49 | AL161: =AL157 -> 35 | AM161: =AM157 -> 38.5 | AN161: =AN157 -> 0 | AO161: =AO157 -> 0 | AP161: =AP157 -> 38.5 | ... AX161: =AX157 -> 31.5 | AZ161: =AZ157 -> 52.5
B165: 1 | C165: Round 5 | AI165: =AI149 -> HiSeeds | AJ165: =AJ149 -> AnthonyP | AK165: =AK149 -> BenC | AL165: =AL149 -> CandaceP | AM165: =AM149 -> ChrisR | AN165: =AN149 -> DanielV | AO165: =AO149 -> DavidS | AP165: =AP149 -> EricP | ... AX165: =AX149 -> ScottP | AZ165: Best Possible
B166: 1 | C166: Player | D166: Insert3 | E166: 0 | F166: 1 | G166: 2 | H166: 3 | I166: 4 | J166: 5 | K166: 6 | L166: 7 | M166: 8 | N166: 9 | O166: 10 | P166: 11 | Q166: 12 | R166: 13 | S166: 14 | T166: 15 | V166: =V150 -> 15 | X166: Favorite | Y166: Underdog | Z166: Player1 | AA166: Player2 | AB166: Winner | AC166: Loser | AD166: SeedFav | AE166: SeedUdr | AH166: Insert1 | AI166: =#REF!+1 -> #REF! | AJ166: =#REF!+1 -> #REF! | AK166: =#REF!+1 -> #REF! | AL166: =#REF!+1 -> #REF! | AM166: =#REF!+1 -> #REF! | AN166: =#REF!+1 -> #REF! | AO166: =#REF!+1 -> #REF! | AP166: =#REF!+1 -> #REF! | ... AX166: =#REF!+1 -> #REF! | AZ166: 0 | BZ166: Player 1 | CA166: Player 2
B167: 9 | C167: EW1 | D167: =D155 -> 1 Louisville | E167: 1 Louisville | F167: 1 Louisville | G167: 1 Connecticut | H167: 2 Michigan State | I167: 1 Louisville | J167: 3 Kansas | K167: 7 California | L167: 1 Louisville | M167: 1 Louisville | N167: 1 Louisville | O167: 1 Connecticut | P167: 1 Louisville | Q167: 1 Louisville | R167: 2 Memphis | S167: 1 Connecticut | T167: 1 Louisville | V167: =V155 -> 2 Michigan State | X167: =X155 -> 42 | Y167: =Y155 -> 36 | Z167: =INDIRECT(BZ167) -> 2 Michigan State | AA167: =INDIRECT(CA167) -> 1 Connecticut | AB167: =INDIRECT(CB167) -> 2 Michigan State | AC167: =IF(Z167=AB167,AA167,Z167) -> 1 Connecticut | AD167: =VLOOKUP(Z167,$A$1:$B$64,2) -> 10 | AE167: =VLOOKUP(AA167,$A$1:$B$64,2) -> 1 | AF167: 3 | AG167: 45 | AI167: =IF($AG$1=1,($AG167-($AG167*COUNTIF($F167:F167,E167)/$X$1))*COUNTIF($AB$60:$AB$63,E167),COUNTIF($AB$60:$AB$63,E167)*$AG167) -> 0 | AJ167: =IF($AG$1=1,($AG167-($AG167*COUNTIF($F167:V167,F167)/$X$1))*COUNTIF($AB$60:$AB$63,F167),COUNTIF($AB$60:$AB$63,F167)*$AG167) -> 0 | AK167: =IF($AG$1=1,($AG167-($AG167*COUNTIF($F167:W167,G167)/$X$1))*COUNTIF($AB$60:$AB$63,G167),COUNTIF($AB$60:$AB$63,G167)*$AG167) -> 36 | AL167: =IF($AG$1=1,($AG167-($AG167*COUNTIF($F167:X167,H167)/$X$1))*COUNTIF($AB$60:$AB$63,H167),COUNTIF($AB$60:$AB$63,H167)*$AG167) -> 39 | AM167: =IF($AG$1=1,($AG167-($AG167*COUNTIF($F167:Y167,I167)/$X$1))*COUNTIF($AB$60:$AB$63,I167),COUNTIF($AB$60:$AB$63,I167)*$AG167) -> 0 | AN167: =IF($AG$1=1,($AG167-($AG167*COUNTIF($F167:Z167,J167)/$X$1))*COUNTIF($AB$60:$AB$63,J167),COUNTIF($AB$60:$AB$63,J167)*$AG167) -> 0 | AO167: =IF($AG$1=1,($AG167-($AG167*COUNTIF($F167:AA167,K167)/$X$1))*COUNTIF($AB$60:$AB$63,K167),COUNTIF($AB$60:$AB$63,K167)*$AG167) -> 0 | AP167: =IF($AG$1=1,($AG167-($AG167*COUNTIF($F167:AB167,L167)/$X$1))*COUNTIF($AB$60:$AB$63,L167),COUNTIF($AB$60:$AB$63,L167)*$AG167) -> 0 | AQ167: =IF($AG$1=1,($AG167-($AG167*COUNTIF($F167:AC167,M167)/$X$1))*COUNTIF($AB$60:$AB$63,M167),COUNTIF($AB$60:$AB$63,M167)*$AG167) -> 0 | ... AX167: =IF($AG$1=1,($AG167-($AG167*COUNTIF($F167:AJ167,T167)/$X$1))*COUNTIF($AB$60:$AB$63,T167),COUNTIF($AB$60:$AB$63,T167)*$AG167) -> 0 | AZ167: =$AG167-($AG167*COUNTIF($E167:$F167,V167)/$X$1)*COUNTIF($AB$60:$AB$63,V167) -> 45 | BB167: Q48 | BU167: =CONCATENATE(AZ$1,"!",$BB167) -> Master!Q48 | BW167: N32 | BX167: N98 | BZ167: =CONCATENATE(Z$1,"!",$BW167) -> Master!N32 | CA167: =CONCATENATE(AA$1,"!",$BX167) -> Master!N98 | CB167: =CONCATENATE(AB$1,"!",$BB167) -> Master!Q48
C168: SMW1 | D168: =D156 -> 2 Oklahoma | E168: 1 Pittsburgh | F168: 2 Oklahoma | G168: 1 Pittsburgh | H168: 1 North Carolina | I168: 1 Pittsburgh | J168: 1 North Carolina | K168: 6 Arizona State | L168: 1 North Carolina | M168: 1 Pittsburgh | N168: 1 Pittsburgh | O168: 1 North Carolina | P168: 1 North Carolina | Q168: 1 North Carolina | R168: 1 North Carolina | S168: 2 Duke | T168: 1 North Carolina | V168: =V156 -> 1 North Carolina | X168: =X156 -> 45 | Y168: =Y156 -> 21 | Z168: =INDIRECT(BZ168) -> 3 Villanova | AA168: =INDIRECT(CA168) -> 1 North Carolina | AB168: =INDIRECT(CB168) -> 1 North Carolina | AC168: =IF(Z168=AB168,AA168,Z168) -> 3 Villanova | AD168: =VLOOKUP(Z168,$A$1:$B$64,2) -> 11 | AE168: =VLOOKUP(AA168,$A$1:$B$64,2) -> 1 | AF168: 3 | AG168: 45 | AI168: =IF($AG$1=1,($AG168-($AG168*COUNTIF($F168:F168,E168)/$X$1))*COUNTIF($AB$60:$AB$63,E168),COUNTIF($AB$60:$AB$63,E168)*$AG168) -> 0 | AJ168: =IF($AG$1=1,($AG168-($AG168*COUNTIF($F168:V168,F168)/$X$1))*COUNTIF($AB$60:$AB$63,F168),COUNTIF($AB$60:$AB$63,F168)*$AG168) -> 0 | AK168: =IF($AG$1=1,($AG168-($AG168*COUNTIF($F168:W168,G168)/$X$1))*COUNTIF($AB$60:$AB$63,G168),COUNTIF($AB$60:$AB$63,G168)*$AG168) -> 0 | AL168: =IF($AG$1=1,($AG168-($AG168*COUNTIF($F168:X168,H168)/$X$1))*COUNTIF($AB$60:$AB$63,H168),COUNTIF($AB$60:$AB$63,H168)*$AG168) -> 18 | AM168: =IF($AG$1=1,($AG168-($AG168*COUNTIF($F168:Y168,I168)/$X$1))*COUNTIF($AB$60:$AB$63,I168),COUNTIF($AB$60:$AB$63,I168)*$AG168) -> 0 | AN168: =IF($AG$1=1,($AG168-($AG168*COUNTIF($F168:Z168,J168)/$X$1))*COUNTIF($AB$60:$AB$63,J168),COUNTIF($AB$60:$AB$63,J168)*$AG168) -> 18 | AO168: =IF($AG$1=1,($AG168-($AG168*COUNTIF($F168:AA168,K168)/$X$1))*COUNTIF($AB$60:$AB$63,K168),COUNTIF($AB$60:$AB$63,K168)*$AG168) -> 0 | AP168: =IF($AG$1=1,($AG168-($AG168*COUNTIF($F168:AB168,L168)/$X$1))*COUNTIF($AB$60:$AB$63,L168),COUNTIF($AB$60:$AB$63,L168)*$AG168) -> 12 | AQ168: =IF($AG$1=1,($AG168-($AG168*COUNTIF($F168:AC168,M168)/$X$1))*COUNTIF($AB$60:$AB$63,M168),COUNTIF($AB$60:$AB$63,M168)*$AG168) -> 0 | ... AX168: =IF($AG$1=1,($AG168-($AG168*COUNTIF($F168:AJ168,T168)/$X$1))*COUNTIF($AB$60:$AB$63,T168),COUNTIF($AB$60:$AB$63,T168)*$AG168) -> 12 | AZ168: =$AG168-($AG168*COUNTIF($E168:$F168,V168)/$X$1)*COUNTIF($AB$60:$AB$63,V168) -> 45 | BB168: Q82 | BU168: =CONCATENATE(AZ$1,"!",$BB168) -> Master!Q82 | BW168: T32 | BX168: T98 | BZ168: =CONCATENATE(Z$1,"!",$BW168) -> Master!T32 | CA168: =CONCATENATE(AA$1,"!",$BX168) -> Master!T98 | CB168: =CONCATENATE(AB$1,"!",$BB168) -> Master!Q82
C169: FINAL | D169: =D157 -> 1 Louisville | E169: 1 Louisville | F169: 1 Louisville | G169: 1 Connecticut | H169: 1 North Carolina | I169: 1 Louisville | J169: 3 Kansas | K169: 6 Arizona State | L169: 1 Louisville | M169: 1 Pittsburgh | N169: 1 Louisville | O169: 1 North Carolina | P169: 1 North Carolina | Q169: 1 North Carolina | R169: 2 Memphis | S169: 2 Duke | T169: 1 North Carolina | V169: =V157 -> 0 | X169: =X157 -> 52.5 | Y169: =Y157 -> 35 | Z169: =INDIRECT(BZ169) -> 2 Michigan State | AA169: =INDIRECT(CA169) -> 1 North Carolina | AB169: =INDIRECT(CB169) -> 0 | AC169: =IF(Z169=AB169,AA169,Z169) -> 2 Michigan State | AD169: =VLOOKUP(Z169,$A$1:$B$64,2) -> 10 | AE169: =VLOOKUP(AA169,$A$1:$B$64,2) -> 1 | AF169: 3.5 | AG169: 52.5 | AI169: =IF($AG$1=1,($AG169-($AG169*COUNTIF($F169:F169,E169)/$X$1))*COUNTIF($AB$60:$AB$63,E169),COUNTIF($AB$60:$AB$63,E169)*$AG169) -> 0 | AJ169: =IF($AG$1=1,($AG169-($AG169*COUNTIF($F169:V169,F169)/$X$1))*COUNTIF($AB$60:$AB$63,F169),COUNTIF($AB$60:$AB$63,F169)*$AG169) -> 0 | AK169: =IF($AG$1=1,($AG169-($AG169*COUNTIF($F169:W169,G169)/$X$1))*COUNTIF($AB$60:$AB$63,G169),COUNTIF($AB$60:$AB$63,G169)*$AG169) -> 49 | AL169: =IF($AG$1=1,($AG169-($AG169*COUNTIF($F169:X169,H169)/$X$1))*COUNTIF($AB$60:$AB$63,H169),COUNTIF($AB$60:$AB$63,H169)*$AG169) -> 35 | AM169: =IF($AG$1=1,($AG169-($AG169*COUNTIF($F169:Y169,I169)/$X$1))*COUNTIF($AB$60:$AB$63,I169),COUNTIF($AB$60:$AB$63,I169)*$AG169) -> 0 | AN169: =IF($AG$1=1,($AG169-($AG169*COUNTIF($F169:Z169,J169)/$X$1))*COUNTIF($AB$60:$AB$63,J169),COUNTIF($AB$60:$AB$63,J169)*$AG169) -> 0 | AO169: =IF($AG$1=1,($AG169-($AG169*COUNTIF($F169:AA169,K169)/$X$1))*COUNTIF($AB$60:$AB$63,K169),COUNTIF($AB$60:$AB$63,K169)*$AG169) -> 0 | AP169: =IF($AG$1=1,($AG169-($AG169*COUNTIF($F169:AB169,L169)/$X$1))*COUNTIF($AB$60:$AB$63,L169),COUNTIF($AB$60:$AB$63,L169)*$AG169) -> 0 | AQ169: =IF($AG$1=1,($AG169-($AG169*COUNTIF($F169:AC169,M169)/$X$1))*COUNTIF($AB$60:$AB$63,M169),COUNTIF($AB$60:$AB$63,M169)*$AG169) -> 0 | ... AX169: =IF($AG$1=1,($AG169-($AG169*COUNTIF($F169:AJ169,T169)/$X$1))*COUNTIF($AB$60:$AB$63,T169),COUNTIF($AB$60:$AB$63,T169)*$AG169) -> 31.5 | AZ169: =$AG169-($AG169*COUNTIF($E169:$F169,V169)/$X$1)*COUNTIF($AB$60:$AB$63,V169) -> 52.5 | BB169: Q64 | BU169: =CONCATENATE(AZ$1,"!",$BB169) -> Master!Q64 | BW169: Q48 | BX169: Q82 | BZ169: =CONCATENATE(Z$1,"!",$BW169) -> Master!Q48 | CA169: =CONCATENATE(AA$1,"!",$BX169) -> Master!Q82 | CB169: =CONCATENATE(AB$1,"!",$BB169) -> Master!Q64
AG170: Totals | AI170: =SUM(AI167:AI169) -> 0 | AJ170: =SUM(AJ167:AJ169) -> 0 | AK170: =SUM(AK167:AK169) -> 85 | AL170: =SUM(AL167:AL169) -> 92 | AM170: =SUM(AM167:AM169) -> 0 | AN170: =SUM(AN167:AN169) -> 18 | AO170: =SUM(AO167:AO169) -> 0 | AP170: =SUM(AP167:AP169) -> 12 | ... AX170: =SUM(AX167:AX169) -> 43.5 | AZ170: =SUM(AZ167:AZ169) -> 142.5
AG171: Round 5 | AI171: =SUM(AI167:AI168) -> 0 | AJ171: =SUM(AJ167:AJ168) -> 0 | AK171: =SUM(AK167:AK168) -> 36 | AL171: =SUM(AL167:AL168) -> 57 | AM171: =SUM(AM167:AM168) -> 0 | AN171: =SUM(AN167:AN168) -> 18 | AO171: =SUM(AO167:AO168) -> 0 | AP171: =SUM(AP167:AP168) -> 12 | ... AX171: =SUM(AX167:AX168) -> 12 | AZ171: =SUM(AZ167:AZ168) -> 90
AG172: Round 6 | AI172: =AI169 -> 0 | AJ172: =AJ169 -> 0 | AK172: =AK169 -> 49 | AL172: =AL169 -> 35 | AM172: =AM169 -> 0 | AN172: =AN169 -> 0 | AO172: =AO169 -> 0 | AP172: =AP169 -> 0 | ... AX172: =AX169 -> 31.5 | AZ172: =AZ169 -> 52.5
B176: 1 | C176: Round 6 | AI176: Anthony$ | AJ176: Anthony$ | AK176: Anthony$ | AL176: Anthony$ | AM176: Anthony$ | AN176: Anthony$ | AO176: Anthony$ | AP176: Anthony$ | AQ176: Anthony$ | AR176: Anthony$ | AS176: Anthony$ | AT176: Anthony$ | AU176: Anthony$ | AV176: Anthony$ | AW176: Anthony$ | AX176: Anthony$ | AZ176: Best Possible
B177: 1 | C177: Player | D177: Insert3 | E177: 0 | F177: 1 | G177: 2 | H177: 3 | I177: 4 | J177: 5 | K177: 6 | L177: 7 | M177: 8 | N177: 9 | O177: 10 | P177: 11 | Q177: 12 | R177: 13 | S177: 14 | T177: 15 | V177: =V166 -> 15 | X177: Favorite | Y177: Underdog | Z177: Player1 | AA177: Player2 | AB177: Winner | AC177: Loser | AD177: SeedFav | AE177: SeedUdr | AH177: Insert1 | AI177: =#REF!+1 -> #REF! | AJ177: =#REF!+1 -> #REF! | AK177: =#REF!+1 -> #REF! | AL177: =#REF!+1 -> #REF! | AM177: =#REF!+1 -> #REF! | AN177: =#REF!+1 -> #REF! | AO177: =#REF!+1 -> #REF! | AP177: =#REF!+1 -> #REF! | ... AX177: =#REF!+1 -> #REF! | AZ177: 0 | BZ177: Player 1 | CA177: Player 2
C178: FINAL | D178: =D169 -> 1 Louisville | E178: 1 Louisville | F178: 1 Louisville | G178: 1 Connecticut | H178: 1 North Carolina | I178: 1 Louisville | J178: 3 Kansas | K178: 6 Arizona State | L178: 1 Louisville | M178: 1 Pittsburgh | N178: 1 Louisville | O178: 1 North Carolina | P178: 1 North Carolina | Q178: 1 North Carolina | R178: 2 Memphis | S178: 2 Duke | T178: 1 North Carolina | V178: =V169 -> 0 | X178: =X169 -> 52.5 | Y178: =Y169 -> 35 | Z178: =INDIRECT(BZ178) -> 2 Michigan State | AA178: =INDIRECT(CA178) -> 1 North Carolina | AB178: =INDIRECT(CB178) -> 0 | AC178: =IF(Z178=AB178,AA178,Z178) -> 2 Michigan State | AD178: =VLOOKUP(Z178,$A$1:$B$64,2) -> 10 | AE178: =VLOOKUP(AA178,$A$1:$B$64,2) -> 1 | AF178: 3.5 | AG178: 52.5 | AI178: =IF($AG$1=1,($AG178-($AG178*COUNTIF($F178:F178,E178)/$X$1))*COUNTIF($AB$112:$AB$113,E178),COUNTIF($AB$112:$AB$113,E178)*$AG178) -> 0 | AJ178: =IF($AG$1=1,($AG178-($AG178*COUNTIF($F178:V178,F178)/$X$1))*COUNTIF($AB$112:$AB$113,F178),COUNTIF($AB$112:$AB$113,F178)*$AG178) -> 0 | AK178: =IF($AG$1=1,($AG178-($AG178*COUNTIF($F178:W178,G178)/$X$1))*COUNTIF($AB$112:$AB$113,G178),COUNTIF($AB$112:$AB$113,G178)*$AG178) -> 0 | AL178: =IF($AG$1=1,($AG178-($AG178*COUNTIF($F178:X178,H178)/$X$1))*COUNTIF($AB$112:$AB$113,H178),COUNTIF($AB$112:$AB$113,H178)*$AG178) -> 35 | AM178: =IF($AG$1=1,($AG178-($AG178*COUNTIF($F178:Y178,I178)/$X$1))*COUNTIF($AB$112:$AB$113,I178),COUNTIF($AB$112:$AB$113,I178)*$AG178) -> 0 | AN178: =IF($AG$1=1,($AG178-($AG178*COUNTIF($F178:Z178,J178)/$X$1))*COUNTIF($AB$112:$AB$113,J178),COUNTIF($AB$112:$AB$113,J178)*$AG178) -> 0 | AO178: =IF($AG$1=1,($AG178-($AG178*COUNTIF($F178:AA178,K178)/$X$1))*COUNTIF($AB$112:$AB$113,K178),COUNTIF($AB$112:$AB$113,K178)*$AG178) -> 0 | AP178: =IF($AG$1=1,($AG178-($AG178*COUNTIF($F178:AB178,L178)/$X$1))*COUNTIF($AB$112:$AB$113,L178),COUNTIF($AB$112:$AB$113,L178)*$AG178) -> 0 | AQ178: =IF($AG$1=1,($AG178-($AG178*COUNTIF($F178:AC178,M178)/$X$1))*COUNTIF($AB$112:$AB$113,M178),COUNTIF($AB$112:$AB$113,M178)*$AG178) -> 0 | ... AX178: =IF($AG$1=1,($AG178-($AG178*COUNTIF($F178:AJ178,T178)/$X$1))*COUNTIF($AB$112:$AB$113,T178),COUNTIF($AB$112:$AB$113,T178)*$AG178) -> 31.5 | AZ178: =$AG178-($AG178*COUNTIF($E178:$F178,V178)/$X$1)*COUNTIF($AB$64:$AB$65,V178) -> 52.5 | BB178: Q64 | BU178: =CONCATENATE(AZ$1,"!",$BB178) -> Master!Q64 | BW178: Q48 | BX178: Q82 | BZ178: =CONCATENATE(Z$1,"!",$BW178) -> Master!Q48 | CA178: =CONCATENATE(AA$1,"!",$BX178) -> Master!Q82 | CB178: =CONCATENATE(AB$1,"!",$BB178) -> Master!Q64
...

Sheet Scott's Method Summary
B1: Summary | E1: 15 | G1: Only Valid if Scott's scoring system is being used
C2: # of players who chose team to win
C3: # of points team is worth if they win
E4: Round 1 | G4: Round 2 | I4: Round 3 | K4: Round 4 | M4: Round 5 | O4: Round 6
C5: Seed | D5: Team | E5: Worth= | F5: =Scoring!$AG$4 -> 15 | G5: Worth= | H5: =Scoring!$AG$36 -> 22.5 | I5: Worth= | J5: =Scoring!$AG$52 -> 30 | K5: Worth= | L5: =Scoring!AG60 -> 37.5 | M5: Worth= | N5: =Scoring!AG64 -> 45 | O5: Worth= | P5: =Scoring!AG66 -> 52.5
C6: 1 | D6: =Scoring!A1 -> 1 Connecticut | E6: =COUNTIF(Scoring!$F$4:U$35,$D6) -> 15 | F6: =IF(E6>0,F$5-(E6/$E$1*F$5),0) -> 0 | G6: =COUNTIF(Scoring!$F$36:U$51,$D6) -> 15 | H6: =IF(G6>0,H$5-(G6/$E$1*H$5),0) -> 0 | I6: =COUNTIF(Scoring!$F$52:U$59,$D6) -> 12 | J6: =IF(I6>0,J$5-(I6/$E$1*J$5),0) -> 6 | K6: =COUNTIF(Scoring!$F$60:U$63,$D6) -> 5 | L6: =IF(K6>0,L$5-(K6/$E$1*L$5),0) -> 25 | M6: =COUNTIF(Scoring!$F$64:U$65,$D6) -> 3 | N6: =IF(M6>0,N$5-(M6/$E$1*N$5),0) -> 36 | O6: =COUNTIF(Scoring!$F$66:U$66,$D6) -> 1 | P6: =IF(O6>0,P$5-(O6/$E$1*P$5),0) -> 49 | Q6: =D6 -> 1 Connecticut
C7: 1 | D7: =Scoring!A2 -> 1 Louisville | E7: =COUNTIF(Scoring!$F$4:U$35,$D7) -> 15 | F7: =IF(E7>0,F$5-(E7/$E$1*F$5),0) -> 0 | G7: =COUNTIF(Scoring!$F$36:U$51,$D7) -> 15 | H7: =IF(G7>0,H$5-(G7/$E$1*H$5),0) -> 0 | I7: =COUNTIF(Scoring!$F$52:U$59,$D7) -> 15 | J7: =IF(I7>0,J$5-(I7/$E$1*J$5),0) -> 0 | K7: =COUNTIF(Scoring!$F$60:U$63,$D7) -> 10 | L7: =IF(K7>0,L$5-(K7/$E$1*L$5),0) -> 12.5 | M7: =COUNTIF(Scoring!$F$64:U$65,$D7) -> 8 | N7: =IF(M7>0,N$5-(M7/$E$1*N$5),0) -> 21 | O7: =COUNTIF(Scoring!$F$66:U$66,$D7) -> 4 | P7: =IF(O7>0,P$5-(O7/$E$1*P$5),0) -> 38.5 | Q7: =D7 -> 1 Louisville
C8: 1 | D8: =Scoring!A3 -> 1 North Carolina | E8: =COUNTIF(Scoring!$F$4:U$35,$D8) -> 15 | F8: =IF(E8>0,F$5-(E8/$E$1*F$5),0) -> 0 | G8: =COUNTIF(Scoring!$F$36:U$51,$D8) -> 14 | H8: =IF(G8>0,H$5-(G8/$E$1*H$5),0) -> 1.5 | I8: =COUNTIF(Scoring!$F$52:U$59,$D8) -> 12 | J8: =IF(I8>0,J$5-(I8/$E$1*J$5),0) -> 6 | K8: =COUNTIF(Scoring!$F$60:U$63,$D8) -> 12 | L8: =IF(K8>0,L$5-(K8/$E$1*L$5),0) -> 7.5 | M8: =COUNTIF(Scoring!$F$64:U$65,$D8) -> 8 | N8: =IF(M8>0,N$5-(M8/$E$1*N$5),0) -> 21 | O8: =COUNTIF(Scoring!$F$66:U$66,$D8) -> 5 | P8: =IF(O8>0,P$5-(O8/$E$1*P$5),0) -> 35 | Q8: =D8 -> 1 North Carolina
C9: 1 | D9: =Scoring!A4 -> 1 Pittsburgh | E9: =COUNTIF(Scoring!$F$4:U$35,$D9) -> 15 | F9: =IF(E9>0,F$5-(E9/$E$1*F$5),0) -> 0 | G9: =COUNTIF(Scoring!$F$36:U$51,$D9) -> 14 | H9: =IF(G9>0,H$5-(G9/$E$1*H$5),0) -> 1.5 | I9: =COUNTIF(Scoring!$F$52:U$59,$D9) -> 12 | J9: =IF(I9>0,J$5-(I9/$E$1*J$5),0) -> 6 | K9: =COUNTIF(Scoring!$F$60:U$63,$D9) -> 11 | L9: =IF(K9>0,L$5-(K9/$E$1*L$5),0) -> 10 | M9: =COUNTIF(Scoring!$F$64:U$65,$D9) -> 4 | N9: =IF(M9>0,N$5-(M9/$E$1*N$5),0) -> 33 | O9: =COUNTIF(Scoring!$F$66:U$66,$D9) -> 1 | P9: =IF(O9>0,P$5-(O9/$E$1*P$5),0) -> 49 | Q9: =D9 -> 1 Pittsburgh
C10: 2 | D10: =Scoring!A5 -> 2 Duke | E10: =COUNTIF(Scoring!$F$4:U$35,$D10) -> 15 | F10: =IF(E10>0,F$5-(E10/$E$1*F$5),0) -> 0 | G10: =COUNTIF(Scoring!$F$36:U$51,$D10) -> 15 | H10: =IF(G10>0,H$5-(G10/$E$1*H$5),0) -> 0 | I10: =COUNTIF(Scoring!$F$52:U$59,$D10) -> 10 | J10: =IF(I10>0,J$5-(I10/$E$1*J$5),0) -> 10 | K10: =COUNTIF(Scoring!$F$60:U$63,$D10) -> 3 | L10: =IF(K10>0,L$5-(K10/$E$1*L$5),0) -> 30 | M10: =COUNTIF(Scoring!$F$64:U$65,$D10) -> 1 | N10: =IF(M10>0,N$5-(M10/$E$1*N$5),0) -> 42 | O10: =COUNTIF(Scoring!$F$66:U$66,$D10) -> 1 | P10: =IF(O10>0,P$5-(O10/$E$1*P$5),0) -> 49 | Q10: =D10 -> 2 Duke
C11: 2 | D11: =Scoring!A6 -> 2 Memphis | E11: =COUNTIF(Scoring!$F$4:U$35,$D11) -> 15 | F11: =IF(E11>0,F$5-(E11/$E$1*F$5),0) -> 0 | G11: =COUNTIF(Scoring!$F$36:U$51,$D11) -> 13 | H11: =IF(G11>0,H$5-(G11/$E$1*H$5),0) -> 3 | I11: =COUNTIF(Scoring!$F$52:U$59,$D11) -> 11 | J11: =IF(I11>0,J$5-(I11/$E$1*J$5),0) -> 8 | K11: =COUNTIF(Scoring!$F$60:U$63,$D11) -> 6 | L11: =IF(K11>0,L$5-(K11/$E$1*L$5),0) -> 22.5 | M11: =COUNTIF(Scoring!$F$64:U$65,$D11) -> 1 | N11: =IF(M11>0,N$5-(M11/$E$1*N$5),0) -> 42 | O11: =COUNTIF(Scoring!$F$66:U$66,$D11) -> 1 | P11: =IF(O11>0,P$5-(O11/$E$1*P$5),0) -> 49 | Q11: =D11 -> 2 Memphis
C12: 2 | D12: =Scoring!A7 -> 2 Michigan State | E12: =COUNTIF(Scoring!$F$4:U$35,$D12) -> 15 | F12: =IF(E12>0,F$5-(E12/$E$1*F$5),0) -> 0 | G12: =COUNTIF(Scoring!$F$36:U$51,$D12) -> 13 | H12: =IF(G12>0,H$5-(G12/$E$1*H$5),0) -> 3 | I12: =COUNTIF(Scoring!$F$52:U$59,$D12) -> 9 | J12: =IF(I12>0,J$5-(I12/$E$1*J$5),0) -> 12 | K12: =COUNTIF(Scoring!$F$60:U$63,$D12) -> 3 | L12: =IF(K12>0,L$5-(K12/$E$1*L$5),0) -> 30 | M12: =COUNTIF(Scoring!$F$64:U$65,$D12) -> 1 | N12: =IF(M12>0,N$5-(M12/$E$1*N$5),0) -> 42 | O12: =COUNTIF(Scoring!$F$66:U$66,$D12) -> 0 | P12: =IF(O12>0,P$5-(O12/$E$1*P$5),0) -> 0 | Q12: =D12 -> 2 Michigan State
C13: 2 | D13: =Scoring!A8 -> 2 Oklahoma | E13: =COUNTIF(Scoring!$F$4:U$35,$D13) -> 15 | F13: =IF(E13>0,F$5-(E13/$E$1*F$5),0) -> 0 | G13: =COUNTIF(Scoring!$F$36:U$51,$D13) -> 13 | H13: =IF(G13>0,H$5-(G13/$E$1*H$5),0) -> 3 | I13: =COUNTIF(Scoring!$F$52:U$59,$D13) -> 7 | J13: =IF(I13>0,J$5-(I13/$E$1*J$5),0) -> 16 | K13: =COUNTIF(Scoring!$F$60:U$63,$D13) -> 1 | L13: =IF(K13>0,L$5-(K13/$E$1*L$5),0) -> 35 | M13: =COUNTIF(Scoring!$F$64:U$65,$D13) -> 1 | N13: =IF(M13>0,N$5-(M13/$E$1*N$5),0) -> 42 | O13: =COUNTIF(Scoring!$F$66:U$66,$D13) -> 0 | P13: =IF(O13>0,P$5-(O13/$E$1*P$5),0) -> 0 | Q13: =D13 -> 2 Oklahoma
C14: 3 | D14: =Scoring!A9 -> 3 Kansas | E14: =COUNTIF(Scoring!$F$4:U$35,$D14) -> 14 | F14: =IF(E14>0,F$5-(E14/$E$1*F$5),0) -> 1 | G14: =COUNTIF(Scoring!$F$36:U$51,$D14) -> 10 | H14: =IF(G14>0,H$5-(G14/$E$1*H$5),0) -> 7.5 | I14: =COUNTIF(Scoring!$F$52:U$59,$D14) -> 5 | J14: =IF(I14>0,J$5-(I14/$E$1*J$5),0) -> 20 | K14: =COUNTIF(Scoring!$F$60:U$63,$D14) -> 2 | L14: =IF(K14>0,L$5-(K14/$E$1*L$5),0) -> 32.5 | M14: =COUNTIF(Scoring!$F$64:U$65,$D14) -> 1 | N14: =IF(M14>0,N$5-(M14/$E$1*N$5),0) -> 42 | O14: =COUNTIF(Scoring!$F$66:U$66,$D14) -> 1 | P14: =IF(O14>0,P$5-(O14/$E$1*P$5),0) -> 49 | Q14: =D14 -> 3 Kansas
C15: 3 | D15: =Scoring!A10 -> 3 Missouri | E15: =COUNTIF(Scoring!$F$4:U$35,$D15) -> 14 | F15: =IF(E15>0,F$5-(E15/$E$1*F$5),0) -> 1 | G15: =COUNTIF(Scoring!$F$36:U$51,$D15) -> 10 | H15: =IF(G15>0,H$5-(G15/$E$1*H$5),0) -> 7.5 | I15: =COUNTIF(Scoring!$F$52:U$59,$D15) -> 2 | J15: =IF(I15>0,J$5-(I15/$E$1*J$5),0) -> 26 | K15: =COUNTIF(Scoring!$F$60:U$63,$D15) -> 1 | L15: =IF(K15>0,L$5-(K15/$E$1*L$5),0) -> 35 | M15: =COUNTIF(Scoring!$F$64:U$65,$D15) -> 0 | N15: =IF(M15>0,N$5-(M15/$E$1*N$5),0) -> 0 | O15: =COUNTIF(Scoring!$F$66:U$66,$D15) -> 0 | P15: =IF(O15>0,P$5-(O15/$E$1*P$5),0) -> 0 | Q15: =D15 -> 3 Missouri
C16: 3 | D16: =Scoring!A11 -> 3 Syracuse | E16: =COUNTIF(Scoring!$F$4:U$35,$D16) -> 14 | F16: =IF(E16>0,F$5-(E16/$E$1*F$5),0) -> 1 | G16: =COUNTIF(Scoring!$F$36:U$51,$D16) -> 10 | H16: =IF(G16>0,H$5-(G16/$E$1*H$5),0) -> 7.5 | I16: =COUNTIF(Scoring!$F$52:U$59,$D16) -> 6 | J16: =IF(I16>0,J$5-(I16/$E$1*J$5),0) -> 18 | K16: =COUNTIF(Scoring!$F$60:U$63,$D16) -> 0 | L16: =IF(K16>0,L$5-(K16/$E$1*L$5),0) -> 0 | M16: =COUNTIF(Scoring!$F$64:U$65,$D16) -> 0 | N16: =IF(M16>0,N$5-(M16/$E$1*N$5),0) -> 0 | O16: =COUNTIF(Scoring!$F$66:U$66,$D16) -> 0 | P16: =IF(O16>0,P$5-(O16/$E$1*P$5),0) -> 0 | Q16: =D16 -> 3 Syracuse
C17: 3 | D17: =Scoring!A12 -> 3 Villanova | E17: =COUNTIF(Scoring!$F$4:U$35,$D17) -> 14 | F17: =IF(E17>0,F$5-(E17/$E$1*F$5),0) -> 1 | G17: =COUNTIF(Scoring!$F$36:U$51,$D17) -> 10 | H17: =IF(G17>0,H$5-(G17/$E$1*H$5),0) -> 7.5 | I17: =COUNTIF(Scoring!$F$52:U$59,$D17) -> 5 | J17: =IF(I17>0,J$5-(I17/$E$1*J$5),0) -> 20 | K17: =COUNTIF(Scoring!$F$60:U$63,$D17) -> 0 | L17: =IF(K17>0,L$5-(K17/$E$1*L$5),0) -> 0 | M17: =COUNTIF(Scoring!$F$64:U$65,$D17) -> 0 | N17: =IF(M17>0,N$5-(M17/$E$1*N$5),0) -> 0 | O17: =COUNTIF(Scoring!$F$66:U$66,$D17) -> 0 | P17: =IF(O17>0,P$5-(O17/$E$1*P$5),0) -> 0 | Q17: =D17 -> 3 Villanova
... C69: 16 | D69: =Scoring!A64 -> 16 Radford | E69: =COUNTIF(Scoring!$F$4:U$35,$D69) -> 0 | F69: =IF(E69>0,F$5-(E69/$E$1*F$5),0) -> 0 | G69: =COUNTIF(Scoring!$F$36:U$51,$D69) -> 0 | H69: =IF(G69>0,H$5-(G69/$E$1*H$5),0) -> 0 | I69: =COUNTIF(Scoring!$F$52:U$59,$D69) -> 0 | J69: =IF(I69>0,J$5-(I69/$E$1*J$5),0) -> 0 | K69: =COUNTIF(Scoring!$F$60:U$63,$D69) -> 0 | L69: =IF(K69>0,L$5-(K69/$E$1*L$5),0) -> 0 | M69: =COUNTIF(Scoring!$F$64:U$65,$D69) -> 0 | N69: =IF(M69>0,N$5-(M69/$E$1*N$5),0) -> 0 | O69: =COUNTIF(Scoring!$F$66:U$66,$D69) -> 0 | P69: =IF(O69>0,P$5-(O69/$E$1*P$5),0) -> 0 | Q69: =D69 -> 16 Radford
E70: =SUM(E6:E69) -> 480 | G70: =SUM(G6:G69) -> 240 | I70: =SUM(I6:I69) -> 120 | K70: =SUM(K6:K69) -> 60 | M70: =SUM(M6:M69) -> 30 | O70: =SUM(O6:O69) -> 15

Sheet Pick Summary (by Player)
B1: =Scoring!F1 -> AnthonyP | C1: =Scoring!G1 -> BenC | D1: =Scoring!H1 -> CandaceP | E1: =Scoring!I1 -> ChrisR | F1: =Scoring!J1 -> DanielV | G1: =Scoring!K1 -> DavidS | H1: =Scoring!L1 -> EricP | I1: =Scoring!M1 -> JamesB | ... P1: =Scoring!T1 -> ScottP | S1: Master | T1: Master | U1: Master
S2: Player1 | T2: Player2 | U2: Winner | V2: Loser
A3: Round1 | B3: =Scoring!F4 -> 1 Louisville | C3: =Scoring!G4 -> 1 Louisville | D3: =Scoring!H4 -> 1 Louisville | E3: =Scoring!I4 -> 1 Louisville | F3: =Scoring!J4 -> 1 Louisville | G3: =Scoring!K4 -> 1 Louisville | H3: =Scoring!L4 -> 1 Louisville | I3: =Scoring!M4 -> 1 Louisville | ... P3: =Scoring!T4 -> 1 Louisville | S3: =Scoring!Z4 -> 1 Louisville | T3: =Scoring!AA4 -> 16 Alabama State-Morehead State winner | U3: =Scoring!AB4 -> 1 Louisville | V3: =IF(U3="","",IF(S3=U3,T3,S3)) -> 16 Alabama State-Morehead State winner
B4: =Scoring!F5 -> 8 Ohio State | C4: =Scoring!G5 -> 9 Siena | D4: =Scoring!H5 -> 8 Ohio State | E4: =Scoring!I5 -> 9 Siena | F4: =Scoring!J5 -> 8 Ohio State | G4: =Scoring!K5 -> 8 Ohio State | H4: =Scoring!L5 -> 8 Ohio State | I4: =Scoring!M5 -> 9 Siena | ... P4: =Scoring!T5 -> 8 Ohio State | S4: =Scoring!Z5 -> 8 Ohio State | T4: =Scoring!AA5 -> 9 Siena | U4: =Scoring!AB5 -> 9 Siena | V4: =IF(U4="","",IF(S4=U4,T4,S4)) -> 8 Ohio State
B5: =Scoring!F6 -> 4 Wake Forest | C5: =Scoring!G6 -> 4 Wake Forest | D5: =Scoring!H6 -> 4 Wake Forest | E5: =Scoring!I6 -> 4 Wake Forest | F5: =Scoring!J6 -> 4 Wake Forest | G5: =Scoring!K6 -> 13 Cleveland State | H5: =Scoring!L6 -> 4 Wake Forest | I5: =Scoring!M6 -> 4 Wake Forest | ... P5: =Scoring!T6 -> 4 Wake Forest | S5: =Scoring!Z6 -> 4 Wake Forest | T5: =Scoring!AA6 -> 13 Cleveland State | U5: =Scoring!AB6 -> 13 Cleveland State | V5: =IF(U5="","",IF(S5=U5,T5,S5)) -> 4 Wake Forest
B6: =Scoring!F7 -> 12 Arizona | C6: =Scoring!G7 -> 5 Utah | D6: =Scoring!H7 -> 12 Arizona | E6: =Scoring!I7 -> 5 Utah | F6: =Scoring!J7 -> 5 Utah | G6: =Scoring!K7 -> 5 Utah | H6: =Scoring!L7 -> 5 Utah | I6: =Scoring!M7 -> 12 Arizona | ... P6: =Scoring!T7 -> 12 Arizona | S6: =Scoring!Z7 -> 5 Utah | T6: =Scoring!AA7 -> 12 Arizona | U6: =Scoring!AB7 -> 12 Arizona | V6: =IF(U6="","",IF(S6=U6,T6,S6)) -> 5 Utah
B7: =Scoring!F8 -> 2 Michigan State | C7: =Scoring!G8 -> 2 Michigan State | D7: =Scoring!H8 -> 2 Michigan State | E7: =Scoring!I8 -> 2 Michigan State | F7: =Scoring!J8 -> 2 Michigan State | G7: =Scoring!K8 -> 2 Michigan State | H7: =Scoring!L8 -> 2 Michigan State | I7: =Scoring!M8 -> 2 Michigan State | ... P7: =Scoring!T8 -> 2 Michigan State | S7: =Scoring!Z8 -> 2 Michigan State | T7: =Scoring!AA8 -> 15 Robert Morris | U7: =Scoring!AB8 -> 2 Michigan State | V7: =IF(U7="","",IF(S7=U7,T7,S7)) -> 15 Robert Morris
B8: =Scoring!F9 -> 10 USC | C8: =Scoring!G9 -> 7 Boston College | D8: =Scoring!H9 -> 10 USC | E8: =Scoring!I9 -> 10 USC | F8: =Scoring!J9 -> 10 USC | G8: =Scoring!K9 -> 10 USC | H8: =Scoring!L9 -> 10 USC | I8: =Scoring!M9 -> 10 USC | ... P8: =Scoring!T9 -> 7 Boston College | S8: =Scoring!Z9 -> 7 Boston College | T8: =Scoring!AA9 -> 10 USC | U8: =Scoring!AB9 -> 10 USC | V8: =IF(U8="","",IF(S8=U8,T8,S8)) -> 7 Boston College
B9: =Scoring!F10 -> 3 Kansas | C9: =Scoring!G10 -> 3 Kansas | D9: =Scoring!H10 -> 3 Kansas | E9: =Scoring!I10 -> 3 Kansas | F9: =Scoring!J10 -> 3 Kansas | G9: =Scoring!K10 -> 3 Kansas | H9: =Scoring!L10 -> 3 Kansas | I9: =Scoring!M10 -> 3 Kansas | ... P9: =Scoring!T10 -> 3 Kansas | S9: =Scoring!Z10 -> 3 Kansas | T9: =Scoring!AA10 -> 14 North Dakota State | U9: =Scoring!AB10 -> 3 Kansas | V9: =IF(U9="","",IF(S9=U9,T9,S9)) -> 14 North Dakota State
B10: =Scoring!F11 -> 6 West Virginia | C10: =Scoring!G11 -> 6 West Virginia | D10: =Scoring!H11 -> 6 West Virginia | E10: =Scoring!I11 -> 6 West Virginia | F10: =Scoring!J11 -> 11 Dayton | G10: =Scoring!K11 -> 11 Dayton | H10: =Scoring!L11 -> 6 West Virginia | I10: =Scoring!M11 -> 6 West Virginia | ... P10: =Scoring!T11 -> 6 West Virginia | S10: =Scoring!Z11 -> 6 West Virginia | T10: =Scoring!AA11 -> 11 Dayton | U10: =Scoring!AB11 -> 11 Dayton | V10: =IF(U10="","",IF(S10=U10,T10,S10)) -> 6 West Virginia
B11: =Scoring!F12 -> 1 Connecticut | C11: =Scoring!G12 -> 1 Connecticut | D11: =Scoring!H12 -> 1 Connecticut | E11: =Scoring!I12 -> 1 Connecticut | F11: =Scoring!J12 -> 1 Connecticut | G11: =Scoring!K12 -> 1 Connecticut | H11: =Scoring!L12 -> 1 Connecticut | I11: =Scoring!M12 -> 1 Connecticut | ... P11: =Scoring!T12 -> 1 Connecticut | S11: =Scoring!Z12 -> 1 Connecticut | T11: =Scoring!AA12 -> 16 Chattanooga | U11: =Scoring!AB12 -> 1 Connecticut | V11: =IF(U11="","",IF(S11=U11,T11,S11)) -> 16 Chattanooga
B12: =Scoring!F13 -> 9 Texas A&M | C12: =Scoring!G13 -> 9 Texas A&M | D12: =Scoring!H13 -> 9 Texas A&M | E12: =Scoring!I13 -> 9 Texas A&M | F12: =Scoring!J13 -> 9 Texas A&M | G12: =Scoring!K13 -> 9 Texas A&M | H12: =Scoring!L13 -> 9 Texas A&M | I12: =Scoring!M13 -> 9 Texas A&M | ... P12: =Scoring!T13 -> 9 Texas A&M | S12: =Scoring!Z13 -> 8 BYU | T12: =Scoring!AA13 -> 9 Texas A&M | U12: =Scoring!AB13 -> 9 Texas A&M | V12: =IF(U12="","",IF(S12=U12,T12,S12)) -> 8 BYU
B13: =Scoring!F14 -> 5 Purdue | C13: =Scoring!G14 -> 5 Purdue | D13: =Scoring!H14 -> 5 Purdue | E13: =Scoring!I14 -> 5 Purdue | F13: =Scoring!J14 -> 5 Purdue | G13: =Scoring!K14 -> 5 Purdue | H13: =Scoring!L14 -> 5 Purdue | I13: =Scoring!M14 -> 5 Purdue | ... P13: =Scoring!T14 -> 5 Purdue | S13: =Scoring!Z14 -> 5 Purdue | T13: =Scoring!AA14 -> 12 Northern Iowa | U13: =Scoring!AB14 -> 5 Purdue | V13: =IF(U13="","",IF(S13=U13,T13,S13)) -> 12 Northern Iowa
B14: =Scoring!F15 -> 4 Washington | C14: =Scoring!G15 -> 4 Washington | D14: =Scoring!H15 -> 4 Washington | E14: =Scoring!I15 -> 4 Washington | F14: =Scoring!J15 -> 4 Washington | G14: =Scoring!K15 -> 4 Washington | H14: =Scoring!L15 -> 4 Washington | I14: =Scoring!M15 -> 4 Washington | ... P14: =Scoring!T15 -> 4 Washington | S14: =Scoring!Z15 -> 4 Washington | T14: =Scoring!AA15 -> 13 Mississippi State | U14: =Scoring!AB15 -> 4 Washington | V14: =IF(U14="","",IF(S14=U14,T14,S14)) -> 13 Mississippi State
B15: =Scoring!F16 -> 2 Memphis | C15: =Scoring!G16 -> 2 Memphis | D15: =Scoring!H16 -> 2 Memphis | E15: =Scoring!I16 -> 2 Memphis | F15: =Scoring!J16 -> 2 Memphis | G15: =Scoring!K16 -> 2 Memphis | H15: =Scoring!L16 -> 2 Memphis | I15: =Scoring!M16 -> 2 Memphis | ... P15: =Scoring!T16 -> 2 Memphis | S15: =Scoring!Z16 -> 2 Memphis | T15: =Scoring!AA16 -> 15 Cal State-Northridge | U15: =Scoring!AB16 -> 2 Memphis | V15: =IF(U15="","",IF(S15=U15,T15,S15)) -> 15 Cal State-Northridge
... B34: =Scoring!F35 -> 6 Arizona State | C34: =Scoring!G35 -> 6 Arizona State | D34: =Scoring!H35 -> 6 Arizona State | E34: =Scoring!I35 -> 6 Arizona State | F34: =Scoring!J35 -> 6 Arizona State | G34: =Scoring!K35 -> 6 Arizona State | H34: =Scoring!L35 -> 6 Arizona State | I34: =Scoring!M35 -> 6 Arizona State | ... P34: =Scoring!T35 -> 6 Arizona State | S34: =Scoring!Z35 -> 6 Arizona State | T34: =Scoring!AA35 -> 11 Temple | U34: =Scoring!AB35 -> 6 Arizona State | V34: =IF(U34="","",IF(S34=U34,T34,S34)) -> 11 Temple
A35: Round 2 | B35: =Scoring!F36 -> 1 Louisville | C35: =Scoring!G36 -> 1 Louisville | D35: =Scoring!H36 -> 1 Louisville | E35: =Scoring!I36 -> 1 Louisville | F35: =Scoring!J36 -> 1 Louisville | G35: =Scoring!K36 -> 1 Louisville | H35: =Scoring!L36 -> 1 Louisville | I35: =Scoring!M36 -> 1 Louisville | ... P35: =Scoring!T36 -> 1 Louisville | S35: =Scoring!Z36 -> 1 Louisville | T35: =Scoring!AA36 -> 9 Siena | U35: =Scoring!AB36 -> 1 Louisville | V35: =IF(U35="","",IF(S35=U35,T35,S35)) -> 9 Siena
B36: =Scoring!F37 -> 12 Arizona | C36: =Scoring!G37 -> 4 Wake Forest | D36: =Scoring!H37 -> 4 Wake Forest | E36: =Scoring!I37 -> 4 Wake Forest | F36: =Scoring!J37 -> 5 Utah | G36: =Scoring!K37 -> 5 Utah | H36: =Scoring!L37 -> 4 Wake Forest | I36: =Scoring!M37 -> 4 Wake Forest | ... P36: =Scoring!T37 -> 4 Wake Forest | S36: =Scoring!Z37 -> 13 Cleveland State | T36: =Scoring!AA37 -> 12 Arizona | U36: =Scoring!AB37 -> 12 Arizona | V36: =IF(U36="","",IF(S36=U36,T36,S36)) -> 13 Cleveland State
B37: =Scoring!F38 -> 10 USC | C37: =Scoring!G38 -> 2 Michigan State | D37: =Scoring!H38 -> 2 Michigan State | E37: =Scoring!I38 -> 10 USC | F37: =Scoring!J38 -> 2 Michigan State | G37: =Scoring!K38 -> 2 Michigan State | H37: =Scoring!L38 -> 2 Michigan State | I37: =Scoring!M38 -> 2 Michigan State | ... P37: =Scoring!T38 -> 2 Michigan State | S37: =Scoring!Z38 -> 2 Michigan State | T37: =Scoring!AA38 -> 10 USC | U37: =Scoring!AB38 -> 2 Michigan State | V37: =IF(U37="","",IF(S37=U37,T37,S37)) -> 10 USC
B38: =Scoring!F39 -> 3 Kansas | C38: =Scoring!G39 -> 3 Kansas | D38: =Scoring!H39 -> 3 Kansas | E38: =Scoring!I39 -> 3 Kansas | F38: =Scoring!J39 -> 3 Kansas | G38: =Scoring!K39 -> 3 Kansas | H38: =Scoring!L39 -> 6 West Virginia | I38: =Scoring!M39 -> 3 Kansas | ... P38: =Scoring!T39 -> 3 Kansas | S38: =Scoring!Z39 -> 3 Kansas | T38: =Scoring!AA39 -> 11 Dayton | U38: =Scoring!AB39 -> 3 Kansas | V38: =IF(U38="","",IF(S38=U38,T38,S38)) -> 11 Dayton
B39: =Scoring!F40 -> 1 Connecticut | C39: =Scoring!G40 -> 1 Connecticut | D39: =Scoring!H40 -> 1 Connecticut | E39: =Scoring!I40 -> 1 Connecticut | F39: =Scoring!J40 -> 1 Connecticut | G39: =Scoring!K40 -> 1 Connecticut | H39: =Scoring!L40 -> 1 Connecticut | I39: =Scoring!M40 -> 1 Connecticut | ... P39: =Scoring!T40 -> 1 Connecticut | S39: =Scoring!Z40 -> 1 Connecticut | T39: =Scoring!AA40 -> 9 Texas A&M | U39: =Scoring!AB40 -> 1 Connecticut | V39: =IF(U39="","",IF(S39=U39,T39,S39)) -> 9 Texas A&M
B40: =Scoring!F41 -> 4 Washington | C40: =Scoring!G41 -> 5 Purdue | D40: =Scoring!H41 -> 4 Washington | E40: =Scoring!I41 -> 4 Washington | F40: =Scoring!J41 -> 5 Purdue | G40: =Scoring!K41 -> 4 Washington | H40: =Scoring!L41 -> 4 Washington | I40: =Scoring!M41 -> 5 Purdue | ... P40: =Scoring!T41 -> 5 Purdue | S40: =Scoring!Z41 -> 5 Purdue | T40: =Scoring!AA41 -> 4 Washington | U40: =Scoring!AB41 -> 5 Purdue | V40: =IF(U40="","",IF(S40=U40,T40,S40)) -> 4 Washington
B41: =Scoring!F42 -> 2 Memphis | C41: =Scoring!G42 -> 2 Memphis | D41: =Scoring!H42 -> 7 California | E41: =Scoring!I42 -> 2 Memphis | F41: =Scoring!J42 -> 2 Memphis | G41: =Scoring!K42 -> 7 California | H41: =Scoring!L42 -> 2 Memphis | I41: =Scoring!M42 -> 2 Memphis | ... P41: =Scoring!T42 -> 2 Memphis | S41: =Scoring!Z42 -> 2 Memphis | T41: =Scoring!AA42 -> 10 Maryland | U41: =Scoring!AB42 -> 2 Memphis | V41: =IF(U41="","",IF(S41=U41,T41,S41)) -> 10 Maryland
B42: =Scoring!F43 -> 3 Missouri | C42: =Scoring!G43 -> 3 Missouri | D42: =Scoring!H43 -> 3 Missouri | E42: =Scoring!I43 -> 3 Missouri | F42: =Scoring!J43 -> 3 Missouri | G42: =Scoring!K43 -> 6 Marquette | H42: =Scoring!L43 -> 3 Missouri | I42: =Scoring!M43 -> 6 Marquette | ... P42: =Scoring!T43 -> 3 Missouri | S42: =Scoring!Z43 -> 3 Missouri | T42: =Scoring!AA43 -> 6 Marquette | U42: =Scoring!AB43 -> 3 Missouri | V42: =IF(U42="","",IF(S42=U42,T42,S42)) -> 6 Marquette
B43: =Scoring!F44 -> 1 Pittsburgh | C43: =Scoring!G44 -> 1 Pittsburgh | D43: =Scoring!H44 -> 1 Pittsburgh | E43: =Scoring!I44 -> 1 Pittsburgh | F43: =Scoring!J44 -> 1 Pittsburgh | G43: =Scoring!K44 -> 8 Oklahoma State | H43: =Scoring!L44 -> 1 Pittsburgh | I43: =Scoring!M44 -> 1 Pittsburgh | ... P43: =Scoring!T44 -> 1 Pittsburgh | S43: =Scoring!Z44 -> 1 Pittsburgh | T43: =Scoring!AA44 -> 8 Oklahoma State | U43: =Scoring!AB44 -> 1 Pittsburgh | V43: =IF(U43="","",IF(S43=U43,T43,S43)) -> 8 Oklahoma State
B44: =Scoring!F45 -> 5 Florida State | C44: =Scoring!G45 -> 5 Florida State | D44: =Scoring!H45 -> 4 Xavier | E44: =Scoring!I45 -> 5 Florida State | F44: =Scoring!J45 -> 4 Xavier | G44: =Scoring!K45 -> 13 Portland State | H44: =Scoring!L45 -> 5 Florida State | I44: =Scoring!M45 -> 5 Florida State | ... P44: =Scoring!T45 -> 4 Xavier | S44: =Scoring!Z45 -> 4 Xavier | T44: =Scoring!AA45 -> 12 Wisconsin | U44: =Scoring!AB45 -> 4 Xavier | V44: =IF(U44="","",IF(S44=U44,T44,S44)) -> 12 Wisconsin
B45: =Scoring!F46 -> 2 Duke | C45: =Scoring!G46 -> 2 Duke | D45: =Scoring!H46 -> 2 Duke | E45: =Scoring!I46 -> 2 Duke | F45: =Scoring!J46 -> 2 Duke | G45: =Scoring!K46 -> 2 Duke | H45: =Scoring!L46 -> 2 Duke | I45: =Scoring!M46 -> 2 Duke | ... P45: =Scoring!T46 -> 2 Duke | S45: =Scoring!Z46 -> 2 Duke | T45: =Scoring!AA46 -> 7 Texas | U45: =Scoring!AB46 -> 2 Duke | V45: =IF(U45="","",IF(S45=U45,T45,S45)) -> 7 Texas
B46: =Scoring!F47 -> 3 Villanova | C46: =Scoring!G47 -> 6 UCLA | D46: =Scoring!H47 -> 6 UCLA | E46: =Scoring!I47 -> 3 Villanova | F46: =Scoring!J47 -> 6 UCLA | G46: =Scoring!K47 -> 6 UCLA | H46: =Scoring!L47 -> 3 Villanova | I46: =Scoring!M47 -> 3 Villanova | ... P46: =Scoring!T47 -> 3 Villanova | S46: =Scoring!Z47 -> 3 Villanova | T46: =Scoring!AA47 -> 6 UCLA | U46: =Scoring!AB47 -> 3 Villanova | V46: =IF(U46="","",IF(S46=U46,T46,S46)) -> 6 UCLA
B47: =Scoring!F48 -> 1 North Carolina | C47: =Scoring!G48 -> 1 North Carolina | D47: =Scoring!H48 -> 1 North Carolina | E47: =Scoring!I48 -> 1 North Carolina | F47: =Scoring!J48 -> 1 North Carolina | G47: =Scoring!K48 -> 9 Butler | H47: =Scoring!L48 -> 1 North Carolina | I47: =Scoring!M48 -> 1 North Carolina | ... P47: =Scoring!T48 -> 1 North Carolina | S47: =Scoring!Z48 -> 1 North Carolina | T47: =Scoring!AA48 -> 8 LSU | U47: =Scoring!AB48 -> 1 North Carolina | V47: =IF(U47="","",IF(S47=U47,T47,S47)) -> 8 LSU
... B50: =Scoring!F51 -> 3 Syracuse | C50: =Scoring!G51 -> 3 Syracuse | D50: =Scoring!H51 -> 3 Syracuse | E50: =Scoring!I51 -> 6 Arizona State | F50: =Scoring!J51 -> 6 Arizona State | G50: =Scoring!K51 -> 6 Arizona State | H50: =Scoring!L51 -> 3 Syracuse | I50: =Scoring!M51 -> 6 Arizona State | ... P50: =Scoring!T51 -> 3 Syracuse | S50: =Scoring!Z51 -> 3 Syracuse | T50: =Scoring!AA51 -> 6 Arizona State | U50: =Scoring!AB51 -> 3 Syracuse | V50: =IF(U50="","",IF(S50=U50,T50,S50)) -> 6 Arizona State
A51: Round 3 | B51: =Scoring!F52 -> 1 Louisville | C51: =Scoring!G52 -> 1 Louisville | D51: =Scoring!H52 -> 1 Louisville | E51: =Scoring!I52 -> 1 Louisville | F51: =Scoring!J52 -> 1 Louisville | G51: =Scoring!K52 -> 1 Louisville | H51: =Scoring!L52 -> 1 Louisville | I51: =Scoring!M52 -> 1 Louisville | ... P51: =Scoring!T52 -> 1 Louisville | S51: =Scoring!Z52 -> 1 Louisville | T51: =Scoring!AA52 -> 12 Arizona | U51: =Scoring!AB52 -> 1 Louisville | V51: =IF(U51="","",IF(S51=U51,T51,S51)) -> 12 Arizona
B52: =Scoring!F53 -> 3 Kansas | C52: =Scoring!G53 -> 2 Michigan State | D52: =Scoring!H53 -> 2 Michigan State | E52: =Scoring!I53 -> 3 Kansas | F52: =Scoring!J53 -> 3 Kansas | G52: =Scoring!K53 -> 3 Kansas | H52: =Scoring!L53 -> 2 Michigan State | I52: =Scoring!M53 -> 2 Michigan State | ... P52: =Scoring!T53 -> 2 Michigan State | S52: =Scoring!Z53 -> 2 Michigan State | T52: =Scoring!AA53 -> 3 Kansas | U52: =Scoring!AB53 -> 2 Michigan State | V52: =IF(U52="","",IF(S52=U52,T52,S52)) -> 3 Kansas
B53: =Scoring!F54 -> 1 Connecticut | C53: =Scoring!G54 -> 1 Connecticut | D53: =Scoring!H54 -> 1 Connecticut | E53: =Scoring!I54 -> 1 Connecticut | F53: =Scoring!J54 -> 5 Purdue | G53: =Scoring!K54 -> 4 Washington | H53: =Scoring!L54 -> 1 Connecticut | I53: =Scoring!M54 -> 1 Connecticut | ... P53: =Scoring!T54 -> 1 Connecticut | S53: =Scoring!Z54 -> 1 Connecticut | T53: =Scoring!AA54 -> 5 Purdue | U53: =Scoring!AB54 -> 1 Connecticut | V53: =IF(U53="","",IF(S53=U53,T53,S53)) -> 5 Purdue
B54: =Scoring!F55 -> 2 Memphis | C54: =Scoring!G55 -> 2 Memphis | D54: =Scoring!H55 -> 3 Missouri | E54: =Scoring!I55 -> 2 Memphis | F54: =Scoring!J55 -> 3 Missouri | G54: =Scoring!K55 -> 7 California | H54: =Scoring!L55 -> 2 Memphis | I54: =Scoring!M55 -> 2 Memphis | ... P54: =Scoring!T55 -> 2 Memphis | S54: =Scoring!Z55 -> 2 Memphis | T54: =Scoring!AA55 -> 3 Missouri | U54: =Scoring!AB55 -> 3 Missouri | V54: =IF(U54="","",IF(S54=U54,T54,S54)) -> 2 Memphis
B55: =Scoring!F56 -> 1 Pittsburgh | C55: =Scoring!G56 -> 1 Pittsburgh | D55: =Scoring!H56 -> 4 Xavier | E55: =Scoring!I56 -> 1 Pittsburgh | F55: =Scoring!J56 -> 1 Pittsburgh | G55: =Scoring!K56 -> 13 Portland State | H55: =Scoring!L56 -> 1 Pittsburgh | I55: =Scoring!M56 -> 1 Pittsburgh | ... P55: =Scoring!T56 -> 1 Pittsburgh | S55: =Scoring!Z56 -> 1 Pittsburgh | T55: =Scoring!AA56 -> 4 Xavier | U55: =Scoring!AB56 -> 1 Pittsburgh | V55: =IF(U55="","",IF(S55=U55,T55,S55)) -> 4 Xavier
B56: =Scoring!F57 -> 3 Villanova | C56: =Scoring!G57 -> 2 Duke | D56: =Scoring!H57 -> 2 Duke | E56: =Scoring!I57 -> 2 Duke | F56: =Scoring!J57 -> 2 Duke | G56: =Scoring!K57 -> 2 Duke | H56: =Scoring!L57 -> 3 Villanova | I56: =Scoring!M57 -> 3 Villanova | ... P56: =Scoring!T57 -> 3 Villanova | S56: =Scoring!Z57 -> 2 Duke | T56: =Scoring!AA57 -> 3 Villanova | U56: =Scoring!AB57 -> 3 Villanova | V56: =IF(U56="","",IF(S56=U56,T56,S56)) -> 2 Duke
B57: =Scoring!F58 -> 4 Gonzaga | C57: =Scoring!G58 -> 1 North Carolina | D57: =Scoring!H58 -> 1 North Carolina | E57: =Scoring!I58 -> 1 North Carolina | F57: =Scoring!J58 -> 1 North Carolina | G57: =Scoring!K58 -> 5 Illinois | H57: =Scoring!L58 -> 1 North Carolina | I57: =Scoring!M58 -> 1 North Carolina | ... P57: =Scoring!T58 -> 1 North Carolina | S57: =Scoring!Z58 -> 1 North Carolina | T57: =Scoring!AA58 -> 4 Gonzaga | U57: =Scoring!AB58 -> 1 North Carolina | V57: =IF(U57="","",IF(S57=U57,T57,S57)) -> 4 Gonzaga
B58: =Scoring!F59 -> 2 Oklahoma | C58: =Scoring!G59 -> 3 Syracuse | D58: =Scoring!H59 -> 3 Syracuse | E58: =Scoring!I59 -> 2 Oklahoma | F58: =Scoring!J59 -> 2 Oklahoma | G58: =Scoring!K59 -> 6 Arizona State | H58: =Scoring!L59 -> 3 Syracuse | I58: =Scoring!M59 -> 2 Oklahoma | ... P58: =Scoring!T59 -> 2 Oklahoma | S58: =Scoring!Z59 -> 2 Oklahoma | T58: =Scoring!AA59 -> 3 Syracuse | U58: =Scoring!AB59 -> 2 Oklahoma | V58: =IF(U58="","",IF(S58=U58,T58,S58)) -> 3 Syracuse
A59: ROUND 4 | B59: =Scoring!F60 -> 1 Louisville | C59: =Scoring!G60 -> 1 Louisville | D59: =Scoring!H60 -> 2 Michigan State | E59: =Scoring!I60 -> 1 Louisville | F59: =Scoring!J60 -> 3 Kansas | G59: =Scoring!K60 -> 3 Kansas | H59: =Scoring!L60 -> 1 Louisville | I59: =Scoring!M60 -> 1 Louisville | ... P59: =Scoring!T60 -> 1 Louisville | S59: =Scoring!Z60 -> 1 Louisville | T59: =Scoring!AA60 -> 2 Michigan State | U59: =Scoring!AB60 -> 2 Michigan State | V59: =IF(U59="","",IF(S59=U59,T59,S59)) -> 1 Louisville
B60: =Scoring!F61 -> 2 Memphis | C60: =Scoring!G61 -> 1 Connecticut | D60: =Scoring!H61 -> 3 Missouri | E60: =Scoring!I61 -> 2 Memphis | F60: =Scoring!J61 -> 5 Purdue | G60: =Scoring!K61 -> 7 California | H60: =Scoring!L61 -> 2 Memphis | I60: =Scoring!M61 -> 2 Memphis | ... P60: =Scoring!T61 -> 1 Connecticut | S60: =Scoring!Z61 -> 1 Connecticut | T60: =Scoring!AA61 -> 3 Missouri | U60: =Scoring!AB61 -> 1 Connecticut | V60: =IF(U60="","",IF(S60=U60,T60,S60)) -> 3 Missouri
B61: =Scoring!F62 -> 1 Pittsburgh | C61: =Scoring!G62 -> 1 Pittsburgh | D61: =Scoring!H62 -> 2 Duke | E61: =Scoring!I62 -> 1 Pittsburgh | F61: =Scoring!J62 -> 1 Pittsburgh | G61: =Scoring!K62 -> 13 Portland State | H61: =Scoring!L62 -> 1 Pittsburgh | I61: =Scoring!M62 -> 1 Pittsburgh | ... P61: =Scoring!T62 -> 1 Pittsburgh | S61: =Scoring!Z62 -> 1 Pittsburgh | T61: =Scoring!AA62 -> 3 Villanova | U61: =Scoring!AB62 -> 3 Villanova | V61: =IF(U61="","",IF(S61=U61,T61,S61)) -> 1 Pittsburgh
B62: =Scoring!F63 -> 2 Oklahoma | C62: =Scoring!G63 -> 1 North Carolina | D62: =Scoring!H63 -> 1 North Carolina | E62: =Scoring!I63 -> 1 North Carolina | F62: =Scoring!J63 -> 1 North Carolina | G62: =Scoring!K63 -> 6 Arizona State | H62: =Scoring!L63 -> 1 North Carolina | I62: =Scoring!M63 -> 1 North Carolina | ... P62: =Scoring!T63 -> 1 North Carolina | S62: =Scoring!Z63 -> 1 North Carolina | T62: =Scoring!AA63 -> 2 Oklahoma | U62: =Scoring!AB63 -> 1 North Carolina | V62: =IF(U62="","",IF(S62=U62,T62,S62)) -> 2 Oklahoma
A63: ROUND 5 | B63: =Scoring!F64 -> 1 Louisville | C63: =Scoring!G64 -> 1 Connecticut | D63: =Scoring!H64 -> 2 Michigan State | E63: =Scoring!I64 -> 1 Louisville | F63: =Scoring!J64 -> 3 Kansas | G63: =Scoring!K64 -> 7 California | H63: =Scoring!L64 -> 1 Louisville | I63: =Scoring!M64 -> 1 Louisville | ... P63: =Scoring!T64 -> 1 Louisville | S63: =Scoring!Z64 -> 2 Michigan State | T63: =Scoring!AA64 -> 1 Connecticut | U63: =Scoring!AB64 -> 2 Michigan State | V63: =IF(U63="","",IF(S63=U63,T63,S63)) -> 1 Connecticut
B64: =Scoring!F65 -> 2 Oklahoma | C64: =Scoring!G65 -> 1 Pittsburgh | D64: =Scoring!H65 -> 1 North Carolina | E64: =Scoring!I65 -> 1 Pittsburgh | F64: =Scoring!J65 -> 1 North Carolina | G64: =Scoring!K65 -> 6 Arizona State | H64: =Scoring!L65 -> 1 North Carolina | I64: =Scoring!M65 -> 1 Pittsburgh | ... P64: =Scoring!T65 -> 1 North Carolina | S64: =Scoring!Z65 -> 3 Villanova | T64: =Scoring!AA65 -> 1 North Carolina | U64: =Scoring!AB65 -> 1 North Carolina | V64: =IF(U64="","",IF(S64=U64,T64,S64)) -> 3 Villanova
A65: FINAL | B65: =Scoring!F66 -> 1 Louisville | C65: =Scoring!G66 -> 1 Connecticut | D65: =Scoring!H66 -> 1 North Carolina | E65: =Scoring!I66 -> 1 Louisville | F65: =Scoring!J66 -> 3 Kansas | G65: =Scoring!K66 -> 6 Arizona State | H65: =Scoring!L66 -> 1 Louisville | I65: =Scoring!M66 -> 1 Pittsburgh | ... P65: =Scoring!T66 -> 1 North Carolina | S65: =Scoring!Z66 -> 2 Michigan State | T65: =Scoring!AA66 -> 1 North Carolina | U65: =Scoring!AB66 | V65: =IF(U65="","",IF(S65=U65,T65,S65))

Sheet Placings
A2: Scoring: Seeds | B2: =Scoring!AJ2 -> AnthonyP | C2: =Scoring!AK2 -> BenC | D2: =Scoring!AL2 -> CandaceP | E2: =Scoring!AM2 -> ChrisR | F2: =Scoring!AN2 -> DanielV | G2: =Scoring!AO2 -> DavidS | H2: =Scoring!AP2 -> EricP | I2: =Scoring!AQ2 -> JamesB | ... P2: =Scoring!AX2 -> ScottP | R2: =Scoring!AI2 -> HiSeeds
A3: Current Place | B3: =RANK(B4,$B$4:$Q$4) -> 8 | C3: =RANK(C4,$B$4:$Q$4) -> 12 | D3: =RANK(D4,$B$4:$Q$4) -> 2 | E3: =RANK(E4,$B$4:$Q$4) -> 13 | F3: =RANK(F4,$B$4:$Q$4) -> 6 | G3: =RANK(G4,$B$4:$Q$4) -> 15 | H3: =RANK(H4,$B$4:$Q$4) -> 9 | I3: =RANK(I4,$B$4:$Q$4) -> 5 | ... P3: =RANK(P4,$B$4:$Q$4) -> 1
A4: Total | B4: =Scoring!AJ67 -> 166 | C4: =Scoring!AK67 -> 146.5 | D4: =Scoring!AL67 -> 243.5 | E4: =Scoring!AM67 -> 142.5 | F4: =Scoring!AN67 -> 175 | G4: =Scoring!AO67 -> 71.5 | H4: =Scoring!AP67 -> 164 | I4: =Scoring!AQ67 -> 177.5 | ... P4: =Scoring!AX67 -> 255.5 | R4: =Scoring!AI67 -> 182.5
A5: Round 1 | B5: =Scoring!AJ68 -> 52 | C5: =Scoring!AK68 -> 39 | D5: =Scoring!AL68 -> 39 | E5: =Scoring!AM68 -> 62 | F5: =Scoring!AN68 -> 40 | G5: =Scoring!AO68 -> 61 | H5: =Scoring!AP68 -> 51 | I5: =Scoring!AQ68 -> 59 | ... P5: =Scoring!AX68 -> 61 | R5: =Scoring!AI68 -> 29
A6: Round 2 | B6: =Scoring!AJ69 -> 66 | C6: =Scoring!AK69 -> 45 | D6: =Scoring!AL69 -> 54 | E6: =Scoring!AM69 -> 39 | F6: =Scoring!AN69 -> 52.5 | G6: =Scoring!AO69 -> 10.5 | H6: =Scoring!AP69 -> 34.5 | I6: =Scoring!AQ69 -> 45 | ... P6: =Scoring!AX69 -> 75 | R6: =Scoring!AI69 -> 75
A7: Round 3 | B7: =Scoring!AJ70 -> 48 | C7: =Scoring!AK70 -> 30 | D7: =Scoring!AL70 -> 50 | E7: =Scoring!AM70 -> 34 | F7: =Scoring!AN70 -> 54 | G7: =Scoring!AO70 -> 0 | H7: =Scoring!AP70 -> 50 | I7: =Scoring!AQ70 -> 66 | ... P7: =Scoring!AX70 -> 66 | R7: =Scoring!AI70 -> 46
A8: Round 4 | B8: =Scoring!AJ71 -> 0 | C8: =Scoring!AK71 -> 32.5 | D8: =Scoring!AL71 -> 37.5 | E8: =Scoring!AM71 -> 7.5 | F8: =Scoring!AN71 -> 7.5 | G8: =Scoring!AO71 -> 0 | H8: =Scoring!AP71 -> 7.5 | I8: =Scoring!AQ71 -> 7.5 | ... P8: =Scoring!AX71 -> 32.5 | R8: =Scoring!AI71 -> 32.5
A9: Round 5 | B9: =Scoring!AJ72 -> 0 | C9: =Scoring!AK72 -> 0 | D9: =Scoring!AL72 -> 63 | E9: =Scoring!AM72 -> 0 | F9: =Scoring!AN72 -> 21 | G9: =Scoring!AO72 -> 0 | H9: =Scoring!AP72 -> 21 | I9: =Scoring!AQ72 -> 0 | ... P9: =Scoring!AX72 -> 21 | R9: =Scoring!AI72 -> 0
A10: Round 6 | B10: =Scoring!AJ73 -> 0 | C10: =Scoring!AK73 -> 0 | D10: =Scoring!AL73 -> 0 | E10: =Scoring!AM73 -> 0 | F10: =Scoring!AN73 -> 0 | G10: =Scoring!AO73 -> 0 | H10: =Scoring!AP73 -> 0 | I10: =Scoring!AQ73 -> 0 | ... P10: =Scoring!AX73 -> 0 | R10: =Scoring!AI73 -> 0
A12: =Scoring!AG74 -> Points Left For Rd 2-6 | B12: =Scoring!AJ74 -> 812 | C12: =Scoring!AK74 -> 742 | D12: =Scoring!AL74 -> 739.5 | E12: =Scoring!AM74 -> 684 | F12: =Scoring!AN74 -> 674 | G12: =Scoring!AO74 -> 459 | H12: =Scoring!AP74 -> 563 | I12: =Scoring!AQ74 -> 565 | ... P12: =Scoring!AX74 -> 281
A13: =Scoring!AG75 -> Points Left For Rd 3-6 | B13: =Scoring!AJ75 -> 283.5 | C13: =Scoring!AK75 -> 224 | D13: =Scoring!AL75 -> 285.5 | E13: =Scoring!AM75 -> 204.5 | F13: =Scoring!AN75 -> 289 | G13: =Scoring!AO75 -> 56.5 | H13: =Scoring!AP75 -> 165 | I13: =Scoring!AQ75 -> 173 | ... P13: =Scoring!AX75 -> 122.5
A14: =Scoring!AG76 -> Points Left For Rd 4-6 | B14: =Scoring!AJ76 -> 159 | C14: =Scoring!AK76 -> 168 | D14: =Scoring!AL76 -> 159.5 | E14: =Scoring!AM76 -> 120 | F14: =Scoring!AN76 -> 33 | G14: =Scoring!AO76 -> 0 | H14: =Scoring!AP76 -> 94.5 | I14: =Scoring!AQ76 -> 120.5 | ... P14: =Scoring!AX76 -> 94.5
A15: =Scoring!AG77 -> Points Left For Rd 5-6 | B15: =Scoring!AJ77 -> 0 | C15: =Scoring!AK77 -> 85 | D15: =Scoring!AL77 -> 92 | E15: =Scoring!AM77 -> 0 | F15: =Scoring!AN77 -> 18 | G15: =Scoring!AO77 -> 0 | H15: =Scoring!AP77 -> 12 | I15: =Scoring!AQ77 -> 0 | ... P15: =Scoring!AX77 -> 43.5
A16: =Scoring!AG78 -> Points Left For Rd 6 | B16: =Scoring!AJ78 -> 0 | C16: =Scoring!AK78 -> 0 | D16: =Scoring!AL78 -> 35 | E16: =Scoring!AM78 -> 0 | F16: =Scoring!AN78 -> 0 | G16: =Scoring!AO78 -> 0 | H16: =Scoring!AP78 -> 0 | I16: =Scoring!AQ78 -> 0 | ... P16: =Scoring!AX78 -> 31.5
A18: Number of Wins Rd 1 | B18: =Scoring!F244 -> 25 | C18: =Scoring!G244 -> 23 | D18: =Scoring!H244 -> 24 | E18: =Scoring!I244 -> 26 | F18: =Scoring!J244 -> 23 | G18: =Scoring!K244 -> 22 | H18: =Scoring!L244 -> 25 | I18: =Scoring!M244 -> 25 | ... P18: =Scoring!T244 -> 26
A19: Number of Wins Rd 2 | B19: =Scoring!F245 -> 13 | C19: =Scoring!G245 -> 12 | D19: =Scoring!H245 -> 12 | E19: =Scoring!I245 -> 11 | F19: =Scoring!J245 -> 12 | G19: =Scoring!K245 -> 5 | H19: =Scoring!L245 -> 11 | I19: =Scoring!M245 -> 12 | ... P19: =Scoring!T245 -> 15
A20: Number of Wins Rd 3 | B20: =Scoring!F246 -> 5 | C20: =Scoring!G246 -> 5 | D20: =Scoring!H246 -> 5 | E20: =Scoring!I246 -> 5 | F20: =Scoring!J246 -> 5 | G20: =Scoring!K246 -> 1 | H20: =Scoring!L246 -> 6 | I20: =Scoring!M246 -> 7 | ... P20: =Scoring!T246 -> 7
A21: Number of Wins Rd 4 | B21: =Scoring!F247 -> 0 | C21: =Scoring!G247 -> 2 | D21: =Scoring!H247 -> 2 | E21: =Scoring!I247 -> 1 | F21: =Scoring!J247 -> 1 | G21: =Scoring!K247 -> 0 | H21: =Scoring!L247 -> 1 | I21: =Scoring!M247 -> 1 | ... P21: =Scoring!T247 -> 2
A22: Number of Wins Rd 5 | B22: =Scoring!F248 -> 0 | C22: =Scoring!G248 -> 0 | D22: =Scoring!H248 -> 2 | E22: =Scoring!I248 -> 0 | F22: =Scoring!J248 -> 1 | G22: =Scoring!K248 -> 0 | H22: =Scoring!L248 -> 1 | I22: =Scoring!M248 -> 0 | ... P22: =Scoring!T248 -> 1
A23: Number of Wins Rd 6 | B23: =Scoring!F249 -> 0 | C23: =Scoring!G249 -> 0 | D23: =Scoring!H249 -> 0 | E23: =Scoring!I249 -> 0 | F23: =Scoring!J249 -> 0 | G23: =Scoring!K249 -> 0 | H23: =Scoring!L249 -> 0 | I23: =Scoring!M249 -> 0 | ... P23: =Scoring!T249 -> 0
A24: Total Wins | B24: =SUM(B18:B23) -> 43 | C24: =SUM(C18:C23) -> 42 | D24: =SUM(D18:D23) -> 45 | E24: =SUM(E18:E23) -> 43 | F24: =SUM(F18:F23) -> 42 | G24: =SUM(G18:G23) -> 28 | H24: =SUM(H18:H23) -> 44 | I24: =SUM(I18:I23) -> 45 | ... P24: =SUM(P18:P23) -> 51
A25: Tot Rank for Wins | B25: =RANK(B24,$B$24:$Q$24) -> 8 | C25: =RANK(C24,$B$24:$Q$24) -> 11 | D25: =RANK(D24,$B$24:$Q$24) -> 2 | E25: =RANK(E24,$B$24:$Q$24) -> 8 | F25: =RANK(F24,$B$24:$Q$24) -> 11 | G25: =RANK(G24,$B$24:$Q$24) -> 15 | H25: =RANK(H24,$B$24:$Q$24) -> 5 | I25: =RANK(I24,$B$24:$Q$24) -> 2 | ... P25: =RANK(P24,$B$24:$Q$24) -> 1

Sheet Master
A2: Indianapolis | B2: 1 Louisville | AF2: 1 Pittsburgh | AH2: Boston MA
E4: =B2 -> 1 Louisville | AC4: =AF2 -> 1 Pittsburgh
B6: 16 Alabama State-Morehead State winner | AF6: 16 East Tennessee State
H8: =E4 -> 1 Louisville | Z8: =AC4 -> 1 Pittsburgh
B10: 8 Ohio State | AF10: 8 Oklahoma State
E12: =B14 -> 9 Siena | AC12: =AF10 -> 8 Oklahoma State
B14: 9 Siena | AF14: 9 Tennessee
K16: =H8 -> 1 Louisville | W16: =Z8 -> 1 Pittsburgh
B18: 4 Wake Forest | AF18: 4 Xavier
E20: =B22 -> 13 Cleveland State | AC20: =AF18 -> 4 Xavier
B22: 13 Cleveland State | AF22: 13 Portland State
H24: =E28 -> 12 Arizona | Z24: =AC20 -> 4 Xavier
B26: 5 Utah | AF26: 5 Florida State
E28: =B30 -> 12 Arizona | AC28: =AF30 -> 12 Wisconsin
B30: 12 Arizona | AF30: 12 Wisconsin
N32: =K48 -> 2 Michigan State | T32: =W48 -> 3 Villanova
B34: 2 Michigan State | AF34: 2 Duke
E36: =B34 -> 2 Michigan State | AC36: =AF34 -> 2 Duke
B38: 15 Robert Morris | AF38: 15 Binghamton
H40: =E36 -> 2 Michigan State | Z40: =AC36 -> 2 Duke
B42: 7 Boston College | AF42: 7 Texas
E44: =B46 -> 10 USC | AC44: =AF42 -> 7 Texas
B46: 10 USC | AF46: 10 Minnesota
K48: =H40 -> 2 Michigan State | Q48: =N32 -> 2 Michigan State | W48: =Z56 -> 3 Villanova
B50: 3 Kansas | AF50: 3 Villanova
E52: =B50 -> 3 Kansas | AC52: =AF50 -> 3 Villanova
B54: 14 North Dakota State | AF54: 14 American
H56: =E52 -> 3 Kansas | Z56: =AC52 -> 3 Villanova
B58: 6 West Virginia | AF58: 6 UCLA
E60: =B62 -> 11 Dayton | AC60: =AF58 -> 6 UCLA
B62: 11 Dayton | AF62: 11 VCU
A68: Glendale AZ | B68: 1 Connecticut | AF68: 1 North Carolina | AH68: Memhis
E70: =B68 -> 1 Connecticut | AC70: =AF68 -> 1 North Carolina
B72: 16 Chattanooga | AF72: 16 Radford
H74: =E70 -> 1 Connecticut | Z74: =AC70 -> 1 North Carolina
B76: 8 BYU | AF76: 8 LSU
E78: =B80 -> 9 Texas A&M | AC78: =AF76 -> 8 LSU
B80: 9 Texas A&M | AF80: 9 Butler
K82: =H74 -> 1 Connecticut | Q82: =T98 -> 1 North Carolina | W82: =Z74 -> 1 North Carolina
B84: 5 Purdue | AF84: 4 Gonzaga
E86: =B84 -> 5 Purdue | AC86: =AF84 -> 4 Gonzaga
B88: 12 Northern Iowa | AF88: 13 Akron
H90: =E86 -> 5 Purdue | Z90: =AC86 -> 4 Gonzaga
B92: 4 Washington | AF92: 5 Illinois
E94: =B92 -> 4 Washington | AC94: =AF96 -> 12 Western Kentucky
B96: 13 Mississippi State | AF96: 12 Western Kentucky
N98: =K82 -> 1 Connecticut | T98: =W82 -> 1 North Carolina
B100: 2 Memphis | AF100: 2 Oklahoma
E102: =B100 -> 2 Memphis | AC102: =AF100 -> 2 Oklahoma
B104: 15 Cal State-Northridge | AF104: 15 Morgan State
H106: =E102 -> 2 Memphis | Z106: =AC102 -> 2 Oklahoma
B108: 7 California | AF108: 7 Clemson
E110: =B112 -> 10 Maryland | AC110: =AF112 -> 10 Michigan
B112: 10 Maryland | AF112: 10 Michigan
K114: =H122 -> 3 Missouri | W114: =Z106 -> 2 Oklahoma
B116: 3 Missouri | AF116: 3 Syracuse
E118: =B116 -> 3 Missouri | AC118: =AF116 -> 3 Syracuse
B120: 14 Cornell | AF120: 14 Stephen F Austin
H122: =E118 -> 3 Missouri | Z122: =AC118 -> 3 Syracuse
B124: 6 Marquette | AF124: 6 Arizona State
E126: =B124 -> 6 Marquette | AC126: =AF124 -> 6 Arizona State
B128: 11 Utah State | AF128: 11 Temple
B139: =Scoring!A179 -> Winner | C139: =Scoring!B179 -> Loser
B140: =Scoring!A180 -> 1 Louisville | C140: =Scoring!B180 -> 16 Alabama State-Morehead State winner
B141: =Scoring!A181 -> 9 Siena | C141: =Scoring!B181 -> 8 Ohio State
B142: =Scoring!A182 -> 13 Cleveland State | C142: =Scoring!B182 -> 4 Wake Forest
B143: =Scoring!A183 -> 12 Arizona | C143: =Scoring!B183 -> 5 Utah
B144: =Scoring!A184 -> 2 Michigan State | C144: =Scoring!B184 -> 15 Robert Morris
B145: =Scoring!A185 -> 10 USC | C145: =Scoring!B185 -> 7 Boston College
B146: =Scoring!A186 -> 3 Kansas | C146: =Scoring!B186 -> 14 North Dakota State
B147: =Scoring!A187 -> 11 Dayton | C147: =Scoring!B187 -> 6 West Virginia
B148: =Scoring!A188 -> 1 Connecticut | C148: =Scoring!B188 -> 16 Chattanooga
B149: =Scoring!A189 -> 9 Texas A&M | C149: =Scoring!B189 -> 8 BYU
B150: =Scoring!A190 -> 5 Purdue | C150: =Scoring!B190 -> 12 Northern Iowa
... B202: =Scoring!A242 | C202: =Scoring!B242
