Workbook

Sheet Scoring
A1: 1 Connecticut | B1: 1 | E1: HiSeeds | F1: AnthonyP | G1: BenC | H1: CandaceP | I1: ChrisR | J1: DanielV | K1: DavidS | L1: EricP | M1: JamesB | N1: JoeG | O1: JohnP | P1: JoshF | Q1: MasonC | R1: MelodyS | S1: MichaelJ | T1: ScottP | V1: Master | X1: 15 | Z1: Master | AA1: Master | AB1: Master | AF1: Wstyle | AG1: 1 | AZ1: Master
A2: 1 Louisville | B2: 1 | C2: Round 1 | AI2: HiSeeds | AJ2: AnthonyP | AK2: BenC | AL2: CandaceP | AM2: ChrisR | AN2: DanielV | AO2: DavidS | AP2: EricP | AQ2: JamesB | AR2: JoeG | AS2: JohnP | AT2: JoshF | AU2: MasonC | AV2: MelodyS | AW2: MichaelJ | AX2: ScottP | AZ2: Best Possible
A3: 1 North Carolina | B3: 1 | C3: Player | D3: Insert3 | E3: 0 | F3: 1 | G3: 2 | H3: 3 | I3: 4 | J3: 5 | K3: 6 | L3: 7 | M3: 8 | N3: 9 | O3: 10 | P3: 11 | Q3: 12 | R3: 13 | S3: 14 | T3: 15 | V3: =AZ3 -> 15 | X3: Favorite | Y3: Underdog | Z3: Player1 | AA3: Player2 | AB3: Winner | AC3: Loser | AD3: SeedFav | AE3: SeedUdr | AF3: RndPts | AG3: Weighted Total | AH3: Insert1 | AI3: 0 | AJ3: =AI3+1 -> 1 | AK3: =AJ3+1 -> 2 | AL3: =AK3+1 -> 3 | AM3: =AL3+1 -> 4 | AN3: =AM3+1 -> 5 | AO3: =AN3+1 -> 6 | AP3: =AO3+1 -> 7 | AQ3: =AP3+1 -> 8 | ... AX3: =AW3+1 -> 15 | AZ3: =OFFSET(BA3,0,-3) -> 15 | BZ3: Player 1 | CA3: Player 2
A4: 1 Pittsburgh | B4: 1 | C4: E1 | D4: =OFFSET($F4,0,$D$67) -> 1 Louisville | E4: 1 Louisville | F4: 1 Louisville | G4: 1 Louisville | H4: 1 Louisville | I4: 1 Louisville | J4: 1 Louisville | K4: 1 Louisville | L4: 1 Louisville | M4: 1 Louisville | N4: 1 Louisville | O4: 1 Louisville | P4: 1 Louisville | Q4: 1 Louisville | R4: 1 Louisville | S4: 1 Louisville | T4: 1 Louisville | V4: =INDIRECT(BU4) -> 1 Louisville | X4: =IF($AG$1=3,AF4*AD4,IF($AG$1=2,AF4+AD4,IF($AG$1=4,AF4,$AG4-($AG4*COUNTIF($F4:$U4,$Z4)/$X$1)))) -> 0 | Y4: =IF($AG$1=3,AF4*AE4,IF($AG$1=2,AF4+AE4,IF($AG$1=4,AF4,$AG4-($AG4*COUNTIF($F4:$U4,$AA4)/$X$1)))) -> 15 | Z4: =INDIRECT(BZ4) -> 1 Louisville | AA4: =INDIRECT(CA4) -> 16 Alabama State-Morehead State winner | AB4: =IF(INDIRECT(CB4)=0,"",INDIRECT(CB4)) -> 1 Louisville | AC4: =IF(AA4=0,1,IF(Z4=0,1,IF(AB4=0,1,IF(AB4="","",IF(Z4=AB4,AA4,Z4))))) -> 16 Alabama State-Morehead State winner | AD4: =VLOOKUP(Z4,$A$1:$B$64,2) -> 1 | AE4: =VLOOKUP(AA4,$A$1:$B$64,2) -> 1 | AF4: 1 | AG4: 15 | AH4: Redrag4 | AI4: =IF(E4=$AB4,(IF(E4=$Z4,$X4,$Y4)),0) -> 0 | AJ4: =IF(F4=$AB4,(IF(F4=$Z4,$X4,$Y4)),0) -> 0 | AK4: =IF(G4=$AB4,(IF(G4=$Z4,$X4,$Y4)),0) -> 0 | AL4: =IF(H4=$AB4,(IF(H4=$Z4,$X4,$Y4)),0) -> 0 | AM4: =IF(I4=$AB4,(IF(I4=$Z4,$X4,$Y4)),0) -> 0 | AN4: =IF(J4=$AB4,(IF(J4=$Z4,$X4,$Y4)),0) -> 0 | AO4: =IF(K4=$AB4,(IF(K4=$Z4,$X4,$Y4)),0) -> 0 | AP4: =IF(L4=$AB4,(IF(L4=$Z4,$X4,$Y4)),0) -> 0 | ... AX4: =IF(T4=$AB4,(IF(T4=$Z4,$X4,$Y4)),0) -> 0 | AZ4: =IF(V4=$AB4,(IF(V4=$Z4,$X4,$Y4)),0) -> 0 | BB4: E4 | BU4: =CONCATENATE(AZ$1,"!",$BB4) -> Master!E4 | BW4: B2 | BX4: B6 | BZ4: =CONCATENATE(Z$1,"!",$BW4) -> Master!B2 | CA4: =CONCATENATE(AA$1,"!",$BX4) -> Master!B6 | CB4: =CONCATENATE(AB$1,"!",$BB4) -> Master!E4
A5: 2 Duke | B5: 10 | C5: E2 | D5: =OFFSET($F5,0,$D$67) -> 8 Ohio State | E5: 8 Ohio State | F5: 8 Ohio State | G5: 9 Siena | H5: 8 Ohio State | I5: 9 Siena | J5: 8 Ohio State | K5: 8 Ohio State | L5: 8 Ohio State | M5: 9 Siena | N5: 8 Ohio State | O5: 8 Ohio State | P5: 8 Ohio State | Q5: 8 Ohio State | R5: 8 Ohio State | S5: 8 Ohio State | T5: 8 Ohio State | V5: =INDIRECT(BU5) -> 9 Siena | X5: =IF($AG$1=3,AF5*AD5,IF($AG$1=2,AF5+AD5,IF($AG$1=4,AF5,$AG5-($AG5*COUNTIF($F5:$U5,$Z5)/$X$1)))) -> 3 | Y5: =IF($AG$1=3,AF5*AE5,IF($AG$1=2,AF5+AE5,IF($AG$1=4,AF5,$AG5-($AG5*COUNTIF($F5:$U5,$AA5)/$X$1)))) -> 12 | Z5: =INDIRECT(BZ5) -> 8 Ohio State | AA5: =INDIRECT(CA5) -> 9 Siena | AB5: =IF(INDIRECT(CB5)=0,"",INDIRECT(CB5)) -> 9 Siena | AC5: =IF(AA5=0,1,IF(Z5=0,1,IF(AB5=0,1,IF(AB5="","",IF(Z5=AB5,AA5,Z5))))) -> 8 Ohio State | AD5: =VLOOKUP(Z5,$A$1:$B$64,2) -> 16 | AE5: =VLOOKUP(AA5,$A$1:$B$64,2) -> 9 | AF5: 1 | AG5: 15 | AI5: =IF(E5=$AB5,(IF(E5=$Z5,$X5,$Y5)),0) -> 0 | AJ5: =IF(F5=$AB5,(IF(F5=$Z5,$X5,$Y5)),0) -> 0 | AK5: =IF(G5=$AB5,(IF(G5=$Z5,$X5,$Y5)),0) -> 12 | AL5: =IF(H5=$AB5,(IF(H5=$Z5,$X5,$Y5)),0) -> 0 | AM5: =IF(I5=$AB5,(IF(I5=$Z5,$X5,$Y5)),0) -> 12 | AN5: =IF(J5=$AB5,(IF(J5=$Z5,$X5,$Y5)),0) -> 0 | AO5: =IF(K5=$AB5,(IF(K5=$Z5,$X5,$Y5)),0) -> 0 | AP5: =IF(L5=$AB5,(IF(L5=$Z5,$X5,$Y5)),0) -> 0 | ... AX5: =IF(T5=$AB5,(IF(T5=$Z5,$X5,$Y5)),0) -> 0 | AZ5: =IF(V5=$AB5,(IF(V5=$Z5,$X5,$Y5)),0) -> 12 | BB5: E12 | BU5: =CONCATENATE(AZ$1,"!",$BB5) -> Master!E12 | BW5: B10 | BX5: B14 | BZ5: =CONCATENATE(Z$1,"!",$BW5) -> Master!B10 | CA5: =CONCATENATE(AA$1,"!",$BX5) -> Master!B14 | CB5: =CONCATENATE(AB$1,"!",$BB5) -> Master!E12
A6: 2 Memphis | B6: 10 | C6: E3 | D6: =OFFSET($F6,0,$D$67) -> 4 Wake Forest | E6: 4 Wake Forest | F6: 4 Wake Forest | G6: 4 Wake Forest | H6: 4 Wake Forest | I6: 4 Wake Forest | J6: 4 Wake Forest | K6: 13 Cleveland State | L6: 4 Wake Forest | M6: 4 Wake Forest | N6: 4 Wake Forest | O6: 4 Wake Forest | P6: 4 Wake Forest | Q6: 4 Wake Forest | R6: 4 Wake Forest | S6: 4 Wake Forest | T6: 4 Wake Forest | V6: =INDIRECT(BU6) -> 13 Cleveland State | X6: =IF($AG$1=3,AF6*AD6,IF($AG$1=2,AF6+AD6,IF($AG$1=4,AF6,$AG6-($AG6*COUNTIF($F6:$U6,$Z6)/$X$1)))) -> 1 | Y6: =IF($AG$1=3,AF6*AE6,IF($AG$1=2,AF6+AE6,IF($AG$1=4,AF6,$AG6-($AG6*COUNTIF($F6:$U6,$AA6)/$X$1)))) -> 14 | Z6: =INDIRECT(BZ6) -> 4 Wake Forest | AA6: =INDIRECT(CA6) -> 13 Cleveland State | AB6: =IF(INDIRECT(CB6)=0,"",INDIRECT(CB6)) -> 13 Cleveland State | AC6: =IF(AA6=0,1,IF(Z6=0,1,IF(AB6=0,1,IF(AB6="","",IF(Z6=AB6,AA6,Z6))))) -> 4 Wake Forest | AD6: =VLOOKUP(Z6,$A$1:$B$64,2) -> 12 | AE6: =VLOOKUP(AA6,$A$1:$B$64,2) -> 1 | AF6: 1 | AG6: 15 | AI6: =IF(E6=$AB6,(IF(E6=$Z6,$X6,$Y6)),0) -> 0 | AJ6: =IF(F6=$AB6,(IF(F6=$Z6,$X6,$Y6)),0) -> 0 | AK6: =IF(G6=$AB6,(IF(G6=$Z6,$X6,$Y6)),0) -> 0 | AL6: =IF(H6=$AB6,(IF(H6=$Z6,$X6,$Y6)),0) -> 0 | AM6: =IF(I6=$AB6,(IF(I6=$Z6,$X6,$Y6)),0) -> 0 | AN6: =IF(J6=$AB6,(IF(J6=$Z6,$X6,$Y6)),0) -> 0 | AO6: =IF(K6=$AB6,(IF(K6=$Z6,$X6,$Y6)),0) -> 14 | AP6: =IF(L6=$AB6,(IF(L6=$Z6,$X6,$Y6)),0) -> 0 | ... AX6: =IF(T6=$AB6,(IF(T6=$Z6,$X6,$Y6)),0) -> 0 | AZ6: =IF(V6=$AB6,(IF(V6=$Z6,$X6,$Y6)),0) -> 14 | BB6: E20 | BU6: =CONCATENATE(AZ$1,"!",$BB6) -> Master!E20 | BW6: B18 | BX6: B22 | BZ6: =CONCATENATE(Z$1,"!",$BW6) -> Master!B18 | CA6: =CONCATENATE(AA$1,"!",$BX6) -> Master!B22 | CB6: =CONCATENATE(AB$1,"!",$BB6) -> Master!E20
A7: 2 Michigan State | B7: 10 | C7: E4 | D7: =OFFSET($F7,0,$D$67) -> 12 Arizona | E7: 5 Utah | F7: 12 Arizona | G7: 5 Utah | H7: 12 Arizona | I7: 5 Utah | J7: 5 Utah | K7: 5 Utah | L7: 5 Utah | M7: 12 Arizona | N7: 5 Utah | O7: 5 Utah | P7: 12 Arizona | Q7: 12 Arizona | R7: 12 Arizona | S7: 5 Utah | T7: 12 Arizona | V7: =INDIRECT(BU7) -> 12 Arizona | X7: =IF($AG$1=3,AF7*AD7,IF($AG$1=2,AF7+AD7,IF($AG$1=4,AF7,$AG7-($AG7*COUNTIF($F7:$U7,$Z7)/$X$1)))) -> 7 | Y7: =IF($AG$1=3,AF7*AE7,IF($AG$1=2,AF7+AE7,IF($AG$1=4,AF7,$AG7-($AG7*COUNTIF($F7:$U7,$AA7)/$X$1)))) -> 8 | Z7: =INDIRECT(BZ7) -> 5 Utah | AA7: =INDIRECT(CA7) -> 12 Arizona | AB7: =IF(INDIRECT(CB7)=0,"",INDIRECT(CB7)) -> 12 Arizona | AC7: =IF(AA7=0,1,IF(Z7=0,1,IF(AB7=0,1,IF(AB7="","",IF(Z7=AB7,AA7,Z7))))) -> 5 Utah | AD7: =VLOOKUP(Z7,$A$1:$B$64,2) -> 13 | AE7: =VLOOKUP(AA7,$A$1:$B$64,2) -> 1 | AF7: 1 | AG7: 15 | AI7: =IF(E7=$AB7,(IF(E7=$Z7,$X7,$Y7)),0) -> 0 | AJ7: =IF(F7=$AB7,(IF(F7=$Z7,$X7,$Y7)),0) -> 8 | AK7: =IF(G7=$AB7,(IF(G7=$Z7,$X7,$Y7)),0) -> 0 | AL7: =IF(H7=$AB7,(IF(H7=$Z7,$X7,$Y7)),0) -> 8 | AM7: =IF(I7=$AB7,(IF(I7=$Z7,$X7,$Y7)),0) -> 0 | AN7: =IF(J7=$AB7,(IF(J7=$Z7,$X7,$Y7)),0) -> 0 | AO7: =IF(K7=$AB7,(IF(K7=$Z7,$X7,$Y7)),0) -> 0 | AP7: =IF(L7=$AB7,(IF(L7=$Z7,$X7,$Y7)),0) -> 0 | ... AX7: =IF(T7=$AB7,(IF(T7=$Z7,$X7,$Y7)),0) -> 8 | AZ7: =IF(V7=$AB7,(IF(V7=$Z7,$X7,$Y7)),0) -> 8 | BB7: E28 | BU7: =CONCATENATE(AZ$1,"!",$BB7) -> Master!E28 | BW7: B26 | BX7: B30 | BZ7: =CONCATENATE(Z$1,"!",$BW7) -> Master!B26 | CA7: =CONCATENATE(AA$1,"!",$BX7) -> Master!B30 | CB7: =CONCATENATE(AB$1,"!",$BB7) -> Master!E28
A8: 2 Oklahoma | B8: 10 | C8: E5 | D8: =OFFSET($F8,0,$D$67) -> 2 Michigan State | E8: 2 Michigan State | F8: 2 Michigan State | G8: 2 Michigan State | H8: 2 Michigan State | I8: 2 Michigan State | J8: 2 Michigan State | K8: 2 Michigan State | L8: 2 Michigan State | M8: 2 Michigan State | N8: 2 Michigan State | O8: 2 Michigan State | P8: 2 Michigan State | Q8: 2 Michigan State | R8: 2 Michigan State | S8: 2 Michigan State | T8: 2 Michigan State | V8: =INDIRECT(BU8) -> 2 Michigan State | X8: =IF($AG$1=3,AF8*AD8,IF($AG$1=2,AF8+AD8,IF($AG$1=4,AF8,$AG8-($AG8*COUNTIF($F8:$U8,$Z8)/$X$1)))) -> 0 | Y8: =IF($AG$1=3,AF8*AE8,IF($AG$1=2,AF8+AE8,IF($AG$1=4,AF8,$AG8-($AG8*COUNTIF($F8:$U8,$AA8)/$X$1)))) -> 15 | Z8: =INDIRECT(BZ8) -> 2 Michigan State | AA8: =INDIRECT(CA8) -> 15 Robert Morris | AB8: =IF(INDIRECT(CB8)=0,"",INDIRECT(CB8)) -> 2 Michigan State | AC8: =IF(AA8=0,1,IF(Z8=0,1,IF(AB8=0,1,IF(AB8="","",IF(Z8=AB8,AA8,Z8))))) -> 15 Robert Morris | AD8: =VLOOKUP(Z8,$A$1:$B$64,2) -> 10 | AE8: =VLOOKUP(AA8,$A$1:$B$64,2) -> 1 | AF8: 1 | AG8: 15 | AI8: =IF(E8=$AB8,(IF(E8=$Z8,$X8,$Y8)),0) -> 0 | AJ8: =IF(F8=$AB8,(IF(F8=$Z8,$X8,$Y8)),0) -> 0 | AK8: =IF(G8=$AB8,(IF(G8=$Z8,$X8,$Y8)),0) -> 0 | AL8: =IF(H8=$AB8,(IF(H8=$Z8,$X8,$Y8)),0) -> 0 | AM8: =IF(I8=$AB8,(IF(I8=$Z8,$X8,$Y8)),0) -> 0 | AN8: =IF(J8=$AB8,(IF(J8=$Z8,$X8,$Y8)),0) -> 0 | AO8: =IF(K8=$AB8,(IF(K8=$Z8,$X8,$Y8)),0) -> 0 | AP8: =IF(L8=$AB8,(IF(L8=$Z8,$X8,$Y8)),0) -> 0 | ... AX8: =IF(T8=$AB8,(IF(T8=$Z8,$X8,$Y8)),0) -> 0 | AZ8: =IF(V8=$AB8,(IF(V8=$Z8,$X8,$Y8)),0) -> 0 | BB8: E36 | BU8: =CONCATENATE(AZ$1,"!",$BB8) -> Master!E36 | BW8: B34 | BX8: B38 | BZ8: =CONCATENATE(Z$1,"!",$BW8) -> Master!B34 | CA8: =CONCATENATE(AA$1,"!",$BX8) -> Master!B38 | CB8: =CONCATENATE(AB$1,"!",$BB8) -> Master!E36
A9: 3 Kansas | B9: 11 | C9: E6 | D9: =OFFSET($F9,0,$D$67) -> 10 USC | E9: 7 Boston College | F9: 10 USC | G9: 7 Boston College | H9: 10 USC | I9: 10 USC | J9: 10 USC | K9: 10 USC | L9: 10 USC | M9: 10 USC | N9: 7 Boston College | O9: 10 USC | P9: 7 Boston College | Q9: 10 USC | R9: 10 USC | S9: 7 Boston College | T9: 7 Boston College | V9: =INDIRECT(BU9) -> 10 USC | X9: =IF($AG$1=3,AF9*AD9,IF($AG$1=2,AF9+AD9,IF($AG$1=4,AF9,$AG9-($AG9*COUNTIF($F9:$U9,$Z9)/$X$1)))) -> 10 | Y9: =IF($AG$1=3,AF9*AE9,IF($AG$1=2,AF9+AE9,IF($AG$1=4,AF9,$AG9-($AG9*COUNTIF($F9:$U9,$AA9)/$X$1)))) -> 5 | Z9: =INDIRECT(BZ9) -> 7 Boston College | AA9: =INDIRECT(CA9) -> 10 USC | AB9: =IF(INDIRECT(CB9)=0,"",INDIRECT(CB9)) -> 10 USC | AC9: =IF(AA9=0,1,IF(Z9=0,1,IF(AB9=0,1,IF(AB9="","",IF(Z9=AB9,AA9,Z9))))) -> 7 Boston College | AD9: =VLOOKUP(Z9,$A$1:$B$64,2) -> 15 | AE9: =VLOOKUP(AA9,$A$1:$B$64,2) -> 1 | AF9: 1 | AG9: 15 | AI9: =IF(E9=$AB9,(IF(E9=$Z9,$X9,$Y9)),0) -> 0 | AJ9: =IF(F9=$AB9,(IF(F9=$Z9,$X9,$Y9)),0) -> 5 | AK9: =IF(G9=$AB9,(IF(G9=$Z9,$X9,$Y9)),0) -> 0 | AL9: =IF(H9=$AB9,(IF(H9=$Z9,$X9,$Y9)),0) -> 5 | AM9: =IF(I9=$AB9,(IF(I9=$Z9,$X9,$Y9)),0) -> 5 | AN9: =IF(J9=$AB9,(IF(J9=$Z9,$X9,$Y9)),0) -> 5 | AO9: =IF(K9=$AB9,(IF(K9=$Z9,$X9,$Y9)),0) -> 5 | AP9: =IF(L9=$AB9,(IF(L9=$Z9,$X9,$Y9)),0) -> 5 | ... AX9: =IF(T9=$AB9,(IF(T9=$Z9,$X9,$Y9)),0) -> 0 | AZ9: =IF(V9=$AB9,(IF(V9=$Z9,$X9,$Y9)),0) -> 5 | BB9: E44 | BU9: =CONCATENATE(AZ$1,"!",$BB9) -> Master!E44 | BW9: B42 | BX9: B46 | BZ9: =CONCATENATE(Z$1,"!",$BW9) -> Master!B42 | CA9: =CONCATENATE(AA$1,"!",$BX9) -> Master!B46 | CB9: =CONCATENATE(AB$1,"!",$BB9) -> Master!E44
A10: 3 Missouri | B10: 11 | C10: E7 | D10: =OFFSET($F10,0,$D$67) -> 3 Kansas | E10: 3 Kansas | F10: 3 Kansas | G10: 3 Kansas | H10: 3 Kansas | I10: 3 Kansas | J10: 3 Kansas | K10: 3 Kansas | L10: 3 Kansas | M10: 3 Kansas | N10: 3 Kansas | O10: 3 Kansas | P10: 3 Kansas | Q10: 3 Kansas | R10: 3 Kansas | S10: 14 North Dakota State | T10: 3 Kansas | V10: =INDIRECT(BU10) -> 3 Kansas | X10: =IF($AG$1=3,AF10*AD10,IF($AG$1=2,AF10+AD10,IF($AG$1=4,AF10,$AG10-($AG10*COUNTIF($F10:$U10,$Z10)/$X$1)))) -> 1 | Y10: =IF($AG$1=3,AF10*AE10,IF($AG$1=2,AF10+AE10,IF($AG$1=4,AF10,$AG10-($AG10*COUNTIF($F10:$U10,$AA10)/$X$1)))) -> 14 | Z10: =INDIRECT(BZ10) -> 3 Kansas | AA10: =INDIRECT(CA10) -> 14 North Dakota State | AB10: =IF(INDIRECT(CB10)=0,"",INDIRECT(CB10)) -> 3 Kansas | AC10: =IF(AA10=0,1,IF(Z10=0,1,IF(AB10=0,1,IF(AB10="","",IF(Z10=AB10,AA10,Z10))))) -> 14 North Dakota State | AD10: =VLOOKUP(Z10,$A$1:$B$64,2) -> 11 | AE10: =VLOOKUP(AA10,$A$1:$B$64,2) -> 1 | AF10: 1 | AG10: 15 | AI10: =IF(E10=$AB10,(IF(E10=$Z10,$X10,$Y10)),0) -> 1 | AJ10: =IF(F10=$AB10,(IF(F10=$Z10,$X10,$Y10)),0) -> 1 | AK10: =IF(G10=$AB10,(IF(G10=$Z10,$X10,$Y10)),0) -> 1 | AL10: =IF(H10=$AB10,(IF(H10=$Z10,$X10,$Y10)),0) -> 1 | AM10: =IF(I10=$AB10,(IF(I10=$Z10,$X10,$Y10)),0) -> 1 | AN10: =IF(J10=$AB10,(IF(J10=$Z10,$X10,$Y10)),0) -> 1 | AO10: =IF(K10=$AB10,(IF(K10=$Z10,$X10,$Y10)),0) -> 1 | AP10: =IF(L10=$AB10,(IF(L10=$Z10,$X10,$Y10)),0) -> 1 | ... AX10: =IF(T10=$AB10,(IF(T10=$Z10,$X10,$Y10)),0) -> 1 | AZ10: =IF(V10=$AB10,(IF(V10=$Z10,$X10,$Y10)),0) -> 1 | BB10: E52 | BU10: =CONCATENATE(AZ$1,"!",$BB10) -> Master!E52 | BW10: B50 | BX10: B54 | BZ10: =CONCATENATE(Z$1,"!",$BW10) -> Master!B50 | CA10: =CONCATENATE(AA$1,"!",$BX10) -> Master!B54 | CB10: =CONCATENATE(AB$1,"!",$BB10) -> Master!E52
A11: 3 Syracuse | B11: 11 | C11: E8 | D11: =OFFSET($F11,0,$D$67) -> 6 West Virginia | E11: 6 West Virginia | F11: 6 West Virginia | G11: 6 West Virginia | H11: 6 West Virginia | I11: 6 West Virginia | J11: 11 Dayton | K11: 11 Dayton | L11: 6 West Virginia | M11: 6 West Virginia | N11: 6 West Virginia | O11: 6 West Virginia | P11: 6 West Virginia | Q11: 6 West Virginia | R11: 11 Dayton | S11: 6 West Virginia | T11: 6 West Virginia | V11: =INDIRECT(BU11) -> 11 Dayton | X11: =IF($AG$1=3,AF11*AD11,IF($AG$1=2,AF11+AD11,IF($AG$1=4,AF11,$AG11-($AG11*COUNTIF($F11:$U11,$Z11)/$X$1)))) -> 3 | Y11: =IF($AG$1=3,AF11*AE11,IF($AG$1=2,AF11+AE11,IF($AG$1=4,AF11,$AG11-($AG11*COUNTIF($F11:$U11,$AA11)/$X$1)))) -> 12 | Z11: =INDIRECT(BZ11) -> 6 West Virginia | AA11: =INDIRECT(CA11) -> 11 Dayton | AB11: =IF(INDIRECT(CB11)=0,"",INDIRECT(CB11)) -> 11 Dayton | AC11: =IF(AA11=0,1,IF(Z11=0,1,IF(AB11=0,1,IF(AB11="","",IF(Z11=AB11,AA11,Z11))))) -> 6 West Virginia | AD11: =VLOOKUP(Z11,$A$1:$B$64,2) -> 14 | AE11: =VLOOKUP(AA11,$A$1:$B$64,2) -> 1 | AF11: 1 | AG11: 15 | AI11: =IF(E11=$AB11,(IF(E11=$Z11,$X11,$Y11)),0) -> 0 | AJ11: =IF(F11=$AB11,(IF(F11=$Z11,$X11,$Y11)),0) -> 0 | AK11: =IF(G11=$AB11,(IF(G11=$Z11,$X11,$Y11)),0) -> 0 | AL11: =IF(H11=$AB11,(IF(H11=$Z11,$X11,$Y11)),0) -> 0 | AM11: =IF(I11=$AB11,(IF(I11=$Z11,$X11,$Y11)),0) -> 0 | AN11: =IF(J11=$AB11,(IF(J11=$Z11,$X11,$Y11)),0) -> 12 | AO11: =IF(K11=$AB11,(IF(K11=$Z11,$X11,$Y11)),0) -> 12 | AP11: =IF(L11=$AB11,(IF(L11=$Z11,$X11,$Y11)),0) -> 0 | ... AX11: =IF(T11=$AB11,(IF(T11=$Z11,$X11,$Y11)),0) -> 0 | AZ11: =IF(V11=$AB11,(IF(V11=$Z11,$X11,$Y11)),0) -> 12 | BB11: E60 | BU11: =CONCATENATE(AZ$1,"!",$BB11) -> Master!E60 | BW11: B58 | BX11: B62 | BZ11: =CONCATENATE(Z$1,"!",$BW11) -> Master!B58 | CA11: =CONCATENATE(AA$1,"!",$BX11) -> Master!B62 | CB11: =CONCATENATE(AB$1,"!",$BB11) -> Master!E60
A12: 3 Villanova | B12: 11 | C12: W1 | D12: =OFFSET($F12,0,$D$67) -> 1 Connecticut | E12: 1 Connecticut | F12: 1 Connecticut | G12: 1 Connecticut | H12: 1 Connecticut | I12: 1 Connecticut | J12: 1 Connecticut | K12: 1 Connecticut | L12: 1 Connecticut | M12: 1 Connecticut | N12: 1 Connecticut | O12: 1 Connecticut | P12: 1 Connecticut | Q12: 1 Connecticut | R12: 1 Connecticut | S12: 1 Connecticut | T12: 1 Connecticut | V12: =INDIRECT(BU12) -> 1 Connecticut | X12: =IF($AG$1=3,AF12*AD12,IF($AG$1=2,AF12+AD12,IF($AG$1=4,AF12,$AG12-($AG12*COUNTIF($F12:$U12,$Z12)/$X$1)))) -> 0 | Y12: =IF($AG$1=3,AF12*AE12,IF($AG$1=2,AF12+AE12,IF($AG$1=4,AF12,$AG12-($AG12*COUNTIF($F12:$U12,$AA12)/$X$1)))) -> 15 | Z12: =INDIRECT(BZ12) -> 1 Connecticut | AA12: =INDIRECT(CA12) -> 16 Chattanooga | AB12: =IF(INDIRECT(CB12)=0,"",INDIRECT(CB12)) -> 1 Connecticut | AC12: =IF(AA12=0,1,IF(Z12=0,1,IF(AB12=0,1,IF(AB12="","",IF(Z12=AB12,AA12,Z12))))) -> 16 Chattanooga | AD12: =VLOOKUP(Z12,$A$1:$B$64,2) -> 1 | AE12: =VLOOKUP(AA12,$A$1:$B$64,2) -> 1 | AF12: 1 | AG12: 15 | AI12: =IF(E12=$AB12,(IF(E12=$Z12,$X12,$Y12)),0) -> 0 | AJ12: =IF(F12=$AB12,(IF(F12=$Z12,$X12,$Y12)),0) -> 0 | AK12: =IF(G12=$AB12,(IF(G12=$Z12,$X12,$Y12)),0) -> 0 | AL12: =IF(H12=$AB12,(IF(H12=$Z12,$X12,$Y12)),0) -> 0 | AM12: =IF(I12=$AB12,(IF(I12=$Z12,$X12,$Y12)),0) -> 0 | AN12: =IF(J12=$AB12,(IF(J12=$Z12,$X12,$Y12)),0) -> 0 | AO12: =IF(K12=$AB12,(IF(K12=$Z12,$X12,$Y12)),0) -> 0 | AP12: =IF(L12=$AB12,(IF(L12=$Z12,$X12,$Y12)),0) -> 0 | ... AX12: =IF(T12=$AB12,(IF(T12=$Z12,$X12,$Y12)),0) -> 0 | AZ12: =IF(V12=$AB12,(IF(V12=$Z12,$X12,$Y12)),0) -> 0 | BB12: E70 | BU12: =CONCATENATE(AZ$1,"!",$BB12) -> Master!E70 | BW12: B68 | BX12: B72 | BZ12: =CONCATENATE(Z$1,"!",$BW12) -> Master!B68 | CA12: =CONCATENATE(AA$1,"!",$BX12) -> Master!B72 | CB12: =CONCATENATE(AB$1,"!",$BB12) -> Master!E70
A13: 4 Gonzaga | B13: 12 | C13: W2 | D13: =OFFSET($F13,0,$D$67) -> 9 Texas A&M | E13: 8 BYU | F13: 9 Texas A&M | G13: 9 Texas A&M | H13: 9 Texas A&M | I13: 9 Texas A&M | J13: 9 Texas A&M | K13: 9 Texas A&M | L13: 9 Texas A&M | M13: 9 Texas A&M | N13: 8 BYU | O13: 9 Texas A&M | P13: 8 BYU | Q13: 9 Texas A&M | R13: 9 Texas A&M | S13: 8 BYU | T13: 9 Texas A&M | V13: =INDIRECT(BU13) -> 9 Texas A&M | X13: =IF($AG$1=3,AF13*AD13,IF($AG$1=2,AF13+AD13,IF($AG$1=4,AF13,$AG13-($AG13*COUNTIF($F13:$U13,$Z13)/$X$1)))) -> 12 | Y13: =IF($AG$1=3,AF13*AE13,IF($AG$1=2,AF13+AE13,IF($AG$1=4,AF13,$AG13-($AG13*COUNTIF($F13:$U13,$AA13)/$X$1)))) -> 3 | Z13: =INDIRECT(BZ13) -> 8 BYU | AA13: =INDIRECT(CA13) -> 9 Texas A&M | AB13: =IF(INDIRECT(CB13)=0,"",INDIRECT(CB13)) -> 9 Texas A&M | AC13: =IF(AA13=0,1,IF(Z13=0,1,IF(AB13=0,1,IF(AB13="","",IF(Z13=AB13,AA13,Z13))))) -> 8 BYU | AD13: =VLOOKUP(Z13,$A$1:$B$64,2) -> 16 | AE13: =VLOOKUP(AA13,$A$1:$B$64,2) -> 9 | AF13: 1 | AG13: 15 | AI13: =IF(E13=$AB13,(IF(E13=$Z13,$X13,$Y13)),0) -> 0 | AJ13: =IF(F13=$AB13,(IF(F13=$Z13,$X13,$Y13)),0) -> 3 | AK13: =IF(G13=$AB13,(IF(G13=$Z13,$X13,$Y13)),0) -> 3 | AL13: =IF(H13=$AB13,(IF(H13=$Z13,$X13,$Y13)),0) -> 3 | AM13: =IF(I13=$AB13,(IF(I13=$Z13,$X13,$Y13)),0) -> 3 | AN13: =IF(J13=$AB13,(IF(J13=$Z13,$X13,$Y13)),0) -> 3 | AO13: =IF(K13=$AB13,(IF(K13=$Z13,$X13,$Y13)),0) -> 3 | AP13: =IF(L13=$AB13,(IF(L13=$Z13,$X13,$Y13)),0) -> 3 | ... AX13: =IF(T13=$AB13,(IF(T13=$Z13,$X13,$Y13)),0) -> 3 | AZ13: =IF(V13=$AB13,(IF(V13=$Z13,$X13,$Y13)),0) -> 3 | BB13: E78 | BU13: =CONCATENATE(AZ$1,"!",$BB13) -> Master!E78 | BW13: B76 | BX13: B80 | BZ13: =CONCATENATE(Z$1,"!",$BW13) -> Master!B76 | CA13: =CONCATENATE(AA$1,"!",$BX13) -> Master!B80 | CB13: =CONCATENATE(AB$1,"!",$BB13) -> Master!E78
A14: 4 Wake Forest | B14: 12 | C14: W3 | D14: =OFFSET($F14,0,$D$67) -> 5 Purdue | E14: 5 Purdue | F14: 5 Purdue | G14: 5 Purdue | H14: 5 Purdue | I14: 5 Purdue | J14: 5 Purdue | K14: 5 Purdue | L14: 5 Purdue | M14: 5 Purdue | N14: 5 Purdue | O14: 5 Purdue | P14: 5 Purdue | Q14: 5 Purdue | R14: 5 Purdue | S14: 5 Purdue | T14: 5 Purdue | V14: =INDIRECT(BU14) -> 5 Purdue | X14: =IF($AG$1=3,AF14*AD14,IF($AG$1=2,AF14+AD14,IF($AG$1=4,AF14,$AG14-($AG14*COUNTIF($F14:$U14,$Z14)/$X$1)))) -> 0 | Y14: =IF($AG$1=3,AF14*AE14,IF($AG$1=2,AF14+AE14,IF($AG$1=4,AF14,$AG14-($AG14*COUNTIF($F14:$U14,$AA14)/$X$1)))) -> 15 | Z14: =INDIRECT(BZ14) -> 5 Purdue | AA14: =INDIRECT(CA14) -> 12 Northern Iowa | AB14: =IF(INDIRECT(CB14)=0,"",INDIRECT(CB14)) -> 5 Purdue | AC14: =IF(AA14=0,1,IF(Z14=0,1,IF(AB14=0,1,IF(AB14="","",IF(Z14=AB14,AA14,Z14))))) -> 12 Northern Iowa | AD14: =VLOOKUP(Z14,$A$1:$B$64,2) -> 13 | AE14: =VLOOKUP(AA14,$A$1:$B$64,2) -> 1 | AF14: 1 | AG14: 15 | AI14: =IF(E14=$AB14,(IF(E14=$Z14,$X14,$Y14)),0) -> 0 | AJ14: =IF(F14=$AB14,(IF(F14=$Z14,$X14,$Y14)),0) -> 0 | AK14: =IF(G14=$AB14,(IF(G14=$Z14,$X14,$Y14)),0) -> 0 | AL14: =IF(H14=$AB14,(IF(H14=$Z14,$X14,$Y14)),0) -> 0 | AM14: =IF(I14=$AB14,(IF(I14=$Z14,$X14,$Y14)),0) -> 0 | AN14: =IF(J14=$AB14,(IF(J14=$Z14,$X14,$Y14)),0) -> 0 | AO14: =IF(K14=$AB14,(IF(K14=$Z14,$X14,$Y14)),0) -> 0 | AP14: =IF(L14=$AB14,(IF(L14=$Z14,$X14,$Y14)),0) -> 0 | ... AX14: =IF(T14=$AB14,(IF(T14=$Z14,$X14,$Y14)),0) -> 0 | AZ14: =IF(V14=$AB14,(IF(V14=$Z14,$X14,$Y14)),0) -> 0 | BB14: E86 | BU14: =CONCATENATE(AZ$1,"!",$BB14) -> Master!E86 | BW14: B84 | BX14: B88 | BZ14: =CONCATENATE(Z$1,"!",$BW14) -> Master!B84 | CA14: =CONCATENATE(AA$1,"!",$BX14) -> Master!B88 | CB14: =CONCATENATE(AB$1,"!",$BB14) -> Master!E86
A15: 4 Washington | B15: 12 | C15: W4 | D15: =OFFSET($F15,0,$D$67) -> 4 Washington | E15: 4 Washington | F15: 4 Washington | G15: 4 Washington | H15: 4 Washington | I15: 4 Washington | J15: 4 Washington | K15: 4 Washington | L15: 4 Washington | M15: 4 Washington | N15: 4 Washington | O15: 4 Washington | P15: 13 Mississippi State | Q15: 4 Washington | R15: 4 Washington | S15: 4 Washington | T15: 4 Washington | V15: =INDIRECT(BU15) -> 4 Washington | X15: =IF($AG$1=3,AF15*AD15,IF($AG$1=2,AF15+AD15,IF($AG$1=4,AF15,$AG15-($AG15*COUNTIF($F15:$U15,$Z15)/$X$1)))) -> 1 | Y15: =IF($AG$1=3,AF15*AE15,IF($AG$1=2,AF15+AE15,IF($AG$1=4,AF15,$AG15-($AG15*COUNTIF($F15:$U15,$AA15)/$X$1)))) -> 14 | Z15: =INDIRECT(BZ15) -> 4 Washington | AA15: =INDIRECT(CA15) -> 13 Mississippi State | AB15: =IF(INDIRECT(CB15)=0,"",INDIRECT(CB15)) -> 4 Washington | AC15: =IF(AA15=0,1,IF(Z15=0,1,IF(AB15=0,1,IF(AB15="","",IF(Z15=AB15,AA15,Z15))))) -> 13 Mississippi State | AD15: =VLOOKUP(Z15,$A$1:$B$64,2) -> 12 | AE15: =VLOOKUP(AA15,$A$1:$B$64,2) -> 1 | AF15: 1 | AG15: 15 | AI15: =IF(E15=$AB15,(IF(E15=$Z15,$X15,$Y15)),0) -> 1 | AJ15: =IF(F15=$AB15,(IF(F15=$Z15,$X15,$Y15)),0) -> 1 | AK15: =IF(G15=$AB15,(IF(G15=$Z15,$X15,$Y15)),0) -> 1 | AL15: =IF(H15=$AB15,(IF(H15=$Z15,$X15,$Y15)),0) -> 1 | AM15: =IF(I15=$AB15,(IF(I15=$Z15,$X15,$Y15)),0) -> 1 | AN15: =IF(J15=$AB15,(IF(J15=$Z15,$X15,$Y15)),0) -> 1 | AO15: =IF(K15=$AB15,(IF(K15=$Z15,$X15,$Y15)),0) -> 1 | AP15: =IF(L15=$AB15,(IF(L15=$Z15,$X15,$Y15)),0) -> 1 | ... AX15: =IF(T15=$AB15,(IF(T15=$Z15,$X15,$Y15)),0) -> 1 | AZ15: =IF(V15=$AB15,(IF(V15=$Z15,$X15,$Y15)),0) -> 1 | BB15: E94 | BU15: =CONCATENATE(AZ$1,"!",$BB15) -> Master!E94 | BW15: B92 | BX15: B96 | BZ15: =CONCATENATE(Z$1,"!",$BW15) -> Master!B92 | CA15: =CONCATENATE(AA$1,"!",$BX15) -> Master!B96 | CB15: =CONCATENATE(AB$1,"!",$BB15) -> Master!E94
A16: 4 Xavier | B16: 12 | C16: W5 | D16: =OFFSET($F16,0,$D$67) -> 2 Memphis | E16: 2 Memphis | F16: 2 Memphis | G16: 2 Memphis | H16: 2 Memphis | I16: 2 Memphis | J16: 2 Memphis | K16: 2 Memphis | L16: 2 Memphis | M16: 2 Memphis | N16: 2 Memphis | O16: 2 Memphis | P16: 2 Memphis | Q16: 2 Memphis | R16: 2 Memphis | S16: 2 Memphis | T16: 2 Memphis | V16: =INDIRECT(BU16) -> 2 Memphis | X16: =IF($AG$1=3,AF16*AD16,IF($AG$1=2,AF16+AD16,IF($AG$1=4,AF16,$AG16-($AG16*COUNTIF($F16:$U16,$Z16)/$X$1)))) -> 0 | Y16: =IF($AG$1=3,AF16*AE16,IF($AG$1=2,AF16+AE16,IF($AG$1=4,AF16,$AG16-($AG16*COUNTIF($F16:$U16,$AA16)/$X$1)))) -> 15 | Z16: =INDIRECT(BZ16) -> 2 Memphis | AA16: =INDIRECT(CA16) -> 15 Cal State-Northridge | AB16: =IF(INDIRECT(CB16)=0,"",INDIRECT(CB16)) -> 2 Memphis | AC16: =IF(AA16=0,1,IF(Z16=0,1,IF(AB16=0,1,IF(AB16="","",IF(Z16=AB16,AA16,Z16))))) -> 15 Cal State-Northridge | AD16: =VLOOKUP(Z16,$A$1:$B$64,2) -> 10 | AE16: =VLOOKUP(AA16,$A$1:$B$64,2) -> 1 | AF16: 1 | AG16: 15 | AI16: =IF(E16=$AB16,(IF(E16=$Z16,$X16,$Y16)),0) -> 0 | AJ16: =IF(F16=$AB16,(IF(F16=$Z16,$X16,$Y16)),0) -> 0 | AK16: =IF(G16=$AB16,(IF(G16=$Z16,$X16,$Y16)),0) -> 0 | AL16: =IF(H16=$AB16,(IF(H16=$Z16,$X16,$Y16)),0) -> 0 | AM16: =IF(I16=$AB16,(IF(I16=$Z16,$X16,$Y16)),0) -> 0 | AN16: =IF(J16=$AB16,(IF(J16=$Z16,$X16,$Y16)),0) -> 0 | AO16: =IF(K16=$AB16,(IF(K16=$Z16,$X16,$Y16)),0) -> 0 | AP16: =IF(L16=$AB16,(IF(L16=$Z16,$X16,$Y16)),0) -> 0 | ... AX16: =IF(T16=$AB16,(IF(T16=$Z16,$X16,$Y16)),0) -> 0 | AZ16: =IF(V16=$AB16,(IF(V16=$Z16,$X16,$Y16)),0) -> 0 | BB16: E102 | BU16: =CONCATENATE(AZ$1,"!",$BB16) -> Master!E102 | BW16: B100 | BX16: B104 | BZ16: =CONCATENATE(Z$1,"!",$BW16) -> Master!B100 | CA16: =CONCATENATE(AA$1,"!",$BX16) -> Master!B104 | CB16: =CONCATENATE(AB$1,"!",$BB16) -> Master!E102
... A64: 16 Radford | B64: 9 | C64: EW1 | D64: =OFFSET($F64,0,$D$67) -> 1 Louisville | E64: 1 Louisville | F64: 1 Louisville | G64: 1 Connecticut | H64: 2 Michigan State | I64: 1 Louisville | J64: 3 Kansas | K64: 7 California | L64: 1 Louisville | M64: 1 Louisville | N64: 1 Louisville | O64: 1 Connecticut | P64: 1 Louisville | Q64: 1 Louisville | R64: 2 Memphis | S64: 1 Connecticut | T64: 1 Louisville | V64: =INDIRECT(BU64) -> 2 Michigan State | X64: =IF($AG$1=3,AF64*AD64,IF($AG$1=2,AF64+AD64,IF($AG$1=4,AF64,$AG64-($AG64*COUNTIF($F64:$U64,$Z64)/$X$1)))) -> 42 | Y64: =IF($AG$1=3,AF64*AE64,IF($AG$1=2,AF64+AE64,IF($AG$1=4,AF64,$AG64-($AG64*COUNTIF($F64:$U64,$AA64)/$X$1)))) -> 36 | Z64: =INDIRECT(BZ64) -> 2 Michigan State | AA64: =INDIRECT(CA64) -> 1 Connecticut | AB64: =IF(INDIRECT(CB64)=0,"",INDIRECT(CB64)) -> 2 Michigan State | AC64: =IF(AA64=0,1,IF(Z64=0,1,IF(AB64=0,1,IF(AB64="","",IF(Z64=AB64,AA64,Z64))))) -> 1 Connecticut | AD64: =VLOOKUP(Z64,$A$1:$B$64,2) -> 10 | AE64: =VLOOKUP(AA64,$A$1:$B$64,2) -> 1 | AF64: 3 | AG64: 45 | AI64: =IF(E64=$AB64,(IF(E64=$Z64,$X64,$Y64)),0) -> 0 | AJ64: =IF(F64=$AB64,(IF(F64=$Z64,$X64,$Y64)),0) -> 0 | AK64: =IF(G64=$AB64,(IF(G64=$Z64,$X64,$Y64)),0) -> 0 | AL64: =IF(H64=$AB64,(IF(H64=$Z64,$X64,$Y64)),0) -> 42 | AM64: =IF(I64=$AB64,(IF(I64=$Z64,$X64,$Y64)),0) -> 0 | AN64: =IF(J64=$AB64,(IF(J64=$Z64,$X64,$Y64)),0) -> 0 | AO64: =IF(K64=$AB64,(IF(K64=$Z64,$X64,$Y64)),0) -> 0 | AP64: =IF(L64=$AB64,(IF(L64=$Z64,$X64,$Y64)),0) -> 0 | ... AX64: =IF(T64=$AB64,(IF(T64=$Z64,$X64,$Y64)),0) -> 0 | AZ64: =IF(V64=$AB64,(IF(V64=$Z64,$X64,$Y64)),0) -> 42 | BB64: Q48 | BU64: =CONCATENATE(AZ$1,"!",$BB64) -> Master!Q48 | BW64: N32 | BX64: N98 | BZ64: =CONCATENATE(Z$1,"!",$BW64) -> Master!N32 | CA64: =CONCATENATE(AA$1,"!",$BX64) -> Master!N98 | CB64: =CONCATENATE(AB$1,"!",$BB64) -> Master!Q48
C65: SMW1 | D65: =OFFSET($F65,0,$D$67) -> 2 Oklahoma | E65: 1 Pittsburgh | F65: 2 Oklahoma | G65: 1 Pittsburgh | H65: 1 North Carolina | I65: 1 Pittsburgh | J65: 1 North Carolina | K65: 6 Arizona State | L65: 1 North Carolina | M65: 1 Pittsburgh | N65: 1 Pittsburgh | O65: 1 North Carolina | P65: 1 North Carolina | Q65: 1 North Carolina | R65: 1 North Carolina | S65: 2 Duke | T65: 1 North Carolina | V65: =INDIRECT(BU65) -> 1 North Carolina | X65: =IF($AG$1=3,AF65*AD65,IF($AG$1=2,AF65+AD65,IF($AG$1=4,AF65,$AG65-($AG65*COUNTIF($F65:$U65,$Z65)/$X$1)))) -> 45 | Y65: =IF($AG$1=3,AF65*AE65,IF($AG$1=2,AF65+AE65,IF($AG$1=4,AF65,$AG65-($AG65*COUNTIF($F65:$U65,$AA65)/$X$1)))) -> 21 | Z65: =INDIRECT(BZ65) -> 3 Villanova | AA65: =INDIRECT(CA65) -> 1 North Carolina | AB65: =IF(INDIRECT(CB65)=0,"",INDIRECT(CB65)) -> 1 North Carolina | AC65: =IF(AA65=0,1,IF(Z65=0,1,IF(AB65=0,1,IF(AB65="","",IF(Z65=AB65,AA65,Z65))))) -> 3 Villanova | AD65: =VLOOKUP(Z65,$A$1:$B$64,2) -> 11 | AE65: =VLOOKUP(AA65,$A$1:$B$64,2) -> 1 | AF65: 3 | AG65: 45 | AI65: =IF(E65=$AB65,(IF(E65=$Z65,$X65,$Y65)),0) -> 0 | AJ65: =IF(F65=$AB65,(IF(F65=$Z65,$X65,$Y65)),0) -> 0 | AK65: =IF(G65=$AB65,(IF(G65=$Z65,$X65,$Y65)),0) -> 0 | AL65: =IF(H65=$AB65,(IF(H65=$Z65,$X65,$Y65)),0) -> 21 | AM65: =IF(I65=$AB65,(IF(I65=$Z65,$X65,$Y65)),0) -> 0 | AN65: =IF(J65=$AB65,(IF(J65=$Z65,$X65,$Y65)),0) -> 21 | AO65: =IF(K65=$AB65,(IF(K65=$Z65,$X65,$Y65)),0) -> 0 | AP65: =IF(L65=$AB65,(IF(L65=$Z65,$X65,$Y65)),0) -> 21 | ... AX65: =IF(T65=$AB65,(IF(T65=$Z65,$X65,$Y65)),0) -> 21 | AZ65: =IF(V65=$AB65,(IF(V65=$Z65,$X65,$Y65)),0) -> 21 | BB65: Q82 | BU65: =CONCATENATE(AZ$1,"!",$BB65) -> Master!Q82 | BW65: T32 | BX65: T98 | BZ65: =CONCATENATE(Z$1,"!",$BW65) -> Master!T32 | CA65: =CONCATENATE(AA$1,"!",$BX65) -> Master!T98 | CB65: =CONCATENATE(AB$1,"!",$BB65) -> Master!Q82
C66: FINAL | D66: =OFFSET($F66,0,$D$67) -> 1 Louisville | E66: 1 Louisville | F66: 1 Louisville | G66: 1 Connecticut | H66: 1 North Carolina | I66: 1 Louisville | J66: 3 Kansas | K66: 6 Arizona State | L66: 1 Louisville | M66: 1 Pittsburgh | N66: 1 Louisville | O66: 1 North Carolina | P66: 1 North Carolina | Q66: 1 North Carolina | R66: 2 Memphis | S66: 2 Duke | T66: 1 North Carolina | V66: =INDIRECT(BU66) -> 0 | X66: =IF($AG$1=3,AF66*AD66,IF($AG$1=2,AF66+AD66,IF($AG$1=4,AF66,$AG66-($AG66*COUNTIF($F66:$U66,$Z66)/$X$1)))) -> 52.5 | Y66: =IF($AG$1=3,AF66*AE66,IF($AG$1=2,AF66+AE66,IF($AG$1=4,AF66,$AG66-($AG66*COUNTIF($F66:$U66,$AA66)/$X$1)))) -> 35 | Z66: =INDIRECT(BZ66) -> 2 Michigan State | AA66: =INDIRECT(CA66) -> 1 North Carolina | AB66: =IF(INDIRECT(CB66)=0,"",INDIRECT(CB66)) | AC66: =IF(AA66=0,1,IF(Z66=0,1,IF(AB66=0,1,IF(AB66="","",IF(Z66=AB66,AA66,Z66))))) | AD66: =VLOOKUP(Z66,$A$1:$B$64,2) -> 10 | AE66: =VLOOKUP(AA66,$A$1:$B$64,2) -> 1 | AF66: 3.5 | AG66: 52.5 | AI66: =IF(E66=$AB66,(IF(E66=$Z66,$X66,$Y66)),0) -> 0 | AJ66: =IF(F66=$AB66,(IF(F66=$Z66,$X66,$Y66)),0) -> 0 | AK66: =IF(G66=$AB66,(IF(G66=$Z66,$X66,$Y66)),0) -> 0 | AL66: =IF(H66=$AB66,(IF(H66=$Z66,$X66,$Y66)),0) -> 0 | AM66: =IF(I66=$AB66,(IF(I66=$Z66,$X66,$Y66)),0) -> 0 | AN66: =IF(J66=$AB66,(IF(J66=$Z66,$X66,$Y66)),0) -> 0 | AO66: =IF(K66=$AB66,(IF(K66=$Z66,$X66,$Y66)),0) -> 0 | AP66: =IF(L66=$AB66,(IF(L66=$Z66,$X66,$Y66)),0) -> 0 | ... AX66: =IF(T66=$AB66,(IF(T66=$Z66,$X66,$Y66)),0) -> 0 | AZ66: =IF(V66=$AB66,(IF(V66=$Z66,$X66,$Y66)),0) -> 0 | BB66: Q64 | BU66: =CONCATENATE(AZ$1,"!",$BB66) -> Master!Q64 | BW66: Q48 | BX66: Q82 | BZ66: =CONCATENATE(Z$1,"!",$BW66) -> Master!Q48 | CA66: =CONCATENATE(AA$1,"!",$BX66) -> Master!Q82 | CB66: =CONCATENATE(AB$1,"!",$BB66) -> Master!Q64
AG67: Totals | AI67: =SUM(AI4:AI66) -> 182.5 | AJ67: =SUM(AJ4:AJ66) -> 166 | AK67: =SUM(AK4:AK66) -> 146.5 | AL67: =SUM(AL4:AL66) -> 243.5 | AM67: =SUM(AM4:AM66) -> 142.5 | AN67: =SUM(AN4:AN66) -> 175 | AO67: =SUM(AO4:AO66) -> 71.5 | AP67: =SUM(AP4:AP66) -> 164 | ... AX67: =SUM(AX4:AX66) -> 255.5 | AZ67: =SUM(AZ4:AZ66) -> 474.5
AG68: Round 1 | AI68: =SUM(AI4:AI35) -> 29 | AJ68: =SUM(AJ4:AJ35) -> 52 | AK68: =SUM(AK4:AK35) -> 39 | AL68: =SUM(AL4:AL35) -> 39 | AM68: =SUM(AM4:AM35) -> 62 | AN68: =SUM(AN4:AN35) -> 40 | AO68: =SUM(AO4:AO35) -> 61 | AP68: =SUM(AP4:AP35) -> 51 | ... AX68: =SUM(AX4:AX35) -> 61 | AZ68: =SUM(AZ4:AZ35) -> 125
AG69: Round 2 | AI69: =SUM(AI36:AI51) -> 75 | AJ69: =SUM(AJ36:AJ51) -> 66 | AK69: =SUM(AK36:AK51) -> 45 | AL69: =SUM(AL36:AL51) -> 54 | AM69: =SUM(AM36:AM51) -> 39 | AN69: =SUM(AN36:AN51) -> 52.5 | AO69: =SUM(AO36:AO51) -> 10.5 | AP69: =SUM(AP36:AP51) -> 34.5 | ... AX69: =SUM(AX36:AX51) -> 75 | AZ69: =SUM(AZ36:AZ51) -> 94.5
AG70: Round 3 | AI70: =SUM(AI52:AI59) -> 46 | AJ70: =SUM(AJ52:AJ59) -> 48 | AK70: =SUM(AK52:AK59) -> 30 | AL70: =SUM(AL52:AL59) -> 50 | AM70: =SUM(AM52:AM59) -> 34 | AN70: =SUM(AN52:AN59) -> 54 | AO70: =SUM(AO52:AO59) -> 0 | AP70: =SUM(AP52:AP59) -> 50 | ... AX70: =SUM(AX52:AX59) -> 66 | AZ70: =SUM(AZ52:AZ59) -> 92
AG71: Round 4 | AI71: =SUM(AI60:AI63) -> 32.5 | AJ71: =SUM(AJ60:AJ63) -> 0 | AK71: =SUM(AK60:AK63) -> 32.5 | AL71: =SUM(AL60:AL63) -> 37.5 | AM71: =SUM(AM60:AM63) -> 7.5 | AN71: =SUM(AN60:AN63) -> 7.5 | AO71: =SUM(AO60:AO63) -> 0 | AP71: =SUM(AP60:AP63) -> 7.5 | ... AX71: =SUM(AX60:AX63) -> 32.5 | AZ71: =SUM(AZ60:AZ63) -> 100
AG72: Round 5 | AI72: =SUM(AI64:AI65) -> 0 | AJ72: =SUM(AJ64:AJ65) -> 0 | AK72: =SUM(AK64:AK65) -> 0 | AL72: =SUM(AL64:AL65) -> 63 | AM72: =SUM(AM64:AM65) -> 0 | AN72: =SUM(AN64:AN65) -> 21 | AO72: =SUM(AO64:AO65) -> 0 | AP72: =SUM(AP64:AP65) -> 21 | ... AX72: =SUM(AX64:AX65) -> 21 | AZ72: =SUM(AZ64:AZ65) -> 63
AG73: Round 6 | AI73: =AI66 -> 0 | AJ73: =AJ66 -> 0 | AK73: =AK66 -> 0 | AL73: =AL66 -> 0 | AM73: =AM66 -> 0 | AN73: =AN66 -> 0 | AO73: =AO66 -> 0 | AP73: =AP66 -> 0 | ... AX73: =AX66 -> 0 | AZ73: =AZ66 -> 0
AG74: Points Left For Rd 2-6 | AI74: =SUM(AI116:AI120) -> 772.5 | AJ74: =SUM(AJ116:AJ120) -> 812 | AK74: =SUM(AK116:AK120) -> 742 | AL74: =SUM(AL116:AL120) -> 739.5 | AM74: =SUM(AM116:AM120) -> 684 | AN74: =SUM(AN116:AN120) -> 674 | AO74: =SUM(AO116:AO120) -> 459 | AP74: =SUM(AP116:AP120) -> 563 | ... AX74: =SUM(AX116:AX120) -> 281 | AZ74: =SUM(AZ116:AZ120) -> 823.5
AG75: Points Left For Rd 3-6 | AI75: =SUM(AI142:AI145) -> 511 | AJ75: =SUM(AJ142:AJ145) -> 283.5 | AK75: =SUM(AK142:AK145) -> 224 | AL75: =SUM(AL142:AL145) -> 285.5 | AM75: =SUM(AM142:AM145) -> 204.5 | AN75: =SUM(AN142:AN145) -> 289 | AO75: =SUM(AO142:AO145) -> 56.5 | AP75: =SUM(AP142:AP145) -> 165 | ... AX75: =SUM(AX142:AX145) -> 122.5 | AZ75: =SUM(AZ142:AZ145) -> 505.5
AG76: Points Left For Rd 4-6 | AI76: =SUM(AI159:AI161) -> 281 | AJ76: =SUM(AJ159:AJ161) -> 159 | AK76: =SUM(AK159:AK161) -> 168 | AL76: =SUM(AL159:AL161) -> 159.5 | AM76: =SUM(AM159:AM161) -> 120 | AN76: =SUM(AN159:AN161) -> 33 | AO76: =SUM(AO159:AO161) -> 0 | AP76: =SUM(AP159:AP161) -> 94.5 | ... AX76: =SUM(AX159:AX161) -> 94.5 | AZ76: =SUM(AZ159:AZ161) -> 287.5
AG77: Points Left For Rd 5-6 | AI77: =SUM(AI171:AI172) -> 0 | AJ77: =SUM(AJ171:AJ172) -> 0 | AK77: =SUM(AK171:AK172) -> 85 | AL77: =SUM(AL171:AL172) -> 92 | AM77: =SUM(AM171:AM172) -> 0 | AN77: =SUM(AN171:AN172) -> 18 | AO77: =SUM(AO171:AO172) -> 0 | AP77: =SUM(AP171:AP172) -> 12 | ... AX77: =SUM(AX171:AX172) -> 43.5 | AZ77: =SUM(AZ171:AZ172) -> 142.5
AG78: Points Left For Rd 6 | AI78: =SUM(AI180) -> 0 | AJ78: =SUM(AJ180) -> 0 | AK78: =SUM(AK180) -> 0 | AL78: =SUM(AL180) -> 35 | AM78: =SUM(AM180) -> 0 | AN78: =SUM(AN180) -> 0 | AO78: =SUM(AO180) -> 0 | AP78: =SUM(AP180) -> 0 | ... AX78: =SUM(AX180) -> 31.5 | AZ78: =SUM(AZ180) -> 52.5
B82: 1 | C82: Round 2 | AI82: =AI2 -> HiSeeds | AJ82: =AJ2 -> AnthonyP | AK82: =AK2 -> BenC | AL82: =AL2 -> CandaceP | AM82: =AM2 -> ChrisR | AN82: =AN2 -> DanielV | AO82: =AO2 -> DavidS | AP82: =AP2 -> EricP | ... AX82: =AX2 -> ScottP | AZ82: Best Possible
B83: 1 | C83: Player | D83: Insert3 | E83: 0 | F83: 1 | G83: 2 | H83: 3 | I83: 4 | J83: 5 | K83: 6 | L83: 7 | M83: 8 | N83: 9 | O83: 10 | P83: 11 | Q83: 12 | R83: 13 | S83: 14 | T83: 15 | V83: =V3 -> 15 | X83: Favorite | Y83: Underdog | Z83: Player1 | AA83: Player2 | AB83: Winner | AC83: Loser | AD83: SeedFav | AE83: SeedUdr | AH83: Insert1 | AI83: =#REF!+1 -> #REF! | AJ83: =#REF!+1 -> #REF! | AK83: =#REF!+1 -> #REF! | AL83: =#REF!+1 -> #REF! | AM83: =#REF!+1 -> #REF! | AN83: =#REF!+1 -> #REF! | AO83: =#REF!+1 -> #REF! | AP83: =#REF!+1 -> #REF! | ... AX83: =#REF!+1 -> #REF! | AZ83: 0 | BZ83: Player 1 | CA83: Player 2
B84: 2 | C84: E1 | D84: =D36 -> 1 Louisville | E84: 1 Louisville | F84: 1 Louisville | G84: 1 Louisville | H84: 1 Louisville | I84: 1 Louisville | J84: 1 Louisville | K84: 1 Louisville | L84: 1 Louisville | M84: 1 Louisville | N84: 1 Louisville | O84: 1 Louisville | P84: 1 Louisville | Q84: 1 Louisville | R84: 1 Louisville | S84: 1 Louisville | T84: 1 Louisville | V84: =V36 -> 1 Louisville | X84: =X36 -> 0 | Y84: =Y36 -> 22.5 | Z84: =INDIRECT(BZ84) -> 1 Louisville | AA84: =INDIRECT(CA84) -> 9 Siena | AB84: =INDIRECT(CB84) -> 1 Louisville | AC84: =IF(Z84=AB84,AA84,Z84) -> 9 Siena | AD84: =VLOOKUP(Z84,$A$1:$B$64,2) -> 1 | AE84: =VLOOKUP(AA84,$A$1:$B$64,2) -> 9 | AF84: 1.5 | AG84: 22.5 | AI84: =IF($AG$1=1,($AG84-($AG84*COUNTIF(E84:$F84,E84)/$X$1))*COUNTIF($AB$4:$AB$35,E84),COUNTIF($AB$4:$AB$35,E84)*$AG84) -> 19.5 | AJ84: =IF($AG$1=1,($AG84-($AG84*COUNTIF($F84:F84,F84)/$X$1))*COUNTIF($AB$4:$AB$35,F84),COUNTIF($AB$4:$AB$35,F84)*$AG84) -> 21 | AK84: =IF($AG$1=1,($AG84-($AG84*COUNTIF($F84:G84,G84)/$X$1))*COUNTIF($AB$4:$AB$35,G84),COUNTIF($AB$4:$AB$35,G84)*$AG84) -> 19.5 | AL84: =IF($AG$1=1,($AG84-($AG84*COUNTIF($F84:H84,H84)/$X$1))*COUNTIF($AB$4:$AB$35,H84),COUNTIF($AB$4:$AB$35,H84)*$AG84) -> 18 | AM84: =IF($AG$1=1,($AG84-($AG84*COUNTIF($F84:I84,I84)/$X$1))*COUNTIF($AB$4:$AB$35,I84),COUNTIF($AB$4:$AB$35,I84)*$AG84) -> 16.5 | AN84: =IF($AG$1=1,($AG84-($AG84*COUNTIF($F84:J84,J84)/$X$1))*COUNTIF($AB$4:$AB$35,J84),COUNTIF($AB$4:$AB$35,J84)*$AG84) -> 15 | AO84: =IF($AG$1=1,($AG84-($AG84*COUNTIF($F84:K84,K84)/$X$1))*COUNTIF($AB$4:$AB$35,K84),COUNTIF($AB$4:$AB$35,K84)*$AG84) -> 13.5 | AP84: =IF($AG$1=1,($AG84-($AG84*COUNTIF($F84:L84,L84)/$X$1))*COUNTIF($AB$4:$AB$35,L84),COUNTIF($AB$4:$AB$35,L84)*$AG84) -> 12 | AQ84: =IF($AG$1=1,($AG84-($AG84*COUNTIF($F84:M84,M84)/$X$1))*COUNTIF($AB$4:$AB$35,M84),COUNTIF($AB$4:$AB$35,M84)*$AG84) -> 10.5 | ... AX84: =IF($AG$1=1,($AG84-($AG84*COUNTIF($F84:T84,T84)/$X$1))*COUNTIF($AB$4:$AB$35,T84),COUNTIF($AB$4:$AB$35,T84)*$AG84) -> 0 | AZ84: =$AG84-($AG84*COUNTIF($E84:$F84,V84)/$X$1)*COUNTIF($AB$4:$AB$35,V84) -> 19.5 | BB84: H8 | BU84: =CONCATENATE(AZ$1,"!",$BB84) -> Master!H8 | BW84: E4 | BX84: E12 | BZ84: =CONCATENATE(Z$1,"!",$BW84) -> Master!E4 | CA84: =CONCATENATE(AA$1,"!",$BX84) -> Master!E12 | CB84: =CONCATENATE(AB$1,"!",$BB84) -> Master!H8
B85: 3 | C85: E2 | D85: =D37 -> 12 Arizona | E85: 4 Wake Forest | F85: 12 Arizona | G85: 4 Wake Forest | H85: 4 Wake Forest | I85: 4 Wake Forest | J85: 5 Utah | K85: 5 Utah | L85: 4 Wake Forest | M85: 4 Wake Forest | N85: 4 Wake Forest | O85: 4 Wake Forest | P85: 4 Wake Forest | Q85: 12 Arizona | R85: 4 Wake Forest | S85: 4 Wake Forest | T85: 4 Wake Forest | V85: =V37 -> 12 Arizona | X85: =X37 -> 22.5 | Y85: =Y37 -> 19.5 | Z85: =INDIRECT(BZ85) -> 13 Cleveland State | AA85: =INDIRECT(CA85) -> 12 Arizona | AB85: =INDIRECT(CB85) -> 12 Arizona | AC85: =IF(Z85=AB85,AA85,Z85) -> 13 Cleveland State | AD85: =VLOOKUP(Z85,$A$1:$B$64,2) -> 1 | AE85: =VLOOKUP(AA85,$A$1:$B$64,2) -> 1 | AF85: 1.5 | AG85: 22.5 | AI85: =IF($AG$1=1,($AG85-($AG85*COUNTIF(E85:$F85,E85)/$X$1))*COUNTIF($AB$4:$AB$35,E85),COUNTIF($AB$4:$AB$35,E85)*$AG85) -> 0 | AJ85: =IF($AG$1=1,($AG85-($AG85*COUNTIF($F85:F85,F85)/$X$1))*COUNTIF($AB$4:$AB$35,F85),COUNTIF($AB$4:$AB$35,F85)*$AG85) -> 21 | AK85: =IF($AG$1=1,($AG85-($AG85*COUNTIF($F85:G85,G85)/$X$1))*COUNTIF($AB$4:$AB$35,G85),COUNTIF($AB$4:$AB$35,G85)*$AG85) -> 0 | AL85: =IF($AG$1=1,($AG85-($AG85*COUNTIF($F85:H85,H85)/$X$1))*COUNTIF($AB$4:$AB$35,H85),COUNTIF($AB$4:$AB$35,H85)*$AG85) -> 0 | AM85: =IF($AG$1=1,($AG85-($AG85*COUNTIF($F85:I85,I85)/$X$1))*COUNTIF($AB$4:$AB$35,I85),COUNTIF($AB$4:$AB$35,I85)*$AG85) -> 0 | AN85: =IF($AG$1=1,($AG85-($AG85*COUNTIF($F85:J85,J85)/$X$1))*COUNTIF($AB$4:$AB$35,J85),COUNTIF($AB$4:$AB$35,J85)*$AG85) -> 0 | AO85: =IF($AG$1=1,($AG85-($AG85*COUNTIF($F85:K85,K85)/$X$1))*COUNTIF($AB$4:$AB$35,K85),COUNTIF($AB$4:$AB$35,K85)*$AG85) -> 0 | AP85: =IF($AG$1=1,($AG85-($AG85*COUNTIF($F85:L85,L85)/$X$1))*COUNTIF($AB$4:$AB$35,L85),COUNTIF($AB$4:$AB$35,L85)*$AG85) -> 0 | AQ85: =IF($AG$1=1,($AG85-($AG85*COUNTIF($F85:M85,M85)/$X$1))*COUNTIF($AB$4:$AB$35,M85),COUNTIF($AB$4:$AB$35,M85)*$AG85) -> 0 | ... AX85: =IF($AG$1=1,($AG85-($AG85*COUNTIF($F85:T85,T85)/$X$1))*COUNTIF($AB$4:$AB$35,T85),COUNTIF($AB$4:$AB$35,T85)*$AG85) -> 0 | AZ85: =$AG85-($AG85*COUNTIF($E85:$F85,V85)/$X$1)*COUNTIF($AB$4:$AB$35,V85) -> 21 | BB85: H24 | BU85: =CONCATENATE(AZ$1,"!",$BB85) -> Master!H24 | BW85: E20 | BX85: E28 | BZ85: =CONCATENATE(Z$1,"!",$BW85) -> Master!E20 | CA85: =CONCATENATE(AA$1,"!",$BX85) -> Master!E28 | CB85: =CONCATENATE(AB$1,"!",$BB85) -> Master!H24
B86: 3 | C86: E3 | D86: =D38 -> 10 USC | E86: 2 Michigan State | F86: 10 USC | G86: 2 Michigan State | H86: 2 Michigan State | I86: 10 USC | J86: 2 Michigan State | K86: 2 Michigan State | L86: 2 Michigan State | M86: 2 Michigan State | N86: 2 Michigan State | O86: 2 Michigan State | P86: 2 Michigan State | Q86: 2 Michigan State | R86: 2 Michigan State | S86: 2 Michigan State | T86: 2 Michigan State | V86: =V38 -> 2 Michigan State | X86: =X38 -> 3 | Y86: =Y38 -> 19.5 | Z86: =INDIRECT(BZ86) -> 2 Michigan State | AA86: =INDIRECT(CA86) -> 10 USC | AB86: =INDIRECT(CB86) -> 2 Michigan State | AC86: =IF(Z86=AB86,AA86,Z86) -> 10 USC | AD86: =VLOOKUP(Z86,$A$1:$B$64,2) -> 10 | AE86: =VLOOKUP(AA86,$A$1:$B$64,2) -> 1 | AF86: 1.5 | AG86: 22.5 | AI86: =IF($AG$1=1,($AG86-($AG86*COUNTIF(E86:$F86,E86)/$X$1))*COUNTIF($AB$4:$AB$35,E86),COUNTIF($AB$4:$AB$35,E86)*$AG86) -> 21 | AJ86: =IF($AG$1=1,($AG86-($AG86*COUNTIF($F86:F86,F86)/$X$1))*COUNTIF($AB$4:$AB$35,F86),COUNTIF($AB$4:$AB$35,F86)*$AG86) -> 21 | AK86: =IF($AG$1=1,($AG86-($AG86*COUNTIF($F86:G86,G86)/$X$1))*COUNTIF($AB$4:$AB$35,G86),COUNTIF($AB$4:$AB$35,G86)*$AG86) -> 21 | AL86: =IF($AG$1=1,($AG86-($AG86*COUNTIF($F86:H86,H86)/$X$1))*COUNTIF($AB$4:$AB$35,H86),COUNTIF($AB$4:$AB$35,H86)*$AG86) -> 19.5 | AM86: =IF($AG$1=1,($AG86-($AG86*COUNTIF($F86:I86,I86)/$X$1))*COUNTIF($AB$4:$AB$35,I86),COUNTIF($AB$4:$AB$35,I86)*$AG86) -> 19.5 | AN86: =IF($AG$1=1,($AG86-($AG86*COUNTIF($F86:J86,J86)/$X$1))*COUNTIF($AB$4:$AB$35,J86),COUNTIF($AB$4:$AB$35,J86)*$AG86) -> 18 | AO86: =IF($AG$1=1,($AG86-($AG86*COUNTIF($F86:K86,K86)/$X$1))*COUNTIF($AB$4:$AB$35,K86),COUNTIF($AB$4:$AB$35,K86)*$AG86) -> 16.5 | AP86: =IF($AG$1=1,($AG86-($AG86*COUNTIF($F86:L86,L86)/$X$1))*COUNTIF($AB$4:$AB$35,L86),COUNTIF($AB$4:$AB$35,L86)*$AG86) -> 15 | AQ86: =IF($AG$1=1,($AG86-($AG86*COUNTIF($F86:M86,M86)/$X$1))*COUNTIF($AB$4:$AB$35,M86),COUNTIF($AB$4:$AB$35,M86)*$AG86) -> 13.5 | ... AX86: =IF($AG$1=1,($AG86-($AG86*COUNTIF($F86:T86,T86)/$X$1))*COUNTIF($AB$4:$AB$35,T86),COUNTIF($AB$4:$AB$35,T86)*$AG86) -> 3 | AZ86: =$AG86-($AG86*COUNTIF($E86:$F86,V86)/$X$1)*COUNTIF($AB$4:$AB$35,V86) -> 21 | BB86: H40 | BU86: =CONCATENATE(AZ$1,"!",$BB86) -> Master!H40 | BW86: E36 | BX86: E44 | BZ86: =CONCATENATE(Z$1,"!",$BW86) -> Master!E36 | CA86: =CONCATENATE(AA$1,"!",$BX86) -> Master!E44 | CB86: =CONCATENATE(AB$1,"!",$BB86) -> Master!H40
B87: 3 | C87: E4 | D87: =D39 -> 3 Kansas | E87: 3 Kansas | F87: 3 Kansas | G87: 3 Kansas | H87: 3 Kansas | I87: 3 Kansas | J87: 3 Kansas | K87: 3 Kansas | L87: 6 West Virginia | M87: 3 Kansas | N87: 3 Kansas | O87: 6 West Virginia | P87: 6 West Virginia | Q87: 6 West Virginia | R87: 3 Kansas | S87: 6 West Virginia | T87: 3 Kansas | V87: =V39 -> 3 Kansas | X87: =X39 -> 7.5 | Y87: =Y39 -> 22.5 | Z87: =INDIRECT(BZ87) -> 3 Kansas | AA87: =INDIRECT(CA87) -> 11 Dayton | AB87: =INDIRECT(CB87) -> 3 Kansas | AC87: =IF(Z87=AB87,AA87,Z87) -> 11 Dayton | AD87: =VLOOKUP(Z87,$A$1:$B$64,2) -> 11 | AE87: =VLOOKUP(AA87,$A$1:$B$64,2) -> 1 | AF87: 1.5 | AG87: 22.5 | AI87: =IF($AG$1=1,($AG87-($AG87*COUNTIF(E87:$F87,E87)/$X$1))*COUNTIF($AB$4:$AB$35,E87),COUNTIF($AB$4:$AB$35,E87)*$AG87) -> 19.5 | AJ87: =IF($AG$1=1,($AG87-($AG87*COUNTIF($F87:F87,F87)/$X$1))*COUNTIF($AB$4:$AB$35,F87),COUNTIF($AB$4:$AB$35,F87)*$AG87) -> 21 | AK87: =IF($AG$1=1,($AG87-($AG87*COUNTIF($F87:G87,G87)/$X$1))*COUNTIF($AB$4:$AB$35,G87),COUNTIF($AB$4:$AB$35,G87)*$AG87) -> 19.5 | AL87: =IF($AG$1=1,($AG87-($AG87*COUNTIF($F87:H87,H87)/$X$1))*COUNTIF($AB$4:$AB$35,H87),COUNTIF($AB$4:$AB$35,H87)*$AG87) -> 18 | AM87: =IF($AG$1=1,($AG87-($AG87*COUNTIF($F87:I87,I87)/$X$1))*COUNTIF($AB$4:$AB$35,I87),COUNTIF($AB$4:$AB$35,I87)*$AG87) -> 16.5 | AN87: =IF($AG$1=1,($AG87-($AG87*COUNTIF($F87:J87,J87)/$X$1))*COUNTIF($AB$4:$AB$35,J87),COUNTIF($AB$4:$AB$35,J87)*$AG87) -> 15 | AO87: =IF($AG$1=1,($AG87-($AG87*COUNTIF($F87:K87,K87)/$X$1))*COUNTIF($AB$4:$AB$35,K87),COUNTIF($AB$4:$AB$35,K87)*$AG87) -> 13.5 | AP87: =IF($AG$1=1,($AG87-($AG87*COUNTIF($F87:L87,L87)/$X$1))*COUNTIF($AB$4:$AB$35,L87),COUNTIF($AB$4:$AB$35,L87)*$AG87) -> 0 | AQ87: =IF($AG$1=1,($AG87-($AG87*COUNTIF($F87:M87,M87)/$X$1))*COUNTIF($AB$4:$AB$35,M87),COUNTIF($AB$4:$AB$35,M87)*$AG87) -> 12 | ... AX87: =IF($AG$1=1,($AG87-($AG87*COUNTIF($F87:T87,T87)/$X$1))*COUNTIF($AB$4:$AB$35,T87),COUNTIF($AB$4:$AB$35,T87)*$AG87) -> 7.5 | AZ87: =$AG87-($AG87*COUNTIF($E87:$F87,V87)/$X$1)*COUNTIF($AB$4:$AB$35,V87) -> 19.5 | BB87: H56 | BU87: =CONCATENATE(AZ$1,"!",$BB87) -> Master!H56 | BW87: E52 | BX87: E60 | BZ87: =CONCATENATE(Z$1,"!",$BW87) -> Master!E52 | CA87: =CONCATENATE(AA$1,"!",$BX87) -> Master!E60 | CB87: =CONCATENATE(AB$1,"!",$BB87) -> Master!H56
B88: 3 | C88: W1 | D88: =D40 -> 1 Connecticut | E88: 1 Connecticut | F88: 1 Connecticut | G88: 1 Connecticut | H88: 1 Connecticut | I88: 1 Connecticut | J88: 1 Connecticut | K88: 1 Connecticut | L88: 1 Connecticut | M88: 1 Connecticut | N88: 1 Connecticut | O88: 1 Connecticut | P88: 1 Connecticut | Q88: 1 Connecticut | R88: 1 Connecticut | S88: 1 Connecticut | T88: 1 Connecticut | V88: =V40 -> 1 Connecticut | X88: =X40 -> 0 | Y88: =Y40 -> 22.5 | Z88: =INDIRECT(BZ88) -> 1 Connecticut | AA88: =INDIRECT(CA88) -> 9 Texas A&M | AB88: =INDIRECT(CB88) -> 1 Connecticut | AC88: =IF(Z88=AB88,AA88,Z88) -> 9 Texas A&M | AD88: =VLOOKUP(Z88,$A$1:$B$64,2) -> 1 | AE88: =VLOOKUP(AA88,$A$1:$B$64,2) -> 9 | AF88: 1.5 | AG88: 22.5 | AI88: =IF($AG$1=1,($AG88-($AG88*COUNTIF(E88:$F88,E88)/$X$1))*COUNTIF($AB$4:$AB$35,E88),COUNTIF($AB$4:$AB$35,E88)*$AG88) -> 19.5 | AJ88: =IF($AG$1=1,($AG88-($AG88*COUNTIF($F88:F88,F88)/$X$1))*COUNTIF($AB$4:$AB$35,F88),COUNTIF($AB$4:$AB$35,F88)*$AG88) -> 21 | AK88: =IF($AG$1=1,($AG88-($AG88*COUNTIF($F88:G88,G88)/$X$1))*COUNTIF($AB$4:$AB$35,G88),COUNTIF($AB$4:$AB$35,G88)*$AG88) -> 19.5 | AL88: =IF($AG$1=1,($AG88-($AG88*COUNTIF($F88:H88,H88)/$X$1))*COUNTIF($AB$4:$AB$35,H88),COUNTIF($AB$4:$AB$35,H88)*$AG88) -> 18 | AM88: =IF($AG$1=1,($AG88-($AG88*COUNTIF($F88:I88,I88)/$X$1))*COUNTIF($AB$4:$AB$35,I88),COUNTIF($AB$4:$AB$35,I88)*$AG88) -> 16.5 | AN88: =IF($AG$1=1,($AG88-($AG88*COUNTIF($F88:J88,J88)/$X$1))*COUNTIF($AB$4:$AB$35,J88),COUNTIF($AB$4:$AB$35,J88)*$AG88) -> 15 | AO88: =IF($AG$1=1,($AG88-($AG88*COUNTIF($F88:K88,K88)/$X$1))*COUNTIF($AB$4:$AB$35,K88),COUNTIF($AB$4:$AB$35,K88)*$AG88) -> 13.5 | AP88: =IF($AG$1=1,($AG88-($AG88*COUNTIF($F88:L88,L88)/$X$1))*COUNTIF($AB$4:$AB$35,L88),COUNTIF($AB$4:$AB$35,L88)*$AG88) -> 12 | AQ88: =IF($AG$1=1,($AG88-($AG88*COUNTIF($F88:M88,M88)/$X$1))*COUNTIF($AB$4:$AB$35,M88),COUNTIF($AB$4:$AB$35,M88)*$AG88) -> 10.5 | ... AX88: =IF($AG$1=1,($AG88-($AG88*COUNTIF($F88:T88,T88)/$X$1))*COUNTIF($AB$4:$AB$35,T88),COUNTIF($AB$4:$AB$35,T88)*$AG88) -> 0 | AZ88: =$AG88-($AG88*COUNTIF($E88:$F88,V88)/$X$1)*COUNTIF($AB$4:$AB$35,V88) -> 19.5 | BB88: H74 | BU88: =CONCATENATE(AZ$1,"!",$BB88) -> Master!H74 | BW88: E70 | BX88: E78 | BZ88: =CONCATENATE(Z$1,"!",$BW88) -> Master!E70 | CA88: =CONCATENATE(AA$1,"!",$BX88) -> Master!E78 | CB88: =CONCATENATE(AB$1,"!",$BB88) -> Master!H74
B89: 4 | C89: W2 | D89: =D41 -> 4 Washington | E89: 5 Purdue | F89: 4 Washington | G89: 5 Purdue | H89: 4 Washington | I89: 4 Washington | J89: 5 Purdue | K89: 4 Washington | L89: 4 Washington | M89: 5 Purdue | N89: 4 Washington | O89: 5 Purdue | P89: 5 Purdue | Q89: 5 Purdue | R89: 4 Washington | S89: 5 Purdue | T89: 5 Purdue | V89: =V41 -> 5 Purdue | X89: =X41 -> 10.5 | Y89: =Y41 -> 12 | Z89: =INDIRECT(BZ89) -> 5 Purdue | AA89: =INDIRECT(CA89) -> 4 Washington | AB89: =INDIRECT(CB89) -> 5 Purdue | AC89: =IF(Z89=AB89,AA89,Z89) -> 4 Washington | AD89: =VLOOKUP(Z89,$A$1:$B$64,2) -> 13 | AE89: =VLOOKUP(AA89,$A$1:$B$64,2) -> 12 | AF89: 1.5 | AG89: 22.5 | AI89: =IF($AG$1=1,($AG89-($AG89*COUNTIF(E89:$F89,E89)/$X$1))*COUNTIF($AB$4:$AB$35,E89),COUNTIF($AB$4:$AB$35,E89)*$AG89) -> 21 | AJ89: =IF($AG$1=1,($AG89-($AG89*COUNTIF($F89:F89,F89)/$X$1))*COUNTIF($AB$4:$AB$35,F89),COUNTIF($AB$4:$AB$35,F89)*$AG89) -> 21 | AK89: =IF($AG$1=1,($AG89-($AG89*COUNTIF($F89:G89,G89)/$X$1))*COUNTIF($AB$4:$AB$35,G89),COUNTIF($AB$4:$AB$35,G89)*$AG89) -> 21 | AL89: =IF($AG$1=1,($AG89-($AG89*COUNTIF($F89:H89,H89)/$X$1))*COUNTIF($AB$4:$AB$35,H89),COUNTIF($AB$4:$AB$35,H89)*$AG89) -> 19.5 | AM89: =IF($AG$1=1,($AG89-($AG89*COUNTIF($F89:I89,I89)/$X$1))*COUNTIF($AB$4:$AB$35,I89),COUNTIF($AB$4:$AB$35,I89)*$AG89) -> 18 | AN89: =IF($AG$1=1,($AG89-($AG89*COUNTIF($F89:J89,J89)/$X$1))*COUNTIF($AB$4:$AB$35,J89),COUNTIF($AB$4:$AB$35,J89)*$AG89) -> 19.5 | AO89: =IF($AG$1=1,($AG89-($AG89*COUNTIF($F89:K89,K89)/$X$1))*COUNTIF($AB$4:$AB$35,K89),COUNTIF($AB$4:$AB$35,K89)*$AG89) -> 16.5 | AP89: =IF($AG$1=1,($AG89-($AG89*COUNTIF($F89:L89,L89)/$X$1))*COUNTIF($AB$4:$AB$35,L89),COUNTIF($AB$4:$AB$35,L89)*$AG89) -> 15 | AQ89: =IF($AG$1=1,($AG89-($AG89*COUNTIF($F89:M89,M89)/$X$1))*COUNTIF($AB$4:$AB$35,M89),COUNTIF($AB$4:$AB$35,M89)*$AG89) -> 18 | ... AX89: =IF($AG$1=1,($AG89-($AG89*COUNTIF($F89:T89,T89)/$X$1))*COUNTIF($AB$4:$AB$35,T89),COUNTIF($AB$4:$AB$35,T89)*$AG89) -> 10.5 | AZ89: =$AG89-($AG89*COUNTIF($E89:$F89,V89)/$X$1)*COUNTIF($AB$4:$AB$35,V89) -> 21 | BB89: H90 | BU89: =CONCATENATE(AZ$1,"!",$BB89) -> Master!H90 | BW89: E86 | BX89: E94 | BZ89: =CONCATENATE(Z$1,"!",$BW89) -> Master!E86 | CA89: =CONCATENATE(AA$1,"!",$BX89) -> Master!E94 | CB89: =CONCATENATE(AB$1,"!",$BB89) -> Master!H90
B90: 4 | C90: W3 | D90: =D42 -> 2 Memphis | E90: 2 Memphis | F90: 2 Memphis | G90: 2 Memphis | H90: 7 California | I90: 2 Memphis | J90: 2 Memphis | K90: 7 California | L90: 2 Memphis | M90: 2 Memphis | N90: 2 Memphis | O90: 2 Memphis | P90: 2 Memphis | Q90: 2 Memphis | R90: 2 Memphis | S90: 2 Memphis | T90: 2 Memphis | V90: =V42 -> 2 Memphis | X90: =X42 -> 3 | Y90: =Y42 -> 22.5 | Z90: =INDIRECT(BZ90) -> 2 Memphis | AA90: =INDIRECT(CA90) -> 10 Maryland | AB90: =INDIRECT(CB90) -> 2 Memphis | AC90: =IF(Z90=AB90,AA90,Z90) -> 10 Maryland | AD90: =VLOOKUP(Z90,$A$1:$B$64,2) -> 10 | AE90: =VLOOKUP(AA90,$A$1:$B$64,2) -> 1 | AF90: 1.5 | AG90: 22.5 | AI90: =IF($AG$1=1,($AG90-($AG90*COUNTIF(E90:$F90,E90)/$X$1))*COUNTIF($AB$4:$AB$35,E90),COUNTIF($AB$4:$AB$35,E90)*$AG90) -> 19.5 | AJ90: =IF($AG$1=1,($AG90-($AG90*COUNTIF($F90:F90,F90)/$X$1))*COUNTIF($AB$4:$AB$35,F90),COUNTIF($AB$4:$AB$35,F90)*$AG90) -> 21 | AK90: =IF($AG$1=1,($AG90-($AG90*COUNTIF($F90:G90,G90)/$X$1))*COUNTIF($AB$4:$AB$35,G90),COUNTIF($AB$4:$AB$35,G90)*$AG90) -> 19.5 | AL90: =IF($AG$1=1,($AG90-($AG90*COUNTIF($F90:H90,H90)/$X$1))*COUNTIF($AB$4:$AB$35,H90),COUNTIF($AB$4:$AB$35,H90)*$AG90) -> 0 | AM90: =IF($AG$1=1,($AG90-($AG90*COUNTIF($F90:I90,I90)/$X$1))*COUNTIF($AB$4:$AB$35,I90),COUNTIF($AB$4:$AB$35,I90)*$AG90) -> 18 | AN90: =IF($AG$1=1,($AG90-($AG90*COUNTIF($F90:J90,J90)/$X$1))*COUNTIF($AB$4:$AB$35,J90),COUNTIF($AB$4:$AB$35,J90)*$AG90) -> 16.5 | AO90: =IF($AG$1=1,($AG90-($AG90*COUNTIF($F90:K90,K90)/$X$1))*COUNTIF($AB$4:$AB$35,K90),COUNTIF($AB$4:$AB$35,K90)*$AG90) -> 0 | AP90: =IF($AG$1=1,($AG90-($AG90*COUNTIF($F90:L90,L90)/$X$1))*COUNTIF($AB$4:$AB$35,L90),COUNTIF($AB$4:$AB$35,L90)*$AG90) -> 15 | AQ90: =IF($AG$1=1,($AG90-($AG90*COUNTIF($F90:M90,M90)/$X$1))*COUNTIF($AB$4:$AB$35,M90),COUNTIF($AB$4:$AB$35,M90)*$AG90) -> 13.5 | ... AX90: =IF($AG$1=1,($AG90-($AG90*COUNTIF($F90:T90,T90)/$X$1))*COUNTIF($AB$4:$AB$35,T90),COUNTIF($AB$4:$AB$35,T90)*$AG90) -> 3 | AZ90: =$AG90-($AG90*COUNTIF($E90:$F90,V90)/$X$1)*COUNTIF($AB$4:$AB$35,V90) -> 19.5 | BB90: H106 | BU90: =CONCATENATE(AZ$1,"!",$BB90) -> Master!H106 | BW90: E102 | BX90: E110 | BZ90: =CONCATENATE(Z$1,"!",$BW90) -> Master!E102 | CA90: =CONCATENATE(AA$1,"!",$BX90) -> Master!E110 | CB90: =CONCATENATE(AB$1,"!",$BB90) -> Master!H106
...

Sheet Scott's Method Summary
B1: Summary | E1: 15 | G1: Only Valid if Scott's scoring system is being used
C2: # of players who chose team to win
C3: # of points team is worth if they win
E4: Round 1 | G4: Round 2 | I4: Round 3 | K4: Round 4 | M4: Round 5 | O4: Round 6
C5: Seed | D5: Team | E5: Worth= | F5: =Scoring!$AG$4 -> 15 | G5: Worth= | H5: =Scoring!$AG$36 -> 22.5 | I5: Worth= | J5: =Scoring!$AG$52 -> 30 | K5: Worth= | L5: =Scoring!AG60 -> 37.5 | M5: Worth= | N5: =Scoring!AG64 -> 45 | O5: Worth= | P5: =Scoring!AG66 -> 52.5
C6: 1 | D6: =Scoring!A1 -> 1 Connecticut | E6: =COUNTIF(Scoring!$F$4:U$35,$D6) -> 15 | F6: =IF(E6>0,F$5-(E6/$E$1*F$5),0) -> 0 | G6: =COUNTIF(Scoring!$F$36:U$51,$D6) -> 15 | H6: =IF(G6>0,H$5-(G6/$E$1*H$5),0) -> 0 | I6: =COUNTIF(Scoring!$F$52:U$59,$D6) -> 12 | J6: =IF(I6>0,J$5-(I6/$E$1*J$5),0) -> 6 | K6: =COUNTIF(Scoring!$F$60:U$63,$D6) -> 5 | L6: =IF(K6>0,L$5-(K6/$E$1*L$5),0) -> 25 | M6: =COUNTIF(Scoring!$F$64:U$65,$D6) -> 3 | N6: =IF(M6>0,N$5-(M6/$E$1*N$5),0) -> 36 | O6: =COUNTIF(Scoring!$F$66:U$66,$D6) -> 1 | P6: =IF(O6>0,P$5-(O6/$E$1*P$5),0) -> 49 | Q6: =D6 -> 1 Connecticut
C7: 1 | D7: =Scoring!A2 -> 1 Louisville | E7: =COUNTIF(Scoring!$F$4:U$35,$D7) -> 15 | F7: =IF(E7>0,F$5-(E7/$E$1*F$5),0) -> 0 | G7: =COUNTIF(Scoring!$F$36:U$51,$D7) -> 15 | H7: =IF(G7>0,H$5-(G7/$E$1*H$5),0) -> 0 | I7: =COUNTIF(Scoring!$F$52:U$59,$D7) -> 15 | J7: =IF(I7>0,J$5-(I7/$E$1*J$5),0) -> 0 | K7: =COUNTIF(Scoring!$F$60:U$63,$D7) -> 10 | L7: =IF(K7>0,L$5-(K7/$E$1*L$5),0) -> 12.5 | M7: =COUNTIF(Scoring!$F$64:U$65,$D7) -> 8 | N7: =IF(M7>0,N$5-(M7/$E$1*N$5),0) -> 21 | O7: =COUNTIF(Scoring!$F$66:U$66,$D7) -> 4 | P7: =IF(O7>0,P$5-(O7/$E$1*P$5),0) -> 38.5 | Q7: =D7 -> 1 Louisville
C8: 1 | D8: =Scoring!A3 -> 1 North Carolina | E8: =COUNTIF(Scoring!$F$4:U$35,$D8) -> 15 | F8: =IF(E8>0,F$5-(E8/$E$1*F$5),0) -> 0 | G8: =COUNTIF(Scoring!$F$36:U$51,$D8) -> 14 | H8: =IF(G8>0,H$5-(G8/$E$1*H$5),0) -> 1.5 | I8: =COUNTIF(Scoring!$F$52:U$59,$D8) -> 12 | J8: =IF(I8>0,J$5-(I8/$E$1*J$5),0) -> 6 | K8: =COUNTIF(Scoring!$F$60:U$63,$D8) -> 12 | L8: =IF(K8>0,L$5-(K8/$E$1*L$5),0) -> 7.5 | M8: =COUNTIF(Scoring!$F$64:U$65,$D8) -> 8 | N8: =IF(M8>0,N$5-(M8/$E$1*N$5),0) -> 21 | O8: =COUNTIF(Scoring!$F$66:U$66,$D8) -> 5 | P8: =IF(O8>0,P$5-(O8/$E$1*P$5),0) -> 35 | Q8: =D8 -> 1 North Carolina
C9: 1 | D9: =Scoring!A4 -> 1 Pittsburgh | E9: =COUNTIF(Scoring!$F$4:U$35,$D9) -> 15 | F9: =IF(E9>0,F$5-(E9/$E$1*F$5),0) -> 0 | G9: =COUNTIF(Scoring!$F$36:U$51,$D9) -> 14 | H9: =IF(G9>0,H$5-(G9/$E$1*H$5),0) -> 1.5 | I9: =COUNTIF(Scoring!$F$52:U$59,$D9) -> 12 | J9: =IF(I9>0,J$5-(I9/$E$1*J$5),0) -> 6 | K9: =COUNTIF(Scoring!$F$60:U$63,$D9) -> 11 | L9: =IF(K9>0,L$5-(K9/$E$1*L$5),0) -> 10 | M9: =COUNTIF(Scoring!$F$64:U$65,$D9) -> 4 | N9: =IF(M9>0,N$5-(M9/$E$1*N$5),0) -> 33 | O9: =COUNTIF(Scoring!$F$66:U$66,$D9) -> 1 | P9: =IF(O9>0,P$5-(O9/$E$1*P$5),0) -> 49 | Q9: =D9 -> 1 Pittsburgh
C10: 2 | D10: =Scoring!A5 -> 2 Duke | E10: =COUNTIF(Scoring!$F$4:U$35,$D10) -> 15 | F10: =IF(E10>0,F$5-(E10/$E$1*F$5),0) -> 0 | G10: =COUNTIF(Scoring!$F$36:U$51,$D10) -> 15 | H10: =IF(G10>0,H$5-(G10/$E$1*H$5),0) -> 0 | I10: =COUNTIF(Scoring!$F$52:U$59,$D10) -> 10 | J10: =IF(I10>0,J$5-(I10/$E$1*J$5),0) -> 10 | K10: =COUNTIF(Scoring!$F$60:U$63,$D10) -> 3 | L10: =IF(K10>0,L$5-(K10/$E$1*L$5),0) -> 30 | M10: =COUNTIF(Scoring!$F$64:U$65,$D10) -> 1 | N10: =IF(M10>0,N$5-(M10/$E$1*N$5),0) -> 42 | O10: =COUNTIF(Scoring!$F$66:U$66,$D10) -> 1 | P10: =IF(O10>0,P$5-(O10/$E$1*P$5),0) -> 49 | Q10: =D10 -> 2 Duke
C11: 2 | D11: =Scoring!A6 -> 2 Memphis | E11: =COUNTIF(Scoring!$F$4:U$35,$D11) -> 15 | F11: =IF(E11>0,F$5-(E11/$E$1*F$5),0) -> 0 | G11: =COUNTIF(Scoring!$F$36:U$51,$D11) -> 13 | H11: =IF(G11>0,H$5-(G11/$E$1*H$5),0) -> 3 | I11: =COUNTIF(Scoring!$F$52:U$59,$D11) -> 11 | J11: =IF(I11>0,J$5-(I11/$E$1*J$5),0) -> 8 | K11: =COUNTIF(Scoring!$F$60:U$63,$D11) -> 6 | L11: =IF(K11>0,L$5-(K11/$E$1*L$5),0) -> 22.5 | M11: =COUNTIF(Scoring!$F$64:U$65,$D11) -> 1 | N11: =IF(M11>0,N$5-(M11/$E$1*N$5),0) -> 42 | O11: =COUNTIF(Scoring!$F$66:U$66,$D11) -> 1 | P11: =IF(O11>0,P$5-(O11/$E$1*P$5),0) -> 49 | Q11: =D11 -> 2 Memphis
C12: 2 | D12: =Scoring!A7 -> 2 Michigan State | E12: =COUNTIF(Scoring!$F$4:U$35,$D12) -> 15 | F12: =IF(E12>0,F$5-(E12/$E$1*F$5),0) -> 0 | G12: =COUNTIF(Scoring!$F$36:U$51,$D12) -> 13 | H12: =IF(G12>0,H$5-(G12/$E$1*H$5),0) -> 3 | I12: =COUNTIF(Scoring!$F$52:U$59,$D12) -> 9 | J12: =IF(I12>0,J$5-(I12/$E$1*J$5),0) -> 12 | K12: =COUNTIF(Scoring!$F$60:U$63,$D12) -> 3 | L12: =IF(K12>0,L$5-(K12/$E$1*L$5),0) -> 30 | M12: =COUNTIF(Scoring!$F$64:U$65,$D12) -> 1 | N12: =IF(M12>0,N$5-(M12/$E$1*N$5),0) -> 42 | O12: =COUNTIF(Scoring!$F$66:U$66,$D12) -> 0 | P12: =IF(O12>0,P$5-(O12/$E$1*P$5),0) -> 0 | Q12: =D12 -> 2 Michigan State
C13: 2 | D13: =Scoring!A8 -> 2 Oklahoma | E13: =COUNTIF(Scoring!$F$4:U$35,$D13) -> 15 | F13: =IF(E13>0,F$5-(E13/$E$1*F$5),0) -> 0 | G13: =COUNTIF(Scoring!$F$36:U$51,$D13) -> 13 | H13: =IF(G13>0,H$5-(G13/$E$1*H$5),0) -> 3 | I13: =COUNTIF(Scoring!$F$52:U$59,$D13) -> 7 | J13: =IF(I13>0,J$5-(I13/$E$1*J$5),0) -> 16 | K13: =COUNTIF(Scoring!$F$60:U$63,$D13) -> 1 | L13: =IF(K13>0,L$5-(K13/$E$1*L$5),0) -> 35 | M13: =COUNTIF(Scoring!$F$64:U$65,$D13) -> 1 | N13: =IF(M13>0,N$5-(M13/$E$1*N$5),0) -> 42 | O13: =COUNTIF(Scoring!$F$66:U$66,$D13) -> 0 | P13: =IF(O13>0,P$5-(O13/$E$1*P$5),0) -> 0 | Q13: =D13 -> 2 Oklahoma
C14: 3 | D14: =Scoring!A9 -> 3 Kansas | E14: =COUNTIF(Scoring!$F$4:U$35,$D14) -> 14 | F14: =IF(E14>0,F$5-(E14/$E$1*F$5),0) -> 1 | G14: =COUNTIF(Scoring!$F$36:U$51,$D14) -> 10 | H14: =IF(G14>0,H$5-(G14/$E$1*H$5),0) -> 7.5 | I14: =COUNTIF(Scoring!$F$52:U$59,$D14) -> 5 | J14: =IF(I14>0,J$5-(I14/$E$1*J$5),0) -> 20 | K14: =COUNTIF(Scoring!$F$60:U$63,$D14) -> 2 | L14: =IF(K14>0,L$5-(K14/$E$1*L$5),0) -> 32.5 | M14: =COUNTIF(Scoring!$F$64:U$65,$D14) -> 1 | N14: =IF(M14>0,N$5-(M14/$E$1*N$5),0) -> 42 | O14: =COUNTIF(Scoring!$F$66:U$66,$D14) -> 1 | P14: =IF(O14>0,P$5-(O14/$E$1*P$5),0) -> 49 | Q14: =D14 -> 3 Kansas
C15: 3 | D15: =Scoring!A10 -> 3 Missouri | E15: =COUNTIF(Scoring!$F$4:U$35,$D15) -> 14 | F15: =IF(E15>0,F$5-(E15/$E$1*F$5),0) -> 1 | G15: =COUNTIF(Scoring!$F$36:U$51,$D15) -> 10 | H15: =IF(G15>0,H$5-(G15/$E$1*H$5),0) -> 7.5 | I15: =COUNTIF(Scoring!$F$52:U$59,$D15) -> 2 | J15: =IF(I15>0,J$5-(I15/$E$1*J$5),0) -> 26 | K15: =COUNTIF(Scoring!$F$60:U$63,$D15) -> 1 | L15: =IF(K15>0,L$5-(K15/$E$1*L$5),0) -> 35 | M15: =COUNTIF(Scoring!$F$64:U$65,$D15) -> 0 | N15: =IF(M15>0,N$5-(M15/$E$1*N$5),0) -> 0 | O15: =COUNTIF(Scoring!$F$66:U$66,$D15) -> 0 | P15: =IF(O15>0,P$5-(O15/$E$1*P$5),0) -> 0 | Q15: =D15 -> 3 Missouri
C16: 3 | D16: =Scoring!A11 -> 3 Syracuse | E16: =COUNTIF(Scoring!$F$4:U$35,$D16) -> 14 | F16: =IF(E16>0,F$5-(E16/$E$1*F$5),0) -> 1 | G16: =COUNTIF(Scoring!$F$36:U$51,$D16) -> 10 | H16: =IF(G16>0,H$5-(G16/$E$1*H$5),0) -> 7.5 | I16: =COUNTIF(Scoring!$F$52:U$59,$D16) -> 6 | J16: =IF(I16>0,J$5-(I16/$E$1*J$5),0) -> 18 | K16: =COUNTIF(Scoring!$F$60:U$63,$D16) -> 0 | L16: =IF(K16>0,L$5-(K16/$E$1*L$5),0) -> 0 | M16: =COUNTIF(Scoring!$F$64:U$65,$D16) -> 0 | N16: =IF(M16>0,N$5-(M16/$E$1*N$5),0) -> 0 | O16: =COUNTIF(Scoring!$F$66:U$66,$D16) -> 0 | P16: =IF(O16>0,P$5-(O16/$E$1*P$5),0) -> 0 | Q16: =D16 -> 3 Syracuse
C17: 3 | D17: =Scoring!A12 -> 3 Villanova | E17: =COUNTIF(Scoring!$F$4:U$35,$D17) -> 14 | F17: =IF(E17>0,F$5-(E17/$E$1*F$5),0) -> 1 | G17: =COUNTIF(Scoring!$F$36:U$51,$D17) -> 10 | H17: =IF(G17>0,H$5-(G17/$E$1*H$5),0) -> 7.5 | I17: =COUNTIF(Scoring!$F$52:U$59,$D17) -> 5 | J17: =IF(I17>0,J$5-(I17/$E$1*J$5),0) -> 20 | K17: =COUNTIF(Scoring!$F$60:U$63,$D17) -> 0 | L17: =IF(K17>0,L$5-(K17/$E$1*L$5),0) -> 0 | M17: =COUNTIF(Scoring!$F$64:U$65,$D17) -> 0 | N17: =IF(M17>0,N$5-(M17/$E$1*N$5),0) -> 0 | O17: =COUNTIF(Scoring!$F$66:U$66,$D17) -> 0 | P17: =IF(O17>0,P$5-(O17/$E$1*P$5),0) -> 0 | Q17: =D17 -> 3 Villanova
... C69: 16 | D69: =Scoring!A64 -> 16 Radford | E69: =COUNTIF(Scoring!$F$4:U$35,$D69) -> 0 | F69: =IF(E69>0,F$5-(E69/$E$1*F$5),0) -> 0 | G69: =COUNTIF(Scoring!$F$36:U$51,$D69) -> 0 | H69: =IF(G69>0,H$5-(G69/$E$1*H$5),0) -> 0 | I69: =COUNTIF(Scoring!$F$52:U$59,$D69) -> 0 | J69: =IF(I69>0,J$5-(I69/$E$1*J$5),0) -> 0 | K69: =COUNTIF(Scoring!$F$60:U$63,$D69) -> 0 | L69: =IF(K69>0,L$5-(K69/$E$1*L$5),0) -> 0 | M69: =COUNTIF(Scoring!$F$64:U$65,$D69) -> 0 | N69: =IF(M69>0,N$5-(M69/$E$1*N$5),0) -> 0 | O69: =COUNTIF(Scoring!$F$66:U$66,$D69) -> 0 | P69: =IF(O69>0,P$5-(O69/$E$1*P$5),0) -> 0 | Q69: =D69 -> 16 Radford
E70: =SUM(E6:E69) -> 480 | G70: =SUM(G6:G69) -> 240 | I70: =SUM(I6:I69) -> 120 | K70: =SUM(K6:K69) -> 60 | M70: =SUM(M6:M69) -> 30 | O70: =SUM(O6:O69) -> 15

Sheet Pick Summary (by Player)
B1: =Scoring!F1 -> AnthonyP | C1: =Scoring!G1 -> BenC | D1: =Scoring!H1 -> CandaceP | E1: =Scoring!I1 -> ChrisR | F1: =Scoring!J1 -> DanielV | G1: =Scoring!K1 -> DavidS | H1: =Scoring!L1 -> EricP | I1: =Scoring!M1 -> JamesB | ... P1: =Scoring!T1 -> ScottP | S1: Master | T1: Master | U1: Master
S2: Player1 | T2: Player2 | U2: Winner | V2: Loser
A3: Round1 | B3: =Scoring!F4 -> 1 Louisville | C3: =Scoring!G4 -> 1 Louisville | D3: =Scoring!H4 -> 1 Louisville | E3: =Scoring!I4 -> 1 Louisville | F3: =Scoring!J4 -> 1 Louisville | G3: =Scoring!K4 -> 1 Louisville | H3: =Scoring!L4 -> 1 Louisville | I3: =Scoring!M4 -> 1 Louisville | ... P3: =Scoring!T4 -> 1 Louisville | S3: =Scoring!Z4 -> 1 Louisville | T3: =Scoring!AA4 -> 16 Alabama State-Morehead State winner | U3: =Scoring!AB4 -> 1 Louisville | V3: =IF(U3="","",IF(S3=U3,T3,S3)) -> 16 Alabama State-Morehead State winner
