{"text_format":"1","workbook":"xlsx","n_sheets":5,"sheets":["Ledger","UntukMailnerge","Sikap Antar Mapel","KELAS","KODE"],"not_rendered":{"charts":0,"images":1,"macros":1,"external_links":0,"defined_names":11,"comments":0,"pivot_tables":0},"unopened":[],"bounds":{"document_bytes":16777216,"sheet_cells":100000,"rows_first":2000,"rows_last":500,"rows_between":2000,"halvings":0,"cell_chars":16384,"cell_head_chars":4096},"cells_cut":0,"cells_raw":0,"read":"whole","date_system":"1900"}

{"sheet":"Ledger","index":0,"n_rows":43,"n_cols":104,"rows_kept":43,"cut":false,"hidden":false,"merged":[[3,99,3,101],[3,102,3,103],[3,87,3,89],[3,90,3,92],[3,93,3,94],[3,95,4,95],[3,96,3,98],[3,23,4,23],[3,24,3,26],[3,86,4,86],[3,66,3,67],[3,68,4,68],[3,69,3,71],[3,72,3,74],[3,75,3,76],[3,51,3,53],[3,77,4,77],[3,78,3,80],[3,81,3,83],[3,84,3,85],[3,60,3,62],[3,63,3,65],[3,27,3,29],[3,30,3,31],[3,32,4,32],[3,33,3,35],[3,36,3,38],[3,39,3,40],[3,41,4,41],[3,54,3,56],[3,57,3,58],[3,59,4,59],[3,42,3,44],[3,45,3,47],[3,48,3,49],[3,50,4,50],[1,86,1,94],[1,95,1,103],[1,5,1,13],[1,14,1,22],[1,23,1,31],[1,32,1,40],[1,41,1,49],[1,68,1,76],[1,77,1,85],[1,50,1,58],[1,59,1,67],[2,95,2,103],[1,0,4,0],[1,1,4,1],[1,2,4,2],[1,3,4,3],[1,4,4,4],[2,86,2,94],[2,5,2,13],[2,14,2,22],[2,23,2,31],[2,32,2,40],[2,41,2,49],[2,50,2,58],[2,59,2,67],[2,68,2,76],[2,77,2,85],[3,5,4,5],[3,14,4,14],[3,15,3,17],[3,18,3,20],[3,21,3,22],[3,6,3,8],[3,9,3,11],[3,12,3,13]]}
[{"$f":"CONCATENATE(\"LEDGER NILAI \",\"KELAS \",E6)","v":"LEDGER NILAI KELAS 7.A"}]
["No","NIS","NAMA SISWA","JK","KELAS",{"$f":"VLOOKUP(RIGHT(KELAS!Q$1,3),KODEMAPEL2,2,FALSE)","v":"Pendidikan Agama dan Budi Pekerti"},null,null,null,null,null,null,null,null,{"$f":"VLOOKUP(RIGHT(KELAS!Y$1,3),KODEMAPEL2,2,FALSE)","v":"Pendidikan Pancasila dan Kewarganegaraan"},null,null,null,null,null,null,null,null,{"$f":"VLOOKUP(RIGHT(KELAS!AH$1,3),KODEMAPEL2,2,FALSE)","v":"Bahasa Indonesia"},null,null,null,null,null,null,null,null,{"$f":"VLOOKUP(RIGHT(KELAS!AQ$1,3),KODEMAPEL2,2,FALSE)","v":"Matematika"},null,null,null,null,null,null,null,null,{"$f":"VLOOKUP(RIGHT(KELAS!AZ$1,3),KODEMAPEL2,2,FALSE)","v":"Ilmu Pengetahuan Alam"},null,null,null,null,null,null,null,null,{"$f":"VLOOKUP(RIGHT(KELAS!BI$1,3),KODEMAPEL2,2,FALSE)","v":"Ilmu Pengetahuan Sosial"},null,null,null,null,null,null,null,null,{"$f":"VLOOKUP(RIGHT(KELAS!BR$1,3),KODEMAPEL2,2,FALSE)","v":"Bahasa Inggris"},null,null,null,null,null,null,null,null,{"$f":"VLOOKUP(RIGHT(KELAS!CA$1,3),KODEMAPEL2,2,FALSE)","v":"Seni Budaya"},null,null,null,null,null,null,null,null,{"$f":"VLOOKUP(RIGHT(KELAS!CJ$1,3),KODEMAPEL2,2,FALSE)","v":"Pendidikan Jasmani, Olah Raga dan Kesehatan"},null,null,null,null,null,null,null,null,{"$f":"VLOOKUP(RIGHT(KELAS!CS$1,3),KODEMAPEL2,2,FALSE)","v":"Prakarya"},null,null,null,null,null,null,null,null,{"$f":"VLOOKUP(CR3,KODEMAPEL2,2,FALSE)","v":"Bahasa Jawa"}]
[null,null,null,null,null,{"$f":"RIGHT(KELAS!Q$1,3)","v":"001"},null,null,null,null,null,null,null,null,{"$f":"RIGHT(KELAS!Y$1,3)","v":"002"},null,null,null,null,null,null,null,null,{"$f":"RIGHT(KELAS!AH$1,3)","v":"003"},null,null,null,null,null,null,null,null,{"$f":"RIGHT(KELAS!AQ$1,3)","v":"004"},null,null,null,null,null,null,null,null,{"$f":"RIGHT(KELAS!AZ$1,3)","v":"005"},null,null,null,null,null,null,null,null,{"$f":"RIGHT(KELAS!BI$1,3)","v":"006"},null,null,null,null,null,null,null,null,{"$f":"RIGHT(KELAS!BR$1,3)","v":"007"},null,null,null,null,null,null,null,null,{"$f":"RIGHT(KELAS!CA$1,3)","v":"008"},null,null,null,null,null,null,null,null,{"$f":"RIGHT(KELAS!CJ$1,3)","v":"009"},null,null,null,null,null,null,null,null,{"$f":"RIGHT(KELAS!CS$1,3)","v":"010"},null,null,null,null,null,null,null,null,{"$f":"VLOOKUP(KELAS!$E$3,KODEMAPEL,12,FALSE)","v":"011"}]
[null,null,null,null,null,"Kode","Pengetahuan",null,null,"Ketrampilan",null,null,"Sikap",null,"Kode","Pengetahuan",null,null,"Ketrampilan",null,null,"Sikap",null,"Kode","Pengetahuan",null,null,"Ketrampilan",null,null,"Sikap",null,"Kode","Pengetahuan",null,null,"Ketrampilan",null,null,"Sikap",null,"Kode","Pengetahuan",null,null,"Ketrampilan",null,null,"Sikap",null,"Kode","Pengetahuan",null,null,"Ketrampilan",null,null,"Sikap",null,"Kode","Pengetahuan",null,null,"Ketrampilan",null,null,"Sikap",null,"Kode","Pengetahuan",null,null,"Ketrampilan",null,null,"Sikap",null,"Kode","Pengetahuan",null,null,"Ketrampilan",null,null,"Sikap",null,"Kode","Pengetahuan",null,null,"Ketrampilan",null,null,"Sikap",null,"Kode","Pengetahuan",null,null,"Ketrampilan",null,null,"Sikap"]
[null,null,null,null,null,null,"Angka","Predikat","Deskripsi","Angka","Predikat","Deskripsi","Predikat","Deskripsi",null,"Angka","Predikat","Deskripsi","Angka","Predikat","Deskripsi","Predikat","Deskripsi",null,"Angka","Predikat","Deskripsi","Angka","Predikat","Deskripsi","Predikat","Deskripsi",null,"Angka","Predikat","Deskripsi","Angka","Predikat","Deskripsi","Predikat","Deskripsi",null,"Angka","Predikat","Deskripsi","Angka","Predikat","Deskripsi","Predikat","Deskripsi",null,"Angka","Predikat","Deskripsi","Angka","Predikat","Deskripsi","Predikat","Deskripsi",null,"Angka","Predikat","Deskripsi","Angka","Predikat","Deskripsi","Predikat","Deskripsi",null,"Angka","Predikat","Deskripsi","Angka","Predikat","Deskripsi","Predikat","Deskripsi",null,"Angka","Predikat","Deskripsi","Angka","Predikat","Deskripsi","Predikat","Deskripsi",null,"Angka","Predikat","Deskripsi","Angka","Predikat","Deskripsi","Predikat","Deskripsi",null,"Angka","Predikat","Deskripsi","Angka","Predikat","Deskripsi","Predikat","Deskripsi"]
[{"$f":"IF(KELAS!A3=\"\",\"\",KELAS!A3)","v":1},{"$f":"IF(KELAS!B3=\"\",\"\",KELAS!B3)","v":12429},{"$f":"IF(KELAS!C3=\"\",\"\",PROPER(KELAS!C3))","v":"Ahdhiat Purbo Alam"},{"$f":"IF(KELAS!D3=\"\",\"\",KELAS!D3)","v":"L"},{"$f":"IF(KELAS!E3=\"\",\"\",KELAS!E3)","v":"7.A"},{"$f":"IF($C6=\"\",\"\",F$3)","v":"001"},{"$f":"IF($C6=\"\",\"\",KELAS!Q3)","v":0},{"$f":"IF($C6=\"\",\"\",KELAS!R3)","v":0},{"$f":"IF($C6=\"\",\"\",KELAS!S3)","v":0},{"$f":"IF($C6=\"\",\"\",KELAS!T3)","v":0},{"$f":"IF($C6=\"\",\"\",KELAS!U3)","v":0},{"$f":"IF($C6=\"\",\"\",KELAS!V3)","v":0},{"$f":"IF($C6=\"\",\"\",KELAS!W3)","v":0},{"$f":"IF($C6=\"\",\"\",KELAS!X3)","v":0},{"$f":"IF($C6=\"\",\"\",O$3)","v":"002"},{"$f":"IF($C6=\"\",\"\",KELAS!Y3)","v":0},{"$f":"IF($C6=\"\",\"\",KELAS!Z3)","v":0},{"$f":"IF($C6=\"\",\"\",KELAS!AA3)","v":0},{"$f":"IF($C6=\"\",\"\",KELAS!AB3)","v":0},{"$f":"IF($C6=\"\",\"\",KELAS!AC3)","v":0},{"$f":"IF($C6=\"\",\"\",KELAS!AD3)","v":0},{"$f":"IF($C6=\"\",\"\",KELAS!AE3)","v":0},{"$f":"IF($C6=\"\",\"\",KELAS!AF3)","v":0},{"$f":"IF($C6=\"\",\"\",IF($C6=\"\",\"\",X$3))","v":"003"},{"$f":"IF($C6=\"\",\"\",KELAS!AH3)","v":0},{"$f":"IF($C6=\"\",\"\",KELAS!AI3)","v":0},{"$f":"IF($C6=\"\",\"\",KELAS!AJ3)","v":0},{"$f":"IF($C6=\"\",\"\",KELAS!AK3)","v":0},{"$f":"IF($C6=\"\",\"\",KELAS!AL3)","v":0},{"$f":"IF($C6=\"\",\"\",KELAS!AM3)","v":0},{"$f":"IF($C6=\"\",\"\",KELAS!AN3)","v":0},{"$f":"IF($C6=\"\",\"\",KELAS!AO3)","v":0},{"$f":"IF($C6=\"\",\"\",AG$3)","v":"004"},{"$f":"IF($C6=\"\",\"\",KELAS!AQ3)","v":0},{"$f":"IF($C6=\"\",\"\",KELAS!AR3)","v":0},{"$f":"IF($C6=\"\",\"\",KELAS!AS3)","v":0},{"$f":"IF($C6=\"\",\"\",KELAS!AT3)","v":0},{"$f":"IF($C6=\"\",\"\",KELAS!AU3)","v":0},{"$f":"IF($C6=\"\",\"\",KELAS!AV3)","v":0},{"$f":"IF($C6=\"\",\"\",KELAS!AW3)","v":0},{"$f":"IF($C6=\"\",\"\",KELAS!AX3)","v":0},{"$f":"IF($C6=\"\",\"\",AP$3)","v":"005"},{"$f":"IF($C6=\"\",\"\",KELAS!AZ3)","v":0},{"$f":"IF($C6=\"\",\"\",KELAS!BA3)","v":0},{"$f":"IF($C6=\"\",\"\",KELAS!BB3)","v":0},{"$f":"IF($C6=\"\",\"\",KELAS!BC3)","v":0},{"$f":"IF($C6=\"\",\"\",KELAS!BD3)","v":0},{"$f":"IF($C6=\"\",\"\",KELAS!BE3)","v":0},{"$f":"IF($C6=\"\",\"\",KELAS!BF3)","v":0},{"$f":"IF($C6=\"\",\"\",KELAS!BG3)","v":0},{"$f":"IF($C6=\"\",\"\",AY$3)","v":"006"},{"$f":"IF($C6=\"\",\"\",KELAS!BI3)","v":0},{"$f":"IF($C6=\"\",\"\",KELAS!BJ3)","v":0},{"$f":"IF($C6=\"\",\"\",KELAS!BK3)","v":0},{"$f":"IF($C6=\"\",\"\",KELAS!BL3)","v":0},{"$f":"IF($C6=\"\",\"\",KELAS!BM3)","v":0},{"$f":"IF($C6=\"\",\"\",KELAS!BN3)","v":0},{"$f":"IF($C6=\"\",\"\",KELAS!BO3)","v":0},{"$f":"IF($C6=\"\",\"\",KELAS!BP3)","v":0},{"$f":"IF($C6=\"\",\"\",BH$3)","v":"007"},{"$f":"IF($C6=\"\",\"\",KELAS!BR3)","v":0},{"$f":"IF($C6=\"\",\"\",KELAS!BS3)","v":0},{"$f":"IF($C6=\"\",\"\",KELAS!BT3)","v":0},{"$f":"IF($C6=\"\",\"\",KELAS!BU3)","v":0},{"$f":"IF($C6=\"\",\"\",KELAS!BV3)","v":0},{"$f":"IF($C6=\"\",\"\",KELAS!BW3)","v":0},{"$f":"IF($C6=\"\",\"\",KELAS!BX3)","v":0},{"$f":"IF($C6=\"\",\"\",KELAS!BY3)","v":0},{"$f":"IF($C6=\"\",\"\",BQ$3)","v":"008"},{"$f":"IF($C6=\"\",\"\",KELAS!CA3)","v":0},{"$f":"IF($C6=\"\",\"\",KELAS!CB3)","v":0},{"$f":"IF($C6=\"\",\"\",KELAS!CC3)","v":0},{"$f":"IF($C6=\"\",\"\",KELAS!CD3)","v":0},{"$f":"IF($C6=\"\",\"\",KELAS!CE3)","v":0},{"$f":"IF($C6=\"\",\"\",KELAS!CF3)","v":0},{"$f":"IF($C6=\"\",\"\",KELAS!CG3)","v":0},{"$f":"IF($C6=\"\",\"\",KELAS!CH3)","v":0},{"$f":"IF($C6=\"\",\"\",BZ$3)","v":"009"},{"$f":"IF($C6=\"\",\"\",KELAS!CJ3)","v":0},{"$f":"IF($C6=\"\",\"\",KELAS!CK3)","v":0},{"$f":"IF($C6=\"\",\"\",KELAS!CL3)","v":0},{"$f":"IF($C6=\"\",\"\",KELAS!CM3)","v":0},{"$f":"IF($C6=\"\",\"\",KELAS!CN3)","v":0},{"$f":"IF($C6=\"\",\"\",KELAS!CO3)","v":0},{"$f":"IF($C6=\"\",\"\",KELAS!CP3)","v":0},{"$f":"IF($C6=\"\",\"\",KELAS!CQ3)","v":0},{"$f":"IF($C6=\"\",\"\",CI$3)","v":"010"},{"$f":"IF($C6=\"\",\"\",KELAS!CS3)","v":0},{"$f":"IF($C6=\"\",\"\",KELAS!CT3)","v":0},{"$f":"IF($C6=\"\",\"\",KELAS!CU3)","v":0},{"$f":"IF($C6=\"\",\"\",KELAS!CV3)","v":0},{"$f":"IF($C6=\"\",\"\",KELAS!CW3)","v":0},{"$f":"IF($C6=\"\",\"\",KELAS!CX3)","v":0},{"$f":"IF($C6=\"\",\"\",KELAS!CY3)","v":0},{"$f":"IF($C6=\"\",\"\",KELAS!CZ3)","v":0},{"$f":"IF($C6=\"\",\"\",CR$3)","v":"011"},{"$f":"IF($C6=\"\",\"\",KELAS!DB3)","v":0},{"$f":"IF($C6=\"\",\"\",KELAS!DC3)","v":0},{"$f":"IF($C6=\"\",\"\",KELAS!DD3)","v":0},{"$f":"IF($C6=\"\",\"\",KELAS!DE3)","v":0},{"$f":"IF($C6=\"\",\"\",KELAS!DF3)","v":0},{"$f":"IF($C6=\"\",\"\",KELAS!DG3)","v":0},{"$f":"IF($C6=\"\",\"\",KELAS!DH3)","v":0},{"$f":"IF($C6=\"\",\"\",KELAS!DI3)","v":0}]
[{"$f":"IF(KELAS!A4=\"\",\"\",KELAS!A4)","v":2},{"$f":"IF(KELAS!B4=\"\",\"\",KELAS!B4)","v":12441},{"$f":"IF(KELAS!C4=\"\",\"\",PROPER(KELAS!C4))","v":"Alif Rahmayanto"},{"$f":"IF(KELAS!D4=\"\",\"\",KELAS!D4)","v":"L"},{"$f":"IF(KELAS!E4=\"\",\"\",KELAS!E4)","v":"7.A"},{"$f":"IF($C7=\"\",\"\",F$3)","v":"001"},{"$f":"IF($C7=\"\",\"\",KELAS!Q4)","v":0},{"$f":"IF($C7=\"\",\"\",KELAS!R4)","v":0},{"$f":"IF($C7=\"\",\"\",KELAS!S4)","v":0},{"$f":"IF($C7=\"\",\"\",KELAS!T4)","v":0},{"$f":"IF($C7=\"\",\"\",KELAS!U4)","v":0},{"$f":"IF($C7=\"\",\"\",KELAS!V4)","v":0},{"$f":"IF($C7=\"\",\"\",KELAS!W4)","v":0},{"$f":"IF($C7=\"\",\"\",KELAS!X4)","v":0},{"$f":"IF($C7=\"\",\"\",O$3)","v":"002"},{"$f":"IF($C7=\"\",\"\",KELAS!Y4)","v":0},{"$f":"IF($C7=\"\",\"\",KELAS!Z4)","v":0},{"$f":"IF($C7=\"\",\"\",KELAS!AA4)","v":0},{"$f":"IF($C7=\"\",\"\",KELAS!AB4)","v":0},{"$f":"IF($C7=\"\",\"\",KELAS!AC4)","v":0},{"$f":"IF($C7=\"\",\"\",KELAS!AD4)","v":0},{"$f":"IF($C7=\"\",\"\",KELAS!AE4)","v":0},{"$f":"IF($C7=\"\",\"\",KELAS!AF4)","v":0},{"$f":"IF($C7=\"\",\"\",X$3)","v":"003"},{"$f":"IF($C7=\"\",\"\",KELAS!AH4)","v":0},{"$f":"IF($C7=\"\",\"\",KELAS!AI4)","v":0},{"$f":"IF($C7=\"\",\"\",KELAS!AJ4)","v":0},{"$f":"IF($C7=\"\",\"\",KELAS!AK4)","v":0},{"$f":"IF($C7=\"\",\"\",KELAS!AL4)","v":0},{"$f":"IF($C7=\"\",\"\",KELAS!AM4)","v":0},{"$f":"IF($C7=\"\",\"\",KELAS!AN4)","v":0},{"$f":"IF($C7=\"\",\"\",KELAS!AO4)","v":0},{"$f":"IF($C7=\"\",\"\",AG$3)","v":"004"},{"$f":"IF($C7=\"\",\"\",KELAS!AQ4)","v":0},{"$f":"IF($C7=\"\",\"\",KELAS!AR4)","v":0},{"$f":"IF($C7=\"\",\"\",KELAS!AS4)","v":0},{"$f":"IF($C7=\"\",\"\",KELAS!AT4)","v":0},{"$f":"IF($C7=\"\",\"\",KELAS!AU4)","v":0},{"$f":"IF($C7=\"\",\"\",KELAS!AV4)","v":0},{"$f":"IF($C7=\"\",\"\",KELAS!AW4)","v":0},{"$f":"IF($C7=\"\",\"\",KELAS!AX4)","v":0},{"$f":"IF($C7=\"\",\"\",AP$3)","v":"005"},{"$f":"IF($C7=\"\",\"\",KELAS!AZ4)","v":0},{"$f":"IF($C7=\"\",\"\",KELAS!BA4)","v":0},{"$f":"IF($C7=\"\",\"\",KELAS!BB4)","v":0},{"$f":"IF($C7=\"\",\"\",KELAS!BC4)","v":0},{"$f":"IF($C7=\"\",\"\",KELAS!BD4)","v":0},{"$f":"IF($C7=\"\",\"\",KELAS!BE4)","v":0},{"$f":"IF($C7=\"\",\"\",KELAS!BF4)","v":0},{"$f":"IF($C7=\"\",\"\",KELAS!BG4)","v":0},{"$f":"IF($C7=\"\",\"\",AY$3)","v":"006"},{"$f":"IF($C7=\"\",\"\",KELAS!BI4)","v":0},{"$f":"IF($C7=\"\",\"\",KELAS!BJ4)","v":0},{"$f":"IF($C7=\"\",\"\",KELAS!BK4)","v":0},{"$f":"IF($C7=\"\",\"\",KELAS!BL4)","v":0},{"$f":"IF($C7=\"\",\"\",KELAS!BM4)","v":0},{"$f":"IF($C7=\"\",\"\",KELAS!BN4)","v":0},{"$f":"IF($C7=\"\",\"\",KELAS!BO4)","v":0},{"$f":"IF($C7=\"\",\"\",KELAS!BP4)","v":0},{"$f":"IF($C7=\"\",\"\",BH$3)","v":"007"},{"$f":"IF($C7=\"\",\"\",KELAS!BR4)","v":0},{"$f":"IF($C7=\"\",\"\",KELAS!BS4)","v":0},{"$f":"IF($C7=\"\",\"\",KELAS!BT4)","v":0},{"$f":"IF($C7=\"\",\"\",KELAS!BU4)","v":0},{"$f":"IF($C7=\"\",\"\",KELAS!BV4)","v":0},{"$f":"IF($C7=\"\",\"\",KELAS!BW4)","v":0},{"$f":"IF($C7=\"\",\"\",KELAS!BX4)","v":0},{"$f":"IF($C7=\"\",\"\",KELAS!BY4)","v":0},{"$f":"IF($C7=\"\",\"\",BQ$3)","v":"008"},{"$f":"IF($C7=\"\",\"\",KELAS!CA4)","v":0},{"$f":"IF($C7=\"\",\"\",KELAS!CB4)","v":0},{"$f":"IF($C7=\"\",\"\",KELAS!CC4)","v":0},{"$f":"IF($C7=\"\",\"\",KELAS!CD4)","v":0},{"$f":"IF($C7=\"\",\"\",KELAS!CE4)","v":0},{"$f":"IF($C7=\"\",\"\",KELAS!CF4)","v":0},{"$f":"IF($C7=\"\",\"\",KELAS!CG4)","v":0},{"$f":"IF($C7=\"\",\"\",KELAS!CH4)","v":0},{"$f":"IF($C7=\"\",\"\",BZ$3)","v":"009"},{"$f":"IF($C7=\"\",\"\",KELAS!CJ4)","v":0},{"$f":"IF($C7=\"\",\"\",KELAS!CK4)","v":0},{"$f":"IF($C7=\"\",\"\",KELAS!CL4)","v":0},{"$f":"IF($C7=\"\",\"\",KELAS!CM4)","v":0},{"$f":"IF($C7=\"\",\"\",KELAS!CN4)","v":0},{"$f":"IF($C7=\"\",\"\",KELAS!CO4)","v":0},{"$f":"IF($C7=\"\",\"\",KELAS!CP4)","v":0},{"$f":"IF($C7=\"\",\"\",KELAS!CQ4)","v":0},{"$f":"IF($C7=\"\",\"\",CI$3)","v":"010"},{"$f":"IF($C7=\"\",\"\",KELAS!CS4)","v":0},{"$f":"IF($C7=\"\",\"\",KELAS!CT4)","v":0},{"$f":"IF($C7=\"\",\"\",KELAS!CU4)","v":0},{"$f":"IF($C7=\"\",\"\",KELAS!CV4)","v":0},{"$f":"IF($C7=\"\",\"\",KELAS!CW4)","v":0},{"$f":"IF($C7=\"\",\"\",KELAS!CX4)","v":0},{"$f":"IF($C7=\"\",\"\",KELAS!CY4)","v":0},{"$f":"IF($C7=\"\",\"\",KELAS!CZ4)","v":0},{"$f":"IF($C7=\"\",\"\",CR$3)","v":"011"},{"$f":"IF($C7=\"\",\"\",KELAS!DB4)","v":0},{"$f":"IF($C7=\"\",\"\",KELAS!DC4)","v":0},{"$f":"IF($C7=\"\",\"\",KELAS!DD4)","v":0},{"$f":"IF($C7=\"\",\"\",KELAS!DE4)","v":0},{"$f":"IF($C7=\"\",\"\",KELAS!DF4)","v":0},{"$f":"IF($C7=\"\",\"\",KELAS!DG4)","v":0},{"$f":"IF($C7=\"\",\"\",KELAS!DH4)","v":0},{"$f":"IF($C7=\"\",\"\",KELAS!DI4)","v":0}]
[{"$f":"IF(KELAS!A5=\"\",\"\",KELAS!A5)","v":3},{"$f":"IF(KELAS!B5=\"\",\"\",KELAS!B5)","v":12442},{"$f":"IF(KELAS!C5=\"\",\"\",PROPER(KELAS!C5))","v":"Alif Sutrisna Saputra"},{"$f":"IF(KELAS!D5=\"\",\"\",KELAS!D5)","v":"L"},{"$f":"IF(KELAS!E5=\"\",\"\",KELAS!E5)","v":"7.A"},"001",{"$f":"IF($C8=\"\",\"\",KELAS!Q5)","v":0},{"$f":"IF($C8=\"\",\"\",KELAS!R5)","v":0},{"$f":"IF($C8=\"\",\"\",KELAS!S5)","v":0},{"$f":"IF($C8=\"\",\"\",KELAS!T5)","v":0},{"$f":"IF($C8=\"\",\"\",KELAS!U5)","v":0},{"$f":"IF($C8=\"\",\"\",KELAS!V5)","v":0},{"$f":"IF($C8=\"\",\"\",KELAS!W5)","v":0},{"$f":"IF($C8=\"\",\"\",KELAS!X5)","v":0},"002",{"$f":"IF($C8=\"\",\"\",KELAS!Y5)","v":0},{"$f":"IF($C8=\"\",\"\",KELAS!Z5)","v":0},{"$f":"IF($C8=\"\",\"\",KELAS!AA5)","v":0},{"$f":"IF($C8=\"\",\"\",KELAS!AB5)","v":0},{"$f":"IF($C8=\"\",\"\",KELAS!AC5)","v":0},{"$f":"IF($C8=\"\",\"\",KELAS!AD5)","v":0},{"$f":"IF($C8=\"\",\"\",KELAS!AE5)","v":0},{"$f":"IF($C8=\"\",\"\",KELAS!AF5)","v":0},"003",{"$f":"IF($C8=\"\",\"\",KELAS!AH5)","v":0},{"$f":"IF($C8=\"\",\"\",KELAS!AI5)","v":0},{"$f":"IF($C8=\"\",\"\",KELAS!AJ5)","v":0},{"$f":"IF($C8=\"\",\"\",KELAS!AK5)","v":0},{"$f":"IF($C8=\"\",\"\",KELAS!AL5)","v":0},{"$f":"IF($C8=\"\",\"\",KELAS!AM5)","v":0},{"$f":"IF($C8=\"\",\"\",KELAS!AN5)","v":0},{"$f":"IF($C8=\"\",\"\",KELAS!AO5)","v":0},"004",{"$f":"IF($C8=\"\",\"\",KELAS!AQ5)","v":0},{"$f":"IF($C8=\"\",\"\",KELAS!AR5)","v":0},{"$f":"IF($C8=\"\",\"\",KELAS!AS5)","v":0},{"$f":"IF($C8=\"\",\"\",KELAS!AT5)","v":0},{"$f":"IF($C8=\"\",\"\",KELAS!AU5)","v":0},{"$f":"IF($C8=\"\",\"\",KELAS!AV5)","v":0},{"$f":"IF($C8=\"\",\"\",KELAS!AW5)","v":0},{"$f":"IF($C8=\"\",\"\",KELAS!AX5)","v":0},"005",{"$f":"IF($C8=\"\",\"\",KELAS!AZ5)","v":0},{"$f":"IF($C8=\"\",\"\",KELAS!BA5)","v":0},{"$f":"IF($C8=\"\",\"\",KELAS!BB5)","v":0},{"$f":"IF($C8=\"\",\"\",KELAS!BC5)","v":0},{"$f":"IF($C8=\"\",\"\",KELAS!BD5)","v":0},{"$f":"IF($C8=\"\",\"\",KELAS!BE5)","v":0},{"$f":"IF($C8=\"\",\"\",KELAS!BF5)","v":0},{"$f":"IF($C8=\"\",\"\",KELAS!BG5)","v":0},"006",{"$f":"IF($C8=\"\",\"\",KELAS!BI5)","v":0},{"$f":"IF($C8=\"\",\"\",KELAS!BJ5)","v":0},{"$f":"IF($C8=\"\",\"\",KELAS!BK5)","v":0},{"$f":"IF($C8=\"\",\"\",KELAS!BL5)","v":0},{"$f":"IF($C8=\"\",\"\",KELAS!BM5)","v":0},{"$f":"IF($C8=\"\",\"\",KELAS!BN5)","v":0},{"$f":"IF($C8=\"\",\"\",KELAS!BO5)","v":0},{"$f":"IF($C8=\"\",\"\",KELAS!BP5)","v":0},"007",{"$f":"IF($C8=\"\",\"\",KELAS!BR5)","v":0},{"$f":"IF($C8=\"\",\"\",KELAS!BS5)","v":0},{"$f":"IF($C8=\"\",\"\",KELAS!BT5)","v":0},{"$f":"IF($C8=\"\",\"\",KELAS!BU5)","v":0},{"$f":"IF($C8=\"\",\"\",KELAS!BV5)","v":0},{"$f":"IF($C8=\"\",\"\",KELAS!BW5)","v":0},{"$f":"IF($C8=\"\",\"\",KELAS!BX5)","v":0},{"$f":"IF($C8=\"\",\"\",KELAS!BY5)","v":0},"008",{"$f":"IF($C8=\"\",\"\",KELAS!CA5)","v":0},{"$f":"IF($C8=\"\",\"\",KELAS!CB5)","v":0},{"$f":"IF($C8=\"\",\"\",KELAS!CC5)","v":0},{"$f":"IF($C8=\"\",\"\",KELAS!CD5)","v":0},{"$f":"IF($C8=\"\",\"\",KELAS!CE5)","v":0},{"$f":"IF($C8=\"\",\"\",KELAS!CF5)","v":0},{"$f":"IF($C8=\"\",\"\",KELAS!CG5)","v":0},{"$f":"IF($C8=\"\",\"\",KELAS!CH5)","v":0},"009",{"$f":"IF($C8=\"\",\"\",KELAS!CJ5)","v":0},{"$f":"IF($C8=\"\",\"\",KELAS!CK5)","v":0},{"$f":"IF($C8=\"\",\"\",KELAS!CL5)","v":0},{"$f":"IF($C8=\"\",\"\",KELAS!CM5)","v":0},{"$f":"IF($C8=\"\",\"\",KELAS!CN5)","v":0},{"$f":"IF($C8=\"\",\"\",KELAS!CO5)","v":0},{"$f":"IF($C8=\"\",\"\",KELAS!CP5)","v":0},{"$f":"IF($C8=\"\",\"\",KELAS!CQ5)","v":0},"010",{"$f":"IF($C8=\"\",\"\",KELAS!CS5)","v":0},{"$f":"IF($C8=\"\",\"\",KELAS!CT5)","v":0},{"$f":"IF($C8=\"\",\"\",KELAS!CU5)","v":0},{"$f":"IF($C8=\"\",\"\",KELAS!CV5)","v":0},{"$f":"IF($C8=\"\",\"\",KELAS!CW5)","v":0},{"$f":"IF($C8=\"\",\"\",KELAS!CX5)","v":0},{"$f":"IF($C8=\"\",\"\",KELAS!CY5)","v":0},{"$f":"IF($C8=\"\",\"\",KELAS!CZ5)","v":0},"011",{"$f":"IF($C8=\"\",\"\",KELAS!DB5)","v":0},{"$f":"IF($C8=\"\",\"\",KELAS!DC5)","v":0},{"$f":"IF($C8=\"\",\"\",KELAS!DD5)","v":0},{"$f":"IF($C8=\"\",\"\",KELAS!DE5)","v":0},{"$f":"IF($C8=\"\",\"\",KELAS!DF5)","v":0},{"$f":"IF($C8=\"\",\"\",KELAS!DG5)","v":0},{"$f":"IF($C8=\"\",\"\",KELAS!DH5)","v":0},{"$f":"IF($C8=\"\",\"\",KELAS!DI5)","v":0}]
[{"$f":"IF(KELAS!A6=\"\",\"\",KELAS!A6)","v":4},{"$f":"IF(KELAS!B6=\"\",\"\",KELAS!B6)","v":12452},{"$f":"IF(KELAS!C6=\"\",\"\",PROPER(KELAS!C6))","v":"Anisa Dwi Septiani"},{"$f":"IF(KELAS!D6=\"\",\"\",KELAS!D6)","v":"P"},{"$f":"IF(KELAS!E6=\"\",\"\",KELAS!E6)","v":"7.A"},"001",{"$f":"IF($C9=\"\",\"\",KELAS!Q6)","v":0},{"$f":"IF($C9=\"\",\"\",KELAS!R6)","v":0},{"$f":"IF($C9=\"\",\"\",KELAS!S6)","v":0},{"$f":"IF($C9=\"\",\"\",KELAS!T6)","v":0},{"$f":"IF($C9=\"\",\"\",KELAS!U6)","v":0},{"$f":"IF($C9=\"\",\"\",KELAS!V6)","v":0},{"$f":"IF($C9=\"\",\"\",KELAS!W6)","v":0},{"$f":"IF($C9=\"\",\"\",KELAS!X6)","v":0},"002",{"$f":"IF($C9=\"\",\"\",KELAS!Y6)","v":0},{"$f":"IF($C9=\"\",\"\",KELAS!Z6)","v":0},{"$f":"IF($C9=\"\",\"\",KELAS!AA6)","v":0},{"$f":"IF($C9=\"\",\"\",KELAS!AB6)","v":0},{"$f":"IF($C9=\"\",\"\",KELAS!AC6)","v":0},{"$f":"IF($C9=\"\",\"\",KELAS!AD6)","v":0},{"$f":"IF($C9=\"\",\"\",KELAS!AE6)","v":0},{"$f":"IF($C9=\"\",\"\",KELAS!AF6)","v":0},"003",{"$f":"IF($C9=\"\",\"\",KELAS!AH6)","v":0},{"$f":"IF($C9=\"\",\"\",KELAS!AI6)","v":0},{"$f":"IF($C9=\"\",\"\",KELAS!AJ6)","v":0},{"$f":"IF($C9=\"\",\"\",KELAS!AK6)","v":0},{"$f":"IF($C9=\"\",\"\",KELAS!AL6)","v":0},{"$f":"IF($C9=\"\",\"\",KELAS!AM6)","v":0},{"$f":"IF($C9=\"\",\"\",KELAS!AN6)","v":0},{"$f":"IF($C9=\"\",\"\",KELAS!AO6)","v":0},"004",{"$f":"IF($C9=\"\",\"\",KELAS!AQ6)","v":0},{"$f":"IF($C9=\"\",\"\",KELAS!AR6)","v":0},{"$f":"IF($C9=\"\",\"\",KELAS!AS6)","v":0},{"$f":"IF($C9=\"\",\"\",KELAS!AT6)","v":0},{"$f":"IF($C9=\"\",\"\",KELAS!AU6)","v":0},{"$f":"IF($C9=\"\",\"\",KELAS!AV6)","v":0},{"$f":"IF($C9=\"\",\"\",KELAS!AW6)","v":0},{"$f":"IF($C9=\"\",\"\",KELAS!AX6)","v":0},"005",{"$f":"IF($C9=\"\",\"\",KELAS!AZ6)","v":0},{"$f":"IF($C9=\"\",\"\",KELAS!BA6)","v":0},{"$f":"IF($C9=\"\",\"\",KELAS!BB6)","v":0},{"$f":"IF($C9=\"\",\"\",KELAS!BC6)","v":0},{"$f":"IF($C9=\"\",\"\",KELAS!BD6)","v":0},{"$f":"IF($C9=\"\",\"\",KELAS!BE6)","v":0},{"$f":"IF($C9=\"\",\"\",KELAS!BF6)","v":0},{"$f":"IF($C9=\"\",\"\",KELAS!BG6)","v":0},"006",{"$f":"IF($C9=\"\",\"\",KELAS!BI6)","v":0},{"$f":"IF($C9=\"\",\"\",KELAS!BJ6)","v":0},{"$f":"IF($C9=\"\",\"\",KELAS!BK6)","v":0},{"$f":"IF($C9=\"\",\"\",KELAS!BL6)","v":0},{"$f":"IF($C9=\"\",\"\",KELAS!BM6)","v":0},{"$f":"IF($C9=\"\",\"\",KELAS!BN6)","v":0},{"$f":"IF($C9=\"\",\"\",KELAS!BO6)","v":0},{"$f":"IF($C9=\"\",\"\",KELAS!BP6)","v":0},"007",{"$f":"IF($C9=\"\",\"\",KELAS!BR6)","v":0},{"$f":"IF($C9=\"\",\"\",KELAS!BS6)","v":0},{"$f":"IF($C9=\"\",\"\",KELAS!BT6)","v":0},{"$f":"IF($C9=\"\",\"\",KELAS!BU6)","v":0},{"$f":"IF($C9=\"\",\"\",KELAS!BV6)","v":0},{"$f":"IF($C9=\"\",\"\",KELAS!BW6)","v":0},{"$f":"IF($C9=\"\",\"\",KELAS!BX6)","v":0},{"$f":"IF($C9=\"\",\"\",KELAS!BY6)","v":0},"008",{"$f":"IF($C9=\"\",\"\",KELAS!CA6)","v":0},{"$f":"IF($C9=\"\",\"\",KELAS!CB6)","v":0},{"$f":"IF($C9=\"\",\"\",KELAS!CC6)","v":0},{"$f":"IF($C9=\"\",\"\",KELAS!CD6)","v":0},{"$f":"IF($C9=\"\",\"\",KELAS!CE6)","v":0},{"$f":"IF($C9=\"\",\"\",KELAS!CF6)","v":0},{"$f":"IF($C9=\"\",\"\",KELAS!CG6)","v":0},{"$f":"IF($C9=\"\",\"\",KELAS!CH6)","v":0},"009",{"$f":"IF($C9=\"\",\"\",KELAS!CJ6)","v":0},{"$f":"IF($C9=\"\",\"\",KELAS!CK6)","v":0},{"$f":"IF($C9=\"\",\"\",KELAS!CL6)","v":0},{"$f":"IF($C9=\"\",\"\",KELAS!CM6)","v":0},{"$f":"IF($C9=\"\",\"\",KELAS!CN6)","v":0},{"$f":"IF($C9=\"\",\"\",KELAS!CO6)","v":0},{"$f":"IF($C9=\"\",\"\",KELAS!CP6)","v":0},{"$f":"IF($C9=\"\",\"\",KELAS!CQ6)","v":0},"010",{"$f":"IF($C9=\"\",\"\",KELAS!CS6)","v":0},{"$f":"IF($C9=\"\",\"\",KELAS!CT6)","v":0},{"$f":"IF($C9=\"\",\"\",KELAS!CU6)","v":0},{"$f":"IF($C9=\"\",\"\",KELAS!CV6)","v":0},{"$f":"IF($C9=\"\",\"\",KELAS!CW6)","v":0},{"$f":"IF($C9=\"\",\"\",KELAS!CX6)","v":0},{"$f":"IF($C9=\"\",\"\",KELAS!CY6)","v":0},{"$f":"IF($C9=\"\",\"\",KELAS!CZ6)","v":0},"011",{"$f":"IF($C9=\"\",\"\",KELAS!DB6)","v":0},{"$f":"IF($C9=\"\",\"\",KELAS!DC6)","v":0},{"$f":"IF($C9=\"\",\"\",KELAS!DD6)","v":0},{"$f":"IF($C9=\"\",\"\",KELAS!DE6)","v":0},{"$f":"IF($C9=\"\",\"\",KELAS!DF6)","v":0},{"$f":"IF($C9=\"\",\"\",KELAS!DG6)","v":0},{"$f":"IF($C9=\"\",\"\",KELAS!DH6)","v":0},{"$f":"IF($C9=\"\",\"\",KELAS!DI6)","v":0}]
[{"$f":"IF(KELAS!A7=\"\",\"\",KELAS!A7)","v":5},{"$f":"IF(KELAS!B7=\"\",\"\",KELAS!B7)","v":12490},{"$f":"IF(KELAS!C7=\"\",\"\",PROPER(KELAS!C7))","v":"Boneta Sulasmi"},{"$f":"IF(KELAS!D7=\"\",\"\",KELAS!D7)","v":"P"},{"$f":"IF(KELAS!E7=\"\",\"\",KELAS!E7)","v":"7.A"},"001",{"$f":"IF($C10=\"\",\"\",KELAS!Q7)","v":0},{"$f":"IF($C10=\"\",\"\",KELAS!R7)","v":0},{"$f":"IF($C10=\"\",\"\",KELAS!S7)","v":0},{"$f":"IF($C10=\"\",\"\",KELAS!T7)","v":0},{"$f":"IF($C10=\"\",\"\",KELAS!U7)","v":0},{"$f":"IF($C10=\"\",\"\",KELAS!V7)","v":0},{"$f":"IF($C10=\"\",\"\",KELAS!W7)","v":0},{"$f":"IF($C10=\"\",\"\",KELAS!X7)","v":0},"002",{"$f":"IF($C10=\"\",\"\",KELAS!Y7)","v":0},{"$f":"IF($C10=\"\",\"\",KELAS!Z7)","v":0},{"$f":"IF($C10=\"\",\"\",KELAS!AA7)","v":0},{"$f":"IF($C10=\"\",\"\",KELAS!AB7)","v":0},{"$f":"IF($C10=\"\",\"\",KELAS!AC7)","v":0},{"$f":"IF($C10=\"\",\"\",KELAS!AD7)","v":0},{"$f":"IF($C10=\"\",\"\",KELAS!AE7)","v":0},{"$f":"IF($C10=\"\",\"\",KELAS!AF7)","v":0},"003",{"$f":"IF($C10=\"\",\"\",KELAS!AH7)","v":0},{"$f":"IF($C10=\"\",\"\",KELAS!AI7)","v":0},{"$f":"IF($C10=\"\",\"\",KELAS!AJ7)","v":0},{"$f":"IF($C10=\"\",\"\",KELAS!AK7)","v":0},{"$f":"IF($C10=\"\",\"\",KELAS!AL7)","v":0},{"$f":"IF($C10=\"\",\"\",KELAS!AM7)","v":0},{"$f":"IF($C10=\"\",\"\",KELAS!AN7)","v":0},{"$f":"IF($C10=\"\",\"\",KELAS!AO7)","v":0},"004",{"$f":"IF($C10=\"\",\"\",KELAS!AQ7)","v":0},{"$f":"IF($C10=\"\",\"\",KELAS!AR7)","v":0},{"$f":"IF($C10=\"\",\"\",KELAS!AS7)","v":0},{"$f":"IF($C10=\"\",\"\",KELAS!AT7)","v":0},{"$f":"IF($C10=\"\",\"\",KELAS!AU7)","v":0},{"$f":"IF($C10=\"\",\"\",KELAS!AV7)","v":0},{"$f":"IF($C10=\"\",\"\",KELAS!AW7)","v":0},{"$f":"IF($C10=\"\",\"\",KELAS!AX7)","v":0},"005",{"$f":"IF($C10=\"\",\"\",KELAS!AZ7)","v":0},{"$f":"IF($C10=\"\",\"\",KELAS!BA7)","v":0},{"$f":"IF($C10=\"\",\"\",KELAS!BB7)","v":0},{"$f":"IF($C10=\"\",\"\",KELAS!BC7)","v":0},{"$f":"IF($C10=\"\",\"\",KELAS!BD7)","v":0},{"$f":"IF($C10=\"\",\"\",KELAS!BE7)","v":0},{"$f":"IF($C10=\"\",\"\",KELAS!BF7)","v":0},{"$f":"IF($C10=\"\",\"\",KELAS!BG7)","v":0},"006",{"$f":"IF($C10=\"\",\"\",KELAS!BI7)","v":0},{"$f":"IF($C10=\"\",\"\",KELAS!BJ7)","v":0},{"$f":"IF($C10=\"\",\"\",KELAS!BK7)","v":0},{"$f":"IF($C10=\"\",\"\",KELAS!BL7)","v":0},{"$f":"IF($C10=\"\",\"\",KELAS!BM7)","v":0},{"$f":"IF($C10=\"\",\"\",KELAS!BN7)","v":0},{"$f":"IF($C10=\"\",\"\",KELAS!BO7)","v":0},{"$f":"IF($C10=\"\",\"\",KELAS!BP7)","v":0},"007",{"$f":"IF($C10=\"\",\"\",KELAS!BR7)","v":0},{"$f":"IF($C10=\"\",\"\",KELAS!BS7)","v":0},{"$f":"IF($C10=\"\",\"\",KELAS!BT7)","v":0},{"$f":"IF($C10=\"\",\"\",KELAS!BU7)","v":0},{"$f":"IF($C10=\"\",\"\",KELAS!BV7)","v":0},{"$f":"IF($C10=\"\",\"\",KELAS!BW7)","v":0},{"$f":"IF($C10=\"\",\"\",KELAS!BX7)","v":0},{"$f":"IF($C10=\"\",\"\",KELAS!BY7)","v":0},"008",{"$f":"IF($C10=\"\",\"\",KELAS!CA7)","v":0},{"$f":"IF($C10=\"\",\"\",KELAS!CB7)","v":0},{"$f":"IF($C10=\"\",\"\",KELAS!CC7)","v":0},{"$f":"IF($C10=\"\",\"\",KELAS!CD7)","v":0},{"$f":"IF($C10=\"\",\"\",KELAS!CE7)","v":0},{"$f":"IF($C10=\"\",\"\",KELAS!CF7)","v":0},{"$f":"IF($C10=\"\",\"\",KELAS!CG7)","v":0},{"$f":"IF($C10=\"\",\"\",KELAS!CH7)","v":0},"009",{"$f":"IF($C10=\"\",\"\",KELAS!CJ7)","v":0},{"$f":"IF($C10=\"\",\"\",KELAS!CK7)","v":0},{"$f":"IF($C10=\"\",\"\",KELAS!CL7)","v":0},{"$f":"IF($C10=\"\",\"\",KELAS!CM7)","v":0},{"$f":"IF($C10=\"\",\"\",KELAS!CN7)","v":0},{"$f":"IF($C10=\"\",\"\",KELAS!CO7)","v":0},{"$f":"IF($C10=\"\",\"\",KELAS!CP7)","v":0},{"$f":"IF($C10=\"\",\"\",KELAS!CQ7)","v":0},"010",{"$f":"IF($C10=\"\",\"\",KELAS!CS7)","v":0},{"$f":"IF($C10=\"\",\"\",KELAS!CT7)","v":0},{"$f":"IF($C10=\"\",\"\",KELAS!CU7)","v":0},{"$f":"IF($C10=\"\",\"\",KELAS!CV7)","v":0},{"$f":"IF($C10=\"\",\"\",KELAS!CW7)","v":0},{"$f":"IF($C10=\"\",\"\",KELAS!CX7)","v":0},{"$f":"IF($C10=\"\",\"\",KELAS!CY7)","v":0},{"$f":"IF($C10=\"\",\"\",KELAS!CZ7)","v":0},"011",{"$f":"IF($C10=\"\",\"\",KELAS!DB7)","v":0},{"$f":"IF($C10=\"\",\"\",KELAS!DC7)","v":0},{"$f":"IF($C10=\"\",\"\",KELAS!DD7)","v":0},{"$f":"IF($C10=\"\",\"\",KELAS!DE7)","v":0},{"$f":"IF($C10=\"\",\"\",KELAS!DF7)","v":0},{"$f":"IF($C10=\"\",\"\",KELAS!DG7)","v":0},{"$f":"IF($C10=\"\",\"\",KELAS!DH7)","v":0},{"$f":"IF($C10=\"\",\"\",KELAS!DI7)","v":0}]
[{"$f":"IF(KELAS!A8=\"\",\"\",KELAS!A8)","v":6},{"$f":"IF(KELAS!B8=\"\",\"\",KELAS!B8)","v":12493},{"$f":"IF(KELAS!C8=\"\",\"\",PROPER(KELAS!C8))","v":"Chotimah"},{"$f":"IF(KELAS!D8=\"\",\"\",KELAS!D8)","v":"P"},{"$f":"IF(KELAS!E8=\"\",\"\",KELAS!E8)","v":"7.A"},"001",{"$f":"IF($C11=\"\",\"\",KELAS!Q8)","v":0},{"$f":"IF($C11=\"\",\"\",KELAS!R8)","v":0},{"$f":"IF($C11=\"\",\"\",KELAS!S8)","v":0},{"$f":"IF($C11=\"\",\"\",KELAS!T8)","v":0},{"$f":"IF($C11=\"\",\"\",KELAS!U8)","v":0},{"$f":"IF($C11=\"\",\"\",KELAS!V8)","v":0},{"$f":"IF($C11=\"\",\"\",KELAS!W8)","v":0},{"$f":"IF($C11=\"\",\"\",KELAS!X8)","v":0},"002",{"$f":"IF($C11=\"\",\"\",KELAS!Y8)","v":0},{"$f":"IF($C11=\"\",\"\",KELAS!Z8)","v":0},{"$f":"IF($C11=\"\",\"\",KELAS!AA8)","v":0},{"$f":"IF($C11=\"\",\"\",KELAS!AB8)","v":0},{"$f":"IF($C11=\"\",\"\",KELAS!AC8)","v":0},{"$f":"IF($C11=\"\",\"\",KELAS!AD8)","v":0},{"$f":"IF($C11=\"\",\"\",KELAS!AE8)","v":0},{"$f":"IF($C11=\"\",\"\",KELAS!AF8)","v":0},"003",{"$f":"IF($C11=\"\",\"\",KELAS!AH8)","v":0},{"$f":"IF($C11=\"\",\"\",KELAS!AI8)","v":0},{"$f":"IF($C11=\"\",\"\",KELAS!AJ8)","v":0},{"$f":"IF($C11=\"\",\"\",KELAS!AK8)","v":0},{"$f":"IF($C11=\"\",\"\",KELAS!AL8)","v":0},{"$f":"IF($C11=\"\",\"\",KELAS!AM8)","v":0},{"$f":"IF($C11=\"\",\"\",KELAS!AN8)","v":0},{"$f":"IF($C11=\"\",\"\",KELAS!AO8)","v":0},"004",{"$f":"IF($C11=\"\",\"\",KELAS!AQ8)","v":0},{"$f":"IF($C11=\"\",\"\",KELAS!AR8)","v":0},{"$f":"IF($C11=\"\",\"\",KELAS!AS8)","v":0},{"$f":"IF($C11=\"\",\"\",KELAS!AT8)","v":0},{"$f":"IF($C11=\"\",\"\",KELAS!AU8)","v":0},{"$f":"IF($C11=\"\",\"\",KELAS!AV8)","v":0},{"$f":"IF($C11=\"\",\"\",KELAS!AW8)","v":0},{"$f":"IF($C11=\"\",\"\",KELAS!AX8)","v":0},"005",{"$f":"IF($C11=\"\",\"\",KELAS!AZ8)","v":0},{"$f":"IF($C11=\"\",\"\",KELAS!BA8)","v":0},{"$f":"IF($C11=\"\",\"\",KELAS!BB8)","v":0},{"$f":"IF($C11=\"\",\"\",KELAS!BC8)","v":0},{"$f":"IF($C11=\"\",\"\",KELAS!BD8)","v":0},{"$f":"IF($C11=\"\",\"\",KELAS!BE8)","v":0},{"$f":"IF($C11=\"\",\"\",KELAS!BF8)","v":0},{"$f":"IF($C11=\"\",\"\",KELAS!BG8)","v":0},"006",{"$f":"IF($C11=\"\",\"\",KELAS!BI8)","v":0},{"$f":"IF($C11=\"\",\"\",KELAS!BJ8)","v":0},{"$f":"IF($C11=\"\",\"\",KELAS!BK8)","v":0},{"$f":"IF($C11=\"\",\"\",KELAS!BL8)","v":0},{"$f":"IF($C11=\"\",\"\",KELAS!BM8)","v":0},{"$f":"IF($C11=\"\",\"\",KELAS!BN8)","v":0},{"$f":"IF($C11=\"\",\"\",KELAS!BO8)","v":0},{"$f":"IF($C11=\"\",\"\",KELAS!BP8)","v":0},"007",{"$f":"IF($C11=\"\",\"\",KELAS!BR8)","v":0},{"$f":"IF($C11=\"\",\"\",KELAS!BS8)","v":0},{"$f":"IF($C11=\"\",\"\",KELAS!BT8)","v":0},{"$f":"IF($C11=\"\",\"\",KELAS!BU8)","v":0},{"$f":"IF($C11=\"\",\"\",KELAS!BV8)","v":0},{"$f":"IF($C11=\"\",\"\",KELAS!BW8)","v":0},{"$f":"IF($C11=\"\",\"\",KELAS!BX8)","v":0},{"$f":"IF($C11=\"\",\"\",KELAS!BY8)","v":0},"008",{"$f":"IF($C11=\"\",\"\",KELAS!CA8)","v":0},{"$f":"IF($C11=\"\",\"\",KELAS!CB8)","v":0},{"$f":"IF($C11=\"\",\"\",KELAS!CC8)","v":0},{"$f":"IF($C11=\"\",\"\",KELAS!CD8)","v":0},{"$f":"IF($C11=\"\",\"\",KELAS!CE8)","v":0},{"$f":"IF($C11=\"\",\"\",KELAS!CF8)","v":0},{"$f":"IF($C11=\"\",\"\",KELAS!CG8)","v":0},{"$f":"IF($C11=\"\",\"\",KELAS!CH8)","v":0},"009",{"$f":"IF($C11=\"\",\"\",KELAS!CJ8)","v":0},{"$f":"IF($C11=\"\",\"\",KELAS!CK8)","v":0},{"$f":"IF($C11=\"\",\"\",KELAS!CL8)","v":0},{"$f":"IF($C11=\"\",\"\",KELAS!CM8)","v":0},{"$f":"IF($C11=\"\",\"\",KELAS!CN8)","v":0},{"$f":"IF($C11=\"\",\"\",KELAS!CO8)","v":0},{"$f":"IF($C11=\"\",\"\",KELAS!CP8)","v":0},{"$f":"IF($C11=\"\",\"\",KELAS!CQ8)","v":0},"010",{"$f":"IF($C11=\"\",\"\",KELAS!CS8)","v":0},{"$f":"IF($C11=\"\",\"\",KELAS!CT8)","v":0},{"$f":"IF($C11=\"\",\"\",KELAS!CU8)","v":0},{"$f":"IF($C11=\"\",\"\",KELAS!CV8)","v":0},{"$f":"IF($C11=\"\",\"\",KELAS!CW8)","v":0},{"$f":"IF($C11=\"\",\"\",KELAS!CX8)","v":0},{"$f":"IF($C11=\"\",\"\",KELAS!CY8)","v":0},{"$f":"IF($C11=\"\",\"\",KELAS!CZ8)","v":0},"011",{"$f":"IF($C11=\"\",\"\",KELAS!DB8)","v":0},{"$f":"IF($C11=\"\",\"\",KELAS!DC8)","v":0},{"$f":"IF($C11=\"\",\"\",KELAS!DD8)","v":0},{"$f":"IF($C11=\"\",\"\",KELAS!DE8)","v":0},{"$f":"IF($C11=\"\",\"\",KELAS!DF8)","v":0},{"$f":"IF($C11=\"\",\"\",KELAS!DG8)","v":0},{"$f":"IF($C11=\"\",\"\",KELAS!DH8)","v":0},{"$f":"IF($C11=\"\",\"\",KELAS!DI8)","v":0}]
[{"$f":"IF(KELAS!A9=\"\",\"\",KELAS!A9)","v":7},{"$f":"IF(KELAS!B9=\"\",\"\",KELAS!B9)","v":12504},{"$f":"IF(KELAS!C9=\"\",\"\",PROPER(KELAS!C9))","v":"Destin Ayu Ariyani"},{"$f":"IF(KELAS!D9=\"\",\"\",KELAS!D9)","v":"P"},{"$f":"IF(KELAS!E9=\"\",\"\",KELAS!E9)","v":"7.A"},"001",{"$f":"IF($C12=\"\",\"\",KELAS!Q9)","v":0},{"$f":"IF($C12=\"\",\"\",KELAS!R9)","v":0},{"$f":"IF($C12=\"\",\"\",KELAS!S9)","v":0},{"$f":"IF($C12=\"\",\"\",KELAS!T9)","v":0},{"$f":"IF($C12=\"\",\"\",KELAS!U9)","v":0},{"$f":"IF($C12=\"\",\"\",KELAS!V9)","v":0},{"$f":"IF($C12=\"\",\"\",KELAS!W9)","v":0},{"$f":"IF($C12=\"\",\"\",KELAS!X9)","v":0},"002",{"$f":"IF($C12=\"\",\"\",KELAS!Y9)","v":0},{"$f":"IF($C12=\"\",\"\",KELAS!Z9)","v":0},{"$f":"IF($C12=\"\",\"\",KELAS!AA9)","v":0},{"$f":"IF($C12=\"\",\"\",KELAS!AB9)","v":0},{"$f":"IF($C12=\"\",\"\",KELAS!AC9)","v":0},{"$f":"IF($C12=\"\",\"\",KELAS!AD9)","v":0},{"$f":"IF($C12=\"\",\"\",KELAS!AE9)","v":0},{"$f":"IF($C12=\"\",\"\",KELAS!AF9)","v":0},"003",{"$f":"IF($C12=\"\",\"\",KELAS!AH9)","v":0},{"$f":"IF($C12=\"\",\"\",KELAS!AI9)","v":0},{"$f":"IF($C12=\"\",\"\",KELAS!AJ9)","v":0},{"$f":"IF($C12=\"\",\"\",KELAS!AK9)","v":0},{"$f":"IF($C12=\"\",\"\",KELAS!AL9)","v":0},{"$f":"IF($C12=\"\",\"\",KELAS!AM9)","v":0},{"$f":"IF($C12=\"\",\"\",KELAS!AN9)","v":0},{"$f":"IF($C12=\"\",\"\",KELAS!AO9)","v":0},"004",{"$f":"IF($C12=\"\",\"\",KELAS!AQ9)","v":0},{"$f":"IF($C12=\"\",\"\",KELAS!AR9)","v":0},{"$f":"IF($C12=\"\",\"\",KELAS!AS9)","v":0},{"$f":"IF($C12=\"\",\"\",KELAS!AT9)","v":0},{"$f":"IF($C12=\"\",\"\",KELAS!AU9)","v":0},{"$f":"IF($C12=\"\",\"\",KELAS!AV9)","v":0},{"$f":"IF($C12=\"\",\"\",KELAS!AW9)","v":0},{"$f":"IF($C12=\"\",\"\",KELAS!AX9)","v":0},"005",{"$f":"IF($C12=\"\",\"\",KELAS!AZ9)","v":0},{"$f":"IF($C12=\"\",\"\",KELAS!BA9)","v":0},{"$f":"IF($C12=\"\",\"\",KELAS!BB9)","v":0},{"$f":"IF($C12=\"\",\"\",KELAS!BC9)","v":0},{"$f":"IF($C12=\"\",\"\",KELAS!BD9)","v":0},{"$f":"IF($C12=\"\",\"\",KELAS!BE9)","v":0},{"$f":"IF($C12=\"\",\"\",KELAS!BF9)","v":0},{"$f":"IF($C12=\"\",\"\",KELAS!BG9)","v":0},"006",{"$f":"IF($C12=\"\",\"\",KELAS!BI9)","v":0},{"$f":"IF($C12=\"\",\"\",KELAS!BJ9)","v":0},{"$f":"IF($C12=\"\",\"\",KELAS!BK9)","v":0},{"$f":"IF($C12=\"\",\"\",KELAS!BL9)","v":0},{"$f":"IF($C12=\"\",\"\",KELAS!BM9)","v":0},{"$f":"IF($C12=\"\",\"\",KELAS!BN9)","v":0},{"$f":"IF($C12=\"\",\"\",KELAS!BO9)","v":0},{"$f":"IF($C12=\"\",\"\",KELAS!BP9)","v":0},"007",{"$f":"IF($C12=\"\",\"\",KELAS!BR9)","v":0},{"$f":"IF($C12=\"\",\"\",KELAS!BS9)","v":0},{"$f":"IF($C12=\"\",\"\",KELAS!BT9)","v":0},{"$f":"IF($C12=\"\",\"\",KELAS!BU9)","v":0},{"$f":"IF($C12=\"\",\"\",KELAS!BV9)","v":0},{"$f":"IF($C12=\"\",\"\",KELAS!BW9)","v":0},{"$f":"IF($C12=\"\",\"\",KELAS!BX9)","v":0},{"$f":"IF($C12=\"\",\"\",KELAS!BY9)","v":0},"008",{"$f":"IF($C12=\"\",\"\",KELAS!CA9)","v":0},{"$f":"IF($C12=\"\",\"\",KELAS!CB9)","v":0},{"$f":"IF($C12=\"\",\"\",KELAS!CC9)","v":0},{"$f":"IF($C12=\"\",\"\",KELAS!CD9)","v":0},{"$f":"IF($C12=\"\",\"\",KELAS!CE9)","v":0},{"$f":"IF($C12=\"\",\"\",KELAS!CF9)","v":0},{"$f":"IF($C12=\"\",\"\",KELAS!CG9)","v":0},{"$f":"IF($C12=\"\",\"\",KELAS!CH9)","v":0},"009",{"$f":"IF($C12=\"\",\"\",KELAS!CJ9)","v":0},{"$f":"IF($C12=\"\",\"\",KELAS!CK9)","v":0},{"$f":"IF($C12=\"\",\"\",KELAS!CL9)","v":0},{"$f":"IF($C12=\"\",\"\",KELAS!CM9)","v":0},{"$f":"IF($C12=\"\",\"\",KELAS!CN9)","v":0},{"$f":"IF($C12=\"\",\"\",KELAS!CO9)","v":0},{"$f":"IF($C12=\"\",\"\",KELAS!CP9)","v":0},{"$f":"IF($C12=\"\",\"\",KELAS!CQ9)","v":0},"010",{"$f":"IF($C12=\"\",\"\",KELAS!CS9)","v":0},{"$f":"IF($C12=\"\",\"\",KELAS!CT9)","v":0},{"$f":"IF($C12=\"\",\"\",KELAS!CU9)","v":0},{"$f":"IF($C12=\"\",\"\",KELAS!CV9)","v":0},{"$f":"IF($C12=\"\",\"\",KELAS!CW9)","v":0},{"$f":"IF($C12=\"\",\"\",KELAS!CX9)","v":0},{"$f":"IF($C12=\"\",\"\",KELAS!CY9)","v":0},{"$f":"IF($C12=\"\",\"\",KELAS!CZ9)","v":0},"011",{"$f":"IF($C12=\"\",\"\",KELAS!DB9)","v":0},{"$f":"IF($C12=\"\",\"\",KELAS!DC9)","v":0},{"$f":"IF($C12=\"\",\"\",KELAS!DD9)","v":0},{"$f":"IF($C12=\"\",\"\",KELAS!DE9)","v":0},{"$f":"IF($C12=\"\",\"\",KELAS!DF9)","v":0},{"$f":"IF($C12=\"\",\"\",KELAS!DG9)","v":0},{"$f":"IF($C12=\"\",\"\",KELAS!DH9)","v":0},{"$f":"IF($C12=\"\",\"\",KELAS!DI9)","v":0}]
[{"$f":"IF(KELAS!A10=\"\",\"\",KELAS!A10)","v":8},{"$f":"IF(KELAS!B10=\"\",\"\",KELAS!B10)","v":12509},{"$f":"IF(KELAS!C10=\"\",\"\",PROPER(KELAS!C10))","v":"Dhea Rachma Putri"},{"$f":"IF(KELAS!D10=\"\",\"\",KELAS!D10)","v":"P"},{"$f":"IF(KELAS!E10=\"\",\"\",KELAS!E10)","v":"7.A"},"001",{"$f":"IF($C13=\"\",\"\",KELAS!Q10)","v":0},{"$f":"IF($C13=\"\",\"\",KELAS!R10)","v":0},{"$f":"IF($C13=\"\",\"\",KELAS!S10)","v":0},{"$f":"IF($C13=\"\",\"\",KELAS!T10)","v":0},{"$f":"IF($C13=\"\",\"\",KELAS!U10)","v":0},{"$f":"IF($C13=\"\",\"\",KELAS!V10)","v":0},{"$f":"IF($C13=\"\",\"\",KELAS!W10)","v":0},{"$f":"IF($C13=\"\",\"\",KELAS!X10)","v":0},"002",{"$f":"IF($C13=\"\",\"\",KELAS!Y10)","v":0},{"$f":"IF($C13=\"\",\"\",KELAS!Z10)","v":0},{"$f":"IF($C13=\"\",\"\",KELAS!AA10)","v":0},{"$f":"IF($C13=\"\",\"\",KELAS!AB10)","v":0},{"$f":"IF($C13=\"\",\"\",KELAS!AC10)","v":0},{"$f":"IF($C13=\"\",\"\",KELAS!AD10)","v":0},{"$f":"IF($C13=\"\",\"\",KELAS!AE10)","v":0},{"$f":"IF($C13=\"\",\"\",KELAS!AF10)","v":0},"003",{"$f":"IF($C13=\"\",\"\",KELAS!AH10)","v":0},{"$f":"IF($C13=\"\",\"\",KELAS!AI10)","v":0},{"$f":"IF($C13=\"\",\"\",KELAS!AJ10)","v":0},{"$f":"IF($C13=\"\",\"\",KELAS!AK10)","v":0},{"$f":"IF($C13=\"\",\"\",KELAS!AL10)","v":0},{"$f":"IF($C13=\"\",\"\",KELAS!AM10)","v":0},{"$f":"IF($C13=\"\",\"\",KELAS!AN10)","v":0},{"$f":"IF($C13=\"\",\"\",KELAS!AO10)","v":0},"004",{"$f":"IF($C13=\"\",\"\",KELAS!AQ10)","v":0},{"$f":"IF($C13=\"\",\"\",KELAS!AR10)","v":0},{"$f":"IF($C13=\"\",\"\",KELAS!AS10)","v":0},{"$f":"IF($C13=\"\",\"\",KELAS!AT10)","v":0},{"$f":"IF($C13=\"\",\"\",KELAS!AU10)","v":0},{"$f":"IF($C13=\"\",\"\",KELAS!AV10)","v":0},{"$f":"IF($C13=\"\",\"\",KELAS!AW10)","v":0},{"$f":"IF($C13=\"\",\"\",KELAS!AX10)","v":0},"005",{"$f":"IF($C13=\"\",\"\",KELAS!AZ10)","v":0},{"$f":"IF($C13=\"\",\"\",KELAS!BA10)","v":0},{"$f":"IF($C13=\"\",\"\",KELAS!BB10)","v":0},{"$f":"IF($C13=\"\",\"\",KELAS!BC10)","v":0},{"$f":"IF($C13=\"\",\"\",KELAS!BD10)","v":0},{"$f":"IF($C13=\"\",\"\",KELAS!BE10)","v":0},{"$f":"IF($C13=\"\",\"\",KELAS!BF10)","v":0},{"$f":"IF($C13=\"\",\"\",KELAS!BG10)","v":0},"006",{"$f":"IF($C13=\"\",\"\",KELAS!BI10)","v":0},{"$f":"IF($C13=\"\",\"\",KELAS!BJ10)","v":0},{"$f":"IF($C13=\"\",\"\",KELAS!BK10)","v":0},{"$f":"IF($C13=\"\",\"\",KELAS!BL10)","v":0},{"$f":"IF($C13=\"\",\"\",KELAS!BM10)","v":0},{"$f":"IF($C13=\"\",\"\",KELAS!BN10)","v":0},{"$f":"IF($C13=\"\",\"\",KELAS!BO10)","v":0},{"$f":"IF($C13=\"\",\"\",KELAS!BP10)","v":0},"007",{"$f":"IF($C13=\"\",\"\",KELAS!BR10)","v":0},{"$f":"IF($C13=\"\",\"\",KELAS!BS10)","v":0},{"$f":"IF($C13=\"\",\"\",KELAS!BT10)","v":0},{"$f":"IF($C13=\"\",\"\",KELAS!BU10)","v":0},{"$f":"IF($C13=\"\",\"\",KELAS!BV10)","v":0},{"$f":"IF($C13=\"\",\"\",KELAS!BW10)","v":0},{"$f":"IF($C13=\"\",\"\",KELAS!BX10)","v":0},{"$f":"IF($C13=\"\",\"\",KELAS!BY10)","v":0},"008",{"$f":"IF($C13=\"\",\"\",KELAS!CA10)","v":0},{"$f":"IF($C13=\"\",\"\",KELAS!CB10)","v":0},{"$f":"IF($C13=\"\",\"\",KELAS!CC10)","v":0},{"$f":"IF($C13=\"\",\"\",KELAS!CD10)","v":0},{"$f":"IF($C13=\"\",\"\",KELAS!CE10)","v":0},{"$f":"IF($C13=\"\",\"\",KELAS!CF10)","v":0},{"$f":"IF($C13=\"\",\"\",KELAS!CG10)","v":0},{"$f":"IF($C13=\"\",\"\",KELAS!CH10)","v":0},"009",{"$f":"IF($C13=\"\",\"\",KELAS!CJ10)","v":0},{"$f":"IF($C13=\"\",\"\",KELAS!CK10)","v":0},{"$f":"IF($C13=\"\",\"\",KELAS!CL10)","v":0},{"$f":"IF($C13=\"\",\"\",KELAS!CM10)","v":0},{"$f":"IF($C13=\"\",\"\",KELAS!CN10)","v":0},{"$f":"IF($C13=\"\",\"\",KELAS!CO10)","v":0},{"$f":"IF($C13=\"\",\"\",KELAS!CP10)","v":0},{"$f":"IF($C13=\"\",\"\",KELAS!CQ10)","v":0},"010",{"$f":"IF($C13=\"\",\"\",KELAS!CS10)","v":0},{"$f":"IF($C13=\"\",\"\",KELAS!CT10)","v":0},{"$f":"IF($C13=\"\",\"\",KELAS!CU10)","v":0},{"$f":"IF($C13=\"\",\"\",KELAS!CV10)","v":0},{"$f":"IF($C13=\"\",\"\",KELAS!CW10)","v":0},{"$f":"IF($C13=\"\",\"\",KELAS!CX10)","v":0},{"$f":"IF($C13=\"\",\"\",KELAS!CY10)","v":0},{"$f":"IF($C13=\"\",\"\",KELAS!CZ10)","v":0},"011",{"$f":"IF($C13=\"\",\"\",KELAS!DB10)","v":0},{"$f":"IF($C13=\"\",\"\",KELAS!DC10)","v":0},{"$f":"IF($C13=\"\",\"\",KELAS!DD10)","v":0},{"$f":"IF($C13=\"\",\"\",KELAS!DE10)","v":0},{"$f":"IF($C13=\"\",\"\",KELAS!DF10)","v":0},{"$f":"IF($C13=\"\",\"\",KELAS!DG10)","v":0},{"$f":"IF($C13=\"\",\"\",KELAS!DH10)","v":0},{"$f":"IF($C13=\"\",\"\",KELAS!DI10)","v":0}]
[{"$f":"IF(KELAS!A11=\"\",\"\",KELAS!A11)","v":9},{"$f":"IF(KELAS!B11=\"\",\"\",KELAS!B11)","v":12545},{"$f":"IF(KELAS!C11=\"\",\"\",PROPER(KELAS!C11))","v":"Fajar Ilahi"},{"$f":"IF(KELAS!D11=\"\",\"\",KELAS!D11)","v":"L"},{"$f":"IF(KELAS!E11=\"\",\"\",KELAS!E11)","v":"7.A"},"001",{"$f":"IF($C14=\"\",\"\",KELAS!Q11)","v":0},{"$f":"IF($C14=\"\",\"\",KELAS!R11)","v":0},{"$f":"IF($C14=\"\",\"\",KELAS!S11)","v":0},{"$f":"IF($C14=\"\",\"\",KELAS!T11)","v":0},{"$f":"IF($C14=\"\",\"\",KELAS!U11)","v":0},{"$f":"IF($C14=\"\",\"\",KELAS!V11)","v":0},{"$f":"IF($C14=\"\",\"\",KELAS!W11)","v":0},{"$f":"IF($C14=\"\",\"\",KELAS!X11)","v":0},"002",{"$f":"IF($C14=\"\",\"\",KELAS!Y11)","v":0},{"$f":"IF($C14=\"\",\"\",KELAS!Z11)","v":0},{"$f":"IF($C14=\"\",\"\",KELAS!AA11)","v":0},{"$f":"IF($C14=\"\",\"\",KELAS!AB11)","v":0},{"$f":"IF($C14=\"\",\"\",KELAS!AC11)","v":0},{"$f":"IF($C14=\"\",\"\",KELAS!AD11)","v":0},{"$f":"IF($C14=\"\",\"\",KELAS!AE11)","v":0},{"$f":"IF($C14=\"\",\"\",KELAS!AF11)","v":0},"003",{"$f":"IF($C14=\"\",\"\",KELAS!AH11)","v":0},{"$f":"IF($C14=\"\",\"\",KELAS!AI11)","v":0},{"$f":"IF($C14=\"\",\"\",KELAS!AJ11)","v":0},{"$f":"IF($C14=\"\",\"\",KELAS!AK11)","v":0},{"$f":"IF($C14=\"\",\"\",KELAS!AL11)","v":0},{"$f":"IF($C14=\"\",\"\",KELAS!AM11)","v":0},{"$f":"IF($C14=\"\",\"\",KELAS!AN11)","v":0},{"$f":"IF($C14=\"\",\"\",KELAS!AO11)","v":0},"004",{"$f":"IF($C14=\"\",\"\",KELAS!AQ11)","v":0},{"$f":"IF($C14=\"\",\"\",KELAS!AR11)","v":0},{"$f":"IF($C14=\"\",\"\",KELAS!AS11)","v":0},{"$f":"IF($C14=\"\",\"\",KELAS!AT11)","v":0},{"$f":"IF($C14=\"\",\"\",KELAS!AU11)","v":0},{"$f":"IF($C14=\"\",\"\",KELAS!AV11)","v":0},{"$f":"IF($C14=\"\",\"\",KELAS!AW11)","v":0},{"$f":"IF($C14=\"\",\"\",KELAS!AX11)","v":0},"005",{"$f":"IF($C14=\"\",\"\",KELAS!AZ11)","v":0},{"$f":"IF($C14=\"\",\"\",KELAS!BA11)","v":0},{"$f":"IF($C14=\"\",\"\",KELAS!BB11)","v":0},{"$f":"IF($C14=\"\",\"\",KELAS!BC11)","v":0},{"$f":"IF($C14=\"\",\"\",KELAS!BD11)","v":0},{"$f":"IF($C14=\"\",\"\",KELAS!BE11)","v":0},{"$f":"IF($C14=\"\",\"\",KELAS!BF11)","v":0},{"$f":"IF($C14=\"\",\"\",KELAS!BG11)","v":0},"006",{"$f":"IF($C14=\"\",\"\",KELAS!BI11)","v":0},{"$f":"IF($C14=\"\",\"\",KELAS!BJ11)","v":0},{"$f":"IF($C14=\"\",\"\",KELAS!BK11)","v":0},{"$f":"IF($C14=\"\",\"\",KELAS!BL11)","v":0},{"$f":"IF($C14=\"\",\"\",KELAS!BM11)","v":0},{"$f":"IF($C14=\"\",\"\",KELAS!BN11)","v":0},{"$f":"IF($C14=\"\",\"\",KELAS!BO11)","v":0},{"$f":"IF($C14=\"\",\"\",KELAS!BP11)","v":0},"007",{"$f":"IF($C14=\"\",\"\",KELAS!BR11)","v":0},{"$f":"IF($C14=\"\",\"\",KELAS!BS11)","v":0},{"$f":"IF($C14=\"\",\"\",KELAS!BT11)","v":0},{"$f":"IF($C14=\"\",\"\",KELAS!BU11)","v":0},{"$f":"IF($C14=\"\",\"\",KELAS!BV11)","v":0},{"$f":"IF($C14=\"\",\"\",KELAS!BW11)","v":0},{"$f":"IF($C14=\"\",\"\",KELAS!BX11)","v":0},{"$f":"IF($C14=\"\",\"\",KELAS!BY11)","v":0},"008",{"$f":"IF($C14=\"\",\"\",KELAS!CA11)","v":0},{"$f":"IF($C14=\"\",\"\",KELAS!CB11)","v":0},{"$f":"IF($C14=\"\",\"\",KELAS!CC11)","v":0},{"$f":"IF($C14=\"\",\"\",KELAS!CD11)","v":0},{"$f":"IF($C14=\"\",\"\",KELAS!CE11)","v":0},{"$f":"IF($C14=\"\",\"\",KELAS!CF11)","v":0},{"$f":"IF($C14=\"\",\"\",KELAS!CG11)","v":0},{"$f":"IF($C14=\"\",\"\",KELAS!CH11)","v":0},"009",{"$f":"IF($C14=\"\",\"\",KELAS!CJ11)","v":0},{"$f":"IF($C14=\"\",\"\",KELAS!CK11)","v":0},{"$f":"IF($C14=\"\",\"\",KELAS!CL11)","v":0},{"$f":"IF($C14=\"\",\"\",KELAS!CM11)","v":0},{"$f":"IF($C14=\"\",\"\",KELAS!CN11)","v":0},{"$f":"IF($C14=\"\",\"\",KELAS!CO11)","v":0},{"$f":"IF($C14=\"\",\"\",KELAS!CP11)","v":0},{"$f":"IF($C14=\"\",\"\",KELAS!CQ11)","v":0},"010",{"$f":"IF($C14=\"\",\"\",KELAS!CS11)","v":0},{"$f":"IF($C14=\"\",\"\",KELAS!CT11)","v":0},{"$f":"IF($C14=\"\",\"\",KELAS!CU11)","v":0},{"$f":"IF($C14=\"\",\"\",KELAS!CV11)","v":0},{"$f":"IF($C14=\"\",\"\",KELAS!CW11)","v":0},{"$f":"IF($C14=\"\",\"\",KELAS!CX11)","v":0},{"$f":"IF($C14=\"\",\"\",KELAS!CY11)","v":0},{"$f":"IF($C14=\"\",\"\",KELAS!CZ11)","v":0},"011",{"$f":"IF($C14=\"\",\"\",KELAS!DB11)","v":0},{"$f":"IF($C14=\"\",\"\",KELAS!DC11)","v":0},{"$f":"IF($C14=\"\",\"\",KELAS!DD11)","v":0},{"$f":"IF($C14=\"\",\"\",KELAS!DE11)","v":0},{"$f":"IF($C14=\"\",\"\",KELAS!DF11)","v":0},{"$f":"IF($C14=\"\",\"\",KELAS!DG11)","v":0},{"$f":"IF($C14=\"\",\"\",KELAS!DH11)","v":0},{"$f":"IF($C14=\"\",\"\",KELAS!DI11)","v":0}]
[{"$f":"IF(KELAS!A12=\"\",\"\",KELAS!A12)","v":10},{"$f":"IF(KELAS!B12=\"\",\"\",KELAS!B12)","v":12551},{"$f":"IF(KELAS!C12=\"\",\"\",PROPER(KELAS!C12))","v":"Felita Emilia Rahma"},{"$f":"IF(KELAS!D12=\"\",\"\",KELAS!D12)","v":"P"},{"$f":"IF(KELAS!E12=\"\",\"\",KELAS!E12)","v":"7.A"},"001",{"$f":"IF($C15=\"\",\"\",KELAS!Q12)","v":0},{"$f":"IF($C15=\"\",\"\",KELAS!R12)","v":0},{"$f":"IF($C15=\"\",\"\",KELAS!S12)","v":0},{"$f":"IF($C15=\"\",\"\",KELAS!T12)","v":0},{"$f":"IF($C15=\"\",\"\",KELAS!U12)","v":0},{"$f":"IF($C15=\"\",\"\",KELAS!V12)","v":0},{"$f":"IF($C15=\"\",\"\",KELAS!W12)","v":0},{"$f":"IF($C15=\"\",\"\",KELAS!X12)","v":0},"002",{"$f":"IF($C15=\"\",\"\",KELAS!Y12)","v":0},{"$f":"IF($C15=\"\",\"\",KELAS!Z12)","v":0},{"$f":"IF($C15=\"\",\"\",KELAS!AA12)","v":0},{"$f":"IF($C15=\"\",\"\",KELAS!AB12)","v":0},{"$f":"IF($C15=\"\",\"\",KELAS!AC12)","v":0},{"$f":"IF($C15=\"\",\"\",KELAS!AD12)","v":0},{"$f":"IF($C15=\"\",\"\",KELAS!AE12)","v":0},{"$f":"IF($C15=\"\",\"\",KELAS!AF12)","v":0},"003",{"$f":"IF($C15=\"\",\"\",KELAS!AH12)","v":0},{"$f":"IF($C15=\"\",\"\",KELAS!AI12)","v":0},{"$f":"IF($C15=\"\",\"\",KELAS!AJ12)","v":0},{"$f":"IF($C15=\"\",\"\",KELAS!AK12)","v":0},{"$f":"IF($C15=\"\",\"\",KELAS!AL12)","v":0},{"$f":"IF($C15=\"\",\"\",KELAS!AM12)","v":0},{"$f":"IF($C15=\"\",\"\",KELAS!AN12)","v":0},{"$f":"IF($C15=\"\",\"\",KELAS!AO12)","v":0},"004",{"$f":"IF($C15=\"\",\"\",KELAS!AQ12)","v":0},{"$f":"IF($C15=\"\",\"\",KELAS!AR12)","v":0},{"$f":"IF($C15=\"\",\"\",KELAS!AS12)","v":0},{"$f":"IF($C15=\"\",\"\",KELAS!AT12)","v":0},{"$f":"IF($C15=\"\",\"\",KELAS!AU12)","v":0},{"$f":"IF($C15=\"\",\"\",KELAS!AV12)","v":0},{"$f":"IF($C15=\"\",\"\",KELAS!AW12)","v":0},{"$f":"IF($C15=\"\",\"\",KELAS!AX12)","v":0},"005",{"$f":"IF($C15=\"\",\"\",KELAS!AZ12)","v":0},{"$f":"IF($C15=\"\",\"\",KELAS!BA12)","v":0},{"$f":"IF($C15=\"\",\"\",KELAS!BB12)","v":0},{"$f":"IF($C15=\"\",\"\",KELAS!BC12)","v":0},{"$f":"IF($C15=\"\",\"\",KELAS!BD12)","v":0},{"$f":"IF($C15=\"\",\"\",KELAS!BE12)","v":0},{"$f":"IF($C15=\"\",\"\",KELAS!BF12)","v":0},{"$f":"IF($C15=\"\",\"\",KELAS!BG12)","v":0},"006",{"$f":"IF($C15=\"\",\"\",KELAS!BI12)","v":0},{"$f":"IF($C15=\"\",\"\",KELAS!BJ12)","v":0},{"$f":"IF($C15=\"\",\"\",KELAS!BK12)","v":0},{"$f":"IF($C15=\"\",\"\",KELAS!BL12)","v":0},{"$f":"IF($C15=\"\",\"\",KELAS!BM12)","v":0},{"$f":"IF($C15=\"\",\"\",KELAS!BN12)","v":0},{"$f":"IF($C15=\"\",\"\",KELAS!BO12)","v":0},{"$f":"IF($C15=\"\",\"\",KELAS!BP12)","v":0},"007",{"$f":"IF($C15=\"\",\"\",KELAS!BR12)","v":0},{"$f":"IF($C15=\"\",\"\",KELAS!BS12)","v":0},{"$f":"IF($C15=\"\",\"\",KELAS!BT12)","v":0},{"$f":"IF($C15=\"\",\"\",KELAS!BU12)","v":0},{"$f":"IF($C15=\"\",\"\",KELAS!BV12)","v":0},{"$f":"IF($C15=\"\",\"\",KELAS!BW12)","v":0},{"$f":"IF($C15=\"\",\"\",KELAS!BX12)","v":0},{"$f":"IF($C15=\"\",\"\",KELAS!BY12)","v":0},"008",{"$f":"IF($C15=\"\",\"\",KELAS!CA12)","v":0},{"$f":"IF($C15=\"\",\"\",KELAS!CB12)","v":0},{"$f":"IF($C15=\"\",\"\",KELAS!CC12)","v":0},{"$f":"IF($C15=\"\",\"\",KELAS!CD12)","v":0},{"$f":"IF($C15=\"\",\"\",KELAS!CE12)","v":0},{"$f":"IF($C15=\"\",\"\",KELAS!CF12)","v":0},{"$f":"IF($C15=\"\",\"\",KELAS!CG12)","v":0},{"$f":"IF($C15=\"\",\"\",KELAS!CH12)","v":0},"009",{"$f":"IF($C15=\"\",\"\",KELAS!CJ12)","v":0},{"$f":"IF($C15=\"\",\"\",KELAS!CK12)","v":0},{"$f":"IF($C15=\"\",\"\",KELAS!CL12)","v":0},{"$f":"IF($C15=\"\",\"\",KELAS!CM12)","v":0},{"$f":"IF($C15=\"\",\"\",KELAS!CN12)","v":0},{"$f":"IF($C15=\"\",\"\",KELAS!CO12)","v":0},{"$f":"IF($C15=\"\",\"\",KELAS!CP12)","v":0},{"$f":"IF($C15=\"\",\"\",KELAS!CQ12)","v":0},"010",{"$f":"IF($C15=\"\",\"\",KELAS!CS12)","v":0},{"$f":"IF($C15=\"\",\"\",KELAS!CT12)","v":0},{"$f":"IF($C15=\"\",\"\",KELAS!CU12)","v":0},{"$f":"IF($C15=\"\",\"\",KELAS!CV12)","v":0},{"$f":"IF($C15=\"\",\"\",KELAS!CW12)","v":0},{"$f":"IF($C15=\"\",\"\",KELAS!CX12)","v":0},{"$f":"IF($C15=\"\",\"\",KELAS!CY12)","v":0},{"$f":"IF($C15=\"\",\"\",KELAS!CZ12)","v":0},"011",{"$f":"IF($C15=\"\",\"\",KELAS!DB12)","v":0},{"$f":"IF($C15=\"\",\"\",KELAS!DC12)","v":0},{"$f":"IF($C15=\"\",\"\",KELAS!DD12)","v":0},{"$f":"IF($C15=\"\",\"\",KELAS!DE12)","v":0},{"$f":"IF($C15=\"\",\"\",KELAS!DF12)","v":0},{"$f":"IF($C15=\"\",\"\",KELAS!DG12)","v":0},{"$f":"IF($C15=\"\",\"\",KELAS!DH12)","v":0},{"$f":"IF($C15=\"\",\"\",KELAS!DI12)","v":0}]
[{"$f":"IF(KELAS!A13=\"\",\"\",KELAS!A13)","v":11},{"$f":"IF(KELAS!B13=\"\",\"\",KELAS!B13)","v":12554},{"$f":"IF(KELAS!C13=\"\",\"\",PROPER(KELAS!C13))","v":"Feryanta Putra Utama"},{"$f":"IF(KELAS!D13=\"\",\"\",KELAS!D13)","v":"L"},{"$f":"IF(KELAS!E13=\"\",\"\",KELAS!E13)","v":"7.A"},"001",{"$f":"IF($C16=\"\",\"\",KELAS!Q13)","v":0},{"$f":"IF($C16=\"\",\"\",KELAS!R13)","v":0},{"$f":"IF($C16=\"\",\"\",KELAS!S13)","v":0},{"$f":"IF($C16=\"\",\"\",KELAS!T13)","v":0},{"$f":"IF($C16=\"\",\"\",KELAS!U13)","v":0},{"$f":"IF($C16=\"\",\"\",KELAS!V13)","v":0},{"$f":"IF($C16=\"\",\"\",KELAS!W13)","v":0},{"$f":"IF($C16=\"\",\"\",KELAS!X13)","v":0},"002",{"$f":"IF($C16=\"\",\"\",KELAS!Y13)","v":0},{"$f":"IF($C16=\"\",\"\",KELAS!Z13)","v":0},{"$f":"IF($C16=\"\",\"\",KELAS!AA13)","v":0},{"$f":"IF($C16=\"\",\"\",KELAS!AB13)","v":0},{"$f":"IF($C16=\"\",\"\",KELAS!AC13)","v":0},{"$f":"IF($C16=\"\",\"\",KELAS!AD13)","v":0},{"$f":"IF($C16=\"\",\"\",KELAS!AE13)","v":0},{"$f":"IF($C16=\"\",\"\",KELAS!AF13)","v":0},"003",{"$f":"IF($C16=\"\",\"\",KELAS!AH13)","v":0},{"$f":"IF($C16=\"\",\"\",KELAS!AI13)","v":0},{"$f":"IF($C16=\"\",\"\",KELAS!AJ13)","v":0},{"$f":"IF($C16=\"\",\"\",KELAS!AK13)","v":0},{"$f":"IF($C16=\"\",\"\",KELAS!AL13)","v":0},{"$f":"IF($C16=\"\",\"\",KELAS!AM13)","v":0},{"$f":"IF($C16=\"\",\"\",KELAS!AN13)","v":0},{"$f":"IF($C16=\"\",\"\",KELAS!AO13)","v":0},"004",{"$f":"IF($C16=\"\",\"\",KELAS!AQ13)","v":0},{"$f":"IF($C16=\"\",\"\",KELAS!AR13)","v":0},{"$f":"IF($C16=\"\",\"\",KELAS!AS13)","v":0},{"$f":"IF($C16=\"\",\"\",KELAS!AT13)","v":0},{"$f":"IF($C16=\"\",\"\",KELAS!AU13)","v":0},{"$f":"IF($C16=\"\",\"\",KELAS!AV13)","v":0},{"$f":"IF($C16=\"\",\"\",KELAS!AW13)","v":0},{"$f":"IF($C16=\"\",\"\",KELAS!AX13)","v":0},"005",{"$f":"IF($C16=\"\",\"\",KELAS!AZ13)","v":0},{"$f":"IF($C16=\"\",\"\",KELAS!BA13)","v":0},{"$f":"IF($C16=\"\",\"\",KELAS!BB13)","v":0},{"$f":"IF($C16=\"\",\"\",KELAS!BC13)","v":0},{"$f":"IF($C16=\"\",\"\",KELAS!BD13)","v":0},{"$f":"IF($C16=\"\",\"\",KELAS!BE13)","v":0},{"$f":"IF($C16=\"\",\"\",KELAS!BF13)","v":0},{"$f":"IF($C16=\"\",\"\",KELAS!BG13)","v":0},"006",{"$f":"IF($C16=\"\",\"\",KELAS!BI13)","v":0},{"$f":"IF($C16=\"\",\"\",KELAS!BJ13)","v":0},{"$f":"IF($C16=\"\",\"\",KELAS!BK13)","v":0},{"$f":"IF($C16=\"\",\"\",KELAS!BL13)","v":0},{"$f":"IF($C16=\"\",\"\",KELAS!BM13)","v":0},{"$f":"IF($C16=\"\",\"\",KELAS!BN13)","v":0},{"$f":"IF($C16=\"\",\"\",KELAS!BO13)","v":0},{"$f":"IF($C16=\"\",\"\",KELAS!BP13)","v":0},"007",{"$f":"IF($C16=\"\",\"\",KELAS!BR13)","v":0},{"$f":"IF($C16=\"\",\"\",KELAS!BS13)","v":0},{"$f":"IF($C16=\"\",\"\",KELAS!BT13)","v":0},{"$f":"IF($C16=\"\",\"\",KELAS!BU13)","v":0},{"$f":"IF($C16=\"\",\"\",KELAS!BV13)","v":0},{"$f":"IF($C16=\"\",\"\",KELAS!BW13)","v":0},{"$f":"IF($C16=\"\",\"\",KELAS!BX13)","v":0},{"$f":"IF($C16=\"\",\"\",KELAS!BY13)","v":0},"008",{"$f":"IF($C16=\"\",\"\",KELAS!CA13)","v":0},{"$f":"IF($C16=\"\",\"\",KELAS!CB13)","v":0},{"$f":"IF($C16=\"\",\"\",KELAS!CC13)","v":0},{"$f":"IF($C16=\"\",\"\",KELAS!CD13)","v":0},{"$f":"IF($C16=\"\",\"\",KELAS!CE13)","v":0},{"$f":"IF($C16=\"\",\"\",KELAS!CF13)","v":0},{"$f":"IF($C16=\"\",\"\",KELAS!CG13)","v":0},{"$f":"IF($C16=\"\",\"\",KELAS!CH13)","v":0},"009",{"$f":"IF($C16=\"\",\"\",KELAS!CJ13)","v":0},{"$f":"IF($C16=\"\",\"\",KELAS!CK13)","v":0},{"$f":"IF($C16=\"\",\"\",KELAS!CL13)","v":0},{"$f":"IF($C16=\"\",\"\",KELAS!CM13)","v":0},{"$f":"IF($C16=\"\",\"\",KELAS!CN13)","v":0},{"$f":"IF($C16=\"\",\"\",KELAS!CO13)","v":0},{"$f":"IF($C16=\"\",\"\",KELAS!CP13)","v":0},{"$f":"IF($C16=\"\",\"\",KELAS!CQ13)","v":0},"010",{"$f":"IF($C16=\"\",\"\",KELAS!CS13)","v":0},{"$f":"IF($C16=\"\",\"\",KELAS!CT13)","v":0},{"$f":"IF($C16=\"\",\"\",KELAS!CU13)","v":0},{"$f":"IF($C16=\"\",\"\",KELAS!CV13)","v":0},{"$f":"IF($C16=\"\",\"\",KELAS!CW13)","v":0},{"$f":"IF($C16=\"\",\"\",KELAS!CX13)","v":0},{"$f":"IF($C16=\"\",\"\",KELAS!CY13)","v":0},{"$f":"IF($C16=\"\",\"\",KELAS!CZ13)","v":0},"011",{"$f":"IF($C16=\"\",\"\",KELAS!DB13)","v":0},{"$f":"IF($C16=\"\",\"\",KELAS!DC13)","v":0},{"$f":"IF($C16=\"\",\"\",KELAS!DD13)","v":0},{"$f":"IF($C16=\"\",\"\",KELAS!DE13)","v":0},{"$f":"IF($C16=\"\",\"\",KELAS!DF13)","v":0},{"$f":"IF($C16=\"\",\"\",KELAS!DG13)","v":0},{"$f":"IF($C16=\"\",\"\",KELAS!DH13)","v":0},{"$f":"IF($C16=\"\",\"\",KELAS!DI13)","v":0}]
[{"$f":"IF(KELAS!A14=\"\",\"\",KELAS!A14)","v":12},{"$f":"IF(KELAS!B14=\"\",\"\",KELAS!B14)","v":12556},{"$f":"IF(KELAS!C14=\"\",\"\",PROPER(KELAS!C14))","v":"Firda Adhitya Ulfah Hanif"},{"$f":"IF(KELAS!D14=\"\",\"\",KELAS!D14)","v":"P"},{"$f":"IF(KELAS!E14=\"\",\"\",KELAS!E14)","v":"7.A"},"001",{"$f":"IF($C17=\"\",\"\",KELAS!Q14)","v":0},{"$f":"IF($C17=\"\",\"\",KELAS!R14)","v":0},{"$f":"IF($C17=\"\",\"\",KELAS!S14)","v":0},{"$f":"IF($C17=\"\",\"\",KELAS!T14)","v":0},{"$f":"IF($C17=\"\",\"\",KELAS!U14)","v":0},{"$f":"IF($C17=\"\",\"\",KELAS!V14)","v":0},{"$f":"IF($C17=\"\",\"\",KELAS!W14)","v":0},{"$f":"IF($C17=\"\",\"\",KELAS!X14)","v":0},"002",{"$f":"IF($C17=\"\",\"\",KELAS!Y14)","v":0},{"$f":"IF($C17=\"\",\"\",KELAS!Z14)","v":0},{"$f":"IF($C17=\"\",\"\",KELAS!AA14)","v":0},{"$f":"IF($C17=\"\",\"\",KELAS!AB14)","v":0},{"$f":"IF($C17=\"\",\"\",KELAS!AC14)","v":0},{"$f":"IF($C17=\"\",\"\",KELAS!AD14)","v":0},{"$f":"IF($C17=\"\",\"\",KELAS!AE14)","v":0},{"$f":"IF($C17=\"\",\"\",KELAS!AF14)","v":0},"003",{"$f":"IF($C17=\"\",\"\",KELAS!AH14)","v":0},{"$f":"IF($C17=\"\",\"\",KELAS!AI14)","v":0},{"$f":"IF($C17=\"\",\"\",KELAS!AJ14)","v":0},{"$f":"IF($C17=\"\",\"\",KELAS!AK14)","v":0},{"$f":"IF($C17=\"\",\"\",KELAS!AL14)","v":0},{"$f":"IF($C17=\"\",\"\",KELAS!AM14)","v":0},{"$f":"IF($C17=\"\",\"\",KELAS!AN14)","v":0},{"$f":"IF($C17=\"\",\"\",KELAS!AO14)","v":0},"004",{"$f":"IF($C17=\"\",\"\",KELAS!AQ14)","v":0},{"$f":"IF($C17=\"\",\"\",KELAS!AR14)","v":0},{"$f":"IF($C17=\"\",\"\",KELAS!AS14)","v":0},{"$f":"IF($C17=\"\",\"\",KELAS!AT14)","v":0},{"$f":"IF($C17=\"\",\"\",KELAS!AU14)","v":0},{"$f":"IF($C17=\"\",\"\",KELAS!AV14)","v":0},{"$f":"IF($C17=\"\",\"\",KELAS!AW14)","v":0},{"$f":"IF($C17=\"\",\"\",KELAS!AX14)","v":0},"005",{"$f":"IF($C17=\"\",\"\",KELAS!AZ14)","v":0},{"$f":"IF($C17=\"\",\"\",KELAS!BA14)","v":0},{"$f":"IF($C17=\"\",\"\",KELAS!BB14)","v":0},{"$f":"IF($C17=\"\",\"\",KELAS!BC14)","v":0},{"$f":"IF($C17=\"\",\"\",KELAS!BD14)","v":0},{"$f":"IF($C17=\"\",\"\",KELAS!BE14)","v":0},{"$f":"IF($C17=\"\",\"\",KELAS!BF14)","v":0},{"$f":"IF($C17=\"\",\"\",KELAS!BG14)","v":0},"006",{"$f":"IF($C17=\"\",\"\",KELAS!BI14)","v":0},{"$f":"IF($C17=\"\",\"\",KELAS!BJ14)","v":0},{"$f":"IF($C17=\"\",\"\",KELAS!BK14)","v":0},{"$f":"IF($C17=\"\",\"\",KELAS!BL14)","v":0},{"$f":"IF($C17=\"\",\"\",KELAS!BM14)","v":0},{"$f":"IF($C17=\"\",\"\",KELAS!BN14)","v":0},{"$f":"IF($C17=\"\",\"\",KELAS!BO14)","v":0},{"$f":"IF($C17=\"\",\"\",KELAS!BP14)","v":0},"007",{"$f":"IF($C17=\"\",\"\",KELAS!BR14)","v":0},{"$f":"IF($C17=\"\",\"\",KELAS!BS14)","v":0},{"$f":"IF($C17=\"\",\"\",KELAS!BT14)","v":0},{"$f":"IF($C17=\"\",\"\",KELAS!BU14)","v":0},{"$f":"IF($C17=\"\",\"\",KELAS!BV14)","v":0},{"$f":"IF($C17=\"\",\"\",KELAS!BW14)","v":0},{"$f":"IF($C17=\"\",\"\",KELAS!BX14)","v":0},{"$f":"IF($C17=\"\",\"\",KELAS!BY14)","v":0},"008",{"$f":"IF($C17=\"\",\"\",KELAS!CA14)","v":0},{"$f":"IF($C17=\"\",\"\",KELAS!CB14)","v":0},{"$f":"IF($C17=\"\",\"\",KELAS!CC14)","v":0},{"$f":"IF($C17=\"\",\"\",KELAS!CD14)","v":0},{"$f":"IF($C17=\"\",\"\",KELAS!CE14)","v":0},{"$f":"IF($C17=\"\",\"\",KELAS!CF14)","v":0},{"$f":"IF($C17=\"\",\"\",KELAS!CG14)","v":0},{"$f":"IF($C17=\"\",\"\",KELAS!CH14)","v":0},"009",{"$f":"IF($C17=\"\",\"\",KELAS!CJ14)","v":0},{"$f":"IF($C17=\"\",\"\",KELAS!CK14)","v":0},{"$f":"IF($C17=\"\",\"\",KELAS!CL14)","v":0},{"$f":"IF($C17=\"\",\"\",KELAS!CM14)","v":0},{"$f":"IF($C17=\"\",\"\",KELAS!CN14)","v":0},{"$f":"IF($C17=\"\",\"\",KELAS!CO14)","v":0},{"$f":"IF($C17=\"\",\"\",KELAS!CP14)","v":0},{"$f":"IF($C17=\"\",\"\",KELAS!CQ14)","v":0},"010",{"$f":"IF($C17=\"\",\"\",KELAS!CS14)","v":0},{"$f":"IF($C17=\"\",\"\",KELAS!CT14)","v":0},{"$f":"IF($C17=\"\",\"\",KELAS!CU14)","v":0},{"$f":"IF($C17=\"\",\"\",KELAS!CV14)","v":0},{"$f":"IF($C17=\"\",\"\",KELAS!CW14)","v":0},{"$f":"IF($C17=\"\",\"\",KELAS!CX14)","v":0},{"$f":"IF($C17=\"\",\"\",KELAS!CY14)","v":0},{"$f":"IF($C17=\"\",\"\",KELAS!CZ14)","v":0},"011",{"$f":"IF($C17=\"\",\"\",KELAS!DB14)","v":0},{"$f":"IF($C17=\"\",\"\",KELAS!DC14)","v":0},{"$f":"IF($C17=\"\",\"\",KELAS!DD14)","v":0},{"$f":"IF($C17=\"\",\"\",KELAS!DE14)","v":0},{"$f":"IF($C17=\"\",\"\",KELAS!DF14)","v":0},{"$f":"IF($C17=\"\",\"\",KELAS!DG14)","v":0},{"$f":"IF($C17=\"\",\"\",KELAS!DH14)","v":0},{"$f":"IF($C17=\"\",\"\",KELAS!DI14)","v":0}]
[{"$f":"IF(KELAS!A15=\"\",\"\",KELAS!A15)","v":13},{"$f":"IF(KELAS!B15=\"\",\"\",KELAS!B15)","v":12566},{"$f":"IF(KELAS!C15=\"\",\"\",PROPER(KELAS!C15))","v":"Gilang Mahdiyyan Kurniadi"},{"$f":"IF(KELAS!D15=\"\",\"\",KELAS!D15)","v":"L"},{"$f":"IF(KELAS!E15=\"\",\"\",KELAS!E15)","v":"7.A"},"001",{"$f":"IF($C18=\"\",\"\",KELAS!Q15)","v":0},{"$f":"IF($C18=\"\",\"\",KELAS!R15)","v":0},{"$f":"IF($C18=\"\",\"\",KELAS!S15)","v":0},{"$f":"IF($C18=\"\",\"\",KELAS!T15)","v":0},{"$f":"IF($C18=\"\",\"\",KELAS!U15)","v":0},{"$f":"IF($C18=\"\",\"\",KELAS!V15)","v":0},{"$f":"IF($C18=\"\",\"\",KELAS!W15)","v":0},{"$f":"IF($C18=\"\",\"\",KELAS!X15)","v":0},"002",{"$f":"IF($C18=\"\",\"\",KELAS!Y15)","v":0},{"$f":"IF($C18=\"\",\"\",KELAS!Z15)","v":0},{"$f":"IF($C18=\"\",\"\",KELAS!AA15)","v":0},{"$f":"IF($C18=\"\",\"\",KELAS!AB15)","v":0},{"$f":"IF($C18=\"\",\"\",KELAS!AC15)","v":0},{"$f":"IF($C18=\"\",\"\",KELAS!AD15)","v":0},{"$f":"IF($C18=\"\",\"\",KELAS!AE15)","v":0},{"$f":"IF($C18=\"\",\"\",KELAS!AF15)","v":0},"003",{"$f":"IF($C18=\"\",\"\",KELAS!AH15)","v":0},{"$f":"IF($C18=\"\",\"\",KELAS!AI15)","v":0},{"$f":"IF($C18=\"\",\"\",KELAS!AJ15)","v":0},{"$f":"IF($C18=\"\",\"\",KELAS!AK15)","v":0},{"$f":"IF($C18=\"\",\"\",KELAS!AL15)","v":0},{"$f":"IF($C18=\"\",\"\",KELAS!AM15)","v":0},{"$f":"IF($C18=\"\",\"\",KELAS!AN15)","v":0},{"$f":"IF($C18=\"\",\"\",KELAS!AO15)","v":0},"004",{"$f":"IF($C18=\"\",\"\",KELAS!AQ15)","v":0},{"$f":"IF($C18=\"\",\"\",KELAS!AR15)","v":0},{"$f":"IF($C18=\"\",\"\",KELAS!AS15)","v":0},{"$f":"IF($C18=\"\",\"\",KELAS!AT15)","v":0},{"$f":"IF($C18=\"\",\"\",KELAS!AU15)","v":0},{"$f":"IF($C18=\"\",\"\",KELAS!AV15)","v":0},{"$f":"IF($C18=\"\",\"\",KELAS!AW15)","v":0},{"$f":"IF($C18=\"\",\"\",KELAS!AX15)","v":0},"005",{"$f":"IF($C18=\"\",\"\",KELAS!AZ15)","v":0},{"$f":"IF($C18=\"\",\"\",KELAS!BA15)","v":0},{"$f":"IF($C18=\"\",\"\",KELAS!BB15)","v":0},{"$f":"IF($C18=\"\",\"\",KELAS!BC15)","v":0},{"$f":"IF($C18=\"\",\"\",KELAS!BD15)","v":0},{"$f":"IF($C18=\"\",\"\",KELAS!BE15)","v":0},{"$f":"IF($C18=\"\",\"\",KELAS!BF15)","v":0},{"$f":"IF($C18=\"\",\"\",KELAS!BG15)","v":0},"006",{"$f":"IF($C18=\"\",\"\",KELAS!BI15)","v":0},{"$f":"IF($C18=\"\",\"\",KELAS!BJ15)","v":0},{"$f":"IF($C18=\"\",\"\",KELAS!BK15)","v":0},{"$f":"IF($C18=\"\",\"\",KELAS!BL15)","v":0},{"$f":"IF($C18=\"\",\"\",KELAS!BM15)","v":0},{"$f":"IF($C18=\"\",\"\",KELAS!BN15)","v":0},{"$f":"IF($C18=\"\",\"\",KELAS!BO15)","v":0},{"$f":"IF($C18=\"\",\"\",KELAS!BP15)","v":0},"007",{"$f":"IF($C18=\"\",\"\",KELAS!BR15)","v":0},{"$f":"IF($C18=\"\",\"\",KELAS!BS15)","v":0},{"$f":"IF($C18=\"\",\"\",KELAS!BT15)","v":0},{"$f":"IF($C18=\"\",\"\",KELAS!BU15)","v":0},{"$f":"IF($C18=\"\",\"\",KELAS!BV15)","v":0},{"$f":"IF($C18=\"\",\"\",KELAS!BW15)","v":0},{"$f":"IF($C18=\"\",\"\",KELAS!BX15)","v":0},{"$f":"IF($C18=\"\",\"\",KELAS!BY15)","v":0},"008",{"$f":"IF($C18=\"\",\"\",KELAS!CA15)","v":0},{"$f":"IF($C18=\"\",\"\",KELAS!CB15)","v":0},{"$f":"IF($C18=\"\",\"\",KELAS!CC15)","v":0},{"$f":"IF($C18=\"\",\"\",KELAS!CD15)","v":0},{"$f":"IF($C18=\"\",\"\",KELAS!CE15)","v":0},{"$f":"IF($C18=\"\",\"\",KELAS!CF15)","v":0},{"$f":"IF($C18=\"\",\"\",KELAS!CG15)","v":0},{"$f":"IF($C18=\"\",\"\",KELAS!CH15)","v":0},"009",{"$f":"IF($C18=\"\",\"\",KELAS!CJ15)","v":0},{"$f":"IF($C18=\"\",\"\",KELAS!CK15)","v":0},{"$f":"IF($C18=\"\",\"\",KELAS!CL15)","v":0},{"$f":"IF($C18=\"\",\"\",KELAS!CM15)","v":0},{"$f":"IF($C18=\"\",\"\",KELAS!CN15)","v":0},{"$f":"IF($C18=\"\",\"\",KELAS!CO15)","v":0},{"$f":"IF($C18=\"\",\"\",KELAS!CP15)","v":0},{"$f":"IF($C18=\"\",\"\",KELAS!CQ15)","v":0},"010",{"$f":"IF($C18=\"\",\"\",KELAS!CS15)","v":0},{"$f":"IF($C18=\"\",\"\",KELAS!CT15)","v":0},{"$f":"IF($C18=\"\",\"\",KELAS!CU15)","v":0},{"$f":"IF($C18=\"\",\"\",KELAS!CV15)","v":0},{"$f":"IF($C18=\"\",\"\",KELAS!CW15)","v":0},{"$f":"IF($C18=\"\",\"\",KELAS!CX15)","v":0},{"$f":"IF($C18=\"\",\"\",KELAS!CY15)","v":0},{"$f":"IF($C18=\"\",\"\",KELAS!CZ15)","v":0},"011",{"$f":"IF($C18=\"\",\"\",KELAS!DB15)","v":0},{"$f":"IF($C18=\"\",\"\",KELAS!DC15)","v":0},{"$f":"IF($C18=\"\",\"\",KELAS!DD15)","v":0},{"$f":"IF($C18=\"\",\"\",KELAS!DE15)","v":0},{"$f":"IF($C18=\"\",\"\",KELAS!DF15)","v":0},{"$f":"IF($C18=\"\",\"\",KELAS!DG15)","v":0},{"$f":"IF($C18=\"\",\"\",KELAS!DH15)","v":0},{"$f":"IF($C18=\"\",\"\",KELAS!DI15)","v":0}]
[{"$f":"IF(KELAS!A16=\"\",\"\",KELAS!A16)","v":14},{"$f":"IF(KELAS!B16=\"\",\"\",KELAS!B16)","v":12569},{"$f":"IF(KELAS!C16=\"\",\"\",PROPER(KELAS!C16))","v":"Gitta Vania"},{"$f":"IF(KELAS!D16=\"\",\"\",KELAS!D16)","v":"P"},{"$f":"IF(KELAS!E16=\"\",\"\",KELAS!E16)","v":"7.A"},"001",{"$f":"IF($C19=\"\",\"\",KELAS!Q16)","v":0},{"$f":"IF($C19=\"\",\"\",KELAS!R16)","v":0},{"$f":"IF($C19=\"\",\"\",KELAS!S16)","v":0},{"$f":"IF($C19=\"\",\"\",KELAS!T16)","v":0},{"$f":"IF($C19=\"\",\"\",KELAS!U16)","v":0},{"$f":"IF($C19=\"\",\"\",KELAS!V16)","v":0},{"$f":"IF($C19=\"\",\"\",KELAS!W16)","v":0},{"$f":"IF($C19=\"\",\"\",KELAS!X16)","v":0},"002",{"$f":"IF($C19=\"\",\"\",KELAS!Y16)","v":0},{"$f":"IF($C19=\"\",\"\",KELAS!Z16)","v":0},{"$f":"IF($C19=\"\",\"\",KELAS!AA16)","v":0},{"$f":"IF($C19=\"\",\"\",KELAS!AB16)","v":0},{"$f":"IF($C19=\"\",\"\",KELAS!AC16)","v":0},{"$f":"IF($C19=\"\",\"\",KELAS!AD16)","v":0},{"$f":"IF($C19=\"\",\"\",KELAS!AE16)","v":0},{"$f":"IF($C19=\"\",\"\",KELAS!AF16)","v":0},"003",{"$f":"IF($C19=\"\",\"\",KELAS!AH16)","v":0},{"$f":"IF($C19=\"\",\"\",KELAS!AI16)","v":0},{"$f":"IF($C19=\"\",\"\",KELAS!AJ16)","v":0},{"$f":"IF($C19=\"\",\"\",KELAS!AK16)","v":0},{"$f":"IF($C19=\"\",\"\",KELAS!AL16)","v":0},{"$f":"IF($C19=\"\",\"\",KELAS!AM16)","v":0},{"$f":"IF($C19=\"\",\"\",KELAS!AN16)","v":0},{"$f":"IF($C19=\"\",\"\",KELAS!AO16)","v":0},"004",{"$f":"IF($C19=\"\",\"\",KELAS!AQ16)","v":0},{"$f":"IF($C19=\"\",\"\",KELAS!AR16)","v":0},{"$f":"IF($C19=\"\",\"\",KELAS!AS16)","v":0},{"$f":"IF($C19=\"\",\"\",KELAS!AT16)","v":0},{"$f":"IF($C19=\"\",\"\",KELAS!AU16)","v":0},{"$f":"IF($C19=\"\",\"\",KELAS!AV16)","v":0},{"$f":"IF($C19=\"\",\"\",KELAS!AW16)","v":0},{"$f":"IF($C19=\"\",\"\",KELAS!AX16)","v":0},"005",{"$f":"IF($C19=\"\",\"\",KELAS!AZ16)","v":0},{"$f":"IF($C19=\"\",\"\",KELAS!BA16)","v":0},{"$f":"IF($C19=\"\",\"\",KELAS!BB16)","v":0},{"$f":"IF($C19=\"\",\"\",KELAS!BC16)","v":0},{"$f":"IF($C19=\"\",\"\",KELAS!BD16)","v":0},{"$f":"IF($C19=\"\",\"\",KELAS!BE16)","v":0},{"$f":"IF($C19=\"\",\"\",KELAS!BF16)","v":0},{"$f":"IF($C19=\"\",\"\",KELAS!BG16)","v":0},"006",{"$f":"IF($C19=\"\",\"\",KELAS!BI16)","v":0},{"$f":"IF($C19=\"\",\"\",KELAS!BJ16)","v":0},{"$f":"IF($C19=\"\",\"\",KELAS!BK16)","v":0},{"$f":"IF($C19=\"\",\"\",KELAS!BL16)","v":0},{"$f":"IF($C19=\"\",\"\",KELAS!BM16)","v":0},{"$f":"IF($C19=\"\",\"\",KELAS!BN16)","v":0},{"$f":"IF($C19=\"\",\"\",KELAS!BO16)","v":0},{"$f":"IF($C19=\"\",\"\",KELAS!BP16)","v":0},"007",{"$f":"IF($C19=\"\",\"\",KELAS!BR16)","v":0},{"$f":"IF($C19=\"\",\"\",KELAS!BS16)","v":0},{"$f":"IF($C19=\"\",\"\",KELAS!BT16)","v":0},{"$f":"IF($C19=\"\",\"\",KELAS!BU16)","v":0},{"$f":"IF($C19=\"\",\"\",KELAS!BV16)","v":0},{"$f":"IF($C19=\"\",\"\",KELAS!BW16)","v":0},{"$f":"IF($C19=\"\",\"\",KELAS!BX16)","v":0},{"$f":"IF($C19=\"\",\"\",KELAS!BY16)","v":0},"008",{"$f":"IF($C19=\"\",\"\",KELAS!CA16)","v":0},{"$f":"IF($C19=\"\",\"\",KELAS!CB16)","v":0},{"$f":"IF($C19=\"\",\"\",KELAS!CC16)","v":0},{"$f":"IF($C19=\"\",\"\",KELAS!CD16)","v":0},{"$f":"IF($C19=\"\",\"\",KELAS!CE16)","v":0},{"$f":"IF($C19=\"\",\"\",KELAS!CF16)","v":0},{"$f":"IF($C19=\"\",\"\",KELAS!CG16)","v":0},{"$f":"IF($C19=\"\",\"\",KELAS!CH16)","v":0},"009",{"$f":"IF($C19=\"\",\"\",KELAS!CJ16)","v":0},{"$f":"IF($C19=\"\",\"\",KELAS!CK16)","v":0},{"$f":"IF($C19=\"\",\"\",KELAS!CL16)","v":0},{"$f":"IF($C19=\"\",\"\",KELAS!CM16)","v":0},{"$f":"IF($C19=\"\",\"\",KELAS!CN16)","v":0},{"$f":"IF($C19=\"\",\"\",KELAS!CO16)","v":0},{"$f":"IF($C19=\"\",\"\",KELAS!CP16)","v":0},{"$f":"IF($C19=\"\",\"\",KELAS!CQ16)","v":0},"010",{"$f":"IF($C19=\"\",\"\",KELAS!CS16)","v":0},{"$f":"IF($C19=\"\",\"\",KELAS!CT16)","v":0},{"$f":"IF($C19=\"\",\"\",KELAS!CU16)","v":0},{"$f":"IF($C19=\"\",\"\",KELAS!CV16)","v":0},{"$f":"IF($C19=\"\",\"\",KELAS!CW16)","v":0},{"$f":"IF($C19=\"\",\"\",KELAS!CX16)","v":0},{"$f":"IF($C19=\"\",\"\",KELAS!CY16)","v":0},{"$f":"IF($C19=\"\",\"\",KELAS!CZ16)","v":0},"011",{"$f":"IF($C19=\"\",\"\",KELAS!DB16)","v":0},{"$f":"IF($C19=\"\",\"\",KELAS!DC16)","v":0},{"$f":"IF($C19=\"\",\"\",KELAS!DD16)","v":0},{"$f":"IF($C19=\"\",\"\",KELAS!DE16)","v":0},{"$f":"IF($C19=\"\",\"\",KELAS!DF16)","v":0},{"$f":"IF($C19=\"\",\"\",KELAS!DG16)","v":0},{"$f":"IF($C19=\"\",\"\",KELAS!DH16)","v":0},{"$f":"IF($C19=\"\",\"\",KELAS!DI16)","v":0}]
[{"$f":"IF(KELAS!A17=\"\",\"\",KELAS!A17)","v":15},{"$f":"IF(KELAS!B17=\"\",\"\",KELAS!B17)","v":12575},{"$f":"IF(KELAS!C17=\"\",\"\",PROPER(KELAS!C17))","v":"Haryani Rachmawati"},{"$f":"IF(KELAS!D17=\"\",\"\",KELAS!D17)","v":"P"},{"$f":"IF(KELAS!E17=\"\",\"\",KELAS!E17)","v":"7.A"},"001",{"$f":"IF($C20=\"\",\"\",KELAS!Q17)","v":0},{"$f":"IF($C20=\"\",\"\",KELAS!R17)","v":0},{"$f":"IF($C20=\"\",\"\",KELAS!S17)","v":0},{"$f":"IF($C20=\"\",\"\",KELAS!T17)","v":0},{"$f":"IF($C20=\"\",\"\",KELAS!U17)","v":0},{"$f":"IF($C20=\"\",\"\",KELAS!V17)","v":0},{"$f":"IF($C20=\"\",\"\",KELAS!W17)","v":0},{"$f":"IF($C20=\"\",\"\",KELAS!X17)","v":0},"002",{"$f":"IF($C20=\"\",\"\",KELAS!Y17)","v":0},{"$f":"IF($C20=\"\",\"\",KELAS!Z17)","v":0},{"$f":"IF($C20=\"\",\"\",KELAS!AA17)","v":0},{"$f":"IF($C20=\"\",\"\",KELAS!AB17)","v":0},{"$f":"IF($C20=\"\",\"\",KELAS!AC17)","v":0},{"$f":"IF($C20=\"\",\"\",KELAS!AD17)","v":0},{"$f":"IF($C20=\"\",\"\",KELAS!AE17)","v":0},{"$f":"IF($C20=\"\",\"\",KELAS!AF17)","v":0},"003",{"$f":"IF($C20=\"\",\"\",KELAS!AH17)","v":0},{"$f":"IF($C20=\"\",\"\",KELAS!AI17)","v":0},{"$f":"IF($C20=\"\",\"\",KELAS!AJ17)","v":0},{"$f":"IF($C20=\"\",\"\",KELAS!AK17)","v":0},{"$f":"IF($C20=\"\",\"\",KELAS!AL17)","v":0},{"$f":"IF($C20=\"\",\"\",KELAS!AM17)","v":0},{"$f":"IF($C20=\"\",\"\",KELAS!AN17)","v":0},{"$f":"IF($C20=\"\",\"\",KELAS!AO17)","v":0},"004",{"$f":"IF($C20=\"\",\"\",KELAS!AQ17)","v":0},{"$f":"IF($C20=\"\",\"\",KELAS!AR17)","v":0},{"$f":"IF($C20=\"\",\"\",KELAS!AS17)","v":0},{"$f":"IF($C20=\"\",\"\",KELAS!AT17)","v":0},{"$f":"IF($C20=\"\",\"\",KELAS!AU17)","v":0},{"$f":"IF($C20=\"\",\"\",KELAS!AV17)","v":0},{"$f":"IF($C20=\"\",\"\",KELAS!AW17)","v":0},{"$f":"IF($C20=\"\",\"\",KELAS!AX17)","v":0},"005",{"$f":"IF($C20=\"\",\"\",KELAS!AZ17)","v":0},{"$f":"IF($C20=\"\",\"\",KELAS!BA17)","v":0},{"$f":"IF($C20=\"\",\"\",KELAS!BB17)","v":0},{"$f":"IF($C20=\"\",\"\",KELAS!BC17)","v":0},{"$f":"IF($C20=\"\",\"\",KELAS!BD17)","v":0},{"$f":"IF($C20=\"\",\"\",KELAS!BE17)","v":0},{"$f":"IF($C20=\"\",\"\",KELAS!BF17)","v":0},{"$f":"IF($C20=\"\",\"\",KELAS!BG17)","v":0},"006",{"$f":"IF($C20=\"\",\"\",KELAS!BI17)","v":0},{"$f":"IF($C20=\"\",\"\",KELAS!BJ17)","v":0},{"$f":"IF($C20=\"\",\"\",KELAS!BK17)","v":0},{"$f":"IF($C20=\"\",\"\",KELAS!BL17)","v":0},{"$f":"IF($C20=\"\",\"\",KELAS!BM17)","v":0},{"$f":"IF($C20=\"\",\"\",KELAS!BN17)","v":0},{"$f":"IF($C20=\"\",\"\",KELAS!BO17)","v":0},{"$f":"IF($C20=\"\",\"\",KELAS!BP17)","v":0},"007",{"$f":"IF($C20=\"\",\"\",KELAS!BR17)","v":0},{"$f":"IF($C20=\"\",\"\",KELAS!BS17)","v":0},{"$f":"IF($C20=\"\",\"\",KELAS!BT17)","v":0},{"$f":"IF($C20=\"\",\"\",KELAS!BU17)","v":0},{"$f":"IF($C20=\"\",\"\",KELAS!BV17)","v":0},{"$f":"IF($C20=\"\",\"\",KELAS!BW17)","v":0},{"$f":"IF($C20=\"\",\"\",KELAS!BX17)","v":0},{"$f":"IF($C20=\"\",\"\",KELAS!BY17)","v":0},"008",{"$f":"IF($C20=\"\",\"\",KELAS!CA17)","v":0},{"$f":"IF($C20=\"\",\"\",KELAS!CB17)","v":0},{"$f":"IF($C20=\"\",\"\",KELAS!CC17)","v":0},{"$f":"IF($C20=\"\",\"\",KELAS!CD17)","v":0},{"$f":"IF($C20=\"\",\"\",KELAS!CE17)","v":0},{"$f":"IF($C20=\"\",\"\",KELAS!CF17)","v":0},{"$f":"IF($C20=\"\",\"\",KELAS!CG17)","v":0},{"$f":"IF($C20=\"\",\"\",KELAS!CH17)","v":0},"009",{"$f":"IF($C20=\"\",\"\",KELAS!CJ17)","v":0},{"$f":"IF($C20=\"\",\"\",KELAS!CK17)","v":0},{"$f":"IF($C20=\"\",\"\",KELAS!CL17)","v":0},{"$f":"IF($C20=\"\",\"\",KELAS!CM17)","v":0},{"$f":"IF($C20=\"\",\"\",KELAS!CN17)","v":0},{"$f":"IF($C20=\"\",\"\",KELAS!CO17)","v":0},{"$f":"IF($C20=\"\",\"\",KELAS!CP17)","v":0},{"$f":"IF($C20=\"\",\"\",KELAS!CQ17)","v":0},"010",{"$f":"IF($C20=\"\",\"\",KELAS!CS17)","v":0},{"$f":"IF($C20=\"\",\"\",KELAS!CT17)","v":0},{"$f":"IF($C20=\"\",\"\",KELAS!CU17)","v":0},{"$f":"IF($C20=\"\",\"\",KELAS!CV17)","v":0},{"$f":"IF($C20=\"\",\"\",KELAS!CW17)","v":0},{"$f":"IF($C20=\"\",\"\",KELAS!CX17)","v":0},{"$f":"IF($C20=\"\",\"\",KELAS!CY17)","v":0},{"$f":"IF($C20=\"\",\"\",KELAS!CZ17)","v":0},"011",{"$f":"IF($C20=\"\",\"\",KELAS!DB17)","v":0},{"$f":"IF($C20=\"\",\"\",KELAS!DC17)","v":0},{"$f":"IF($C20=\"\",\"\",KELAS!DD17)","v":0},{"$f":"IF($C20=\"\",\"\",KELAS!DE17)","v":0},{"$f":"IF($C20=\"\",\"\",KELAS!DF17)","v":0},{"$f":"IF($C20=\"\",\"\",KELAS!DG17)","v":0},{"$f":"IF($C20=\"\",\"\",KELAS!DH17)","v":0},{"$f":"IF($C20=\"\",\"\",KELAS!DI17)","v":0}]
[{"$f":"IF(KELAS!A18=\"\",\"\",KELAS!A18)","v":16},{"$f":"IF(KELAS!B18=\"\",\"\",KELAS!B18)","v":12593},{"$f":"IF(KELAS!C18=\"\",\"\",PROPER(KELAS!C18))","v":"Intan Kusuma Wardani"},{"$f":"IF(KELAS!D18=\"\",\"\",KELAS!D18)","v":"P"},{"$f":"IF(KELAS!E18=\"\",\"\",KELAS!E18)","v":"7.A"},"001",{"$f":"IF($C21=\"\",\"\",KELAS!Q18)","v":0},{"$f":"IF($C21=\"\",\"\",KELAS!R18)","v":0},{"$f":"IF($C21=\"\",\"\",KELAS!S18)","v":0},{"$f":"IF($C21=\"\",\"\",KELAS!T18)","v":0},{"$f":"IF($C21=\"\",\"\",KELAS!U18)","v":0},{"$f":"IF($C21=\"\",\"\",KELAS!V18)","v":0},{"$f":"IF($C21=\"\",\"\",KELAS!W18)","v":0},{"$f":"IF($C21=\"\",\"\",KELAS!X18)","v":0},"002",{"$f":"IF($C21=\"\",\"\",KELAS!Y18)","v":0},{"$f":"IF($C21=\"\",\"\",KELAS!Z18)","v":0},{"$f":"IF($C21=\"\",\"\",KELAS!AA18)","v":0},{"$f":"IF($C21=\"\",\"\",KELAS!AB18)","v":0},{"$f":"IF($C21=\"\",\"\",KELAS!AC18)","v":0},{"$f":"IF($C21=\"\",\"\",KELAS!AD18)","v":0},{"$f":"IF($C21=\"\",\"\",KELAS!AE18)","v":0},{"$f":"IF($C21=\"\",\"\",KELAS!AF18)","v":0},"003",{"$f":"IF($C21=\"\",\"\",KELAS!AH18)","v":0},{"$f":"IF($C21=\"\",\"\",KELAS!AI18)","v":0},{"$f":"IF($C21=\"\",\"\",KELAS!AJ18)","v":0},{"$f":"IF($C21=\"\",\"\",KELAS!AK18)","v":0},{"$f":"IF($C21=\"\",\"\",KELAS!AL18)","v":0},{"$f":"IF($C21=\"\",\"\",KELAS!AM18)","v":0},{"$f":"IF($C21=\"\",\"\",KELAS!AN18)","v":0},{"$f":"IF($C21=\"\",\"\",KELAS!AO18)","v":0},"004",{"$f":"IF($C21=\"\",\"\",KELAS!AQ18)","v":0},{"$f":"IF($C21=\"\",\"\",KELAS!AR18)","v":0},{"$f":"IF($C21=\"\",\"\",KELAS!AS18)","v":0},{"$f":"IF($C21=\"\",\"\",KELAS!AT18)","v":0},{"$f":"IF($C21=\"\",\"\",KELAS!AU18)","v":0},{"$f":"IF($C21=\"\",\"\",KELAS!AV18)","v":0},{"$f":"IF($C21=\"\",\"\",KELAS!AW18)","v":0},{"$f":"IF($C21=\"\",\"\",KELAS!AX18)","v":0},"005",{"$f":"IF($C21=\"\",\"\",KELAS!AZ18)","v":0},{"$f":"IF($C21=\"\",\"\",KELAS!BA18)","v":0},{"$f":"IF($C21=\"\",\"\",KELAS!BB18)","v":0},{"$f":"IF($C21=\"\",\"\",KELAS!BC18)","v":0},{"$f":"IF($C21=\"\",\"\",KELAS!BD18)","v":0},{"$f":"IF($C21=\"\",\"\",KELAS!BE18)","v":0},{"$f":"IF($C21=\"\",\"\",KELAS!BF18)","v":0},{"$f":"IF($C21=\"\",\"\",KELAS!BG18)","v":0},"006",{"$f":"IF($C21=\"\",\"\",KELAS!BI18)","v":0},{"$f":"IF($C21=\"\",\"\",KELAS!BJ18)","v":0},{"$f":"IF($C21=\"\",\"\",KELAS!BK18)","v":0},{"$f":"IF($C21=\"\",\"\",KELAS!BL18)","v":0},{"$f":"IF($C21=\"\",\"\",KELAS!BM18)","v":0},{"$f":"IF($C21=\"\",\"\",KELAS!BN18)","v":0},{"$f":"IF($C21=\"\",\"\",KELAS!BO18)","v":0},{"$f":"IF($C21=\"\",\"\",KELAS!BP18)","v":0},"007",{"$f":"IF($C21=\"\",\"\",KELAS!BR18)","v":0},{"$f":"IF($C21=\"\",\"\",KELAS!BS18)","v":0},{"$f":"IF($C21=\"\",\"\",KELAS!BT18)","v":0},{"$f":"IF($C21=\"\",\"\",KELAS!BU18)","v":0},{"$f":"IF($C21=\"\",\"\",KELAS!BV18)","v":0},{"$f":"IF($C21=\"\",\"\",KELAS!BW18)","v":0},{"$f":"IF($C21=\"\",\"\",KELAS!BX18)","v":0},{"$f":"IF($C21=\"\",\"\",KELAS!BY18)","v":0},"008",{"$f":"IF($C21=\"\",\"\",KELAS!CA18)","v":0},{"$f":"IF($C21=\"\",\"\",KELAS!CB18)","v":0},{"$f":"IF($C21=\"\",\"\",KELAS!CC18)","v":0},{"$f":"IF($C21=\"\",\"\",KELAS!CD18)","v":0},{"$f":"IF($C21=\"\",\"\",KELAS!CE18)","v":0},{"$f":"IF($C21=\"\",\"\",KELAS!CF18)","v":0},{"$f":"IF($C21=\"\",\"\",KELAS!CG18)","v":0},{"$f":"IF($C21=\"\",\"\",KELAS!CH18)","v":0},"009",{"$f":"IF($C21=\"\",\"\",KELAS!CJ18)","v":0},{"$f":"IF($C21=\"\",\"\",KELAS!CK18)","v":0},{"$f":"IF($C21=\"\",\"\",KELAS!CL18)","v":0},{"$f":"IF($C21=\"\",\"\",KELAS!CM18)","v":0},{"$f":"IF($C21=\"\",\"\",KELAS!CN18)","v":0},{"$f":"IF($C21=\"\",\"\",KELAS!CO18)","v":0},{"$f":"IF($C21=\"\",\"\",KELAS!CP18)","v":0},{"$f":"IF($C21=\"\",\"\",KELAS!CQ18)","v":0},"010",{"$f":"IF($C21=\"\",\"\",KELAS!CS18)","v":0},{"$f":"IF($C21=\"\",\"\",KELAS!CT18)","v":0},{"$f":"IF($C21=\"\",\"\",KELAS!CU18)","v":0},{"$f":"IF($C21=\"\",\"\",KELAS!CV18)","v":0},{"$f":"IF($C21=\"\",\"\",KELAS!CW18)","v":0},{"$f":"IF($C21=\"\",\"\",KELAS!CX18)","v":0},{"$f":"IF($C21=\"\",\"\",KELAS!CY18)","v":0},{"$f":"IF($C21=\"\",\"\",KELAS!CZ18)","v":0},"011",{"$f":"IF($C21=\"\",\"\",KELAS!DB18)","v":0},{"$f":"IF($C21=\"\",\"\",KELAS!DC18)","v":0},{"$f":"IF($C21=\"\",\"\",KELAS!DD18)","v":0},{"$f":"IF($C21=\"\",\"\",KELAS!DE18)","v":0},{"$f":"IF($C21=\"\",\"\",KELAS!DF18)","v":0},{"$f":"IF($C21=\"\",\"\",KELAS!DG18)","v":0},{"$f":"IF($C21=\"\",\"\",KELAS!DH18)","v":0},{"$f":"IF($C21=\"\",\"\",KELAS!DI18)","v":0}]
[{"$f":"IF(KELAS!A19=\"\",\"\",KELAS!A19)","v":17},{"$f":"IF(KELAS!B19=\"\",\"\",KELAS!B19)","v":12596},{"$f":"IF(KELAS!C19=\"\",\"\",PROPER(KELAS!C19))","v":"Irfan Wahyu Ramadhani"},{"$f":"IF(KELAS!D19=\"\",\"\",KELAS!D19)","v":"L"},{"$f":"IF(KELAS!E19=\"\",\"\",KELAS!E19)","v":"7.A"},"001",{"$f":"IF($C22=\"\",\"\",KELAS!Q19)","v":0},{"$f":"IF($C22=\"\",\"\",KELAS!R19)","v":0},{"$f":"IF($C22=\"\",\"\",KELAS!S19)","v":0},{"$f":"IF($C22=\"\",\"\",KELAS!T19)","v":0},{"$f":"IF($C22=\"\",\"\",KELAS!U19)","v":0},{"$f":"IF($C22=\"\",\"\",KELAS!V19)","v":0},{"$f":"IF($C22=\"\",\"\",KELAS!W19)","v":0},{"$f":"IF($C22=\"\",\"\",KELAS!X19)","v":0},"002",{"$f":"IF($C22=\"\",\"\",KELAS!Y19)","v":0},{"$f":"IF($C22=\"\",\"\",KELAS!Z19)","v":0},{"$f":"IF($C22=\"\",\"\",KELAS!AA19)","v":0},{"$f":"IF($C22=\"\",\"\",KELAS!AB19)","v":0},{"$f":"IF($C22=\"\",\"\",KELAS!AC19)","v":0},{"$f":"IF($C22=\"\",\"\",KELAS!AD19)","v":0},{"$f":"IF($C22=\"\",\"\",KELAS!AE19)","v":0},{"$f":"IF($C22=\"\",\"\",KELAS!AF19)","v":0},"003",{"$f":"IF($C22=\"\",\"\",KELAS!AH19)","v":0},{"$f":"IF($C22=\"\",\"\",KELAS!AI19)","v":0},{"$f":"IF($C22=\"\",\"\",KELAS!AJ19)","v":0},{"$f":"IF($C22=\"\",\"\",KELAS!AK19)","v":0},{"$f":"IF($C22=\"\",\"\",KELAS!AL19)","v":0},{"$f":"IF($C22=\"\",\"\",KELAS!AM19)","v":0},{"$f":"IF($C22=\"\",\"\",KELAS!AN19)","v":0},{"$f":"IF($C22=\"\",\"\",KELAS!AO19)","v":0},"004",{"$f":"IF($C22=\"\",\"\",KELAS!AQ19)","v":0},{"$f":"IF($C22=\"\",\"\",KELAS!AR19)","v":0},{"$f":"IF($C22=\"\",\"\",KELAS!AS19)","v":0},{"$f":"IF($C22=\"\",\"\",KELAS!AT19)","v":0},{"$f":"IF($C22=\"\",\"\",KELAS!AU19)","v":0},{"$f":"IF($C22=\"\",\"\",KELAS!AV19)","v":0},{"$f":"IF($C22=\"\",\"\",KELAS!AW19)","v":0},{"$f":"IF($C22=\"\",\"\",KELAS!AX19)","v":0},"005",{"$f":"IF($C22=\"\",\"\",KELAS!AZ19)","v":0},{"$f":"IF($C22=\"\",\"\",KELAS!BA19)","v":0},{"$f":"IF($C22=\"\",\"\",KELAS!BB19)","v":0},{"$f":"IF($C22=\"\",\"\",KELAS!BC19)","v":0},{"$f":"IF($C22=\"\",\"\",KELAS!BD19)","v":0},{"$f":"IF($C22=\"\",\"\",KELAS!BE19)","v":0},{"$f":"IF($C22=\"\",\"\",KELAS!BF19)","v":0},{"$f":"IF($C22=\"\",\"\",KELAS!BG19)","v":0},"006",{"$f":"IF($C22=\"\",\"\",KELAS!BI19)","v":0},{"$f":"IF($C22=\"\",\"\",KELAS!BJ19)","v":0},{"$f":"IF($C22=\"\",\"\",KELAS!BK19)","v":0},{"$f":"IF($C22=\"\",\"\",KELAS!BL19)","v":0},{"$f":"IF($C22=\"\",\"\",KELAS!BM19)","v":0},{"$f":"IF($C22=\"\",\"\",KELAS!BN19)","v":0},{"$f":"IF($C22=\"\",\"\",KELAS!BO19)","v":0},{"$f":"IF($C22=\"\",\"\",KELAS!BP19)","v":0},"007",{"$f":"IF($C22=\"\",\"\",KELAS!BR19)","v":0},{"$f":"IF($C22=\"\",\"\",KELAS!BS19)","v":0},{"$f":"IF($C22=\"\",\"\",KELAS!BT19)","v":0},{"$f":"IF($C22=\"\",\"\",KELAS!BU19)","v":0},{"$f":"IF($C22=\"\",\"\",KELAS!BV19)","v":0},{"$f":"IF($C22=\"\",\"\",KELAS!BW19)","v":0},{"$f":"IF($C22=\"\",\"\",KELAS!BX19)","v":0},{"$f":"IF($C22=\"\",\"\",KELAS!BY19)","v":0},"008",{"$f":"IF($C22=\"\",\"\",KELAS!CA19)","v":0},{"$f":"IF($C22=\"\",\"\",KELAS!CB19)","v":0},{"$f":"IF($C22=\"\",\"\",KELAS!CC19)","v":0},{"$f":"IF($C22=\"\",\"\",KELAS!CD19)","v":0},{"$f":"IF($C22=\"\",\"\",KELAS!CE19)","v":0},{"$f":"IF($C22=\"\",\"\",KELAS!CF19)","v":0},{"$f":"IF($C22=\"\",\"\",KELAS!CG19)","v":0},{"$f":"IF($C22=\"\",\"\",KELAS!CH19)","v":0},"009",{"$f":"IF($C22=\"\",\"\",KELAS!CJ19)","v":0},{"$f":"IF($C22=\"\",\"\",KELAS!CK19)","v":0},{"$f":"IF($C22=\"\",\"\",KELAS!CL19)","v":0},{"$f":"IF($C22=\"\",\"\",KELAS!CM19)","v":0},{"$f":"IF($C22=\"\",\"\",KELAS!CN19)","v":0},{"$f":"IF($C22=\"\",\"\",KELAS!CO19)","v":0},{"$f":"IF($C22=\"\",\"\",KELAS!CP19)","v":0},{"$f":"IF($C22=\"\",\"\",KELAS!CQ19)","v":0},"010",{"$f":"IF($C22=\"\",\"\",KELAS!CS19)","v":0},{"$f":"IF($C22=\"\",\"\",KELAS!CT19)","v":0},{"$f":"IF($C22=\"\",\"\",KELAS!CU19)","v":0},{"$f":"IF($C22=\"\",\"\",KELAS!CV19)","v":0},{"$f":"IF($C22=\"\",\"\",KELAS!CW19)","v":0},{"$f":"IF($C22=\"\",\"\",KELAS!CX19)","v":0},{"$f":"IF($C22=\"\",\"\",KELAS!CY19)","v":0},{"$f":"IF($C22=\"\",\"\",KELAS!CZ19)","v":0},"011",{"$f":"IF($C22=\"\",\"\",KELAS!DB19)","v":0},{"$f":"IF($C22=\"\",\"\",KELAS!DC19)","v":0},{"$f":"IF($C22=\"\",\"\",KELAS!DD19)","v":0},{"$f":"IF($C22=\"\",\"\",KELAS!DE19)","v":0},{"$f":"IF($C22=\"\",\"\",KELAS!DF19)","v":0},{"$f":"IF($C22=\"\",\"\",KELAS!DG19)","v":0},{"$f":"IF($C22=\"\",\"\",KELAS!DH19)","v":0},{"$f":"IF($C22=\"\",\"\",KELAS!DI19)","v":0}]
[{"$f":"IF(KELAS!A20=\"\",\"\",KELAS!A20)","v":18},{"$f":"IF(KELAS!B20=\"\",\"\",KELAS!B20)","v":12601},{"$f":"IF(KELAS!C20=\"\",\"\",PROPER(KELAS!C20))","v":"Jum'At"},{"$f":"IF(KELAS!D20=\"\",\"\",KELAS!D20)","v":"L"},{"$f":"IF(KELAS!E20=\"\",\"\",KELAS!E20)","v":"7.A"},"001",{"$f":"IF($C23=\"\",\"\",KELAS!Q20)","v":0},{"$f":"IF($C23=\"\",\"\",KELAS!R20)","v":0},{"$f":"IF($C23=\"\",\"\",KELAS!S20)","v":0},{"$f":"IF($C23=\"\",\"\",KELAS!T20)","v":0},{"$f":"IF($C23=\"\",\"\",KELAS!U20)","v":0},{"$f":"IF($C23=\"\",\"\",KELAS!V20)","v":0},{"$f":"IF($C23=\"\",\"\",KELAS!W20)","v":0},{"$f":"IF($C23=\"\",\"\",KELAS!X20)","v":0},"002",{"$f":"IF($C23=\"\",\"\",KELAS!Y20)","v":0},{"$f":"IF($C23=\"\",\"\",KELAS!Z20)","v":0},{"$f":"IF($C23=\"\",\"\",KELAS!AA20)","v":0},{"$f":"IF($C23=\"\",\"\",KELAS!AB20)","v":0},{"$f":"IF($C23=\"\",\"\",KELAS!AC20)","v":0},{"$f":"IF($C23=\"\",\"\",KELAS!AD20)","v":0},{"$f":"IF($C23=\"\",\"\",KELAS!AE20)","v":0},{"$f":"IF($C23=\"\",\"\",KELAS!AF20)","v":0},"003",{"$f":"IF($C23=\"\",\"\",KELAS!AH20)","v":0},{"$f":"IF($C23=\"\",\"\",KELAS!AI20)","v":0},{"$f":"IF($C23=\"\",\"\",KELAS!AJ20)","v":0},{"$f":"IF($C23=\"\",\"\",KELAS!AK20)","v":0},{"$f":"IF($C23=\"\",\"\",KELAS!AL20)","v":0},{"$f":"IF($C23=\"\",\"\",KELAS!AM20)","v":0},{"$f":"IF($C23=\"\",\"\",KELAS!AN20)","v":0},{"$f":"IF($C23=\"\",\"\",KELAS!AO20)","v":0},"004",{"$f":"IF($C23=\"\",\"\",KELAS!AQ20)","v":0},{"$f":"IF($C23=\"\",\"\",KELAS!AR20)","v":0},{"$f":"IF($C23=\"\",\"\",KELAS!AS20)","v":0},{"$f":"IF($C23=\"\",\"\",KELAS!AT20)","v":0},{"$f":"IF($C23=\"\",\"\",KELAS!AU20)","v":0},{"$f":"IF($C23=\"\",\"\",KELAS!AV20)","v":0},{"$f":"IF($C23=\"\",\"\",KELAS!AW20)","v":0},{"$f":"IF($C23=\"\",\"\",KELAS!AX20)","v":0},"005",{"$f":"IF($C23=\"\",\"\",KELAS!AZ20)","v":0},{"$f":"IF($C23=\"\",\"\",KELAS!BA20)","v":0},{"$f":"IF($C23=\"\",\"\",KELAS!BB20)","v":0},{"$f":"IF($C23=\"\",\"\",KELAS!BC20)","v":0},{"$f":"IF($C23=\"\",\"\",KELAS!BD20)","v":0},{"$f":"IF($C23=\"\",\"\",KELAS!BE20)","v":0},{"$f":"IF($C23=\"\",\"\",KELAS!BF20)","v":0},{"$f":"IF($C23=\"\",\"\",KELAS!BG20)","v":0},"006",{"$f":"IF($C23=\"\",\"\",KELAS!BI20)","v":0},{"$f":"IF($C23=\"\",\"\",KELAS!BJ20)","v":0},{"$f":"IF($C23=\"\",\"\",KELAS!BK20)","v":0},{"$f":"IF($C23=\"\",\"\",KELAS!BL20)","v":0},{"$f":"IF($C23=\"\",\"\",KELAS!BM20)","v":0},{"$f":"IF($C23=\"\",\"\",KELAS!BN20)","v":0},{"$f":"IF($C23=\"\",\"\",KELAS!BO20)","v":0},{"$f":"IF($C23=\"\",\"\",KELAS!BP20)","v":0},"007",{"$f":"IF($C23=\"\",\"\",KELAS!BR20)","v":0},{"$f":"IF($C23=\"\",\"\",KELAS!BS20)","v":0},{"$f":"IF($C23=\"\",\"\",KELAS!BT20)","v":0},{"$f":"IF($C23=\"\",\"\",KELAS!BU20)","v":0},{"$f":"IF($C23=\"\",\"\",KELAS!BV20)","v":0},{"$f":"IF($C23=\"\",\"\",KELAS!BW20)","v":0},{"$f":"IF($C23=\"\",\"\",KELAS!BX20)","v":0},{"$f":"IF($C23=\"\",\"\",KELAS!BY20)","v":0},"008",{"$f":"IF($C23=\"\",\"\",KELAS!CA20)","v":0},{"$f":"IF($C23=\"\",\"\",KELAS!CB20)","v":0},{"$f":"IF($C23=\"\",\"\",KELAS!CC20)","v":0},{"$f":"IF($C23=\"\",\"\",KELAS!CD20)","v":0},{"$f":"IF($C23=\"\",\"\",KELAS!CE20)","v":0},{"$f":"IF($C23=\"\",\"\",KELAS!CF20)","v":0},{"$f":"IF($C23=\"\",\"\",KELAS!CG20)","v":0},{"$f":"IF($C23=\"\",\"\",KELAS!CH20)","v":0},"009",{"$f":"IF($C23=\"\",\"\",KELAS!CJ20)","v":0},{"$f":"IF($C23=\"\",\"\",KELAS!CK20)","v":0},{"$f":"IF($C23=\"\",\"\",KELAS!CL20)","v":0},{"$f":"IF($C23=\"\",\"\",KELAS!CM20)","v":0},{"$f":"IF($C23=\"\",\"\",KELAS!CN20)","v":0},{"$f":"IF($C23=\"\",\"\",KELAS!CO20)","v":0},{"$f":"IF($C23=\"\",\"\",KELAS!CP20)","v":0},{"$f":"IF($C23=\"\",\"\",KELAS!CQ20)","v":0},"010",{"$f":"IF($C23=\"\",\"\",KELAS!CS20)","v":0},{"$f":"IF($C23=\"\",\"\",KELAS!CT20)","v":0},{"$f":"IF($C23=\"\",\"\",KELAS!CU20)","v":0},{"$f":"IF($C23=\"\",\"\",KELAS!CV20)","v":0},{"$f":"IF($C23=\"\",\"\",KELAS!CW20)","v":0},{"$f":"IF($C23=\"\",\"\",KELAS!CX20)","v":0},{"$f":"IF($C23=\"\",\"\",KELAS!CY20)","v":0},{"$f":"IF($C23=\"\",\"\",KELAS!CZ20)","v":0},"011",{"$f":"IF($C23=\"\",\"\",KELAS!DB20)","v":0},{"$f":"IF($C23=\"\",\"\",KELAS!DC20)","v":0},{"$f":"IF($C23=\"\",\"\",KELAS!DD20)","v":0},{"$f":"IF($C23=\"\",\"\",KELAS!DE20)","v":0},{"$f":"IF($C23=\"\",\"\",KELAS!DF20)","v":0},{"$f":"IF($C23=\"\",\"\",KELAS!DG20)","v":0},{"$f":"IF($C23=\"\",\"\",KELAS!DH20)","v":0},{"$f":"IF($C23=\"\",\"\",KELAS!DI20)","v":0}]
[{"$f":"IF(KELAS!A21=\"\",\"\",KELAS!A21)","v":19},{"$f":"IF(KELAS!B21=\"\",\"\",KELAS!B21)","v":12611},{"$f":"IF(KELAS!C21=\"\",\"\",PROPER(KELAS!C21))","v":"Lesta Yuninta"},{"$f":"IF(KELAS!D21=\"\",\"\",KELAS!D21)","v":"P"},{"$f":"IF(KELAS!E21=\"\",\"\",KELAS!E21)","v":"7.A"},"001",{"$f":"IF($C24=\"\",\"\",KELAS!Q21)","v":0},{"$f":"IF($C24=\"\",\"\",KELAS!R21)","v":0},{"$f":"IF($C24=\"\",\"\",KELAS!S21)","v":0},{"$f":"IF($C24=\"\",\"\",KELAS!T21)","v":0},{"$f":"IF($C24=\"\",\"\",KELAS!U21)","v":0},{"$f":"IF($C24=\"\",\"\",KELAS!V21)","v":0},{"$f":"IF($C24=\"\",\"\",KELAS!W21)","v":0},{"$f":"IF($C24=\"\",\"\",KELAS!X21)","v":0},"002",{"$f":"IF($C24=\"\",\"\",KELAS!Y21)","v":0},{"$f":"IF($C24=\"\",\"\",KELAS!Z21)","v":0},{"$f":"IF($C24=\"\",\"\",KELAS!AA21)","v":0},{"$f":"IF($C24=\"\",\"\",KELAS!AB21)","v":0},{"$f":"IF($C24=\"\",\"\",KELAS!AC21)","v":0},{"$f":"IF($C24=\"\",\"\",KELAS!AD21)","v":0},{"$f":"IF($C24=\"\",\"\",KELAS!AE21)","v":0},{"$f":"IF($C24=\"\",\"\",KELAS!AF21)","v":0},"003",{"$f":"IF($C24=\"\",\"\",KELAS!AH21)","v":0},{"$f":"IF($C24=\"\",\"\",KELAS!AI21)","v":0},{"$f":"IF($C24=\"\",\"\",KELAS!AJ21)","v":0},{"$f":"IF($C24=\"\",\"\",KELAS!AK21)","v":0},{"$f":"IF($C24=\"\",\"\",KELAS!AL21)","v":0},{"$f":"IF($C24=\"\",\"\",KELAS!AM21)","v":0},{"$f":"IF($C24=\"\",\"\",KELAS!AN21)","v":0},{"$f":"IF($C24=\"\",\"\",KELAS!AO21)","v":0},"004",{"$f":"IF($C24=\"\",\"\",KELAS!AQ21)","v":0},{"$f":"IF($C24=\"\",\"\",KELAS!AR21)","v":0},{"$f":"IF($C24=\"\",\"\",KELAS!AS21)","v":0},{"$f":"IF($C24=\"\",\"\",KELAS!AT21)","v":0},{"$f":"IF($C24=\"\",\"\",KELAS!AU21)","v":0},{"$f":"IF($C24=\"\",\"\",KELAS!AV21)","v":0},{"$f":"IF($C24=\"\",\"\",KELAS!AW21)","v":0},{"$f":"IF($C24=\"\",\"\",KELAS!AX21)","v":0},"005",{"$f":"IF($C24=\"\",\"\",KELAS!AZ21)","v":0},{"$f":"IF($C24=\"\",\"\",KELAS!BA21)","v":0},{"$f":"IF($C24=\"\",\"\",KELAS!BB21)","v":0},{"$f":"IF($C24=\"\",\"\",KELAS!BC21)","v":0},{"$f":"IF($C24=\"\",\"\",KELAS!BD21)","v":0},{"$f":"IF($C24=\"\",\"\",KELAS!BE21)","v":0},{"$f":"IF($C24=\"\",\"\",KELAS!BF21)","v":0},{"$f":"IF($C24=\"\",\"\",KELAS!BG21)","v":0},"006",{"$f":"IF($C24=\"\",\"\",KELAS!BI21)","v":0},{"$f":"IF($C24=\"\",\"\",KELAS!BJ21)","v":0},{"$f":"IF($C24=\"\",\"\",KELAS!BK21)","v":0},{"$f":"IF($C24=\"\",\"\",KELAS!BL21)","v":0},{"$f":"IF($C24=\"\",\"\",KELAS!BM21)","v":0},{"$f":"IF($C24=\"\",\"\",KELAS!BN21)","v":0},{"$f":"IF($C24=\"\",\"\",KELAS!BO21)","v":0},{"$f":"IF($C24=\"\",\"\",KELAS!BP21)","v":0},"007",{"$f":"IF($C24=\"\",\"\",KELAS!BR21)","v":0},{"$f":"IF($C24=\"\",\"\",KELAS!BS21)","v":0},{"$f":"IF($C24=\"\",\"\",KELAS!BT21)","v":0},{"$f":"IF($C24=\"\",\"\",KELAS!BU21)","v":0},{"$f":"IF($C24=\"\",\"\",KELAS!BV21)","v":0},{"$f":"IF($C24=\"\",\"\",KELAS!BW21)","v":0},{"$f":"IF($C24=\"\",\"\",KELAS!BX21)","v":0},{"$f":"IF($C24=\"\",\"\",KELAS!BY21)","v":0},"008",{"$f":"IF($C24=\"\",\"\",KELAS!CA21)","v":0},{"$f":"IF($C24=\"\",\"\",KELAS!CB21)","v":0},{"$f":"IF($C24=\"\",\"\",KELAS!CC21)","v":0},{"$f":"IF($C24=\"\",\"\",KELAS!CD21)","v":0},{"$f":"IF($C24=\"\",\"\",KELAS!CE21)","v":0},{"$f":"IF($C24=\"\",\"\",KELAS!CF21)","v":0},{"$f":"IF($C24=\"\",\"\",KELAS!CG21)","v":0},{"$f":"IF($C24=\"\",\"\",KELAS!CH21)","v":0},"009",{"$f":"IF($C24=\"\",\"\",KELAS!CJ21)","v":0},{"$f":"IF($C24=\"\",\"\",KELAS!CK21)","v":0},{"$f":"IF($C24=\"\",\"\",KELAS!CL21)","v":0},{"$f":"IF($C24=\"\",\"\",KELAS!CM21)","v":0},{"$f":"IF($C24=\"\",\"\",KELAS!CN21)","v":0},{"$f":"IF($C24=\"\",\"\",KELAS!CO21)","v":0},{"$f":"IF($C24=\"\",\"\",KELAS!CP21)","v":0},{"$f":"IF($C24=\"\",\"\",KELAS!CQ21)","v":0},"010",{"$f":"IF($C24=\"\",\"\",KELAS!CS21)","v":0},{"$f":"IF($C24=\"\",\"\",KELAS!CT21)","v":0},{"$f":"IF($C24=\"\",\"\",KELAS!CU21)","v":0},{"$f":"IF($C24=\"\",\"\",KELAS!CV21)","v":0},{"$f":"IF($C24=\"\",\"\",KELAS!CW21)","v":0},{"$f":"IF($C24=\"\",\"\",KELAS!CX21)","v":0},{"$f":"IF($C24=\"\",\"\",KELAS!CY21)","v":0},{"$f":"IF($C24=\"\",\"\",KELAS!CZ21)","v":0},"011",{"$f":"IF($C24=\"\",\"\",KELAS!DB21)","v":0},{"$f":"IF($C24=\"\",\"\",KELAS!DC21)","v":0},{"$f":"IF($C24=\"\",\"\",KELAS!DD21)","v":0},{"$f":"IF($C24=\"\",\"\",KELAS!DE21)","v":0},{"$f":"IF($C24=\"\",\"\",KELAS!DF21)","v":0},{"$f":"IF($C24=\"\",\"\",KELAS!DG21)","v":0},{"$f":"IF($C24=\"\",\"\",KELAS!DH21)","v":0},{"$f":"IF($C24=\"\",\"\",KELAS!DI21)","v":0}]
[{"$f":"IF(KELAS!A22=\"\",\"\",KELAS!A22)","v":20},{"$f":"IF(KELAS!B22=\"\",\"\",KELAS!B22)","v":12614},{"$f":"IF(KELAS!C22=\"\",\"\",PROPER(KELAS!C22))","v":"Linda Nurmayanti"},{"$f":"IF(KELAS!D22=\"\",\"\",KELAS!D22)","v":"P"},{"$f":"IF(KELAS!E22=\"\",\"\",KELAS!E22)","v":"7.A"},"001",{"$f":"IF($C25=\"\",\"\",KELAS!Q22)","v":0},{"$f":"IF($C25=\"\",\"\",KELAS!R22)","v":0},{"$f":"IF($C25=\"\",\"\",KELAS!S22)","v":0},{"$f":"IF($C25=\"\",\"\",KELAS!T22)","v":0},{"$f":"IF($C25=\"\",\"\",KELAS!U22)","v":0},{"$f":"IF($C25=\"\",\"\",KELAS!V22)","v":0},{"$f":"IF($C25=\"\",\"\",KELAS!W22)","v":0},{"$f":"IF($C25=\"\",\"\",KELAS!X22)","v":0},"002",{"$f":"IF($C25=\"\",\"\",KELAS!Y22)","v":0},{"$f":"IF($C25=\"\",\"\",KELAS!Z22)","v":0},{"$f":"IF($C25=\"\",\"\",KELAS!AA22)","v":0},{"$f":"IF($C25=\"\",\"\",KELAS!AB22)","v":0},{"$f":"IF($C25=\"\",\"\",KELAS!AC22)","v":0},{"$f":"IF($C25=\"\",\"\",KELAS!AD22)","v":0},{"$f":"IF($C25=\"\",\"\",KELAS!AE22)","v":0},{"$f":"IF($C25=\"\",\"\",KELAS!AF22)","v":0},"003",{"$f":"IF($C25=\"\",\"\",KELAS!AH22)","v":0},{"$f":"IF($C25=\"\",\"\",KELAS!AI22)","v":0},{"$f":"IF($C25=\"\",\"\",KELAS!AJ22)","v":0},{"$f":"IF($C25=\"\",\"\",KELAS!AK22)","v":0},{"$f":"IF($C25=\"\",\"\",KELAS!AL22)","v":0},{"$f":"IF($C25=\"\",\"\",KELAS!AM22)","v":0},{"$f":"IF($C25=\"\",\"\",KELAS!AN22)","v":0},{"$f":"IF($C25=\"\",\"\",KELAS!AO22)","v":0},"004",{"$f":"IF($C25=\"\",\"\",KELAS!AQ22)","v":0},{"$f":"IF($C25=\"\",\"\",KELAS!AR22)","v":0},{"$f":"IF($C25=\"\",\"\",KELAS!AS22)","v":0},{"$f":"IF($C25=\"\",\"\",KELAS!AT22)","v":0},{"$f":"IF($C25=\"\",\"\",KELAS!AU22)","v":0},{"$f":"IF($C25=\"\",\"\",KELAS!AV22)","v":0},{"$f":"IF($C25=\"\",\"\",KELAS!AW22)","v":0},{"$f":"IF($C25=\"\",\"\",KELAS!AX22)","v":0},"005",{"$f":"IF($C25=\"\",\"\",KELAS!AZ22)","v":0},{"$f":"IF($C25=\"\",\"\",KELAS!BA22)","v":0},{"$f":"IF($C25=\"\",\"\",KELAS!BB22)","v":0},{"$f":"IF($C25=\"\",\"\",KELAS!BC22)","v":0},{"$f":"IF($C25=\"\",\"\",KELAS!BD22)","v":0},{"$f":"IF($C25=\"\",\"\",KELAS!BE22)","v":0},{"$f":"IF($C25=\"\",\"\",KELAS!BF22)","v":0},{"$f":"IF($C25=\"\",\"\",KELAS!BG22)","v":0},"006",{"$f":"IF($C25=\"\",\"\",KELAS!BI22)","v":0},{"$f":"IF($C25=\"\",\"\",KELAS!BJ22)","v":0},{"$f":"IF($C25=\"\",\"\",KELAS!BK22)","v":0},{"$f":"IF($C25=\"\",\"\",KELAS!BL22)","v":0},{"$f":"IF($C25=\"\",\"\",KELAS!BM22)","v":0},{"$f":"IF($C25=\"\",\"\",KELAS!BN22)","v":0},{"$f":"IF($C25=\"\",\"\",KELAS!BO22)","v":0},{"$f":"IF($C25=\"\",\"\",KELAS!BP22)","v":0},"007",{"$f":"IF($C25=\"\",\"\",KELAS!BR22)","v":0},{"$f":"IF($C25=\"\",\"\",KELAS!BS22)","v":0},{"$f":"IF($C25=\"\",\"\",KELAS!BT22)","v":0},{"$f":"IF($C25=\"\",\"\",KELAS!BU22)","v":0},{"$f":"IF($C25=\"\",\"\",KELAS!BV22)","v":0},{"$f":"IF($C25=\"\",\"\",KELAS!BW22)","v":0},{"$f":"IF($C25=\"\",\"\",KELAS!BX22)","v":0},{"$f":"IF($C25=\"\",\"\",KELAS!BY22)","v":0},"008",{"$f":"IF($C25=\"\",\"\",KELAS!CA22)","v":0},{"$f":"IF($C25=\"\",\"\",KELAS!CB22)","v":0},{"$f":"IF($C25=\"\",\"\",KELAS!CC22)","v":0},{"$f":"IF($C25=\"\",\"\",KELAS!CD22)","v":0},{"$f":"IF($C25=\"\",\"\",KELAS!CE22)","v":0},{"$f":"IF($C25=\"\",\"\",KELAS!CF22)","v":0},{"$f":"IF($C25=\"\",\"\",KELAS!CG22)","v":0},{"$f":"IF($C25=\"\",\"\",KELAS!CH22)","v":0},"009",{"$f":"IF($C25=\"\",\"\",KELAS!CJ22)","v":0},{"$f":"IF($C25=\"\",\"\",KELAS!CK22)","v":0},{"$f":"IF($C25=\"\",\"\",KELAS!CL22)","v":0},{"$f":"IF($C25=\"\",\"\",KELAS!CM22)","v":0},{"$f":"IF($C25=\"\",\"\",KELAS!CN22)","v":0},{"$f":"IF($C25=\"\",\"\",KELAS!CO22)","v":0},{"$f":"IF($C25=\"\",\"\",KELAS!CP22)","v":0},{"$f":"IF($C25=\"\",\"\",KELAS!CQ22)","v":0},"010",{"$f":"IF($C25=\"\",\"\",KELAS!CS22)","v":0},{"$f":"IF($C25=\"\",\"\",KELAS!CT22)","v":0},{"$f":"IF($C25=\"\",\"\",KELAS!CU22)","v":0},{"$f":"IF($C25=\"\",\"\",KELAS!CV22)","v":0},{"$f":"IF($C25=\"\",\"\",KELAS!CW22)","v":0},{"$f":"IF($C25=\"\",\"\",KELAS!CX22)","v":0},{"$f":"IF($C25=\"\",\"\",KELAS!CY22)","v":0},{"$f":"IF($C25=\"\",\"\",KELAS!CZ22)","v":0},"011",{"$f":"IF($C25=\"\",\"\",KELAS!DB22)","v":0},{"$f":"IF($C25=\"\",\"\",KELAS!DC22)","v":0},{"$f":"IF($C25=\"\",\"\",KELAS!DD22)","v":0},{"$f":"IF($C25=\"\",\"\",KELAS!DE22)","v":0},{"$f":"IF($C25=\"\",\"\",KELAS!DF22)","v":0},{"$f":"IF($C25=\"\",\"\",KELAS!DG22)","v":0},{"$f":"IF($C25=\"\",\"\",KELAS!DH22)","v":0},{"$f":"IF($C25=\"\",\"\",KELAS!DI22)","v":0}]
[{"$f":"IF(KELAS!A23=\"\",\"\",KELAS!A23)","v":21},{"$f":"IF(KELAS!B23=\"\",\"\",KELAS!B23)","v":12621},{"$f":"IF(KELAS!C23=\"\",\"\",PROPER(KELAS!C23))","v":"M. Hazbi Rachman"},{"$f":"IF(KELAS!D23=\"\",\"\",KELAS!D23)","v":"L"},{"$f":"IF(KELAS!E23=\"\",\"\",KELAS!E23)","v":"7.A"},"001",{"$f":"IF($C26=\"\",\"\",KELAS!Q23)","v":0},{"$f":"IF($C26=\"\",\"\",KELAS!R23)","v":0},{"$f":"IF($C26=\"\",\"\",KELAS!S23)","v":0},{"$f":"IF($C26=\"\",\"\",KELAS!T23)","v":0},{"$f":"IF($C26=\"\",\"\",KELAS!U23)","v":0},{"$f":"IF($C26=\"\",\"\",KELAS!V23)","v":0},{"$f":"IF($C26=\"\",\"\",KELAS!W23)","v":0},{"$f":"IF($C26=\"\",\"\",KELAS!X23)","v":0},"002",{"$f":"IF($C26=\"\",\"\",KELAS!Y23)","v":0},{"$f":"IF($C26=\"\",\"\",KELAS!Z23)","v":0},{"$f":"IF($C26=\"\",\"\",KELAS!AA23)","v":0},{"$f":"IF($C26=\"\",\"\",KELAS!AB23)","v":0},{"$f":"IF($C26=\"\",\"\",KELAS!AC23)","v":0},{"$f":"IF($C26=\"\",\"\",KELAS!AD23)","v":0},{"$f":"IF($C26=\"\",\"\",KELAS!AE23)","v":0},{"$f":"IF($C26=\"\",\"\",KELAS!AF23)","v":0},"003",{"$f":"IF($C26=\"\",\"\",KELAS!AH23)","v":0},{"$f":"IF($C26=\"\",\"\",KELAS!AI23)","v":0},{"$f":"IF($C26=\"\",\"\",KELAS!AJ23)","v":0},{"$f":"IF($C26=\"\",\"\",KELAS!AK23)","v":0},{"$f":"IF($C26=\"\",\"\",KELAS!AL23)","v":0},{"$f":"IF($C26=\"\",\"\",KELAS!AM23)","v":0},{"$f":"IF($C26=\"\",\"\",KELAS!AN23)","v":0},{"$f":"IF($C26=\"\",\"\",KELAS!AO23)","v":0},"004",{"$f":"IF($C26=\"\",\"\",KELAS!AQ23)","v":0},{"$f":"IF($C26=\"\",\"\",KELAS!AR23)","v":0},{"$f":"IF($C26=\"\",\"\",KELAS!AS23)","v":0},{"$f":"IF($C26=\"\",\"\",KELAS!AT23)","v":0},{"$f":"IF($C26=\"\",\"\",KELAS!AU23)","v":0},{"$f":"IF($C26=\"\",\"\",KELAS!AV23)","v":0},{"$f":"IF($C26=\"\",\"\",KELAS!AW23)","v":0},{"$f":"IF($C26=\"\",\"\",KELAS!AX23)","v":0},"005",{"$f":"IF($C26=\"\",\"\",KELAS!AZ23)","v":0},{"$f":"IF($C26=\"\",\"\",KELAS!BA23)","v":0},{"$f":"IF($C26=\"\",\"\",KELAS!BB23)","v":0},{"$f":"IF($C26=\"\",\"\",KELAS!BC23)","v":0},{"$f":"IF($C26=\"\",\"\",KELAS!BD23)","v":0},{"$f":"IF($C26=\"\",\"\",KELAS!BE23)","v":0},{"$f":"IF($C26=\"\",\"\",KELAS!BF23)","v":0},{"$f":"IF($C26=\"\",\"\",KELAS!BG23)","v":0},"006",{"$f":"IF($C26=\"\",\"\",KELAS!BI23)","v":0},{"$f":"IF($C26=\"\",\"\",KELAS!BJ23)","v":0},{"$f":"IF($C26=\"\",\"\",KELAS!BK23)","v":0},{"$f":"IF($C26=\"\",\"\",KELAS!BL23)","v":0},{"$f":"IF($C26=\"\",\"\",KELAS!BM23)","v":0},{"$f":"IF($C26=\"\",\"\",KELAS!BN23)","v":0},{"$f":"IF($C26=\"\",\"\",KELAS!BO23)","v":0},{"$f":"IF($C26=\"\",\"\",KELAS!BP23)","v":0},"007",{"$f":"IF($C26=\"\",\"\",KELAS!BR23)","v":0},{"$f":"IF($C26=\"\",\"\",KELAS!BS23)","v":0},{"$f":"IF($C26=\"\",\"\",KELAS!BT23)","v":0},{"$f":"IF($C26=\"\",\"\",KELAS!BU23)","v":0},{"$f":"IF($C26=\"\",\"\",KELAS!BV23)","v":0},{"$f":"IF($C26=\"\",\"\",KELAS!BW23)","v":0},{"$f":"IF($C26=\"\",\"\",KELAS!BX23)","v":0},{"$f":"IF($C26=\"\",\"\",KELAS!BY23)","v":0},"008",{"$f":"IF($C26=\"\",\"\",KELAS!CA23)","v":0},{"$f":"IF($C26=\"\",\"\",KELAS!CB23)","v":0},{"$f":"IF($C26=\"\",\"\",KELAS!CC23)","v":0},{"$f":"IF($C26=\"\",\"\",KELAS!CD23)","v":0},{"$f":"IF($C26=\"\",\"\",KELAS!CE23)","v":0},{"$f":"IF($C26=\"\",\"\",KELAS!CF23)","v":0},{"$f":"IF($C26=\"\",\"\",KELAS!CG23)","v":0},{"$f":"IF($C26=\"\",\"\",KELAS!CH23)","v":0},"009",{"$f":"IF($C26=\"\",\"\",KELAS!CJ23)","v":0},{"$f":"IF($C26=\"\",\"\",KELAS!CK23)","v":0},{"$f":"IF($C26=\"\",\"\",KELAS!CL23)","v":0},{"$f":"IF($C26=\"\",\"\",KELAS!CM23)","v":0},{"$f":"IF($C26=\"\",\"\",KELAS!CN23)","v":0},{"$f":"IF($C26=\"\",\"\",KELAS!CO23)","v":0},{"$f":"IF($C26=\"\",\"\",KELAS!CP23)","v":0},{"$f":"IF($C26=\"\",\"\",KELAS!CQ23)","v":0},"010",{"$f":"IF($C26=\"\",\"\",KELAS!CS23)","v":0},{"$f":"IF($C26=\"\",\"\",KELAS!CT23)","v":0},{"$f":"IF($C26=\"\",\"\",KELAS!CU23)","v":0},{"$f":"IF($C26=\"\",\"\",KELAS!CV23)","v":0},{"$f":"IF($C26=\"\",\"\",KELAS!CW23)","v":0},{"$f":"IF($C26=\"\",\"\",KELAS!CX23)","v":0},{"$f":"IF($C26=\"\",\"\",KELAS!CY23)","v":0},{"$f":"IF($C26=\"\",\"\",KELAS!CZ23)","v":0},"011",{"$f":"IF($C26=\"\",\"\",KELAS!DB23)","v":0},{"$f":"IF($C26=\"\",\"\",KELAS!DC23)","v":0},{"$f":"IF($C26=\"\",\"\",KELAS!DD23)","v":0},{"$f":"IF($C26=\"\",\"\",KELAS!DE23)","v":0},{"$f":"IF($C26=\"\",\"\",KELAS!DF23)","v":0},{"$f":"IF($C26=\"\",\"\",KELAS!DG23)","v":0},{"$f":"IF($C26=\"\",\"\",KELAS!DH23)","v":0},{"$f":"IF($C26=\"\",\"\",KELAS!DI23)","v":0}]
[{"$f":"IF(KELAS!A24=\"\",\"\",KELAS!A24)","v":22},{"$f":"IF(KELAS!B24=\"\",\"\",KELAS!B24)","v":12622},{"$f":"IF(KELAS!C24=\"\",\"\",PROPER(KELAS!C24))","v":"Marlina"},{"$f":"IF(KELAS!D24=\"\",\"\",KELAS!D24)","v":"P"},{"$f":"IF(KELAS!E24=\"\",\"\",KELAS!E24)","v":"7.A"},"001",{"$f":"IF($C27=\"\",\"\",KELAS!Q24)","v":0},{"$f":"IF($C27=\"\",\"\",KELAS!R24)","v":0},{"$f":"IF($C27=\"\",\"\",KELAS!S24)","v":0},{"$f":"IF($C27=\"\",\"\",KELAS!T24)","v":0},{"$f":"IF($C27=\"\",\"\",KELAS!U24)","v":0},{"$f":"IF($C27=\"\",\"\",KELAS!V24)","v":0},{"$f":"IF($C27=\"\",\"\",KELAS!W24)","v":0},{"$f":"IF($C27=\"\",\"\",KELAS!X24)","v":0},"002",{"$f":"IF($C27=\"\",\"\",KELAS!Y24)","v":0},{"$f":"IF($C27=\"\",\"\",KELAS!Z24)","v":0},{"$f":"IF($C27=\"\",\"\",KELAS!AA24)","v":0},{"$f":"IF($C27=\"\",\"\",KELAS!AB24)","v":0},{"$f":"IF($C27=\"\",\"\",KELAS!AC24)","v":0},{"$f":"IF($C27=\"\",\"\",KELAS!AD24)","v":0},{"$f":"IF($C27=\"\",\"\",KELAS!AE24)","v":0},{"$f":"IF($C27=\"\",\"\",KELAS!AF24)","v":0},"003",{"$f":"IF($C27=\"\",\"\",KELAS!AH24)","v":0},{"$f":"IF($C27=\"\",\"\",KELAS!AI24)","v":0},{"$f":"IF($C27=\"\",\"\",KELAS!AJ24)","v":0},{"$f":"IF($C27=\"\",\"\",KELAS!AK24)","v":0},{"$f":"IF($C27=\"\",\"\",KELAS!AL24)","v":0},{"$f":"IF($C27=\"\",\"\",KELAS!AM24)","v":0},{"$f":"IF($C27=\"\",\"\",KELAS!AN24)","v":0},{"$f":"IF($C27=\"\",\"\",KELAS!AO24)","v":0},"004",{"$f":"IF($C27=\"\",\"\",KELAS!AQ24)","v":0},{"$f":"IF($C27=\"\",\"\",KELAS!AR24)","v":0},{"$f":"IF($C27=\"\",\"\",KELAS!AS24)","v":0},{"$f":"IF($C27=\"\",\"\",KELAS!AT24)","v":0},{"$f":"IF($C27=\"\",\"\",KELAS!AU24)","v":0},{"$f":"IF($C27=\"\",\"\",KELAS!AV24)","v":0},{"$f":"IF($C27=\"\",\"\",KELAS!AW24)","v":0},{"$f":"IF($C27=\"\",\"\",KELAS!AX24)","v":0},"005",{"$f":"IF($C27=\"\",\"\",KELAS!AZ24)","v":0},{"$f":"IF($C27=\"\",\"\",KELAS!BA24)","v":0},{"$f":"IF($C27=\"\",\"\",KELAS!BB24)","v":0},{"$f":"IF($C27=\"\",\"\",KELAS!BC24)","v":0},{"$f":"IF($C27=\"\",\"\",KELAS!BD24)","v":0},{"$f":"IF($C27=\"\",\"\",KELAS!BE24)","v":0},{"$f":"IF($C27=\"\",\"\",KELAS!BF24)","v":0},{"$f":"IF($C27=\"\",\"\",KELAS!BG24)","v":0},"006",{"$f":"IF($C27=\"\",\"\",KELAS!BI24)","v":0},{"$f":"IF($C27=\"\",\"\",KELAS!BJ24)","v":0},{"$f":"IF($C27=\"\",\"\",KELAS!BK24)","v":0},{"$f":"IF($C27=\"\",\"\",KELAS!BL24)","v":0},{"$f":"IF($C27=\"\",\"\",KELAS!BM24)","v":0},{"$f":"IF($C27=\"\",\"\",KELAS!BN24)","v":0},{"$f":"IF($C27=\"\",\"\",KELAS!BO24)","v":0},{"$f":"IF($C27=\"\",\"\",KELAS!BP24)","v":0},"007",{"$f":"IF($C27=\"\",\"\",KELAS!BR24)","v":0},{"$f":"IF($C27=\"\",\"\",KELAS!BS24)","v":0},{"$f":"IF($C27=\"\",\"\",KELAS!BT24)","v":0},{"$f":"IF($C27=\"\",\"\",KELAS!BU24)","v":0},{"$f":"IF($C27=\"\",\"\",KELAS!BV24)","v":0},{"$f":"IF($C27=\"\",\"\",KELAS!BW24)","v":0},{"$f":"IF($C27=\"\",\"\",KELAS!BX24)","v":0},{"$f":"IF($C27=\"\",\"\",KELAS!BY24)","v":0},"008",{"$f":"IF($C27=\"\",\"\",KELAS!CA24)","v":0},{"$f":"IF($C27=\"\",\"\",KELAS!CB24)","v":0},{"$f":"IF($C27=\"\",\"\",KELAS!CC24)","v":0},{"$f":"IF($C27=\"\",\"\",KELAS!CD24)","v":0},{"$f":"IF($C27=\"\",\"\",KELAS!CE24)","v":0},{"$f":"IF($C27=\"\",\"\",KELAS!CF24)","v":0},{"$f":"IF($C27=\"\",\"\",KELAS!CG24)","v":0},{"$f":"IF($C27=\"\",\"\",KELAS!CH24)","v":0},"009",{"$f":"IF($C27=\"\",\"\",KELAS!CJ24)","v":0},{"$f":"IF($C27=\"\",\"\",KELAS!CK24)","v":0},{"$f":"IF($C27=\"\",\"\",KELAS!CL24)","v":0},{"$f":"IF($C27=\"\",\"\",KELAS!CM24)","v":0},{"$f":"IF($C27=\"\",\"\",KELAS!CN24)","v":0},{"$f":"IF($C27=\"\",\"\",KELAS!CO24)","v":0},{"$f":"IF($C27=\"\",\"\",KELAS!CP24)","v":0},{"$f":"IF($C27=\"\",\"\",KELAS!CQ24)","v":0},"010",{"$f":"IF($C27=\"\",\"\",KELAS!CS24)","v":0},{"$f":"IF($C27=\"\",\"\",KELAS!CT24)","v":0},{"$f":"IF($C27=\"\",\"\",KELAS!CU24)","v":0},{"$f":"IF($C27=\"\",\"\",KELAS!CV24)","v":0},{"$f":"IF($C27=\"\",\"\",KELAS!CW24)","v":0},{"$f":"IF($C27=\"\",\"\",KELAS!CX24)","v":0},{"$f":"IF($C27=\"\",\"\",KELAS!CY24)","v":0},{"$f":"IF($C27=\"\",\"\",KELAS!CZ24)","v":0},"011",{"$f":"IF($C27=\"\",\"\",KELAS!DB24)","v":0},{"$f":"IF($C27=\"\",\"\",KELAS!DC24)","v":0},{"$f":"IF($C27=\"\",\"\",KELAS!DD24)","v":0},{"$f":"IF($C27=\"\",\"\",KELAS!DE24)","v":0},{"$f":"IF($C27=\"\",\"\",KELAS!DF24)","v":0},{"$f":"IF($C27=\"\",\"\",KELAS!DG24)","v":0},{"$f":"IF($C27=\"\",\"\",KELAS!DH24)","v":0},{"$f":"IF($C27=\"\",\"\",KELAS!DI24)","v":0}]
[{"$f":"IF(KELAS!A25=\"\",\"\",KELAS!A25)","v":23},{"$f":"IF(KELAS!B25=\"\",\"\",KELAS!B25)","v":12627},{"$f":"IF(KELAS!C25=\"\",\"\",PROPER(KELAS!C25))","v":"Merrin Farahida"},{"$f":"IF(KELAS!D25=\"\",\"\",KELAS!D25)","v":"P"},{"$f":"IF(KELAS!E25=\"\",\"\",KELAS!E25)","v":"7.A"},"001",{"$f":"IF($C28=\"\",\"\",KELAS!Q25)","v":0},{"$f":"IF($C28=\"\",\"\",KELAS!R25)","v":0},{"$f":"IF($C28=\"\",\"\",KELAS!S25)","v":0},{"$f":"IF($C28=\"\",\"\",KELAS!T25)","v":0},{"$f":"IF($C28=\"\",\"\",KELAS!U25)","v":0},{"$f":"IF($C28=\"\",\"\",KELAS!V25)","v":0},{"$f":"IF($C28=\"\",\"\",KELAS!W25)","v":0},{"$f":"IF($C28=\"\",\"\",KELAS!X25)","v":0},"002",{"$f":"IF($C28=\"\",\"\",KELAS!Y25)","v":0},{"$f":"IF($C28=\"\",\"\",KELAS!Z25)","v":0},{"$f":"IF($C28=\"\",\"\",KELAS!AA25)","v":0},{"$f":"IF($C28=\"\",\"\",KELAS!AB25)","v":0},{"$f":"IF($C28=\"\",\"\",KELAS!AC25)","v":0},{"$f":"IF($C28=\"\",\"\",KELAS!AD25)","v":0},{"$f":"IF($C28=\"\",\"\",KELAS!AE25)","v":0},{"$f":"IF($C28=\"\",\"\",KELAS!AF25)","v":0},"003",{"$f":"IF($C28=\"\",\"\",KELAS!AH25)","v":0},{"$f":"IF($C28=\"\",\"\",KELAS!AI25)","v":0},{"$f":"IF($C28=\"\",\"\",KELAS!AJ25)","v":0},{"$f":"IF($C28=\"\",\"\",KELAS!AK25)","v":0},{"$f":"IF($C28=\"\",\"\",KELAS!AL25)","v":0},{"$f":"IF($C28=\"\",\"\",KELAS!AM25)","v":0},{"$f":"IF($C28=\"\",\"\",KELAS!AN25)","v":0},{"$f":"IF($C28=\"\",\"\",KELAS!AO25)","v":0},"004",{"$f":"IF($C28=\"\",\"\",KELAS!AQ25)","v":0},{"$f":"IF($C28=\"\",\"\",KELAS!AR25)","v":0},{"$f":"IF($C28=\"\",\"\",KELAS!AS25)","v":0},{"$f":"IF($C28=\"\",\"\",KELAS!AT25)","v":0},{"$f":"IF($C28=\"\",\"\",KELAS!AU25)","v":0},{"$f":"IF($C28=\"\",\"\",KELAS!AV25)","v":0},{"$f":"IF($C28=\"\",\"\",KELAS!AW25)","v":0},{"$f":"IF($C28=\"\",\"\",KELAS!AX25)","v":0},"005",{"$f":"IF($C28=\"\",\"\",KELAS!AZ25)","v":0},{"$f":"IF($C28=\"\",\"\",KELAS!BA25)","v":0},{"$f":"IF($C28=\"\",\"\",KELAS!BB25)","v":0},{"$f":"IF($C28=\"\",\"\",KELAS!BC25)","v":0},{"$f":"IF($C28=\"\",\"\",KELAS!BD25)","v":0},{"$f":"IF($C28=\"\",\"\",KELAS!BE25)","v":0},{"$f":"IF($C28=\"\",\"\",KELAS!BF25)","v":0},{"$f":"IF($C28=\"\",\"\",KELAS!BG25)","v":0},"006",{"$f":"IF($C28=\"\",\"\",KELAS!BI25)","v":0},{"$f":"IF($C28=\"\",\"\",KELAS!BJ25)","v":0},{"$f":"IF($C28=\"\",\"\",KELAS!BK25)","v":0},{"$f":"IF($C28=\"\",\"\",KELAS!BL25)","v":0},{"$f":"IF($C28=\"\",\"\",KELAS!BM25)","v":0},{"$f":"IF($C28=\"\",\"\",KELAS!BN25)","v":0},{"$f":"IF($C28=\"\",\"\",KELAS!BO25)","v":0},{"$f":"IF($C28=\"\",\"\",KELAS!BP25)","v":0},"007",{"$f":"IF($C28=\"\",\"\",KELAS!BR25)","v":0},{"$f":"IF($C28=\"\",\"\",KELAS!BS25)","v":0},{"$f":"IF($C28=\"\",\"\",KELAS!BT25)","v":0},{"$f":"IF($C28=\"\",\"\",KELAS!BU25)","v":0},{"$f":"IF($C28=\"\",\"\",KELAS!BV25)","v":0},{"$f":"IF($C28=\"\",\"\",KELAS!BW25)","v":0},{"$f":"IF($C28=\"\",\"\",KELAS!BX25)","v":0},{"$f":"IF($C28=\"\",\"\",KELAS!BY25)","v":0},"008",{"$f":"IF($C28=\"\",\"\",KELAS!CA25)","v":0},{"$f":"IF($C28=\"\",\"\",KELAS!CB25)","v":0},{"$f":"IF($C28=\"\",\"\",KELAS!CC25)","v":0},{"$f":"IF($C28=\"\",\"\",KELAS!CD25)","v":0},{"$f":"IF($C28=\"\",\"\",KELAS!CE25)","v":0},{"$f":"IF($C28=\"\",\"\",KELAS!CF25)","v":0},{"$f":"IF($C28=\"\",\"\",KELAS!CG25)","v":0},{"$f":"IF($C28=\"\",\"\",KELAS!CH25)","v":0},"009",{"$f":"IF($C28=\"\",\"\",KELAS!CJ25)","v":0},{"$f":"IF($C28=\"\",\"\",KELAS!CK25)","v":0},{"$f":"IF($C28=\"\",\"\",KELAS!CL25)","v":0},{"$f":"IF($C28=\"\",\"\",KELAS!CM25)","v":0},{"$f":"IF($C28=\"\",\"\",KELAS!CN25)","v":0},{"$f":"IF($C28=\"\",\"\",KELAS!CO25)","v":0},{"$f":"IF($C28=\"\",\"\",KELAS!CP25)","v":0},{"$f":"IF($C28=\"\",\"\",KELAS!CQ25)","v":0},"010",{"$f":"IF($C28=\"\",\"\",KELAS!CS25)","v":0},{"$f":"IF($C28=\"\",\"\",KELAS!CT25)","v":0},{"$f":"IF($C28=\"\",\"\",KELAS!CU25)","v":0},{"$f":"IF($C28=\"\",\"\",KELAS!CV25)","v":0},{"$f":"IF($C28=\"\",\"\",KELAS!CW25)","v":0},{"$f":"IF($C28=\"\",\"\",KELAS!CX25)","v":0},{"$f":"IF($C28=\"\",\"\",KELAS!CY25)","v":0},{"$f":"IF($C28=\"\",\"\",KELAS!CZ25)","v":0},"011",{"$f":"IF($C28=\"\",\"\",KELAS!DB25)","v":0},{"$f":"IF($C28=\"\",\"\",KELAS!DC25)","v":0},{"$f":"IF($C28=\"\",\"\",KELAS!DD25)","v":0},{"$f":"IF($C28=\"\",\"\",KELAS!DE25)","v":0},{"$f":"IF($C28=\"\",\"\",KELAS!DF25)","v":0},{"$f":"IF($C28=\"\",\"\",KELAS!DG25)","v":0},{"$f":"IF($C28=\"\",\"\",KELAS!DH25)","v":0},{"$f":"IF($C28=\"\",\"\",KELAS!DI25)","v":0}]
[{"$f":"IF(KELAS!A26=\"\",\"\",KELAS!A26)","v":24},{"$f":"IF(KELAS!B26=\"\",\"\",KELAS!B26)","v":12630},{"$f":"IF(KELAS!C26=\"\",\"\",PROPER(KELAS!C26))","v":"Mona Evira Dionty"},{"$f":"IF(KELAS!D26=\"\",\"\",KELAS!D26)","v":"P"},{"$f":"IF(KELAS!E26=\"\",\"\",KELAS!E26)","v":"7.A"},"001",{"$f":"IF($C29=\"\",\"\",KELAS!Q26)","v":0},{"$f":"IF($C29=\"\",\"\",KELAS!R26)","v":0},{"$f":"IF($C29=\"\",\"\",KELAS!S26)","v":0},{"$f":"IF($C29=\"\",\"\",KELAS!T26)","v":0},{"$f":"IF($C29=\"\",\"\",KELAS!U26)","v":0},{"$f":"IF($C29=\"\",\"\",KELAS!V26)","v":0},{"$f":"IF($C29=\"\",\"\",KELAS!W26)","v":0},{"$f":"IF($C29=\"\",\"\",KELAS!X26)","v":0},"002",{"$f":"IF($C29=\"\",\"\",KELAS!Y26)","v":0},{"$f":"IF($C29=\"\",\"\",KELAS!Z26)","v":0},{"$f":"IF($C29=\"\",\"\",KELAS!AA26)","v":0},{"$f":"IF($C29=\"\",\"\",KELAS!AB26)","v":0},{"$f":"IF($C29=\"\",\"\",KELAS!AC26)","v":0},{"$f":"IF($C29=\"\",\"\",KELAS!AD26)","v":0},{"$f":"IF($C29=\"\",\"\",KELAS!AE26)","v":0},{"$f":"IF($C29=\"\",\"\",KELAS!AF26)","v":0},"003",{"$f":"IF($C29=\"\",\"\",KELAS!AH26)","v":0},{"$f":"IF($C29=\"\",\"\",KELAS!AI26)","v":0},{"$f":"IF($C29=\"\",\"\",KELAS!AJ26)","v":0},{"$f":"IF($C29=\"\",\"\",KELAS!AK26)","v":0},{"$f":"IF($C29=\"\",\"\",KELAS!AL26)","v":0},{"$f":"IF($C29=\"\",\"\",KELAS!AM26)","v":0},{"$f":"IF($C29=\"\",\"\",KELAS!AN26)","v":0},{"$f":"IF($C29=\"\",\"\",KELAS!AO26)","v":0},"004",{"$f":"IF($C29=\"\",\"\",KELAS!AQ26)","v":0},{"$f":"IF($C29=\"\",\"\",KELAS!AR26)","v":0},{"$f":"IF($C29=\"\",\"\",KELAS!AS26)","v":0},{"$f":"IF($C29=\"\",\"\",KELAS!AT26)","v":0},{"$f":"IF($C29=\"\",\"\",KELAS!AU26)","v":0},{"$f":"IF($C29=\"\",\"\",KELAS!AV26)","v":0},{"$f":"IF($C29=\"\",\"\",KELAS!AW26)","v":0},{"$f":"IF($C29=\"\",\"\",KELAS!AX26)","v":0},"005",{"$f":"IF($C29=\"\",\"\",KELAS!AZ26)","v":0},{"$f":"IF($C29=\"\",\"\",KELAS!BA26)","v":0},{"$f":"IF($C29=\"\",\"\",KELAS!BB26)","v":0},{"$f":"IF($C29=\"\",\"\",KELAS!BC26)","v":0},{"$f":"IF($C29=\"\",\"\",KELAS!BD26)","v":0},{"$f":"IF($C29=\"\",\"\",KELAS!BE26)","v":0},{"$f":"IF($C29=\"\",\"\",KELAS!BF26)","v":0},{"$f":"IF($C29=\"\",\"\",KELAS!BG26)","v":0},"006",{"$f":"IF($C29=\"\",\"\",KELAS!BI26)","v":0},{"$f":"IF($C29=\"\",\"\",KELAS!BJ26)","v":0},{"$f":"IF($C29=\"\",\"\",KELAS!BK26)","v":0},{"$f":"IF($C29=\"\",\"\",KELAS!BL26)","v":0},{"$f":"IF($C29=\"\",\"\",KELAS!BM26)","v":0},{"$f":"IF($C29=\"\",\"\",KELAS!BN26)","v":0},{"$f":"IF($C29=\"\",\"\",KELAS!BO26)","v":0},{"$f":"IF($C29=\"\",\"\",KELAS!BP26)","v":0},"007",{"$f":"IF($C29=\"\",\"\",KELAS!BR26)","v":0},{"$f":"IF($C29=\"\",\"\",KELAS!BS26)","v":0},{"$f":"IF($C29=\"\",\"\",KELAS!BT26)","v":0},{"$f":"IF($C29=\"\",\"\",KELAS!BU26)","v":0},{"$f":"IF($C29=\"\",\"\",KELAS!BV26)","v":0},{"$f":"IF($C29=\"\",\"\",KELAS!BW26)","v":0},{"$f":"IF($C29=\"\",\"\",KELAS!BX26)","v":0},{"$f":"IF($C29=\"\",\"\",KELAS!BY26)","v":0},"008",{"$f":"IF($C29=\"\",\"\",KELAS!CA26)","v":0},{"$f":"IF($C29=\"\",\"\",KELAS!CB26)","v":0},{"$f":"IF($C29=\"\",\"\",KELAS!CC26)","v":0},{"$f":"IF($C29=\"\",\"\",KELAS!CD26)","v":0},{"$f":"IF($C29=\"\",\"\",KELAS!CE26)","v":0},{"$f":"IF($C29=\"\",\"\",KELAS!CF26)","v":0},{"$f":"IF($C29=\"\",\"\",KELAS!CG26)","v":0},{"$f":"IF($C29=\"\",\"\",KELAS!CH26)","v":0},"009",{"$f":"IF($C29=\"\",\"\",KELAS!CJ26)","v":0},{"$f":"IF($C29=\"\",\"\",KELAS!CK26)","v":0},{"$f":"IF($C29=\"\",\"\",KELAS!CL26)","v":0},{"$f":"IF($C29=\"\",\"\",KELAS!CM26)","v":0},{"$f":"IF($C29=\"\",\"\",KELAS!CN26)","v":0},{"$f":"IF($C29=\"\",\"\",KELAS!CO26)","v":0},{"$f":"IF($C29=\"\",\"\",KELAS!CP26)","v":0},{"$f":"IF($C29=\"\",\"\",KELAS!CQ26)","v":0},"010",{"$f":"IF($C29=\"\",\"\",KELAS!CS26)","v":0},{"$f":"IF($C29=\"\",\"\",KELAS!CT26)","v":0},{"$f":"IF($C29=\"\",\"\",KELAS!CU26)","v":0},{"$f":"IF($C29=\"\",\"\",KELAS!CV26)","v":0},{"$f":"IF($C29=\"\",\"\",KELAS!CW26)","v":0},{"$f":"IF($C29=\"\",\"\",KELAS!CX26)","v":0},{"$f":"IF($C29=\"\",\"\",KELAS!CY26)","v":0},{"$f":"IF($C29=\"\",\"\",KELAS!CZ26)","v":0},"011",{"$f":"IF($C29=\"\",\"\",KELAS!DB26)","v":0},{"$f":"IF($C29=\"\",\"\",KELAS!DC26)","v":0},{"$f":"IF($C29=\"\",\"\",KELAS!DD26)","v":0},{"$f":"IF($C29=\"\",\"\",KELAS!DE26)","v":0},{"$f":"IF($C29=\"\",\"\",KELAS!DF26)","v":0},{"$f":"IF($C29=\"\",\"\",KELAS!DG26)","v":0},{"$f":"IF($C29=\"\",\"\",KELAS!DH26)","v":0},{"$f":"IF($C29=\"\",\"\",KELAS!DI26)","v":0}]
[{"$f":"IF(KELAS!A27=\"\",\"\",KELAS!A27)","v":25},{"$f":"IF(KELAS!B27=\"\",\"\",KELAS!B27)","v":12634},{"$f":"IF(KELAS!C27=\"\",\"\",PROPER(KELAS!C27))","v":"Muhamad Fatlihasan"},{"$f":"IF(KELAS!D27=\"\",\"\",KELAS!D27)","v":"L"},{"$f":"IF(KELAS!E27=\"\",\"\",KELAS!E27)","v":"7.A"},"001",{"$f":"IF($C30=\"\",\"\",KELAS!Q27)","v":0},{"$f":"IF($C30=\"\",\"\",KELAS!R27)","v":0},{"$f":"IF($C30=\"\",\"\",KELAS!S27)","v":0},{"$f":"IF($C30=\"\",\"\",KELAS!T27)","v":0},{"$f":"IF($C30=\"\",\"\",KELAS!U27)","v":0},{"$f":"IF($C30=\"\",\"\",KELAS!V27)","v":0},{"$f":"IF($C30=\"\",\"\",KELAS!W27)","v":0},{"$f":"IF($C30=\"\",\"\",KELAS!X27)","v":0},"002",{"$f":"IF($C30=\"\",\"\",KELAS!Y27)","v":0},{"$f":"IF($C30=\"\",\"\",KELAS!Z27)","v":0},{"$f":"IF($C30=\"\",\"\",KELAS!AA27)","v":0},{"$f":"IF($C30=\"\",\"\",KELAS!AB27)","v":0},{"$f":"IF($C30=\"\",\"\",KELAS!AC27)","v":0},{"$f":"IF($C30=\"\",\"\",KELAS!AD27)","v":0},{"$f":"IF($C30=\"\",\"\",KELAS!AE27)","v":0},{"$f":"IF($C30=\"\",\"\",KELAS!AF27)","v":0},"003",{"$f":"IF($C30=\"\",\"\",KELAS!AH27)","v":0},{"$f":"IF($C30=\"\",\"\",KELAS!AI27)","v":0},{"$f":"IF($C30=\"\",\"\",KELAS!AJ27)","v":0},{"$f":"IF($C30=\"\",\"\",KELAS!AK27)","v":0},{"$f":"IF($C30=\"\",\"\",KELAS!AL27)","v":0},{"$f":"IF($C30=\"\",\"\",KELAS!AM27)","v":0},{"$f":"IF($C30=\"\",\"\",KELAS!AN27)","v":0},{"$f":"IF($C30=\"\",\"\",KELAS!AO27)","v":0},"004",{"$f":"IF($C30=\"\",\"\",KELAS!AQ27)","v":0},{"$f":"IF($C30=\"\",\"\",KELAS!AR27)","v":0},{"$f":"IF($C30=\"\",\"\",KELAS!AS27)","v":0},{"$f":"IF($C30=\"\",\"\",KELAS!AT27)","v":0},{"$f":"IF($C30=\"\",\"\",KELAS!AU27)","v":0},{"$f":"IF($C30=\"\",\"\",KELAS!AV27)","v":0},{"$f":"IF($C30=\"\",\"\",KELAS!AW27)","v":0},{"$f":"IF($C30=\"\",\"\",KELAS!AX27)","v":0},"005",{"$f":"IF($C30=\"\",\"\",KELAS!AZ27)","v":0},{"$f":"IF($C30=\"\",\"\",KELAS!BA27)","v":0},{"$f":"IF($C30=\"\",\"\",KELAS!BB27)","v":0},{"$f":"IF($C30=\"\",\"\",KELAS!BC27)","v":0},{"$f":"IF($C30=\"\",\"\",KELAS!BD27)","v":0},{"$f":"IF($C30=\"\",\"\",KELAS!BE27)","v":0},{"$f":"IF($C30=\"\",\"\",KELAS!BF27)","v":0},{"$f":"IF($C30=\"\",\"\",KELAS!BG27)","v":0},"006",{"$f":"IF($C30=\"\",\"\",KELAS!BI27)","v":0},{"$f":"IF($C30=\"\",\"\",KELAS!BJ27)","v":0},{"$f":"IF($C30=\"\",\"\",KELAS!BK27)","v":0},{"$f":"IF($C30=\"\",\"\",KELAS!BL27)","v":0},{"$f":"IF($C30=\"\",\"\",KELAS!BM27)","v":0},{"$f":"IF($C30=\"\",\"\",KELAS!BN27)","v":0},{"$f":"IF($C30=\"\",\"\",KELAS!BO27)","v":0},{"$f":"IF($C30=\"\",\"\",KELAS!BP27)","v":0},"007",{"$f":"IF($C30=\"\",\"\",KELAS!BR27)","v":0},{"$f":"IF($C30=\"\",\"\",KELAS!BS27)","v":0},{"$f":"IF($C30=\"\",\"\",KELAS!BT27)","v":0},{"$f":"IF($C30=\"\",\"\",KELAS!BU27)","v":0},{"$f":"IF($C30=\"\",\"\",KELAS!BV27)","v":0},{"$f":"IF($C30=\"\",\"\",KELAS!BW27)","v":0},{"$f":"IF($C30=\"\",\"\",KELAS!BX27)","v":0},{"$f":"IF($C30=\"\",\"\",KELAS!BY27)","v":0},"008",{"$f":"IF($C30=\"\",\"\",KELAS!CA27)","v":0},{"$f":"IF($C30=\"\",\"\",KELAS!CB27)","v":0},{"$f":"IF($C30=\"\",\"\",KELAS!CC27)","v":0},{"$f":"IF($C30=\"\",\"\",KELAS!CD27)","v":0},{"$f":"IF($C30=\"\",\"\",KELAS!CE27)","v":0},{"$f":"IF($C30=\"\",\"\",KELAS!CF27)","v":0},{"$f":"IF($C30=\"\",\"\",KELAS!CG27)","v":0},{"$f":"IF($C30=\"\",\"\",KELAS!CH27)","v":0},"009",{"$f":"IF($C30=\"\",\"\",KELAS!CJ27)","v":0},{"$f":"IF($C30=\"\",\"\",KELAS!CK27)","v":0},{"$f":"IF($C30=\"\",\"\",KELAS!CL27)","v":0},{"$f":"IF($C30=\"\",\"\",KELAS!CM27)","v":0},{"$f":"IF($C30=\"\",\"\",KELAS!CN27)","v":0},{"$f":"IF($C30=\"\",\"\",KELAS!CO27)","v":0},{"$f":"IF($C30=\"\",\"\",KELAS!CP27)","v":0},{"$f":"IF($C30=\"\",\"\",KELAS!CQ27)","v":0},"010",{"$f":"IF($C30=\"\",\"\",KELAS!CS27)","v":0},{"$f":"IF($C30=\"\",\"\",KELAS!CT27)","v":0},{"$f":"IF($C30=\"\",\"\",KELAS!CU27)","v":0},{"$f":"IF($C30=\"\",\"\",KELAS!CV27)","v":0},{"$f":"IF($C30=\"\",\"\",KELAS!CW27)","v":0},{"$f":"IF($C30=\"\",\"\",KELAS!CX27)","v":0},{"$f":"IF($C30=\"\",\"\",KELAS!CY27)","v":0},{"$f":"IF($C30=\"\",\"\",KELAS!CZ27)","v":0},"011",{"$f":"IF($C30=\"\",\"\",KELAS!DB27)","v":0},{"$f":"IF($C30=\"\",\"\",KELAS!DC27)","v":0},{"$f":"IF($C30=\"\",\"\",KELAS!DD27)","v":0},{"$f":"IF($C30=\"\",\"\",KELAS!DE27)","v":0},{"$f":"IF($C30=\"\",\"\",KELAS!DF27)","v":0},{"$f":"IF($C30=\"\",\"\",KELAS!DG27)","v":0},{"$f":"IF($C30=\"\",\"\",KELAS!DH27)","v":0},{"$f":"IF($C30=\"\",\"\",KELAS!DI27)","v":0}]
[{"$f":"IF(KELAS!A28=\"\",\"\",KELAS!A28)","v":26},{"$f":"IF(KELAS!B28=\"\",\"\",KELAS!B28)","v":12651},{"$f":"IF(KELAS!C28=\"\",\"\",PROPER(KELAS!C28))","v":"Noviasari"},{"$f":"IF(KELAS!D28=\"\",\"\",KELAS!D28)","v":"P"},{"$f":"IF(KELAS!E28=\"\",\"\",KELAS!E28)","v":"7.A"},"001",{"$f":"IF($C31=\"\",\"\",KELAS!Q28)","v":0},{"$f":"IF($C31=\"\",\"\",KELAS!R28)","v":0},{"$f":"IF($C31=\"\",\"\",KELAS!S28)","v":0},{"$f":"IF($C31=\"\",\"\",KELAS!T28)","v":0},{"$f":"IF($C31=\"\",\"\",KELAS!U28)","v":0},{"$f":"IF($C31=\"\",\"\",KELAS!V28)","v":0},{"$f":"IF($C31=\"\",\"\",KELAS!W28)","v":0},{"$f":"IF($C31=\"\",\"\",KELAS!X28)","v":0},"002",{"$f":"IF($C31=\"\",\"\",KELAS!Y28)","v":0},{"$f":"IF($C31=\"\",\"\",KELAS!Z28)","v":0},{"$f":"IF($C31=\"\",\"\",KELAS!AA28)","v":0},{"$f":"IF($C31=\"\",\"\",KELAS!AB28)","v":0},{"$f":"IF($C31=\"\",\"\",KELAS!AC28)","v":0},{"$f":"IF($C31=\"\",\"\",KELAS!AD28)","v":0},{"$f":"IF($C31=\"\",\"\",KELAS!AE28)","v":0},{"$f":"IF($C31=\"\",\"\",KELAS!AF28)","v":0},"003",{"$f":"IF($C31=\"\",\"\",KELAS!AH28)","v":0},{"$f":"IF($C31=\"\",\"\",KELAS!AI28)","v":0},{"$f":"IF($C31=\"\",\"\",KELAS!AJ28)","v":0},{"$f":"IF($C31=\"\",\"\",KELAS!AK28)","v":0},{"$f":"IF($C31=\"\",\"\",KELAS!AL28)","v":0},{"$f":"IF($C31=\"\",\"\",KELAS!AM28)","v":0},{"$f":"IF($C31=\"\",\"\",KELAS!AN28)","v":0},{"$f":"IF($C31=\"\",\"\",KELAS!AO28)","v":0},"004",{"$f":"IF($C31=\"\",\"\",KELAS!AQ28)","v":0},{"$f":"IF($C31=\"\",\"\",KELAS!AR28)","v":0},{"$f":"IF($C31=\"\",\"\",KELAS!AS28)","v":0},{"$f":"IF($C31=\"\",\"\",KELAS!AT28)","v":0},{"$f":"IF($C31=\"\",\"\",KELAS!AU28)","v":0},{"$f":"IF($C31=\"\",\"\",KELAS!AV28)","v":0},{"$f":"IF($C31=\"\",\"\",KELAS!AW28)","v":0},{"$f":"IF($C31=\"\",\"\",KELAS!AX28)","v":0},"005",{"$f":"IF($C31=\"\",\"\",KELAS!AZ28)","v":0},{"$f":"IF($C31=\"\",\"\",KELAS!BA28)","v":0},{"$f":"IF($C31=\"\",\"\",KELAS!BB28)","v":0},{"$f":"IF($C31=\"\",\"\",KELAS!BC28)","v":0},{"$f":"IF($C31=\"\",\"\",KELAS!BD28)","v":0},{"$f":"IF($C31=\"\",\"\",KELAS!BE28)","v":0},{"$f":"IF($C31=\"\",\"\",KELAS!BF28)","v":0},{"$f":"IF($C31=\"\",\"\",KELAS!BG28)","v":0},"006",{"$f":"IF($C31=\"\",\"\",KELAS!BI28)","v":0},{"$f":"IF($C31=\"\",\"\",KELAS!BJ28)","v":0},{"$f":"IF($C31=\"\",\"\",KELAS!BK28)","v":0},{"$f":"IF($C31=\"\",\"\",KELAS!BL28)","v":0},{"$f":"IF($C31=\"\",\"\",KELAS!BM28)","v":0},{"$f":"IF($C31=\"\",\"\",KELAS!BN28)","v":0},{"$f":"IF($C31=\"\",\"\",KELAS!BO28)","v":0},{"$f":"IF($C31=\"\",\"\",KELAS!BP28)","v":0},"007",{"$f":"IF($C31=\"\",\"\",KELAS!BR28)","v":0},{"$f":"IF($C31=\"\",\"\",KELAS!BS28)","v":0},{"$f":"IF($C31=\"\",\"\",KELAS!BT28)","v":0},{"$f":"IF($C31=\"\",\"\",KELAS!BU28)","v":0},{"$f":"IF($C31=\"\",\"\",KELAS!BV28)","v":0},{"$f":"IF($C31=\"\",\"\",KELAS!BW28)","v":0},{"$f":"IF($C31=\"\",\"\",KELAS!BX28)","v":0},{"$f":"IF($C31=\"\",\"\",KELAS!BY28)","v":0},"008",{"$f":"IF($C31=\"\",\"\",KELAS!CA28)","v":0},{"$f":"IF($C31=\"\",\"\",KELAS!CB28)","v":0},{"$f":"IF($C31=\"\",\"\",KELAS!CC28)","v":0},{"$f":"IF($C31=\"\",\"\",KELAS!CD28)","v":0},{"$f":"IF($C31=\"\",\"\",KELAS!CE28)","v":0},{"$f":"IF($C31=\"\",\"\",KELAS!CF28)","v":0},{"$f":"IF($C31=\"\",\"\",KELAS!CG28)","v":0},{"$f":"IF($C31=\"\",\"\",KELAS!CH28)","v":0},"009",{"$f":"IF($C31=\"\",\"\",KELAS!CJ28)","v":0},{"$f":"IF($C31=\"\",\"\",KELAS!CK28)","v":0},{"$f":"IF($C31=\"\",\"\",KELAS!CL28)","v":0},{"$f":"IF($C31=\"\",\"\",KELAS!CM28)","v":0},{"$f":"IF($C31=\"\",\"\",KELAS!CN28)","v":0},{"$f":"IF($C31=\"\",\"\",KELAS!CO28)","v":0},{"$f":"IF($C31=\"\",\"\",KELAS!CP28)","v":0},{"$f":"IF($C31=\"\",\"\",KELAS!CQ28)","v":0},"010",{"$f":"IF($C31=\"\",\"\",KELAS!CS28)","v":0},{"$f":"IF($C31=\"\",\"\",KELAS!CT28)","v":0},{"$f":"IF($C31=\"\",\"\",KELAS!CU28)","v":0},{"$f":"IF($C31=\"\",\"\",KELAS!CV28)","v":0},{"$f":"IF($C31=\"\",\"\",KELAS!CW28)","v":0},{"$f":"IF($C31=\"\",\"\",KELAS!CX28)","v":0},{"$f":"IF($C31=\"\",\"\",KELAS!CY28)","v":0},{"$f":"IF($C31=\"\",\"\",KELAS!CZ28)","v":0},"011",{"$f":"IF($C31=\"\",\"\",KELAS!DB28)","v":0},{"$f":"IF($C31=\"\",\"\",KELAS!DC28)","v":0},{"$f":"IF($C31=\"\",\"\",KELAS!DD28)","v":0},{"$f":"IF($C31=\"\",\"\",KELAS!DE28)","v":0},{"$f":"IF($C31=\"\",\"\",KELAS!DF28)","v":0},{"$f":"IF($C31=\"\",\"\",KELAS!DG28)","v":0},{"$f":"IF($C31=\"\",\"\",KELAS!DH28)","v":0},{"$f":"IF($C31=\"\",\"\",KELAS!DI28)","v":0}]
[{"$f":"IF(KELAS!A29=\"\",\"\",KELAS!A29)","v":27},{"$f":"IF(KELAS!B29=\"\",\"\",KELAS!B29)","v":12661},{"$f":"IF(KELAS!C29=\"\",\"\",PROPER(KELAS!C29))","v":"Nuryani"},{"$f":"IF(KELAS!D29=\"\",\"\",KELAS!D29)","v":"P"},{"$f":"IF(KELAS!E29=\"\",\"\",KELAS!E29)","v":"7.A"},"001",{"$f":"IF($C32=\"\",\"\",KELAS!Q29)","v":0},{"$f":"IF($C32=\"\",\"\",KELAS!R29)","v":0},{"$f":"IF($C32=\"\",\"\",KELAS!S29)","v":0},{"$f":"IF($C32=\"\",\"\",KELAS!T29)","v":0},{"$f":"IF($C32=\"\",\"\",KELAS!U29)","v":0},{"$f":"IF($C32=\"\",\"\",KELAS!V29)","v":0},{"$f":"IF($C32=\"\",\"\",KELAS!W29)","v":0},{"$f":"IF($C32=\"\",\"\",KELAS!X29)","v":0},"002",{"$f":"IF($C32=\"\",\"\",KELAS!Y29)","v":0},{"$f":"IF($C32=\"\",\"\",KELAS!Z29)","v":0},{"$f":"IF($C32=\"\",\"\",KELAS!AA29)","v":0},{"$f":"IF($C32=\"\",\"\",KELAS!AB29)","v":0},{"$f":"IF($C32=\"\",\"\",KELAS!AC29)","v":0},{"$f":"IF($C32=\"\",\"\",KELAS!AD29)","v":0},{"$f":"IF($C32=\"\",\"\",KELAS!AE29)","v":0},{"$f":"IF($C32=\"\",\"\",KELAS!AF29)","v":0},"003",{"$f":"IF($C32=\"\",\"\",KELAS!AH29)","v":0},{"$f":"IF($C32=\"\",\"\",KELAS!AI29)","v":0},{"$f":"IF($C32=\"\",\"\",KELAS!AJ29)","v":0},{"$f":"IF($C32=\"\",\"\",KELAS!AK29)","v":0},{"$f":"IF($C32=\"\",\"\",KELAS!AL29)","v":0},{"$f":"IF($C32=\"\",\"\",KELAS!AM29)","v":0},{"$f":"IF($C32=\"\",\"\",KELAS!AN29)","v":0},{"$f":"IF($C32=\"\",\"\",KELAS!AO29)","v":0},"004",{"$f":"IF($C32=\"\",\"\",KELAS!AQ29)","v":0},{"$f":"IF($C32=\"\",\"\",KELAS!AR29)","v":0},{"$f":"IF($C32=\"\",\"\",KELAS!AS29)","v":0},{"$f":"IF($C32=\"\",\"\",KELAS!AT29)","v":0},{"$f":"IF($C32=\"\",\"\",KELAS!AU29)","v":0},{"$f":"IF($C32=\"\",\"\",KELAS!AV29)","v":0},{"$f":"IF($C32=\"\",\"\",KELAS!AW29)","v":0},{"$f":"IF($C32=\"\",\"\",KELAS!AX29)","v":0},"005",{"$f":"IF($C32=\"\",\"\",KELAS!AZ29)","v":0},{"$f":"IF($C32=\"\",\"\",KELAS!BA29)","v":0},{"$f":"IF($C32=\"\",\"\",KELAS!BB29)","v":0},{"$f":"IF($C32=\"\",\"\",KELAS!BC29)","v":0},{"$f":"IF($C32=\"\",\"\",KELAS!BD29)","v":0},{"$f":"IF($C32=\"\",\"\",KELAS!BE29)","v":0},{"$f":"IF($C32=\"\",\"\",KELAS!BF29)","v":0},{"$f":"IF($C32=\"\",\"\",KELAS!BG29)","v":0},"006",{"$f":"IF($C32=\"\",\"\",KELAS!BI29)","v":0},{"$f":"IF($C32=\"\",\"\",KELAS!BJ29)","v":0},{"$f":"IF($C32=\"\",\"\",KELAS!BK29)","v":0},{"$f":"IF($C32=\"\",\"\",KELAS!BL29)","v":0},{"$f":"IF($C32=\"\",\"\",KELAS!BM29)","v":0},{"$f":"IF($C32=\"\",\"\",KELAS!BN29)","v":0},{"$f":"IF($C32=\"\",\"\",KELAS!BO29)","v":0},{"$f":"IF($C32=\"\",\"\",KELAS!BP29)","v":0},"007",{"$f":"IF($C32=\"\",\"\",KELAS!BR29)","v":0},{"$f":"IF($C32=\"\",\"\",KELAS!BS29)","v":0},{"$f":"IF($C32=\"\",\"\",KELAS!BT29)","v":0},{"$f":"IF($C32=\"\",\"\",KELAS!BU29)","v":0},{"$f":"IF($C32=\"\",\"\",KELAS!BV29)","v":0},{"$f":"IF($C32=\"\",\"\",KELAS!BW29)","v":0},{"$f":"IF($C32=\"\",\"\",KELAS!BX29)","v":0},{"$f":"IF($C32=\"\",\"\",KELAS!BY29)","v":0},"008",{"$f":"IF($C32=\"\",\"\",KELAS!CA29)","v":0},{"$f":"IF($C32=\"\",\"\",KELAS!CB29)","v":0},{"$f":"IF($C32=\"\",\"\",KELAS!CC29)","v":0},{"$f":"IF($C32=\"\",\"\",KELAS!CD29)","v":0},{"$f":"IF($C32=\"\",\"\",KELAS!CE29)","v":0},{"$f":"IF($C32=\"\",\"\",KELAS!CF29)","v":0},{"$f":"IF($C32=\"\",\"\",KELAS!CG29)","v":0},{"$f":"IF($C32=\"\",\"\",KELAS!CH29)","v":0},"009",{"$f":"IF($C32=\"\",\"\",KELAS!CJ29)","v":0},{"$f":"IF($C32=\"\",\"\",KELAS!CK29)","v":0},{"$f":"IF($C32=\"\",\"\",KELAS!CL29)","v":0},{"$f":"IF($C32=\"\",\"\",KELAS!CM29)","v":0},{"$f":"IF($C32=\"\",\"\",KELAS!CN29)","v":0},{"$f":"IF($C32=\"\",\"\",KELAS!CO29)","v":0},{"$f":"IF($C32=\"\",\"\",KELAS!CP29)","v":0},{"$f":"IF($C32=\"\",\"\",KELAS!CQ29)","v":0},"010",{"$f":"IF($C32=\"\",\"\",KELAS!CS29)","v":0},{"$f":"IF($C32=\"\",\"\",KELAS!CT29)","v":0},{"$f":"IF($C32=\"\",\"\",KELAS!CU29)","v":0},{"$f":"IF($C32=\"\",\"\",KELAS!CV29)","v":0},{"$f":"IF($C32=\"\",\"\",KELAS!CW29)","v":0},{"$f":"IF($C32=\"\",\"\",KELAS!CX29)","v":0},{"$f":"IF($C32=\"\",\"\",KELAS!CY29)","v":0},{"$f":"IF($C32=\"\",\"\",KELAS!CZ29)","v":0},"011",{"$f":"IF($C32=\"\",\"\",KELAS!DB29)","v":0},{"$f":"IF($C32=\"\",\"\",KELAS!DC29)","v":0},{"$f":"IF($C32=\"\",\"\",KELAS!DD29)","v":0},{"$f":"IF($C32=\"\",\"\",KELAS!DE29)","v":0},{"$f":"IF($C32=\"\",\"\",KELAS!DF29)","v":0},{"$f":"IF($C32=\"\",\"\",KELAS!DG29)","v":0},{"$f":"IF($C32=\"\",\"\",KELAS!DH29)","v":0},{"$f":"IF($C32=\"\",\"\",KELAS!DI29)","v":0}]
[{"$f":"IF(KELAS!A30=\"\",\"\",KELAS!A30)","v":28},{"$f":"IF(KELAS!B30=\"\",\"\",KELAS!B30)","v":12688},{"$f":"IF(KELAS!C30=\"\",\"\",PROPER(KELAS!C30))","v":"Rasyd Hardiansyah"},{"$f":"IF(KELAS!D30=\"\",\"\",KELAS!D30)","v":"L"},{"$f":"IF(KELAS!E30=\"\",\"\",KELAS!E30)","v":"7.A"},"001",{"$f":"IF($C33=\"\",\"\",KELAS!Q30)","v":0},{"$f":"IF($C33=\"\",\"\",KELAS!R30)","v":0},{"$f":"IF($C33=\"\",\"\",KELAS!S30)","v":0},{"$f":"IF($C33=\"\",\"\",KELAS!T30)","v":0},{"$f":"IF($C33=\"\",\"\",KELAS!U30)","v":0},{"$f":"IF($C33=\"\",\"\",KELAS!V30)","v":0},{"$f":"IF($C33=\"\",\"\",KELAS!W30)","v":0},{"$f":"IF($C33=\"\",\"\",KELAS!X30)","v":0},"002",{"$f":"IF($C33=\"\",\"\",KELAS!Y30)","v":0},{"$f":"IF($C33=\"\",\"\",KELAS!Z30)","v":0},{"$f":"IF($C33=\"\",\"\",KELAS!AA30)","v":0},{"$f":"IF($C33=\"\",\"\",KELAS!AB30)","v":0},{"$f":"IF($C33=\"\",\"\",KELAS!AC30)","v":0},{"$f":"IF($C33=\"\",\"\",KELAS!AD30)","v":0},{"$f":"IF($C33=\"\",\"\",KELAS!AE30)","v":0},{"$f":"IF($C33=\"\",\"\",KELAS!AF30)","v":0},"003",{"$f":"IF($C33=\"\",\"\",KELAS!AH30)","v":0},{"$f":"IF($C33=\"\",\"\",KELAS!AI30)","v":0},{"$f":"IF($C33=\"\",\"\",KELAS!AJ30)","v":0},{"$f":"IF($C33=\"\",\"\",KELAS!AK30)","v":0},{"$f":"IF($C33=\"\",\"\",KELAS!AL30)","v":0},{"$f":"IF($C33=\"\",\"\",KELAS!AM30)","v":0},{"$f":"IF($C33=\"\",\"\",KELAS!AN30)","v":0},{"$f":"IF($C33=\"\",\"\",KELAS!AO30)","v":0},"004",{"$f":"IF($C33=\"\",\"\",KELAS!AQ30)","v":0},{"$f":"IF($C33=\"\",\"\",KELAS!AR30)","v":0},{"$f":"IF($C33=\"\",\"\",KELAS!AS30)","v":0},{"$f":"IF($C33=\"\",\"\",KELAS!AT30)","v":0},{"$f":"IF($C33=\"\",\"\",KELAS!AU30)","v":0},{"$f":"IF($C33=\"\",\"\",KELAS!AV30)","v":0},{"$f":"IF($C33=\"\",\"\",KELAS!AW30)","v":0},{"$f":"IF($C33=\"\",\"\",KELAS!AX30)","v":0},"005",{"$f":"IF($C33=\"\",\"\",KELAS!AZ30)","v":0},{"$f":"IF($C33=\"\",\"\",KELAS!BA30)","v":0},{"$f":"IF($C33=\"\",\"\",KELAS!BB30)","v":0},{"$f":"IF($C33=\"\",\"\",KELAS!BC30)","v":0},{"$f":"IF($C33=\"\",\"\",KELAS!BD30)","v":0},{"$f":"IF($C33=\"\",\"\",KELAS!BE30)","v":0},{"$f":"IF($C33=\"\",\"\",KELAS!BF30)","v":0},{"$f":"IF($C33=\"\",\"\",KELAS!BG30)","v":0},"006",{"$f":"IF($C33=\"\",\"\",KELAS!BI30)","v":0},{"$f":"IF($C33=\"\",\"\",KELAS!BJ30)","v":0},{"$f":"IF($C33=\"\",\"\",KELAS!BK30)","v":0},{"$f":"IF($C33=\"\",\"\",KELAS!BL30)","v":0},{"$f":"IF($C33=\"\",\"\",KELAS!BM30)","v":0},{"$f":"IF($C33=\"\",\"\",KELAS!BN30)","v":0},{"$f":"IF($C33=\"\",\"\",KELAS!BO30)","v":0},{"$f":"IF($C33=\"\",\"\",KELAS!BP30)","v":0},"007",{"$f":"IF($C33=\"\",\"\",KELAS!BR30)","v":0},{"$f":"IF($C33=\"\",\"\",KELAS!BS30)","v":0},{"$f":"IF($C33=\"\",\"\",KELAS!BT30)","v":0},{"$f":"IF($C33=\"\",\"\",KELAS!BU30)","v":0},{"$f":"IF($C33=\"\",\"\",KELAS!BV30)","v":0},{"$f":"IF($C33=\"\",\"\",KELAS!BW30)","v":0},{"$f":"IF($C33=\"\",\"\",KELAS!BX30)","v":0},{"$f":"IF($C33=\"\",\"\",KELAS!BY30)","v":0},"008",{"$f":"IF($C33=\"\",\"\",KELAS!CA30)","v":0},{"$f":"IF($C33=\"\",\"\",KELAS!CB30)","v":0},{"$f":"IF($C33=\"\",\"\",KELAS!CC30)","v":0},{"$f":"IF($C33=\"\",\"\",KELAS!CD30)","v":0},{"$f":"IF($C33=\"\",\"\",KELAS!CE30)","v":0},{"$f":"IF($C33=\"\",\"\",KELAS!CF30)","v":0},{"$f":"IF($C33=\"\",\"\",KELAS!CG30)","v":0},{"$f":"IF($C33=\"\",\"\",KELAS!CH30)","v":0},"009",{"$f":"IF($C33=\"\",\"\",KELAS!CJ30)","v":0},{"$f":"IF($C33=\"\",\"\",KELAS!CK30)","v":0},{"$f":"IF($C33=\"\",\"\",KELAS!CL30)","v":0},{"$f":"IF($C33=\"\",\"\",KELAS!CM30)","v":0},{"$f":"IF($C33=\"\",\"\",KELAS!CN30)","v":0},{"$f":"IF($C33=\"\",\"\",KELAS!CO30)","v":0},{"$f":"IF($C33=\"\",\"\",KELAS!CP30)","v":0},{"$f":"IF($C33=\"\",\"\",KELAS!CQ30)","v":0},"010",{"$f":"IF($C33=\"\",\"\",KELAS!CS30)","v":0},{"$f":"IF($C33=\"\",\"\",KELAS!CT30)","v":0},{"$f":"IF($C33=\"\",\"\",KELAS!CU30)","v":0},{"$f":"IF($C33=\"\",\"\",KELAS!CV30)","v":0},{"$f":"IF($C33=\"\",\"\",KELAS!CW30)","v":0},{"$f":"IF($C33=\"\",\"\",KELAS!CX30)","v":0},{"$f":"IF($C33=\"\",\"\",KELAS!CY30)","v":0},{"$f":"IF($C33=\"\",\"\",KELAS!CZ30)","v":0},"011",{"$f":"IF($C33=\"\",\"\",KELAS!DB30)","v":0},{"$f":"IF($C33=\"\",\"\",KELAS!DC30)","v":0},{"$f":"IF($C33=\"\",\"\",KELAS!DD30)","v":0},{"$f":"IF($C33=\"\",\"\",KELAS!DE30)","v":0},{"$f":"IF($C33=\"\",\"\",KELAS!DF30)","v":0},{"$f":"IF($C33=\"\",\"\",KELAS!DG30)","v":0},{"$f":"IF($C33=\"\",\"\",KELAS!DH30)","v":0},{"$f":"IF($C33=\"\",\"\",KELAS!DI30)","v":0}]
[{"$f":"IF(KELAS!A31=\"\",\"\",KELAS!A31)","v":29},{"$f":"IF(KELAS!B31=\"\",\"\",KELAS!B31)","v":12709},{"$f":"IF(KELAS!C31=\"\",\"\",PROPER(KELAS!C31))","v":"Riza Abdillah Choiril Anwar"},{"$f":"IF(KELAS!D31=\"\",\"\",KELAS!D31)","v":"L"},{"$f":"IF(KELAS!E31=\"\",\"\",KELAS!E31)","v":"7.A"},"001",{"$f":"IF($C34=\"\",\"\",KELAS!Q31)","v":0},{"$f":"IF($C34=\"\",\"\",KELAS!R31)","v":0},{"$f":"IF($C34=\"\",\"\",KELAS!S31)","v":0},{"$f":"IF($C34=\"\",\"\",KELAS!T31)","v":0},{"$f":"IF($C34=\"\",\"\",KELAS!U31)","v":0},{"$f":"IF($C34=\"\",\"\",KELAS!V31)","v":0},{"$f":"IF($C34=\"\",\"\",KELAS!W31)","v":0},{"$f":"IF($C34=\"\",\"\",KELAS!X31)","v":0},"002",{"$f":"IF($C34=\"\",\"\",KELAS!Y31)","v":0},{"$f":"IF($C34=\"\",\"\",KELAS!Z31)","v":0},{"$f":"IF($C34=\"\",\"\",KELAS!AA31)","v":0},{"$f":"IF($C34=\"\",\"\",KELAS!AB31)","v":0},{"$f":"IF($C34=\"\",\"\",KELAS!AC31)","v":0},{"$f":"IF($C34=\"\",\"\",KELAS!AD31)","v":0},{"$f":"IF($C34=\"\",\"\",KELAS!AE31)","v":0},{"$f":"IF($C34=\"\",\"\",KELAS!AF31)","v":0},"003",{"$f":"IF($C34=\"\",\"\",KELAS!AH31)","v":0},{"$f":"IF($C34=\"\",\"\",KELAS!AI31)","v":0},{"$f":"IF($C34=\"\",\"\",KELAS!AJ31)","v":0},{"$f":"IF($C34=\"\",\"\",KELAS!AK31)","v":0},{"$f":"IF($C34=\"\",\"\",KELAS!AL31)","v":0},{"$f":"IF($C34=\"\",\"\",KELAS!AM31)","v":0},{"$f":"IF($C34=\"\",\"\",KELAS!AN31)","v":0},{"$f":"IF($C34=\"\",\"\",KELAS!AO31)","v":0},"004",{"$f":"IF($C34=\"\",\"\",KELAS!AQ31)","v":0},{"$f":"IF($C34=\"\",\"\",KELAS!AR31)","v":0},{"$f":"IF($C34=\"\",\"\",KELAS!AS31)","v":0},{"$f":"IF($C34=\"\",\"\",KELAS!AT31)","v":0},{"$f":"IF($C34=\"\",\"\",KELAS!AU31)","v":0},{"$f":"IF($C34=\"\",\"\",KELAS!AV31)","v":0},{"$f":"IF($C34=\"\",\"\",KELAS!AW31)","v":0},{"$f":"IF($C34=\"\",\"\",KELAS!AX31)","v":0},"005",{"$f":"IF($C34=\"\",\"\",KELAS!AZ31)","v":0},{"$f":"IF($C34=\"\",\"\",KELAS!BA31)","v":0},{"$f":"IF($C34=\"\",\"\",KELAS!BB31)","v":0},{"$f":"IF($C34=\"\",\"\",KELAS!BC31)","v":0},{"$f":"IF($C34=\"\",\"\",KELAS!BD31)","v":0},{"$f":"IF($C34=\"\",\"\",KELAS!BE31)","v":0},{"$f":"IF($C34=\"\",\"\",KELAS!BF31)","v":0},{"$f":"IF($C34=\"\",\"\",KELAS!BG31)","v":0},"006",{"$f":"IF($C34=\"\",\"\",KELAS!BI31)","v":0},{"$f":"IF($C34=\"\",\"\",KELAS!BJ31)","v":0},{"$f":"IF($C34=\"\",\"\",KELAS!BK31)","v":0},{"$f":"IF($C34=\"\",\"\",KELAS!BL31)","v":0},{"$f":"IF($C34=\"\",\"\",KELAS!BM31)","v":0},{"$f":"IF($C34=\"\",\"\",KELAS!BN31)","v":0},{"$f":"IF($C34=\"\",\"\",KELAS!BO31)","v":0},{"$f":"IF($C34=\"\",\"\",KELAS!BP31)","v":0},"007",{"$f":"IF($C34=\"\",\"\",KELAS!BR31)","v":0},{"$f":"IF($C34=\"\",\"\",KELAS!BS31)","v":0},{"$f":"IF($C34=\"\",\"\",KELAS!BT31)","v":0},{"$f":"IF($C34=\"\",\"\",KELAS!BU31)","v":0},{"$f":"IF($C34=\"\",\"\",KELAS!BV31)","v":0},{"$f":"IF($C34=\"\",\"\",KELAS!BW31)","v":0},{"$f":"IF($C34=\"\",\"\",KELAS!BX31)","v":0},{"$f":"IF($C34=\"\",\"\",KELAS!BY31)","v":0},"008",{"$f":"IF($C34=\"\",\"\",KELAS!CA31)","v":0},{"$f":"IF($C34=\"\",\"\",KELAS!CB31)","v":0},{"$f":"IF($C34=\"\",\"\",KELAS!CC31)","v":0},{"$f":"IF($C34=\"\",\"\",KELAS!CD31)","v":0},{"$f":"IF($C34=\"\",\"\",KELAS!CE31)","v":0},{"$f":"IF($C34=\"\",\"\",KELAS!CF31)","v":0},{"$f":"IF($C34=\"\",\"\",KELAS!CG31)","v":0},{"$f":"IF($C34=\"\",\"\",KELAS!CH31)","v":0},"009",{"$f":"IF($C34=\"\",\"\",KELAS!CJ31)","v":0},{"$f":"IF($C34=\"\",\"\",KELAS!CK31)","v":0},{"$f":"IF($C34=\"\",\"\",KELAS!CL31)","v":0},{"$f":"IF($C34=\"\",\"\",KELAS!CM31)","v":0},{"$f":"IF($C34=\"\",\"\",KELAS!CN31)","v":0},{"$f":"IF($C34=\"\",\"\",KELAS!CO31)","v":0},{"$f":"IF($C34=\"\",\"\",KELAS!CP31)","v":0},{"$f":"IF($C34=\"\",\"\",KELAS!CQ31)","v":0},"010",{"$f":"IF($C34=\"\",\"\",KELAS!CS31)","v":0},{"$f":"IF($C34=\"\",\"\",KELAS!CT31)","v":0},{"$f":"IF($C34=\"\",\"\",KELAS!CU31)","v":0},{"$f":"IF($C34=\"\",\"\",KELAS!CV31)","v":0},{"$f":"IF($C34=\"\",\"\",KELAS!CW31)","v":0},{"$f":"IF($C34=\"\",\"\",KELAS!CX31)","v":0},{"$f":"IF($C34=\"\",\"\",KELAS!CY31)","v":0},{"$f":"IF($C34=\"\",\"\",KELAS!CZ31)","v":0},"011",{"$f":"IF($C34=\"\",\"\",KELAS!DB31)","v":0},{"$f":"IF($C34=\"\",\"\",KELAS!DC31)","v":0},{"$f":"IF($C34=\"\",\"\",KELAS!DD31)","v":0},{"$f":"IF($C34=\"\",\"\",KELAS!DE31)","v":0},{"$f":"IF($C34=\"\",\"\",KELAS!DF31)","v":0},{"$f":"IF($C34=\"\",\"\",KELAS!DG31)","v":0},{"$f":"IF($C34=\"\",\"\",KELAS!DH31)","v":0},{"$f":"IF($C34=\"\",\"\",KELAS!DI31)","v":0}]
[{"$f":"IF(KELAS!A32=\"\",\"\",KELAS!A32)","v":30},{"$f":"IF(KELAS!B32=\"\",\"\",KELAS!B32)","v":12732},{"$f":"IF(KELAS!C32=\"\",\"\",PROPER(KELAS!C32))","v":"Slamet Triyan Pamungkas"},{"$f":"IF(KELAS!D32=\"\",\"\",KELAS!D32)","v":"L"},{"$f":"IF(KELAS!E32=\"\",\"\",KELAS!E32)","v":"7.A"},"001",{"$f":"IF($C35=\"\",\"\",KELAS!Q32)","v":0},{"$f":"IF($C35=\"\",\"\",KELAS!R32)","v":0},{"$f":"IF($C35=\"\",\"\",KELAS!S32)","v":0},{"$f":"IF($C35=\"\",\"\",KELAS!T32)","v":0},{"$f":"IF($C35=\"\",\"\",KELAS!U32)","v":0},{"$f":"IF($C35=\"\",\"\",KELAS!V32)","v":0},{"$f":"IF($C35=\"\",\"\",KELAS!W32)","v":0},{"$f":"IF($C35=\"\",\"\",KELAS!X32)","v":0},"002",{"$f":"IF($C35=\"\",\"\",KELAS!Y32)","v":0},{"$f":"IF($C35=\"\",\"\",KELAS!Z32)","v":0},{"$f":"IF($C35=\"\",\"\",KELAS!AA32)","v":0},{"$f":"IF($C35=\"\",\"\",KELAS!AB32)","v":0},{"$f":"IF($C35=\"\",\"\",KELAS!AC32)","v":0},{"$f":"IF($C35=\"\",\"\",KELAS!AD32)","v":0},{"$f":"IF($C35=\"\",\"\",KELAS!AE32)","v":0},{"$f":"IF($C35=\"\",\"\",KELAS!AF32)","v":0},"003",{"$f":"IF($C35=\"\",\"\",KELAS!AH32)","v":0},{"$f":"IF($C35=\"\",\"\",KELAS!AI32)","v":0},{"$f":"IF($C35=\"\",\"\",KELAS!AJ32)","v":0},{"$f":"IF($C35=\"\",\"\",KELAS!AK32)","v":0},{"$f":"IF($C35=\"\",\"\",KELAS!AL32)","v":0},{"$f":"IF($C35=\"\",\"\",KELAS!AM32)","v":0},{"$f":"IF($C35=\"\",\"\",KELAS!AN32)","v":0},{"$f":"IF($C35=\"\",\"\",KELAS!AO32)","v":0},"004",{"$f":"IF($C35=\"\",\"\",KELAS!AQ32)","v":0},{"$f":"IF($C35=\"\",\"\",KELAS!AR32)","v":0},{"$f":"IF($C35=\"\",\"\",KELAS!AS32)","v":0},{"$f":"IF($C35=\"\",\"\",KELAS!AT32)","v":0},{"$f":"IF($C35=\"\",\"\",KELAS!AU32)","v":0},{"$f":"IF($C35=\"\",\"\",KELAS!AV32)","v":0},{"$f":"IF($C35=\"\",\"\",KELAS!AW32)","v":0},{"$f":"IF($C35=\"\",\"\",KELAS!AX32)","v":0},"005",{"$f":"IF($C35=\"\",\"\",KELAS!AZ32)","v":0},{"$f":"IF($C35=\"\",\"\",KELAS!BA32)","v":0},{"$f":"IF($C35=\"\",\"\",KELAS!BB32)","v":0},{"$f":"IF($C35=\"\",\"\",KELAS!BC32)","v":0},{"$f":"IF($C35=\"\",\"\",KELAS!BD32)","v":0},{"$f":"IF($C35=\"\",\"\",KELAS!BE32)","v":0},{"$f":"IF($C35=\"\",\"\",KELAS!BF32)","v":0},{"$f":"IF($C35=\"\",\"\",KELAS!BG32)","v":0},"006",{"$f":"IF($C35=\"\",\"\",KELAS!BI32)","v":0},{"$f":"IF($C35=\"\",\"\",KELAS!BJ32)","v":0},{"$f":"IF($C35=\"\",\"\",KELAS!BK32)","v":0},{"$f":"IF($C35=\"\",\"\",KELAS!BL32)","v":0},{"$f":"IF($C35=\"\",\"\",KELAS!BM32)","v":0},{"$f":"IF($C35=\"\",\"\",KELAS!BN32)","v":0},{"$f":"IF($C35=\"\",\"\",KELAS!BO32)","v":0},{"$f":"IF($C35=\"\",\"\",KELAS!BP32)","v":0},"007",{"$f":"IF($C35=\"\",\"\",KELAS!BR32)","v":0},{"$f":"IF($C35=\"\",\"\",KELAS!BS32)","v":0},{"$f":"IF($C35=\"\",\"\",KELAS!BT32)","v":0},{"$f":"IF($C35=\"\",\"\",KELAS!BU32)","v":0},{"$f":"IF($C35=\"\",\"\",KELAS!BV32)","v":0},{"$f":"IF($C35=\"\",\"\",KELAS!BW32)","v":0},{"$f":"IF($C35=\"\",\"\",KELAS!BX32)","v":0},{"$f":"IF($C35=\"\",\"\",KELAS!BY32)","v":0},"008",{"$f":"IF($C35=\"\",\"\",KELAS!CA32)","v":0},{"$f":"IF($C35=\"\",\"\",KELAS!CB32)","v":0},{"$f":"IF($C35=\"\",\"\",KELAS!CC32)","v":0},{"$f":"IF($C35=\"\",\"\",KELAS!CD32)","v":0},{"$f":"IF($C35=\"\",\"\",KELAS!CE32)","v":0},{"$f":"IF($C35=\"\",\"\",KELAS!CF32)","v":0},{"$f":"IF($C35=\"\",\"\",KELAS!CG32)","v":0},{"$f":"IF($C35=\"\",\"\",KELAS!CH32)","v":0},"009",{"$f":"IF($C35=\"\",\"\",KELAS!CJ32)","v":0},{"$f":"IF($C35=\"\",\"\",KELAS!CK32)","v":0},{"$f":"IF($C35=\"\",\"\",KELAS!CL32)","v":0},{"$f":"IF($C35=\"\",\"\",KELAS!CM32)","v":0},{"$f":"IF($C35=\"\",\"\",KELAS!CN32)","v":0},{"$f":"IF($C35=\"\",\"\",KELAS!CO32)","v":0},{"$f":"IF($C35=\"\",\"\",KELAS!CP32)","v":0},{"$f":"IF($C35=\"\",\"\",KELAS!CQ32)","v":0},"010",{"$f":"IF($C35=\"\",\"\",KELAS!CS32)","v":0},{"$f":"IF($C35=\"\",\"\",KELAS!CT32)","v":0},{"$f":"IF($C35=\"\",\"\",KELAS!CU32)","v":0},{"$f":"IF($C35=\"\",\"\",KELAS!CV32)","v":0},{"$f":"IF($C35=\"\",\"\",KELAS!CW32)","v":0},{"$f":"IF($C35=\"\",\"\",KELAS!CX32)","v":0},{"$f":"IF($C35=\"\",\"\",KELAS!CY32)","v":0},{"$f":"IF($C35=\"\",\"\",KELAS!CZ32)","v":0},"011",{"$f":"IF($C35=\"\",\"\",KELAS!DB32)","v":0},{"$f":"IF($C35=\"\",\"\",KELAS!DC32)","v":0},{"$f":"IF($C35=\"\",\"\",KELAS!DD32)","v":0},{"$f":"IF($C35=\"\",\"\",KELAS!DE32)","v":0},{"$f":"IF($C35=\"\",\"\",KELAS!DF32)","v":0},{"$f":"IF($C35=\"\",\"\",KELAS!DG32)","v":0},{"$f":"IF($C35=\"\",\"\",KELAS!DH32)","v":0},{"$f":"IF($C35=\"\",\"\",KELAS!DI32)","v":0}]
[{"$f":"IF(KELAS!A33=\"\",\"\",KELAS!A33)","v":31},{"$f":"IF(KELAS!B33=\"\",\"\",KELAS!B33)","v":12739},{"$f":"IF(KELAS!C33=\"\",\"\",PROPER(KELAS!C33))","v":"Sultoni"},{"$f":"IF(KELAS!D33=\"\",\"\",KELAS!D33)","v":"L"},{"$f":"IF(KELAS!E33=\"\",\"\",KELAS!E33)","v":"7.A"},"001",{"$f":"IF($C36=\"\",\"\",KELAS!Q33)","v":0},{"$f":"IF($C36=\"\",\"\",KELAS!R33)","v":0},{"$f":"IF($C36=\"\",\"\",KELAS!S33)","v":0},{"$f":"IF($C36=\"\",\"\",KELAS!T33)","v":0},{"$f":"IF($C36=\"\",\"\",KELAS!U33)","v":0},{"$f":"IF($C36=\"\",\"\",KELAS!V33)","v":0},{"$f":"IF($C36=\"\",\"\",KELAS!W33)","v":0},{"$f":"IF($C36=\"\",\"\",KELAS!X33)","v":0},"002",{"$f":"IF($C36=\"\",\"\",KELAS!Y33)","v":0},{"$f":"IF($C36=\"\",\"\",KELAS!Z33)","v":0},{"$f":"IF($C36=\"\",\"\",KELAS!AA33)","v":0},{"$f":"IF($C36=\"\",\"\",KELAS!AB33)","v":0},{"$f":"IF($C36=\"\",\"\",KELAS!AC33)","v":0},{"$f":"IF($C36=\"\",\"\",KELAS!AD33)","v":0},{"$f":"IF($C36=\"\",\"\",KELAS!AE33)","v":0},{"$f":"IF($C36=\"\",\"\",KELAS!AF33)","v":0},"003",{"$f":"IF($C36=\"\",\"\",KELAS!AH33)","v":0},{"$f":"IF($C36=\"\",\"\",KELAS!AI33)","v":0},{"$f":"IF($C36=\"\",\"\",KELAS!AJ33)","v":0},{"$f":"IF($C36=\"\",\"\",KELAS!AK33)","v":0},{"$f":"IF($C36=\"\",\"\",KELAS!AL33)","v":0},{"$f":"IF($C36=\"\",\"\",KELAS!AM33)","v":0},{"$f":"IF($C36=\"\",\"\",KELAS!AN33)","v":0},{"$f":"IF($C36=\"\",\"\",KELAS!AO33)","v":0},"004",{"$f":"IF($C36=\"\",\"\",KELAS!AQ33)","v":0},{"$f":"IF($C36=\"\",\"\",KELAS!AR33)","v":0},{"$f":"IF($C36=\"\",\"\",KELAS!AS33)","v":0},{"$f":"IF($C36=\"\",\"\",KELAS!AT33)","v":0},{"$f":"IF($C36=\"\",\"\",KELAS!AU33)","v":0},{"$f":"IF($C36=\"\",\"\",KELAS!AV33)","v":0},{"$f":"IF($C36=\"\",\"\",KELAS!AW33)","v":0},{"$f":"IF($C36=\"\",\"\",KELAS!AX33)","v":0},"005",{"$f":"IF($C36=\"\",\"\",KELAS!AZ33)","v":0},{"$f":"IF($C36=\"\",\"\",KELAS!BA33)","v":0},{"$f":"IF($C36=\"\",\"\",KELAS!BB33)","v":0},{"$f":"IF($C36=\"\",\"\",KELAS!BC33)","v":0},{"$f":"IF($C36=\"\",\"\",KELAS!BD33)","v":0},{"$f":"IF($C36=\"\",\"\",KELAS!BE33)","v":0},{"$f":"IF($C36=\"\",\"\",KELAS!BF33)","v":0},{"$f":"IF($C36=\"\",\"\",KELAS!BG33)","v":0},"006",{"$f":"IF($C36=\"\",\"\",KELAS!BI33)","v":0},{"$f":"IF($C36=\"\",\"\",KELAS!BJ33)","v":0},{"$f":"IF($C36=\"\",\"\",KELAS!BK33)","v":0},{"$f":"IF($C36=\"\",\"\",KELAS!BL33)","v":0},{"$f":"IF($C36=\"\",\"\",KELAS!BM33)","v":0},{"$f":"IF($C36=\"\",\"\",KELAS!BN33)","v":0},{"$f":"IF($C36=\"\",\"\",KELAS!BO33)","v":0},{"$f":"IF($C36=\"\",\"\",KELAS!BP33)","v":0},"007",{"$f":"IF($C36=\"\",\"\",KELAS!BR33)","v":0},{"$f":"IF($C36=\"\",\"\",KELAS!BS33)","v":0},{"$f":"IF($C36=\"\",\"\",KELAS!BT33)","v":0},{"$f":"IF($C36=\"\",\"\",KELAS!BU33)","v":0},{"$f":"IF($C36=\"\",\"\",KELAS!BV33)","v":0},{"$f":"IF($C36=\"\",\"\",KELAS!BW33)","v":0},{"$f":"IF($C36=\"\",\"\",KELAS!BX33)","v":0},{"$f":"IF($C36=\"\",\"\",KELAS!BY33)","v":0},"008",{"$f":"IF($C36=\"\",\"\",KELAS!CA33)","v":0},{"$f":"IF($C36=\"\",\"\",KELAS!CB33)","v":0},{"$f":"IF($C36=\"\",\"\",KELAS!CC33)","v":0},{"$f":"IF($C36=\"\",\"\",KELAS!CD33)","v":0},{"$f":"IF($C36=\"\",\"\",KELAS!CE33)","v":0},{"$f":"IF($C36=\"\",\"\",KELAS!CF33)","v":0},{"$f":"IF($C36=\"\",\"\",KELAS!CG33)","v":0},{"$f":"IF($C36=\"\",\"\",KELAS!CH33)","v":0},"009",{"$f":"IF($C36=\"\",\"\",KELAS!CJ33)","v":0},{"$f":"IF($C36=\"\",\"\",KELAS!CK33)","v":0},{"$f":"IF($C36=\"\",\"\",KELAS!CL33)","v":0},{"$f":"IF($C36=\"\",\"\",KELAS!CM33)","v":0},{"$f":"IF($C36=\"\",\"\",KELAS!CN33)","v":0},{"$f":"IF($C36=\"\",\"\",KELAS!CO33)","v":0},{"$f":"IF($C36=\"\",\"\",KELAS!CP33)","v":0},{"$f":"IF($C36=\"\",\"\",KELAS!CQ33)","v":0},"010",{"$f":"IF($C36=\"\",\"\",KELAS!CS33)","v":0},{"$f":"IF($C36=\"\",\"\",KELAS!CT33)","v":0},{"$f":"IF($C36=\"\",\"\",KELAS!CU33)","v":0},{"$f":"IF($C36=\"\",\"\",KELAS!CV33)","v":0},{"$f":"IF($C36=\"\",\"\",KELAS!CW33)","v":0},{"$f":"IF($C36=\"\",\"\",KELAS!CX33)","v":0},{"$f":"IF($C36=\"\",\"\",KELAS!CY33)","v":0},{"$f":"IF($C36=\"\",\"\",KELAS!CZ33)","v":0},"011",{"$f":"IF($C36=\"\",\"\",KELAS!DB33)","v":0},{"$f":"IF($C36=\"\",\"\",KELAS!DC33)","v":0},{"$f":"IF($C36=\"\",\"\",KELAS!DD33)","v":0},{"$f":"IF($C36=\"\",\"\",KELAS!DE33)","v":0},{"$f":"IF($C36=\"\",\"\",KELAS!DF33)","v":0},{"$f":"IF($C36=\"\",\"\",KELAS!DG33)","v":0},{"$f":"IF($C36=\"\",\"\",KELAS!DH33)","v":0},{"$f":"IF($C36=\"\",\"\",KELAS!DI33)","v":0}]
[{"$f":"IF(KELAS!A34=\"\",\"\",KELAS!A34)","v":32},{"$f":"IF(KELAS!B34=\"\",\"\",KELAS!B34)","v":12758},{"$f":"IF(KELAS!C34=\"\",\"\",PROPER(KELAS!C34))","v":"Vico Afdiansyah"},{"$f":"IF(KELAS!D34=\"\",\"\",KELAS!D34)","v":"L"},{"$f":"IF(KELAS!E34=\"\",\"\",KELAS!E34)","v":"7.A"},"001",{"$f":"IF($C37=\"\",\"\",KELAS!Q34)","v":0},{"$f":"IF($C37=\"\",\"\",KELAS!R34)","v":0},{"$f":"IF($C37=\"\",\"\",KELAS!S34)","v":0},{"$f":"IF($C37=\"\",\"\",KELAS!T34)","v":0},{"$f":"IF($C37=\"\",\"\",KELAS!U34)","v":0},{"$f":"IF($C37=\"\",\"\",KELAS!V34)","v":0},{"$f":"IF($C37=\"\",\"\",KELAS!W34)","v":0},{"$f":"IF($C37=\"\",\"\",KELAS!X34)","v":0},"002",{"$f":"IF($C37=\"\",\"\",KELAS!Y34)","v":0},{"$f":"IF($C37=\"\",\"\",KELAS!Z34)","v":0},{"$f":"IF($C37=\"\",\"\",KELAS!AA34)","v":0},{"$f":"IF($C37=\"\",\"\",KELAS!AB34)","v":0},{"$f":"IF($C37=\"\",\"\",KELAS!AC34)","v":0},{"$f":"IF($C37=\"\",\"\",KELAS!AD34)","v":0},{"$f":"IF($C37=\"\",\"\",KELAS!AE34)","v":0},{"$f":"IF($C37=\"\",\"\",KELAS!AF34)","v":0},"003",{"$f":"IF($C37=\"\",\"\",KELAS!AH34)","v":0},{"$f":"IF($C37=\"\",\"\",KELAS!AI34)","v":0},{"$f":"IF($C37=\"\",\"\",KELAS!AJ34)","v":0},{"$f":"IF($C37=\"\",\"\",KELAS!AK34)","v":0},{"$f":"IF($C37=\"\",\"\",KELAS!AL34)","v":0},{"$f":"IF($C37=\"\",\"\",KELAS!AM34)","v":0},{"$f":"IF($C37=\"\",\"\",KELAS!AN34)","v":0},{"$f":"IF($C37=\"\",\"\",KELAS!AO34)","v":0},"004",{"$f":"IF($C37=\"\",\"\",KELAS!AQ34)","v":0},{"$f":"IF($C37=\"\",\"\",KELAS!AR34)","v":0},{"$f":"IF($C37=\"\",\"\",KELAS!AS34)","v":0},{"$f":"IF($C37=\"\",\"\",KELAS!AT34)","v":0},{"$f":"IF($C37=\"\",\"\",KELAS!AU34)","v":0},{"$f":"IF($C37=\"\",\"\",KELAS!AV34)","v":0},{"$f":"IF($C37=\"\",\"\",KELAS!AW34)","v":0},{"$f":"IF($C37=\"\",\"\",KELAS!AX34)","v":0},"005",{"$f":"IF($C37=\"\",\"\",KELAS!AZ34)","v":0},{"$f":"IF($C37=\"\",\"\",KELAS!BA34)","v":0},{"$f":"IF($C37=\"\",\"\",KELAS!BB34)","v":0},{"$f":"IF($C37=\"\",\"\",KELAS!BC34)","v":0},{"$f":"IF($C37=\"\",\"\",KELAS!BD34)","v":0},{"$f":"IF($C37=\"\",\"\",KELAS!BE34)","v":0},{"$f":"IF($C37=\"\",\"\",KELAS!BF34)","v":0},{"$f":"IF($C37=\"\",\"\",KELAS!BG34)","v":0},"006",{"$f":"IF($C37=\"\",\"\",KELAS!BI34)","v":0},{"$f":"IF($C37=\"\",\"\",KELAS!BJ34)","v":0},{"$f":"IF($C37=\"\",\"\",KELAS!BK34)","v":0},{"$f":"IF($C37=\"\",\"\",KELAS!BL34)","v":0},{"$f":"IF($C37=\"\",\"\",KELAS!BM34)","v":0},{"$f":"IF($C37=\"\",\"\",KELAS!BN34)","v":0},{"$f":"IF($C37=\"\",\"\",KELAS!BO34)","v":0},{"$f":"IF($C37=\"\",\"\",KELAS!BP34)","v":0},"007",{"$f":"IF($C37=\"\",\"\",KELAS!BR34)","v":0},{"$f":"IF($C37=\"\",\"\",KELAS!BS34)","v":0},{"$f":"IF($C37=\"\",\"\",KELAS!BT34)","v":0},{"$f":"IF($C37=\"\",\"\",KELAS!BU34)","v":0},{"$f":"IF($C37=\"\",\"\",KELAS!BV34)","v":0},{"$f":"IF($C37=\"\",\"\",KELAS!BW34)","v":0},{"$f":"IF($C37=\"\",\"\",KELAS!BX34)","v":0},{"$f":"IF($C37=\"\",\"\",KELAS!BY34)","v":0},"008",{"$f":"IF($C37=\"\",\"\",KELAS!CA34)","v":0},{"$f":"IF($C37=\"\",\"\",KELAS!CB34)","v":0},{"$f":"IF($C37=\"\",\"\",KELAS!CC34)","v":0},{"$f":"IF($C37=\"\",\"\",KELAS!CD34)","v":0},{"$f":"IF($C37=\"\",\"\",KELAS!CE34)","v":0},{"$f":"IF($C37=\"\",\"\",KELAS!CF34)","v":0},{"$f":"IF($C37=\"\",\"\",KELAS!CG34)","v":0},{"$f":"IF($C37=\"\",\"\",KELAS!CH34)","v":0},"009",{"$f":"IF($C37=\"\",\"\",KELAS!CJ34)","v":0},{"$f":"IF($C37=\"\",\"\",KELAS!CK34)","v":0},{"$f":"IF($C37=\"\",\"\",KELAS!CL34)","v":0},{"$f":"IF($C37=\"\",\"\",KELAS!CM34)","v":0},{"$f":"IF($C37=\"\",\"\",KELAS!CN34)","v":0},{"$f":"IF($C37=\"\",\"\",KELAS!CO34)","v":0},{"$f":"IF($C37=\"\",\"\",KELAS!CP34)","v":0},{"$f":"IF($C37=\"\",\"\",KELAS!CQ34)","v":0},"010",{"$f":"IF($C37=\"\",\"\",KELAS!CS34)","v":0},{"$f":"IF($C37=\"\",\"\",KELAS!CT34)","v":0},{"$f":"IF($C37=\"\",\"\",KELAS!CU34)","v":0},{"$f":"IF($C37=\"\",\"\",KELAS!CV34)","v":0},{"$f":"IF($C37=\"\",\"\",KELAS!CW34)","v":0},{"$f":"IF($C37=\"\",\"\",KELAS!CX34)","v":0},{"$f":"IF($C37=\"\",\"\",KELAS!CY34)","v":0},{"$f":"IF($C37=\"\",\"\",KELAS!CZ34)","v":0},"011",{"$f":"IF($C37=\"\",\"\",KELAS!DB34)","v":0},{"$f":"IF($C37=\"\",\"\",KELAS!DC34)","v":0},{"$f":"IF($C37=\"\",\"\",KELAS!DD34)","v":0},{"$f":"IF($C37=\"\",\"\",KELAS!DE34)","v":0},{"$f":"IF($C37=\"\",\"\",KELAS!DF34)","v":0},{"$f":"IF($C37=\"\",\"\",KELAS!DG34)","v":0},{"$f":"IF($C37=\"\",\"\",KELAS!DH34)","v":0},{"$f":"IF($C37=\"\",\"\",KELAS!DI34)","v":0}]
[{"$f":"IF(KELAS!A35=\"\",\"\",KELAS!A35)","v":33},{"$f":"IF(KELAS!B35=\"\",\"\",KELAS!B35)","v":12764},{"$f":"IF(KELAS!C35=\"\",\"\",PROPER(KELAS!C35))","v":"Wahyu Adi Pamungkas"},{"$f":"IF(KELAS!D35=\"\",\"\",KELAS!D35)","v":"L"},{"$f":"IF(KELAS!E35=\"\",\"\",KELAS!E35)","v":"7.A"},"001",{"$f":"IF($C38=\"\",\"\",KELAS!Q35)","v":0},{"$f":"IF($C38=\"\",\"\",KELAS!R35)","v":0},{"$f":"IF($C38=\"\",\"\",KELAS!S35)","v":0},{"$f":"IF($C38=\"\",\"\",KELAS!T35)","v":0},{"$f":"IF($C38=\"\",\"\",KELAS!U35)","v":0},{"$f":"IF($C38=\"\",\"\",KELAS!V35)","v":0},{"$f":"IF($C38=\"\",\"\",KELAS!W35)","v":0},{"$f":"IF($C38=\"\",\"\",KELAS!X35)","v":0},"002",{"$f":"IF($C38=\"\",\"\",KELAS!Y35)","v":0},{"$f":"IF($C38=\"\",\"\",KELAS!Z35)","v":0},{"$f":"IF($C38=\"\",\"\",KELAS!AA35)","v":0},{"$f":"IF($C38=\"\",\"\",KELAS!AB35)","v":0},{"$f":"IF($C38=\"\",\"\",KELAS!AC35)","v":0},{"$f":"IF($C38=\"\",\"\",KELAS!AD35)","v":0},{"$f":"IF($C38=\"\",\"\",KELAS!AE35)","v":0},{"$f":"IF($C38=\"\",\"\",KELAS!AF35)","v":0},"003",{"$f":"IF($C38=\"\",\"\",KELAS!AH35)","v":0},{"$f":"IF($C38=\"\",\"\",KELAS!AI35)","v":0},{"$f":"IF($C38=\"\",\"\",KELAS!AJ35)","v":0},{"$f":"IF($C38=\"\",\"\",KELAS!AK35)","v":0},{"$f":"IF($C38=\"\",\"\",KELAS!AL35)","v":0},{"$f":"IF($C38=\"\",\"\",KELAS!AM35)","v":0},{"$f":"IF($C38=\"\",\"\",KELAS!AN35)","v":0},{"$f":"IF($C38=\"\",\"\",KELAS!AO35)","v":0},"004",{"$f":"IF($C38=\"\",\"\",KELAS!AQ35)","v":0},{"$f":"IF($C38=\"\",\"\",KELAS!AR35)","v":0},{"$f":"IF($C38=\"\",\"\",KELAS!AS35)","v":0},{"$f":"IF($C38=\"\",\"\",KELAS!AT35)","v":0},{"$f":"IF($C38=\"\",\"\",KELAS!AU35)","v":0},{"$f":"IF($C38=\"\",\"\",KELAS!AV35)","v":0},{"$f":"IF($C38=\"\",\"\",KELAS!AW35)","v":0},{"$f":"IF($C38=\"\",\"\",KELAS!AX35)","v":0},"005",{"$f":"IF($C38=\"\",\"\",KELAS!AZ35)","v":0},{"$f":"IF($C38=\"\",\"\",KELAS!BA35)","v":0},{"$f":"IF($C38=\"\",\"\",KELAS!BB35)","v":0},{"$f":"IF($C38=\"\",\"\",KELAS!BC35)","v":0},{"$f":"IF($C38=\"\",\"\",KELAS!BD35)","v":0},{"$f":"IF($C38=\"\",\"\",KELAS!BE35)","v":0},{"$f":"IF($C38=\"\",\"\",KELAS!BF35)","v":0},{"$f":"IF($C38=\"\",\"\",KELAS!BG35)","v":0},"006",{"$f":"IF($C38=\"\",\"\",KELAS!BI35)","v":0},{"$f":"IF($C38=\"\",\"\",KELAS!BJ35)","v":0},{"$f":"IF($C38=\"\",\"\",KELAS!BK35)","v":0},{"$f":"IF($C38=\"\",\"\",KELAS!BL35)","v":0},{"$f":"IF($C38=\"\",\"\",KELAS!BM35)","v":0},{"$f":"IF($C38=\"\",\"\",KELAS!BN35)","v":0},{"$f":"IF($C38=\"\",\"\",KELAS!BO35)","v":0},{"$f":"IF($C38=\"\",\"\",KELAS!BP35)","v":0},"007",{"$f":"IF($C38=\"\",\"\",KELAS!BR35)","v":0},{"$f":"IF($C38=\"\",\"\",KELAS!BS35)","v":0},{"$f":"IF($C38=\"\",\"\",KELAS!BT35)","v":0},{"$f":"IF($C38=\"\",\"\",KELAS!BU35)","v":0},{"$f":"IF($C38=\"\",\"\",KELAS!BV35)","v":0},{"$f":"IF($C38=\"\",\"\",KELAS!BW35)","v":0},{"$f":"IF($C38=\"\",\"\",KELAS!BX35)","v":0},{"$f":"IF($C38=\"\",\"\",KELAS!BY35)","v":0},"008",{"$f":"IF($C38=\"\",\"\",KELAS!CA35)","v":0},{"$f":"IF($C38=\"\",\"\",KELAS!CB35)","v":0},{"$f":"IF($C38=\"\",\"\",KELAS!CC35)","v":0},{"$f":"IF($C38=\"\",\"\",KELAS!CD35)","v":0},{"$f":"IF($C38=\"\",\"\",KELAS!CE35)","v":0},{"$f":"IF($C38=\"\",\"\",KELAS!CF35)","v":0},{"$f":"IF($C38=\"\",\"\",KELAS!CG35)","v":0},{"$f":"IF($C38=\"\",\"\",KELAS!CH35)","v":0},"009",{"$f":"IF($C38=\"\",\"\",KELAS!CJ35)","v":0},{"$f":"IF($C38=\"\",\"\",KELAS!CK35)","v":0},{"$f":"IF($C38=\"\",\"\",KELAS!CL35)","v":0},{"$f":"IF($C38=\"\",\"\",KELAS!CM35)","v":0},{"$f":"IF($C38=\"\",\"\",KELAS!CN35)","v":0},{"$f":"IF($C38=\"\",\"\",KELAS!CO35)","v":0},{"$f":"IF($C38=\"\",\"\",KELAS!CP35)","v":0},{"$f":"IF($C38=\"\",\"\",KELAS!CQ35)","v":0},"010",{"$f":"IF($C38=\"\",\"\",KELAS!CS35)","v":0},{"$f":"IF($C38=\"\",\"\",KELAS!CT35)","v":0},{"$f":"IF($C38=\"\",\"\",KELAS!CU35)","v":0},{"$f":"IF($C38=\"\",\"\",KELAS!CV35)","v":0},{"$f":"IF($C38=\"\",\"\",KELAS!CW35)","v":0},{"$f":"IF($C38=\"\",\"\",KELAS!CX35)","v":0},{"$f":"IF($C38=\"\",\"\",KELAS!CY35)","v":0},{"$f":"IF($C38=\"\",\"\",KELAS!CZ35)","v":0},"011",{"$f":"IF($C38=\"\",\"\",KELAS!DB35)","v":0},{"$f":"IF($C38=\"\",\"\",KELAS!DC35)","v":0},{"$f":"IF($C38=\"\",\"\",KELAS!DD35)","v":0},{"$f":"IF($C38=\"\",\"\",KELAS!DE35)","v":0},{"$f":"IF($C38=\"\",\"\",KELAS!DF35)","v":0},{"$f":"IF($C38=\"\",\"\",KELAS!DG35)","v":0},{"$f":"IF($C38=\"\",\"\",KELAS!DH35)","v":0},{"$f":"IF($C38=\"\",\"\",KELAS!DI35)","v":0}]
[{"$f":"IF(KELAS!A36=\"\",\"\",KELAS!A36)","v":34},{"$f":"IF(KELAS!B36=\"\",\"\",KELAS!B36)","v":12776},{"$f":"IF(KELAS!C36=\"\",\"\",PROPER(KELAS!C36))","v":"Yanuar Satrio Legowo"},{"$f":"IF(KELAS!D36=\"\",\"\",KELAS!D36)","v":"L"},{"$f":"IF(KELAS!E36=\"\",\"\",KELAS!E36)","v":"7.A"},"001",{"$f":"IF($C39=\"\",\"\",KELAS!Q36)","v":0},{"$f":"IF($C39=\"\",\"\",KELAS!R36)","v":0},{"$f":"IF($C39=\"\",\"\",KELAS!S36)","v":0},{"$f":"IF($C39=\"\",\"\",KELAS!T36)","v":0},{"$f":"IF($C39=\"\",\"\",KELAS!U36)","v":0},{"$f":"IF($C39=\"\",\"\",KELAS!V36)","v":0},{"$f":"IF($C39=\"\",\"\",KELAS!W36)","v":0},{"$f":"IF($C39=\"\",\"\",KELAS!X36)","v":0},"002",{"$f":"IF($C39=\"\",\"\",KELAS!Y36)","v":0},{"$f":"IF($C39=\"\",\"\",KELAS!Z36)","v":0},{"$f":"IF($C39=\"\",\"\",KELAS!AA36)","v":0},{"$f":"IF($C39=\"\",\"\",KELAS!AB36)","v":0},{"$f":"IF($C39=\"\",\"\",KELAS!AC36)","v":0},{"$f":"IF($C39=\"\",\"\",KELAS!AD36)","v":0},{"$f":"IF($C39=\"\",\"\",KELAS!AE36)","v":0},{"$f":"IF($C39=\"\",\"\",KELAS!AF36)","v":0},"003",{"$f":"IF($C39=\"\",\"\",KELAS!AH36)","v":0},{"$f":"IF($C39=\"\",\"\",KELAS!AI36)","v":0},{"$f":"IF($C39=\"\",\"\",KELAS!AJ36)","v":0},{"$f":"IF($C39=\"\",\"\",KELAS!AK36)","v":0},{"$f":"IF($C39=\"\",\"\",KELAS!AL36)","v":0},{"$f":"IF($C39=\"\",\"\",KELAS!AM36)","v":0},{"$f":"IF($C39=\"\",\"\",KELAS!AN36)","v":0},{"$f":"IF($C39=\"\",\"\",KELAS!AO36)","v":0},"004",{"$f":"IF($C39=\"\",\"\",KELAS!AQ36)","v":0},{"$f":"IF($C39=\"\",\"\",KELAS!AR36)","v":0},{"$f":"IF($C39=\"\",\"\",KELAS!AS36)","v":0},{"$f":"IF($C39=\"\",\"\",KELAS!AT36)","v":0},{"$f":"IF($C39=\"\",\"\",KELAS!AU36)","v":0},{"$f":"IF($C39=\"\",\"\",KELAS!AV36)","v":0},{"$f":"IF($C39=\"\",\"\",KELAS!AW36)","v":0},{"$f":"IF($C39=\"\",\"\",KELAS!AX36)","v":0},"005",{"$f":"IF($C39=\"\",\"\",KELAS!AZ36)","v":0},{"$f":"IF($C39=\"\",\"\",KELAS!BA36)","v":0},{"$f":"IF($C39=\"\",\"\",KELAS!BB36)","v":0},{"$f":"IF($C39=\"\",\"\",KELAS!BC36)","v":0},{"$f":"IF($C39=\"\",\"\",KELAS!BD36)","v":0},{"$f":"IF($C39=\"\",\"\",KELAS!BE36)","v":0},{"$f":"IF($C39=\"\",\"\",KELAS!BF36)","v":0},{"$f":"IF($C39=\"\",\"\",KELAS!BG36)","v":0},"006",{"$f":"IF($C39=\"\",\"\",KELAS!BI36)","v":0},{"$f":"IF($C39=\"\",\"\",KELAS!BJ36)","v":0},{"$f":"IF($C39=\"\",\"\",KELAS!BK36)","v":0},{"$f":"IF($C39=\"\",\"\",KELAS!BL36)","v":0},{"$f":"IF($C39=\"\",\"\",KELAS!BM36)","v":0},{"$f":"IF($C39=\"\",\"\",KELAS!BN36)","v":0},{"$f":"IF($C39=\"\",\"\",KELAS!BO36)","v":0},{"$f":"IF($C39=\"\",\"\",KELAS!BP36)","v":0},"007",{"$f":"IF($C39=\"\",\"\",KELAS!BR36)","v":0},{"$f":"IF($C39=\"\",\"\",KELAS!BS36)","v":0},{"$f":"IF($C39=\"\",\"\",KELAS!BT36)","v":0},{"$f":"IF($C39=\"\",\"\",KELAS!BU36)","v":0},{"$f":"IF($C39=\"\",\"\",KELAS!BV36)","v":0},{"$f":"IF($C39=\"\",\"\",KELAS!BW36)","v":0},{"$f":"IF($C39=\"\",\"\",KELAS!BX36)","v":0},{"$f":"IF($C39=\"\",\"\",KELAS!BY36)","v":0},"008",{"$f":"IF($C39=\"\",\"\",KELAS!CA36)","v":0},{"$f":"IF($C39=\"\",\"\",KELAS!CB36)","v":0},{"$f":"IF($C39=\"\",\"\",KELAS!CC36)","v":0},{"$f":"IF($C39=\"\",\"\",KELAS!CD36)","v":0},{"$f":"IF($C39=\"\",\"\",KELAS!CE36)","v":0},{"$f":"IF($C39=\"\",\"\",KELAS!CF36)","v":0},{"$f":"IF($C39=\"\",\"\",KELAS!CG36)","v":0},{"$f":"IF($C39=\"\",\"\",KELAS!CH36)","v":0},"009",{"$f":"IF($C39=\"\",\"\",KELAS!CJ36)","v":0},{"$f":"IF($C39=\"\",\"\",KELAS!CK36)","v":0},{"$f":"IF($C39=\"\",\"\",KELAS!CL36)","v":0},{"$f":"IF($C39=\"\",\"\",KELAS!CM36)","v":0},{"$f":"IF($C39=\"\",\"\",KELAS!CN36)","v":0},{"$f":"IF($C39=\"\",\"\",KELAS!CO36)","v":0},{"$f":"IF($C39=\"\",\"\",KELAS!CP36)","v":0},{"$f":"IF($C39=\"\",\"\",KELAS!CQ36)","v":0},"010",{"$f":"IF($C39=\"\",\"\",KELAS!CS36)","v":0},{"$f":"IF($C39=\"\",\"\",KELAS!CT36)","v":0},{"$f":"IF($C39=\"\",\"\",KELAS!CU36)","v":0},{"$f":"IF($C39=\"\",\"\",KELAS!CV36)","v":0},{"$f":"IF($C39=\"\",\"\",KELAS!CW36)","v":0},{"$f":"IF($C39=\"\",\"\",KELAS!CX36)","v":0},{"$f":"IF($C39=\"\",\"\",KELAS!CY36)","v":0},{"$f":"IF($C39=\"\",\"\",KELAS!CZ36)","v":0},"011",{"$f":"IF($C39=\"\",\"\",KELAS!DB36)","v":0},{"$f":"IF($C39=\"\",\"\",KELAS!DC36)","v":0},{"$f":"IF($C39=\"\",\"\",KELAS!DD36)","v":0},{"$f":"IF($C39=\"\",\"\",KELAS!DE36)","v":0},{"$f":"IF($C39=\"\",\"\",KELAS!DF36)","v":0},{"$f":"IF($C39=\"\",\"\",KELAS!DG36)","v":0},{"$f":"IF($C39=\"\",\"\",KELAS!DH36)","v":0},{"$f":"IF($C39=\"\",\"\",KELAS!DI36)","v":0}]
[{"$f":"IF(KELAS!A37=\"\",\"\",KELAS!A37)","v":35},{"$f":"IF(KELAS!B37=\"\",\"\",KELAS!B37)","v":12779},{"$f":"IF(KELAS!C37=\"\",\"\",PROPER(KELAS!C37))","v":"Yoga Prasetya"},{"$f":"IF(KELAS!D37=\"\",\"\",KELAS!D37)","v":"L"},{"$f":"IF(KELAS!E37=\"\",\"\",KELAS!E37)","v":"7.A"},"001",{"$f":"IF($C40=\"\",\"\",KELAS!Q37)","v":0},{"$f":"IF($C40=\"\",\"\",KELAS!R37)","v":0},{"$f":"IF($C40=\"\",\"\",KELAS!S37)","v":0},{"$f":"IF($C40=\"\",\"\",KELAS!T37)","v":0},{"$f":"IF($C40=\"\",\"\",KELAS!U37)","v":0},{"$f":"IF($C40=\"\",\"\",KELAS!V37)","v":0},{"$f":"IF($C40=\"\",\"\",KELAS!W37)","v":0},{"$f":"IF($C40=\"\",\"\",KELAS!X37)","v":0},"002",{"$f":"IF($C40=\"\",\"\",KELAS!Y37)","v":0},{"$f":"IF($C40=\"\",\"\",KELAS!Z37)","v":0},{"$f":"IF($C40=\"\",\"\",KELAS!AA37)","v":0},{"$f":"IF($C40=\"\",\"\",KELAS!AB37)","v":0},{"$f":"IF($C40=\"\",\"\",KELAS!AC37)","v":0},{"$f":"IF($C40=\"\",\"\",KELAS!AD37)","v":0},{"$f":"IF($C40=\"\",\"\",KELAS!AE37)","v":0},{"$f":"IF($C40=\"\",\"\",KELAS!AF37)","v":0},"003",{"$f":"IF($C40=\"\",\"\",KELAS!AH37)","v":0},{"$f":"IF($C40=\"\",\"\",KELAS!AI37)","v":0},{"$f":"IF($C40=\"\",\"\",KELAS!AJ37)","v":0},{"$f":"IF($C40=\"\",\"\",KELAS!AK37)","v":0},{"$f":"IF($C40=\"\",\"\",KELAS!AL37)","v":0},{"$f":"IF($C40=\"\",\"\",KELAS!AM37)","v":0},{"$f":"IF($C40=\"\",\"\",KELAS!AN37)","v":0},{"$f":"IF($C40=\"\",\"\",KELAS!AO37)","v":0},"004",{"$f":"IF($C40=\"\",\"\",KELAS!AQ37)","v":0},{"$f":"IF($C40=\"\",\"\",KELAS!AR37)","v":0},{"$f":"IF($C40=\"\",\"\",KELAS!AS37)","v":0},{"$f":"IF($C40=\"\",\"\",KELAS!AT37)","v":0},{"$f":"IF($C40=\"\",\"\",KELAS!AU37)","v":0},{"$f":"IF($C40=\"\",\"\",KELAS!AV37)","v":0},{"$f":"IF($C40=\"\",\"\",KELAS!AW37)","v":0},{"$f":"IF($C40=\"\",\"\",KELAS!AX37)","v":0},"005",{"$f":"IF($C40=\"\",\"\",KELAS!AZ37)","v":0},{"$f":"IF($C40=\"\",\"\",KELAS!BA37)","v":0},{"$f":"IF($C40=\"\",\"\",KELAS!BB37)","v":0},{"$f":"IF($C40=\"\",\"\",KELAS!BC37)","v":0},{"$f":"IF($C40=\"\",\"\",KELAS!BD37)","v":0},{"$f":"IF($C40=\"\",\"\",KELAS!BE37)","v":0},{"$f":"IF($C40=\"\",\"\",KELAS!BF37)","v":0},{"$f":"IF($C40=\"\",\"\",KELAS!BG37)","v":0},"006",{"$f":"IF($C40=\"\",\"\",KELAS!BI37)","v":0},{"$f":"IF($C40=\"\",\"\",KELAS!BJ37)","v":0},{"$f":"IF($C40=\"\",\"\",KELAS!BK37)","v":0},{"$f":"IF($C40=\"\",\"\",KELAS!BL37)","v":0},{"$f":"IF($C40=\"\",\"\",KELAS!BM37)","v":0},{"$f":"IF($C40=\"\",\"\",KELAS!BN37)","v":0},{"$f":"IF($C40=\"\",\"\",KELAS!BO37)","v":0},{"$f":"IF($C40=\"\",\"\",KELAS!BP37)","v":0},"007",{"$f":"IF($C40=\"\",\"\",KELAS!BR37)","v":0},{"$f":"IF($C40=\"\",\"\",KELAS!BS37)","v":0},{"$f":"IF($C40=\"\",\"\",KELAS!BT37)","v":0},{"$f":"IF($C40=\"\",\"\",KELAS!BU37)","v":0},{"$f":"IF($C40=\"\",\"\",KELAS!BV37)","v":0},{"$f":"IF($C40=\"\",\"\",KELAS!BW37)","v":0},{"$f":"IF($C40=\"\",\"\",KELAS!BX37)","v":0},{"$f":"IF($C40=\"\",\"\",KELAS!BY37)","v":0},"008",{"$f":"IF($C40=\"\",\"\",KELAS!CA37)","v":0},{"$f":"IF($C40=\"\",\"\",KELAS!CB37)","v":0},{"$f":"IF($C40=\"\",\"\",KELAS!CC37)","v":0},{"$f":"IF($C40=\"\",\"\",KELAS!CD37)","v":0},{"$f":"IF($C40=\"\",\"\",KELAS!CE37)","v":0},{"$f":"IF($C40=\"\",\"\",KELAS!CF37)","v":0},{"$f":"IF($C40=\"\",\"\",KELAS!CG37)","v":0},{"$f":"IF($C40=\"\",\"\",KELAS!CH37)","v":0},"009",{"$f":"IF($C40=\"\",\"\",KELAS!CJ37)","v":0},{"$f":"IF($C40=\"\",\"\",KELAS!CK37)","v":0},{"$f":"IF($C40=\"\",\"\",KELAS!CL37)","v":0},{"$f":"IF($C40=\"\",\"\",KELAS!CM37)","v":0},{"$f":"IF($C40=\"\",\"\",KELAS!CN37)","v":0},{"$f":"IF($C40=\"\",\"\",KELAS!CO37)","v":0},{"$f":"IF($C40=\"\",\"\",KELAS!CP37)","v":0},{"$f":"IF($C40=\"\",\"\",KELAS!CQ37)","v":0},"010",{"$f":"IF($C40=\"\",\"\",KELAS!CS37)","v":0},{"$f":"IF($C40=\"\",\"\",KELAS!CT37)","v":0},{"$f":"IF($C40=\"\",\"\",KELAS!CU37)","v":0},{"$f":"IF($C40=\"\",\"\",KELAS!CV37)","v":0},{"$f":"IF($C40=\"\",\"\",KELAS!CW37)","v":0},{"$f":"IF($C40=\"\",\"\",KELAS!CX37)","v":0},{"$f":"IF($C40=\"\",\"\",KELAS!CY37)","v":0},{"$f":"IF($C40=\"\",\"\",KELAS!CZ37)","v":0},"011",{"$f":"IF($C40=\"\",\"\",KELAS!DB37)","v":0},{"$f":"IF($C40=\"\",\"\",KELAS!DC37)","v":0},{"$f":"IF($C40=\"\",\"\",KELAS!DD37)","v":0},{"$f":"IF($C40=\"\",\"\",KELAS!DE37)","v":0},{"$f":"IF($C40=\"\",\"\",KELAS!DF37)","v":0},{"$f":"IF($C40=\"\",\"\",KELAS!DG37)","v":0},{"$f":"IF($C40=\"\",\"\",KELAS!DH37)","v":0},{"$f":"IF($C40=\"\",\"\",KELAS!DI37)","v":0}]
[{"$f":"IF(KELAS!A38=\"\",\"\",KELAS!A38)","v":36},{"$f":"IF(KELAS!B38=\"\",\"\",KELAS!B38)","v":12787},{"$f":"IF(KELAS!C38=\"\",\"\",PROPER(KELAS!C38))","v":"Yuni Mutiasari"},{"$f":"IF(KELAS!D38=\"\",\"\",KELAS!D38)","v":"P"},{"$f":"IF(KELAS!E38=\"\",\"\",KELAS!E38)","v":"7.A"},"001",{"$f":"IF($C41=\"\",\"\",KELAS!Q38)","v":0},{"$f":"IF($C41=\"\",\"\",KELAS!R38)","v":0},{"$f":"IF($C41=\"\",\"\",KELAS!S38)","v":0},{"$f":"IF($C41=\"\",\"\",KELAS!T38)","v":0},{"$f":"IF($C41=\"\",\"\",KELAS!U38)","v":0},{"$f":"IF($C41=\"\",\"\",KELAS!V38)","v":0},{"$f":"IF($C41=\"\",\"\",KELAS!W38)","v":0},{"$f":"IF($C41=\"\",\"\",KELAS!X38)","v":0},"002",{"$f":"IF($C41=\"\",\"\",KELAS!Y38)","v":0},{"$f":"IF($C41=\"\",\"\",KELAS!Z38)","v":0},{"$f":"IF($C41=\"\",\"\",KELAS!AA38)","v":0},{"$f":"IF($C41=\"\",\"\",KELAS!AB38)","v":0},{"$f":"IF($C41=\"\",\"\",KELAS!AC38)","v":0},{"$f":"IF($C41=\"\",\"\",KELAS!AD38)","v":0},{"$f":"IF($C41=\"\",\"\",KELAS!AE38)","v":0},{"$f":"IF($C41=\"\",\"\",KELAS!AF38)","v":0},"003",{"$f":"IF($C41=\"\",\"\",KELAS!AH38)","v":0},{"$f":"IF($C41=\"\",\"\",KELAS!AI38)","v":0},{"$f":"IF($C41=\"\",\"\",KELAS!AJ38)","v":0},{"$f":"IF($C41=\"\",\"\",KELAS!AK38)","v":0},{"$f":"IF($C41=\"\",\"\",KELAS!AL38)","v":0},{"$f":"IF($C41=\"\",\"\",KELAS!AM38)","v":0},{"$f":"IF($C41=\"\",\"\",KELAS!AN38)","v":0},{"$f":"IF($C41=\"\",\"\",KELAS!AO38)","v":0},"004",{"$f":"IF($C41=\"\",\"\",KELAS!AQ38)","v":0},{"$f":"IF($C41=\"\",\"\",KELAS!AR38)","v":0},{"$f":"IF($C41=\"\",\"\",KELAS!AS38)","v":0},{"$f":"IF($C41=\"\",\"\",KELAS!AT38)","v":0},{"$f":"IF($C41=\"\",\"\",KELAS!AU38)","v":0},{"$f":"IF($C41=\"\",\"\",KELAS!AV38)","v":0},{"$f":"IF($C41=\"\",\"\",KELAS!AW38)","v":0},{"$f":"IF($C41=\"\",\"\",KELAS!AX38)","v":0},"005",{"$f":"IF($C41=\"\",\"\",KELAS!AZ38)","v":0},{"$f":"IF($C41=\"\",\"\",KELAS!BA38)","v":0},{"$f":"IF($C41=\"\",\"\",KELAS!BB38)","v":0},{"$f":"IF($C41=\"\",\"\",KELAS!BC38)","v":0},{"$f":"IF($C41=\"\",\"\",KELAS!BD38)","v":0},{"$f":"IF($C41=\"\",\"\",KELAS!BE38)","v":0},{"$f":"IF($C41=\"\",\"\",KELAS!BF38)","v":0},{"$f":"IF($C41=\"\",\"\",KELAS!BG38)","v":0},"006",{"$f":"IF($C41=\"\",\"\",KELAS!BI38)","v":0},{"$f":"IF($C41=\"\",\"\",KELAS!BJ38)","v":0},{"$f":"IF($C41=\"\",\"\",KELAS!BK38)","v":0},{"$f":"IF($C41=\"\",\"\",KELAS!BL38)","v":0},{"$f":"IF($C41=\"\",\"\",KELAS!BM38)","v":0},{"$f":"IF($C41=\"\",\"\",KELAS!BN38)","v":0},{"$f":"IF($C41=\"\",\"\",KELAS!BO38)","v":0},{"$f":"IF($C41=\"\",\"\",KELAS!BP38)","v":0},"007",{"$f":"IF($C41=\"\",\"\",KELAS!BR38)","v":0},{"$f":"IF($C41=\"\",\"\",KELAS!BS38)","v":0},{"$f":"IF($C41=\"\",\"\",KELAS!BT38)","v":0},{"$f":"IF($C41=\"\",\"\",KELAS!BU38)","v":0},{"$f":"IF($C41=\"\",\"\",KELAS!BV38)","v":0},{"$f":"IF($C41=\"\",\"\",KELAS!BW38)","v":0},{"$f":"IF($C41=\"\",\"\",KELAS!BX38)","v":0},{"$f":"IF($C41=\"\",\"\",KELAS!BY38)","v":0},"008",{"$f":"IF($C41=\"\",\"\",KELAS!CA38)","v":0},{"$f":"IF($C41=\"\",\"\",KELAS!CB38)","v":0},{"$f":"IF($C41=\"\",\"\",KELAS!CC38)","v":0},{"$f":"IF($C41=\"\",\"\",KELAS!CD38)","v":0},{"$f":"IF($C41=\"\",\"\",KELAS!CE38)","v":0},{"$f":"IF($C41=\"\",\"\",KELAS!CF38)","v":0},{"$f":"IF($C41=\"\",\"\",KELAS!CG38)","v":0},{"$f":"IF($C41=\"\",\"\",KELAS!CH38)","v":0},"009",{"$f":"IF($C41=\"\",\"\",KELAS!CJ38)","v":0},{"$f":"IF($C41=\"\",\"\",KELAS!CK38)","v":0},{"$f":"IF($C41=\"\",\"\",KELAS!CL38)","v":0},{"$f":"IF($C41=\"\",\"\",KELAS!CM38)","v":0},{"$f":"IF($C41=\"\",\"\",KELAS!CN38)","v":0},{"$f":"IF($C41=\"\",\"\",KELAS!CO38)","v":0},{"$f":"IF($C41=\"\",\"\",KELAS!CP38)","v":0},{"$f":"IF($C41=\"\",\"\",KELAS!CQ38)","v":0},"010",{"$f":"IF($C41=\"\",\"\",KELAS!CS38)","v":0},{"$f":"IF($C41=\"\",\"\",KELAS!CT38)","v":0},{"$f":"IF($C41=\"\",\"\",KELAS!CU38)","v":0},{"$f":"IF($C41=\"\",\"\",KELAS!CV38)","v":0},{"$f":"IF($C41=\"\",\"\",KELAS!CW38)","v":0},{"$f":"IF($C41=\"\",\"\",KELAS!CX38)","v":0},{"$f":"IF($C41=\"\",\"\",KELAS!CY38)","v":0},{"$f":"IF($C41=\"\",\"\",KELAS!CZ38)","v":0},"011",{"$f":"IF($C41=\"\",\"\",KELAS!DB38)","v":0},{"$f":"IF($C41=\"\",\"\",KELAS!DC38)","v":0},{"$f":"IF($C41=\"\",\"\",KELAS!DD38)","v":0},{"$f":"IF($C41=\"\",\"\",KELAS!DE38)","v":0},{"$f":"IF($C41=\"\",\"\",KELAS!DF38)","v":0},{"$f":"IF($C41=\"\",\"\",KELAS!DG38)","v":0},{"$f":"IF($C41=\"\",\"\",KELAS!DH38)","v":0},{"$f":"IF($C41=\"\",\"\",KELAS!DI38)","v":0}]
[{"$f":"IF(KELAS!A39=\"\",\"\",KELAS!A39)","v":""},{"$f":"IF(KELAS!B39=\"\",\"\",KELAS!B39)","v":""},{"$f":"IF(KELAS!C39=\"\",\"\",PROPER(KELAS!C39))","v":""},{"$f":"IF(KELAS!D39=\"\",\"\",KELAS!D39)","v":""},{"$f":"IF(KELAS!E39=\"\",\"\",KELAS!E39)","v":""},"",{"$f":"IF($C42=\"\",\"\",KELAS!Q39)","v":""},{"$f":"IF($C42=\"\",\"\",KELAS!R39)","v":""},{"$f":"IF($C42=\"\",\"\",KELAS!S39)","v":""},{"$f":"IF($C42=\"\",\"\",KELAS!T39)","v":""},{"$f":"IF($C42=\"\",\"\",KELAS!U39)","v":""},{"$f":"IF($C42=\"\",\"\",KELAS!V39)","v":""},{"$f":"IF($C42=\"\",\"\",KELAS!W39)","v":""},{"$f":"IF($C42=\"\",\"\",KELAS!X39)","v":""},"",{"$f":"IF($C42=\"\",\"\",KELAS!Y39)","v":""},{"$f":"IF($C42=\"\",\"\",KELAS!Z39)","v":""},{"$f":"IF($C42=\"\",\"\",KELAS!AA39)","v":""},{"$f":"IF($C42=\"\",\"\",KELAS!AB39)","v":""},{"$f":"IF($C42=\"\",\"\",KELAS!AC39)","v":""},{"$f":"IF($C42=\"\",\"\",KELAS!AD39)","v":""},{"$f":"IF($C42=\"\",\"\",KELAS!AE39)","v":""},{"$f":"IF($C42=\"\",\"\",KELAS!AF39)","v":""},"",{"$f":"IF($C42=\"\",\"\",KELAS!AH39)","v":""},{"$f":"IF($C42=\"\",\"\",KELAS!AI39)","v":""},{"$f":"IF($C42=\"\",\"\",KELAS!AJ39)","v":""},{"$f":"IF($C42=\"\",\"\",KELAS!AK39)","v":""},{"$f":"IF($C42=\"\",\"\",KELAS!AL39)","v":""},{"$f":"IF($C42=\"\",\"\",KELAS!AM39)","v":""},{"$f":"IF($C42=\"\",\"\",KELAS!AN39)","v":""},{"$f":"IF($C42=\"\",\"\",KELAS!AO39)","v":""},"",{"$f":"IF($C42=\"\",\"\",KELAS!AQ39)","v":""},{"$f":"IF($C42=\"\",\"\",KELAS!AR39)","v":""},{"$f":"IF($C42=\"\",\"\",KELAS!AS39)","v":""},{"$f":"IF($C42=\"\",\"\",KELAS!AT39)","v":""},{"$f":"IF($C42=\"\",\"\",KELAS!AU39)","v":""},{"$f":"IF($C42=\"\",\"\",KELAS!AV39)","v":""},{"$f":"IF($C42=\"\",\"\",KELAS!AW39)","v":""},{"$f":"IF($C42=\"\",\"\",KELAS!AX39)","v":""},"",{"$f":"IF($C42=\"\",\"\",KELAS!AZ39)","v":""},{"$f":"IF($C42=\"\",\"\",KELAS!BA39)","v":""},{"$f":"IF($C42=\"\",\"\",KELAS!BB39)","v":""},{"$f":"IF($C42=\"\",\"\",KELAS!BC39)","v":""},{"$f":"IF($C42=\"\",\"\",KELAS!BD39)","v":""},{"$f":"IF($C42=\"\",\"\",KELAS!BE39)","v":""},{"$f":"IF($C42=\"\",\"\",KELAS!BF39)","v":""},{"$f":"IF($C42=\"\",\"\",KELAS!BG39)","v":""},"",{"$f":"IF($C42=\"\",\"\",KELAS!BI39)","v":""},{"$f":"IF($C42=\"\",\"\",KELAS!BJ39)","v":""},{"$f":"IF($C42=\"\",\"\",KELAS!BK39)","v":""},{"$f":"IF($C42=\"\",\"\",KELAS!BL39)","v":""},{"$f":"IF($C42=\"\",\"\",KELAS!BM39)","v":""},{"$f":"IF($C42=\"\",\"\",KELAS!BN39)","v":""},{"$f":"IF($C42=\"\",\"\",KELAS!BO39)","v":""},{"$f":"IF($C42=\"\",\"\",KELAS!BP39)","v":""},"",{"$f":"IF($C42=\"\",\"\",KELAS!BR39)","v":""},{"$f":"IF($C42=\"\",\"\",KELAS!BS39)","v":""},{"$f":"IF($C42=\"\",\"\",KELAS!BT39)","v":""},{"$f":"IF($C42=\"\",\"\",KELAS!BU39)","v":""},{"$f":"IF($C42=\"\",\"\",KELAS!BV39)","v":""},{"$f":"IF($C42=\"\",\"\",KELAS!BW39)","v":""},{"$f":"IF($C42=\"\",\"\",KELAS!BX39)","v":""},{"$f":"IF($C42=\"\",\"\",KELAS!BY39)","v":""},"",{"$f":"IF($C42=\"\",\"\",KELAS!CA39)","v":""},{"$f":"IF($C42=\"\",\"\",KELAS!CB39)","v":""},{"$f":"IF($C42=\"\",\"\",KELAS!CC39)","v":""},{"$f":"IF($C42=\"\",\"\",KELAS!CD39)","v":""},{"$f":"IF($C42=\"\",\"\",KELAS!CE39)","v":""},{"$f":"IF($C42=\"\",\"\",KELAS!CF39)","v":""},{"$f":"IF($C42=\"\",\"\",KELAS!CG39)","v":""},{"$f":"IF($C42=\"\",\"\",KELAS!CH39)","v":""},"",{"$f":"IF($C42=\"\",\"\",KELAS!CJ39)","v":""},{"$f":"IF($C42=\"\",\"\",KELAS!CK39)","v":""},{"$f":"IF($C42=\"\",\"\",KELAS!CL39)","v":""},{"$f":"IF($C42=\"\",\"\",KELAS!CM39)","v":""},{"$f":"IF($C42=\"\",\"\",KELAS!CN39)","v":""},{"$f":"IF($C42=\"\",\"\",KELAS!CO39)","v":""},{"$f":"IF($C42=\"\",\"\",KELAS!CP39)","v":""},{"$f":"IF($C42=\"\",\"\",KELAS!CQ39)","v":""},"",{"$f":"IF($C42=\"\",\"\",KELAS!CS39)","v":""},{"$f":"IF($C42=\"\",\"\",KELAS!CT39)","v":""},{"$f":"IF($C42=\"\",\"\",KELAS!CU39)","v":""},{"$f":"IF($C42=\"\",\"\",KELAS!CV39)","v":""},{"$f":"IF($C42=\"\",\"\",KELAS!CW39)","v":""},{"$f":"IF($C42=\"\",\"\",KELAS!CX39)","v":""},{"$f":"IF($C42=\"\",\"\",KELAS!CY39)","v":""},{"$f":"IF($C42=\"\",\"\",KELAS!CZ39)","v":""},"",{"$f":"IF($C42=\"\",\"\",KELAS!DB39)","v":""},{"$f":"IF($C42=\"\",\"\",KELAS!DC39)","v":""},{"$f":"IF($C42=\"\",\"\",KELAS!DD39)","v":""},{"$f":"IF($C42=\"\",\"\",KELAS!DE39)","v":""},{"$f":"IF($C42=\"\",\"\",KELAS!DF39)","v":""},{"$f":"IF($C42=\"\",\"\",KELAS!DG39)","v":""},{"$f":"IF($C42=\"\",\"\",KELAS!DH39)","v":""},{"$f":"IF($C42=\"\",\"\",KELAS!DI39)","v":""}]
[{"$f":"IF(KELAS!A40=\"\",\"\",KELAS!A40)","v":""},{"$f":"IF(KELAS!B40=\"\",\"\",KELAS!B40)","v":""},{"$f":"IF(KELAS!C40=\"\",\"\",PROPER(KELAS!C40))","v":""},{"$f":"IF(KELAS!D40=\"\",\"\",KELAS!D40)","v":""},{"$f":"IF(KELAS!E40=\"\",\"\",KELAS!E40)","v":""},"",{"$f":"IF($C43=\"\",\"\",KELAS!Q40)","v":""},{"$f":"IF($C43=\"\",\"\",KELAS!R40)","v":""},{"$f":"IF($C43=\"\",\"\",KELAS!S40)","v":""},{"$f":"IF($C43=\"\",\"\",KELAS!T40)","v":""},{"$f":"IF($C43=\"\",\"\",KELAS!U40)","v":""},{"$f":"IF($C43=\"\",\"\",KELAS!V40)","v":""},{"$f":"IF($C43=\"\",\"\",KELAS!W40)","v":""},{"$f":"IF($C43=\"\",\"\",KELAS!X40)","v":""},"",{"$f":"IF($C43=\"\",\"\",KELAS!Y40)","v":""},{"$f":"IF($C43=\"\",\"\",KELAS!Z40)","v":""},{"$f":"IF($C43=\"\",\"\",KELAS!AA40)","v":""},{"$f":"IF($C43=\"\",\"\",KELAS!AB40)","v":""},{"$f":"IF($C43=\"\",\"\",KELAS!AC40)","v":""},{"$f":"IF($C43=\"\",\"\",KELAS!AD40)","v":""},{"$f":"IF($C43=\"\",\"\",KELAS!AE40)","v":""},{"$f":"IF($C43=\"\",\"\",KELAS!AF40)","v":""},"",{"$f":"IF($C43=\"\",\"\",KELAS!AH40)","v":""},{"$f":"IF($C43=\"\",\"\",KELAS!AI40)","v":""},{"$f":"IF($C43=\"\",\"\",KELAS!AJ40)","v":""},{"$f":"IF($C43=\"\",\"\",KELAS!AK40)","v":""},{"$f":"IF($C43=\"\",\"\",KELAS!AL40)","v":""},{"$f":"IF($C43=\"\",\"\",KELAS!AM40)","v":""},{"$f":"IF($C43=\"\",\"\",KELAS!AN40)","v":""},{"$f":"IF($C43=\"\",\"\",KELAS!AO40)","v":""},"",{"$f":"IF($C43=\"\",\"\",KELAS!AQ40)","v":""},{"$f":"IF($C43=\"\",\"\",KELAS!AR40)","v":""},{"$f":"IF($C43=\"\",\"\",KELAS!AS40)","v":""},{"$f":"IF($C43=\"\",\"\",KELAS!AT40)","v":""},{"$f":"IF($C43=\"\",\"\",KELAS!AU40)","v":""},{"$f":"IF($C43=\"\",\"\",KELAS!AV40)","v":""},{"$f":"IF($C43=\"\",\"\",KELAS!AW40)","v":""},{"$f":"IF($C43=\"\",\"\",KELAS!AX40)","v":""},"",{"$f":"IF($C43=\"\",\"\",KELAS!AZ40)","v":""},{"$f":"IF($C43=\"\",\"\",KELAS!BA40)","v":""},{"$f":"IF($C43=\"\",\"\",KELAS!BB40)","v":""},{"$f":"IF($C43=\"\",\"\",KELAS!BC40)","v":""},{"$f":"IF($C43=\"\",\"\",KELAS!BD40)","v":""},{"$f":"IF($C43=\"\",\"\",KELAS!BE40)","v":""},{"$f":"IF($C43=\"\",\"\",KELAS!BF40)","v":""},{"$f":"IF($C43=\"\",\"\",KELAS!BG40)","v":""},"",{"$f":"IF($C43=\"\",\"\",KELAS!BI40)","v":""},{"$f":"IF($C43=\"\",\"\",KELAS!BJ40)","v":""},{"$f":"IF($C43=\"\",\"\",KELAS!BK40)","v":""},{"$f":"IF($C43=\"\",\"\",KELAS!BL40)","v":""},{"$f":"IF($C43=\"\",\"\",KELAS!BM40)","v":""},{"$f":"IF($C43=\"\",\"\",KELAS!BN40)","v":""},{"$f":"IF($C43=\"\",\"\",KELAS!BO40)","v":""},{"$f":"IF($C43=\"\",\"\",KELAS!BP40)","v":""},"",{"$f":"IF($C43=\"\",\"\",KELAS!BR40)","v":""},{"$f":"IF($C43=\"\",\"\",KELAS!BS40)","v":""},{"$f":"IF($C43=\"\",\"\",KELAS!BT40)","v":""},{"$f":"IF($C43=\"\",\"\",KELAS!BU40)","v":""},{"$f":"IF($C43=\"\",\"\",KELAS!BV40)","v":""},{"$f":"IF($C43=\"\",\"\",KELAS!BW40)","v":""},{"$f":"IF($C43=\"\",\"\",KELAS!BX40)","v":""},{"$f":"IF($C43=\"\",\"\",KELAS!BY40)","v":""},"",{"$f":"IF($C43=\"\",\"\",KELAS!CA40)","v":""},{"$f":"IF($C43=\"\",\"\",KELAS!CB40)","v":""},{"$f":"IF($C43=\"\",\"\",KELAS!CC40)","v":""},{"$f":"IF($C43=\"\",\"\",KELAS!CD40)","v":""},{"$f":"IF($C43=\"\",\"\",KELAS!CE40)","v":""},{"$f":"IF($C43=\"\",\"\",KELAS!CF40)","v":""},{"$f":"IF($C43=\"\",\"\",KELAS!CG40)","v":""},{"$f":"IF($C43=\"\",\"\",KELAS!CH40)","v":""},"",{"$f":"IF($C43=\"\",\"\",KELAS!CJ40)","v":""},{"$f":"IF($C43=\"\",\"\",KELAS!CK40)","v":""},{"$f":"IF($C43=\"\",\"\",KELAS!CL40)","v":""},{"$f":"IF($C43=\"\",\"\",KELAS!CM40)","v":""},{"$f":"IF($C43=\"\",\"\",KELAS!CN40)","v":""},{"$f":"IF($C43=\"\",\"\",KELAS!CO40)","v":""},{"$f":"IF($C43=\"\",\"\",KELAS!CP40)","v":""},{"$f":"IF($C43=\"\",\"\",KELAS!CQ40)","v":""},"",{"$f":"IF($C43=\"\",\"\",KELAS!CS40)","v":""},{"$f":"IF($C43=\"\",\"\",KELAS!CT40)","v":""},{"$f":"IF($C43=\"\",\"\",KELAS!CU40)","v":""},{"$f":"IF($C43=\"\",\"\",KELAS!CV40)","v":""},{"$f":"IF($C43=\"\",\"\",KELAS!CW40)","v":""},{"$f":"IF($C43=\"\",\"\",KELAS!CX40)","v":""},{"$f":"IF($C43=\"\",\"\",KELAS!CY40)","v":""},{"$f":"IF($C43=\"\",\"\",KELAS!CZ40)","v":""},"",{"$f":"IF($C43=\"\",\"\",KELAS!DB40)","v":""},{"$f":"IF($C43=\"\",\"\",KELAS!DC40)","v":""},{"$f":"IF($C43=\"\",\"\",KELAS!DD40)","v":""},{"$f":"IF($C43=\"\",\"\",KELAS!DE40)","v":""},{"$f":"IF($C43=\"\",\"\",KELAS!DF40)","v":""},{"$f":"IF($C43=\"\",\"\",KELAS!DG40)","v":""},{"$f":"IF($C43=\"\",\"\",KELAS!DH40)","v":""},{"$f":"IF($C43=\"\",\"\",KELAS!DI40)","v":""}]

{"sheet":"UntukMailnerge","index":1,"n_rows":40,"n_cols":150,"rows_kept":40,"cut":false,"hidden":false,"merged":[]}
[{"$f":"KELAS!A1","v":"No."},{"$f":"KELAS!B1","v":"NIS"},{"$f":"KELAS!C1","v":"Nama_Siswa"},{"$f":"KELAS!D1","v":"JK"},{"$f":"KELAS!E1","v":"Kelas"},{"$f":"KELAS!F1","v":"Agama"},{"$f":"KELAS!G1","v":"NISN"},{"$f":"KELAS!H1","v":"Tempat_Tgl_Lahir"},{"$f":"KELAS!I1","v":"Nama_Ayah"},{"$f":"KELAS!J1","v":"Pekerjaan_Ayah"},{"$f":"KELAS!K1","v":"Nama_Ibu"},{"$f":"KELAS!L1","v":"Pekerjaan_Ibu"},{"$f":"KELAS!M1","v":"Alamat_Rumah"},{"$f":"KELAS!N1","v":"Asal_SMP"},{"$f":"KELAS!O1","v":"Anak_Ke"},{"$f":"KELAS!P1","v":"Status_dalam_Keluarga"},{"$f":"KELAS!Q1","v":"Angka_KI-3_PAI_001"},{"$f":"KELAS!R1","v":"Predikat_KI-3_PAI_001"},{"$f":"KELAS!S1","v":"Desk_KI-3_PAI_001"},{"$f":"KELAS!T1","v":"Angka_KI-4_PAI_001"},{"$f":"KELAS!U1","v":"Predikat_KI-4_PAI_001"},{"$f":"KELAS!V1","v":"Desk_KI-4_PAI_001"},{"$f":"KELAS!W1","v":"Predikat_KI-1-2_PAI_001"},{"$f":"KELAS!X1","v":"Desk_KI-1-2_PAI_001"},{"$f":"KELAS!Y1","v":"Angka_KI-3_PKn_002"},{"$f":"KELAS!Z1","v":"Predikat_KI-3_PKn_002"},{"$f":"KELAS!AA1","v":"Desk_KI-3_PKn_002"},{"$f":"KELAS!AB1","v":"Angka_KI-4_PKn_002"},{"$f":"KELAS!AC1","v":"Predikat_KI-4_PKn_002"},{"$f":"KELAS!AD1","v":"Desk_KI-4_PKn_002"},{"$f":"KELAS!AE1","v":"Predikat_KI-1-2_PKn_002"},{"$f":"KELAS!AF1","v":"Desk_KI-1-2_PKn_002"},{"$f":"KELAS!AG1","v":"Guru_PKn_002"},{"$f":"KELAS!AH1","v":"Angka_KI-3_BIN_003"},{"$f":"KELAS!AI1","v":"Predikat_KI-3_BIN_003"},{"$f":"KELAS!AJ1","v":"Desk_KI-3_BIN_003"},{"$f":"KELAS!AK1","v":"Angka_KI-4_BIN_003"},{"$f":"KELAS!AL1","v":"Predikat_KI-4_BIN_003"},{"$f":"KELAS!AM1","v":"Desk_KI-4_BIN_003"},{"$f":"KELAS!AN1","v":"Predikat_KI-1-2_BIN_003"},{"$f":"KELAS!AO1","v":"Desk_KI-1-2_BIN_003"},{"$f":"KELAS!AP1","v":"Guru_BIN_003"},{"$f":"KELAS!AQ1","v":"Angka_KI-3_MAT_004"},{"$f":"KELAS!AR1","v":"Predikat_KI-3_MAT_004"},{"$f":"KELAS!AS1","v":"Desk_KI-3_MAT_004"},{"$f":"KELAS!AT1","v":"Angka_KI-4_MAT_004"},{"$f":"KELAS!AU1","v":"Predikat_KI-4_MAT_004"},{"$f":"KELAS!AV1","v":"Desk_KI-4_MAT_004"},{"$f":"KELAS!AW1","v":"Predikat_KI-1-2_MAT_004"},{"$f":"KELAS!AX1","v":"Desk_KI-1-2_MAT_004"},{"$f":"KELAS!AY1","v":"Guru_MAT_004"},{"$f":"KELAS!AZ1","v":"Angka_KI-3_IPA_005"},{"$f":"KELAS!BA1","v":"Predikat_KI-3_IPA_005"},{"$f":"KELAS!BB1","v":"Desk_KI-3_IPA_005"},{"$f":"KELAS!BC1","v":"Angka_KI-4_IPA_005"},{"$f":"KELAS!BD1","v":"Predikat_KI-4_IPA_005"},{"$f":"KELAS!BE1","v":"Desk_KI-4_IPA_005"},{"$f":"KELAS!BF1","v":"Predikat_KI-1-2_IPA_005"},{"$f":"KELAS!BG1","v":"Desk_KI-1-2_IPA_005"},{"$f":"KELAS!BH1","v":"Guru_IPA_005"},{"$f":"KELAS!BI1","v":"Angka_KI-3_IPS_006"},{"$f":"KELAS!BJ1","v":"Predikat_KI-3_IPS_006"},{"$f":"KELAS!BK1","v":"Desk_KI-3_IPS_006"},{"$f":"KELAS!BL1","v":"Angka_KI-4_IPS_006"},{"$f":"KELAS!BM1","v":"Predikat_KI-4_IPS_006"},{"$f":"KELAS!BN1","v":"Desk_KI-4_IPS_006"},{"$f":"KELAS!BO1","v":"Predikat_KI-1-2_IPS_006"},{"$f":"KELAS!BP1","v":"Desk_KI-1-2_IPS_006"},{"$f":"KELAS!BQ1","v":"Guru_IPS_006"},{"$f":"KELAS!BR1","v":"Angka_KI-3_BIG_007"},{"$f":"KELAS!BS1","v":"Predikat_KI-3_BIG_007"},{"$f":"KELAS!BT1","v":"Desk_KI-3_BIG_007"},{"$f":"KELAS!BU1","v":"Angka_KI-4_BIG_007"},{"$f":"KELAS!BV1","v":"Predikat_KI-4_BIG_007"},{"$f":"KELAS!BW1","v":"Desk_KI-4_BIG_007"},{"$f":"KELAS!BX1","v":"Predikat_KI-1-2_BIG_007"},{"$f":"KELAS!BY1","v":"Desk_KI-1-2_BIG_007"},{"$f":"KELAS!BZ1","v":"Guru_BIG_007"},{"$f":"KELAS!CA1","v":"Angka_KI-3_SEN_008"},{"$f":"KELAS!CB1","v":"Predikat_KI-3_SEN_008"},{"$f":"KELAS!CC1","v":"Desk_KI-3_SEN_008"},{"$f":"KELAS!CD1","v":"Angka_KI-4_SEN_008"},{"$f":"KELAS!CE1","v":"Predikat_KI-4_SEN_008"},{"$f":"KELAS!CF1","v":"Desk_KI-4_SEN_008"},{"$f":"KELAS!CG1","v":"Predikat_KI-1-2_SEN_008"},{"$f":"KELAS!CH1","v":"Desk_KI-1-2_SEN_008"},{"$f":"KELAS!CI1","v":"Guru_SEN_008"},{"$f":"KELAS!CJ1","v":"Angka_KI-3_JAS_009"},{"$f":"KELAS!CK1","v":"Predikat_KI-3_JAS_009"},{"$f":"KELAS!CL1","v":"Desk_KI-3_JAS_009"},{"$f":"KELAS!CM1","v":"Angka_KI-4_JAS_009"},{"$f":"KELAS!CN1","v":"Predikat_KI-4_JAS_009"},{"$f":"KELAS!CO1","v":"Desk_KI-4_JAS_009"},{"$f":"KELAS!CP1","v":"Predikat_KI-1-2_JAS_009"},{"$f":"KELAS!CQ1","v":"Desk_KI-1-2_JAS_009"},{"$f":"KELAS!CR1","v":"Guru_JAS_009"},{"$f":"KELAS!CS1","v":"Angka_KI-3_PRA_010"},{"$f":"KELAS!CT1","v":"Predikat_KI-3_PRA_010"},{"$f":"KELAS!CU1","v":"Desk_KI-3_PRA_010"},{"$f":"KELAS!CV1","v":"Angka_KI-4_PRA_010"},{"$f":"KELAS!CW1","v":"Predikat_KI-4_PRA_010"},{"$f":"KELAS!CX1","v":"Desk_KI-4_PRA_010"},{"$f":"KELAS!CY1","v":"Predikat_KI-1-2_PRA_010"},{"$f":"KELAS!CZ1","v":"Desk_KI-1-2_PRA_010"},{"$f":"KELAS!DA1","v":"Guru_PRA_010"},{"$f":"KELAS!DB1","v":"Angka_KI-3_JAW_011"},{"$f":"KELAS!DC1","v":"Predikat_KI-3_JAW_011"},{"$f":"KELAS!DD1","v":"Desk_KI-3_JAW_011"},{"$f":"KELAS!DE1","v":"Angka_KI-4_JAW_011"},{"$f":"KELAS!DF1","v":"Predikat_KI-4_JAW_011"},{"$f":"KELAS!DG1","v":"Desk_KI-4_JAW_011"},{"$f":"KELAS!DH1","v":"Predikat_KI-1-2_JAW_011"},{"$f":"KELAS!DI1","v":"Desk_KI-1-2_JAW_011"},{"$f":"KELAS!DJ1","v":"Guru_JAW_011"},{"$f":"KELAS!DK1","v":"Sakit"},{"$f":"KELAS!DL1","v":"Ijin"},{"$f":"KELAS!DM1","v":"Terlambat"},{"$f":"KELAS!DN1","v":"Alpa"},{"$f":"KELAS!DO1","v":"Ekskul-01"},{"$f":"KELAS!DP1","v":"Nilai Eskul-01"},{"$f":"KELAS!DQ1","v":"Nama_Ekskul-01"},{"$f":"KELAS!DR1","v":"Kegiatan_Eskul-01"},{"$f":"KELAS!DS1","v":"Ekskul-02"},{"$f":"KELAS!DT1","v":"Nilai Ekslu-02"},{"$f":"KELAS!DU1","v":"Nama_Ekskul-02"},{"$f":"KELAS!DV1","v":"Kegiatan_Eskul-02"},{"$f":"KELAS!DW1","v":"Ekskul-03"},{"$f":"KELAS!DX1","v":"Nilai Ekslu-03"},{"$f":"KELAS!DY1","v":"Nama_Ekskul-03"},{"$f":"KELAS!DZ1","v":"Kegiatan_Eskul-03"},{"$f":"KELAS!EA1","v":"Huruf_Sakit"},{"$f":"KELAS!EB1","v":"Huruf_Ijin"},{"$f":"KELAS!EC1","v":"Huruf_Terlambat"},{"$f":"KELAS!ED1","v":"Huruf_Alpa"},{"$f":"KELAS!EE1","v":"Jumlah"},{"$f":"KELAS!EF1","v":"Peringkat"},{"$f":"KELAS!EG1","v":"Sikap_Antar_Mata_Pelajaran"},{"$f":"KELAS!EH1","v":"Wali_Kelas"},{"$f":"KELAS!EI1","v":"NBM"},{"$f":"KELAS!EJ1","v":"KKM_PAI_001"},{"$f":"KELAS!EK1","v":"KKM_PKn_002"},{"$f":"KELAS!EL1","v":"KKM_BIN_003"},{"$f":"KELAS!EM1","v":"KKM_MAT_004"},{"$f":"KELAS!EN1","v":"KKM_IPA_005"},{"$f":"KELAS!EO1","v":"KKM_IPS_006"},{"$f":"KELAS!EP1","v":"KKM_BIG_007"},{"$f":"KELAS!EQ1","v":"KKM_SEN_008"},{"$f":"KELAS!ER1","v":"KKM_JAS_009"},{"$f":"KELAS!ES1","v":"KKM_PRA_010"},{"$f":"KELAS!ET1","v":"KKM_JAW_011"}]
[1,{"$f":"A2+1","v":2},{"$f":"B2+1","v":3},4,5,6,7,8,9,10,11,12,13,14,15,16,17,18,19,20,21,22,23,24,25,26,27,28,29,30,31,32,33,34,35,36,37,38,39,40,41,42,43,44,45,46,47,48,49,50,51,52,53,54,55,56,57,58,59,60,61,62,63,64,65,66,{"$f":"BN2+1","v":67},68,69,70,71,72,73,74,75,76,77,78,79,80,81,82,83,84,85,86,87,88,89,90,91,92,93,94,95,96,97,98,99,100,101,102,103,104,105,106,107,108,109,110,111,112,113,114,115,116,117,118,119,120,121,122,123,124,125,126,127,128,129,130,{"$f":"DZ2+1","v":131},132,133,134,135,136,137,138,139,140,141,142,143,144,145,146,147,148,149,150]
[{"$f":"IF(KELAS!A3=\"\",\"\",KELAS!A3)","v":1},{"$f":"IF(KELAS!B3=\"\",\"\",KELAS!B3)","v":12429},{"$f":"IF(KELAS!C3=\"\",\"\",KELAS!C3)","v":"AHDHIAT PURBO ALAM"},{"$f":"IF(KELAS!D3=\"\",\"\",KELAS!D3)","v":"L"},{"$f":"IF(KELAS!E3=\"\",\"\",KELAS!E3)","v":"7.A"},{"$f":"IF(KELAS!F3=\"\",\"\",KELAS!F3)","v":"Islam"},{"$f":"IF(KELAS!G3=\"\",\"\",KELAS!G3)","v":9981514090},{"$f":"IF(KELAS!H3=\"\",\"\",KELAS!H3)","v":"Wonosobo, 03 Oktober 1998"},{"$f":"IF(KELAS!I3=\"\",\"\",KELAS!I3)","v":"Nurkhabib Afp"},{"$f":"IF(KELAS!J3=\"\",\"\",KELAS!J3)","v":"Pns"},{"$f":"IF(KELAS!K3=\"\",\"\",KELAS!K3)","v":"Pudji Sugianti"},{"$f":"IF(KELAS!L3=\"\",\"\",KELAS!L3)","v":"Ibu Rumah Tangga"},{"$f":"IF(KELAS!M3=\"\",\"\",KELAS!M3)","v":"Budan RT.05 RW.04, Pecekelan, Sapuran, Wsb"},{"$f":"IF(KELAS!N3=\"\",\"\",KELAS!N3)","v":"SMPN 2 WONOSOBO"},{"$f":"IF(KELAS!O3=\"\",\"\",KELAS!O3)","v":2},{"$f":"IF(KELAS!P3=\"\",\"\",KELAS!P3)","v":"Anak Kandung"},{"$f":"IF(KELAS!Q3=\"\",\"\",TEXT(KELAS!Q3,\"0,00\"))","v":""},{"$f":"IF(KELAS!R3=\"\",\"\",KELAS!R3)","v":""},{"$f":"IF(KELAS!S3=\"\",\"\",KELAS!S3)","v":""},{"$f":"IF(KELAS!T3=\"\",\"\",TEXT(KELAS!T3,\"0,00\"))","v":""},{"$f":"IF(KELAS!U3=\"\",\"\",KELAS!U3)","v":""},{"$f":"IF(KELAS!V3=\"\",\"\",KELAS!V3)","v":""},{"$f":"IF(KELAS!W3=\"\",\"\",KELAS!W3)","v":""},{"$f":"IF(KELAS!X3=\"\",\"\",KELAS!X3)","v":""},{"$f":"IF(KELAS!Y3=\"\",\"\",TEXT(KELAS!Y3,\"0,00\"))","v":""},{"$f":"IF(KELAS!Z3=\"\",\"\",KELAS!Z3)","v":""},{"$f":"IF(KELAS!AA3=\"\",\"\",KELAS!AA3)","v":""},{"$f":"IF(KELAS!AB3=\"\",\"\",TEXT(KELAS!AB3,\"0,00\"))","v":""},{"$f":"IF(KELAS!AC3=\"\",\"\",KELAS!AC3)","v":""},{"$f":"IF(KELAS!AD3=\"\",\"\",KELAS!AD3)","v":""},{"$f":"IF(KELAS!AE3=\"\",\"\",KELAS!AE3)","v":""},{"$f":"IF(KELAS!AF3=\"\",\"\",KELAS!AF3)","v":""},{"$f":"IF(KELAS!AG3=\"\",\"\",KELAS!AG3)","v":""},{"$f":"IF(KELAS!AH3=\"\",\"\",TEXT(KELAS!AH3,\"0,00\"))","v":""},{"$f":"IF(KELAS!AI3=\"\",\"\",KELAS!AI3)","v":""},{"$f":"IF(KELAS!AJ3=\"\",\"\",KELAS!AJ3)","v":""},{"$f":"IF(KELAS!AK3=\"\",\"\",TEXT(KELAS!AK3,\"0,00\"))","v":""},{"$f":"IF(KELAS!AL3=\"\",\"\",KELAS!AL3)","v":""},{"$f":"IF(KELAS!AM3=\"\",\"\",KELAS!AM3)","v":""},{"$f":"IF(KELAS!AN3=\"\",\"\",KELAS!AN3)","v":""},{"$f":"IF(KELAS!AO3=\"\",\"\",KELAS!AO3)","v":""},{"$f":"IF(KELAS!AP3=\"\",\"\",KELAS!AP3)","v":""},{"$f":"IF(KELAS!AQ3=\"\",\"\",TEXT(KELAS!AQ3,\"0,00\"))","v":""},{"$f":"IF(KELAS!AR3=\"\",\"\",KELAS!AR3)","v":""},{"$f":"IF(KELAS!AS3=\"\",\"\",KELAS!AS3)","v":""},{"$f":"IF(KELAS!AT3=\"\",\"\",TEXT(KELAS!AT3,\"0,00\"))","v":""},{"$f":"IF(KELAS!AU3=\"\",\"\",KELAS!AU3)","v":""},{"$f":"IF(KELAS!AV3=\"\",\"\",KELAS!AV3)","v":""},{"$f":"IF(KELAS!AW3=\"\",\"\",KELAS!AW3)","v":""},{"$f":"IF(KELAS!AX3=\"\",\"\",KELAS!AX3)","v":""},{"$f":"IF(KELAS!AY3=\"\",\"\",KELAS!AY3)","v":""},{"$f":"IF(KELAS!AZ3=\"\",\"\",TEXT(KELAS!AZ3,\"0,00\"))","v":""},{"$f":"IF(KELAS!BA3=\"\",\"\",KELAS!BA3)","v":""},{"$f":"IF(KELAS!BB3=\"\",\"\",KELAS!BB3)","v":""},{"$f":"IF(KELAS!BC3=\"\",\"\",TEXT(KELAS!BC3,\"0,00\"))","v":""},{"$f":"IF(KELAS!BD3=\"\",\"\",KELAS!BD3)","v":""},{"$f":"IF(KELAS!BE3=\"\",\"\",KELAS!BE3)","v":""},{"$f":"IF(KELAS!BF3=\"\",\"\",KELAS!BF3)","v":""},{"$f":"IF(KELAS!BG3=\"\",\"\",KELAS!BG3)","v":""},{"$f":"IF(KELAS!BH3=\"\",\"\",KELAS!BH3)","v":""},{"$f":"IF(KELAS!BI3=\"\",\"\",TEXT(KELAS!BI3,\"0,00\"))","v":""},{"$f":"IF(KELAS!BJ3=\"\",\"\",KELAS!BJ3)","v":""},{"$f":"IF(KELAS!BK3=\"\",\"\",KELAS!BK3)","v":""},{"$f":"IF(KELAS!BL3=\"\",\"\",TEXT(KELAS!BL3,\"0,00\"))","v":""},{"$f":"IF(KELAS!BM3=\"\",\"\",KELAS!BM3)","v":""},{"$f":"IF(KELAS!BN3=\"\",\"\",KELAS!BN3)","v":""},{"$f":"IF(KELAS!BO3=\"\",\"\",KELAS!BO3)","v":""},{"$f":"IF(KELAS!BP3=\"\",\"\",KELAS!BP3)","v":""},{"$f":"IF(KELAS!BQ3=\"\",\"\",KELAS!BQ3)","v":""},{"$f":"IF(KELAS!BR3=\"\",\"\",TEXT(KELAS!BR3,\"0,00\"))","v":""},{"$f":"IF(KELAS!BS3=\"\",\"\",KELAS!BS3)","v":""},{"$f":"IF(KELAS!BT3=\"\",\"\",KELAS!BT3)","v":""},{"$f":"IF(KELAS!BU3=\"\",\"\",TEXT(KELAS!BU3,\"0,00\"))","v":""},{"$f":"IF(KELAS!BV3=\"\",\"\",KELAS!BV3)","v":""},{"$f":"IF(KELAS!BW3=\"\",\"\",KELAS!BW3)","v":""},{"$f":"IF(KELAS!BX3=\"\",\"\",KELAS!BX3)","v":""},{"$f":"IF(KELAS!BY3=\"\",\"\",KELAS!BY3)","v":""},{"$f":"IF(KELAS!BZ3=\"\",\"\",KELAS!BZ3)","v":""},{"$f":"IF(KELAS!CA3=\"\",\"\",TEXT(KELAS!CA3,\"0,00\"))","v":""},{"$f":"IF(KELAS!CB3=\"\",\"\",KELAS!CB3)","v":""},{"$f":"IF(KELAS!CC3=\"\",\"\",KELAS!CC3)","v":""},{"$f":"IF(KELAS!CD3=\"\",\"\",TEXT(KELAS!CD3,\"0,00\"))","v":""},{"$f":"IF(KELAS!CE3=\"\",\"\",KELAS!CE3)","v":""},{"$f":"IF(KELAS!CF3=\"\",\"\",KELAS!CF3)","v":""},{"$f":"IF(KELAS!CG3=\"\",\"\",KELAS!CG3)","v":""},{"$f":"IF(KELAS!CH3=\"\",\"\",KELAS!CH3)","v":""},{"$f":"IF(KELAS!CI3=\"\",\"\",KELAS!CI3)","v":""},{"$f":"IF(KELAS!CJ3=\"\",\"\",TEXT(KELAS!CJ3,\"0,00\"))","v":""},{"$f":"IF(KELAS!CK3=\"\",\"\",KELAS!CK3)","v":""},{"$f":"IF(KELAS!CL3=\"\",\"\",KELAS!CL3)","v":""},{"$f":"IF(KELAS!CM3=\"\",\"\",TEXT(KELAS!CM3,\"0,00\"))","v":""},{"$f":"IF(KELAS!CN3=\"\",\"\",KELAS!CN3)","v":""},{"$f":"IF(KELAS!CO3=\"\",\"\",KELAS!CO3)","v":""},{"$f":"IF(KELAS!CP3=\"\",\"\",KELAS!CP3)","v":""},{"$f":"IF(KELAS!CQ3=\"\",\"\",KELAS!CQ3)","v":""},{"$f":"IF(KELAS!CR3=\"\",\"\",KELAS!CR3)","v":""},{"$f":"IF(KELAS!CS3=\"\",\"\",TEXT(KELAS!CS3,\"0,00\"))","v":""},{"$f":"IF(KELAS!CT3=\"\",\"\",KELAS!CT3)","v":""},{"$f":"IF(KELAS!CU3=\"\",\"\",KELAS!CU3)","v":""},{"$f":"IF(KELAS!CV3=\"\",\"\",TEXT(KELAS!CV3,\"0,00\"))","v":""},{"$f":"IF(KELAS!CW3=\"\",\"\",KELAS!CW3)","v":""},{"$f":"IF(KELAS!CX3=\"\",\"\",KELAS!CX3)","v":""},{"$f":"IF(KELAS!CY3=\"\",\"\",KELAS!CY3)","v":""},{"$f":"IF(KELAS!CZ3=\"\",\"\",KELAS!CZ3)","v":""},{"$f":"IF(KELAS!DA3=\"\",\"\",KELAS!DA3)","v":""},{"$f":"IF(KELAS!DB3=\"\",\"\",TEXT(KELAS!DB3,\"0,00\"))","v":""},{"$f":"IF(KELAS!DC3=\"\",\"\",KELAS!DC3)","v":""},{"$f":"IF(KELAS!DD3=\"\",\"\",KELAS!DD3)","v":""},{"$f":"IF(KELAS!DE3=\"\",\"\",TEXT(KELAS!DE3,\"0,00\"))","v":""},{"$f":"IF(KELAS!DF3=\"\",\"\",KELAS!DF3)","v":""},{"$f":"IF(KELAS!DG3=\"\",\"\",KELAS!DG3)","v":""},{"$f":"IF(KELAS!DH3=\"\",\"\",KELAS!DH3)","v":""},{"$f":"IF(KELAS!DI3=\"\",\"\",KELAS!DI3)","v":""},{"$f":"IF(KELAS!DJ3=\"\",\"\",KELAS!DJ3)","v":""},{"$f":"IF(KELAS!DK3=\"\",\"\",KELAS!DK3)","v":2},{"$f":"IF(KELAS!DL3=\"\",\"\",KELAS!DL3)","v":3},{"$f":"IF(KELAS!DM3=\"\",\"\",KELAS!DM3)","v":1},{"$f":"IF(KELAS!DN3=\"\",\"\",KELAS!DN3)","v":1},{"$f":"IF(KELAS!DO3=\"\",\"\",KELAS!DO3)","v":5},{"$f":"IF(KELAS!DP3=\"\",\"\",KELAS!DP3)","v":""},{"$f":"IF(KELAS!DQ3=\"\",\"\",KELAS!DQ3)","v":"Fotografi"},{"$f":"IF(KELAS!DR3=\"\",\"\",KELAS!DR3)","v":""},{"$f":"IF(KELAS!DS3=\"\",\"\",KELAS!DS3)","v":1},{"$f":"IF(KELAS!DT3=\"\",\"\",KELAS!DT3)","v":""},{"$f":"IF(KELAS!DU3=\"\",\"\",KELAS!DU3)","v":"Marching Band"},{"$f":"IF(KELAS!DV3=\"\",\"\",KELAS!DV3)","v":""},{"$f":"IF(KELAS!DW3=\"\",\"\",KELAS!DW3)","v":1},{"$f":"IF(KELAS!DX3=\"\",\"\",KELAS!DX3)","v":""},{"$f":"IF(KELAS!DY3=\"\",\"\",KELAS!DY3)","v":"Marching Band"},{"$f":"IF(KELAS!DZ3=\"\",\"\",KELAS!DZ3)","v":""},{"$f":"IF(KELAS!EA3=\"\",\"\",KELAS!EA3)","v":"2 ( dua )"},{"$f":"IF(KELAS!EB3=\"\",\"\",KELAS!EB3)","v":"3 ( tiga )"},{"$f":"IF(KELAS!EC3=\"\",\"\",KELAS!EC3)","v":"1 ( satu )"},{"$f":"IF(KELAS!ED3=\"\",\"\",KELAS!ED3)","v":"1 ( satu )"},{"$f":"IF(KELAS!EE3=\"\",\"\",KELAS!EE3)","v":""},{"$f":"IF(KELAS!EF3=\"\",\"\",KELAS!EF3)","v":""},{"$f":"IF(KELAS!EG3=\"\",\"\",KELAS!EG3)","v":"Peserta didik menunjukan sikap sungguh-sungguh dalam menerapkan sikap santun, jujur dan kerjasama, namun masih perlu ditingkatkan lagi sikap percaya diri dan ketepatan masuk sekolah"},{"$f":"IF(KELAS!EH3=\"\",\"\",KELAS!EH3)","v":"Dhany Suryanto, S.Pd."},{"$f":"IF(KELAS!EI3=\"\",\"\",KELAS!EI3)","v":"jika punya NIP isikan di sini"},{"$f":"IF(KELAS!EJ3=\"\",\"\",KELAS!EJ3)","v":0},{"$f":"IF(KELAS!EK3=\"\",\"\",KELAS!EK3)","v":""},{"$f":"IF(KELAS!EL3=\"\",\"\",KELAS!EL3)","v":""},{"$f":"IF(KELAS!EM3=\"\",\"\",KELAS!EM3)","v":""},{"$f":"IF(KELAS!EN3=\"\",\"\",KELAS!EN3)","v":""},{"$f":"IF(KELAS!EO3=\"\",\"\",KELAS!EO3)","v":""},{"$f":"IF(KELAS!EP3=\"\",\"\",KELAS!EP3)","v":""},{"$f":"IF(KELAS!EQ3=\"\",\"\",KELAS!EQ3)","v":""},{"$f":"IF(KELAS!ER3=\"\",\"\",KELAS!ER3)","v":""},{"$f":"IF(KELAS!ES3=\"\",\"\",KELAS!ES3)","v":""},{"$f":"IF(KELAS!ET3=\"\",\"\",KELAS!ET3)","v":""}]
[{"$f":"IF(KELAS!A4=\"\",\"\",KELAS!A4)","v":2},{"$f":"IF(KELAS!B4=\"\",\"\",KELAS!B4)","v":12441},{"$f":"IF(KELAS!C4=\"\",\"\",KELAS!C4)","v":"ALIF RAHMAYANTO"},{"$f":"IF(KELAS!D4=\"\",\"\",KELAS!D4)","v":"L"},{"$f":"IF(KELAS!E4=\"\",\"\",KELAS!E4)","v":"7.A"},{"$f":"IF(KELAS!F4=\"\",\"\",KELAS!F4)","v":"Islam"},{"$f":"IF(KELAS!G4=\"\",\"\",KELAS!G4)","v":9971517000},{"$f":"IF(KELAS!H4=\"\",\"\",KELAS!H4)","v":"Wonosobo, 17 Januari 1998"},{"$f":"IF(KELAS!I4=\"\",\"\",KELAS!I4)","v":"Suyanto"},{"$f":"IF(KELAS!J4=\"\",\"\",KELAS!J4)","v":"Buruh Harian Lepas"},{"$f":"IF(KELAS!K4=\"\",\"\",KELAS!K4)","v":"Rokhmah"},{"$f":"IF(KELAS!L4=\"\",\"\",KELAS!L4)","v":"Pedagang"},{"$f":"IF(KELAS!M4=\"\",\"\",KELAS!M4)","v":"Garung RT.01 RW.03, Wsb"},{"$f":"IF(KELAS!N4=\"\",\"\",KELAS!N4)","v":"SMPN 1 GARUNG"},{"$f":"IF(KELAS!O4=\"\",\"\",KELAS!O4)","v":1},{"$f":"IF(KELAS!P4=\"\",\"\",KELAS!P4)","v":"Anak Kandung"},{"$f":"IF(KELAS!Q4=\"\",\"\",TEXT(KELAS!Q4,\"0,00\"))","v":""},{"$f":"IF(KELAS!R4=\"\",\"\",KELAS!R4)","v":""},{"$f":"IF(KELAS!S4=\"\",\"\",KELAS!S4)","v":""},{"$f":"IF(KELAS!T4=\"\",\"\",TEXT(KELAS!T4,\"0,00\"))","v":""},{"$f":"IF(KELAS!U4=\"\",\"\",KELAS!U4)","v":""},{"$f":"IF(KELAS!V4=\"\",\"\",KELAS!V4)","v":""},{"$f":"IF(KELAS!W4=\"\",\"\",KELAS!W4)","v":""},{"$f":"IF(KELAS!X4=\"\",\"\",KELAS!X4)","v":""},{"$f":"IF(KELAS!Y4=\"\",\"\",TEXT(KELAS!Y4,\"0,00\"))","v":""},{"$f":"IF(KELAS!Z4=\"\",\"\",KELAS!Z4)","v":""},{"$f":"IF(KELAS!AA4=\"\",\"\",KELAS!AA4)","v":""},{"$f":"IF(KELAS!AB4=\"\",\"\",TEXT(KELAS!AB4,\"0,00\"))","v":""},{"$f":"IF(KELAS!AC4=\"\",\"\",KELAS!AC4)","v":""},{"$f":"IF(KELAS!AD4=\"\",\"\",KELAS!AD4)","v":""},{"$f":"IF(KELAS!AE4=\"\",\"\",KELAS!AE4)","v":""},{"$f":"IF(KELAS!AF4=\"\",\"\",KELAS!AF4)","v":""},{"$f":"IF(KELAS!AG4=\"\",\"\",KELAS!AG4)","v":""},{"$f":"IF(KELAS!AH4=\"\",\"\",TEXT(KELAS!AH4,\"0,00\"))","v":""},{"$f":"IF(KELAS!AI4=\"\",\"\",KELAS!AI4)","v":""},{"$f":"IF(KELAS!AJ4=\"\",\"\",KELAS!AJ4)","v":""},{"$f":"IF(KELAS!AK4=\"\",\"\",TEXT(KELAS!AK4,\"0,00\"))","v":""},{"$f":"IF(KELAS!AL4=\"\",\"\",KELAS!AL4)","v":""},{"$f":"IF(KELAS!AM4=\"\",\"\",KELAS!AM4)","v":""},{"$f":"IF(KELAS!AN4=\"\",\"\",KELAS!AN4)","v":""},{"$f":"IF(KELAS!AO4=\"\",\"\",KELAS!AO4)","v":""},{"$f":"IF(KELAS!AP4=\"\",\"\",KELAS!AP4)","v":""},{"$f":"IF(KELAS!AQ4=\"\",\"\",TEXT(KELAS!AQ4,\"0,00\"))","v":""},{"$f":"IF(KELAS!AR4=\"\",\"\",KELAS!AR4)","v":""},{"$f":"IF(KELAS!AS4=\"\",\"\",KELAS!AS4)","v":""},{"$f":"IF(KELAS!AT4=\"\",\"\",TEXT(KELAS!AT4,\"0,00\"))","v":""},{"$f":"IF(KELAS!AU4=\"\",\"\",KELAS!AU4)","v":""},{"$f":"IF(KELAS!AV4=\"\",\"\",KELAS!AV4)","v":""},{"$f":"IF(KELAS!AW4=\"\",\"\",KELAS!AW4)","v":""},{"$f":"IF(KELAS!AX4=\"\",\"\",KELAS!AX4)","v":""},{"$f":"IF(KELAS!AY4=\"\",\"\",KELAS!AY4)","v":""},{"$f":"IF(KELAS!AZ4=\"\",\"\",TEXT(KELAS!AZ4,\"0,00\"))","v":""},{"$f":"IF(KELAS!BA4=\"\",\"\",KELAS!BA4)","v":""},{"$f":"IF(KELAS!BB4=\"\",\"\",KELAS!BB4)","v":""},{"$f":"IF(KELAS!BC4=\"\",\"\",TEXT(KELAS!BC4,\"0,00\"))","v":""},{"$f":"IF(KELAS!BD4=\"\",\"\",KELAS!BD4)","v":""},{"$f":"IF(KELAS!BE4=\"\",\"\",KELAS!BE4)","v":""},{"$f":"IF(KELAS!BF4=\"\",\"\",KELAS!BF4)","v":""},{"$f":"IF(KELAS!BG4=\"\",\"\",KELAS!BG4)","v":""},{"$f":"IF(KELAS!BH4=\"\",\"\",KELAS!BH4)","v":""},{"$f":"IF(KELAS!BI4=\"\",\"\",TEXT(KELAS!BI4,\"0,00\"))","v":""},{"$f":"IF(KELAS!BJ4=\"\",\"\",KELAS!BJ4)","v":""},{"$f":"IF(KELAS!BK4=\"\",\"\",KELAS!BK4)","v":""},{"$f":"IF(KELAS!BL4=\"\",\"\",TEXT(KELAS!BL4,\"0,00\"))","v":""},{"$f":"IF(KELAS!BM4=\"\",\"\",KELAS!BM4)","v":""},{"$f":"IF(KELAS!BN4=\"\",\"\",KELAS!BN4)","v":""},{"$f":"IF(KELAS!BO4=\"\",\"\",KELAS!BO4)","v":""},{"$f":"IF(KELAS!BP4=\"\",\"\",KELAS!BP4)","v":""},{"$f":"IF(KELAS!BQ4=\"\",\"\",KELAS!BQ4)","v":""},{"$f":"IF(KELAS!BR4=\"\",\"\",TEXT(KELAS!BR4,\"0,00\"))","v":""},{"$f":"IF(KELAS!BS4=\"\",\"\",KELAS!BS4)","v":""},{"$f":"IF(KELAS!BT4=\"\",\"\",KELAS!BT4)","v":""},{"$f":"IF(KELAS!BU4=\"\",\"\",TEXT(KELAS!BU4,\"0,00\"))","v":""},{"$f":"IF(KELAS!BV4=\"\",\"\",KELAS!BV4)","v":""},{"$f":"IF(KELAS!BW4=\"\",\"\",KELAS!BW4)","v":""},{"$f":"IF(KELAS!BX4=\"\",\"\",KELAS!BX4)","v":""},{"$f":"IF(KELAS!BY4=\"\",\"\",KELAS!BY4)","v":""},{"$f":"IF(KELAS!BZ4=\"\",\"\",KELAS!BZ4)","v":""},{"$f":"IF(KELAS!CA4=\"\",\"\",TEXT(KELAS!CA4,\"0,00\"))","v":""},{"$f":"IF(KELAS!CB4=\"\",\"\",KELAS!CB4)","v":""},{"$f":"IF(KELAS!CC4=\"\",\"\",KELAS!CC4)","v":""},{"$f":"IF(KELAS!CD4=\"\",\"\",TEXT(KELAS!CD4,\"0,00\"))","v":""},{"$f":"IF(KELAS!CE4=\"\",\"\",KELAS!CE4)","v":""},{"$f":"IF(KELAS!CF4=\"\",\"\",KELAS!CF4)","v":""},{"$f":"IF(KELAS!CG4=\"\",\"\",KELAS!CG4)","v":""},{"$f":"IF(KELAS!CH4=\"\",\"\",KELAS!CH4)","v":""},{"$f":"IF(KELAS!CI4=\"\",\"\",KELAS!CI4)","v":""},{"$f":"IF(KELAS!CJ4=\"\",\"\",TEXT(KELAS!CJ4,\"0,00\"))","v":""},{"$f":"IF(KELAS!CK4=\"\",\"\",KELAS!CK4)","v":""},{"$f":"IF(KELAS!CL4=\"\",\"\",KELAS!CL4)","v":""},{"$f":"IF(KELAS!CM4=\"\",\"\",TEXT(KELAS!CM4,\"0,00\"))","v":""},{"$f":"IF(KELAS!CN4=\"\",\"\",KELAS!CN4)","v":""},{"$f":"IF(KELAS!CO4=\"\",\"\",KELAS!CO4)","v":""},{"$f":"IF(KELAS!CP4=\"\",\"\",KELAS!CP4)","v":""},{"$f":"IF(KELAS!CQ4=\"\",\"\",KELAS!CQ4)","v":""},{"$f":"IF(KELAS!CR4=\"\",\"\",KELAS!CR4)","v":""},{"$f":"IF(KELAS!CS4=\"\",\"\",TEXT(KELAS!CS4,\"0,00\"))","v":""},{"$f":"IF(KELAS!CT4=\"\",\"\",KELAS!CT4)","v":""},{"$f":"IF(KELAS!CU4=\"\",\"\",KELAS!CU4)","v":""},{"$f":"IF(KELAS!CV4=\"\",\"\",TEXT(KELAS!CV4,\"0,00\"))","v":""},{"$f":"IF(KELAS!CW4=\"\",\"\",KELAS!CW4)","v":""},{"$f":"IF(KELAS!CX4=\"\",\"\",KELAS!CX4)","v":""},{"$f":"IF(KELAS!CY4=\"\",\"\",KELAS!CY4)","v":""},{"$f":"IF(KELAS!CZ4=\"\",\"\",KELAS!CZ4)","v":""},{"$f":"IF(KELAS!DA4=\"\",\"\",KELAS!DA4)","v":""},{"$f":"IF(KELAS!DB4=\"\",\"\",TEXT(KELAS!DB4,\"0,00\"))","v":""},{"$f":"IF(KELAS!DC4=\"\",\"\",KELAS!DC4)","v":""},{"$f":"IF(KELAS!DD4=\"\",\"\",KELAS!DD4)","v":""},{"$f":"IF(KELAS!DE4=\"\",\"\",TEXT(KELAS!DE4,\"0,00\"))","v":""},{"$f":"IF(KELAS!DF4=\"\",\"\",KELAS!DF4)","v":""},{"$f":"IF(KELAS!DG4=\"\",\"\",KELAS!DG4)","v":""},{"$f":"IF(KELAS!DH4=\"\",\"\",KELAS!DH4)","v":""},{"$f":"IF(KELAS!DI4=\"\",\"\",KELAS!DI4)","v":""},{"$f":"IF(KELAS!DJ4=\"\",\"\",KELAS!DJ4)","v":""},{"$f":"IF(KELAS!DK4=\"\",\"\",KELAS!DK4)","v":2},{"$f":"IF(KELAS!DL4=\"\",\"\",KELAS!DL4)","v":1},{"$f":"IF(KELAS!DM4=\"\",\"\",KELAS!DM4)","v":3},{"$f":"IF(KELAS!DN4=\"\",\"\",KELAS!DN4)","v":2},{"$f":"IF(KELAS!DO4=\"\",\"\",KELAS!DO4)","v":""},{"$f":"IF(KELAS!DP4=\"\",\"\",KELAS!DP4)","v":""},{"$f":"IF(KELAS!DQ4=\"\",\"\",KELAS!DQ4)","v":""},{"$f":"IF(KELAS!DR4=\"\",\"\",KELAS!DR4)","v":""},{"$f":"IF(KELAS!DS4=\"\",\"\",KELAS!DS4)","v":""},{"$f":"IF(KELAS!DT4=\"\",\"\",KELAS!DT4)","v":""},{"$f":"IF(KELAS!DU4=\"\",\"\",KELAS!DU4)","v":""},{"$f":"IF(KELAS!DV4=\"\",\"\",KELAS!DV4)","v":""},{"$f":"IF(KELAS!DW4=\"\",\"\",KELAS!DW4)","v":""},{"$f":"IF(KELAS!DX4=\"\",\"\",KELAS!DX4)","v":""},{"$f":"IF(KELAS!DY4=\"\",\"\",KELAS!DY4)","v":""},{"$f":"IF(KELAS!DZ4=\"\",\"\",KELAS!DZ4)","v":""},{"$f":"IF(KELAS!EA4=\"\",\"\",KELAS!EA4)","v":"2 ( dua )"},{"$f":"IF(KELAS!EB4=\"\",\"\",KELAS!EB4)","v":"1 ( satu )"},{"$f":"IF(KELAS!EC4=\"\",\"\",KELAS!EC4)","v":"3 ( tiga )"},{"$f":"IF(KELAS!ED4=\"\",\"\",KELAS!ED4)","v":"2 ( dua )"},{"$f":"IF(KELAS!EE4=\"\",\"\",KELAS!EE4)","v":""},{"$f":"IF(KELAS!EF4=\"\",\"\",KELAS!EF4)","v":""},{"$f":"IF(KELAS!EG4=\"\",\"\",KELAS!EG4)","v":"Peserta didik menunjukan sikap sungguh-sungguh dalam menerapkan sikap santun, jujur dan kerjasama, namun masih perlu ditingkatkan lagi sikap percaya diri dan ketepatan masuk sekolah"},{"$f":"IF(KELAS!EH4=\"\",\"\",KELAS!EH4)","v":"Dhany Suryanto, S.Pd."},{"$f":"IF(KELAS!EI4=\"\",\"\",KELAS!EI4)","v":"jika punya NIP isikan di sini"},{"$f":"IF(KELAS!EJ4=\"\",\"\",KELAS!EJ4)","v":0},{"$f":"IF(KELAS!EK4=\"\",\"\",KELAS!EK4)","v":0},{"$f":"IF(KELAS!EL4=\"\",\"\",KELAS!EL4)","v":0},{"$f":"IF(KELAS!EM4=\"\",\"\",KELAS!EM4)","v":0},{"$f":"IF(KELAS!EN4=\"\",\"\",KELAS!EN4)","v":0},{"$f":"IF(KELAS!EO4=\"\",\"\",KELAS!EO4)","v":0},{"$f":"IF(KELAS!EP4=\"\",\"\",KELAS!EP4)","v":0},{"$f":"IF(KELAS!EQ4=\"\",\"\",KELAS!EQ4)","v":0},{"$f":"IF(KELAS!ER4=\"\",\"\",KELAS!ER4)","v":0},{"$f":"IF(KELAS!ES4=\"\",\"\",KELAS!ES4)","v":0},{"$f":"IF(KELAS!ET4=\"\",\"\",KELAS!ET4)","v":0}]
[{"$f":"IF(KELAS!A5=\"\",\"\",KELAS!A5)","v":3},{"$f":"IF(KELAS!B5=\"\",\"\",KELAS!B5)","v":12442},{"$f":"IF(KELAS!C5=\"\",\"\",KELAS!C5)","v":"ALIF SUTRISNA SAPUTRA"},{"$f":"IF(KELAS!D5=\"\",\"\",KELAS!D5)","v":"L"},{"$f":"IF(KELAS!E5=\"\",\"\",KELAS!E5)","v":"7.A"},{"$f":"IF(KELAS!F5=\"\",\"\",KELAS!F5)","v":"Islam"},{"$f":"IF(KELAS!G5=\"\",\"\",KELAS!G5)","v":9981512974},{"$f":"IF(KELAS!H5=\"\",\"\",KELAS!H5)","v":"Wonosobo, 26 Maret 1998"},{"$f":"IF(KELAS!I5=\"\",\"\",KELAS!I5)","v":"Pujo Suryanto"},{"$f":"IF(KELAS!J5=\"\",\"\",KELAS!J5)","v":"Karyawan Swasta"},{"$f":"IF(KELAS!K5=\"\",\"\",KELAS!K5)","v":"Suprihati"},{"$f":"IF(KELAS!L5=\"\",\"\",KELAS!L5)","v":"Perawat"},{"$f":"IF(KELAS!M5=\"\",\"\",KELAS!M5)","v":"Bugangan Utara RT.02 RW.04, Kalianget, Wsb"},{"$f":"IF(KELAS!N5=\"\",\"\",KELAS!N5)","v":"SMP MUHAMMADIYAH 1 WONOSOBO"},{"$f":"IF(KELAS!O5=\"\",\"\",KELAS!O5)","v":1},{"$f":"IF(KELAS!P5=\"\",\"\",KELAS!P5)","v":"Anak Kandung"},{"$f":"IF(KELAS!Q5=\"\",\"\",TEXT(KELAS!Q5,\"0,00\"))","v":""},{"$f":"IF(KELAS!R5=\"\",\"\",KELAS!R5)","v":""},{"$f":"IF(KELAS!S5=\"\",\"\",KELAS!S5)","v":""},{"$f":"IF(KELAS!T5=\"\",\"\",TEXT(KELAS!T5,\"0,00\"))","v":""},{"$f":"IF(KELAS!U5=\"\",\"\",KELAS!U5)","v":""},{"$f":"IF(KELAS!V5=\"\",\"\",KELAS!V5)","v":""},{"$f":"IF(KELAS!W5=\"\",\"\",KELAS!W5)","v":""},{"$f":"IF(KELAS!X5=\"\",\"\",KELAS!X5)","v":""},{"$f":"IF(KELAS!Y5=\"\",\"\",TEXT(KELAS!Y5,\"0,00\"))","v":""},{"$f":"IF(KELAS!Z5=\"\",\"\",KELAS!Z5)","v":""},{"$f":"IF(KELAS!AA5=\"\",\"\",KELAS!AA5)","v":""},{"$f":"IF(KELAS!AB5=\"\",\"\",TEXT(KELAS!AB5,\"0,00\"))","v":""},{"$f":"IF(KELAS!AC5=\"\",\"\",KELAS!AC5)","v":""},{"$f":"IF(KELAS!AD5=\"\",\"\",KELAS!AD5)","v":""},{"$f":"IF(KELAS!AE5=\"\",\"\",KELAS!AE5)","v":""},{"$f":"IF(KELAS!AF5=\"\",\"\",KELAS!AF5)","v":""},{"$f":"IF(KELAS!AG5=\"\",\"\",KELAS!AG5)","v":""},{"$f":"IF(KELAS!AH5=\"\",\"\",TEXT(KELAS!AH5,\"0,00\"))","v":""},{"$f":"IF(KELAS!AI5=\"\",\"\",KELAS!AI5)","v":""},{"$f":"IF(KELAS!AJ5=\"\",\"\",KELAS!AJ5)","v":""},{"$f":"IF(KELAS!AK5=\"\",\"\",TEXT(KELAS!AK5,\"0,00\"))","v":""},{"$f":"IF(KELAS!AL5=\"\",\"\",KELAS!AL5)","v":""},{"$f":"IF(KELAS!AM5=\"\",\"\",KELAS!AM5)","v":""},{"$f":"IF(KELAS!AN5=\"\",\"\",KELAS!AN5)","v":""},{"$f":"IF(KELAS!AO5=\"\",\"\",KELAS!AO5)","v":""},{"$f":"IF(KELAS!AP5=\"\",\"\",KELAS!AP5)","v":""},{"$f":"IF(KELAS!AQ5=\"\",\"\",TEXT(KELAS!AQ5,\"0,00\"))","v":""},{"$f":"IF(KELAS!AR5=\"\",\"\",KELAS!AR5)","v":""},{"$f":"IF(KELAS!AS5=\"\",\"\",KELAS!AS5)","v":""},{"$f":"IF(KELAS!AT5=\"\",\"\",TEXT(KELAS!AT5,\"0,00\"))","v":""},{"$f":"IF(KELAS!AU5=\"\",\"\",KELAS!AU5)","v":""},{"$f":"IF(KELAS!AV5=\"\",\"\",KELAS!AV5)","v":""},{"$f":"IF(KELAS!AW5=\"\",\"\",KELAS!AW5)","v":""},{"$f":"IF(KELAS!AX5=\"\",\"\",KELAS!AX5)","v":""},{"$f":"IF(KELAS!AY5=\"\",\"\",KELAS!AY5)","v":""},{"$f":"IF(KELAS!AZ5=\"\",\"\",TEXT(KELAS!AZ5,\"0,00\"))","v":""},{"$f":"IF(KELAS!BA5=\"\",\"\",KELAS!BA5)","v":""},{"$f":"IF(KELAS!BB5=\"\",\"\",KELAS!BB5)","v":""},{"$f":"IF(KELAS!BC5=\"\",\"\",TEXT(KELAS!BC5,\"0,00\"))","v":""},{"$f":"IF(KELAS!BD5=\"\",\"\",KELAS!BD5)","v":""},{"$f":"IF(KELAS!BE5=\"\",\"\",KELAS!BE5)","v":""},{"$f":"IF(KELAS!BF5=\"\",\"\",KELAS!BF5)","v":""},{"$f":"IF(KELAS!BG5=\"\",\"\",KELAS!BG5)","v":""},{"$f":"IF(KELAS!BH5=\"\",\"\",KELAS!BH5)","v":""},{"$f":"IF(KELAS!BI5=\"\",\"\",TEXT(KELAS!BI5,\"0,00\"))","v":""},{"$f":"IF(KELAS!BJ5=\"\",\"\",KELAS!BJ5)","v":""},{"$f":"IF(KELAS!BK5=\"\",\"\",KELAS!BK5)","v":""},{"$f":"IF(KELAS!BL5=\"\",\"\",TEXT(KELAS!BL5,\"0,00\"))","v":""},{"$f":"IF(KELAS!BM5=\"\",\"\",KELAS!BM5)","v":""},{"$f":"IF(KELAS!BN5=\"\",\"\",KELAS!BN5)","v":""},{"$f":"IF(KELAS!BO5=\"\",\"\",KELAS!BO5)","v":""},{"$f":"IF(KELAS!BP5=\"\",\"\",KELAS!BP5)","v":""},{"$f":"IF(KELAS!BQ5=\"\",\"\",KELAS!BQ5)","v":""},{"$f":"IF(KELAS!BR5=\"\",\"\",TEXT(KELAS!BR5,\"0,00\"))","v":""},{"$f":"IF(KELAS!BS5=\"\",\"\",KELAS!BS5)","v":""},{"$f":"IF(KELAS!BT5=\"\",\"\",KELAS!BT5)","v":""},{"$f":"IF(KELAS!BU5=\"\",\"\",TEXT(KELAS!BU5,\"0,00\"))","v":""},{"$f":"IF(KELAS!BV5=\"\",\"\",KELAS!BV5)","v":""},{"$f":"IF(KELAS!BW5=\"\",\"\",KELAS!BW5)","v":""},{"$f":"IF(KELAS!BX5=\"\",\"\",KELAS!BX5)","v":""},{"$f":"IF(KELAS!BY5=\"\",\"\",KELAS!BY5)","v":""},{"$f":"IF(KELAS!BZ5=\"\",\"\",KELAS!BZ5)","v":""},{"$f":"IF(KELAS!CA5=\"\",\"\",TEXT(KELAS!CA5,\"0,00\"))","v":""},{"$f":"IF(KELAS!CB5=\"\",\"\",KELAS!CB5)","v":""},{"$f":"IF(KELAS!CC5=\"\",\"\",KELAS!CC5)","v":""},{"$f":"IF(KELAS!CD5=\"\",\"\",TEXT(KELAS!CD5,\"0,00\"))","v":""},{"$f":"IF(KELAS!CE5=\"\",\"\",KELAS!CE5)","v":""},{"$f":"IF(KELAS!CF5=\"\",\"\",KELAS!CF5)","v":""},{"$f":"IF(KELAS!CG5=\"\",\"\",KELAS!CG5)","v":""},{"$f":"IF(KELAS!CH5=\"\",\"\",KELAS!CH5)","v":""},{"$f":"IF(KELAS!CI5=\"\",\"\",KELAS!CI5)","v":""},{"$f":"IF(KELAS!CJ5=\"\",\"\",TEXT(KELAS!CJ5,\"0,00\"))","v":""},{"$f":"IF(KELAS!CK5=\"\",\"\",KELAS!CK5)","v":""},{"$f":"IF(KELAS!CL5=\"\",\"\",KELAS!CL5)","v":""},{"$f":"IF(KELAS!CM5=\"\",\"\",TEXT(KELAS!CM5,\"0,00\"))","v":""},{"$f":"IF(KELAS!CN5=\"\",\"\",KELAS!CN5)","v":""},{"$f":"IF(KELAS!CO5=\"\",\"\",KELAS!CO5)","v":""},{"$f":"IF(KELAS!CP5=\"\",\"\",KELAS!CP5)","v":""},{"$f":"IF(KELAS!CQ5=\"\",\"\",KELAS!CQ5)","v":""},{"$f":"IF(KELAS!CR5=\"\",\"\",KELAS!CR5)","v":""},{"$f":"IF(KELAS!CS5=\"\",\"\",TEXT(KELAS!CS5,\"0,00\"))","v":""},{"$f":"IF(KELAS!CT5=\"\",\"\",KELAS!CT5)","v":""},{"$f":"IF(KELAS!CU5=\"\",\"\",KELAS!CU5)","v":""},{"$f":"IF(KELAS!CV5=\"\",\"\",TEXT(KELAS!CV5,\"0,00\"))","v":""},{"$f":"IF(KELAS!CW5=\"\",\"\",KELAS!CW5)","v":""},{"$f":"IF(KELAS!CX5=\"\",\"\",KELAS!CX5)","v":""},{"$f":"IF(KELAS!CY5=\"\",\"\",KELAS!CY5)","v":""},{"$f":"IF(KELAS!CZ5=\"\",\"\",KELAS!CZ5)","v":""},{"$f":"IF(KELAS!DA5=\"\",\"\",KELAS!DA5)","v":""},{"$f":"IF(KELAS!DB5=\"\",\"\",TEXT(KELAS!DB5,\"0,00\"))","v":""},{"$f":"IF(KELAS!DC5=\"\",\"\",KELAS!DC5)","v":""},{"$f":"IF(KELAS!DD5=\"\",\"\",KELAS!DD5)","v":""},{"$f":"IF(KELAS!DE5=\"\",\"\",TEXT(KELAS!DE5,\"0,00\"))","v":""},{"$f":"IF(KELAS!DF5=\"\",\"\",KELAS!DF5)","v":""},{"$f":"IF(KELAS!DG5=\"\",\"\",KELAS!DG5)","v":""},{"$f":"IF(KELAS!DH5=\"\",\"\",KELAS!DH5)","v":""},{"$f":"IF(KELAS!DI5=\"\",\"\",KELAS!DI5)","v":""},{"$f":"IF(KELAS!DJ5=\"\",\"\",KELAS!DJ5)","v":""},{"$f":"IF(KELAS!DK5=\"\",\"\",KELAS!DK5)","v":1},{"$f":"IF(KELAS!DL5=\"\",\"\",KELAS!DL5)","v":1},{"$f":"IF(KELAS!DM5=\"\",\"\",KELAS!DM5)","v":1},{"$f":"IF(KELAS!DN5=\"\",\"\",KELAS!DN5)","v":3},{"$f":"IF(KELAS!DO5=\"\",\"\",KELAS!DO5)","v":""},{"$f":"IF(KELAS!DP5=\"\",\"\",KELAS!DP5)","v":""},{"$f":"IF(KELAS!DQ5=\"\",\"\",KELAS!DQ5)","v":""},{"$f":"IF(KELAS!DR5=\"\",\"\",KELAS!DR5)","v":""},{"$f":"IF(KELAS!DS5=\"\",\"\",KELAS!DS5)","v":""},{"$f":"IF(KELAS!DT5=\"\",\"\",KELAS!DT5)","v":""},{"$f":"IF(KELAS!DU5=\"\",\"\",KELAS!DU5)","v":""},{"$f":"IF(KELAS!DV5=\"\",\"\",KELAS!DV5)","v":""},{"$f":"IF(KELAS!DW5=\"\",\"\",KELAS!DW5)","v":""},{"$f":"IF(KELAS!DX5=\"\",\"\",KELAS!DX5)","v":""},{"$f":"IF(KELAS!DY5=\"\",\"\",KELAS!DY5)","v":""},{"$f":"IF(KELAS!DZ5=\"\",\"\",KELAS!DZ5)","v":""},{"$f":"IF(KELAS!EA5=\"\",\"\",KELAS!EA5)","v":"1 ( satu )"},{"$f":"IF(KELAS!EB5=\"\",\"\",KELAS!EB5)","v":"1 ( satu )"},{"$f":"IF(KELAS!EC5=\"\",\"\",KELAS!EC5)","v":"1 ( satu )"},{"$f":"IF(KELAS!ED5=\"\",\"\",KELAS!ED5)","v":"3 ( tiga )"},{"$f":"IF(KELAS!EE5=\"\",\"\",KELAS!EE5)","v":""},{"$f":"IF(KELAS!EF5=\"\",\"\",KELAS!EF5)","v":""},{"$f":"IF(KELAS!EG5=\"\",\"\",KELAS!EG5)","v":"Peserta didik menunjukan sikap sungguh-sungguh dalam menerapkan sikap santun, jujur dan kerjasama, namun masih perlu ditingkatkan lagi sikap percaya diri dan ketepatan masuk sekolah"},{"$f":"IF(KELAS!EH5=\"\",\"\",KELAS!EH5)","v":"Dhany Suryanto, S.Pd."},{"$f":"IF(KELAS!EI5=\"\",\"\",KELAS!EI5)","v":"jika punya NIP isikan di sini"},{"$f":"IF(KELAS!EJ5=\"\",\"\",KELAS!EJ5)","v":0},{"$f":"IF(KELAS!EK5=\"\",\"\",KELAS!EK5)","v":0},{"$f":"IF(KELAS!EL5=\"\",\"\",KELAS!EL5)","v":0},{"$f":"IF(KELAS!EM5=\"\",\"\",KELAS!EM5)","v":0},{"$f":"IF(KELAS!EN5=\"\",\"\",KELAS!EN5)","v":0},{"$f":"IF(KELAS!EO5=\"\",\"\",KELAS!EO5)","v":0},{"$f":"IF(KELAS!EP5=\"\",\"\",KELAS!EP5)","v":0},{"$f":"IF(KELAS!EQ5=\"\",\"\",KELAS!EQ5)","v":0},{"$f":"IF(KELAS!ER5=\"\",\"\",KELAS!ER5)","v":0},{"$f":"IF(KELAS!ES5=\"\",\"\",KELAS!ES5)","v":0},{"$f":"IF(KELAS!ET5=\"\",\"\",KELAS!ET5)","v":0}]
[{"$f":"IF(KELAS!A6=\"\",\"\",KELAS!A6)","v":4},{"$f":"IF(KELAS!B6=\"\",\"\",KELAS!B6)","v":12452},{"$f":"IF(KELAS!C6=\"\",\"\",KELAS!C6)","v":"ANISA DWI SEPTIANI"},{"$f":"IF(KELAS!D6=\"\",\"\",KELAS!D6)","v":"P"},{"$f":"IF(KELAS!E6=\"\",\"\",KELAS!E6)","v":"7.A"},{"$f":"IF(KELAS!F6=\"\",\"\",KELAS!F6)","v":"Islam"},{"$f":"IF(KELAS!G6=\"\",\"\",KELAS!G6)","v":9971552318},{"$f":"IF(KELAS!H6=\"\",\"\",KELAS!H6)","v":"Wonosobo, 17 September 1997"},{"$f":"IF(KELAS!I6=\"\",\"\",KELAS!I6)","v":"Sardiman"},{"$f":"IF(KELAS!J6=\"\",\"\",KELAS!J6)","v":"Buruh Harian Lepas"},{"$f":"IF(KELAS!K6=\"\",\"\",KELAS!K6)","v":"Pariyah"},{"$f":"IF(KELAS!L6=\"\",\"\",KELAS!L6)","v":"Ibu Rumah Tangga"},{"$f":"IF(KELAS!M6=\"\",\"\",KELAS!M6)","v":"Sambek RT.01 RW.03, Wsb"},{"$f":"IF(KELAS!N6=\"\",\"\",KELAS!N6)","v":"SMPN 2 SELOMERTO"},{"$f":"IF(KELAS!O6=\"\",\"\",KELAS!O6)","v":2},{"$f":"IF(KELAS!P6=\"\",\"\",KELAS!P6)","v":"Anak Kandung"},{"$f":"IF(KELAS!Q6=\"\",\"\",TEXT(KELAS!Q6,\"0,00\"))","v":""},{"$f":"IF(KELAS!R6=\"\",\"\",KELAS!R6)","v":""},{"$f":"IF(KELAS!S6=\"\",\"\",KELAS!S6)","v":""},{"$f":"IF(KELAS!T6=\"\",\"\",TEXT(KELAS!T6,\"0,00\"))","v":""},{"$f":"IF(KELAS!U6=\"\",\"\",KELAS!U6)","v":""},{"$f":"IF(KELAS!V6=\"\",\"\",KELAS!V6)","v":""},{"$f":"IF(KELAS!W6=\"\",\"\",KELAS!W6)","v":""},{"$f":"IF(KELAS!X6=\"\",\"\",KELAS!X6)","v":""},{"$f":"IF(KELAS!Y6=\"\",\"\",TEXT(KELAS!Y6,\"0,00\"))","v":""},{"$f":"IF(KELAS!Z6=\"\",\"\",KELAS!Z6)","v":""},{"$f":"IF(KELAS!AA6=\"\",\"\",KELAS!AA6)","v":""},{"$f":"IF(KELAS!AB6=\"\",\"\",TEXT(KELAS!AB6,\"0,00\"))","v":""},{"$f":"IF(KELAS!AC6=\"\",\"\",KELAS!AC6)","v":""},{"$f":"IF(KELAS!AD6=\"\",\"\",KELAS!AD6)","v":""},{"$f":"IF(KELAS!AE6=\"\",\"\",KELAS!AE6)","v":""},{"$f":"IF(KELAS!AF6=\"\",\"\",KELAS!AF6)","v":""},{"$f":"IF(KELAS!AG6=\"\",\"\",KELAS!AG6)","v":""},{"$f":"IF(KELAS!AH6=\"\",\"\",TEXT(KELAS!AH6,\"0,00\"))","v":""},{"$f":"IF(KELAS!AI6=\"\",\"\",KELAS!AI6)","v":""},{"$f":"IF(KELAS!AJ6=\"\",\"\",KELAS!AJ6)","v":""},{"$f":"IF(KELAS!AK6=\"\",\"\",TEXT(KELAS!AK6,\"0,00\"))","v":""},{"$f":"IF(KELAS!AL6=\"\",\"\",KELAS!AL6)","v":""},{"$f":"IF(KELAS!AM6=\"\",\"\",KELAS!AM6)","v":""},{"$f":"IF(KELAS!AN6=\"\",\"\",KELAS!AN6)","v":""},{"$f":"IF(KELAS!AO6=\"\",\"\",KELAS!AO6)","v":""},{"$f":"IF(KELAS!AP6=\"\",\"\",KELAS!AP6)","v":""},{"$f":"IF(KELAS!AQ6=\"\",\"\",TEXT(KELAS!AQ6,\"0,00\"))","v":""},{"$f":"IF(KELAS!AR6=\"\",\"\",KELAS!AR6)","v":""},{"$f":"IF(KELAS!AS6=\"\",\"\",KELAS!AS6)","v":""},{"$f":"IF(KELAS!AT6=\"\",\"\",TEXT(KELAS!AT6,\"0,00\"))","v":""},{"$f":"IF(KELAS!AU6=\"\",\"\",KELAS!AU6)","v":""},{"$f":"IF(KELAS!AV6=\"\",\"\",KELAS!AV6)","v":""},{"$f":"IF(KELAS!AW6=\"\",\"\",KELAS!AW6)","v":""},{"$f":"IF(KELAS!AX6=\"\",\"\",KELAS!AX6)","v":""},{"$f":"IF(KELAS!AY6=\"\",\"\",KELAS!AY6)","v":""},{"$f":"IF(KELAS!AZ6=\"\",\"\",TEXT(KELAS!AZ6,\"0,00\"))","v":""},{"$f":"IF(KELAS!BA6=\"\",\"\",KELAS!BA6)","v":""},{"$f":"IF(KELAS!BB6=\"\",\"\",KELAS!BB6)","v":""},{"$f":"IF(KELAS!BC6=\"\",\"\",TEXT(KELAS!BC6,\"0,00\"))","v":""},{"$f":"IF(KELAS!BD6=\"\",\"\",KELAS!BD6)","v":""},{"$f":"IF(KELAS!BE6=\"\",\"\",KELAS!BE6)","v":""},{"$f":"IF(KELAS!BF6=\"\",\"\",KELAS!BF6)","v":""},{"$f":"IF(KELAS!BG6=\"\",\"\",KELAS!BG6)","v":""},{"$f":"IF(KELAS!BH6=\"\",\"\",KELAS!BH6)","v":""},{"$f":"IF(KELAS!BI6=\"\",\"\",TEXT(KELAS!BI6,\"0,00\"))","v":""},{"$f":"IF(KELAS!BJ6=\"\",\"\",KELAS!BJ6)","v":""},{"$f":"IF(KELAS!BK6=\"\",\"\",KELAS!BK6)","v":""},{"$f":"IF(KELAS!BL6=\"\",\"\",TEXT(KELAS!BL6,\"0,00\"))","v":""},{"$f":"IF(KELAS!BM6=\"\",\"\",KELAS!BM6)","v":""},{"$f":"IF(KELAS!BN6=\"\",\"\",KELAS!BN6)","v":""},{"$f":"IF(KELAS!BO6=\"\",\"\",KELAS!BO6)","v":""},{"$f":"IF(KELAS!BP6=\"\",\"\",KELAS!BP6)","v":""},{"$f":"IF(KELAS!BQ6=\"\",\"\",KELAS!BQ6)","v":""},{"$f":"IF(KELAS!BR6=\"\",\"\",TEXT(KELAS!BR6,\"0,00\"))","v":""},{"$f":"IF(KELAS!BS6=\"\",\"\",KELAS!BS6)","v":""},{"$f":"IF(KELAS!BT6=\"\",\"\",KELAS!BT6)","v":""},{"$f":"IF(KELAS!BU6=\"\",\"\",TEXT(KELAS!BU6,\"0,00\"))","v":""},{"$f":"IF(KELAS!BV6=\"\",\"\",KELAS!BV6)","v":""},{"$f":"IF(KELAS!BW6=\"\",\"\",KELAS!BW6)","v":""},{"$f":"IF(KELAS!BX6=\"\",\"\",KELAS!BX6)","v":""},{"$f":"IF(KELAS!BY6=\"\",\"\",KELAS!BY6)","v":""},{"$f":"IF(KELAS!BZ6=\"\",\"\",KELAS!BZ6)","v":""},{"$f":"IF(KELAS!CA6=\"\",\"\",TEXT(KELAS!CA6,\"0,00\"))","v":""},{"$f":"IF(KELAS!CB6=\"\",\"\",KELAS!CB6)","v":""},{"$f":"IF(KELAS!CC6=\"\",\"\",KELAS!CC6)","v":""},{"$f":"IF(KELAS!CD6=\"\",\"\",TEXT(KELAS!CD6,\"0,00\"))","v":""},{"$f":"IF(KELAS!CE6=\"\",\"\",KELAS!CE6)","v":""},{"$f":"IF(KELAS!CF6=\"\",\"\",KELAS!CF6)","v":""},{"$f":"IF(KELAS!CG6=\"\",\"\",KELAS!CG6)","v":""},{"$f":"IF(KELAS!CH6=\"\",\"\",KELAS!CH6)","v":""},{"$f":"IF(KELAS!CI6=\"\",\"\",KELAS!CI6)","v":""},{"$f":"IF(KELAS!CJ6=\"\",\"\",TEXT(KELAS!CJ6,\"0,00\"))","v":""},{"$f":"IF(KELAS!CK6=\"\",\"\",KELAS!CK6)","v":""},{"$f":"IF(KELAS!CL6=\"\",\"\",KELAS!CL6)","v":""},{"$f":"IF(KELAS!CM6=\"\",\"\",TEXT(KELAS!CM6,\"0,00\"))","v":""},{"$f":"IF(KELAS!CN6=\"\",\"\",KELAS!CN6)","v":""},{"$f":"IF(KELAS!CO6=\"\",\"\",KELAS!CO6)","v":""},{"$f":"IF(KELAS!CP6=\"\",\"\",KELAS!CP6)","v":""},{"$f":"IF(KELAS!CQ6=\"\",\"\",KELAS!CQ6)","v":""},{"$f":"IF(KELAS!CR6=\"\",\"\",KELAS!CR6)","v":""},{"$f":"IF(KELAS!CS6=\"\",\"\",TEXT(KELAS!CS6,\"0,00\"))","v":""},{"$f":"IF(KELAS!CT6=\"\",\"\",KELAS!CT6)","v":""},{"$f":"IF(KELAS!CU6=\"\",\"\",KELAS!CU6)","v":""},{"$f":"IF(KELAS!CV6=\"\",\"\",TEXT(KELAS!CV6,\"0,00\"))","v":""},{"$f":"IF(KELAS!CW6=\"\",\"\",KELAS!CW6)","v":""},{"$f":"IF(KELAS!CX6=\"\",\"\",KELAS!CX6)","v":""},{"$f":"IF(KELAS!CY6=\"\",\"\",KELAS!CY6)","v":""},{"$f":"IF(KELAS!CZ6=\"\",\"\",KELAS!CZ6)","v":""},{"$f":"IF(KELAS!DA6=\"\",\"\",KELAS!DA6)","v":""},{"$f":"IF(KELAS!DB6=\"\",\"\",TEXT(KELAS!DB6,\"0,00\"))","v":""},{"$f":"IF(KELAS!DC6=\"\",\"\",KELAS!DC6)","v":""},{"$f":"IF(KELAS!DD6=\"\",\"\",KELAS!DD6)","v":""},{"$f":"IF(KELAS!DE6=\"\",\"\",TEXT(KELAS!DE6,\"0,00\"))","v":""},{"$f":"IF(KELAS!DF6=\"\",\"\",KELAS!DF6)","v":""},{"$f":"IF(KELAS!DG6=\"\",\"\",KELAS!DG6)","v":""},{"$f":"IF(KELAS!DH6=\"\",\"\",KELAS!DH6)","v":""},{"$f":"IF(KELAS!DI6=\"\",\"\",KELAS!DI6)","v":""},{"$f":"IF(KELAS!DJ6=\"\",\"\",KELAS!DJ6)","v":""},{"$f":"IF(KELAS!DK6=\"\",\"\",KELAS!DK6)","v":1},{"$f":"IF(KELAS!DL6=\"\",\"\",KELAS!DL6)","v":2},{"$f":"IF(KELAS!DM6=\"\",\"\",KELAS!DM6)","v":1},{"$f":"IF(KELAS!DN6=\"\",\"\",KELAS!DN6)","v":3},{"$f":"IF(KELAS!DO6=\"\",\"\",KELAS!DO6)","v":""},{"$f":"IF(KELAS!DP6=\"\",\"\",KELAS!DP6)","v":""},{"$f":"IF(KELAS!DQ6=\"\",\"\",KELAS!DQ6)","v":""},{"$f":"IF(KELAS!DR6=\"\",\"\",KELAS!DR6)","v":""},{"$f":"IF(KELAS!DS6=\"\",\"\",KELAS!DS6)","v":""},{"$f":"IF(KELAS!DT6=\"\",\"\",KELAS!DT6)","v":""},{"$f":"IF(KELAS!DU6=\"\",\"\",KELAS!DU6)","v":""},{"$f":"IF(KELAS!DV6=\"\",\"\",KELAS!DV6)","v":""},{"$f":"IF(KELAS!DW6=\"\",\"\",KELAS!DW6)","v":""},{"$f":"IF(KELAS!DX6=\"\",\"\",KELAS!DX6)","v":""},{"$f":"IF(KELAS!DY6=\"\",\"\",KELAS!DY6)","v":""},{"$f":"IF(KELAS!DZ6=\"\",\"\",KELAS!DZ6)","v":""},{"$f":"IF(KELAS!EA6=\"\",\"\",KELAS!EA6)","v":"1 ( satu )"},{"$f":"IF(KELAS!EB6=\"\",\"\",KELAS!EB6)","v":"2 ( dua )"},{"$f":"IF(KELAS!EC6=\"\",\"\",KELAS!EC6)","v":"1 ( satu )"},{"$f":"IF(KELAS!ED6=\"\",\"\",KELAS!ED6)","v":"3 ( tiga )"},{"$f":"IF(KELAS!EE6=\"\",\"\",KELAS!EE6)","v":""},{"$f":"IF(KELAS!EF6=\"\",\"\",KELAS!EF6)","v":""},{"$f":"IF(KELAS!EG6=\"\",\"\",KELAS!EG6)","v":"Peserta didik menunjukan sikap sungguh-sungguh dalam menerapkan sikap santun, jujur dan kerjasama, namun masih perlu ditingkatkan lagi sikap percaya diri dan ketepatan masuk sekolah"},{"$f":"IF(KELAS!EH6=\"\",\"\",KELAS!EH6)","v":"Dhany Suryanto, S.Pd."},{"$f":"IF(KELAS!EI6=\"\",\"\",KELAS!EI6)","v":"jika punya NIP isikan di sini"},{"$f":"IF(KELAS!EJ6=\"\",\"\",KELAS!EJ6)","v":0},{"$f":"IF(KELAS!EK6=\"\",\"\",KELAS!EK6)","v":0},{"$f":"IF(KELAS!EL6=\"\",\"\",KELAS!EL6)","v":0},{"$f":"IF(KELAS!EM6=\"\",\"\",KELAS!EM6)","v":0},{"$f":"IF(KELAS!EN6=\"\",\"\",KELAS!EN6)","v":0},{"$f":"IF(KELAS!EO6=\"\",\"\",KELAS!EO6)","v":0},{"$f":"IF(KELAS!EP6=\"\",\"\",KELAS!EP6)","v":0},{"$f":"IF(KELAS!EQ6=\"\",\"\",KELAS!EQ6)","v":0},{"$f":"IF(KELAS!ER6=\"\",\"\",KELAS!ER6)","v":0},{"$f":"IF(KELAS!ES6=\"\",\"\",KELAS!ES6)","v":0},{"$f":"IF(KELAS!ET6=\"\",\"\",KELAS!ET6)","v":0}]
[{"$f":"IF(KELAS!A7=\"\",\"\",KELAS!A7)","v":5},{"$f":"IF(KELAS!B7=\"\",\"\",KELAS!B7)","v":12490},{"$f":"IF(KELAS!C7=\"\",\"\",KELAS!C7)","v":"BONETA SULASMI"},{"$f":"IF(KELAS!D7=\"\",\"\",KELAS!D7)","v":"P"},{"$f":"IF(KELAS!E7=\"\",\"\",KELAS!E7)","v":"7.A"},{"$f":"IF(KELAS!F7=\"\",\"\",KELAS!F7)","v":"Islam"},{"$f":"IF(KELAS!G7=\"\",\"\",KELAS!G7)","v":9971552321},{"$f":"IF(KELAS!H7=\"\",\"\",KELAS!H7)","v":"W  Onogiri, 24 Agustus 1997"},{"$f":"IF(KELAS!I7=\"\",\"\",KELAS!I7)","v":"Basuki"},{"$f":"IF(KELAS!J7=\"\",\"\",KELAS!J7)","v":"Buruh Harian Lepas"},{"$f":"IF(KELAS!K7=\"\",\"\",KELAS!K7)","v":"Suminem"},{"$f":"IF(KELAS!L7=\"\",\"\",KELAS!L7)","v":"Buruh Harian Lepas"},{"$f":"IF(KELAS!M7=\"\",\"\",KELAS!M7)","v":"Tosarirejo RT.07 RW.06, Jaraksari, Wsb"},{"$f":"IF(KELAS!N7=\"\",\"\",KELAS!N7)","v":"SMPN 2 SELOMERTO"},{"$f":"IF(KELAS!O7=\"\",\"\",KELAS!O7)","v":1},{"$f":"IF(KELAS!P7=\"\",\"\",KELAS!P7)","v":"Anak Kandung"},{"$f":"IF(KELAS!Q7=\"\",\"\",TEXT(KELAS!Q7,\"0,00\"))","v":""},{"$f":"IF(KELAS!R7=\"\",\"\",KELAS!R7)","v":""},{"$f":"IF(KELAS!S7=\"\",\"\",KELAS!S7)","v":""},{"$f":"IF(KELAS!T7=\"\",\"\",TEXT(KELAS!T7,\"0,00\"))","v":""},{"$f":"IF(KELAS!U7=\"\",\"\",KELAS!U7)","v":""},{"$f":"IF(KELAS!V7=\"\",\"\",KELAS!V7)","v":""},{"$f":"IF(KELAS!W7=\"\",\"\",KELAS!W7)","v":""},{"$f":"IF(KELAS!X7=\"\",\"\",KELAS!X7)","v":""},{"$f":"IF(KELAS!Y7=\"\",\"\",TEXT(KELAS!Y7,\"0,00\"))","v":""},{"$f":"IF(KELAS!Z7=\"\",\"\",KELAS!Z7)","v":""},{"$f":"IF(KELAS!AA7=\"\",\"\",KELAS!AA7)","v":""},{"$f":"IF(KELAS!AB7=\"\",\"\",TEXT(KELAS!AB7,\"0,00\"))","v":""},{"$f":"IF(KELAS!AC7=\"\",\"\",KELAS!AC7)","v":""},{"$f":"IF(KELAS!AD7=\"\",\"\",KELAS!AD7)","v":""},{"$f":"IF(KELAS!AE7=\"\",\"\",KELAS!AE7)","v":""},{"$f":"IF(KELAS!AF7=\"\",\"\",KELAS!AF7)","v":""},{"$f":"IF(KELAS!AG7=\"\",\"\",KELAS!AG7)","v":""},{"$f":"IF(KELAS!AH7=\"\",\"\",TEXT(KELAS!AH7,\"0,00\"))","v":""},{"$f":"IF(KELAS!AI7=\"\",\"\",KELAS!AI7)","v":""},{"$f":"IF(KELAS!AJ7=\"\",\"\",KELAS!AJ7)","v":""},{"$f":"IF(KELAS!AK7=\"\",\"\",TEXT(KELAS!AK7,\"0,00\"))","v":""},{"$f":"IF(KELAS!AL7=\"\",\"\",KELAS!AL7)","v":""},{"$f":"IF(KELAS!AM7=\"\",\"\",KELAS!AM7)","v":""},{"$f":"IF(KELAS!AN7=\"\",\"\",KELAS!AN7)","v":""},{"$f":"IF(KELAS!AO7=\"\",\"\",KELAS!AO7)","v":""},{"$f":"IF(KELAS!AP7=\"\",\"\",KELAS!AP7)","v":""},{"$f":"IF(KELAS!AQ7=\"\",\"\",TEXT(KELAS!AQ7,\"0,00\"))","v":""},{"$f":"IF(KELAS!AR7=\"\",\"\",KELAS!AR7)","v":""},{"$f":"IF(KELAS!AS7=\"\",\"\",KELAS!AS7)","v":""},{"$f":"IF(KELAS!AT7=\"\",\"\",TEXT(KELAS!AT7,\"0,00\"))","v":""},{"$f":"IF(KELAS!AU7=\"\",\"\",KELAS!AU7)","v":""},{"$f":"IF(KELAS!AV7=\"\",\"\",KELAS!AV7)","v":""},{"$f":"IF(KELAS!AW7=\"\",\"\",KELAS!AW7)","v":""},{"$f":"IF(KELAS!AX7=\"\",\"\",KELAS!AX7)","v":""},{"$f":"IF(KELAS!AY7=\"\",\"\",KELAS!AY7)","v":""},{"$f":"IF(KELAS!AZ7=\"\",\"\",TEXT(KELAS!AZ7,\"0,00\"))","v":""},{"$f":"IF(KELAS!BA7=\"\",\"\",KELAS!BA7)","v":""},{"$f":"IF(KELAS!BB7=\"\",\"\",KELAS!BB7)","v":""},{"$f":"IF(KELAS!BC7=\"\",\"\",TEXT(KELAS!BC7,\"0,00\"))","v":""},{"$f":"IF(KELAS!BD7=\"\",\"\",KELAS!BD7)","v":""},{"$f":"IF(KELAS!BE7=\"\",\"\",KELAS!BE7)","v":""},{"$f":"IF(KELAS!BF7=\"\",\"\",KELAS!BF7)","v":""},{"$f":"IF(KELAS!BG7=\"\",\"\",KELAS!BG7)","v":""},{"$f":"IF(KELAS!BH7=\"\",\"\",KELAS!BH7)","v":""},{"$f":"IF(KELAS!BI7=\"\",\"\",TEXT(KELAS!BI7,\"0,00\"))","v":""},{"$f":"IF(KELAS!BJ7=\"\",\"\",KELAS!BJ7)","v":""},{"$f":"IF(KELAS!BK7=\"\",\"\",KELAS!BK7)","v":""},{"$f":"IF(KELAS!BL7=\"\",\"\",TEXT(KELAS!BL7,\"0,00\"))","v":""},{"$f":"IF(KELAS!BM7=\"\",\"\",KELAS!BM7)","v":""},{"$f":"IF(KELAS!BN7=\"\",\"\",KELAS!BN7)","v":""},{"$f":"IF(KELAS!BO7=\"\",\"\",KELAS!BO7)","v":""},{"$f":"IF(KELAS!BP7=\"\",\"\",KELAS!BP7)","v":""},{"$f":"IF(KELAS!BQ7=\"\",\"\",KELAS!BQ7)","v":""},{"$f":"IF(KELAS!BR7=\"\",\"\",TEXT(KELAS!BR7,\"0,00\"))","v":""},{"$f":"IF(KELAS!BS7=\"\",\"\",KELAS!BS7)","v":""},{"$f":"IF(KELAS!BT7=\"\",\"\",KELAS!BT7)","v":""},{"$f":"IF(KELAS!BU7=\"\",\"\",TEXT(KELAS!BU7,\"0,00\"))","v":""},{"$f":"IF(KELAS!BV7=\"\",\"\",KELAS!BV7)","v":""},{"$f":"IF(KELAS!BW7=\"\",\"\",KELAS!BW7)","v":""},{"$f":"IF(KELAS!BX7=\"\",\"\",KELAS!BX7)","v":""},{"$f":"IF(KELAS!BY7=\"\",\"\",KELAS!BY7)","v":""},{"$f":"IF(KELAS!BZ7=\"\",\"\",KELAS!BZ7)","v":""},{"$f":"IF(KELAS!CA7=\"\",\"\",TEXT(KELAS!CA7,\"0,00\"))","v":""},{"$f":"IF(KELAS!CB7=\"\",\"\",KELAS!CB7)","v":""},{"$f":"IF(KELAS!CC7=\"\",\"\",KELAS!CC7)","v":""},{"$f":"IF(KELAS!CD7=\"\",\"\",TEXT(KELAS!CD7,\"0,00\"))","v":""},{"$f":"IF(KELAS!CE7=\"\",\"\",KELAS!CE7)","v":""},{"$f":"IF(KELAS!CF7=\"\",\"\",KELAS!CF7)","v":""},{"$f":"IF(KELAS!CG7=\"\",\"\",KELAS!CG7)","v":""},{"$f":"IF(KELAS!CH7=\"\",\"\",KELAS!CH7)","v":""},{"$f":"IF(KELAS!CI7=\"\",\"\",KELAS!CI7)","v":""},{"$f":"IF(KELAS!CJ7=\"\",\"\",TEXT(KELAS!CJ7,\"0,00\"))","v":""},{"$f":"IF(KELAS!CK7=\"\",\"\",KELAS!CK7)","v":""},{"$f":"IF(KELAS!CL7=\"\",\"\",KELAS!CL7)","v":""},{"$f":"IF(KELAS!CM7=\"\",\"\",TEXT(KELAS!CM7,\"0,00\"))","v":""},{"$f":"IF(KELAS!CN7=\"\",\"\",KELAS!CN7)","v":""},{"$f":"IF(KELAS!CO7=\"\",\"\",KELAS!CO7)","v":""},{"$f":"IF(KELAS!CP7=\"\",\"\",KELAS!CP7)","v":""},{"$f":"IF(KELAS!CQ7=\"\",\"\",KELAS!CQ7)","v":""},{"$f":"IF(KELAS!CR7=\"\",\"\",KELAS!CR7)","v":""},{"$f":"IF(KELAS!CS7=\"\",\"\",TEXT(KELAS!CS7,\"0,00\"))","v":""},{"$f":"IF(KELAS!CT7=\"\",\"\",KELAS!CT7)","v":""},{"$f":"IF(KELAS!CU7=\"\",\"\",KELAS!CU7)","v":""},{"$f":"IF(KELAS!CV7=\"\",\"\",TEXT(KELAS!CV7,\"0,00\"))","v":""},{"$f":"IF(KELAS!CW7=\"\",\"\",KELAS!CW7)","v":""},{"$f":"IF(KELAS!CX7=\"\",\"\",KELAS!CX7)","v":""},{"$f":"IF(KELAS!CY7=\"\",\"\",KELAS!CY7)","v":""},{"$f":"IF(KELAS!CZ7=\"\",\"\",KELAS!CZ7)","v":""},{"$f":"IF(KELAS!DA7=\"\",\"\",KELAS!DA7)","v":""},{"$f":"IF(KELAS!DB7=\"\",\"\",TEXT(KELAS!DB7,\"0,00\"))","v":""},{"$f":"IF(KELAS!DC7=\"\",\"\",KELAS!DC7)","v":""},{"$f":"IF(KELAS!DD7=\"\",\"\",KELAS!DD7)","v":""},{"$f":"IF(KELAS!DE7=\"\",\"\",TEXT(KELAS!DE7,\"0,00\"))","v":""},{"$f":"IF(KELAS!DF7=\"\",\"\",KELAS!DF7)","v":""},{"$f":"IF(KELAS!DG7=\"\",\"\",KELAS!DG7)","v":""},{"$f":"IF(KELAS!DH7=\"\",\"\",KELAS!DH7)","v":""},{"$f":"IF(KELAS!DI7=\"\",\"\",KELAS!DI7)","v":""},{"$f":"IF(KELAS!DJ7=\"\",\"\",KELAS!DJ7)","v":""},{"$f":"IF(KELAS!DK7=\"\",\"\",KELAS!DK7)","v":3},{"$f":"IF(KELAS!DL7=\"\",\"\",KELAS!DL7)","v":3},{"$f":"IF(KELAS!DM7=\"\",\"\",KELAS!DM7)","v":3},{"$f":"IF(KELAS!DN7=\"\",\"\",KELAS!DN7)","v":3},{"$f":"IF(KELAS!DO7=\"\",\"\",KELAS!DO7)","v":""},{"$f":"IF(KELAS!DP7=\"\",\"\",KELAS!DP7)","v":""},{"$f":"IF(KELAS!DQ7=\"\",\"\",KELAS!DQ7)","v":""},{"$f":"IF(KELAS!DR7=\"\",\"\",KELAS!DR7)","v":""},{"$f":"IF(KELAS!DS7=\"\",\"\",KELAS!DS7)","v":""},{"$f":"IF(KELAS!DT7=\"\",\"\",KELAS!DT7)","v":""},{"$f":"IF(KELAS!DU7=\"\",\"\",KELAS!DU7)","v":""},{"$f":"IF(KELAS!DV7=\"\",\"\",KELAS!DV7)","v":""},{"$f":"IF(KELAS!DW7=\"\",\"\",KELAS!DW7)","v":""},{"$f":"IF(KELAS!DX7=\"\",\"\",KELAS!DX7)","v":""},{"$f":"IF(KELAS!DY7=\"\",\"\",KELAS!DY7)","v":""},{"$f":"IF(KELAS!DZ7=\"\",\"\",KELAS!DZ7)","v":""},{"$f":"IF(KELAS!EA7=\"\",\"\",KELAS!EA7)","v":"3 ( tiga )"},{"$f":"IF(KELAS!EB7=\"\",\"\",KELAS!EB7)","v":"3 ( tiga )"},{"$f":"IF(KELAS!EC7=\"\",\"\",KELAS!EC7)","v":"3 ( tiga )"},{"$f":"IF(KELAS!ED7=\"\",\"\",KELAS!ED7)","v":"3 ( tiga )"},{"$f":"IF(KELAS!EE7=\"\",\"\",KELAS!EE7)","v":""},{"$f":"IF(KELAS!EF7=\"\",\"\",KELAS!EF7)","v":""},{"$f":"IF(KELAS!EG7=\"\",\"\",KELAS!EG7)","v":"Peserta didik menunjukan sikap sungguh-sungguh dalam menerapkan sikap santun, jujur dan kerjasama, namun masih perlu ditingkatkan lagi sikap percaya diri dan ketepatan masuk sekolah"},{"$f":"IF(KELAS!EH7=\"\",\"\",KELAS!EH7)","v":"Dhany Suryanto, S.Pd."},{"$f":"IF(KELAS!EI7=\"\",\"\",KELAS!EI7)","v":"jika punya NIP isikan di sini"},{"$f":"IF(KELAS!EJ7=\"\",\"\",KELAS!EJ7)","v":0},{"$f":"IF(KELAS!EK7=\"\",\"\",KELAS!EK7)","v":0},{"$f":"IF(KELAS!EL7=\"\",\"\",KELAS!EL7)","v":0},{"$f":"IF(KELAS!EM7=\"\",\"\",KELAS!EM7)","v":0},{"$f":"IF(KELAS!EN7=\"\",\"\",KELAS!EN7)","v":0},{"$f":"IF(KELAS!EO7=\"\",\"\",KELAS!EO7)","v":0},{"$f":"IF(KELAS!EP7=\"\",\"\",KELAS!EP7)","v":0},{"$f":"IF(KELAS!EQ7=\"\",\"\",KELAS!EQ7)","v":0},{"$f":"IF(KELAS!ER7=\"\",\"\",KELAS!ER7)","v":0},{"$f":"IF(KELAS!ES7=\"\",\"\",KELAS!ES7)","v":0},{"$f":"IF(KELAS!ET7=\"\",\"\",KELAS!ET7)","v":0}]
[{"$f":"IF(KELAS!A8=\"\",\"\",KELAS!A8)","v":6},{"$f":"IF(KELAS!B8=\"\",\"\",KELAS!B8)","v":12493},{"$f":"IF(KELAS!C8=\"\",\"\",KELAS!C8)","v":"CHOTIMAH"},{"$f":"IF(KELAS!D8=\"\",\"\",KELAS!D8)","v":"P"},{"$f":"IF(KELAS!E8=\"\",\"\",KELAS!E8)","v":"7.A"},{"$f":"IF(KELAS!F8=\"\",\"\",KELAS!F8)","v":"Islam"},{"$f":"IF(KELAS!G8=\"\",\"\",KELAS!G8)","v":9971550756},{"$f":"IF(KELAS!H8=\"\",\"\",KELAS!H8)","v":"Wonosobo, 18 Nopember 1997"},{"$f":"IF(KELAS!I8=\"\",\"\",KELAS!I8)","v":"Sudarmanto"},{"$f":"IF(KELAS!J8=\"\",\"\",KELAS!J8)","v":"Wiraswasta"},{"$f":"IF(KELAS!K8=\"\",\"\",KELAS!K8)","v":"Tunjang Samini"},{"$f":"IF(KELAS!L8=\"\",\"\",KELAS!L8)","v":"Ibu Rumah Tangga"},{"$f":"IF(KELAS!M8=\"\",\"\",KELAS!M8)","v":"Kuripan RT.06 RW.01, Watumalang, Wsb"},{"$f":"IF(KELAS!N8=\"\",\"\",KELAS!N8)","v":"SMPN 1 WATUMALANG"},{"$f":"IF(KELAS!O8=\"\",\"\",KELAS!O8)","v":1},{"$f":"IF(KELAS!P8=\"\",\"\",KELAS!P8)","v":"Anak Kandung"},{"$f":"IF(KELAS!Q8=\"\",\"\",TEXT(KELAS!Q8,\"0,00\"))","v":""},{"$f":"IF(KELAS!R8=\"\",\"\",KELAS!R8)","v":""},{"$f":"IF(KELAS!S8=\"\",\"\",KELAS!S8)","v":""},{"$f":"IF(KELAS!T8=\"\",\"\",TEXT(KELAS!T8,\"0,00\"))","v":""},{"$f":"IF(KELAS!U8=\"\",\"\",KELAS!U8)","v":""},{"$f":"IF(KELAS!V8=\"\",\"\",KELAS!V8)","v":""},{"$f":"IF(KELAS!W8=\"\",\"\",KELAS!W8)","v":""},{"$f":"IF(KELAS!X8=\"\",\"\",KELAS!X8)","v":""},{"$f":"IF(KELAS!Y8=\"\",\"\",TEXT(KELAS!Y8,\"0,00\"))","v":""},{"$f":"IF(KELAS!Z8=\"\",\"\",KELAS!Z8)","v":""},{"$f":"IF(KELAS!AA8=\"\",\"\",KELAS!AA8)","v":""},{"$f":"IF(KELAS!AB8=\"\",\"\",TEXT(KELAS!AB8,\"0,00\"))","v":""},{"$f":"IF(KELAS!AC8=\"\",\"\",KELAS!AC8)","v":""},{"$f":"IF(KELAS!AD8=\"\",\"\",KELAS!AD8)","v":""},{"$f":"IF(KELAS!AE8=\"\",\"\",KELAS!AE8)","v":""},{"$f":"IF(KELAS!AF8=\"\",\"\",KELAS!AF8)","v":""},{"$f":"IF(KELAS!AG8=\"\",\"\",KELAS!AG8)","v":""},{"$f":"IF(KELAS!AH8=\"\",\"\",TEXT(KELAS!AH8,\"0,00\"))","v":""},{"$f":"IF(KELAS!AI8=\"\",\"\",KELAS!AI8)","v":""},{"$f":"IF(KELAS!AJ8=\"\",\"\",KELAS!AJ8)","v":""},{"$f":"IF(KELAS!AK8=\"\",\"\",TEXT(KELAS!AK8,\"0,00\"))","v":""},{"$f":"IF(KELAS!AL8=\"\",\"\",KELAS!AL8)","v":""},{"$f":"IF(KELAS!AM8=\"\",\"\",KELAS!AM8)","v":""},{"$f":"IF(KELAS!AN8=\"\",\"\",KELAS!AN8)","v":""},{"$f":"IF(KELAS!AO8=\"\",\"\",KELAS!AO8)","v":""},{"$f":"IF(KELAS!AP8=\"\",\"\",KELAS!AP8)","v":""},{"$f":"IF(KELAS!AQ8=\"\",\"\",TEXT(KELAS!AQ8,\"0,00\"))","v":""},{"$f":"IF(KELAS!AR8=\"\",\"\",KELAS!AR8)","v":""},{"$f":"IF(KELAS!AS8=\"\",\"\",KELAS!AS8)","v":""},{"$f":"IF(KELAS!AT8=\"\",\"\",TEXT(KELAS!AT8,\"0,00\"))","v":""},{"$f":"IF(KELAS!AU8=\"\",\"\",KELAS!AU8)","v":""},{"$f":"IF(KELAS!AV8=\"\",\"\",KELAS!AV8)","v":""},{"$f":"IF(KELAS!AW8=\"\",\"\",KELAS!AW8)","v":""},{"$f":"IF(KELAS!AX8=\"\",\"\",KELAS!AX8)","v":""},{"$f":"IF(KELAS!AY8=\"\",\"\",KELAS!AY8)","v":""},{"$f":"IF(KELAS!AZ8=\"\",\"\",TEXT(KELAS!AZ8,\"0,00\"))","v":""},{"$f":"IF(KELAS!BA8=\"\",\"\",KELAS!BA8)","v":""},{"$f":"IF(KELAS!BB8=\"\",\"\",KELAS!BB8)","v":""},{"$f":"IF(KELAS!BC8=\"\",\"\",TEXT(KELAS!BC8,\"0,00\"))","v":""},{"$f":"IF(KELAS!BD8=\"\",\"\",KELAS!BD8)","v":""},{"$f":"IF(KELAS!BE8=\"\",\"\",KELAS!BE8)","v":""},{"$f":"IF(KELAS!BF8=\"\",\"\",KELAS!BF8)","v":""},{"$f":"IF(KELAS!BG8=\"\",\"\",KELAS!BG8)","v":""},{"$f":"IF(KELAS!BH8=\"\",\"\",KELAS!BH8)","v":""},{"$f":"IF(KELAS!BI8=\"\",\"\",TEXT(KELAS!BI8,\"0,00\"))","v":""},{"$f":"IF(KELAS!BJ8=\"\",\"\",KELAS!BJ8)","v":""},{"$f":"IF(KELAS!BK8=\"\",\"\",KELAS!BK8)","v":""},{"$f":"IF(KELAS!BL8=\"\",\"\",TEXT(KELAS!BL8,\"0,00\"))","v":""},{"$f":"IF(KELAS!BM8=\"\",\"\",KELAS!BM8)","v":""},{"$f":"IF(KELAS!BN8=\"\",\"\",KELAS!BN8)","v":""},{"$f":"IF(KELAS!BO8=\"\",\"\",KELAS!BO8)","v":""},{"$f":"IF(KELAS!BP8=\"\",\"\",KELAS!BP8)","v":""},{"$f":"IF(KELAS!BQ8=\"\",\"\",KELAS!BQ8)","v":""},{"$f":"IF(KELAS!BR8=\"\",\"\",TEXT(KELAS!BR8,\"0,00\"))","v":""},{"$f":"IF(KELAS!BS8=\"\",\"\",KELAS!BS8)","v":""},{"$f":"IF(KELAS!BT8=\"\",\"\",KELAS!BT8)","v":""},{"$f":"IF(KELAS!BU8=\"\",\"\",TEXT(KELAS!BU8,\"0,00\"))","v":""},{"$f":"IF(KELAS!BV8=\"\",\"\",KELAS!BV8)","v":""},{"$f":"IF(KELAS!BW8=\"\",\"\",KELAS!BW8)","v":""},{"$f":"IF(KELAS!BX8=\"\",\"\",KELAS!BX8)","v":""},{"$f":"IF(KELAS!BY8=\"\",\"\",KELAS!BY8)","v":""},{"$f":"IF(KELAS!BZ8=\"\",\"\",KELAS!BZ8)","v":""},{"$f":"IF(KELAS!CA8=\"\",\"\",TEXT(KELAS!CA8,\"0,00\"))","v":""},{"$f":"IF(KELAS!CB8=\"\",\"\",KELAS!CB8)","v":""},{"$f":"IF(KELAS!CC8=\"\",\"\",KELAS!CC8)","v":""},{"$f":"IF(KELAS!CD8=\"\",\"\",TEXT(KELAS!CD8,\"0,00\"))","v":""},{"$f":"IF(KELAS!CE8=\"\",\"\",KELAS!CE8)","v":""},{"$f":"IF(KELAS!CF8=\"\",\"\",KELAS!CF8)","v":""},{"$f":"IF(KELAS!CG8=\"\",\"\",KELAS!CG8)","v":""},{"$f":"IF(KELAS!CH8=\"\",\"\",KELAS!CH8)","v":""},{"$f":"IF(KELAS!CI8=\"\",\"\",KELAS!CI8)","v":""},{"$f":"IF(KELAS!CJ8=\"\",\"\",TEXT(KELAS!CJ8,\"0,00\"))","v":""},{"$f":"IF(KELAS!CK8=\"\",\"\",KELAS!CK8)","v":""},{"$f":"IF(KELAS!CL8=\"\",\"\",KELAS!CL8)","v":""},{"$f":"IF(KELAS!CM8=\"\",\"\",TEXT(KELAS!CM8,\"0,00\"))","v":""},{"$f":"IF(KELAS!CN8=\"\",\"\",KELAS!CN8)","v":""},{"$f":"IF(KELAS!CO8=\"\",\"\",KELAS!CO8)","v":""},{"$f":"IF(KELAS!CP8=\"\",\"\",KELAS!CP8)","v":""},{"$f":"IF(KELAS!CQ8=\"\",\"\",KELAS!CQ8)","v":""},{"$f":"IF(KELAS!CR8=\"\",\"\",KELAS!CR8)","v":""},{"$f":"IF(KELAS!CS8=\"\",\"\",TEXT(KELAS!CS8,\"0,00\"))","v":""},{"$f":"IF(KELAS!CT8=\"\",\"\",KELAS!CT8)","v":""},{"$f":"IF(KELAS!CU8=\"\",\"\",KELAS!CU8)","v":""},{"$f":"IF(KELAS!CV8=\"\",\"\",TEXT(KELAS!CV8,\"0,00\"))","v":""},{"$f":"IF(KELAS!CW8=\"\",\"\",KELAS!CW8)","v":""},{"$f":"IF(KELAS!CX8=\"\",\"\",KELAS!CX8)","v":""},{"$f":"IF(KELAS!CY8=\"\",\"\",KELAS!CY8)","v":""},{"$f":"IF(KELAS!CZ8=\"\",\"\",KELAS!CZ8)","v":""},{"$f":"IF(KELAS!DA8=\"\",\"\",KELAS!DA8)","v":""},{"$f":"IF(KELAS!DB8=\"\",\"\",TEXT(KELAS!DB8,\"0,00\"))","v":""},{"$f":"IF(KELAS!DC8=\"\",\"\",KELAS!DC8)","v":""},{"$f":"IF(KELAS!DD8=\"\",\"\",KELAS!DD8)","v":""},{"$f":"IF(KELAS!DE8=\"\",\"\",TEXT(KELAS!DE8,\"0,00\"))","v":""},{"$f":"IF(KELAS!DF8=\"\",\"\",KELAS!DF8)","v":""},{"$f":"IF(KELAS!DG8=\"\",\"\",KELAS!DG8)","v":""},{"$f":"IF(KELAS!DH8=\"\",\"\",KELAS!DH8)","v":""},{"$f":"IF(KELAS!DI8=\"\",\"\",KELAS!DI8)","v":""},{"$f":"IF(KELAS!DJ8=\"\",\"\",KELAS!DJ8)","v":""},{"$f":"IF(KELAS!DK8=\"\",\"\",KELAS!DK8)","v":3},{"$f":"IF(KELAS!DL8=\"\",\"\",KELAS!DL8)","v":1},{"$f":"IF(KELAS!DM8=\"\",\"\",KELAS!DM8)","v":1},{"$f":"IF(KELAS!DN8=\"\",\"\",KELAS!DN8)","v":3},{"$f":"IF(KELAS!DO8=\"\",\"\",KELAS!DO8)","v":""},{"$f":"IF(KELAS!DP8=\"\",\"\",KELAS!DP8)","v":""},{"$f":"IF(KELAS!DQ8=\"\",\"\",KELAS!DQ8)","v":""},{"$f":"IF(KELAS!DR8=\"\",\"\",KELAS!DR8)","v":""},{"$f":"IF(KELAS!DS8=\"\",\"\",KELAS!DS8)","v":""},{"$f":"IF(KELAS!DT8=\"\",\"\",KELAS!DT8)","v":""},{"$f":"IF(KELAS!DU8=\"\",\"\",KELAS!DU8)","v":""},{"$f":"IF(KELAS!DV8=\"\",\"\",KELAS!DV8)","v":""},{"$f":"IF(KELAS!DW8=\"\",\"\",KELAS!DW8)","v":""},{"$f":"IF(KELAS!DX8=\"\",\"\",KELAS!DX8)","v":""},{"$f":"IF(KELAS!DY8=\"\",\"\",KELAS!DY8)","v":""},{"$f":"IF(KELAS!DZ8=\"\",\"\",KELAS!DZ8)","v":""},{"$f":"IF(KELAS!EA8=\"\",\"\",KELAS!EA8)","v":"3 ( tiga )"},{"$f":"IF(KELAS!EB8=\"\",\"\",KELAS!EB8)","v":"1 ( satu )"},{"$f":"IF(KELAS!EC8=\"\",\"\",KELAS!EC8)","v":"1 ( satu )"},{"$f":"IF(KELAS!ED8=\"\",\"\",KELAS!ED8)","v":"3 ( tiga )"},{"$f":"IF(KELAS!EE8=\"\",\"\",KELAS!EE8)","v":""},{"$f":"IF(KELAS!EF8=\"\",\"\",KELAS!EF8)","v":""},{"$f":"IF(KELAS!EG8=\"\",\"\",KELAS!EG8)","v":"Peserta didik menunjukan sikap sungguh-sungguh dalam menerapkan sikap santun, jujur dan kerjasama, namun masih perlu ditingkatkan lagi sikap percaya diri dan ketepatan masuk sekolah"},{"$f":"IF(KELAS!EH8=\"\",\"\",KELAS!EH8)","v":"Dhany Suryanto, S.Pd."},{"$f":"IF(KELAS!EI8=\"\",\"\",KELAS!EI8)","v":"jika punya NIP isikan di sini"},{"$f":"IF(KELAS!EJ8=\"\",\"\",KELAS!EJ8)","v":0},{"$f":"IF(KELAS!EK8=\"\",\"\",KELAS!EK8)","v":0},{"$f":"IF(KELAS!EL8=\"\",\"\",KELAS!EL8)","v":0},{"$f":"IF(KELAS!EM8=\"\",\"\",KELAS!EM8)","v":0},{"$f":"IF(KELAS!EN8=\"\",\"\",KELAS!EN8)","v":0},{"$f":"IF(KELAS!EO8=\"\",\"\",KELAS!EO8)","v":0},{"$f":"IF(KELAS!EP8=\"\",\"\",KELAS!EP8)","v":0},{"$f":"IF(KELAS!EQ8=\"\",\"\",KELAS!EQ8)","v":0},{"$f":"IF(KELAS!ER8=\"\",\"\",KELAS!ER8)","v":0},{"$f":"IF(KELAS!ES8=\"\",\"\",KELAS!ES8)","v":0},{"$f":"IF(KELAS!ET8=\"\",\"\",KELAS!ET8)","v":0}]
[{"$f":"IF(KELAS!A9=\"\",\"\",KELAS!A9)","v":7},{"$f":"IF(KELAS!B9=\"\",\"\",KELAS!B9)","v":12504},{"$f":"IF(KELAS!C9=\"\",\"\",KELAS!C9)","v":"DESTIN AYU ARIYANI"},{"$f":"IF(KELAS!D9=\"\",\"\",KELAS!D9)","v":"P"},{"$f":"IF(KELAS!E9=\"\",\"\",KELAS!E9)","v":"7.A"},{"$f":"IF(KELAS!F9=\"\",\"\",KELAS!F9)","v":"Islam"},{"$f":"IF(KELAS!G9=\"\",\"\",KELAS!G9)","v":"-"},{"$f":"IF(KELAS!H9=\"\",\"\",KELAS!H9)","v":"Wonosobo, 29 Desember 1997"},{"$f":"IF(KELAS!I9=\"\",\"\",KELAS!I9)","v":"Agus Darsono"},{"$f":"IF(KELAS!J9=\"\",\"\",KELAS!J9)","v":"Wiraswasta"},{"$f":"IF(KELAS!K9=\"\",\"\",KELAS!K9)","v":"Rinawati Andriyaning"},{"$f":"IF(KELAS!L9=\"\",\"\",KELAS!L9)","v":"Ibu Rumah Tangga"},{"$f":"IF(KELAS!M9=\"\",\"\",KELAS!M9)","v":"Prajuritan Bawah RT.05 RW.10, Wonosobo Timur"},{"$f":"IF(KELAS!N9=\"\",\"\",KELAS!N9)","v":"SMP MUHAMMADIYAH 1 WONOSOBO"},{"$f":"IF(KELAS!O9=\"\",\"\",KELAS!O9)","v":2},{"$f":"IF(KELAS!P9=\"\",\"\",KELAS!P9)","v":"Anak Kandung"},{"$f":"IF(KELAS!Q9=\"\",\"\",TEXT(KELAS!Q9,\"0,00\"))","v":""},{"$f":"IF(KELAS!R9=\"\",\"\",KELAS!R9)","v":""},{"$f":"IF(KELAS!S9=\"\",\"\",KELAS!S9)","v":""},{"$f":"IF(KELAS!T9=\"\",\"\",TEXT(KELAS!T9,\"0,00\"))","v":""},{"$f":"IF(KELAS!U9=\"\",\"\",KELAS!U9)","v":""},{"$f":"IF(KELAS!V9=\"\",\"\",KELAS!V9)","v":""},{"$f":"IF(KELAS!W9=\"\",\"\",KELAS!W9)","v":""},{"$f":"IF(KELAS!X9=\"\",\"\",KELAS!X9)","v":""},{"$f":"IF(KELAS!Y9=\"\",\"\",TEXT(KELAS!Y9,\"0,00\"))","v":""},{"$f":"IF(KELAS!Z9=\"\",\"\",KELAS!Z9)","v":""},{"$f":"IF(KELAS!AA9=\"\",\"\",KELAS!AA9)","v":""},{"$f":"IF(KELAS!AB9=\"\",\"\",TEXT(KELAS!AB9,\"0,00\"))","v":""},{"$f":"IF(KELAS!AC9=\"\",\"\",KELAS!AC9)","v":""},{"$f":"IF(KELAS!AD9=\"\",\"\",KELAS!AD9)","v":""},{"$f":"IF(KELAS!AE9=\"\",\"\",KELAS!AE9)","v":""},{"$f":"IF(KELAS!AF9=\"\",\"\",KELAS!AF9)","v":""},{"$f":"IF(KELAS!AG9=\"\",\"\",KELAS!AG9)","v":""},{"$f":"IF(KELAS!AH9=\"\",\"\",TEXT(KELAS!AH9,\"0,00\"))","v":""},{"$f":"IF(KELAS!AI9=\"\",\"\",KELAS!AI9)","v":""},{"$f":"IF(KELAS!AJ9=\"\",\"\",KELAS!AJ9)","v":""},{"$f":"IF(KELAS!AK9=\"\",\"\",TEXT(KELAS!AK9,\"0,00\"))","v":""},{"$f":"IF(KELAS!AL9=\"\",\"\",KELAS!AL9)","v":""},{"$f":"IF(KELAS!AM9=\"\",\"\",KELAS!AM9)","v":""},{"$f":"IF(KELAS!AN9=\"\",\"\",KELAS!AN9)","v":""},{"$f":"IF(KELAS!AO9=\"\",\"\",KELAS!AO9)","v":""},{"$f":"IF(KELAS!AP9=\"\",\"\",KELAS!AP9)","v":""},{"$f":"IF(KELAS!AQ9=\"\",\"\",TEXT(KELAS!AQ9,\"0,00\"))","v":""},{"$f":"IF(KELAS!AR9=\"\",\"\",KELAS!AR9)","v":""},{"$f":"IF(KELAS!AS9=\"\",\"\",KELAS!AS9)","v":""},{"$f":"IF(KELAS!AT9=\"\",\"\",TEXT(KELAS!AT9,\"0,00\"))","v":""},{"$f":"IF(KELAS!AU9=\"\",\"\",KELAS!AU9)","v":""},{"$f":"IF(KELAS!AV9=\"\",\"\",KELAS!AV9)","v":""},{"$f":"IF(KELAS!AW9=\"\",\"\",KELAS!AW9)","v":""},{"$f":"IF(KELAS!AX9=\"\",\"\",KELAS!AX9)","v":""},{"$f":"IF(KELAS!AY9=\"\",\"\",KELAS!AY9)","v":""},{"$f":"IF(KELAS!AZ9=\"\",\"\",TEXT(KELAS!AZ9,\"0,00\"))","v":""},{"$f":"IF(KELAS!BA9=\"\",\"\",KELAS!BA9)","v":""},{"$f":"IF(KELAS!BB9=\"\",\"\",KELAS!BB9)","v":""},{"$f":"IF(KELAS!BC9=\"\",\"\",TEXT(KELAS!BC9,\"0,00\"))","v":""},{"$f":"IF(KELAS!BD9=\"\",\"\",KELAS!BD9)","v":""},{"$f":"IF(KELAS!BE9=\"\",\"\",KELAS!BE9)","v":""},{"$f":"IF(KELAS!BF9=\"\",\"\",KELAS!BF9)","v":""},{"$f":"IF(KELAS!BG9=\"\",\"\",KELAS!BG9)","v":""},{"$f":"IF(KELAS!BH9=\"\",\"\",KELAS!BH9)","v":""},{"$f":"IF(KELAS!BI9=\"\",\"\",TEXT(KELAS!BI9,\"0,00\"))","v":""},{"$f":"IF(KELAS!BJ9=\"\",\"\",KELAS!BJ9)","v":""},{"$f":"IF(KELAS!BK9=\"\",\"\",KELAS!BK9)","v":""},{"$f":"IF(KELAS!BL9=\"\",\"\",TEXT(KELAS!BL9,\"0,00\"))","v":""},{"$f":"IF(KELAS!BM9=\"\",\"\",KELAS!BM9)","v":""},{"$f":"IF(KELAS!BN9=\"\",\"\",KELAS!BN9)","v":""},{"$f":"IF(KELAS!BO9=\"\",\"\",KELAS!BO9)","v":""},{"$f":"IF(KELAS!BP9=\"\",\"\",KELAS!BP9)","v":""},{"$f":"IF(KELAS!BQ9=\"\",\"\",KELAS!BQ9)","v":""},{"$f":"IF(KELAS!BR9=\"\",\"\",TEXT(KELAS!BR9,\"0,00\"))","v":""},{"$f":"IF(KELAS!BS9=\"\",\"\",KELAS!BS9)","v":""},{"$f":"IF(KELAS!BT9=\"\",\"\",KELAS!BT9)","v":""},{"$f":"IF(KELAS!BU9=\"\",\"\",TEXT(KELAS!BU9,\"0,00\"))","v":""},{"$f":"IF(KELAS!BV9=\"\",\"\",KELAS!BV9)","v":""},{"$f":"IF(KELAS!BW9=\"\",\"\",KELAS!BW9)","v":""},{"$f":"IF(KELAS!BX9=\"\",\"\",KELAS!BX9)","v":""},{"$f":"IF(KELAS!BY9=\"\",\"\",KELAS!BY9)","v":""},{"$f":"IF(KELAS!BZ9=\"\",\"\",KELAS!BZ9)","v":""},{"$f":"IF(KELAS!CA9=\"\",\"\",TEXT(KELAS!CA9,\"0,00\"))","v":""},{"$f":"IF(KELAS!CB9=\"\",\"\",KELAS!CB9)","v":""},{"$f":"IF(KELAS!CC9=\"\",\"\",KELAS!CC9)","v":""},{"$f":"IF(KELAS!CD9=\"\",\"\",TEXT(KELAS!CD9,\"0,00\"))","v":""},{"$f":"IF(KELAS!CE9=\"\",\"\",KELAS!CE9)","v":""},{"$f":"IF(KELAS!CF9=\"\",\"\",KELAS!CF9)","v":""},{"$f":"IF(KELAS!CG9=\"\",\"\",KELAS!CG9)","v":""},{"$f":"IF(KELAS!CH9=\"\",\"\",KELAS!CH9)","v":""},{"$f":"IF(KELAS!CI9=\"\",\"\",KELAS!CI9)","v":""},{"$f":"IF(KELAS!CJ9=\"\",\"\",TEXT(KELAS!CJ9,\"0,00\"))","v":""},{"$f":"IF(KELAS!CK9=\"\",\"\",KELAS!CK9)","v":""},{"$f":"IF(KELAS!CL9=\"\",\"\",KELAS!CL9)","v":""},{"$f":"IF(KELAS!CM9=\"\",\"\",TEXT(KELAS!CM9,\"0,00\"))","v":""},{"$f":"IF(KELAS!CN9=\"\",\"\",KELAS!CN9)","v":""},{"$f":"IF(KELAS!CO9=\"\",\"\",KELAS!CO9)","v":""},{"$f":"IF(KELAS!CP9=\"\",\"\",KELAS!CP9)","v":""},{"$f":"IF(KELAS!CQ9=\"\",\"\",KELAS!CQ9)","v":""},{"$f":"IF(KELAS!CR9=\"\",\"\",KELAS!CR9)","v":""},{"$f":"IF(KELAS!CS9=\"\",\"\",TEXT(KELAS!CS9,\"0,00\"))","v":""},{"$f":"IF(KELAS!CT9=\"\",\"\",KELAS!CT9)","v":""},{"$f":"IF(KELAS!CU9=\"\",\"\",KELAS!CU9)","v":""},{"$f":"IF(KELAS!CV9=\"\",\"\",TEXT(KELAS!CV9,\"0,00\"))","v":""},{"$f":"IF(KELAS!CW9=\"\",\"\",KELAS!CW9)","v":""},{"$f":"IF(KELAS!CX9=\"\",\"\",KELAS!CX9)","v":""},{"$f":"IF(KELAS!CY9=\"\",\"\",KELAS!CY9)","v":""},{"$f":"IF(KELAS!CZ9=\"\",\"\",KELAS!CZ9)","v":""},{"$f":"IF(KELAS!DA9=\"\",\"\",KELAS!DA9)","v":""},{"$f":"IF(KELAS!DB9=\"\",\"\",TEXT(KELAS!DB9,\"0,00\"))","v":""},{"$f":"IF(KELAS!DC9=\"\",\"\",KELAS!DC9)","v":""},{"$f":"IF(KELAS!DD9=\"\",\"\",KELAS!DD9)","v":""},{"$f":"IF(KELAS!DE9=\"\",\"\",TEXT(KELAS!DE9,\"0,00\"))","v":""},{"$f":"IF(KELAS!DF9=\"\",\"\",KELAS!DF9)","v":""},{"$f":"IF(KELAS!DG9=\"\",\"\",KELAS!DG9)","v":""},{"$f":"IF(KELAS!DH9=\"\",\"\",KELAS!DH9)","v":""},{"$f":"IF(KELAS!DI9=\"\",\"\",KELAS!DI9)","v":""},{"$f":"IF(KELAS!DJ9=\"\",\"\",KELAS!DJ9)","v":""},{"$f":"IF(KELAS!DK9=\"\",\"\",KELAS!DK9)","v":1},{"$f":"IF(KELAS!DL9=\"\",\"\",KELAS!DL9)","v":2},{"$f":"IF(KELAS!DM9=\"\",\"\",KELAS!DM9)","v":3},{"$f":"IF(KELAS!DN9=\"\",\"\",KELAS!DN9)","v":3},{"$f":"IF(KELAS!DO9=\"\",\"\",KELAS!DO9)","v":""},{"$f":"IF(KELAS!DP9=\"\",\"\",KELAS!DP9)","v":""},{"$f":"IF(KELAS!DQ9=\"\",\"\",KELAS!DQ9)","v":""},{"$f":"IF(KELAS!DR9=\"\",\"\",KELAS!DR9)","v":""},{"$f":"IF(KELAS!DS9=\"\",\"\",KELAS!DS9)","v":""},{"$f":"IF(KELAS!DT9=\"\",\"\",KELAS!DT9)","v":""},{"$f":"IF(KELAS!DU9=\"\",\"\",KELAS!DU9)","v":""},{"$f":"IF(KELAS!DV9=\"\",\"\",KELAS!DV9)","v":""},{"$f":"IF(KELAS!DW9=\"\",\"\",KELAS!DW9)","v":""},{"$f":"IF(KELAS!DX9=\"\",\"\",KELAS!DX9)","v":""},{"$f":"IF(KELAS!DY9=\"\",\"\",KELAS!DY9)","v":""},{"$f":"IF(KELAS!DZ9=\"\",\"\",KELAS!DZ9)","v":""},{"$f":"IF(KELAS!EA9=\"\",\"\",KELAS!EA9)","v":"1 ( satu )"},{"$f":"IF(KELAS!EB9=\"\",\"\",KELAS!EB9)","v":"2 ( dua )"},{"$f":"IF(KELAS!EC9=\"\",\"\",KELAS!EC9)","v":"3 ( tiga )"},{"$f":"IF(KELAS!ED9=\"\",\"\",KELAS!ED9)","v":"3 ( tiga )"},{"$f":"IF(KELAS!EE9=\"\",\"\",KELAS!EE9)","v":""},{"$f":"IF(KELAS!EF9=\"\",\"\",KELAS!EF9)","v":""},{"$f":"IF(KELAS!EG9=\"\",\"\",KELAS!EG9)","v":"Peserta didik menunjukan sikap sungguh-sungguh dalam menerapkan sikap santun, jujur dan kerjasama, namun masih perlu ditingkatkan lagi sikap percaya diri dan ketepatan masuk sekolah"},{"$f":"IF(KELAS!EH9=\"\",\"\",KELAS!EH9)","v":"Dhany Suryanto, S.Pd."},{"$f":"IF(KELAS!EI9=\"\",\"\",KELAS!EI9)","v":"jika punya NIP isikan di sini"},{"$f":"IF(KELAS!EJ9=\"\",\"\",KELAS!EJ9)","v":0},{"$f":"IF(KELAS!EK9=\"\",\"\",KELAS!EK9)","v":0},{"$f":"IF(KELAS!EL9=\"\",\"\",KELAS!EL9)","v":0},{"$f":"IF(KELAS!EM9=\"\",\"\",KELAS!EM9)","v":0},{"$f":"IF(KELAS!EN9=\"\",\"\",KELAS!EN9)","v":0},{"$f":"IF(KELAS!EO9=\"\",\"\",KELAS!EO9)","v":0},{"$f":"IF(KELAS!EP9=\"\",\"\",KELAS!EP9)","v":0},{"$f":"IF(KELAS!EQ9=\"\",\"\",KELAS!EQ9)","v":0},{"$f":"IF(KELAS!ER9=\"\",\"\",KELAS!ER9)","v":0},{"$f":"IF(KELAS!ES9=\"\",\"\",KELAS!ES9)","v":0},{"$f":"IF(KELAS!ET9=\"\",\"\",KELAS!ET9)","v":0}]
[{"$f":"IF(KELAS!A10=\"\",\"\",KELAS!A10)","v":8},{"$f":"IF(KELAS!B10=\"\",\"\",KELAS!B10)","v":12509},{"$f":"IF(KELAS!C10=\"\",\"\",KELAS!C10)","v":"DHEA RACHMA PUTRI"},{"$f":"IF(KELAS!D10=\"\",\"\",KELAS!D10)","v":"P"},{"$f":"IF(KELAS!E10=\"\",\"\",KELAS!E10)","v":"7.A"},{"$f":"IF(KELAS!F10=\"\",\"\",KELAS!F10)","v":"Islam"},{"$f":"IF(KELAS!G10=\"\",\"\",KELAS!G10)","v":9981655483},{"$f":"IF(KELAS!H10=\"\",\"\",KELAS!H10)","v":"Banjarnegara, 12 Januari 1998"},{"$f":"IF(KELAS!I10=\"\",\"\",KELAS!I10)","v":"Siryono Rachmanto"},{"$f":"IF(KELAS!J10=\"\",\"\",KELAS!J10)","v":"Wiraswasta"},{"$f":"IF(KELAS!K10=\"\",\"\",KELAS!K10)","v":"Bawon"},{"$f":"IF(KELAS!L10=\"\",\"\",KELAS!L10)","v":"Ibu Rumah Tangga"},{"$f":"IF(KELAS!M10=\"\",\"\",KELAS!M10)","v":"Karangtengah RT.03 RW.02, Batur, Bjr"},{"$f":"IF(KELAS!N10=\"\",\"\",KELAS!N10)","v":"MTS MUALLIMAAT MUH YOGYAKARTA"},{"$f":"IF(KELAS!O10=\"\",\"\",KELAS!O10)","v":1},{"$f":"IF(KELAS!P10=\"\",\"\",KELAS!P10)","v":"Anak Kandung"},{"$f":"IF(KELAS!Q10=\"\",\"\",TEXT(KELAS!Q10,\"0,00\"))","v":""},{"$f":"IF(KELAS!R10=\"\",\"\",KELAS!R10)","v":""},{"$f":"IF(KELAS!S10=\"\",\"\",KELAS!S10)","v":""},{"$f":"IF(KELAS!T10=\"\",\"\",TEXT(KELAS!T10,\"0,00\"))","v":""},{"$f":"IF(KELAS!U10=\"\",\"\",KELAS!U10)","v":""},{"$f":"IF(KELAS!V10=\"\",\"\",KELAS!V10)","v":""},{"$f":"IF(KELAS!W10=\"\",\"\",KELAS!W10)","v":""},{"$f":"IF(KELAS!X10=\"\",\"\",KELAS!X10)","v":""},{"$f":"IF(KELAS!Y10=\"\",\"\",TEXT(KELAS!Y10,\"0,00\"))","v":""},{"$f":"IF(KELAS!Z10=\"\",\"\",KELAS!Z10)","v":""},{"$f":"IF(KELAS!AA10=\"\",\"\",KELAS!AA10)","v":""},{"$f":"IF(KELAS!AB10=\"\",\"\",TEXT(KELAS!AB10,\"0,00\"))","v":""},{"$f":"IF(KELAS!AC10=\"\",\"\",KELAS!AC10)","v":""},{"$f":"IF(KELAS!AD10=\"\",\"\",KELAS!AD10)","v":""},{"$f":"IF(KELAS!AE10=\"\",\"\",KELAS!AE10)","v":""},{"$f":"IF(KELAS!AF10=\"\",\"\",KELAS!AF10)","v":""},{"$f":"IF(KELAS!AG10=\"\",\"\",KELAS!AG10)","v":""},{"$f":"IF(KELAS!AH10=\"\",\"\",TEXT(KELAS!AH10,\"0,00\"))","v":""},{"$f":"IF(KELAS!AI10=\"\",\"\",KELAS!AI10)","v":""},{"$f":"IF(KELAS!AJ10=\"\",\"\",KELAS!AJ10)","v":""},{"$f":"IF(KELAS!AK10=\"\",\"\",TEXT(KELAS!AK10,\"0,00\"))","v":""},{"$f":"IF(KELAS!AL10=\"\",\"\",KELAS!AL10)","v":""},{"$f":"IF(KELAS!AM10=\"\",\"\",KELAS!AM10)","v":""},{"$f":"IF(KELAS!AN10=\"\",\"\",KELAS!AN10)","v":""},{"$f":"IF(KELAS!AO10=\"\",\"\",KELAS!AO10)","v":""},{"$f":"IF(KELAS!AP10=\"\",\"\",KELAS!AP10)","v":""},{"$f":"IF(KELAS!AQ10=\"\",\"\",TEXT(KELAS!AQ10,\"0,00\"))","v":""},{"$f":"IF(KELAS!AR10=\"\",\"\",KELAS!AR10)","v":""},{"$f":"IF(KELAS!AS10=\"\",\"\",KELAS!AS10)","v":""},{"$f":"IF(KELAS!AT10=\"\",\"\",TEXT(KELAS!AT10,\"0,00\"))","v":""},{"$f":"IF(KELAS!AU10=\"\",\"\",KELAS!AU10)","v":""},{"$f":"IF(KELAS!AV10=\"\",\"\",KELAS!AV10)","v":""},{"$f":"IF(KELAS!AW10=\"\",\"\",KELAS!AW10)","v":""},{"$f":"IF(KELAS!AX10=\"\",\"\",KELAS!AX10)","v":""},{"$f":"IF(KELAS!AY10=\"\",\"\",KELAS!AY10)","v":""},{"$f":"IF(KELAS!AZ10=\"\",\"\",TEXT(KELAS!AZ10,\"0,00\"))","v":""},{"$f":"IF(KELAS!BA10=\"\",\"\",KELAS!BA10)","v":""},{"$f":"IF(KELAS!BB10=\"\",\"\",KELAS!BB10)","v":""},{"$f":"IF(KELAS!BC10=\"\",\"\",TEXT(KELAS!BC10,\"0,00\"))","v":""},{"$f":"IF(KELAS!BD10=\"\",\"\",KELAS!BD10)","v":""},{"$f":"IF(KELAS!BE10=\"\",\"\",KELAS!BE10)","v":""},{"$f":"IF(KELAS!BF10=\"\",\"\",KELAS!BF10)","v":""},{"$f":"IF(KELAS!BG10=\"\",\"\",KELAS!BG10)","v":""},{"$f":"IF(KELAS!BH10=\"\",\"\",KELAS!BH10)","v":""},{"$f":"IF(KELAS!BI10=\"\",\"\",TEXT(KELAS!BI10,\"0,00\"))","v":""},{"$f":"IF(KELAS!BJ10=\"\",\"\",KELAS!BJ10)","v":""},{"$f":"IF(KELAS!BK10=\"\",\"\",KELAS!BK10)","v":""},{"$f":"IF(KELAS!BL10=\"\",\"\",TEXT(KELAS!BL10,\"0,00\"))","v":""},{"$f":"IF(KELAS!BM10=\"\",\"\",KELAS!BM10)","v":""},{"$f":"IF(KELAS!BN10=\"\",\"\",KELAS!BN10)","v":""},{"$f":"IF(KELAS!BO10=\"\",\"\",KELAS!BO10)","v":""},{"$f":"IF(KELAS!BP10=\"\",\"\",KELAS!BP10)","v":""},{"$f":"IF(KELAS!BQ10=\"\",\"\",KELAS!BQ10)","v":""},{"$f":"IF(KELAS!BR10=\"\",\"\",TEXT(KELAS!BR10,\"0,00\"))","v":""},{"$f":"IF(KELAS!BS10=\"\",\"\",KELAS!BS10)","v":""},{"$f":"IF(KELAS!BT10=\"\",\"\",KELAS!BT10)","v":""},{"$f":"IF(KELAS!BU10=\"\",\"\",TEXT(KELAS!BU10,\"0,00\"))","v":""},{"$f":"IF(KELAS!BV10=\"\",\"\",KELAS!BV10)","v":""},{"$f":"IF(KELAS!BW10=\"\",\"\",KELAS!BW10)","v":""},{"$f":"IF(KELAS!BX10=\"\",\"\",KELAS!BX10)","v":""},{"$f":"IF(KELAS!BY10=\"\",\"\",KELAS!BY10)","v":""},{"$f":"IF(KELAS!BZ10=\"\",\"\",KELAS!BZ10)","v":""},{"$f":"IF(KELAS!CA10=\"\",\"\",TEXT(KELAS!CA10,\"0,00\"))","v":""},{"$f":"IF(KELAS!CB10=\"\",\"\",KELAS!CB10)","v":""},{"$f":"IF(KELAS!CC10=\"\",\"\",KELAS!CC10)","v":""},{"$f":"IF(KELAS!CD10=\"\",\"\",TEXT(KELAS!CD10,\"0,00\"))","v":""},{"$f":"IF(KELAS!CE10=\"\",\"\",KELAS!CE10)","v":""},{"$f":"IF(KELAS!CF10=\"\",\"\",KELAS!CF10)","v":""},{"$f":"IF(KELAS!CG10=\"\",\"\",KELAS!CG10)","v":""},{"$f":"IF(KELAS!CH10=\"\",\"\",KELAS!CH10)","v":""},{"$f":"IF(KELAS!CI10=\"\",\"\",KELAS!CI10)","v":""},{"$f":"IF(KELAS!CJ10=\"\",\"\",TEXT(KELAS!CJ10,\"0,00\"))","v":""},{"$f":"IF(KELAS!CK10=\"\",\"\",KELAS!CK10)","v":""},{"$f":"IF(KELAS!CL10=\"\",\"\",KELAS!CL10)","v":""},{"$f":"IF(KELAS!CM10=\"\",\"\",TEXT(KELAS!CM10,\"0,00\"))","v":""},{"$f":"IF(KELAS!CN10=\"\",\"\",KELAS!CN10)","v":""},{"$f":"IF(KELAS!CO10=\"\",\"\",KELAS!CO10)","v":""},{"$f":"IF(KELAS!CP10=\"\",\"\",KELAS!CP10)","v":""},{"$f":"IF(KELAS!CQ10=\"\",\"\",KELAS!CQ10)","v":""},{"$f":"IF(KELAS!CR10=\"\",\"\",KELAS!CR10)","v":""},{"$f":"IF(KELAS!CS10=\"\",\"\",TEXT(KELAS!CS10,\"0,00\"))","v":""},{"$f":"IF(KELAS!CT10=\"\",\"\",KELAS!CT10)","v":""},{"$f":"IF(KELAS!CU10=\"\",\"\",KELAS!CU10)","v":""},{"$f":"IF(KELAS!CV10=\"\",\"\",TEXT(KELAS!CV10,\"0,00\"))","v":""},{"$f":"IF(KELAS!CW10=\"\",\"\",KELAS!CW10)","v":""},{"$f":"IF(KELAS!CX10=\"\",\"\",KELAS!CX10)","v":""},{"$f":"IF(KELAS!CY10=\"\",\"\",KELAS!CY10)","v":""},{"$f":"IF(KELAS!CZ10=\"\",\"\",KELAS!CZ10)","v":""},{"$f":"IF(KELAS!DA10=\"\",\"\",KELAS!DA10)","v":""},{"$f":"IF(KELAS!DB10=\"\",\"\",TEXT(KELAS!DB10,\"0,00\"))","v":""},{"$f":"IF(KELAS!DC10=\"\",\"\",KELAS!DC10)","v":""},{"$f":"IF(KELAS!DD10=\"\",\"\",KELAS!DD10)","v":""},{"$f":"IF(KELAS!DE10=\"\",\"\",TEXT(KELAS!DE10,\"0,00\"))","v":""},{"$f":"IF(KELAS!DF10=\"\",\"\",KELAS!DF10)","v":""},{"$f":"IF(KELAS!DG10=\"\",\"\",KELAS!DG10)","v":""},{"$f":"IF(KELAS!DH10=\"\",\"\",KELAS!DH10)","v":""},{"$f":"IF(KELAS!DI10=\"\",\"\",KELAS!DI10)","v":""},{"$f":"IF(KELAS!DJ10=\"\",\"\",KELAS!DJ10)","v":""},{"$f":"IF(KELAS!DK10=\"\",\"\",KELAS!DK10)","v":1},{"$f":"IF(KELAS!DL10=\"\",\"\",KELAS!DL10)","v":2},{"$f":"IF(KELAS!DM10=\"\",\"\",KELAS!DM10)","v":2},{"$f":"IF(KELAS!DN10=\"\",\"\",KELAS!DN10)","v":3},{"$f":"IF(KELAS!DO10=\"\",\"\",KELAS!DO10)","v":""},{"$f":"IF(KELAS!DP10=\"\",\"\",KELAS!DP10)","v":""},{"$f":"IF(KELAS!DQ10=\"\",\"\",KELAS!DQ10)","v":""},{"$f":"IF(KELAS!DR10=\"\",\"\",KELAS!DR10)","v":""},{"$f":"IF(KELAS!DS10=\"\",\"\",KELAS!DS10)","v":""},{"$f":"IF(KELAS!DT10=\"\",\"\",KELAS!DT10)","v":""},{"$f":"IF(KELAS!DU10=\"\",\"\",KELAS!DU10)","v":""},{"$f":"IF(KELAS!DV10=\"\",\"\",KELAS!DV10)","v":""},{"$f":"IF(KELAS!DW10=\"\",\"\",KELAS!DW10)","v":""},{"$f":"IF(KELAS!DX10=\"\",\"\",KELAS!DX10)","v":""},{"$f":"IF(KELAS!DY10=\"\",\"\",KELAS!DY10)","v":""},{"$f":"IF(KELAS!DZ10=\"\",\"\",KELAS!DZ10)","v":""},{"$f":"IF(KELAS!EA10=\"\",\"\",KELAS!EA10)","v":"1 ( satu )"},{"$f":"IF(KELAS!EB10=\"\",\"\",KELAS!EB10)","v":"2 ( dua )"},{"$f":"IF(KELAS!EC10=\"\",\"\",KELAS!EC10)","v":"2 ( dua )"},{"$f":"IF(KELAS!ED10=\"\",\"\",KELAS!ED10)","v":"3 ( tiga )"},{"$f":"IF(KELAS!EE10=\"\",\"\",KELAS!EE10)","v":""},{"$f":"IF(KELAS!EF10=\"\",\"\",KELAS!EF10)","v":""},{"$f":"IF(KELAS!EG10=\"\",\"\",KELAS!EG10)","v":"Peserta didik menunjukan sikap sungguh-sungguh dalam menerapkan sikap santun, jujur dan kerjasama, namun masih perlu ditingkatkan lagi sikap percaya diri dan ketepatan masuk sekolah"},{"$f":"IF(KELAS!EH10=\"\",\"\",KELAS!EH10)","v":"Dhany Suryanto, S.Pd."},{"$f":"IF(KELAS!EI10=\"\",\"\",KELAS!EI10)","v":"jika punya NIP isikan di sini"},{"$f":"IF(KELAS!EJ10=\"\",\"\",KELAS!EJ10)","v":0},{"$f":"IF(KELAS!EK10=\"\",\"\",KELAS!EK10)","v":0},{"$f":"IF(KELAS!EL10=\"\",\"\",KELAS!EL10)","v":0},{"$f":"IF(KELAS!EM10=\"\",\"\",KELAS!EM10)","v":0},{"$f":"IF(KELAS!EN10=\"\",\"\",KELAS!EN10)","v":0},{"$f":"IF(KELAS!EO10=\"\",\"\",KELAS!EO10)","v":0},{"$f":"IF(KELAS!EP10=\"\",\"\",KELAS!EP10)","v":0},{"$f":"IF(KELAS!EQ10=\"\",\"\",KELAS!EQ10)","v":0},{"$f":"IF(KELAS!ER10=\"\",\"\",KELAS!ER10)","v":0},{"$f":"IF(KELAS!ES10=\"\",\"\",KELAS!ES10)","v":0},{"$f":"IF(KELAS!ET10=\"\",\"\",KELAS!ET10)","v":0}]
[{"$f":"IF(KELAS!A11=\"\",\"\",KELAS!A11)","v":9},{"$f":"IF(KELAS!B11=\"\",\"\",KELAS!B11)","v":12545},{"$f":"IF(KELAS!C11=\"\",\"\",KELAS!C11)","v":"FAJAR ILAHI"},{"$f":"IF(KELAS!D11=\"\",\"\",KELAS!D11)","v":"L"},{"$f":"IF(KELAS!E11=\"\",\"\",KELAS!E11)","v":"7.A"},{"$f":"IF(KELAS!F11=\"\",\"\",KELAS!F11)","v":"Islam"},{"$f":"IF(KELAS!G11=\"\",\"\",KELAS!G11)","v":"-"},{"$f":"IF(KELAS!H11=\"\",\"\",KELAS!H11)","v":"Wonosobo, 02 Maret 1998"},{"$f":"IF(KELAS!I11=\"\",\"\",KELAS!I11)","v":"Anto Sujito"},{"$f":"IF(KELAS!J11=\"\",\"\",KELAS!J11)","v":"Buruh Harian Lepas"},{"$f":"IF(KELAS!K11=\"\",\"\",KELAS!K11)","v":"Bawon"},{"$f":"IF(KELAS!L11=\"\",\"\",KELAS!L11)","v":"Ibu Rumah Tangga"},{"$f":"IF(KELAS!M11=\"\",\"\",KELAS!M11)","v":"Serayu RT.01 RW.02, Besani, Leksono, Wsb"},{"$f":"IF(KELAS!N11=\"\",\"\",KELAS!N11)","v":"SMP MUHAMMADIYAH 3 LEKSONO"},{"$f":"IF(KELAS!O11=\"\",\"\",KELAS!O11)","v":1},{"$f":"IF(KELAS!P11=\"\",\"\",KELAS!P11)","v":"Anak Kandung"},{"$f":"IF(KELAS!Q11=\"\",\"\",TEXT(KELAS!Q11,\"0,00\"))","v":""},{"$f":"IF(KELAS!R11=\"\",\"\",KELAS!R11)","v":""},{"$f":"IF(KELAS!S11=\"\",\"\",KELAS!S11)","v":""},{"$f":"IF(KELAS!T11=\"\",\"\",TEXT(KELAS!T11,\"0,00\"))","v":""},{"$f":"IF(KELAS!U11=\"\",\"\",KELAS!U11)","v":""},{"$f":"IF(KELAS!V11=\"\",\"\",KELAS!V11)","v":""},{"$f":"IF(KELAS!W11=\"\",\"\",KELAS!W11)","v":""},{"$f":"IF(KELAS!X11=\"\",\"\",KELAS!X11)","v":""},{"$f":"IF(KELAS!Y11=\"\",\"\",TEXT(KELAS!Y11,\"0,00\"))","v":""},{"$f":"IF(KELAS!Z11=\"\",\"\",KELAS!Z11)","v":""},{"$f":"IF(KELAS!AA11=\"\",\"\",KELAS!AA11)","v":""},{"$f":"IF(KELAS!AB11=\"\",\"\",TEXT(KELAS!AB11,\"0,00\"))","v":""},{"$f":"IF(KELAS!AC11=\"\",\"\",KELAS!AC11)","v":""},{"$f":"IF(KELAS!AD11=\"\",\"\",KELAS!AD11)","v":""},{"$f":"IF(KELAS!AE11=\"\",\"\",KELAS!AE11)","v":""},{"$f":"IF(KELAS!AF11=\"\",\"\",KELAS!AF11)","v":""},{"$f":"IF(KELAS!AG11=\"\",\"\",KELAS!AG11)","v":""},{"$f":"IF(KELAS!AH11=\"\",\"\",TEXT(KELAS!AH11,\"0,00\"))","v":""},{"$f":"IF(KELAS!AI11=\"\",\"\",KELAS!AI11)","v":""},{"$f":"IF(KELAS!AJ11=\"\",\"\",KELAS!AJ11)","v":""},{"$f":"IF(KELAS!AK11=\"\",\"\",TEXT(KELAS!AK11,\"0,00\"))","v":""},{"$f":"IF(KELAS!AL11=\"\",\"\",KELAS!AL11)","v":""},{"$f":"IF(KELAS!AM11=\"\",\"\",KELAS!AM11)","v":""},{"$f":"IF(KELAS!AN11=\"\",\"\",KELAS!AN11)","v":""},{"$f":"IF(KELAS!AO11=\"\",\"\",KELAS!AO11)","v":""},{"$f":"IF(KELAS!AP11=\"\",\"\",KELAS!AP11)","v":""},{"$f":"IF(KELAS!AQ11=\"\",\"\",TEXT(KELAS!AQ11,\"0,00\"))","v":""},{"$f":"IF(KELAS!AR11=\"\",\"\",KELAS!AR11)","v":""},{"$f":"IF(KELAS!AS11=\"\",\"\",KELAS!AS11)","v":""},{"$f":"IF(KELAS!AT11=\"\",\"\",TEXT(KELAS!AT11,\"0,00\"))","v":""},{"$f":"IF(KELAS!AU11=\"\",\"\",KELAS!AU11)","v":""},{"$f":"IF(KELAS!AV11=\"\",\"\",KELAS!AV11)","v":""},{"$f":"IF(KELAS!AW11=\"\",\"\",KELAS!AW11)","v":""},{"$f":"IF(KELAS!AX11=\"\",\"\",KELAS!AX11)","v":""},{"$f":"IF(KELAS!AY11=\"\",\"\",KELAS!AY11)","v":""},{"$f":"IF(KELAS!AZ11=\"\",\"\",TEXT(KELAS!AZ11,\"0,00\"))","v":""},{"$f":"IF(KELAS!BA11=\"\",\"\",KELAS!BA11)","v":""},{"$f":"IF(KELAS!BB11=\"\",\"\",KELAS!BB11)","v":""},{"$f":"IF(KELAS!BC11=\"\",\"\",TEXT(KELAS!BC11,\"0,00\"))","v":""},{"$f":"IF(KELAS!BD11=\"\",\"\",KELAS!BD11)","v":""},{"$f":"IF(KELAS!BE11=\"\",\"\",KELAS!BE11)","v":""},{"$f":"IF(KELAS!BF11=\"\",\"\",KELAS!BF11)","v":""},{"$f":"IF(KELAS!BG11=\"\",\"\",KELAS!BG11)","v":""},{"$f":"IF(KELAS!BH11=\"\",\"\",KELAS!BH11)","v":""},{"$f":"IF(KELAS!BI11=\"\",\"\",TEXT(KELAS!BI11,\"0,00\"))","v":""},{"$f":"IF(KELAS!BJ11=\"\",\"\",KELAS!BJ11)","v":""},{"$f":"IF(KELAS!BK11=\"\",\"\",KELAS!BK11)","v":""},{"$f":"IF(KELAS!BL11=\"\",\"\",TEXT(KELAS!BL11,\"0,00\"))","v":""},{"$f":"IF(KELAS!BM11=\"\",\"\",KELAS!BM11)","v":""},{"$f":"IF(KELAS!BN11=\"\",\"\",KELAS!BN11)","v":""},{"$f":"IF(KELAS!BO11=\"\",\"\",KELAS!BO11)","v":""},{"$f":"IF(KELAS!BP11=\"\",\"\",KELAS!BP11)","v":""},{"$f":"IF(KELAS!BQ11=\"\",\"\",KELAS!BQ11)","v":""},{"$f":"IF(KELAS!BR11=\"\",\"\",TEXT(KELAS!BR11,\"0,00\"))","v":""},{"$f":"IF(KELAS!BS11=\"\",\"\",KELAS!BS11)","v":""},{"$f":"IF(KELAS!BT11=\"\",\"\",KELAS!BT11)","v":""},{"$f":"IF(KELAS!BU11=\"\",\"\",TEXT(KELAS!BU11,\"0,00\"))","v":""},{"$f":"IF(KELAS!BV11=\"\",\"\",KELAS!BV11)","v":""},{"$f":"IF(KELAS!BW11=\"\",\"\",KELAS!BW11)","v":""},{"$f":"IF(KELAS!BX11=\"\",\"\",KELAS!BX11)","v":""},{"$f":"IF(KELAS!BY11=\"\",\"\",KELAS!BY11)","v":""},{"$f":"IF(KELAS!BZ11=\"\",\"\",KELAS!BZ11)","v":""},{"$f":"IF(KELAS!CA11=\"\",\"\",TEXT(KELAS!CA11,\"0,00\"))","v":""},{"$f":"IF(KELAS!CB11=\"\",\"\",KELAS!CB11)","v":""},{"$f":"IF(KELAS!CC11=\"\",\"\",KELAS!CC11)","v":""},{"$f":"IF(KELAS!CD11=\"\",\"\",TEXT(KELAS!CD11,\"0,00\"))","v":""},{"$f":"IF(KELAS!CE11=\"\",\"\",KELAS!CE11)","v":""},{"$f":"IF(KELAS!CF11=\"\",\"\",KELAS!CF11)","v":""},{"$f":"IF(KELAS!CG11=\"\",\"\",KELAS!CG11)","v":""},{"$f":"IF(KELAS!CH11=\"\",\"\",KELAS!CH11)","v":""},{"$f":"IF(KELAS!CI11=\"\",\"\",KELAS!CI11)","v":""},{"$f":"IF(KELAS!CJ11=\"\",\"\",TEXT(KELAS!CJ11,\"0,00\"))","v":""},{"$f":"IF(KELAS!CK11=\"\",\"\",KELAS!CK11)","v":""},{"$f":"IF(KELAS!CL11=\"\",\"\",KELAS!CL11)","v":""},{"$f":"IF(KELAS!CM11=\"\",\"\",TEXT(KELAS!CM11,\"0,00\"))","v":""},{"$f":"IF(KELAS!CN11=\"\",\"\",KELAS!CN11)","v":""},{"$f":"IF(KELAS!CO11=\"\",\"\",KELAS!CO11)","v":""},{"$f":"IF(KELAS!CP11=\"\",\"\",KELAS!CP11)","v":""},{"$f":"IF(KELAS!CQ11=\"\",\"\",KELAS!CQ11)","v":""},{"$f":"IF(KELAS!CR11=\"\",\"\",KELAS!CR11)","v":""},{"$f":"IF(KELAS!CS11=\"\",\"\",TEXT(KELAS!CS11,\"0,00\"))","v":""},{"$f":"IF(KELAS!CT11=\"\",\"\",KELAS!CT11)","v":""},{"$f":"IF(KELAS!CU11=\"\",\"\",KELAS!CU11)","v":""},{"$f":"IF(KELAS!CV11=\"\",\"\",TEXT(KELAS!CV11,\"0,00\"))","v":""},{"$f":"IF(KELAS!CW11=\"\",\"\",KELAS!CW11)","v":""},{"$f":"IF(KELAS!CX11=\"\",\"\",KELAS!CX11)","v":""},{"$f":"IF(KELAS!CY11=\"\",\"\",KELAS!CY11)","v":""},{"$f":"IF(KELAS!CZ11=\"\",\"\",KELAS!CZ11)","v":""},{"$f":"IF(KELAS!DA11=\"\",\"\",KELAS!DA11)","v":""},{"$f":"IF(KELAS!DB11=\"\",\"\",TEXT(KELAS!DB11,\"0,00\"))","v":""},{"$f":"IF(KELAS!DC11=\"\",\"\",KELAS!DC11)","v":""},{"$f":"IF(KELAS!DD11=\"\",\"\",KELAS!DD11)","v":""},{"$f":"IF(KELAS!DE11=\"\",\"\",TEXT(KELAS!DE11,\"0,00\"))","v":""},{"$f":"IF(KELAS!DF11=\"\",\"\",KELAS!DF11)","v":""},{"$f":"IF(KELAS!DG11=\"\",\"\",KELAS!DG11)","v":""},{"$f":"IF(KELAS!DH11=\"\",\"\",KELAS!DH11)","v":""},{"$f":"IF(KELAS!DI11=\"\",\"\",KELAS!DI11)","v":""},{"$f":"IF(KELAS!DJ11=\"\",\"\",KELAS!DJ11)","v":""},{"$f":"IF(KELAS!DK11=\"\",\"\",KELAS!DK11)","v":1},{"$f":"IF(KELAS!DL11=\"\",\"\",KELAS!DL11)","v":1},{"$f":"IF(KELAS!DM11=\"\",\"\",KELAS!DM11)","v":3},{"$f":"IF(KELAS!DN11=\"\",\"\",KELAS!DN11)","v":1},{"$f":"IF(KELAS!DO11=\"\",\"\",KELAS!DO11)","v":""},{"$f":"IF(KELAS!DP11=\"\",\"\",KELAS!DP11)","v":""},{"$f":"IF(KELAS!DQ11=\"\",\"\",KELAS!DQ11)","v":""},{"$f":"IF(KELAS!DR11=\"\",\"\",KELAS!DR11)","v":""},{"$f":"IF(KELAS!DS11=\"\",\"\",KELAS!DS11)","v":""},{"$f":"IF(KELAS!DT11=\"\",\"\",KELAS!DT11)","v":""},{"$f":"IF(KELAS!DU11=\"\",\"\",KELAS!DU11)","v":""},{"$f":"IF(KELAS!DV11=\"\",\"\",KELAS!DV11)","v":""},{"$f":"IF(KELAS!DW11=\"\",\"\",KELAS!DW11)","v":""},{"$f":"IF(KELAS!DX11=\"\",\"\",KELAS!DX11)","v":""},{"$f":"IF(KELAS!DY11=\"\",\"\",KELAS!DY11)","v":""},{"$f":"IF(KELAS!DZ11=\"\",\"\",KELAS!DZ11)","v":""},{"$f":"IF(KELAS!EA11=\"\",\"\",KELAS!EA11)","v":"1 ( satu )"},{"$f":"IF(KELAS!EB11=\"\",\"\",KELAS!EB11)","v":"1 ( satu )"},{"$f":"IF(KELAS!EC11=\"\",\"\",KELAS!EC11)","v":"3 ( tiga )"},{"$f":"IF(KELAS!ED11=\"\",\"\",KELAS!ED11)","v":"1 ( satu )"},{"$f":"IF(KELAS!EE11=\"\",\"\",KELAS!EE11)","v":""},{"$f":"IF(KELAS!EF11=\"\",\"\",KELAS!EF11)","v":""},{"$f":"IF(KELAS!EG11=\"\",\"\",KELAS!EG11)","v":"Peserta didik menunjukan sikap sungguh-sungguh dalam menerapkan sikap santun, jujur dan kerjasama, namun masih perlu ditingkatkan lagi sikap percaya diri dan ketepatan masuk sekolah"},{"$f":"IF(KELAS!EH11=\"\",\"\",KELAS!EH11)","v":"Dhany Suryanto, S.Pd."},{"$f":"IF(KELAS!EI11=\"\",\"\",KELAS!EI11)","v":"jika punya NIP isikan di sini"},{"$f":"IF(KELAS!EJ11=\"\",\"\",KELAS!EJ11)","v":0},{"$f":"IF(KELAS!EK11=\"\",\"\",KELAS!EK11)","v":0},{"$f":"IF(KELAS!EL11=\"\",\"\",KELAS!EL11)","v":0},{"$f":"IF(KELAS!EM11=\"\",\"\",KELAS!EM11)","v":0},{"$f":"IF(KELAS!EN11=\"\",\"\",KELAS!EN11)","v":0},{"$f":"IF(KELAS!EO11=\"\",\"\",KELAS!EO11)","v":0},{"$f":"IF(KELAS!EP11=\"\",\"\",KELAS!EP11)","v":0},{"$f":"IF(KELAS!EQ11=\"\",\"\",KELAS!EQ11)","v":0},{"$f":"IF(KELAS!ER11=\"\",\"\",KELAS!ER11)","v":0},{"$f":"IF(KELAS!ES11=\"\",\"\",KELAS!ES11)","v":0},{"$f":"IF(KELAS!ET11=\"\",\"\",KELAS!ET11)","v":0}]
[{"$f":"IF(KELAS!A12=\"\",\"\",KELAS!A12)","v":10},{"$f":"IF(KELAS!B12=\"\",\"\",KELAS!B12)","v":12551},{"$f":"IF(KELAS!C12=\"\",\"\",KELAS!C12)","v":"FELITA EMILIA RAHMA"},{"$f":"IF(KELAS!D12=\"\",\"\",KELAS!D12)","v":"P"},{"$f":"IF(KELAS!E12=\"\",\"\",KELAS!E12)","v":"7.A"},{"$f":"IF(KELAS!F12=\"\",\"\",KELAS!F12)","v":"Islam"},{"$f":"IF(KELAS!G12=\"\",\"\",KELAS!G12)","v":9981599185},{"$f":"IF(KELAS!H12=\"\",\"\",KELAS!H12)","v":"Wonosobo, 27 Februari 1998"},{"$f":"IF(KELAS!I12=\"\",\"\",KELAS!I12)","v":"Surono"},{"$f":"IF(KELAS!J12=\"\",\"\",KELAS!J12)","v":"Perangkat Desa"},{"$f":"IF(KELAS!K12=\"\",\"\",KELAS!K12)","v":"Maryatun"},{"$f":"IF(KELAS!L12=\"\",\"\",KELAS!L12)","v":"Wiraswasta"},{"$f":"IF(KELAS!M12=\"\",\"\",KELAS!M12)","v":"Binangun RT.07 RW.04, Wringinanom, Kertek, Wsb"},{"$f":"IF(KELAS!N12=\"\",\"\",KELAS!N12)","v":"SMPN 3 KERTEK"},{"$f":"IF(KELAS!O12=\"\",\"\",KELAS!O12)","v":2},{"$f":"IF(KELAS!P12=\"\",\"\",KELAS!P12)","v":"Anak Kandung"},{"$f":"IF(KELAS!Q12=\"\",\"\",TEXT(KELAS!Q12,\"0,00\"))","v":""},{"$f":"IF(KELAS!R12=\"\",\"\",KELAS!R12)","v":""},{"$f":"IF(KELAS!S12=\"\",\"\",KELAS!S12)","v":""},{"$f":"IF(KELAS!T12=\"\",\"\",TEXT(KELAS!T12,\"0,00\"))","v":""},{"$f":"IF(KELAS!U12=\"\",\"\",KELAS!U12)","v":""},{"$f":"IF(KELAS!V12=\"\",\"\",KELAS!V12)","v":""},{"$f":"IF(KELAS!W12=\"\",\"\",KELAS!W12)","v":""},{"$f":"IF(KELAS!X12=\"\",\"\",KELAS!X12)","v":""},{"$f":"IF(KELAS!Y12=\"\",\"\",TEXT(KELAS!Y12,\"0,00\"))","v":""},{"$f":"IF(KELAS!Z12=\"\",\"\",KELAS!Z12)","v":""},{"$f":"IF(KELAS!AA12=\"\",\"\",KELAS!AA12)","v":""},{"$f":"IF(KELAS!AB12=\"\",\"\",TEXT(KELAS!AB12,\"0,00\"))","v":""},{"$f":"IF(KELAS!AC12=\"\",\"\",KELAS!AC12)","v":""},{"$f":"IF(KELAS!AD12=\"\",\"\",KELAS!AD12)","v":""},{"$f":"IF(KELAS!AE12=\"\",\"\",KELAS!AE12)","v":""},{"$f":"IF(KELAS!AF12=\"\",\"\",KELAS!AF12)","v":""},{"$f":"IF(KELAS!AG12=\"\",\"\",KELAS!AG12)","v":""},{"$f":"IF(KELAS!AH12=\"\",\"\",TEXT(KELAS!AH12,\"0,00\"))","v":""},{"$f":"IF(KELAS!AI12=\"\",\"\",KELAS!AI12)","v":""},{"$f":"IF(KELAS!AJ12=\"\",\"\",KELAS!AJ12)","v":""},{"$f":"IF(KELAS!AK12=\"\",\"\",TEXT(KELAS!AK12,\"0,00\"))","v":""},{"$f":"IF(KELAS!AL12=\"\",\"\",KELAS!AL12)","v":""},{"$f":"IF(KELAS!AM12=\"\",\"\",KELAS!AM12)","v":""},{"$f":"IF(KELAS!AN12=\"\",\"\",KELAS!AN12)","v":""},{"$f":"IF(KELAS!AO12=\"\",\"\",KELAS!AO12)","v":""},{"$f":"IF(KELAS!AP12=\"\",\"\",KELAS!AP12)","v":""},{"$f":"IF(KELAS!AQ12=\"\",\"\",TEXT(KELAS!AQ12,\"0,00\"))","v":""},{"$f":"IF(KELAS!AR12=\"\",\"\",KELAS!AR12)","v":""},{"$f":"IF(KELAS!AS12=\"\",\"\",KELAS!AS12)","v":""},{"$f":"IF(KELAS!AT12=\"\",\"\",TEXT(KELAS!AT12,\"0,00\"))","v":""},{"$f":"IF(KELAS!AU12=\"\",\"\",KELAS!AU12)","v":""},{"$f":"IF(KELAS!AV12=\"\",\"\",KELAS!AV12)","v":""},{"$f":"IF(KELAS!AW12=\"\",\"\",KELAS!AW12)","v":""},{"$f":"IF(KELAS!AX12=\"\",\"\",KELAS!AX12)","v":""},{"$f":"IF(KELAS!AY12=\"\",\"\",KELAS!AY12)","v":""},{"$f":"IF(KELAS!AZ12=\"\",\"\",TEXT(KELAS!AZ12,\"0,00\"))","v":""},{"$f":"IF(KELAS!BA12=\"\",\"\",KELAS!BA12)","v":""},{"$f":"IF(KELAS!BB12=\"\",\"\",KELAS!BB12)","v":""},{"$f":"IF(KELAS!BC12=\"\",\"\",TEXT(KELAS!BC12,\"0,00\"))","v":""},{"$f":"IF(KELAS!BD12=\"\",\"\",KELAS!BD12)","v":""},{"$f":"IF(KELAS!BE12=\"\",\"\",KELAS!BE12)","v":""},{"$f":"IF(KELAS!BF12=\"\",\"\",KELAS!BF12)","v":""},{"$f":"IF(KELAS!BG12=\"\",\"\",KELAS!BG12)","v":""},{"$f":"IF(KELAS!BH12=\"\",\"\",KELAS!BH12)","v":""},{"$f":"IF(KELAS!BI12=\"\",\"\",TEXT(KELAS!BI12,\"0,00\"))","v":""},{"$f":"IF(KELAS!BJ12=\"\",\"\",KELAS!BJ12)","v":""},{"$f":"IF(KELAS!BK12=\"\",\"\",KELAS!BK12)","v":""},{"$f":"IF(KELAS!BL12=\"\",\"\",TEXT(KELAS!BL12,\"0,00\"))","v":""},{"$f":"IF(KELAS!BM12=\"\",\"\",KELAS!BM12)","v":""},{"$f":"IF(KELAS!BN12=\"\",\"\",KELAS!BN12)","v":""},{"$f":"IF(KELAS!BO12=\"\",\"\",KELAS!BO12)","v":""},{"$f":"IF(KELAS!BP12=\"\",\"\",KELAS!BP12)","v":""},{"$f":"IF(KELAS!BQ12=\"\",\"\",KELAS!BQ12)","v":""},{"$f":"IF(KELAS!BR12=\"\",\"\",TEXT(KELAS!BR12,\"0,00\"))","v":""},{"$f":"IF(KELAS!BS12=\"\",\"\",KELAS!BS12)","v":""},{"$f":"IF(KELAS!BT12=\"\",\"\",KELAS!BT12)","v":""},{"$f":"IF(KELAS!BU12=\"\",\"\",TEXT(KELAS!BU12,\"0,00\"))","v":""},{"$f":"IF(KELAS!BV12=\"\",\"\",KELAS!BV12)","v":""},{"$f":"IF(KELAS!BW12=\"\",\"\",KELAS!BW12)","v":""},{"$f":"IF(KELAS!BX12=\"\",\"\",KELAS!BX12)","v":""},{"$f":"IF(KELAS!BY12=\"\",\"\",KELAS!BY12)","v":""},{"$f":"IF(KELAS!BZ12=\"\",\"\",KELAS!BZ12)","v":""},{"$f":"IF(KELAS!CA12=\"\",\"\",TEXT(KELAS!CA12,\"0,00\"))","v":""},{"$f":"IF(KELAS!CB12=\"\",\"\",KELAS!CB12)","v":""},{"$f":"IF(KELAS!CC12=\"\",\"\",KELAS!CC12)","v":""},{"$f":"IF(KELAS!CD12=\"\",\"\",TEXT(KELAS!CD12,\"0,00\"))","v":""},{"$f":"IF(KELAS!CE12=\"\",\"\",KELAS!CE12)","v":""},{"$f":"IF(KELAS!CF12=\"\",\"\",KELAS!CF12)","v":""},{"$f":"IF(KELAS!CG12=\"\",\"\",KELAS!CG12)","v":""},{"$f":"IF(KELAS!CH12=\"\",\"\",KELAS!CH12)","v":""},{"$f":"IF(KELAS!CI12=\"\",\"\",KELAS!CI12)","v":""},{"$f":"IF(KELAS!CJ12=\"\",\"\",TEXT(KELAS!CJ12,\"0,00\"))","v":""},{"$f":"IF(KELAS!CK12=\"\",\"\",KELAS!CK12)","v":""},{"$f":"IF(KELAS!CL12=\"\",\"\",KELAS!CL12)","v":""},{"$f":"IF(KELAS!CM12=\"\",\"\",TEXT(KELAS!CM12,\"0,00\"))","v":""},{"$f":"IF(KELAS!CN12=\"\",\"\",KELAS!CN12)","v":""},{"$f":"IF(KELAS!CO12=\"\",\"\",KELAS!CO12)","v":""},{"$f":"IF(KELAS!CP12=\"\",\"\",KELAS!CP12)","v":""},{"$f":"IF(KELAS!CQ12=\"\",\"\",KELAS!CQ12)","v":""},{"$f":"IF(KELAS!CR12=\"\",\"\",KELAS!CR12)","v":""},{"$f":"IF(KELAS!CS12=\"\",\"\",TEXT(KELAS!CS12,\"0,00\"))","v":""},{"$f":"IF(KELAS!CT12=\"\",\"\",KELAS!CT12)","v":""},{"$f":"IF(KELAS!CU12=\"\",\"\",KELAS!CU12)","v":""},{"$f":"IF(KELAS!CV12=\"\",\"\",TEXT(KELAS!CV12,\"0,00\"))","v":""},{"$f":"IF(KELAS!CW12=\"\",\"\",KELAS!CW12)","v":""},{"$f":"IF(KELAS!CX12=\"\",\"\",KELAS!CX12)","v":""},{"$f":"IF(KELAS!CY12=\"\",\"\",KELAS!CY12)","v":""},{"$f":"IF(KELAS!CZ12=\"\",\"\",KELAS!CZ12)","v":""},{"$f":"IF(KELAS!DA12=\"\",\"\",KELAS!DA12)","v":""},{"$f":"IF(KELAS!DB12=\"\",\"\",TEXT(KELAS!DB12,\"0,00\"))","v":""},{"$f":"IF(KELAS!DC12=\"\",\"\",KELAS!DC12)","v":""},{"$f":"IF(KELAS!DD12=\"\",\"\",KELAS!DD12)","v":""},{"$f":"IF(KELAS!DE12=\"\",\"\",TEXT(KELAS!DE12,\"0,00\"))","v":""},{"$f":"IF(KELAS!DF12=\"\",\"\",KELAS!DF12)","v":""},{"$f":"IF(KELAS!DG12=\"\",\"\",KELAS!DG12)","v":""},{"$f":"IF(KELAS!DH12=\"\",\"\",KELAS!DH12)","v":""},{"$f":"IF(KELAS!DI12=\"\",\"\",KELAS!DI12)","v":""},{"$f":"IF(KELAS!DJ12=\"\",\"\",KELAS!DJ12)","v":""},{"$f":"IF(KELAS!DK12=\"\",\"\",KELAS!DK12)","v":1},{"$f":"IF(KELAS!DL12=\"\",\"\",KELAS!DL12)","v":3},{"$f":"IF(KELAS!DM12=\"\",\"\",KELAS!DM12)","v":1},{"$f":"IF(KELAS!DN12=\"\",\"\",KELAS!DN12)","v":1},{"$f":"IF(KELAS!DO12=\"\",\"\",KELAS!DO12)","v":""},{"$f":"IF(KELAS!DP12=\"\",\"\",KELAS!DP12)","v":""},{"$f":"IF(KELAS!DQ12=\"\",\"\",KELAS!DQ12)","v":""},{"$f":"IF(KELAS!DR12=\"\",\"\",KELAS!DR12)","v":""},{"$f":"IF(KELAS!DS12=\"\",\"\",KELAS!DS12)","v":""},{"$f":"IF(KELAS!DT12=\"\",\"\",KELAS!DT12)","v":""},{"$f":"IF(KELAS!DU12=\"\",\"\",KELAS!DU12)","v":""},{"$f":"IF(KELAS!DV12=\"\",\"\",KELAS!DV12)","v":""},{"$f":"IF(KELAS!DW12=\"\",\"\",KELAS!DW12)","v":""},{"$f":"IF(KELAS!DX12=\"\",\"\",KELAS!DX12)","v":""},{"$f":"IF(KELAS!DY12=\"\",\"\",KELAS!DY12)","v":""},{"$f":"IF(KELAS!DZ12=\"\",\"\",KELAS!DZ12)","v":""},{"$f":"IF(KELAS!EA12=\"\",\"\",KELAS!EA12)","v":"1 ( satu )"},{"$f":"IF(KELAS!EB12=\"\",\"\",KELAS!EB12)","v":"3 ( tiga )"},{"$f":"IF(KELAS!EC12=\"\",\"\",KELAS!EC12)","v":"1 ( satu )"},{"$f":"IF(KELAS!ED12=\"\",\"\",KELAS!ED12)","v":"1 ( satu )"},{"$f":"IF(KELAS!EE12=\"\",\"\",KELAS!EE12)","v":""},{"$f":"IF(KELAS!EF12=\"\",\"\",KELAS!EF12)","v":""},{"$f":"IF(KELAS!EG12=\"\",\"\",KELAS!EG12)","v":"Peserta didik menunjukan sikap sungguh-sungguh dalam menerapkan sikap santun, jujur dan kerjasama, namun masih perlu ditingkatkan lagi sikap percaya diri dan ketepatan masuk sekolah"},{"$f":"IF(KELAS!EH12=\"\",\"\",KELAS!EH12)","v":"Dhany Suryanto, S.Pd."},{"$f":"IF(KELAS!EI12=\"\",\"\",KELAS!EI12)","v":"jika punya NIP isikan di sini"},{"$f":"IF(KELAS!EJ12=\"\",\"\",KELAS!EJ12)","v":0},{"$f":"IF(KELAS!EK12=\"\",\"\",KELAS!EK12)","v":0},{"$f":"IF(KELAS!EL12=\"\",\"\",KELAS!EL12)","v":0},{"$f":"IF(KELAS!EM12=\"\",\"\",KELAS!EM12)","v":0},{"$f":"IF(KELAS!EN12=\"\",\"\",KELAS!EN12)","v":0},{"$f":"IF(KELAS!EO12=\"\",\"\",KELAS!EO12)","v":0},{"$f":"IF(KELAS!EP12=\"\",\"\",KELAS!EP12)","v":0},{"$f":"IF(KELAS!EQ12=\"\",\"\",KELAS!EQ12)","v":0},{"$f":"IF(KELAS!ER12=\"\",\"\",KELAS!ER12)","v":0},{"$f":"IF(KELAS!ES12=\"\",\"\",KELAS!ES12)","v":0},{"$f":"IF(KELAS!ET12=\"\",\"\",KELAS!ET12)","v":0}]
[{"$f":"IF(KELAS!A13=\"\",\"\",KELAS!A13)","v":11},{"$f":"IF(KELAS!B13=\"\",\"\",KELAS!B13)","v":12554},{"$f":"IF(KELAS!C13=\"\",\"\",KELAS!C13)","v":"FERYANTA PUTRA UTAMA"},{"$f":"IF(KELAS!D13=\"\",\"\",KELAS!D13)","v":"L"},{"$f":"IF(KELAS!E13=\"\",\"\",KELAS!E13)","v":"7.A"},{"$f":"IF(KELAS!F13=\"\",\"\",KELAS!F13)","v":"Islam"},{"$f":"IF(KELAS!G13=\"\",\"\",KELAS!G13)","v":9971537272},{"$f":"IF(KELAS!H13=\"\",\"\",KELAS!H13)","v":"Wonosobo, 17 Juni 1997"},{"$f":"IF(KELAS!I13=\"\",\"\",KELAS!I13)","v":"Sriyanta"},{"$f":"IF(KELAS!J13=\"\",\"\",KELAS!J13)","v":"Pns"},{"$f":"IF(KELAS!K13=\"\",\"\",KELAS!K13)","v":"Nur Khasanah"},{"$f":"IF(KELAS!L13=\"\",\"\",KELAS!L13)","v":"Pns"},{"$f":"IF(KELAS!M13=\"\",\"\",KELAS!M13)","v":"Krakal Santren RT.03 RW.02, Karangluhur, Kertek, Wsb"},{"$f":"IF(KELAS!N13=\"\",\"\",KELAS!N13)","v":"SMPN 1 KERTEK"},{"$f":"IF(KELAS!O13=\"\",\"\",KELAS!O13)","v":1},{"$f":"IF(KELAS!P13=\"\",\"\",KELAS!P13)","v":"Anak Kandung"},{"$f":"IF(KELAS!Q13=\"\",\"\",TEXT(KELAS!Q13,\"0,00\"))","v":""},{"$f":"IF(KELAS!R13=\"\",\"\",KELAS!R13)","v":""},{"$f":"IF(KELAS!S13=\"\",\"\",KELAS!S13)","v":""},{"$f":"IF(KELAS!T13=\"\",\"\",TEXT(KELAS!T13,\"0,00\"))","v":""},{"$f":"IF(KELAS!U13=\"\",\"\",KELAS!U13)","v":""},{"$f":"IF(KELAS!V13=\"\",\"\",KELAS!V13)","v":""},{"$f":"IF(KELAS!W13=\"\",\"\",KELAS!W13)","v":""},{"$f":"IF(KELAS!X13=\"\",\"\",KELAS!X13)","v":""},{"$f":"IF(KELAS!Y13=\"\",\"\",TEXT(KELAS!Y13,\"0,00\"))","v":""},{"$f":"IF(KELAS!Z13=\"\",\"\",KELAS!Z13)","v":""},{"$f":"IF(KELAS!AA13=\"\",\"\",KELAS!AA13)","v":""},{"$f":"IF(KELAS!AB13=\"\",\"\",TEXT(KELAS!AB13,\"0,00\"))","v":""},{"$f":"IF(KELAS!AC13=\"\",\"\",KELAS!AC13)","v":""},{"$f":"IF(KELAS!AD13=\"\",\"\",KELAS!AD13)","v":""},{"$f":"IF(KELAS!AE13=\"\",\"\",KELAS!AE13)","v":""},{"$f":"IF(KELAS!AF13=\"\",\"\",KELAS!AF13)","v":""},{"$f":"IF(KELAS!AG13=\"\",\"\",KELAS!AG13)","v":""},{"$f":"IF(KELAS!AH13=\"\",\"\",TEXT(KELAS!AH13,\"0,00\"))","v":""},{"$f":"IF(KELAS!AI13=\"\",\"\",KELAS!AI13)","v":""},{"$f":"IF(KELAS!AJ13=\"\",\"\",KELAS!AJ13)","v":""},{"$f":"IF(KELAS!AK13=\"\",\"\",TEXT(KELAS!AK13,\"0,00\"))","v":""},{"$f":"IF(KELAS!AL13=\"\",\"\",KELAS!AL13)","v":""},{"$f":"IF(KELAS!AM13=\"\",\"\",KELAS!AM13)","v":""},{"$f":"IF(KELAS!AN13=\"\",\"\",KELAS!AN13)","v":""},{"$f":"IF(KELAS!AO13=\"\",\"\",KELAS!AO13)","v":""},{"$f":"IF(KELAS!AP13=\"\",\"\",KELAS!AP13)","v":""},{"$f":"IF(KELAS!AQ13=\"\",\"\",TEXT(KELAS!AQ13,\"0,00\"))","v":""},{"$f":"IF(KELAS!AR13=\"\",\"\",KELAS!AR13)","v":""},{"$f":"IF(KELAS!AS13=\"\",\"\",KELAS!AS13)","v":""},{"$f":"IF(KELAS!AT13=\"\",\"\",TEXT(KELAS!AT13,\"0,00\"))","v":""},{"$f":"IF(KELAS!AU13=\"\",\"\",KELAS!AU13)","v":""},{"$f":"IF(KELAS!AV13=\"\",\"\",KELAS!AV13)","v":""},{"$f":"IF(KELAS!AW13=\"\",\"\",KELAS!AW13)","v":""},{"$f":"IF(KELAS!AX13=\"\",\"\",KELAS!AX13)","v":""},{"$f":"IF(KELAS!AY13=\"\",\"\",KELAS!AY13)","v":""},{"$f":"IF(KELAS!AZ13=\"\",\"\",TEXT(KELAS!AZ13,\"0,00\"))","v":""},{"$f":"IF(KELAS!BA13=\"\",\"\",KELAS!BA13)","v":""},{"$f":"IF(KELAS!BB13=\"\",\"\",KELAS!BB13)","v":""},{"$f":"IF(KELAS!BC13=\"\",\"\",TEXT(KELAS!BC13,\"0,00\"))","v":""},{"$f":"IF(KELAS!BD13=\"\",\"\",KELAS!BD13)","v":""},{"$f":"IF(KELAS!BE13=\"\",\"\",KELAS!BE13)","v":""},{"$f":"IF(KELAS!BF13=\"\",\"\",KELAS!BF13)","v":""},{"$f":"IF(KELAS!BG13=\"\",\"\",KELAS!BG13)","v":""},{"$f":"IF(KELAS!BH13=\"\",\"\",KELAS!BH13)","v":""},{"$f":"IF(KELAS!BI13=\"\",\"\",TEXT(KELAS!BI13,\"0,00\"))","v":""},{"$f":"IF(KELAS!BJ13=\"\",\"\",KELAS!BJ13)","v":""},{"$f":"IF(KELAS!BK13=\"\",\"\",KELAS!BK13)","v":""},{"$f":"IF(KELAS!BL13=\"\",\"\",TEXT(KELAS!BL13,\"0,00\"))","v":""},{"$f":"IF(KELAS!BM13=\"\",\"\",KELAS!BM13)","v":""},{"$f":"IF(KELAS!BN13=\"\",\"\",KELAS!BN13)","v":""},{"$f":"IF(KELAS!BO13=\"\",\"\",KELAS!BO13)","v":""},{"$f":"IF(KELAS!BP13=\"\",\"\",KELAS!BP13)","v":""},{"$f":"IF(KELAS!BQ13=\"\",\"\",KELAS!BQ13)","v":""},{"$f":"IF(KELAS!BR13=\"\",\"\",TEXT(KELAS!BR13,\"0,00\"))","v":""},{"$f":"IF(KELAS!BS13=\"\",\"\",KELAS!BS13)","v":""},{"$f":"IF(KELAS!BT13=\"\",\"\",KELAS!BT13)","v":""},{"$f":"IF(KELAS!BU13=\"\",\"\",TEXT(KELAS!BU13,\"0,00\"))","v":""},{"$f":"IF(KELAS!BV13=\"\",\"\",KELAS!BV13)","v":""},{"$f":"IF(KELAS!BW13=\"\",\"\",KELAS!BW13)","v":""},{"$f":"IF(KELAS!BX13=\"\",\"\",KELAS!BX13)","v":""},{"$f":"IF(KELAS!BY13=\"\",\"\",KELAS!BY13)","v":""},{"$f":"IF(KELAS!BZ13=\"\",\"\",KELAS!BZ13)","v":""},{"$f":"IF(KELAS!CA13=\"\",\"\",TEXT(KELAS!CA13,\"0,00\"))","v":""},{"$f":"IF(KELAS!CB13=\"\",\"\",KELAS!CB13)","v":""},{"$f":"IF(KELAS!CC13=\"\",\"\",KELAS!CC13)","v":""},{"$f":"IF(KELAS!CD13=\"\",\"\",TEXT(KELAS!CD13,\"0,00\"))","v":""},{"$f":"IF(KELAS!CE13=\"\",\"\",KELAS!CE13)","v":""},{"$f":"IF(KELAS!CF13=\"\",\"\",KELAS!CF13)","v":""},{"$f":"IF(KELAS!CG13=\"\",\"\",KELAS!CG13)","v":""},{"$f":"IF(KELAS!CH13=\"\",\"\",KELAS!CH13)","v":""},{"$f":"IF(KELAS!CI13=\"\",\"\",KELAS!CI13)","v":""},{"$f":"IF(KELAS!CJ13=\"\",\"\",TEXT(KELAS!CJ13,\"0,00\"))","v":""},{"$f":"IF(KELAS!CK13=\"\",\"\",KELAS!CK13)","v":""},{"$f":"IF(KELAS!CL13=\"\",\"\",KELAS!CL13)","v":""},{"$f":"IF(KELAS!CM13=\"\",\"\",TEXT(KELAS!CM13,\"0,00\"))","v":""},{"$f":"IF(KELAS!CN13=\"\",\"\",KELAS!CN13)","v":""},{"$f":"IF(KELAS!CO13=\"\",\"\",KELAS!CO13)","v":""},{"$f":"IF(KELAS!CP13=\"\",\"\",KELAS!CP13)","v":""},{"$f":"IF(KELAS!CQ13=\"\",\"\",KELAS!CQ13)","v":""},{"$f":"IF(KELAS!CR13=\"\",\"\",KELAS!CR13)","v":""},{"$f":"IF(KELAS!CS13=\"\",\"\",TEXT(KELAS!CS13,\"0,00\"))","v":""},{"$f":"IF(KELAS!CT13=\"\",\"\",KELAS!CT13)","v":""},{"$f":"IF(KELAS!CU13=\"\",\"\",KELAS!CU13)","v":""},{"$f":"IF(KELAS!CV13=\"\",\"\",TEXT(KELAS!CV13,\"0,00\"))","v":""},{"$f":"IF(KELAS!CW13=\"\",\"\",KELAS!CW13)","v":""},{"$f":"IF(KELAS!CX13=\"\",\"\",KELAS!CX13)","v":""},{"$f":"IF(KELAS!CY13=\"\",\"\",KELAS!CY13)","v":""},{"$f":"IF(KELAS!CZ13=\"\",\"\",KELAS!CZ13)","v":""},{"$f":"IF(KELAS!DA13=\"\",\"\",KELAS!DA13)","v":""},{"$f":"IF(KELAS!DB13=\"\",\"\",TEXT(KELAS!DB13,\"0,00\"))","v":""},{"$f":"IF(KELAS!DC13=\"\",\"\",KELAS!DC13)","v":""},{"$f":"IF(KELAS!DD13=\"\",\"\",KELAS!DD13)","v":""},{"$f":"IF(KELAS!DE13=\"\",\"\",TEXT(KELAS!DE13,\"0,00\"))","v":""},{"$f":"IF(KELAS!DF13=\"\",\"\",KELAS!DF13)","v":""},{"$f":"IF(KELAS!DG13=\"\",\"\",KELAS!DG13)","v":""},{"$f":"IF(KELAS!DH13=\"\",\"\",KELAS!DH13)","v":""},{"$f":"IF(KELAS!DI13=\"\",\"\",KELAS!DI13)","v":""},{"$f":"IF(KELAS!DJ13=\"\",\"\",KELAS!DJ13)","v":""},{"$f":"IF(KELAS!DK13=\"\",\"\",KELAS!DK13)","v":1},{"$f":"IF(KELAS!DL13=\"\",\"\",KELAS!DL13)","v":3},{"$f":"IF(KELAS!DM13=\"\",\"\",KELAS!DM13)","v":3},{"$f":"IF(KELAS!DN13=\"\",\"\",KELAS!DN13)","v":3},{"$f":"IF(KELAS!DO13=\"\",\"\",KELAS!DO13)","v":""},{"$f":"IF(KELAS!DP13=\"\",\"\",KELAS!DP13)","v":""},{"$f":"IF(KELAS!DQ13=\"\",\"\",KELAS!DQ13)","v":""},{"$f":"IF(KELAS!DR13=\"\",\"\",KELAS!DR13)","v":""},{"$f":"IF(KELAS!DS13=\"\",\"\",KELAS!DS13)","v":""},{"$f":"IF(KELAS!DT13=\"\",\"\",KELAS!DT13)","v":""},{"$f":"IF(KELAS!DU13=\"\",\"\",KELAS!DU13)","v":""},{"$f":"IF(KELAS!DV13=\"\",\"\",KELAS!DV13)","v":""},{"$f":"IF(KELAS!DW13=\"\",\"\",KELAS!DW13)","v":""},{"$f":"IF(KELAS!DX13=\"\",\"\",KELAS!DX13)","v":""},{"$f":"IF(KELAS!DY13=\"\",\"\",KELAS!DY13)","v":""},{"$f":"IF(KELAS!DZ13=\"\",\"\",KELAS!DZ13)","v":""},{"$f":"IF(KELAS!EA13=\"\",\"\",KELAS!EA13)","v":"1 ( satu )"},{"$f":"IF(KELAS!EB13=\"\",\"\",KELAS!EB13)","v":"3 ( tiga )"},{"$f":"IF(KELAS!EC13=\"\",\"\",KELAS!EC13)","v":"3 ( tiga )"},{"$f":"IF(KELAS!ED13=\"\",\"\",KELAS!ED13)","v":"3 ( tiga )"},{"$f":"IF(KELAS!EE13=\"\",\"\",KELAS!EE13)","v":""},{"$f":"IF(KELAS!EF13=\"\",\"\",KELAS!EF13)","v":""},{"$f":"IF(KELAS!EG13=\"\",\"\",KELAS!EG13)","v":"Peserta didik menunjukan sikap sungguh-sungguh dalam menerapkan sikap santun, jujur dan kerjasama, namun masih perlu ditingkatkan lagi sikap percaya diri dan ketepatan masuk sekolah"},{"$f":"IF(KELAS!EH13=\"\",\"\",KELAS!EH13)","v":"Dhany Suryanto, S.Pd."},{"$f":"IF(KELAS!EI13=\"\",\"\",KELAS!EI13)","v":"jika punya NIP isikan di sini"},{"$f":"IF(KELAS!EJ13=\"\",\"\",KELAS!EJ13)","v":0},{"$f":"IF(KELAS!EK13=\"\",\"\",KELAS!EK13)","v":0},{"$f":"IF(KELAS!EL13=\"\",\"\",KELAS!EL13)","v":0},{"$f":"IF(KELAS!EM13=\"\",\"\",KELAS!EM13)","v":0},{"$f":"IF(KELAS!EN13=\"\",\"\",KELAS!EN13)","v":0},{"$f":"IF(KELAS!EO13=\"\",\"\",KELAS!EO13)","v":0},{"$f":"IF(KELAS!EP13=\"\",\"\",KELAS!EP13)","v":0},{"$f":"IF(KELAS!EQ13=\"\",\"\",KELAS!EQ13)","v":0},{"$f":"IF(KELAS!ER13=\"\",\"\",KELAS!ER13)","v":0},{"$f":"IF(KELAS!ES13=\"\",\"\",KELAS!ES13)","v":0},{"$f":"IF(KELAS!ET13=\"\",\"\",KELAS!ET13)","v":0}]
[{"$f":"IF(KELAS!A14=\"\",\"\",KELAS!A14)","v":12},{"$f":"IF(KELAS!B14=\"\",\"\",KELAS!B14)","v":12556},{"$f":"IF(KELAS!C14=\"\",\"\",KELAS!C14)","v":"FIRDA ADHITYA ULFAH HANIF"},{"$f":"IF(KELAS!D14=\"\",\"\",KELAS!D14)","v":"P"},{"$f":"IF(KELAS!E14=\"\",\"\",KELAS!E14)","v":"7.A"},{"$f":"IF(KELAS!F14=\"\",\"\",KELAS!F14)","v":"Islam"},{"$f":"IF(KELAS!G14=\"\",\"\",KELAS!G14)","v":9981511839},{"$f":"IF(KELAS!H14=\"\",\"\",KELAS!H14)","v":"Wonosobo, 18 Januari 1998"},{"$f":"IF(KELAS!I14=\"\",\"\",KELAS!I14)","v":"Sudarman"},{"$f":"IF(KELAS!J14=\"\",\"\",KELAS!J14)","v":"Guru"},{"$f":"IF(KELAS!K14=\"\",\"\",KELAS!K14)","v":"Sri Susmiyati"},{"$f":"IF(KELAS!L14=\"\",\"\",KELAS!L14)","v":"Guru"},{"$f":"IF(KELAS!M14=\"\",\"\",KELAS!M14)","v":"Garung RT.01 RW.02, Wsb"},{"$f":"IF(KELAS!N14=\"\",\"\",KELAS!N14)","v":"SMPN 1 WONOSOBO"},{"$f":"IF(KELAS!O14=\"\",\"\",KELAS!O14)","v":3},{"$f":"IF(KELAS!P14=\"\",\"\",KELAS!P14)","v":"Anak Kandung"},{"$f":"IF(KELAS!Q14=\"\",\"\",TEXT(KELAS!Q14,\"0,00\"))","v":""},{"$f":"IF(KELAS!R14=\"\",\"\",KELAS!R14)","v":""},{"$f":"IF(KELAS!S14=\"\",\"\",KELAS!S14)","v":""},{"$f":"IF(KELAS!T14=\"\",\"\",TEXT(KELAS!T14,\"0,00\"))","v":""},{"$f":"IF(KELAS!U14=\"\",\"\",KELAS!U14)","v":""},{"$f":"IF(KELAS!V14=\"\",\"\",KELAS!V14)","v":""},{"$f":"IF(KELAS!W14=\"\",\"\",KELAS!W14)","v":""},{"$f":"IF(KELAS!X14=\"\",\"\",KELAS!X14)","v":""},{"$f":"IF(KELAS!Y14=\"\",\"\",TEXT(KELAS!Y14,\"0,00\"))","v":""},{"$f":"IF(KELAS!Z14=\"\",\"\",KELAS!Z14)","v":""},{"$f":"IF(KELAS!AA14=\"\",\"\",KELAS!AA14)","v":""},{"$f":"IF(KELAS!AB14=\"\",\"\",TEXT(KELAS!AB14,\"0,00\"))","v":""},{"$f":"IF(KELAS!AC14=\"\",\"\",KELAS!AC14)","v":""},{"$f":"IF(KELAS!AD14=\"\",\"\",KELAS!AD14)","v":""},{"$f":"IF(KELAS!AE14=\"\",\"\",KELAS!AE14)","v":""},{"$f":"IF(KELAS!AF14=\"\",\"\",KELAS!AF14)","v":""},{"$f":"IF(KELAS!AG14=\"\",\"\",KELAS!AG14)","v":""},{"$f":"IF(KELAS!AH14=\"\",\"\",TEXT(KELAS!AH14,\"0,00\"))","v":""},{"$f":"IF(KELAS!AI14=\"\",\"\",KELAS!AI14)","v":""},{"$f":"IF(KELAS!AJ14=\"\",\"\",KELAS!AJ14)","v":""},{"$f":"IF(KELAS!AK14=\"\",\"\",TEXT(KELAS!AK14,\"0,00\"))","v":""},{"$f":"IF(KELAS!AL14=\"\",\"\",KELAS!AL14)","v":""},{"$f":"IF(KELAS!AM14=\"\",\"\",KELAS!AM14)","v":""},{"$f":"IF(KELAS!AN14=\"\",\"\",KELAS!AN14)","v":""},{"$f":"IF(KELAS!AO14=\"\",\"\",KELAS!AO14)","v":""},{"$f":"IF(KELAS!AP14=\"\",\"\",KELAS!AP14)","v":""},{"$f":"IF(KELAS!AQ14=\"\",\"\",TEXT(KELAS!AQ14,\"0,00\"))","v":""},{"$f":"IF(KELAS!AR14=\"\",\"\",KELAS!AR14)","v":""},{"$f":"IF(KELAS!AS14=\"\",\"\",KELAS!AS14)","v":""},{"$f":"IF(KELAS!AT14=\"\",\"\",TEXT(KELAS!AT14,\"0,00\"))","v":""},{"$f":"IF(KELAS!AU14=\"\",\"\",KELAS!AU14)","v":""},{"$f":"IF(KELAS!AV14=\"\",\"\",KELAS!AV14)","v":""},{"$f":"IF(KELAS!AW14=\"\",\"\",KELAS!AW14)","v":""},{"$f":"IF(KELAS!AX14=\"\",\"\",KELAS!AX14)","v":""},{"$f":"IF(KELAS!AY14=\"\",\"\",KELAS!AY14)","v":""},{"$f":"IF(KELAS!AZ14=\"\",\"\",TEXT(KELAS!AZ14,\"0,00\"))","v":""},{"$f":"IF(KELAS!BA14=\"\",\"\",KELAS!BA14)","v":""},{"$f":"IF(KELAS!BB14=\"\",\"\",KELAS!BB14)","v":""},{"$f":"IF(KELAS!BC14=\"\",\"\",TEXT(KELAS!BC14,\"0,00\"))","v":""},{"$f":"IF(KELAS!BD14=\"\",\"\",KELAS!BD14)","v":""},{"$f":"IF(KELAS!BE14=\"\",\"\",KELAS!BE14)","v":""},{"$f":"IF(KELAS!BF14=\"\",\"\",KELAS!BF14)","v":""},{"$f":"IF(KELAS!BG14=\"\",\"\",KELAS!BG14)","v":""},{"$f":"IF(KELAS!BH14=\"\",\"\",KELAS!BH14)","v":""},{"$f":"IF(KELAS!BI14=\"\",\"\",TEXT(KELAS!BI14,\"0,00\"))","v":""},{"$f":"IF(KELAS!BJ14=\"\",\"\",KELAS!BJ14)","v":""},{"$f":"IF(KELAS!BK14=\"\",\"\",KELAS!BK14)","v":""},{"$f":"IF(KELAS!BL14=\"\",\"\",TEXT(KELAS!BL14,\"0,00\"))","v":""},{"$f":"IF(KELAS!BM14=\"\",\"\",KELAS!BM14)","v":""},{"$f":"IF(KELAS!BN14=\"\",\"\",KELAS!BN14)","v":""},{"$f":"IF(KELAS!BO14=\"\",\"\",KELAS!BO14)","v":""},{"$f":"IF(KELAS!BP14=\"\",\"\",KELAS!BP14)","v":""},{"$f":"IF(KELAS!BQ14=\"\",\"\",KELAS!BQ14)","v":""},{"$f":"IF(KELAS!BR14=\"\",\"\",TEXT(KELAS!BR14,\"0,00\"))","v":""},{"$f":"IF(KELAS!BS14=\"\",\"\",KELAS!BS14)","v":""},{"$f":"IF(KELAS!BT14=\"\",\"\",KELAS!BT14)","v":""},{"$f":"IF(KELAS!BU14=\"\",\"\",TEXT(KELAS!BU14,\"0,00\"))","v":""},{"$f":"IF(KELAS!BV14=\"\",\"\",KELAS!BV14)","v":""},{"$f":"IF(KELAS!BW14=\"\",\"\",KELAS!BW14)","v":""},{"$f":"IF(KELAS!BX14=\"\",\"\",KELAS!BX14)","v":""},{"$f":"IF(KELAS!BY14=\"\",\"\",KELAS!BY14)","v":""},{"$f":"IF(KELAS!BZ14=\"\",\"\",KELAS!BZ14)","v":""},{"$f":"IF(KELAS!CA14=\"\",\"\",TEXT(KELAS!CA14,\"0,00\"))","v":""},{"$f":"IF(KELAS!CB14=\"\",\"\",KELAS!CB14)","v":""},{"$f":"IF(KELAS!CC14=\"\",\"\",KELAS!CC14)","v":""},{"$f":"IF(KELAS!CD14=\"\",\"\",TEXT(KELAS!CD14,\"0,00\"))","v":""},{"$f":"IF(KELAS!CE14=\"\",\"\",KELAS!CE14)","v":""},{"$f":"IF(KELAS!CF14=\"\",\"\",KELAS!CF14)","v":""},{"$f":"IF(KELAS!CG14=\"\",\"\",KELAS!CG14)","v":""},{"$f":"IF(KELAS!CH14=\"\",\"\",KELAS!CH14)","v":""},{"$f":"IF(KELAS!CI14=\"\",\"\",KELAS!CI14)","v":""},{"$f":"IF(KELAS!CJ14=\"\",\"\",TEXT(KELAS!CJ14,\"0,00\"))","v":""},{"$f":"IF(KELAS!CK14=\"\",\"\",KELAS!CK14)","v":""},{"$f":"IF(KELAS!CL14=\"\",\"\",KELAS!CL14)","v":""},{"$f":"IF(KELAS!CM14=\"\",\"\",TEXT(KELAS!CM14,\"0,00\"))","v":""},{"$f":"IF(KELAS!CN14=\"\",\"\",KELAS!CN14)","v":""},{"$f":"IF(KELAS!CO14=\"\",\"\",KELAS!CO14)","v":""},{"$f":"IF(KELAS!CP14=\"\",\"\",KELAS!CP14)","v":""},{"$f":"IF(KELAS!CQ14=\"\",\"\",KELAS!CQ14)","v":""},{"$f":"IF(KELAS!CR14=\"\",\"\",KELAS!CR14)","v":""},{"$f":"IF(KELAS!CS14=\"\",\"\",TEXT(KELAS!CS14,\"0,00\"))","v":""},{"$f":"IF(KELAS!CT14=\"\",\"\",KELAS!CT14)","v":""},{"$f":"IF(KELAS!CU14=\"\",\"\",KELAS!CU14)","v":""},{"$f":"IF(KELAS!CV14=\"\",\"\",TEXT(KELAS!CV14,\"0,00\"))","v":""},{"$f":"IF(KELAS!CW14=\"\",\"\",KELAS!CW14)","v":""},{"$f":"IF(KELAS!CX14=\"\",\"\",KELAS!CX14)","v":""},{"$f":"IF(KELAS!CY14=\"\",\"\",KELAS!CY14)","v":""},{"$f":"IF(KELAS!CZ14=\"\",\"\",KELAS!CZ14)","v":""},{"$f":"IF(KELAS!DA14=\"\",\"\",KELAS!DA14)","v":""},{"$f":"IF(KELAS!DB14=\"\",\"\",TEXT(KELAS!DB14,\"0,00\"))","v":""},{"$f":"IF(KELAS!DC14=\"\",\"\",KELAS!DC14)","v":""},{"$f":"IF(KELAS!DD14=\"\",\"\",KELAS!DD14)","v":""},{"$f":"IF(KELAS!DE14=\"\",\"\",TEXT(KELAS!DE14,\"0,00\"))","v":""},{"$f":"IF(KELAS!DF14=\"\",\"\",KELAS!DF14)","v":""},{"$f":"IF(KELAS!DG14=\"\",\"\",KELAS!DG14)","v":""},{"$f":"IF(KELAS!DH14=\"\",\"\",KELAS!DH14)","v":""},{"$f":"IF(KELAS!DI14=\"\",\"\",KELAS!DI14)","v":""},{"$f":"IF(KELAS!DJ14=\"\",\"\",KELAS!DJ14)","v":""},{"$f":"IF(KELAS!DK14=\"\",\"\",KELAS!DK14)","v":2},{"$f":"IF(KELAS!DL14=\"\",\"\",KELAS!DL14)","v":3},{"$f":"IF(KELAS!DM14=\"\",\"\",KELAS!DM14)","v":3},{"$f":"IF(KELAS!DN14=\"\",\"\",KELAS!DN14)","v":2},{"$f":"IF(KELAS!DO14=\"\",\"\",KELAS!DO14)","v":""},{"$f":"IF(KELAS!DP14=\"\",\"\",KELAS!DP14)","v":""},{"$f":"IF(KELAS!DQ14=\"\",\"\",KELAS!DQ14)","v":""},{"$f":"IF(KELAS!DR14=\"\",\"\",KELAS!DR14)","v":""},{"$f":"IF(KELAS!DS14=\"\",\"\",KELAS!DS14)","v":""},{"$f":"IF(KELAS!DT14=\"\",\"\",KELAS!DT14)","v":""},{"$f":"IF(KELAS!DU14=\"\",\"\",KELAS!DU14)","v":""},{"$f":"IF(KELAS!DV14=\"\",\"\",KELAS!DV14)","v":""},{"$f":"IF(KELAS!DW14=\"\",\"\",KELAS!DW14)","v":""},{"$f":"IF(KELAS!DX14=\"\",\"\",KELAS!DX14)","v":""},{"$f":"IF(KELAS!DY14=\"\",\"\",KELAS!DY14)","v":""},{"$f":"IF(KELAS!DZ14=\"\",\"\",KELAS!DZ14)","v":""},{"$f":"IF(KELAS!EA14=\"\",\"\",KELAS!EA14)","v":"2 ( dua )"},{"$f":"IF(KELAS!EB14=\"\",\"\",KELAS!EB14)","v":"3 ( tiga )"},{"$f":"IF(KELAS!EC14=\"\",\"\",KELAS!EC14)","v":"3 ( tiga )"},{"$f":"IF(KELAS!ED14=\"\",\"\",KELAS!ED14)","v":"2 ( dua )"},{"$f":"IF(KELAS!EE14=\"\",\"\",KELAS!EE14)","v":""},{"$f":"IF(KELAS!EF14=\"\",\"\",KELAS!EF14)","v":""},{"$f":"IF(KELAS!EG14=\"\",\"\",KELAS!EG14)","v":"Peserta didik menunjukan sikap sungguh-sungguh dalam menerapkan sikap santun, jujur dan kerjasama, namun masih perlu ditingkatkan lagi sikap percaya diri dan ketepatan masuk sekolah"},{"$f":"IF(KELAS!EH14=\"\",\"\",KELAS!EH14)","v":"Dhany Suryanto, S.Pd."},{"$f":"IF(KELAS!EI14=\"\",\"\",KELAS!EI14)","v":"jika punya NIP isikan di sini"},{"$f":"IF(KELAS!EJ14=\"\",\"\",KELAS!EJ14)","v":0},{"$f":"IF(KELAS!EK14=\"\",\"\",KELAS!EK14)","v":0},{"$f":"IF(KELAS!EL14=\"\",\"\",KELAS!EL14)","v":0},{"$f":"IF(KELAS!EM14=\"\",\"\",KELAS!EM14)","v":0},{"$f":"IF(KELAS!EN14=\"\",\"\",KELAS!EN14)","v":0},{"$f":"IF(KELAS!EO14=\"\",\"\",KELAS!EO14)","v":0},{"$f":"IF(KELAS!EP14=\"\",\"\",KELAS!EP14)","v":0},{"$f":"IF(KELAS!EQ14=\"\",\"\",KELAS!EQ14)","v":0},{"$f":"IF(KELAS!ER14=\"\",\"\",KELAS!ER14)","v":0},{"$f":"IF(KELAS!ES14=\"\",\"\",KELAS!ES14)","v":0},{"$f":"IF(KELAS!ET14=\"\",\"\",KELAS!ET14)","v":0}]
[{"$f":"IF(KELAS!A15=\"\",\"\",KELAS!A15)","v":13},{"$f":"IF(KELAS!B15=\"\",\"\",KELAS!B15)","v":12566},{"$f":"IF(KELAS!C15=\"\",\"\",KELAS!C15)","v":"GILANG MAHDIYYAN KURNIADI"},{"$f":"IF(KELAS!D15=\"\",\"\",KELAS!D15)","v":"L"},{"$f":"IF(KELAS!E15=\"\",\"\",KELAS!E15)","v":"7.A"},{"$f":"IF(KELAS!F15=\"\",\"\",KELAS!F15)","v":"Islam"},{"$f":"IF(KELAS!G15=\"\",\"\",KELAS!G15)","v":"-"},{"$f":"IF(KELAS!H15=\"\",\"\",KELAS!H15)","v":"Wonosobo, 20 Oktober 1997"},{"$f":"IF(KELAS!I15=\"\",\"\",KELAS!I15)","v":"Nuryadi"},{"$f":"IF(KELAS!J15=\"\",\"\",KELAS!J15)","v":"Pns"},{"$f":"IF(KELAS!K15=\"\",\"\",KELAS!K15)","v":"Tri Windayati"},{"$f":"IF(KELAS!L15=\"\",\"\",KELAS!L15)","v":"Pns"},{"$f":"IF(KELAS!M15=\"\",\"\",KELAS!M15)","v":"Jlamprang RT.04 RW.04, Wsb"},{"$f":"IF(KELAS!N15=\"\",\"\",KELAS!N15)","v":"SMPN 2 SELOMERTO"},{"$f":"IF(KELAS!O15=\"\",\"\",KELAS!O15)","v":3},{"$f":"IF(KELAS!P15=\"\",\"\",KELAS!P15)","v":"Anak Kandung"},{"$f":"IF(KELAS!Q15=\"\",\"\",TEXT(KELAS!Q15,\"0,00\"))","v":""},{"$f":"IF(KELAS!R15=\"\",\"\",KELAS!R15)","v":""},{"$f":"IF(KELAS!S15=\"\",\"\",KELAS!S15)","v":""},{"$f":"IF(KELAS!T15=\"\",\"\",TEXT(KELAS!T15,\"0,00\"))","v":""},{"$f":"IF(KELAS!U15=\"\",\"\",KELAS!U15)","v":""},{"$f":"IF(KELAS!V15=\"\",\"\",KELAS!V15)","v":""},{"$f":"IF(KELAS!W15=\"\",\"\",KELAS!W15)","v":""},{"$f":"IF(KELAS!X15=\"\",\"\",KELAS!X15)","v":""},{"$f":"IF(KELAS!Y15=\"\",\"\",TEXT(KELAS!Y15,\"0,00\"))","v":""},{"$f":"IF(KELAS!Z15=\"\",\"\",KELAS!Z15)","v":""},{"$f":"IF(KELAS!AA15=\"\",\"\",KELAS!AA15)","v":""},{"$f":"IF(KELAS!AB15=\"\",\"\",TEXT(KELAS!AB15,\"0,00\"))","v":""},{"$f":"IF(KELAS!AC15=\"\",\"\",KELAS!AC15)","v":""},{"$f":"IF(KELAS!AD15=\"\",\"\",KELAS!AD15)","v":""},{"$f":"IF(KELAS!AE15=\"\",\"\",KELAS!AE15)","v":""},{"$f":"IF(KELAS!AF15=\"\",\"\",KELAS!AF15)","v":""},{"$f":"IF(KELAS!AG15=\"\",\"\",KELAS!AG15)","v":""},{"$f":"IF(KELAS!AH15=\"\",\"\",TEXT(KELAS!AH15,\"0,00\"))","v":""},{"$f":"IF(KELAS!AI15=\"\",\"\",KELAS!AI15)","v":""},{"$f":"IF(KELAS!AJ15=\"\",\"\",KELAS!AJ15)","v":""},{"$f":"IF(KELAS!AK15=\"\",\"\",TEXT(KELAS!AK15,\"0,00\"))","v":""},{"$f":"IF(KELAS!AL15=\"\",\"\",KELAS!AL15)","v":""},{"$f":"IF(KELAS!AM15=\"\",\"\",KELAS!AM15)","v":""},{"$f":"IF(KELAS!AN15=\"\",\"\",KELAS!AN15)","v":""},{"$f":"IF(KELAS!AO15=\"\",\"\",KELAS!AO15)","v":""},{"$f":"IF(KELAS!AP15=\"\",\"\",KELAS!AP15)","v":""},{"$f":"IF(KELAS!AQ15=\"\",\"\",TEXT(KELAS!AQ15,\"0,00\"))","v":""},{"$f":"IF(KELAS!AR15=\"\",\"\",KELAS!AR15)","v":""},{"$f":"IF(KELAS!AS15=\"\",\"\",KELAS!AS15)","v":""},{"$f":"IF(KELAS!AT15=\"\",\"\",TEXT(KELAS!AT15,\"0,00\"))","v":""},{"$f":"IF(KELAS!AU15=\"\",\"\",KELAS!AU15)","v":""},{"$f":"IF(KELAS!AV15=\"\",\"\",KELAS!AV15)","v":""},{"$f":"IF(KELAS!AW15=\"\",\"\",KELAS!AW15)","v":""},{"$f":"IF(KELAS!AX15=\"\",\"\",KELAS!AX15)","v":""},{"$f":"IF(KELAS!AY15=\"\",\"\",KELAS!AY15)","v":""},{"$f":"IF(KELAS!AZ15=\"\",\"\",TEXT(KELAS!AZ15,\"0,00\"))","v":""},{"$f":"IF(KELAS!BA15=\"\",\"\",KELAS!BA15)","v":""},{"$f":"IF(KELAS!BB15=\"\",\"\",KELAS!BB15)","v":""},{"$f":"IF(KELAS!BC15=\"\",\"\",TEXT(KELAS!BC15,\"0,00\"))","v":""},{"$f":"IF(KELAS!BD15=\"\",\"\",KELAS!BD15)","v":""},{"$f":"IF(KELAS!BE15=\"\",\"\",KELAS!BE15)","v":""},{"$f":"IF(KELAS!BF15=\"\",\"\",KELAS!BF15)","v":""},{"$f":"IF(KELAS!BG15=\"\",\"\",KELAS!BG15)","v":""},{"$f":"IF(KELAS!BH15=\"\",\"\",KELAS!BH15)","v":""},{"$f":"IF(KELAS!BI15=\"\",\"\",TEXT(KELAS!BI15,\"0,00\"))","v":""},{"$f":"IF(KELAS!BJ15=\"\",\"\",KELAS!BJ15)","v":""},{"$f":"IF(KELAS!BK15=\"\",\"\",KELAS!BK15)","v":""},{"$f":"IF(KELAS!BL15=\"\",\"\",TEXT(KELAS!BL15,\"0,00\"))","v":""},{"$f":"IF(KELAS!BM15=\"\",\"\",KELAS!BM15)","v":""},{"$f":"IF(KELAS!BN15=\"\",\"\",KELAS!BN15)","v":""},{"$f":"IF(KELAS!BO15=\"\",\"\",KELAS!BO15)","v":""},{"$f":"IF(KELAS!BP15=\"\",\"\",KELAS!BP15)","v":""},{"$f":"IF(KELAS!BQ15=\"\",\"\",KELAS!BQ15)","v":""},{"$f":"IF(KELAS!BR15=\"\",\"\",TEXT(KELAS!BR15,\"0,00\"))","v":""},{"$f":"IF(KELAS!BS15=\"\",\"\",KELAS!BS15)","v":""},{"$f":"IF(KELAS!BT15=\"\",\"\",KELAS!BT15)","v":""},{"$f":"IF(KELAS!BU15=\"\",\"\",TEXT(KELAS!BU15,\"0,00\"))","v":""},{"$f":"IF(KELAS!BV15=\"\",\"\",KELAS!BV15)","v":""},{"$f":"IF(KELAS!BW15=\"\",\"\",KELAS!BW15)","v":""},{"$f":"IF(KELAS!BX15=\"\",\"\",KELAS!BX15)","v":""},{"$f":"IF(KELAS!BY15=\"\",\"\",KELAS!BY15)","v":""},{"$f":"IF(KELAS!BZ15=\"\",\"\",KELAS!BZ15)","v":""},{"$f":"IF(KELAS!CA15=\"\",\"\",TEXT(KELAS!CA15,\"0,00\"))","v":""},{"$f":"IF(KELAS!CB15=\"\",\"\",KELAS!CB15)","v":""},{"$f":"IF(KELAS!CC15=\"\",\"\",KELAS!CC15)","v":""},{"$f":"IF(KELAS!CD15=\"\",\"\",TEXT(KELAS!CD15,\"0,00\"))","v":""},{"$f":"IF(KELAS!CE15=\"\",\"\",KELAS!CE15)","v":""},{"$f":"IF(KELAS!CF15=\"\",\"\",KELAS!CF15)","v":""},{"$f":"IF(KELAS!CG15=\"\",\"\",KELAS!CG15)","v":""},{"$f":"IF(KELAS!CH15=\"\",\"\",KELAS!CH15)","v":""},{"$f":"IF(KELAS!CI15=\"\",\"\",KELAS!CI15)","v":""},{"$f":"IF(KELAS!CJ15=\"\",\"\",TEXT(KELAS!CJ15,\"0,00\"))","v":""},{"$f":"IF(KELAS!CK15=\"\",\"\",KELAS!CK15)","v":""},{"$f":"IF(KELAS!CL15=\"\",\"\",KELAS!CL15)","v":""},{"$f":"IF(KELAS!CM15=\"\",\"\",TEXT(KELAS!CM15,\"0,00\"))","v":""},{"$f":"IF(KELAS!CN15=\"\",\"\",KELAS!CN15)","v":""},{"$f":"IF(KELAS!CO15=\"\",\"\",KELAS!CO15)","v":""},{"$f":"IF(KELAS!CP15=\"\",\"\",KELAS!CP15)","v":""},{"$f":"IF(KELAS!CQ15=\"\",\"\",KELAS!CQ15)","v":""},{"$f":"IF(KELAS!CR15=\"\",\"\",KELAS!CR15)","v":""},{"$f":"IF(KELAS!CS15=\"\",\"\",TEXT(KELAS!CS15,\"0,00\"))","v":""},{"$f":"IF(KELAS!CT15=\"\",\"\",KELAS!CT15)","v":""},{"$f":"IF(KELAS!CU15=\"\",\"\",KELAS!CU15)","v":""},{"$f":"IF(KELAS!CV15=\"\",\"\",TEXT(KELAS!CV15,\"0,00\"))","v":""},{"$f":"IF(KELAS!CW15=\"\",\"\",KELAS!CW15)","v":""},{"$f":"IF(KELAS!CX15=\"\",\"\",KELAS!CX15)","v":""},{"$f":"IF(KELAS!CY15=\"\",\"\",KELAS!CY15)","v":""},{"$f":"IF(KELAS!CZ15=\"\",\"\",KELAS!CZ15)","v":""},{"$f":"IF(KELAS!DA15=\"\",\"\",KELAS!DA15)","v":""},{"$f":"IF(KELAS!DB15=\"\",\"\",TEXT(KELAS!DB15,\"0,00\"))","v":""},{"$f":"IF(KELAS!DC15=\"\",\"\",KELAS!DC15)","v":""},{"$f":"IF(KELAS!DD15=\"\",\"\",KELAS!DD15)","v":""},{"$f":"IF(KELAS!DE15=\"\",\"\",TEXT(KELAS!DE15,\"0,00\"))","v":""},{"$f":"IF(KELAS!DF15=\"\",\"\",KELAS!DF15)","v":""},{"$f":"IF(KELAS!DG15=\"\",\"\",KELAS!DG15)","v":""},{"$f":"IF(KELAS!DH15=\"\",\"\",KELAS!DH15)","v":""},{"$f":"IF(KELAS!DI15=\"\",\"\",KELAS!DI15)","v":""},{"$f":"IF(KELAS!DJ15=\"\",\"\",KELAS!DJ15)","v":""},{"$f":"IF(KELAS!DK15=\"\",\"\",KELAS!DK15)","v":3},{"$f":"IF(KELAS!DL15=\"\",\"\",KELAS!DL15)","v":3},{"$f":"IF(KELAS!DM15=\"\",\"\",KELAS!DM15)","v":2},{"$f":"IF(KELAS!DN15=\"\",\"\",KELAS!DN15)","v":1},{"$f":"IF(KELAS!DO15=\"\",\"\",KELAS!DO15)","v":""},{"$f":"IF(KELAS!DP15=\"\",\"\",KELAS!DP15)","v":""},{"$f":"IF(KELAS!DQ15=\"\",\"\",KELAS!DQ15)","v":""},{"$f":"IF(KELAS!DR15=\"\",\"\",KELAS!DR15)","v":""},{"$f":"IF(KELAS!DS15=\"\",\"\",KELAS!DS15)","v":""},{"$f":"IF(KELAS!DT15=\"\",\"\",KELAS!DT15)","v":""},{"$f":"IF(KELAS!DU15=\"\",\"\",KELAS!DU15)","v":""},{"$f":"IF(KELAS!DV15=\"\",\"\",KELAS!DV15)","v":""},{"$f":"IF(KELAS!DW15=\"\",\"\",KELAS!DW15)","v":""},{"$f":"IF(KELAS!DX15=\"\",\"\",KELAS!DX15)","v":""},{"$f":"IF(KELAS!DY15=\"\",\"\",KELAS!DY15)","v":""},{"$f":"IF(KELAS!DZ15=\"\",\"\",KELAS!DZ15)","v":""},{"$f":"IF(KELAS!EA15=\"\",\"\",KELAS!EA15)","v":"3 ( tiga )"},{"$f":"IF(KELAS!EB15=\"\",\"\",KELAS!EB15)","v":"3 ( tiga )"},{"$f":"IF(KELAS!EC15=\"\",\"\",KELAS!EC15)","v":"2 ( dua )"},{"$f":"IF(KELAS!ED15=\"\",\"\",KELAS!ED15)","v":"1 ( satu )"},{"$f":"IF(KELAS!EE15=\"\",\"\",KELAS!EE15)","v":""},{"$f":"IF(KELAS!EF15=\"\",\"\",KELAS!EF15)","v":""},{"$f":"IF(KELAS!EG15=\"\",\"\",KELAS!EG15)","v":"Peserta didik menunjukan sikap sungguh-sungguh dalam menerapkan sikap santun, jujur dan kerjasama, namun masih perlu ditingkatkan lagi sikap percaya diri dan ketepatan masuk sekolah"},{"$f":"IF(KELAS!EH15=\"\",\"\",KELAS!EH15)","v":"Dhany Suryanto, S.Pd."},{"$f":"IF(KELAS!EI15=\"\",\"\",KELAS!EI15)","v":"jika punya NIP isikan di sini"},{"$f":"IF(KELAS!EJ15=\"\",\"\",KELAS!EJ15)","v":0},{"$f":"IF(KELAS!EK15=\"\",\"\",KELAS!EK15)","v":0},{"$f":"IF(KELAS!EL15=\"\",\"\",KELAS!EL15)","v":0},{"$f":"IF(KELAS!EM15=\"\",\"\",KELAS!EM15)","v":0},{"$f":"IF(KELAS!EN15=\"\",\"\",KELAS!EN15)","v":0},{"$f":"IF(KELAS!EO15=\"\",\"\",KELAS!EO15)","v":0},{"$f":"IF(KELAS!EP15=\"\",\"\",KELAS!EP15)","v":0},{"$f":"IF(KELAS!EQ15=\"\",\"\",KELAS!EQ15)","v":0},{"$f":"IF(KELAS!ER15=\"\",\"\",KELAS!ER15)","v":0},{"$f":"IF(KELAS!ES15=\"\",\"\",KELAS!ES15)","v":0},{"$f":"IF(KELAS!ET15=\"\",\"\",KELAS!ET15)","v":0}]
[{"$f":"IF(KELAS!A16=\"\",\"\",KELAS!A16)","v":14},{"$f":"IF(KELAS!B16=\"\",\"\",KELAS!B16)","v":12569},{"$f":"IF(KELAS!C16=\"\",\"\",KELAS!C16)","v":"GITTA VANIA"},{"$f":"IF(KELAS!D16=\"\",\"\",KELAS!D16)","v":"P"},{"$f":"IF(KELAS!E16=\"\",\"\",KELAS!E16)","v":"7.A"},{"$f":"IF(KELAS!F16=\"\",\"\",KELAS!F16)","v":"Islam"},{"$f":"IF(KELAS!G16=\"\",\"\",KELAS!G16)","v":9982865857},{"$f":"IF(KELAS!H16=\"\",\"\",KELAS!H16)","v":"Wonosobo, 18 Februari 1998"},{"$f":"IF(KELAS!I16=\"\",\"\",KELAS!I16)","v":"Singgih Junipa-Ekodi"},{"$f":"IF(KELAS!J16=\"\",\"\",KELAS!J16)","v":"Wiraswasta"},{"$f":"IF(KELAS!K16=\"\",\"\",KELAS!K16)","v":"Samsiyah"},{"$f":"IF(KELAS!L16=\"\",\"\",KELAS!L16)","v":"Ibu Rumah Tangga"},{"$f":"IF(KELAS!M16=\"\",\"\",KELAS!M16)","v":"Madulia RT.05 RW.03, Ngadimulyo, Selomerto, Wsb"},{"$f":"IF(KELAS!N16=\"\",\"\",KELAS!N16)","v":"SMP MUH BOARDING SCHOOL YOGYAKARTA"},{"$f":"IF(KELAS!O16=\"\",\"\",KELAS!O16)","v":1},{"$f":"IF(KELAS!P16=\"\",\"\",KELAS!P16)","v":"Anak Kandung"},{"$f":"IF(KELAS!Q16=\"\",\"\",TEXT(KELAS!Q16,\"0,00\"))","v":""},{"$f":"IF(KELAS!R16=\"\",\"\",KELAS!R16)","v":""},{"$f":"IF(KELAS!S16=\"\",\"\",KELAS!S16)","v":""},{"$f":"IF(KELAS!T16=\"\",\"\",TEXT(KELAS!T16,\"0,00\"))","v":""},{"$f":"IF(KELAS!U16=\"\",\"\",KELAS!U16)","v":""},{"$f":"IF(KELAS!V16=\"\",\"\",KELAS!V16)","v":""},{"$f":"IF(KELAS!W16=\"\",\"\",KELAS!W16)","v":""},{"$f":"IF(KELAS!X16=\"\",\"\",KELAS!X16)","v":""},{"$f":"IF(KELAS!Y16=\"\",\"\",TEXT(KELAS!Y16,\"0,00\"))","v":""},{"$f":"IF(KELAS!Z16=\"\",\"\",KELAS!Z16)","v":""},{"$f":"IF(KELAS!AA16=\"\",\"\",KELAS!AA16)","v":""},{"$f":"IF(KELAS!AB16=\"\",\"\",TEXT(KELAS!AB16,\"0,00\"))","v":""},{"$f":"IF(KELAS!AC16=\"\",\"\",KELAS!AC16)","v":""},{"$f":"IF(KELAS!AD16=\"\",\"\",KELAS!AD16)","v":""},{"$f":"IF(KELAS!AE16=\"\",\"\",KELAS!AE16)","v":""},{"$f":"IF(KELAS!AF16=\"\",\"\",KELAS!AF16)","v":""},{"$f":"IF(KELAS!AG16=\"\",\"\",KELAS!AG16)","v":""},{"$f":"IF(KELAS!AH16=\"\",\"\",TEXT(KELAS!AH16,\"0,00\"))","v":""},{"$f":"IF(KELAS!AI16=\"\",\"\",KELAS!AI16)","v":""},{"$f":"IF(KELAS!AJ16=\"\",\"\",KELAS!AJ16)","v":""},{"$f":"IF(KELAS!AK16=\"\",\"\",TEXT(KELAS!AK16,\"0,00\"))","v":""},{"$f":"IF(KELAS!AL16=\"\",\"\",KELAS!AL16)","v":""},{"$f":"IF(KELAS!AM16=\"\",\"\",KELAS!AM16)","v":""},{"$f":"IF(KELAS!AN16=\"\",\"\",KELAS!AN16)","v":""},{"$f":"IF(KELAS!AO16=\"\",\"\",KELAS!AO16)","v":""},{"$f":"IF(KELAS!AP16=\"\",\"\",KELAS!AP16)","v":""},{"$f":"IF(KELAS!AQ16=\"\",\"\",TEXT(KELAS!AQ16,\"0,00\"))","v":""},{"$f":"IF(KELAS!AR16=\"\",\"\",KELAS!AR16)","v":""},{"$f":"IF(KELAS!AS16=\"\",\"\",KELAS!AS16)","v":""},{"$f":"IF(KELAS!AT16=\"\",\"\",TEXT(KELAS!AT16,\"0,00\"))","v":""},{"$f":"IF(KELAS!AU16=\"\",\"\",KELAS!AU16)","v":""},{"$f":"IF(KELAS!AV16=\"\",\"\",KELAS!AV16)","v":""},{"$f":"IF(KELAS!AW16=\"\",\"\",KELAS!AW16)","v":""},{"$f":"IF(KELAS!AX16=\"\",\"\",KELAS!AX16)","v":""},{"$f":"IF(KELAS!AY16=\"\",\"\",KELAS!AY16)","v":""},{"$f":"IF(KELAS!AZ16=\"\",\"\",TEXT(KELAS!AZ16,\"0,00\"))","v":""},{"$f":"IF(KELAS!BA16=\"\",\"\",KELAS!BA16)","v":""},{"$f":"IF(KELAS!BB16=\"\",\"\",KELAS!BB16)","v":""},{"$f":"IF(KELAS!BC16=\"\",\"\",TEXT(KELAS!BC16,\"0,00\"))","v":""},{"$f":"IF(KELAS!BD16=\"\",\"\",KELAS!BD16)","v":""},{"$f":"IF(KELAS!BE16=\"\",\"\",KELAS!BE16)","v":""},{"$f":"IF(KELAS!BF16=\"\",\"\",KELAS!BF16)","v":""},{"$f":"IF(KELAS!BG16=\"\",\"\",KELAS!BG16)","v":""},{"$f":"IF(KELAS!BH16=\"\",\"\",KELAS!BH16)","v":""},{"$f":"IF(KELAS!BI16=\"\",\"\",TEXT(KELAS!BI16,\"0,00\"))","v":""},{"$f":"IF(KELAS!BJ16=\"\",\"\",KELAS!BJ16)","v":""},{"$f":"IF(KELAS!BK16=\"\",\"\",KELAS!BK16)","v":""},{"$f":"IF(KELAS!BL16=\"\",\"\",TEXT(KELAS!BL16,\"0,00\"))","v":""},{"$f":"IF(KELAS!BM16=\"\",\"\",KELAS!BM16)","v":""},{"$f":"IF(KELAS!BN16=\"\",\"\",KELAS!BN16)","v":""},{"$f":"IF(KELAS!BO16=\"\",\"\",KELAS!BO16)","v":""},{"$f":"IF(KELAS!BP16=\"\",\"\",KELAS!BP16)","v":""},{"$f":"IF(KELAS!BQ16=\"\",\"\",KELAS!BQ16)","v":""},{"$f":"IF(KELAS!BR16=\"\",\"\",TEXT(KELAS!BR16,\"0,00\"))","v":""},{"$f":"IF(KELAS!BS16=\"\",\"\",KELAS!BS16)","v":""},{"$f":"IF(KELAS!BT16=\"\",\"\",KELAS!BT16)","v":""},{"$f":"IF(KELAS!BU16=\"\",\"\",TEXT(KELAS!BU16,\"0,00\"))","v":""},{"$f":"IF(KELAS!BV16=\"\",\"\",KELAS!BV16)","v":""},{"$f":"IF(KELAS!BW16=\"\",\"\",KELAS!BW16)","v":""},{"$f":"IF(KELAS!BX16=\"\",\"\",KELAS!BX16)","v":""},{"$f":"IF(KELAS!BY16=\"\",\"\",KELAS!BY16)","v":""},{"$f":"IF(KELAS!BZ16=\"\",\"\",KELAS!BZ16)","v":""},{"$f":"IF(KELAS!CA16=\"\",\"\",TEXT(KELAS!CA16,\"0,00\"))","v":""},{"$f":"IF(KELAS!CB16=\"\",\"\",KELAS!CB16)","v":""},{"$f":"IF(KELAS!CC16=\"\",\"\",KELAS!CC16)","v":""},{"$f":"IF(KELAS!CD16=\"\",\"\",TEXT(KELAS!CD16,\"0,00\"))","v":""},{"$f":"IF(KELAS!CE16=\"\",\"\",KELAS!CE16)","v":""},{"$f":"IF(KELAS!CF16=\"\",\"\",KELAS!CF16)","v":""},{"$f":"IF(KELAS!CG16=\"\",\"\",KELAS!CG16)","v":""},{"$f":"IF(KELAS!CH16=\"\",\"\",KELAS!CH16)","v":""},{"$f":"IF(KELAS!CI16=\"\",\"\",KELAS!CI16)","v":""},{"$f":"IF(KELAS!CJ16=\"\",\"\",TEXT(KELAS!CJ16,\"0,00\"))","v":""},{"$f":"IF(KELAS!CK16=\"\",\"\",KELAS!CK16)","v":""},{"$f":"IF(KELAS!CL16=\"\",\"\",KELAS!CL16)","v":""},{"$f":"IF(KELAS!CM16=\"\",\"\",TEXT(KELAS!CM16,\"0,00\"))","v":""},{"$f":"IF(KELAS!CN16=\"\",\"\",KELAS!CN16)","v":""},{"$f":"IF(KELAS!CO16=\"\",\"\",KELAS!CO16)","v":""},{"$f":"IF(KELAS!CP16=\"\",\"\",KELAS!CP16)","v":""},{"$f":"IF(KELAS!CQ16=\"\",\"\",KELAS!CQ16)","v":""},{"$f":"IF(KELAS!CR16=\"\",\"\",KELAS!CR16)","v":""},{"$f":"IF(KELAS!CS16=\"\",\"\",TEXT(KELAS!CS16,\"0,00\"))","v":""},{"$f":"IF(KELAS!CT16=\"\",\"\",KELAS!CT16)","v":""},{"$f":"IF(KELAS!CU16=\"\",\"\",KELAS!CU16)","v":""},{"$f":"IF(KELAS!CV16=\"\",\"\",TEXT(KELAS!CV16,\"0,00\"))","v":""},{"$f":"IF(KELAS!CW16=\"\",\"\",KELAS!CW16)","v":""},{"$f":"IF(KELAS!CX16=\"\",\"\",KELAS!CX16)","v":""},{"$f":"IF(KELAS!CY16=\"\",\"\",KELAS!CY16)","v":""},{"$f":"IF(KELAS!CZ16=\"\",\"\",KELAS!CZ16)","v":""},{"$f":"IF(KELAS!DA16=\"\",\"\",KELAS!DA16)","v":""},{"$f":"IF(KELAS!DB16=\"\",\"\",TEXT(KELAS!DB16,\"0,00\"))","v":""},{"$f":"IF(KELAS!DC16=\"\",\"\",KELAS!DC16)","v":""},{"$f":"IF(KELAS!DD16=\"\",\"\",KELAS!DD16)","v":""},{"$f":"IF(KELAS!DE16=\"\",\"\",TEXT(KELAS!DE16,\"0,00\"))","v":""},{"$f":"IF(KELAS!DF16=\"\",\"\",KELAS!DF16)","v":""},{"$f":"IF(KELAS!DG16=\"\",\"\",KELAS!DG16)","v":""},{"$f":"IF(KELAS!DH16=\"\",\"\",KELAS!DH16)","v":""},{"$f":"IF(KELAS!DI16=\"\",\"\",KELAS!DI16)","v":""},{"$f":"IF(KELAS!DJ16=\"\",\"\",KELAS!DJ16)","v":""},{"$f":"IF(KELAS!DK16=\"\",\"\",KELAS!DK16)","v":2},{"$f":"IF(KELAS!DL16=\"\",\"\",KELAS!DL16)","v":2},{"$f":"IF(KELAS!DM16=\"\",\"\",KELAS!DM16)","v":1},{"$f":"IF(KELAS!DN16=\"\",\"\",KELAS!DN16)","v":3},{"$f":"IF(KELAS!DO16=\"\",\"\",KELAS!DO16)","v":""},{"$f":"IF(KELAS!DP16=\"\",\"\",KELAS!DP16)","v":""},{"$f":"IF(KELAS!DQ16=\"\",\"\",KELAS!DQ16)","v":""},{"$f":"IF(KELAS!DR16=\"\",\"\",KELAS!DR16)","v":""},{"$f":"IF(KELAS!DS16=\"\",\"\",KELAS!DS16)","v":""},{"$f":"IF(KELAS!DT16=\"\",\"\",KELAS!DT16)","v":""},{"$f":"IF(KELAS!DU16=\"\",\"\",KELAS!DU16)","v":""},{"$f":"IF(KELAS!DV16=\"\",\"\",KELAS!DV16)","v":""},{"$f":"IF(KELAS!DW16=\"\",\"\",KELAS!DW16)","v":""},{"$f":"IF(KELAS!DX16=\"\",\"\",KELAS!DX16)","v":""},{"$f":"IF(KELAS!DY16=\"\",\"\",KELAS!DY16)","v":""},{"$f":"IF(KELAS!DZ16=\"\",\"\",KELAS!DZ16)","v":""},{"$f":"IF(KELAS!EA16=\"\",\"\",KELAS!EA16)","v":"2 ( dua )"},{"$f":"IF(KELAS!EB16=\"\",\"\",KELAS!EB16)","v":"2 ( dua )"},{"$f":"IF(KELAS!EC16=\"\",\"\",KELAS!EC16)","v":"1 ( satu )"},{"$f":"IF(KELAS!ED16=\"\",\"\",KELAS!ED16)","v":"3 ( tiga )"},{"$f":"IF(KELAS!EE16=\"\",\"\",KELAS!EE16)","v":""},{"$f":"IF(KELAS!EF16=\"\",\"\",KELAS!EF16)","v":""},{"$f":"IF(KELAS!EG16=\"\",\"\",KELAS!EG16)","v":"Peserta didik menunjukan sikap sungguh-sungguh dalam menerapkan sikap santun, jujur dan kerjasama, namun masih perlu ditingkatkan lagi sikap percaya diri dan ketepatan masuk sekolah"},{"$f":"IF(KELAS!EH16=\"\",\"\",KELAS!EH16)","v":"Dhany Suryanto, S.Pd."},{"$f":"IF(KELAS!EI16=\"\",\"\",KELAS!EI16)","v":"jika punya NIP isikan di sini"},{"$f":"IF(KELAS!EJ16=\"\",\"\",KELAS!EJ16)","v":0},{"$f":"IF(KELAS!EK16=\"\",\"\",KELAS!EK16)","v":0},{"$f":"IF(KELAS!EL16=\"\",\"\",KELAS!EL16)","v":0},{"$f":"IF(KELAS!EM16=\"\",\"\",KELAS!EM16)","v":0},{"$f":"IF(KELAS!EN16=\"\",\"\",KELAS!EN16)","v":0},{"$f":"IF(KELAS!EO16=\"\",\"\",KELAS!EO16)","v":0},{"$f":"IF(KELAS!EP16=\"\",\"\",KELAS!EP16)","v":0},{"$f":"IF(KELAS!EQ16=\"\",\"\",KELAS!EQ16)","v":0},{"$f":"IF(KELAS!ER16=\"\",\"\",KELAS!ER16)","v":0},{"$f":"IF(KELAS!ES16=\"\",\"\",KELAS!ES16)","v":0},{"$f":"IF(KELAS!ET16=\"\",\"\",KELAS!ET16)","v":0}]
[{"$f":"IF(KELAS!A17=\"\",\"\",KELAS!A17)","v":15},{"$f":"IF(KELAS!B17=\"\",\"\",KELAS!B17)","v":12575},{"$f":"IF(KELAS!C17=\"\",\"\",KELAS!C17)","v":"HARYANI RACHMAWATI"},{"$f":"IF(KELAS!D17=\"\",\"\",KELAS!D17)","v":"P"},{"$f":"IF(KELAS!E17=\"\",\"\",KELAS!E17)","v":"7.A"},{"$f":"IF(KELAS!F17=\"\",\"\",KELAS!F17)","v":"Islam"},{"$f":"IF(KELAS!G17=\"\",\"\",KELAS!G17)","v":9971533495},{"$f":"IF(KELAS!H17=\"\",\"\",KELAS!H17)","v":"Wonosobo, 27 Januari 1997"},{"$f":"IF(KELAS!I17=\"\",\"\",KELAS!I17)","v":"Rochmat"},{"$f":"IF(KELAS!J17=\"\",\"\",KELAS!J17)","v":"Sopir"},{"$f":"IF(KELAS!K17=\"\",\"\",KELAS!K17)","v":"Eni Nurfaizah"},{"$f":"IF(KELAS!L17=\"\",\"\",KELAS!L17)","v":"Ibu Rumah Tangga"},{"$f":"IF(KELAS!M17=\"\",\"\",KELAS!M17)","v":"Krasak RT.03 RW.04, Mojotengah, Wsb"},{"$f":"IF(KELAS!N17=\"\",\"\",KELAS!N17)","v":"SMPN 1 MOJOTENGAH"},{"$f":"IF(KELAS!O17=\"\",\"\",KELAS!O17)","v":2},{"$f":"IF(KELAS!P17=\"\",\"\",KELAS!P17)","v":"Anak Kandung"},{"$f":"IF(KELAS!Q17=\"\",\"\",TEXT(KELAS!Q17,\"0,00\"))","v":""},{"$f":"IF(KELAS!R17=\"\",\"\",KELAS!R17)","v":""},{"$f":"IF(KELAS!S17=\"\",\"\",KELAS!S17)","v":""},{"$f":"IF(KELAS!T17=\"\",\"\",TEXT(KELAS!T17,\"0,00\"))","v":""},{"$f":"IF(KELAS!U17=\"\",\"\",KELAS!U17)","v":""},{"$f":"IF(KELAS!V17=\"\",\"\",KELAS!V17)","v":""},{"$f":"IF(KELAS!W17=\"\",\"\",KELAS!W17)","v":""},{"$f":"IF(KELAS!X17=\"\",\"\",KELAS!X17)","v":""},{"$f":"IF(KELAS!Y17=\"\",\"\",TEXT(KELAS!Y17,\"0,00\"))","v":""},{"$f":"IF(KELAS!Z17=\"\",\"\",KELAS!Z17)","v":""},{"$f":"IF(KELAS!AA17=\"\",\"\",KELAS!AA17)","v":""},{"$f":"IF(KELAS!AB17=\"\",\"\",TEXT(KELAS!AB17,\"0,00\"))","v":""},{"$f":"IF(KELAS!AC17=\"\",\"\",KELAS!AC17)","v":""},{"$f":"IF(KELAS!AD17=\"\",\"\",KELAS!AD17)","v":""},{"$f":"IF(KELAS!AE17=\"\",\"\",KELAS!AE17)","v":""},{"$f":"IF(KELAS!AF17=\"\",\"\",KELAS!AF17)","v":""},{"$f":"IF(KELAS!AG17=\"\",\"\",KELAS!AG17)","v":""},{"$f":"IF(KELAS!AH17=\"\",\"\",TEXT(KELAS!AH17,\"0,00\"))","v":""},{"$f":"IF(KELAS!AI17=\"\",\"\",KELAS!AI17)","v":""},{"$f":"IF(KELAS!AJ17=\"\",\"\",KELAS!AJ17)","v":""},{"$f":"IF(KELAS!AK17=\"\",\"\",TEXT(KELAS!AK17,\"0,00\"))","v":""},{"$f":"IF(KELAS!AL17=\"\",\"\",KELAS!AL17)","v":""},{"$f":"IF(KELAS!AM17=\"\",\"\",KELAS!AM17)","v":""},{"$f":"IF(KELAS!AN17=\"\",\"\",KELAS!AN17)","v":""},{"$f":"IF(KELAS!AO17=\"\",\"\",KELAS!AO17)","v":""},{"$f":"IF(KELAS!AP17=\"\",\"\",KELAS!AP17)","v":""},{"$f":"IF(KELAS!AQ17=\"\",\"\",TEXT(KELAS!AQ17,\"0,00\"))","v":""},{"$f":"IF(KELAS!AR17=\"\",\"\",KELAS!AR17)","v":""},{"$f":"IF(KELAS!AS17=\"\",\"\",KELAS!AS17)","v":""},{"$f":"IF(KELAS!AT17=\"\",\"\",TEXT(KELAS!AT17,\"0,00\"))","v":""},{"$f":"IF(KELAS!AU17=\"\",\"\",KELAS!AU17)","v":""},{"$f":"IF(KELAS!AV17=\"\",\"\",KELAS!AV17)","v":""},{"$f":"IF(KELAS!AW17=\"\",\"\",KELAS!AW17)","v":""},{"$f":"IF(KELAS!AX17=\"\",\"\",KELAS!AX17)","v":""},{"$f":"IF(KELAS!AY17=\"\",\"\",KELAS!AY17)","v":""},{"$f":"IF(KELAS!AZ17=\"\",\"\",TEXT(KELAS!AZ17,\"0,00\"))","v":""},{"$f":"IF(KELAS!BA17=\"\",\"\",KELAS!BA17)","v":""},{"$f":"IF(KELAS!BB17=\"\",\"\",KELAS!BB17)","v":""},{"$f":"IF(KELAS!BC17=\"\",\"\",TEXT(KELAS!BC17,\"0,00\"))","v":""},{"$f":"IF(KELAS!BD17=\"\",\"\",KELAS!BD17)","v":""},{"$f":"IF(KELAS!BE17=\"\",\"\",KELAS!BE17)","v":""},{"$f":"IF(KELAS!BF17=\"\",\"\",KELAS!BF17)","v":""},{"$f":"IF(KELAS!BG17=\"\",\"\",KELAS!BG17)","v":""},{"$f":"IF(KELAS!BH17=\"\",\"\",KELAS!BH17)","v":""},{"$f":"IF(KELAS!BI17=\"\",\"\",TEXT(KELAS!BI17,\"0,00\"))","v":""},{"$f":"IF(KELAS!BJ17=\"\",\"\",KELAS!BJ17)","v":""},{"$f":"IF(KELAS!BK17=\"\",\"\",KELAS!BK17)","v":""},{"$f":"IF(KELAS!BL17=\"\",\"\",TEXT(KELAS!BL17,\"0,00\"))","v":""},{"$f":"IF(KELAS!BM17=\"\",\"\",KELAS!BM17)","v":""},{"$f":"IF(KELAS!BN17=\"\",\"\",KELAS!BN17)","v":""},{"$f":"IF(KELAS!BO17=\"\",\"\",KELAS!BO17)","v":""},{"$f":"IF(KELAS!BP17=\"\",\"\",KELAS!BP17)","v":""},{"$f":"IF(KELAS!BQ17=\"\",\"\",KELAS!BQ17)","v":""},{"$f":"IF(KELAS!BR17=\"\",\"\",TEXT(KELAS!BR17,\"0,00\"))","v":""},{"$f":"IF(KELAS!BS17=\"\",\"\",KELAS!BS17)","v":""},{"$f":"IF(KELAS!BT17=\"\",\"\",KELAS!BT17)","v":""},{"$f":"IF(KELAS!BU17=\"\",\"\",TEXT(KELAS!BU17,\"0,00\"))","v":""},{"$f":"IF(KELAS!BV17=\"\",\"\",KELAS!BV17)","v":""},{"$f":"IF(KELAS!BW17=\"\",\"\",KELAS!BW17)","v":""},{"$f":"IF(KELAS!BX17=\"\",\"\",KELAS!BX17)","v":""},{"$f":"IF(KELAS!BY17=\"\",\"\",KELAS!BY17)","v":""},{"$f":"IF(KELAS!BZ17=\"\",\"\",KELAS!BZ17)","v":""},{"$f":"IF(KELAS!CA17=\"\",\"\",TEXT(KELAS!CA17,\"0,00\"))","v":""},{"$f":"IF(KELAS!CB17=\"\",\"\",KELAS!CB17)","v":""},{"$f":"IF(KELAS!CC17=\"\",\"\",KELAS!CC17)","v":""},{"$f":"IF(KELAS!CD17=\"\",\"\",TEXT(KELAS!CD17,\"0,00\"))","v":""},{"$f":"IF(KELAS!CE17=\"\",\"\",KELAS!CE17)","v":""},{"$f":"IF(KELAS!CF17=\"\",\"\",KELAS!CF17)","v":""},{"$f":"IF(KELAS!CG17=\"\",\"\",KELAS!CG17)","v":""},{"$f":"IF(KELAS!CH17=\"\",\"\",KELAS!CH17)","v":""},{"$f":"IF(KELAS!CI17=\"\",\"\",KELAS!CI17)","v":""},{"$f":"IF(KELAS!CJ17=\"\",\"\",TEXT(KELAS!CJ17,\"0,00\"))","v":""},{"$f":"IF(KELAS!CK17=\"\",\"\",KELAS!CK17)","v":""},{"$f":"IF(KELAS!CL17=\"\",\"\",KELAS!CL17)","v":""},{"$f":"IF(KELAS!CM17=\"\",\"\",TEXT(KELAS!CM17,\"0,00\"))","v":""},{"$f":"IF(KELAS!CN17=\"\",\"\",KELAS!CN17)","v":""},{"$f":"IF(KELAS!CO17=\"\",\"\",KELAS!CO17)","v":""},{"$f":"IF(KELAS!CP17=\"\",\"\",KELAS!CP17)","v":""},{"$f":"IF(KELAS!CQ17=\"\",\"\",KELAS!CQ17)","v":""},{"$f":"IF(KELAS!CR17=\"\",\"\",KELAS!CR17)","v":""},{"$f":"IF(KELAS!CS17=\"\",\"\",TEXT(KELAS!CS17,\"0,00\"))","v":""},{"$f":"IF(KELAS!CT17=\"\",\"\",KELAS!CT17)","v":""},{"$f":"IF(KELAS!CU17=\"\",\"\",KELAS!CU17)","v":""},{"$f":"IF(KELAS!CV17=\"\",\"\",TEXT(KELAS!CV17,\"0,00\"))","v":""},{"$f":"IF(KELAS!CW17=\"\",\"\",KELAS!CW17)","v":""},{"$f":"IF(KELAS!CX17=\"\",\"\",KELAS!CX17)","v":""},{"$f":"IF(KELAS!CY17=\"\",\"\",KELAS!CY17)","v":""},{"$f":"IF(KELAS!CZ17=\"\",\"\",KELAS!CZ17)","v":""},{"$f":"IF(KELAS!DA17=\"\",\"\",KELAS!DA17)","v":""},{"$f":"IF(KELAS!DB17=\"\",\"\",TEXT(KELAS!DB17,\"0,00\"))","v":""},{"$f":"IF(KELAS!DC17=\"\",\"\",KELAS!DC17)","v":""},{"$f":"IF(KELAS!DD17=\"\",\"\",KELAS!DD17)","v":""},{"$f":"IF(KELAS!DE17=\"\",\"\",TEXT(KELAS!DE17,\"0,00\"))","v":""},{"$f":"IF(KELAS!DF17=\"\",\"\",KELAS!DF17)","v":""},{"$f":"IF(KELAS!DG17=\"\",\"\",KELAS!DG17)","v":""},{"$f":"IF(KELAS!DH17=\"\",\"\",KELAS!DH17)","v":""},{"$f":"IF(KELAS!DI17=\"\",\"\",KELAS!DI17)","v":""},{"$f":"IF(KELAS!DJ17=\"\",\"\",KELAS!DJ17)","v":""},{"$f":"IF(KELAS!DK17=\"\",\"\",KELAS!DK17)","v":2},{"$f":"IF(KELAS!DL17=\"\",\"\",KELAS!DL17)","v":3},{"$f":"IF(KELAS!DM17=\"\",\"\",KELAS!DM17)","v":2},{"$f":"IF(KELAS!DN17=\"\",\"\",KELAS!DN17)","v":2},{"$f":"IF(KELAS!DO17=\"\",\"\",KELAS!DO17)","v":""},{"$f":"IF(KELAS!DP17=\"\",\"\",KELAS!DP17)","v":""},{"$f":"IF(KELAS!DQ17=\"\",\"\",KELAS!DQ17)","v":""},{"$f":"IF(KELAS!DR17=\"\",\"\",KELAS!DR17)","v":""},{"$f":"IF(KELAS!DS17=\"\",\"\",KELAS!DS17)","v":""},{"$f":"IF(KELAS!DT17=\"\",\"\",KELAS!DT17)","v":""},{"$f":"IF(KELAS!DU17=\"\",\"\",KELAS!DU17)","v":""},{"$f":"IF(KELAS!DV17=\"\",\"\",KELAS!DV17)","v":""},{"$f":"IF(KELAS!DW17=\"\",\"\",KELAS!DW17)","v":""},{"$f":"IF(KELAS!DX17=\"\",\"\",KELAS!DX17)","v":""},{"$f":"IF(KELAS!DY17=\"\",\"\",KELAS!DY17)","v":""},{"$f":"IF(KELAS!DZ17=\"\",\"\",KELAS!DZ17)","v":""},{"$f":"IF(KELAS!EA17=\"\",\"\",KELAS!EA17)","v":"2 ( dua )"},{"$f":"IF(KELAS!EB17=\"\",\"\",KELAS!EB17)","v":"3 ( tiga )"},{"$f":"IF(KELAS!EC17=\"\",\"\",KELAS!EC17)","v":"2 ( dua )"},{"$f":"IF(KELAS!ED17=\"\",\"\",KELAS!ED17)","v":"2 ( dua )"},{"$f":"IF(KELAS!EE17=\"\",\"\",KELAS!EE17)","v":""},{"$f":"IF(KELAS!EF17=\"\",\"\",KELAS!EF17)","v":""},{"$f":"IF(KELAS!EG17=\"\",\"\",KELAS!EG17)","v":"Peserta didik menunjukan sikap sungguh-sungguh dalam menerapkan sikap santun, jujur dan kerjasama, namun masih perlu ditingkatkan lagi sikap percaya diri dan ketepatan masuk sekolah"},{"$f":"IF(KELAS!EH17=\"\",\"\",KELAS!EH17)","v":"Dhany Suryanto, S.Pd."},{"$f":"IF(KELAS!EI17=\"\",\"\",KELAS!EI17)","v":"jika punya NIP isikan di sini"},{"$f":"IF(KELAS!EJ17=\"\",\"\",KELAS!EJ17)","v":0},{"$f":"IF(KELAS!EK17=\"\",\"\",KELAS!EK17)","v":0},{"$f":"IF(KELAS!EL17=\"\",\"\",KELAS!EL17)","v":0},{"$f":"IF(KELAS!EM17=\"\",\"\",KELAS!EM17)","v":0},{"$f":"IF(KELAS!EN17=\"\",\"\",KELAS!EN17)","v":0},{"$f":"IF(KELAS!EO17=\"\",\"\",KELAS!EO17)","v":0},{"$f":"IF(KELAS!EP17=\"\",\"\",KELAS!EP17)","v":0},{"$f":"IF(KELAS!EQ17=\"\",\"\",KELAS!EQ17)","v":0},{"$f":"IF(KELAS!ER17=\"\",\"\",KELAS!ER17)","v":0},{"$f":"IF(KELAS!ES17=\"\",\"\",KELAS!ES17)","v":0},{"$f":"IF(KELAS!ET17=\"\",\"\",KELAS!ET17)","v":0}]
[{"$f":"IF(KELAS!A18=\"\",\"\",KELAS!A18)","v":16},{"$f":"IF(KELAS!B18=\"\",\"\",KELAS!B18)","v":12593},{"$f":"IF(KELAS!C18=\"\",\"\",KELAS!C18)","v":"INTAN KUSUMA WARDANI"},{"$f":"IF(KELAS!D18=\"\",\"\",KELAS!D18)","v":"P"},{"$f":"IF(KELAS!E18=\"\",\"\",KELAS!E18)","v":"7.A"},{"$f":"IF(KELAS!F18=\"\",\"\",KELAS!F18)","v":"Islam"},{"$f":"IF(KELAS!G18=\"\",\"\",KELAS!G18)","v":9981598734},{"$f":"IF(KELAS!H18=\"\",\"\",KELAS!H18)","v":"Wonosobo, 25 Juli 1998"},{"$f":"IF(KELAS!I18=\"\",\"\",KELAS!I18)","v":"Isharyanto"},{"$f":"IF(KELAS!J18=\"\",\"\",KELAS!J18)","v":"Pedagang"},{"$f":"IF(KELAS!K18=\"\",\"\",KELAS!K18)","v":"Dwi Setyaningsih"},{"$f":"IF(KELAS!L18=\"\",\"\",KELAS!L18)","v":"Ibu Rumah Tangga"},{"$f":"IF(KELAS!M18=\"\",\"\",KELAS!M18)","v":"Jl. Lingkar Selatan RT.01 RW.01, Wonolelo, Wsb"},{"$f":"IF(KELAS!N18=\"\",\"\",KELAS!N18)","v":"SMPN 1 KERTEK"},{"$f":"IF(KELAS!O18=\"\",\"\",KELAS!O18)","v":2},{"$f":"IF(KELAS!P18=\"\",\"\",KELAS!P18)","v":"Anak Kandung"},{"$f":"IF(KELAS!Q18=\"\",\"\",TEXT(KELAS!Q18,\"0,00\"))","v":""},{"$f":"IF(KELAS!R18=\"\",\"\",KELAS!R18)","v":""},{"$f":"IF(KELAS!S18=\"\",\"\",KELAS!S18)","v":""},{"$f":"IF(KELAS!T18=\"\",\"\",TEXT(KELAS!T18,\"0,00\"))","v":""},{"$f":"IF(KELAS!U18=\"\",\"\",KELAS!U18)","v":""},{"$f":"IF(KELAS!V18=\"\",\"\",KELAS!V18)","v":""},{"$f":"IF(KELAS!W18=\"\",\"\",KELAS!W18)","v":""},{"$f":"IF(KELAS!X18=\"\",\"\",KELAS!X18)","v":""},{"$f":"IF(KELAS!Y18=\"\",\"\",TEXT(KELAS!Y18,\"0,00\"))","v":""},{"$f":"IF(KELAS!Z18=\"\",\"\",KELAS!Z18)","v":""},{"$f":"IF(KELAS!AA18=\"\",\"\",KELAS!AA18)","v":""},{"$f":"IF(KELAS!AB18=\"\",\"\",TEXT(KELAS!AB18,\"0,00\"))","v":""},{"$f":"IF(KELAS!AC18=\"\",\"\",KELAS!AC18)","v":""},{"$f":"IF(KELAS!AD18=\"\",\"\",KELAS!AD18)","v":""},{"$f":"IF(KELAS!AE18=\"\",\"\",KELAS!AE18)","v":""},{"$f":"IF(KELAS!AF18=\"\",\"\",KELAS!AF18)","v":""},{"$f":"IF(KELAS!AG18=\"\",\"\",KELAS!AG18)","v":""},{"$f":"IF(KELAS!AH18=\"\",\"\",TEXT(KELAS!AH18,\"0,00\"))","v":""},{"$f":"IF(KELAS!AI18=\"\",\"\",KELAS!AI18)","v":""},{"$f":"IF(KELAS!AJ18=\"\",\"\",KELAS!AJ18)","v":""},{"$f":"IF(KELAS!AK18=\"\",\"\",TEXT(KELAS!AK18,\"0,00\"))","v":""},{"$f":"IF(KELAS!AL18=\"\",\"\",KELAS!AL18)","v":""},{"$f":"IF(KELAS!AM18=\"\",\"\",KELAS!AM18)","v":""},{"$f":"IF(KELAS!AN18=\"\",\"\",KELAS!AN18)","v":""},{"$f":"IF(KELAS!AO18=\"\",\"\",KELAS!AO18)","v":""},{"$f":"IF(KELAS!AP18=\"\",\"\",KELAS!AP18)","v":""},{"$f":"IF(KELAS!AQ18=\"\",\"\",TEXT(KELAS!AQ18,\"0,00\"))","v":""},{"$f":"IF(KELAS!AR18=\"\",\"\",KELAS!AR18)","v":""},{"$f":"IF(KELAS!AS18=\"\",\"\",KELAS!AS18)","v":""},{"$f":"IF(KELAS!AT18=\"\",\"\",TEXT(KELAS!AT18,\"0,00\"))","v":""},{"$f":"IF(KELAS!AU18=\"\",\"\",KELAS!AU18)","v":""},{"$f":"IF(KELAS!AV18=\"\",\"\",KELAS!AV18)","v":""},{"$f":"IF(KELAS!AW18=\"\",\"\",KELAS!AW18)","v":""},{"$f":"IF(KELAS!AX18=\"\",\"\",KELAS!AX18)","v":""},{"$f":"IF(KELAS!AY18=\"\",\"\",KELAS!AY18)","v":""},{"$f":"IF(KELAS!AZ18=\"\",\"\",TEXT(KELAS!AZ18,\"0,00\"))","v":""},{"$f":"IF(KELAS!BA18=\"\",\"\",KELAS!BA18)","v":""},{"$f":"IF(KELAS!BB18=\"\",\"\",KELAS!BB18)","v":""},{"$f":"IF(KELAS!BC18=\"\",\"\",TEXT(KELAS!BC18,\"0,00\"))","v":""},{"$f":"IF(KELAS!BD18=\"\",\"\",KELAS!BD18)","v":""},{"$f":"IF(KELAS!BE18=\"\",\"\",KELAS!BE18)","v":""},{"$f":"IF(KELAS!BF18=\"\",\"\",KELAS!BF18)","v":""},{"$f":"IF(KELAS!BG18=\"\",\"\",KELAS!BG18)","v":""},{"$f":"IF(KELAS!BH18=\"\",\"\",KELAS!BH18)","v":""},{"$f":"IF(KELAS!BI18=\"\",\"\",TEXT(KELAS!BI18,\"0,00\"))","v":""},{"$f":"IF(KELAS!BJ18=\"\",\"\",KELAS!BJ18)","v":""},{"$f":"IF(KELAS!BK18=\"\",\"\",KELAS!BK18)","v":""},{"$f":"IF(KELAS!BL18=\"\",\"\",TEXT(KELAS!BL18,\"0,00\"))","v":""},{"$f":"IF(KELAS!BM18=\"\",\"\",KELAS!BM18)","v":""},{"$f":"IF(KELAS!BN18=\"\",\"\",KELAS!BN18)","v":""},{"$f":"IF(KELAS!BO18=\"\",\"\",KELAS!BO18)","v":""},{"$f":"IF(KELAS!BP18=\"\",\"\",KELAS!BP18)","v":""},{"$f":"IF(KELAS!BQ18=\"\",\"\",KELAS!BQ18)","v":""},{"$f":"IF(KELAS!BR18=\"\",\"\",TEXT(KELAS!BR18,\"0,00\"))","v":""},{"$f":"IF(KELAS!BS18=\"\",\"\",KELAS!BS18)","v":""},{"$f":"IF(KELAS!BT18=\"\",\"\",KELAS!BT18)","v":""},{"$f":"IF(KELAS!BU18=\"\",\"\",TEXT(KELAS!BU18,\"0,00\"))","v":""},{"$f":"IF(KELAS!BV18=\"\",\"\",KELAS!BV18)","v":""},{"$f":"IF(KELAS!BW18=\"\",\"\",KELAS!BW18)","v":""},{"$f":"IF(KELAS!BX18=\"\",\"\",KELAS!BX18)","v":""},{"$f":"IF(KELAS!BY18=\"\",\"\",KELAS!BY18)","v":""},{"$f":"IF(KELAS!BZ18=\"\",\"\",KELAS!BZ18)","v":""},{"$f":"IF(KELAS!CA18=\"\",\"\",TEXT(KELAS!CA18,\"0,00\"))","v":""},{"$f":"IF(KELAS!CB18=\"\",\"\",KELAS!CB18)","v":""},{"$f":"IF(KELAS!CC18=\"\",\"\",KELAS!CC18)","v":""},{"$f":"IF(KELAS!CD18=\"\",\"\",TEXT(KELAS!CD18,\"0,00\"))","v":""},{"$f":"IF(KELAS!CE18=\"\",\"\",KELAS!CE18)","v":""},{"$f":"IF(KELAS!CF18=\"\",\"\",KELAS!CF18)","v":""},{"$f":"IF(KELAS!CG18=\"\",\"\",KELAS!CG18)","v":""},{"$f":"IF(KELAS!CH18=\"\",\"\",KELAS!CH18)","v":""},{"$f":"IF(KELAS!CI18=\"\",\"\",KELAS!CI18)","v":""},{"$f":"IF(KELAS!CJ18=\"\",\"\",TEXT(KELAS!CJ18,\"0,00\"))","v":""},{"$f":"IF(KELAS!CK18=\"\",\"\",KELAS!CK18)","v":""},{"$f":"IF(KELAS!CL18=\"\",\"\",KELAS!CL18)","v":""},{"$f":"IF(KELAS!CM18=\"\",\"\",TEXT(KELAS!CM18,\"0,00\"))","v":""},{"$f":"IF(KELAS!CN18=\"\",\"\",KELAS!CN18)","v":""},{"$f":"IF(KELAS!CO18=\"\",\"\",KELAS!CO18)","v":""},{"$f":"IF(KELAS!CP18=\"\",\"\",KELAS!CP18)","v":""},{"$f":"IF(KELAS!CQ18=\"\",\"\",KELAS!CQ18)","v":""},{"$f":"IF(KELAS!CR18=\"\",\"\",KELAS!CR18)","v":""},{"$f":"IF(KELAS!CS18=\"\",\"\",TEXT(KELAS!CS18,\"0,00\"))","v":""},{"$f":"IF(KELAS!CT18=\"\",\"\",KELAS!CT18)","v":""},{"$f":"IF(KELAS!CU18=\"\",\"\",KELAS!CU18)","v":""},{"$f":"IF(KELAS!CV18=\"\",\"\",TEXT(KELAS!CV18,\"0,00\"))","v":""},{"$f":"IF(KELAS!CW18=\"\",\"\",KELAS!CW18)","v":""},{"$f":"IF(KELAS!CX18=\"\",\"\",KELAS!CX18)","v":""},{"$f":"IF(KELAS!CY18=\"\",\"\",KELAS!CY18)","v":""},{"$f":"IF(KELAS!CZ18=\"\",\"\",KELAS!CZ18)","v":""},{"$f":"IF(KELAS!DA18=\"\",\"\",KELAS!DA18)","v":""},{"$f":"IF(KELAS!DB18=\"\",\"\",TEXT(KELAS!DB18,\"0,00\"))","v":""},{"$f":"IF(KELAS!DC18=\"\",\"\",KELAS!DC18)","v":""},{"$f":"IF(KELAS!DD18=\"\",\"\",KELAS!DD18)","v":""},{"$f":"IF(KELAS!DE18=\"\",\"\",TEXT(KELAS!DE18,\"0,00\"))","v":""},{"$f":"IF(KELAS!DF18=\"\",\"\",KELAS!DF18)","v":""},{"$f":"IF(KELAS!DG18=\"\",\"\",KELAS!DG18)","v":""},{"$f":"IF(KELAS!DH18=\"\",\"\",KELAS!DH18)","v":""},{"$f":"IF(KELAS!DI18=\"\",\"\",KELAS!DI18)","v":""},{"$f":"IF(KELAS!DJ18=\"\",\"\",KELAS!DJ18)","v":""},{"$f":"IF(KELAS!DK18=\"\",\"\",KELAS!DK18)","v":3},{"$f":"IF(KELAS!DL18=\"\",\"\",KELAS!DL18)","v":3},{"$f":"IF(KELAS!DM18=\"\",\"\",KELAS!DM18)","v":2},{"$f":"IF(KELAS!DN18=\"\",\"\",KELAS!DN18)","v":1},{"$f":"IF(KELAS!DO18=\"\",\"\",KELAS!DO18)","v":""},{"$f":"IF(KELAS!DP18=\"\",\"\",KELAS!DP18)","v":""},{"$f":"IF(KELAS!DQ18=\"\",\"\",KELAS!DQ18)","v":""},{"$f":"IF(KELAS!DR18=\"\",\"\",KELAS!DR18)","v":""},{"$f":"IF(KELAS!DS18=\"\",\"\",KELAS!DS18)","v":""},{"$f":"IF(KELAS!DT18=\"\",\"\",KELAS!DT18)","v":""},{"$f":"IF(KELAS!DU18=\"\",\"\",KELAS!DU18)","v":""},{"$f":"IF(KELAS!DV18=\"\",\"\",KELAS!DV18)","v":""},{"$f":"IF(KELAS!DW18=\"\",\"\",KELAS!DW18)","v":""},{"$f":"IF(KELAS!DX18=\"\",\"\",KELAS!DX18)","v":""},{"$f":"IF(KELAS!DY18=\"\",\"\",KELAS!DY18)","v":""},{"$f":"IF(KELAS!DZ18=\"\",\"\",KELAS!DZ18)","v":""},{"$f":"IF(KELAS!EA18=\"\",\"\",KELAS!EA18)","v":"3 ( tiga )"},{"$f":"IF(KELAS!EB18=\"\",\"\",KELAS!EB18)","v":"3 ( tiga )"},{"$f":"IF(KELAS!EC18=\"\",\"\",KELAS!EC18)","v":"2 ( dua )"},{"$f":"IF(KELAS!ED18=\"\",\"\",KELAS!ED18)","v":"1 ( satu )"},{"$f":"IF(KELAS!EE18=\"\",\"\",KELAS!EE18)","v":""},{"$f":"IF(KELAS!EF18=\"\",\"\",KELAS!EF18)","v":""},{"$f":"IF(KELAS!EG18=\"\",\"\",KELAS!EG18)","v":"Peserta didik menunjukan sikap sungguh-sungguh dalam menerapkan sikap santun, jujur dan kerjasama, namun masih perlu ditingkatkan lagi sikap percaya diri dan ketepatan masuk sekolah"},{"$f":"IF(KELAS!EH18=\"\",\"\",KELAS!EH18)","v":"Dhany Suryanto, S.Pd."},{"$f":"IF(KELAS!EI18=\"\",\"\",KELAS!EI18)","v":"jika punya NIP isikan di sini"},{"$f":"IF(KELAS!EJ18=\"\",\"\",KELAS!EJ18)","v":0},{"$f":"IF(KELAS!EK18=\"\",\"\",KELAS!EK18)","v":0},{"$f":"IF(KELAS!EL18=\"\",\"\",KELAS!EL18)","v":0},{"$f":"IF(KELAS!EM18=\"\",\"\",KELAS!EM18)","v":0},{"$f":"IF(KELAS!EN18=\"\",\"\",KELAS!EN18)","v":0},{"$f":"IF(KELAS!EO18=\"\",\"\",KELAS!EO18)","v":0},{"$f":"IF(KELAS!EP18=\"\",\"\",KELAS!EP18)","v":0},{"$f":"IF(KELAS!EQ18=\"\",\"\",KELAS!EQ18)","v":0},{"$f":"IF(KELAS!ER18=\"\",\"\",KELAS!ER18)","v":0},{"$f":"IF(KELAS!ES18=\"\",\"\",KELAS!ES18)","v":0},{"$f":"IF(KELAS!ET18=\"\",\"\",KELAS!ET18)","v":0}]
[{"$f":"IF(KELAS!A19=\"\",\"\",KELAS!A19)","v":17},{"$f":"IF(KELAS!B19=\"\",\"\",KELAS!B19)","v":12596},{"$f":"IF(KELAS!C19=\"\",\"\",KELAS!C19)","v":"IRFAN WAHYU RAMADHANI"},{"$f":"IF(KELAS!D19=\"\",\"\",KELAS!D19)","v":"L"},{"$f":"IF(KELAS!E19=\"\",\"\",KELAS!E19)","v":"7.A"},{"$f":"IF(KELAS!F19=\"\",\"\",KELAS!F19)","v":"Islam"},{"$f":"IF(KELAS!G19=\"\",\"\",KELAS!G19)","v":9981517917},{"$f":"IF(KELAS!H19=\"\",\"\",KELAS!H19)","v":"Magetan, 08 Januari 1998"},{"$f":"IF(KELAS!I19=\"\",\"\",KELAS!I19)","v":"Pujo Purwanto"},{"$f":"IF(KELAS!J19=\"\",\"\",KELAS!J19)","v":"Karyawan Swasta"},{"$f":"IF(KELAS!K19=\"\",\"\",KELAS!K19)","v":"Enik Indarwati"},{"$f":"IF(KELAS!L19=\"\",\"\",KELAS!L19)","v":"Ibu Rumah Tangga"},{"$f":"IF(KELAS!M19=\"\",\"\",KELAS!M19)","v":"Perum Mutiara Persada A.1/2 RT.01 RW.05, Rojoimo, Wsb"},{"$f":"IF(KELAS!N19=\"\",\"\",KELAS!N19)","v":"SMP MUHAMMADIYAH 1 WONOSOBO"},{"$f":"IF(KELAS!O19=\"\",\"\",KELAS!O19)","v":2},{"$f":"IF(KELAS!P19=\"\",\"\",KELAS!P19)","v":"Anak Kandung"},{"$f":"IF(KELAS!Q19=\"\",\"\",TEXT(KELAS!Q19,\"0,00\"))","v":""},{"$f":"IF(KELAS!R19=\"\",\"\",KELAS!R19)","v":""},{"$f":"IF(KELAS!S19=\"\",\"\",KELAS!S19)","v":""},{"$f":"IF(KELAS!T19=\"\",\"\",TEXT(KELAS!T19,\"0,00\"))","v":""},{"$f":"IF(KELAS!U19=\"\",\"\",KELAS!U19)","v":""},{"$f":"IF(KELAS!V19=\"\",\"\",KELAS!V19)","v":""},{"$f":"IF(KELAS!W19=\"\",\"\",KELAS!W19)","v":""},{"$f":"IF(KELAS!X19=\"\",\"\",KELAS!X19)","v":""},{"$f":"IF(KELAS!Y19=\"\",\"\",TEXT(KELAS!Y19,\"0,00\"))","v":""},{"$f":"IF(KELAS!Z19=\"\",\"\",KELAS!Z19)","v":""},{"$f":"IF(KELAS!AA19=\"\",\"\",KELAS!AA19)","v":""},{"$f":"IF(KELAS!AB19=\"\",\"\",TEXT(KELAS!AB19,\"0,00\"))","v":""},{"$f":"IF(KELAS!AC19=\"\",\"\",KELAS!AC19)","v":""},{"$f":"IF(KELAS!AD19=\"\",\"\",KELAS!AD19)","v":""},{"$f":"IF(KELAS!AE19=\"\",\"\",KELAS!AE19)","v":""},{"$f":"IF(KELAS!AF19=\"\",\"\",KELAS!AF19)","v":""},{"$f":"IF(KELAS!AG19=\"\",\"\",KELAS!AG19)","v":""},{"$f":"IF(KELAS!AH19=\"\",\"\",TEXT(KELAS!AH19,\"0,00\"))","v":""},{"$f":"IF(KELAS!AI19=\"\",\"\",KELAS!AI19)","v":""},{"$f":"IF(KELAS!AJ19=\"\",\"\",KELAS!AJ19)","v":""},{"$f":"IF(KELAS!AK19=\"\",\"\",TEXT(KELAS!AK19,\"0,00\"))","v":""},{"$f":"IF(KELAS!AL19=\"\",\"\",KELAS!AL19)","v":""},{"$f":"IF(KELAS!AM19=\"\",\"\",KELAS!AM19)","v":""},{"$f":"IF(KELAS!AN19=\"\",\"\",KELAS!AN19)","v":""},{"$f":"IF(KELAS!AO19=\"\",\"\",KELAS!AO19)","v":""},{"$f":"IF(KELAS!AP19=\"\",\"\",KELAS!AP19)","v":""},{"$f":"IF(KELAS!AQ19=\"\",\"\",TEXT(KELAS!AQ19,\"0,00\"))","v":""},{"$f":"IF(KELAS!AR19=\"\",\"\",KELAS!AR19)","v":""},{"$f":"IF(KELAS!AS19=\"\",\"\",KELAS!AS19)","v":""},{"$f":"IF(KELAS!AT19=\"\",\"\",TEXT(KELAS!AT19,\"0,00\"))","v":""},{"$f":"IF(KELAS!AU19=\"\",\"\",KELAS!AU19)","v":""},{"$f":"IF(KELAS!AV19=\"\",\"\",KELAS!AV19)","v":""},{"$f":"IF(KELAS!AW19=\"\",\"\",KELAS!AW19)","v":""},{"$f":"IF(KELAS!AX19=\"\",\"\",KELAS!AX19)","v":""},{"$f":"IF(KELAS!AY19=\"\",\"\",KELAS!AY19)","v":""},{"$f":"IF(KELAS!AZ19=\"\",\"\",TEXT(KELAS!AZ19,\"0,00\"))","v":""},{"$f":"IF(KELAS!BA19=\"\",\"\",KELAS!BA19)","v":""},{"$f":"IF(KELAS!BB19=\"\",\"\",KELAS!BB19)","v":""},{"$f":"IF(KELAS!BC19=\"\",\"\",TEXT(KELAS!BC19,\"0,00\"))","v":""},{"$f":"IF(KELAS!BD19=\"\",\"\",KELAS!BD19)","v":""},{"$f":"IF(KELAS!BE19=\"\",\"\",KELAS!BE19)","v":""},{"$f":"IF(KELAS!BF19=\"\",\"\",KELAS!BF19)","v":""},{"$f":"IF(KELAS!BG19=\"\",\"\",KELAS!BG19)","v":""},{"$f":"IF(KELAS!BH19=\"\",\"\",KELAS!BH19)","v":""},{"$f":"IF(KELAS!BI19=\"\",\"\",TEXT(KELAS!BI19,\"0,00\"))","v":""},{"$f":"IF(KELAS!BJ19=\"\",\"\",KELAS!BJ19)","v":""},{"$f":"IF(KELAS!BK19=\"\",\"\",KELAS!BK19)","v":""},{"$f":"IF(KELAS!BL19=\"\",\"\",TEXT(KELAS!BL19,\"0,00\"))","v":""},{"$f":"IF(KELAS!BM19=\"\",\"\",KELAS!BM19)","v":""},{"$f":"IF(KELAS!BN19=\"\",\"\",KELAS!BN19)","v":""},{"$f":"IF(KELAS!BO19=\"\",\"\",KELAS!BO19)","v":""},{"$f":"IF(KELAS!BP19=\"\",\"\",KELAS!BP19)","v":""},{"$f":"IF(KELAS!BQ19=\"\",\"\",KELAS!BQ19)","v":""},{"$f":"IF(KELAS!BR19=\"\",\"\",TEXT(KELAS!BR19,\"0,00\"))","v":""},{"$f":"IF(KELAS!BS19=\"\",\"\",KELAS!BS19)","v":""},{"$f":"IF(KELAS!BT19=\"\",\"\",KELAS!BT19)","v":""},{"$f":"IF(KELAS!BU19=\"\",\"\",TEXT(KELAS!BU19,\"0,00\"))","v":""},{"$f":"IF(KELAS!BV19=\"\",\"\",KELAS!BV19)","v":""},{"$f":"IF(KELAS!BW19=\"\",\"\",KELAS!BW19)","v":""},{"$f":"IF(KELAS!BX19=\"\",\"\",KELAS!BX19)","v":""},{"$f":"IF(KELAS!BY19=\"\",\"\",KELAS!BY19)","v":""},{"$f":"IF(KELAS!BZ19=\"\",\"\",KELAS!BZ19)","v":""},{"$f":"IF(KELAS!CA19=\"\",\"\",TEXT(KELAS!CA19,\"0,00\"))","v":""},{"$f":"IF(KELAS!CB19=\"\",\"\",KELAS!CB19)","v":""},{"$f":"IF(KELAS!CC19=\"\",\"\",KELAS!CC19)","v":""},{"$f":"IF(KELAS!CD19=\"\",\"\",TEXT(KELAS!CD19,\"0,00\"))","v":""},{"$f":"IF(KELAS!CE19=\"\",\"\",KELAS!CE19)","v":""},{"$f":"IF(KELAS!CF19=\"\",\"\",KELAS!CF19)","v":""},{"$f":"IF(KELAS!CG19=\"\",\"\",KELAS!CG19)","v":""},{"$f":"IF(KELAS!CH19=\"\",\"\",KELAS!CH19)","v":""},{"$f":"IF(KELAS!CI19=\"\",\"\",KELAS!CI19)","v":""},{"$f":"IF(KELAS!CJ19=\"\",\"\",TEXT(KELAS!CJ19,\"0,00\"))","v":""},{"$f":"IF(KELAS!CK19=\"\",\"\",KELAS!CK19)","v":""},{"$f":"IF(KELAS!CL19=\"\",\"\",KELAS!CL19)","v":""},{"$f":"IF(KELAS!CM19=\"\",\"\",TEXT(KELAS!CM19,\"0,00\"))","v":""},{"$f":"IF(KELAS!CN19=\"\",\"\",KELAS!CN19)","v":""},{"$f":"IF(KELAS!CO19=\"\",\"\",KELAS!CO19)","v":""},{"$f":"IF(KELAS!CP19=\"\",\"\",KELAS!CP19)","v":""},{"$f":"IF(KELAS!CQ19=\"\",\"\",KELAS!CQ19)","v":""},{"$f":"IF(KELAS!CR19=\"\",\"\",KELAS!CR19)","v":""},{"$f":"IF(KELAS!CS19=\"\",\"\",TEXT(KELAS!CS19,\"0,00\"))","v":""},{"$f":"IF(KELAS!CT19=\"\",\"\",KELAS!CT19)","v":""},{"$f":"IF(KELAS!CU19=\"\",\"\",KELAS!CU19)","v":""},{"$f":"IF(KELAS!CV19=\"\",\"\",TEXT(KELAS!CV19,\"0,00\"))","v":""},{"$f":"IF(KELAS!CW19=\"\",\"\",KELAS!CW19)","v":""},{"$f":"IF(KELAS!CX19=\"\",\"\",KELAS!CX19)","v":""},{"$f":"IF(KELAS!CY19=\"\",\"\",KELAS!CY19)","v":""},{"$f":"IF(KELAS!CZ19=\"\",\"\",KELAS!CZ19)","v":""},{"$f":"IF(KELAS!DA19=\"\",\"\",KELAS!DA19)","v":""},{"$f":"IF(KELAS!DB19=\"\",\"\",TEXT(KELAS!DB19,\"0,00\"))","v":""},{"$f":"IF(KELAS!DC19=\"\",\"\",KELAS!DC19)","v":""},{"$f":"IF(KELAS!DD19=\"\",\"\",KELAS!DD19)","v":""},{"$f":"IF(KELAS!DE19=\"\",\"\",TEXT(KELAS!DE19,\"0,00\"))","v":""},{"$f":"IF(KELAS!DF19=\"\",\"\",KELAS!DF19)","v":""},{"$f":"IF(KELAS!DG19=\"\",\"\",KELAS!DG19)","v":""},{"$f":"IF(KELAS!DH19=\"\",\"\",KELAS!DH19)","v":""},{"$f":"IF(KELAS!DI19=\"\",\"\",KELAS!DI19)","v":""},{"$f":"IF(KELAS!DJ19=\"\",\"\",KELAS!DJ19)","v":""},{"$f":"IF(KELAS!DK19=\"\",\"\",KELAS!DK19)","v":2},{"$f":"IF(KELAS!DL19=\"\",\"\",KELAS!DL19)","v":2},{"$f":"IF(KELAS!DM19=\"\",\"\",KELAS!DM19)","v":1},{"$f":"IF(KELAS!DN19=\"\",\"\",KELAS!DN19)","v":3},{"$f":"IF(KELAS!DO19=\"\",\"\",KELAS!DO19)","v":""},{"$f":"IF(KELAS!DP19=\"\",\"\",KELAS!DP19)","v":""},{"$f":"IF(KELAS!DQ19=\"\",\"\",KELAS!DQ19)","v":""},{"$f":"IF(KELAS!DR19=\"\",\"\",KELAS!DR19)","v":""},{"$f":"IF(KELAS!DS19=\"\",\"\",KELAS!DS19)","v":""},{"$f":"IF(KELAS!DT19=\"\",\"\",KELAS!DT19)","v":""},{"$f":"IF(KELAS!DU19=\"\",\"\",KELAS!DU19)","v":""},{"$f":"IF(KELAS!DV19=\"\",\"\",KELAS!DV19)","v":""},{"$f":"IF(KELAS!DW19=\"\",\"\",KELAS!DW19)","v":""},{"$f":"IF(KELAS!DX19=\"\",\"\",KELAS!DX19)","v":""},{"$f":"IF(KELAS!DY19=\"\",\"\",KELAS!DY19)","v":""},{"$f":"IF(KELAS!DZ19=\"\",\"\",KELAS!DZ19)","v":""},{"$f":"IF(KELAS!EA19=\"\",\"\",KELAS!EA19)","v":"2 ( dua )"},{"$f":"IF(KELAS!EB19=\"\",\"\",KELAS!EB19)","v":"2 ( dua )"},{"$f":"IF(KELAS!EC19=\"\",\"\",KELAS!EC19)","v":"1 ( satu )"},{"$f":"IF(KELAS!ED19=\"\",\"\",KELAS!ED19)","v":"3 ( tiga )"},{"$f":"IF(KELAS!EE19=\"\",\"\",KELAS!EE19)","v":""},{"$f":"IF(KELAS!EF19=\"\",\"\",KELAS!EF19)","v":""},{"$f":"IF(KELAS!EG19=\"\",\"\",KELAS!EG19)","v":"Peserta didik menunjukan sikap sungguh-sungguh dalam menerapkan sikap santun, jujur dan kerjasama, namun masih perlu ditingkatkan lagi sikap percaya diri dan ketepatan masuk sekolah"},{"$f":"IF(KELAS!EH19=\"\",\"\",KELAS!EH19)","v":"Dhany Suryanto, S.Pd."},{"$f":"IF(KELAS!EI19=\"\",\"\",KELAS!EI19)","v":"jika punya NIP isikan di sini"},{"$f":"IF(KELAS!EJ19=\"\",\"\",KELAS!EJ19)","v":0},{"$f":"IF(KELAS!EK19=\"\",\"\",KELAS!EK19)","v":0},{"$f":"IF(KELAS!EL19=\"\",\"\",KELAS!EL19)","v":0},{"$f":"IF(KELAS!EM19=\"\",\"\",KELAS!EM19)","v":0},{"$f":"IF(KELAS!EN19=\"\",\"\",KELAS!EN19)","v":0},{"$f":"IF(KELAS!EO19=\"\",\"\",KELAS!EO19)","v":0},{"$f":"IF(KELAS!EP19=\"\",\"\",KELAS!EP19)","v":0},{"$f":"IF(KELAS!EQ19=\"\",\"\",KELAS!EQ19)","v":0},{"$f":"IF(KELAS!ER19=\"\",\"\",KELAS!ER19)","v":0},{"$f":"IF(KELAS!ES19=\"\",\"\",KELAS!ES19)","v":0},{"$f":"IF(KELAS!ET19=\"\",\"\",KELAS!ET19)","v":0}]
[{"$f":"IF(KELAS!A20=\"\",\"\",KELAS!A20)","v":18},{"$f":"IF(KELAS!B20=\"\",\"\",KELAS!B20)","v":12601},{"$f":"IF(KELAS!C20=\"\",\"\",KELAS!C20)","v":"JUM'AT"},{"$f":"IF(KELAS!D20=\"\",\"\",KELAS!D20)","v":"L"},{"$f":"IF(KELAS!E20=\"\",\"\",KELAS!E20)","v":"7.A"},{"$f":"IF(KELAS!F20=\"\",\"\",KELAS!F20)","v":"Islam"},{"$f":"IF(KELAS!G20=\"\",\"\",KELAS!G20)","v":9954387684},{"$f":"IF(KELAS!H20=\"\",\"\",KELAS!H20)","v":"Wonosobo, 04 Februari 1995"},{"$f":"IF(KELAS!I20=\"\",\"\",KELAS!I20)","v":"Ranto"},{"$f":"IF(KELAS!J20=\"\",\"\",KELAS!J20)","v":"Buruh Harian Lepas"},{"$f":"IF(KELAS!K20=\"\",\"\",KELAS!K20)","v":"Ngasiem"},{"$f":"IF(KELAS!L20=\"\",\"\",KELAS!L20)","v":"Buruh Harian Lepas"},{"$f":"IF(KELAS!M20=\"\",\"\",KELAS!M20)","v":"Pencil RT.20 RW.06, Lamuk, Kalikajar, Wsb"},{"$f":"IF(KELAS!N20=\"\",\"\",KELAS!N20)","v":"SMPN 3 KALIKAJAR"},{"$f":"IF(KELAS!O20=\"\",\"\",KELAS!O20)","v":1},{"$f":"IF(KELAS!P20=\"\",\"\",KELAS!P20)","v":"Anak Kandung"},{"$f":"IF(KELAS!Q20=\"\",\"\",TEXT(KELAS!Q20,\"0,00\"))","v":""},{"$f":"IF(KELAS!R20=\"\",\"\",KELAS!R20)","v":""},{"$f":"IF(KELAS!S20=\"\",\"\",KELAS!S20)","v":""},{"$f":"IF(KELAS!T20=\"\",\"\",TEXT(KELAS!T20,\"0,00\"))","v":""},{"$f":"IF(KELAS!U20=\"\",\"\",KELAS!U20)","v":""},{"$f":"IF(KELAS!V20=\"\",\"\",KELAS!V20)","v":""},{"$f":"IF(KELAS!W20=\"\",\"\",KELAS!W20)","v":""},{"$f":"IF(KELAS!X20=\"\",\"\",KELAS!X20)","v":""},{"$f":"IF(KELAS!Y20=\"\",\"\",TEXT(KELAS!Y20,\"0,00\"))","v":""},{"$f":"IF(KELAS!Z20=\"\",\"\",KELAS!Z20)","v":""},{"$f":"IF(KELAS!AA20=\"\",\"\",KELAS!AA20)","v":""},{"$f":"IF(KELAS!AB20=\"\",\"\",TEXT(KELAS!AB20,\"0,00\"))","v":""},{"$f":"IF(KELAS!AC20=\"\",\"\",KELAS!AC20)","v":""},{"$f":"IF(KELAS!AD20=\"\",\"\",KELAS!AD20)","v":""},{"$f":"IF(KELAS!AE20=\"\",\"\",KELAS!AE20)","v":""},{"$f":"IF(KELAS!AF20=\"\",\"\",KELAS!AF20)","v":""},{"$f":"IF(KELAS!AG20=\"\",\"\",KELAS!AG20)","v":""},{"$f":"IF(KELAS!AH20=\"\",\"\",TEXT(KELAS!AH20,\"0,00\"))","v":""},{"$f":"IF(KELAS!AI20=\"\",\"\",KELAS!AI20)","v":""},{"$f":"IF(KELAS!AJ20=\"\",\"\",KELAS!AJ20)","v":""},{"$f":"IF(KELAS!AK20=\"\",\"\",TEXT(KELAS!AK20,\"0,00\"))","v":""},{"$f":"IF(KELAS!AL20=\"\",\"\",KELAS!AL20)","v":""},{"$f":"IF(KELAS!AM20=\"\",\"\",KELAS!AM20)","v":""},{"$f":"IF(KELAS!AN20=\"\",\"\",KELAS!AN20)","v":""},{"$f":"IF(KELAS!AO20=\"\",\"\",KELAS!AO20)","v":""},{"$f":"IF(KELAS!AP20=\"\",\"\",KELAS!AP20)","v":""},{"$f":"IF(KELAS!AQ20=\"\",\"\",TEXT(KELAS!AQ20,\"0,00\"))","v":""},{"$f":"IF(KELAS!AR20=\"\",\"\",KELAS!AR20)","v":""},{"$f":"IF(KELAS!AS20=\"\",\"\",KELAS!AS20)","v":""},{"$f":"IF(KELAS!AT20=\"\",\"\",TEXT(KELAS!AT20,\"0,00\"))","v":""},{"$f":"IF(KELAS!AU20=\"\",\"\",KELAS!AU20)","v":""},{"$f":"IF(KELAS!AV20=\"\",\"\",KELAS!AV20)","v":""},{"$f":"IF(KELAS!AW20=\"\",\"\",KELAS!AW20)","v":""},{"$f":"IF(KELAS!AX20=\"\",\"\",KELAS!AX20)","v":""},{"$f":"IF(KELAS!AY20=\"\",\"\",KELAS!AY20)","v":""},{"$f":"IF(KELAS!AZ20=\"\",\"\",TEXT(KELAS!AZ20,\"0,00\"))","v":""},{"$f":"IF(KELAS!BA20=\"\",\"\",KELAS!BA20)","v":""},{"$f":"IF(KELAS!BB20=\"\",\"\",KELAS!BB20)","v":""},{"$f":"IF(KELAS!BC20=\"\",\"\",TEXT(KELAS!BC20,\"0,00\"))","v":""},{"$f":"IF(KELAS!BD20=\"\",\"\",KELAS!BD20)","v":""},{"$f":"IF(KELAS!BE20=\"\",\"\",KELAS!BE20)","v":""},{"$f":"IF(KELAS!BF20=\"\",\"\",KELAS!BF20)","v":""},{"$f":"IF(KELAS!BG20=\"\",\"\",KELAS!BG20)","v":""},{"$f":"IF(KELAS!BH20=\"\",\"\",KELAS!BH20)","v":""},{"$f":"IF(KELAS!BI20=\"\",\"\",TEXT(KELAS!BI20,\"0,00\"))","v":""},{"$f":"IF(KELAS!BJ20=\"\",\"\",KELAS!BJ20)","v":""},{"$f":"IF(KELAS!BK20=\"\",\"\",KELAS!BK20)","v":""},{"$f":"IF(KELAS!BL20=\"\",\"\",TEXT(KELAS!BL20,\"0,00\"))","v":""},{"$f":"IF(KELAS!BM20=\"\",\"\",KELAS!BM20)","v":""},{"$f":"IF(KELAS!BN20=\"\",\"\",KELAS!BN20)","v":""},{"$f":"IF(KELAS!BO20=\"\",\"\",KELAS!BO20)","v":""},{"$f":"IF(KELAS!BP20=\"\",\"\",KELAS!BP20)","v":""},{"$f":"IF(KELAS!BQ20=\"\",\"\",KELAS!BQ20)","v":""},{"$f":"IF(KELAS!BR20=\"\",\"\",TEXT(KELAS!BR20,\"0,00\"))","v":""},{"$f":"IF(KELAS!BS20=\"\",\"\",KELAS!BS20)","v":""},{"$f":"IF(KELAS!BT20=\"\",\"\",KELAS!BT20)","v":""},{"$f":"IF(KELAS!BU20=\"\",\"\",TEXT(KELAS!BU20,\"0,00\"))","v":""},{"$f":"IF(KELAS!BV20=\"\",\"\",KELAS!BV20)","v":""},{"$f":"IF(KELAS!BW20=\"\",\"\",KELAS!BW20)","v":""},{"$f":"IF(KELAS!BX20=\"\",\"\",KELAS!BX20)","v":""},{"$f":"IF(KELAS!BY20=\"\",\"\",KELAS!BY20)","v":""},{"$f":"IF(KELAS!BZ20=\"\",\"\",KELAS!BZ20)","v":""},{"$f":"IF(KELAS!CA20=\"\",\"\",TEXT(KELAS!CA20,\"0,00\"))","v":""},{"$f":"IF(KELAS!CB20=\"\",\"\",KELAS!CB20)","v":""},{"$f":"IF(KELAS!CC20=\"\",\"\",KELAS!CC20)","v":""},{"$f":"IF(KELAS!CD20=\"\",\"\",TEXT(KELAS!CD20,\"0,00\"))","v":""},{"$f":"IF(KELAS!CE20=\"\",\"\",KELAS!CE20)","v":""},{"$f":"IF(KELAS!CF20=\"\",\"\",KELAS!CF20)","v":""},{"$f":"IF(KELAS!CG20=\"\",\"\",KELAS!CG20)","v":""},{"$f":"IF(KELAS!CH20=\"\",\"\",KELAS!CH20)","v":""},{"$f":"IF(KELAS!CI20=\"\",\"\",KELAS!CI20)","v":""},{"$f":"IF(KELAS!CJ20=\"\",\"\",TEXT(KELAS!CJ20,\"0,00\"))","v":""},{"$f":"IF(KELAS!CK20=\"\",\"\",KELAS!CK20)","v":""},{"$f":"IF(KELAS!CL20=\"\",\"\",KELAS!CL20)","v":""},{"$f":"IF(KELAS!CM20=\"\",\"\",TEXT(KELAS!CM20,\"0,00\"))","v":""},{"$f":"IF(KELAS!CN20=\"\",\"\",KELAS!CN20)","v":""},{"$f":"IF(KELAS!CO20=\"\",\"\",KELAS!CO20)","v":""},{"$f":"IF(KELAS!CP20=\"\",\"\",KELAS!CP20)","v":""},{"$f":"IF(KELAS!CQ20=\"\",\"\",KELAS!CQ20)","v":""},{"$f":"IF(KELAS!CR20=\"\",\"\",KELAS!CR20)","v":""},{"$f":"IF(KELAS!CS20=\"\",\"\",TEXT(KELAS!CS20,\"0,00\"))","v":""},{"$f":"IF(KELAS!CT20=\"\",\"\",KELAS!CT20)","v":""},{"$f":"IF(KELAS!CU20=\"\",\"\",KELAS!CU20)","v":""},{"$f":"IF(KELAS!CV20=\"\",\"\",TEXT(KELAS!CV20,\"0,00\"))","v":""},{"$f":"IF(KELAS!CW20=\"\",\"\",KELAS!CW20)","v":""},{"$f":"IF(KELAS!CX20=\"\",\"\",KELAS!CX20)","v":""},{"$f":"IF(KELAS!CY20=\"\",\"\",KELAS!CY20)","v":""},{"$f":"IF(KELAS!CZ20=\"\",\"\",KELAS!CZ20)","v":""},{"$f":"IF(KELAS!DA20=\"\",\"\",KELAS!DA20)","v":""},{"$f":"IF(KELAS!DB20=\"\",\"\",TEXT(KELAS!DB20,\"0,00\"))","v":""},{"$f":"IF(KELAS!DC20=\"\",\"\",KELAS!DC20)","v":""},{"$f":"IF(KELAS!DD20=\"\",\"\",KELAS!DD20)","v":""},{"$f":"IF(KELAS!DE20=\"\",\"\",TEXT(KELAS!DE20,\"0,00\"))","v":""},{"$f":"IF(KELAS!DF20=\"\",\"\",KELAS!DF20)","v":""},{"$f":"IF(KELAS!DG20=\"\",\"\",KELAS!DG20)","v":""},{"$f":"IF(KELAS!DH20=\"\",\"\",KELAS!DH20)","v":""},{"$f":"IF(KELAS!DI20=\"\",\"\",KELAS!DI20)","v":""},{"$f":"IF(KELAS!DJ20=\"\",\"\",KELAS!DJ20)","v":""},{"$f":"IF(KELAS!DK20=\"\",\"\",KELAS!DK20)","v":3},{"$f":"IF(KELAS!DL20=\"\",\"\",KELAS!DL20)","v":2},{"$f":"IF(KELAS!DM20=\"\",\"\",KELAS!DM20)","v":2},{"$f":"IF(KELAS!DN20=\"\",\"\",KELAS!DN20)","v":1},{"$f":"IF(KELAS!DO20=\"\",\"\",KELAS!DO20)","v":""},{"$f":"IF(KELAS!DP20=\"\",\"\",KELAS!DP20)","v":""},{"$f":"IF(KELAS!DQ20=\"\",\"\",KELAS!DQ20)","v":""},{"$f":"IF(KELAS!DR20=\"\",\"\",KELAS!DR20)","v":""},{"$f":"IF(KELAS!DS20=\"\",\"\",KELAS!DS20)","v":""},{"$f":"IF(KELAS!DT20=\"\",\"\",KELAS!DT20)","v":""},{"$f":"IF(KELAS!DU20=\"\",\"\",KELAS!DU20)","v":""},{"$f":"IF(KELAS!DV20=\"\",\"\",KELAS!DV20)","v":""},{"$f":"IF(KELAS!DW20=\"\",\"\",KELAS!DW20)","v":""},{"$f":"IF(KELAS!DX20=\"\",\"\",KELAS!DX20)","v":""},{"$f":"IF(KELAS!DY20=\"\",\"\",KELAS!DY20)","v":""},{"$f":"IF(KELAS!DZ20=\"\",\"\",KELAS!DZ20)","v":""},{"$f":"IF(KELAS!EA20=\"\",\"\",KELAS!EA20)","v":"3 ( tiga )"},{"$f":"IF(KELAS!EB20=\"\",\"\",KELAS!EB20)","v":"2 ( dua )"},{"$f":"IF(KELAS!EC20=\"\",\"\",KELAS!EC20)","v":"2 ( dua )"},{"$f":"IF(KELAS!ED20=\"\",\"\",KELAS!ED20)","v":"1 ( satu )"},{"$f":"IF(KELAS!EE20=\"\",\"\",KELAS!EE20)","v":""},{"$f":"IF(KELAS!EF20=\"\",\"\",KELAS!EF20)","v":""},{"$f":"IF(KELAS!EG20=\"\",\"\",KELAS!EG20)","v":"Peserta didik menunjukan sikap sungguh-sungguh dalam menerapkan sikap santun, jujur dan kerjasama, namun masih perlu ditingkatkan lagi sikap percaya diri dan ketepatan masuk sekolah"},{"$f":"IF(KELAS!EH20=\"\",\"\",KELAS!EH20)","v":"Dhany Suryanto, S.Pd."},{"$f":"IF(KELAS!EI20=\"\",\"\",KELAS!EI20)","v":"jika punya NIP isikan di sini"},{"$f":"IF(KELAS!EJ20=\"\",\"\",KELAS!EJ20)","v":0},{"$f":"IF(KELAS!EK20=\"\",\"\",KELAS!EK20)","v":0},{"$f":"IF(KELAS!EL20=\"\",\"\",KELAS!EL20)","v":0},{"$f":"IF(KELAS!EM20=\"\",\"\",KELAS!EM20)","v":0},{"$f":"IF(KELAS!EN20=\"\",\"\",KELAS!EN20)","v":0},{"$f":"IF(KELAS!EO20=\"\",\"\",KELAS!EO20)","v":0},{"$f":"IF(KELAS!EP20=\"\",\"\",KELAS!EP20)","v":0},{"$f":"IF(KELAS!EQ20=\"\",\"\",KELAS!EQ20)","v":0},{"$f":"IF(KELAS!ER20=\"\",\"\",KELAS!ER20)","v":0},{"$f":"IF(KELAS!ES20=\"\",\"\",KELAS!ES20)","v":0},{"$f":"IF(KELAS!ET20=\"\",\"\",KELAS!ET20)","v":0}]
[{"$f":"IF(KELAS!A21=\"\",\"\",KELAS!A21)","v":19},{"$f":"IF(KELAS!B21=\"\",\"\",KELAS!B21)","v":12611},{"$f":"IF(KELAS!C21=\"\",\"\",KELAS!C21)","v":"LESTA YUNINTA"},{"$f":"IF(KELAS!D21=\"\",\"\",KELAS!D21)","v":"P"},{"$f":"IF(KELAS!E21=\"\",\"\",KELAS!E21)","v":"7.A"},{"$f":"IF(KELAS!F21=\"\",\"\",KELAS!F21)","v":"Islam"},{"$f":"IF(KELAS!G21=\"\",\"\",KELAS!G21)","v":9971533499},{"$f":"IF(KELAS!H21=\"\",\"\",KELAS!H21)","v":"Wonosobo, 11 Juni 1997"},{"$f":"IF(KELAS!I21=\"\",\"\",KELAS!I21)","v":"Wardimin"},{"$f":"IF(KELAS!J21=\"\",\"\",KELAS!J21)","v":"Karyawan Swasta"},{"$f":"IF(KELAS!K21=\"\",\"\",KELAS!K21)","v":"Sri Lestari"},{"$f":"IF(KELAS!L21=\"\",\"\",KELAS!L21)","v":"Ibu Rumah Tangga"},{"$f":"IF(KELAS!M21=\"\",\"\",KELAS!M21)","v":"Stasiun RT.02 RW.04, Wonosobo Barat"},{"$f":"IF(KELAS!N21=\"\",\"\",KELAS!N21)","v":"SMPN 1 MOJOTENGAH"},{"$f":"IF(KELAS!O21=\"\",\"\",KELAS!O21)","v":2},{"$f":"IF(KELAS!P21=\"\",\"\",KELAS!P21)","v":"Anak Kandung"},{"$f":"IF(KELAS!Q21=\"\",\"\",TEXT(KELAS!Q21,\"0,00\"))","v":""},{"$f":"IF(KELAS!R21=\"\",\"\",KELAS!R21)","v":""},{"$f":"IF(KELAS!S21=\"\",\"\",KELAS!S21)","v":""},{"$f":"IF(KELAS!T21=\"\",\"\",TEXT(KELAS!T21,\"0,00\"))","v":""},{"$f":"IF(KELAS!U21=\"\",\"\",KELAS!U21)","v":""},{"$f":"IF(KELAS!V21=\"\",\"\",KELAS!V21)","v":""},{"$f":"IF(KELAS!W21=\"\",\"\",KELAS!W21)","v":""},{"$f":"IF(KELAS!X21=\"\",\"\",KELAS!X21)","v":""},{"$f":"IF(KELAS!Y21=\"\",\"\",TEXT(KELAS!Y21,\"0,00\"))","v":""},{"$f":"IF(KELAS!Z21=\"\",\"\",KELAS!Z21)","v":""},{"$f":"IF(KELAS!AA21=\"\",\"\",KELAS!AA21)","v":""},{"$f":"IF(KELAS!AB21=\"\",\"\",TEXT(KELAS!AB21,\"0,00\"))","v":""},{"$f":"IF(KELAS!AC21=\"\",\"\",KELAS!AC21)","v":""},{"$f":"IF(KELAS!AD21=\"\",\"\",KELAS!AD21)","v":""},{"$f":"IF(KELAS!AE21=\"\",\"\",KELAS!AE21)","v":""},{"$f":"IF(KELAS!AF21=\"\",\"\",KELAS!AF21)","v":""},{"$f":"IF(KELAS!AG21=\"\",\"\",KELAS!AG21)","v":""},{"$f":"IF(KELAS!AH21=\"\",\"\",TEXT(KELAS!AH21,\"0,00\"))","v":""},{"$f":"IF(KELAS!AI21=\"\",\"\",KELAS!AI21)","v":""},{"$f":"IF(KELAS!AJ21=\"\",\"\",KELAS!AJ21)","v":""},{"$f":"IF(KELAS!AK21=\"\",\"\",TEXT(KELAS!AK21,\"0,00\"))","v":""},{"$f":"IF(KELAS!AL21=\"\",\"\",KELAS!AL21)","v":""},{"$f":"IF(KELAS!AM21=\"\",\"\",KELAS!AM21)","v":""},{"$f":"IF(KELAS!AN21=\"\",\"\",KELAS!AN21)","v":""},{"$f":"IF(KELAS!AO21=\"\",\"\",KELAS!AO21)","v":""},{"$f":"IF(KELAS!AP21=\"\",\"\",KELAS!AP21)","v":""},{"$f":"IF(KELAS!AQ21=\"\",\"\",TEXT(KELAS!AQ21,\"0,00\"))","v":""},{"$f":"IF(KELAS!AR21=\"\",\"\",KELAS!AR21)","v":""},{"$f":"IF(KELAS!AS21=\"\",\"\",KELAS!AS21)","v":""},{"$f":"IF(KELAS!AT21=\"\",\"\",TEXT(KELAS!AT21,\"0,00\"))","v":""},{"$f":"IF(KELAS!AU21=\"\",\"\",KELAS!AU21)","v":""},{"$f":"IF(KELAS!AV21=\"\",\"\",KELAS!AV21)","v":""},{"$f":"IF(KELAS!AW21=\"\",\"\",KELAS!AW21)","v":""},{"$f":"IF(KELAS!AX21=\"\",\"\",KELAS!AX21)","v":""},{"$f":"IF(KELAS!AY21=\"\",\"\",KELAS!AY21)","v":""},{"$f":"IF(KELAS!AZ21=\"\",\"\",TEXT(KELAS!AZ21,\"0,00\"))","v":""},{"$f":"IF(KELAS!BA21=\"\",\"\",KELAS!BA21)","v":""},{"$f":"IF(KELAS!BB21=\"\",\"\",KELAS!BB21)","v":""},{"$f":"IF(KELAS!BC21=\"\",\"\",TEXT(KELAS!BC21,\"0,00\"))","v":""},{"$f":"IF(KELAS!BD21=\"\",\"\",KELAS!BD21)","v":""},{"$f":"IF(KELAS!BE21=\"\",\"\",KELAS!BE21)","v":""},{"$f":"IF(KELAS!BF21=\"\",\"\",KELAS!BF21)","v":""},{"$f":"IF(KELAS!BG21=\"\",\"\",KELAS!BG21)","v":""},{"$f":"IF(KELAS!BH21=\"\",\"\",KELAS!BH21)","v":""},{"$f":"IF(KELAS!BI21=\"\",\"\",TEXT(KELAS!BI21,\"0,00\"))","v":""},{"$f":"IF(KELAS!BJ21=\"\",\"\",KELAS!BJ21)","v":""},{"$f":"IF(KELAS!BK21=\"\",\"\",KELAS!BK21)","v":""},{"$f":"IF(KELAS!BL21=\"\",\"\",TEXT(KELAS!BL21,\"0,00\"))","v":""},{"$f":"IF(KELAS!BM21=\"\",\"\",KELAS!BM21)","v":""},{"$f":"IF(KELAS!BN21=\"\",\"\",KELAS!BN21)","v":""},{"$f":"IF(KELAS!BO21=\"\",\"\",KELAS!BO21)","v":""},{"$f":"IF(KELAS!BP21=\"\",\"\",KELAS!BP21)","v":""},{"$f":"IF(KELAS!BQ21=\"\",\"\",KELAS!BQ21)","v":""},{"$f":"IF(KELAS!BR21=\"\",\"\",TEXT(KELAS!BR21,\"0,00\"))","v":""},{"$f":"IF(KELAS!BS21=\"\",\"\",KELAS!BS21)","v":""},{"$f":"IF(KELAS!BT21=\"\",\"\",KELAS!BT21)","v":""},{"$f":"IF(KELAS!BU21=\"\",\"\",TEXT(KELAS!BU21,\"0,00\"))","v":""},{"$f":"IF(KELAS!BV21=\"\",\"\",KELAS!BV21)","v":""},{"$f":"IF(KELAS!BW21=\"\",\"\",KELAS!BW21)","v":""},{"$f":"IF(KELAS!BX21=\"\",\"\",KELAS!BX21)","v":""},{"$f":"IF(KELAS!BY21=\"\",\"\",KELAS!BY21)","v":""},{"$f":"IF(KELAS!BZ21=\"\",\"\",KELAS!BZ21)","v":""},{"$f":"IF(KELAS!CA21=\"\",\"\",TEXT(KELAS!CA21,\"0,00\"))","v":""},{"$f":"IF(KELAS!CB21=\"\",\"\",KELAS!CB21)","v":""},{"$f":"IF(KELAS!CC21=\"\",\"\",KELAS!CC21)","v":""},{"$f":"IF(KELAS!CD21=\"\",\"\",TEXT(KELAS!CD21,\"0,00\"))","v":""},{"$f":"IF(KELAS!CE21=\"\",\"\",KELAS!CE21)","v":""},{"$f":"IF(KELAS!CF21=\"\",\"\",KELAS!CF21)","v":""},{"$f":"IF(KELAS!CG21=\"\",\"\",KELAS!CG21)","v":""},{"$f":"IF(KELAS!CH21=\"\",\"\",KELAS!CH21)","v":""},{"$f":"IF(KELAS!CI21=\"\",\"\",KELAS!CI21)","v":""},{"$f":"IF(KELAS!CJ21=\"\",\"\",TEXT(KELAS!CJ21,\"0,00\"))","v":""},{"$f":"IF(KELAS!CK21=\"\",\"\",KELAS!CK21)","v":""},{"$f":"IF(KELAS!CL21=\"\",\"\",KELAS!CL21)","v":""},{"$f":"IF(KELAS!CM21=\"\",\"\",TEXT(KELAS!CM21,\"0,00\"))","v":""},{"$f":"IF(KELAS!CN21=\"\",\"\",KELAS!CN21)","v":""},{"$f":"IF(KELAS!CO21=\"\",\"\",KELAS!CO21)","v":""},{"$f":"IF(KELAS!CP21=\"\",\"\",KELAS!CP21)","v":""},{"$f":"IF(KELAS!CQ21=\"\",\"\",KELAS!CQ21)","v":""},{"$f":"IF(KELAS!CR21=\"\",\"\",KELAS!CR21)","v":""},{"$f":"IF(KELAS!CS21=\"\",\"\",TEXT(KELAS!CS21,\"0,00\"))","v":""},{"$f":"IF(KELAS!CT21=\"\",\"\",KELAS!CT21)","v":""},{"$f":"IF(KELAS!CU21=\"\",\"\",KELAS!CU21)","v":""},{"$f":"IF(KELAS!CV21=\"\",\"\",TEXT(KELAS!CV21,\"0,00\"))","v":""},{"$f":"IF(KELAS!CW21=\"\",\"\",KELAS!CW21)","v":""},{"$f":"IF(KELAS!CX21=\"\",\"\",KELAS!CX21)","v":""},{"$f":"IF(KELAS!CY21=\"\",\"\",KELAS!CY21)","v":""},{"$f":"IF(KELAS!CZ21=\"\",\"\",KELAS!CZ21)","v":""},{"$f":"IF(KELAS!DA21=\"\",\"\",KELAS!DA21)","v":""},{"$f":"IF(KELAS!DB21=\"\",\"\",TEXT(KELAS!DB21,\"0,00\"))","v":""},{"$f":"IF(KELAS!DC21=\"\",\"\",KELAS!DC21)","v":""},{"$f":"IF(KELAS!DD21=\"\",\"\",KELAS!DD21)","v":""},{"$f":"IF(KELAS!DE21=\"\",\"\",TEXT(KELAS!DE21,\"0,00\"))","v":""},{"$f":"IF(KELAS!DF21=\"\",\"\",KELAS!DF21)","v":""},{"$f":"IF(KELAS!DG21=\"\",\"\",KELAS!DG21)","v":""},{"$f":"IF(KELAS!DH21=\"\",\"\",KELAS!DH21)","v":""},{"$f":"IF(KELAS!DI21=\"\",\"\",KELAS!DI21)","v":""},{"$f":"IF(KELAS!DJ21=\"\",\"\",KELAS!DJ21)","v":""},{"$f":"IF(KELAS!DK21=\"\",\"\",KELAS!DK21)","v":2},{"$f":"IF(KELAS!DL21=\"\",\"\",KELAS!DL21)","v":1},{"$f":"IF(KELAS!DM21=\"\",\"\",KELAS!DM21)","v":2},{"$f":"IF(KELAS!DN21=\"\",\"\",KELAS!DN21)","v":3},{"$f":"IF(KELAS!DO21=\"\",\"\",KELAS!DO21)","v":""},{"$f":"IF(KELAS!DP21=\"\",\"\",KELAS!DP21)","v":""},{"$f":"IF(KELAS!DQ21=\"\",\"\",KELAS!DQ21)","v":""},{"$f":"IF(KELAS!DR21=\"\",\"\",KELAS!DR21)","v":""},{"$f":"IF(KELAS!DS21=\"\",\"\",KELAS!DS21)","v":""},{"$f":"IF(KELAS!DT21=\"\",\"\",KELAS!DT21)","v":""},{"$f":"IF(KELAS!DU21=\"\",\"\",KELAS!DU21)","v":""},{"$f":"IF(KELAS!DV21=\"\",\"\",KELAS!DV21)","v":""},{"$f":"IF(KELAS!DW21=\"\",\"\",KELAS!DW21)","v":""},{"$f":"IF(KELAS!DX21=\"\",\"\",KELAS!DX21)","v":""},{"$f":"IF(KELAS!DY21=\"\",\"\",KELAS!DY21)","v":""},{"$f":"IF(KELAS!DZ21=\"\",\"\",KELAS!DZ21)","v":""},{"$f":"IF(KELAS!EA21=\"\",\"\",KELAS!EA21)","v":"2 ( dua )"},{"$f":"IF(KELAS!EB21=\"\",\"\",KELAS!EB21)","v":"1 ( satu )"},{"$f":"IF(KELAS!EC21=\"\",\"\",KELAS!EC21)","v":"2 ( dua )"},{"$f":"IF(KELAS!ED21=\"\",\"\",KELAS!ED21)","v":"3 ( tiga )"},{"$f":"IF(KELAS!EE21=\"\",\"\",KELAS!EE21)","v":""},{"$f":"IF(KELAS!EF21=\"\",\"\",KELAS!EF21)","v":""},{"$f":"IF(KELAS!EG21=\"\",\"\",KELAS!EG21)","v":"Peserta didik menunjukan sikap sungguh-sungguh dalam menerapkan sikap santun, jujur dan kerjasama, namun masih perlu ditingkatkan lagi sikap percaya diri dan ketepatan masuk sekolah"},{"$f":"IF(KELAS!EH21=\"\",\"\",KELAS!EH21)","v":"Dhany Suryanto, S.Pd."},{"$f":"IF(KELAS!EI21=\"\",\"\",KELAS!EI21)","v":"jika punya NIP isikan di sini"},{"$f":"IF(KELAS!EJ21=\"\",\"\",KELAS!EJ21)","v":0},{"$f":"IF(KELAS!EK21=\"\",\"\",KELAS!EK21)","v":0},{"$f":"IF(KELAS!EL21=\"\",\"\",KELAS!EL21)","v":0},{"$f":"IF(KELAS!EM21=\"\",\"\",KELAS!EM21)","v":0},{"$f":"IF(KELAS!EN21=\"\",\"\",KELAS!EN21)","v":0},{"$f":"IF(KELAS!EO21=\"\",\"\",KELAS!EO21)","v":0},{"$f":"IF(KELAS!EP21=\"\",\"\",KELAS!EP21)","v":0},{"$f":"IF(KELAS!EQ21=\"\",\"\",KELAS!EQ21)","v":0},{"$f":"IF(KELAS!ER21=\"\",\"\",KELAS!ER21)","v":0},{"$f":"IF(KELAS!ES21=\"\",\"\",KELAS!ES21)","v":0},{"$f":"IF(KELAS!ET21=\"\",\"\",KELAS!ET21)","v":0}]
[{"$f":"IF(KELAS!A22=\"\",\"\",KELAS!A22)","v":20},{"$f":"IF(KELAS!B22=\"\",\"\",KELAS!B22)","v":12614},{"$f":"IF(KELAS!C22=\"\",\"\",KELAS!C22)","v":"LINDA NURMAYANTI"},{"$f":"IF(KELAS!D22=\"\",\"\",KELAS!D22)","v":"P"},{"$f":"IF(KELAS!E22=\"\",\"\",KELAS!E22)","v":"7.A"},{"$f":"IF(KELAS!F22=\"\",\"\",KELAS!F22)","v":"Islam"},{"$f":"IF(KELAS!G22=\"\",\"\",KELAS!G22)","v":9981517787},{"$f":"IF(KELAS!H22=\"\",\"\",KELAS!H22)","v":"Wonosobo, 07 Maret 1998"},{"$f":"IF(KELAS!I22=\"\",\"\",KELAS!I22)","v":"Sarwin"},{"$f":"IF(KELAS!J22=\"\",\"\",KELAS!J22)","v":"Pedagang"},{"$f":"IF(KELAS!K22=\"\",\"\",KELAS!K22)","v":"Sulastri"},{"$f":"IF(KELAS!L22=\"\",\"\",KELAS!L22)","v":"Petani"},{"$f":"IF(KELAS!M22=\"\",\"\",KELAS!M22)","v":"Mekarsari RT.05 RW.13, Kalibeber, Mojotengah, Wsb"},{"$f":"IF(KELAS!N22=\"\",\"\",KELAS!N22)","v":"SMPN 1 MOJOTENGAH"},{"$f":"IF(KELAS!O22=\"\",\"\",KELAS!O22)","v":3},{"$f":"IF(KELAS!P22=\"\",\"\",KELAS!P22)","v":"Anak Kandung"},{"$f":"IF(KELAS!Q22=\"\",\"\",TEXT(KELAS!Q22,\"0,00\"))","v":""},{"$f":"IF(KELAS!R22=\"\",\"\",KELAS!R22)","v":""},{"$f":"IF(KELAS!S22=\"\",\"\",KELAS!S22)","v":""},{"$f":"IF(KELAS!T22=\"\",\"\",TEXT(KELAS!T22,\"0,00\"))","v":""},{"$f":"IF(KELAS!U22=\"\",\"\",KELAS!U22)","v":""},{"$f":"IF(KELAS!V22=\"\",\"\",KELAS!V22)","v":""},{"$f":"IF(KELAS!W22=\"\",\"\",KELAS!W22)","v":""},{"$f":"IF(KELAS!X22=\"\",\"\",KELAS!X22)","v":""},{"$f":"IF(KELAS!Y22=\"\",\"\",TEXT(KELAS!Y22,\"0,00\"))","v":""},{"$f":"IF(KELAS!Z22=\"\",\"\",KELAS!Z22)","v":""},{"$f":"IF(KELAS!AA22=\"\",\"\",KELAS!AA22)","v":""},{"$f":"IF(KELAS!AB22=\"\",\"\",TEXT(KELAS!AB22,\"0,00\"))","v":""},{"$f":"IF(KELAS!AC22=\"\",\"\",KELAS!AC22)","v":""},{"$f":"IF(KELAS!AD22=\"\",\"\",KELAS!AD22)","v":""},{"$f":"IF(KELAS!AE22=\"\",\"\",KELAS!AE22)","v":""},{"$f":"IF(KELAS!AF22=\"\",\"\",KELAS!AF22)","v":""},{"$f":"IF(KELAS!AG22=\"\",\"\",KELAS!AG22)","v":""},{"$f":"IF(KELAS!AH22=\"\",\"\",TEXT(KELAS!AH22,\"0,00\"))","v":""},{"$f":"IF(KELAS!AI22=\"\",\"\",KELAS!AI22)","v":""},{"$f":"IF(KELAS!AJ22=\"\",\"\",KELAS!AJ22)","v":""},{"$f":"IF(KELAS!AK22=\"\",\"\",TEXT(KELAS!AK22,\"0,00\"))","v":""},{"$f":"IF(KELAS!AL22=\"\",\"\",KELAS!AL22)","v":""},{"$f":"IF(KELAS!AM22=\"\",\"\",KELAS!AM22)","v":""},{"$f":"IF(KELAS!AN22=\"\",\"\",KELAS!AN22)","v":""},{"$f":"IF(KELAS!AO22=\"\",\"\",KELAS!AO22)","v":""},{"$f":"IF(KELAS!AP22=\"\",\"\",KELAS!AP22)","v":""},{"$f":"IF(KELAS!AQ22=\"\",\"\",TEXT(KELAS!AQ22,\"0,00\"))","v":""},{"$f":"IF(KELAS!AR22=\"\",\"\",KELAS!AR22)","v":""},{"$f":"IF(KELAS!AS22=\"\",\"\",KELAS!AS22)","v":""},{"$f":"IF(KELAS!AT22=\"\",\"\",TEXT(KELAS!AT22,\"0,00\"))","v":""},{"$f":"IF(KELAS!AU22=\"\",\"\",KELAS!AU22)","v":""},{"$f":"IF(KELAS!AV22=\"\",\"\",KELAS!AV22)","v":""},{"$f":"IF(KELAS!AW22=\"\",\"\",KELAS!AW22)","v":""},{"$f":"IF(KELAS!AX22=\"\",\"\",KELAS!AX22)","v":""},{"$f":"IF(KELAS!AY22=\"\",\"\",KELAS!AY22)","v":""},{"$f":"IF(KELAS!AZ22=\"\",\"\",TEXT(KELAS!AZ22,\"0,00\"))","v":""},{"$f":"IF(KELAS!BA22=\"\",\"\",KELAS!BA22)","v":""},{"$f":"IF(KELAS!BB22=\"\",\"\",KELAS!BB22)","v":""},{"$f":"IF(KELAS!BC22=\"\",\"\",TEXT(KELAS!BC22,\"0,00\"))","v":""},{"$f":"IF(KELAS!BD22=\"\",\"\",KELAS!BD22)","v":""},{"$f":"IF(KELAS!BE22=\"\",\"\",KELAS!BE22)","v":""},{"$f":"IF(KELAS!BF22=\"\",\"\",KELAS!BF22)","v":""},{"$f":"IF(KELAS!BG22=\"\",\"\",KELAS!BG22)","v":""},{"$f":"IF(KELAS!BH22=\"\",\"\",KELAS!BH22)","v":""},{"$f":"IF(KELAS!BI22=\"\",\"\",TEXT(KELAS!BI22,\"0,00\"))","v":""},{"$f":"IF(KELAS!BJ22=\"\",\"\",KELAS!BJ22)","v":""},{"$f":"IF(KELAS!BK22=\"\",\"\",KELAS!BK22)","v":""},{"$f":"IF(KELAS!BL22=\"\",\"\",TEXT(KELAS!BL22,\"0,00\"))","v":""},{"$f":"IF(KELAS!BM22=\"\",\"\",KELAS!BM22)","v":""},{"$f":"IF(KELAS!BN22=\"\",\"\",KELAS!BN22)","v":""},{"$f":"IF(KELAS!BO22=\"\",\"\",KELAS!BO22)","v":""},{"$f":"IF(KELAS!BP22=\"\",\"\",KELAS!BP22)","v":""},{"$f":"IF(KELAS!BQ22=\"\",\"\",KELAS!BQ22)","v":""},{"$f":"IF(KELAS!BR22=\"\",\"\",TEXT(KELAS!BR22,\"0,00\"))","v":""},{"$f":"IF(KELAS!BS22=\"\",\"\",KELAS!BS22)","v":""},{"$f":"IF(KELAS!BT22=\"\",\"\",KELAS!BT22)","v":""},{"$f":"IF(KELAS!BU22=\"\",\"\",TEXT(KELAS!BU22,\"0,00\"))","v":""},{"$f":"IF(KELAS!BV22=\"\",\"\",KELAS!BV22)","v":""},{"$f":"IF(KELAS!BW22=\"\",\"\",KELAS!BW22)","v":""},{"$f":"IF(KELAS!BX22=\"\",\"\",KELAS!BX22)","v":""},{"$f":"IF(KELAS!BY22=\"\",\"\",KELAS!BY22)","v":""},{"$f":"IF(KELAS!BZ22=\"\",\"\",KELAS!BZ22)","v":""},{"$f":"IF(KELAS!CA22=\"\",\"\",TEXT(KELAS!CA22,\"0,00\"))","v":""},{"$f":"IF(KELAS!CB22=\"\",\"\",KELAS!CB22)","v":""},{"$f":"IF(KELAS!CC22=\"\",\"\",KELAS!CC22)","v":""},{"$f":"IF(KELAS!CD22=\"\",\"\",TEXT(KELAS!CD22,\"0,00\"))","v":""},{"$f":"IF(KELAS!CE22=\"\",\"\",KELAS!CE22)","v":""},{"$f":"IF(KELAS!CF22=\"\",\"\",KELAS!CF22)","v":""},{"$f":"IF(KELAS!CG22=\"\",\"\",KELAS!CG22)","v":""},{"$f":"IF(KELAS!CH22=\"\",\"\",KELAS!CH22)","v":""},{"$f":"IF(KELAS!CI22=\"\",\"\",KELAS!CI22)","v":""},{"$f":"IF(KELAS!CJ22=\"\",\"\",TEXT(KELAS!CJ22,\"0,00\"))","v":""},{"$f":"IF(KELAS!CK22=\"\",\"\",KELAS!CK22)","v":""},{"$f":"IF(KELAS!CL22=\"\",\"\",KELAS!CL22)","v":""},{"$f":"IF(KELAS!CM22=\"\",\"\",TEXT(KELAS!CM22,\"0,00\"))","v":""},{"$f":"IF(KELAS!CN22=\"\",\"\",KELAS!CN22)","v":""},{"$f":"IF(KELAS!CO22=\"\",\"\",KELAS!CO22)","v":""},{"$f":"IF(KELAS!CP22=\"\",\"\",KELAS!CP22)","v":""},{"$f":"IF(KELAS!CQ22=\"\",\"\",KELAS!CQ22)","v":""},{"$f":"IF(KELAS!CR22=\"\",\"\",KELAS!CR22)","v":""},{"$f":"IF(KELAS!CS22=\"\",\"\",TEXT(KELAS!CS22,\"0,00\"))","v":""},{"$f":"IF(KELAS!CT22=\"\",\"\",KELAS!CT22)","v":""},{"$f":"IF(KELAS!CU22=\"\",\"\",KELAS!CU22)","v":""},{"$f":"IF(KELAS!CV22=\"\",\"\",TEXT(KELAS!CV22,\"0,00\"))","v":""},{"$f":"IF(KELAS!CW22=\"\",\"\",KELAS!CW22)","v":""},{"$f":"IF(KELAS!CX22=\"\",\"\",KELAS!CX22)","v":""},{"$f":"IF(KELAS!CY22=\"\",\"\",KELAS!CY22)","v":""},{"$f":"IF(KELAS!CZ22=\"\",\"\",KELAS!CZ22)","v":""},{"$f":"IF(KELAS!DA22=\"\",\"\",KELAS!DA22)","v":""},{"$f":"IF(KELAS!DB22=\"\",\"\",TEXT(KELAS!DB22,\"0,00\"))","v":""},{"$f":"IF(KELAS!DC22=\"\",\"\",KELAS!DC22)","v":""},{"$f":"IF(KELAS!DD22=\"\",\"\",KELAS!DD22)","v":""},{"$f":"IF(KELAS!DE22=\"\",\"\",TEXT(KELAS!DE22,\"0,00\"))","v":""},{"$f":"IF(KELAS!DF22=\"\",\"\",KELAS!DF22)","v":""},{"$f":"IF(KELAS!DG22=\"\",\"\",KELAS!DG22)","v":""},{"$f":"IF(KELAS!DH22=\"\",\"\",KELAS!DH22)","v":""},{"$f":"IF(KELAS!DI22=\"\",\"\",KELAS!DI22)","v":""},{"$f":"IF(KELAS!DJ22=\"\",\"\",KELAS!DJ22)","v":""},{"$f":"IF(KELAS!DK22=\"\",\"\",KELAS!DK22)","v":1},{"$f":"IF(KELAS!DL22=\"\",\"\",KELAS!DL22)","v":2},{"$f":"IF(KELAS!DM22=\"\",\"\",KELAS!DM22)","v":2},{"$f":"IF(KELAS!DN22=\"\",\"\",KELAS!DN22)","v":1},{"$f":"IF(KELAS!DO22=\"\",\"\",KELAS!DO22)","v":""},{"$f":"IF(KELAS!DP22=\"\",\"\",KELAS!DP22)","v":""},{"$f":"IF(KELAS!DQ22=\"\",\"\",KELAS!DQ22)","v":""},{"$f":"IF(KELAS!DR22=\"\",\"\",KELAS!DR22)","v":""},{"$f":"IF(KELAS!DS22=\"\",\"\",KELAS!DS22)","v":""},{"$f":"IF(KELAS!DT22=\"\",\"\",KELAS!DT22)","v":""},{"$f":"IF(KELAS!DU22=\"\",\"\",KELAS!DU22)","v":""},{"$f":"IF(KELAS!DV22=\"\",\"\",KELAS!DV22)","v":""},{"$f":"IF(KELAS!DW22=\"\",\"\",KELAS!DW22)","v":""},{"$f":"IF(KELAS!DX22=\"\",\"\",KELAS!DX22)","v":""},{"$f":"IF(KELAS!DY22=\"\",\"\",KELAS!DY22)","v":""},{"$f":"IF(KELAS!DZ22=\"\",\"\",KELAS!DZ22)","v":""},{"$f":"IF(KELAS!EA22=\"\",\"\",KELAS!EA22)","v":"1 ( satu )"},{"$f":"IF(KELAS!EB22=\"\",\"\",KELAS!EB22)","v":"2 ( dua )"},{"$f":"IF(KELAS!EC22=\"\",\"\",KELAS!EC22)","v":"2 ( dua )"},{"$f":"IF(KELAS!ED22=\"\",\"\",KELAS!ED22)","v":"1 ( satu )"},{"$f":"IF(KELAS!EE22=\"\",\"\",KELAS!EE22)","v":""},{"$f":"IF(KELAS!EF22=\"\",\"\",KELAS!EF22)","v":""},{"$f":"IF(KELAS!EG22=\"\",\"\",KELAS!EG22)","v":"Peserta didik menunjukan sikap sungguh-sungguh dalam menerapkan sikap santun, jujur dan kerjasama, namun masih perlu ditingkatkan lagi sikap percaya diri dan ketepatan masuk sekolah"},{"$f":"IF(KELAS!EH22=\"\",\"\",KELAS!EH22)","v":"Dhany Suryanto, S.Pd."},{"$f":"IF(KELAS!EI22=\"\",\"\",KELAS!EI22)","v":"jika punya NIP isikan di sini"},{"$f":"IF(KELAS!EJ22=\"\",\"\",KELAS!EJ22)","v":0},{"$f":"IF(KELAS!EK22=\"\",\"\",KELAS!EK22)","v":0},{"$f":"IF(KELAS!EL22=\"\",\"\",KELAS!EL22)","v":0},{"$f":"IF(KELAS!EM22=\"\",\"\",KELAS!EM22)","v":0},{"$f":"IF(KELAS!EN22=\"\",\"\",KELAS!EN22)","v":0},{"$f":"IF(KELAS!EO22=\"\",\"\",KELAS!EO22)","v":0},{"$f":"IF(KELAS!EP22=\"\",\"\",KELAS!EP22)","v":0},{"$f":"IF(KELAS!EQ22=\"\",\"\",KELAS!EQ22)","v":0},{"$f":"IF(KELAS!ER22=\"\",\"\",KELAS!ER22)","v":0},{"$f":"IF(KELAS!ES22=\"\",\"\",KELAS!ES22)","v":0},{"$f":"IF(KELAS!ET22=\"\",\"\",KELAS!ET22)","v":0}]
[{"$f":"IF(KELAS!A23=\"\",\"\",KELAS!A23)","v":21},{"$f":"IF(KELAS!B23=\"\",\"\",KELAS!B23)","v":12621},{"$f":"IF(KELAS!C23=\"\",\"\",KELAS!C23)","v":"M. HAZBI RACHMAN"},{"$f":"IF(KELAS!D23=\"\",\"\",KELAS!D23)","v":"L"},{"$f":"IF(KELAS!E23=\"\",\"\",KELAS!E23)","v":"7.A"},{"$f":"IF(KELAS!F23=\"\",\"\",KELAS!F23)","v":"Islam"},{"$f":"IF(KELAS!G23=\"\",\"\",KELAS!G23)","v":9984134642},{"$f":"IF(KELAS!H23=\"\",\"\",KELAS!H23)","v":"Denpasar, 22 Desember 1997"},{"$f":"IF(KELAS!I23=\"\",\"\",KELAS!I23)","v":"Himan Andi Rosik"},{"$f":"IF(KELAS!J23=\"\",\"\",KELAS!J23)","v":"Karyawan Swasta"},{"$f":"IF(KELAS!K23=\"\",\"\",KELAS!K23)","v":"Tina Subardina"},{"$f":"IF(KELAS!L23=\"\",\"\",KELAS!L23)","v":"Ibu Rumah Tangga"},{"$f":"IF(KELAS!M23=\"\",\"\",KELAS!M23)","v":"Campursari RT.04 RW.08, Jaraksari, Wsb"},{"$f":"IF(KELAS!N23=\"\",\"\",KELAS!N23)","v":"SMP MUHAMMADIYAH 1 WONOSOBO"},{"$f":"IF(KELAS!O23=\"\",\"\",KELAS!O23)","v":1},{"$f":"IF(KELAS!P23=\"\",\"\",KELAS!P23)","v":"Anak Kandung"},{"$f":"IF(KELAS!Q23=\"\",\"\",TEXT(KELAS!Q23,\"0,00\"))","v":""},{"$f":"IF(KELAS!R23=\"\",\"\",KELAS!R23)","v":""},{"$f":"IF(KELAS!S23=\"\",\"\",KELAS!S23)","v":""},{"$f":"IF(KELAS!T23=\"\",\"\",TEXT(KELAS!T23,\"0,00\"))","v":""},{"$f":"IF(KELAS!U23=\"\",\"\",KELAS!U23)","v":""},{"$f":"IF(KELAS!V23=\"\",\"\",KELAS!V23)","v":""},{"$f":"IF(KELAS!W23=\"\",\"\",KELAS!W23)","v":""},{"$f":"IF(KELAS!X23=\"\",\"\",KELAS!X23)","v":""},{"$f":"IF(KELAS!Y23=\"\",\"\",TEXT(KELAS!Y23,\"0,00\"))","v":""},{"$f":"IF(KELAS!Z23=\"\",\"\",KELAS!Z23)","v":""},{"$f":"IF(KELAS!AA23=\"\",\"\",KELAS!AA23)","v":""},{"$f":"IF(KELAS!AB23=\"\",\"\",TEXT(KELAS!AB23,\"0,00\"))","v":""},{"$f":"IF(KELAS!AC23=\"\",\"\",KELAS!AC23)","v":""},{"$f":"IF(KELAS!AD23=\"\",\"\",KELAS!AD23)","v":""},{"$f":"IF(KELAS!AE23=\"\",\"\",KELAS!AE23)","v":""},{"$f":"IF(KELAS!AF23=\"\",\"\",KELAS!AF23)","v":""},{"$f":"IF(KELAS!AG23=\"\",\"\",KELAS!AG23)","v":""},{"$f":"IF(KELAS!AH23=\"\",\"\",TEXT(KELAS!AH23,\"0,00\"))","v":""},{"$f":"IF(KELAS!AI23=\"\",\"\",KELAS!AI23)","v":""},{"$f":"IF(KELAS!AJ23=\"\",\"\",KELAS!AJ23)","v":""},{"$f":"IF(KELAS!AK23=\"\",\"\",TEXT(KELAS!AK23,\"0,00\"))","v":""},{"$f":"IF(KELAS!AL23=\"\",\"\",KELAS!AL23)","v":""},{"$f":"IF(KELAS!AM23=\"\",\"\",KELAS!AM23)","v":""},{"$f":"IF(KELAS!AN23=\"\",\"\",KELAS!AN23)","v":""},{"$f":"IF(KELAS!AO23=\"\",\"\",KELAS!AO23)","v":""},{"$f":"IF(KELAS!AP23=\"\",\"\",KELAS!AP23)","v":""},{"$f":"IF(KELAS!AQ23=\"\",\"\",TEXT(KELAS!AQ23,\"0,00\"))","v":""},{"$f":"IF(KELAS!AR23=\"\",\"\",KELAS!AR23)","v":""},{"$f":"IF(KELAS!AS23=\"\",\"\",KELAS!AS23)","v":""},{"$f":"IF(KELAS!AT23=\"\",\"\",TEXT(KELAS!AT23,\"0,00\"))","v":""},{"$f":"IF(KELAS!AU23=\"\",\"\",KELAS!AU23)","v":""},{"$f":"IF(KELAS!AV23=\"\",\"\",KELAS!AV23)","v":""},{"$f":"IF(KELAS!AW23=\"\",\"\",KELAS!AW23)","v":""},{"$f":"IF(KELAS!AX23=\"\",\"\",KELAS!AX23)","v":""},{"$f":"IF(KELAS!AY23=\"\",\"\",KELAS!AY23)","v":""},{"$f":"IF(KELAS!AZ23=\"\",\"\",TEXT(KELAS!AZ23,\"0,00\"))","v":""},{"$f":"IF(KELAS!BA23=\"\",\"\",KELAS!BA23)","v":""},{"$f":"IF(KELAS!BB23=\"\",\"\",KELAS!BB23)","v":""},{"$f":"IF(KELAS!BC23=\"\",\"\",TEXT(KELAS!BC23,\"0,00\"))","v":""},{"$f":"IF(KELAS!BD23=\"\",\"\",KELAS!BD23)","v":""},{"$f":"IF(KELAS!BE23=\"\",\"\",KELAS!BE23)","v":""},{"$f":"IF(KELAS!BF23=\"\",\"\",KELAS!BF23)","v":""},{"$f":"IF(KELAS!BG23=\"\",\"\",KELAS!BG23)","v":""},{"$f":"IF(KELAS!BH23=\"\",\"\",KELAS!BH23)","v":""},{"$f":"IF(KELAS!BI23=\"\",\"\",TEXT(KELAS!BI23,\"0,00\"))","v":""},{"$f":"IF(KELAS!BJ23=\"\",\"\",KELAS!BJ23)","v":""},{"$f":"IF(KELAS!BK23=\"\",\"\",KELAS!BK23)","v":""},{"$f":"IF(KELAS!BL23=\"\",\"\",TEXT(KELAS!BL23,\"0,00\"))","v":""},{"$f":"IF(KELAS!BM23=\"\",\"\",KELAS!BM23)","v":""},{"$f":"IF(KELAS!BN23=\"\",\"\",KELAS!BN23)","v":""},{"$f":"IF(KELAS!BO23=\"\",\"\",KELAS!BO23)","v":""},{"$f":"IF(KELAS!BP23=\"\",\"\",KELAS!BP23)","v":""},{"$f":"IF(KELAS!BQ23=\"\",\"\",KELAS!BQ23)","v":""},{"$f":"IF(KELAS!BR23=\"\",\"\",TEXT(KELAS!BR23,\"0,00\"))","v":""},{"$f":"IF(KELAS!BS23=\"\",\"\",KELAS!BS23)","v":""},{"$f":"IF(KELAS!BT23=\"\",\"\",KELAS!BT23)","v":""},{"$f":"IF(KELAS!BU23=\"\",\"\",TEXT(KELAS!BU23,\"0,00\"))","v":""},{"$f":"IF(KELAS!BV23=\"\",\"\",KELAS!BV23)","v":""},{"$f":"IF(KELAS!BW23=\"\",\"\",KELAS!BW23)","v":""},{"$f":"IF(KELAS!BX23=\"\",\"\",KELAS!BX23)","v":""},{"$f":"IF(KELAS!BY23=\"\",\"\",KELAS!BY23)","v":""},{"$f":"IF(KELAS!BZ23=\"\",\"\",KELAS!BZ23)","v":""},{"$f":"IF(KELAS!CA23=\"\",\"\",TEXT(KELAS!CA23,\"0,00\"))","v":""},{"$f":"IF(KELAS!CB23=\"\",\"\",KELAS!CB23)","v":""},{"$f":"IF(KELAS!CC23=\"\",\"\",KELAS!CC23)","v":""},{"$f":"IF(KELAS!CD23=\"\",\"\",TEXT(KELAS!CD23,\"0,00\"))","v":""},{"$f":"IF(KELAS!CE23=\"\",\"\",KELAS!CE23)","v":""},{"$f":"IF(KELAS!CF23=\"\",\"\",KELAS!CF23)","v":""},{"$f":"IF(KELAS!CG23=\"\",\"\",KELAS!CG23)","v":""},{"$f":"IF(KELAS!CH23=\"\",\"\",KELAS!CH23)","v":""},{"$f":"IF(KELAS!CI23=\"\",\"\",KELAS!CI23)","v":""},{"$f":"IF(KELAS!CJ23=\"\",\"\",TEXT(KELAS!CJ23,\"0,00\"))","v":""},{"$f":"IF(KELAS!CK23=\"\",\"\",KELAS!CK23)","v":""},{"$f":"IF(KELAS!CL23=\"\",\"\",KELAS!CL23)","v":""},{"$f":"IF(KELAS!CM23=\"\",\"\",TEXT(KELAS!CM23,\"0,00\"))","v":""},{"$f":"IF(KELAS!CN23=\"\",\"\",KELAS!CN23)","v":""},{"$f":"IF(KELAS!CO23=\"\",\"\",KELAS!CO23)","v":""},{"$f":"IF(KELAS!CP23=\"\",\"\",KELAS!CP23)","v":""},{"$f":"IF(KELAS!CQ23=\"\",\"\",KELAS!CQ23)","v":""},{"$f":"IF(KELAS!CR23=\"\",\"\",KELAS!CR23)","v":""},{"$f":"IF(KELAS!CS23=\"\",\"\",TEXT(KELAS!CS23,\"0,00\"))","v":""},{"$f":"IF(KELAS!CT23=\"\",\"\",KELAS!CT23)","v":""},{"$f":"IF(KELAS!CU23=\"\",\"\",KELAS!CU23)","v":""},{"$f":"IF(KELAS!CV23=\"\",\"\",TEXT(KELAS!CV23,\"0,00\"))","v":""},{"$f":"IF(KELAS!CW23=\"\",\"\",KELAS!CW23)","v":""},{"$f":"IF(KELAS!CX23=\"\",\"\",KELAS!CX23)","v":""},{"$f":"IF(KELAS!CY23=\"\",\"\",KELAS!CY23)","v":""},{"$f":"IF(KELAS!CZ23=\"\",\"\",KELAS!CZ23)","v":""},{"$f":"IF(KELAS!DA23=\"\",\"\",KELAS!DA23)","v":""},{"$f":"IF(KELAS!DB23=\"\",\"\",TEXT(KELAS!DB23,\"0,00\"))","v":""},{"$f":"IF(KELAS!DC23=\"\",\"\",KELAS!DC23)","v":""},{"$f":"IF(KELAS!DD23=\"\",\"\",KELAS!DD23)","v":""},{"$f":"IF(KELAS!DE23=\"\",\"\",TEXT(KELAS!DE23,\"0,00\"))","v":""},{"$f":"IF(KELAS!DF23=\"\",\"\",KELAS!DF23)","v":""},{"$f":"IF(KELAS!DG23=\"\",\"\",KELAS!DG23)","v":""},{"$f":"IF(KELAS!DH23=\"\",\"\",KELAS!DH23)","v":""},{"$f":"IF(KELAS!DI23=\"\",\"\",KELAS!DI23)","v":""},{"$f":"IF(KELAS!DJ23=\"\",\"\",KELAS!DJ23)","v":""},{"$f":"IF(KELAS!DK23=\"\",\"\",KELAS!DK23)","v":3},{"$f":"IF(KELAS!DL23=\"\",\"\",KELAS!DL23)","v":2},{"$f":"IF(KELAS!DM23=\"\",\"\",KELAS!DM23)","v":3},{"$f":"IF(KELAS!DN23=\"\",\"\",KELAS!DN23)","v":2},{"$f":"IF(KELAS!DO23=\"\",\"\",KELAS!DO23)","v":""},{"$f":"IF(KELAS!DP23=\"\",\"\",KELAS!DP23)","v":""},{"$f":"IF(KELAS!DQ23=\"\",\"\",KELAS!DQ23)","v":""},{"$f":"IF(KELAS!DR23=\"\",\"\",KELAS!DR23)","v":""},{"$f":"IF(KELAS!DS23=\"\",\"\",KELAS!DS23)","v":""},{"$f":"IF(KELAS!DT23=\"\",\"\",KELAS!DT23)","v":""},{"$f":"IF(KELAS!DU23=\"\",\"\",KELAS!DU23)","v":""},{"$f":"IF(KELAS!DV23=\"\",\"\",KELAS!DV23)","v":""},{"$f":"IF(KELAS!DW23=\"\",\"\",KELAS!DW23)","v":""},{"$f":"IF(KELAS!DX23=\"\",\"\",KELAS!DX23)","v":""},{"$f":"IF(KELAS!DY23=\"\",\"\",KELAS!DY23)","v":""},{"$f":"IF(KELAS!DZ23=\"\",\"\",KELAS!DZ23)","v":""},{"$f":"IF(KELAS!EA23=\"\",\"\",KELAS!EA23)","v":"3 ( tiga )"},{"$f":"IF(KELAS!EB23=\"\",\"\",KELAS!EB23)","v":"2 ( dua )"},{"$f":"IF(KELAS!EC23=\"\",\"\",KELAS!EC23)","v":"3 ( tiga )"},{"$f":"IF(KELAS!ED23=\"\",\"\",KELAS!ED23)","v":"2 ( dua )"},{"$f":"IF(KELAS!EE23=\"\",\"\",KELAS!EE23)","v":""},{"$f":"IF(KELAS!EF23=\"\",\"\",KELAS!EF23)","v":""},{"$f":"IF(KELAS!EG23=\"\",\"\",KELAS!EG23)","v":"Peserta didik menunjukan sikap sungguh-sungguh dalam menerapkan sikap santun, jujur dan kerjasama, namun masih perlu ditingkatkan lagi sikap percaya diri dan ketepatan masuk sekolah"},{"$f":"IF(KELAS!EH23=\"\",\"\",KELAS!EH23)","v":"Dhany Suryanto, S.Pd."},{"$f":"IF(KELAS!EI23=\"\",\"\",KELAS!EI23)","v":"jika punya NIP isikan di sini"},{"$f":"IF(KELAS!EJ23=\"\",\"\",KELAS!EJ23)","v":0},{"$f":"IF(KELAS!EK23=\"\",\"\",KELAS!EK23)","v":0},{"$f":"IF(KELAS!EL23=\"\",\"\",KELAS!EL23)","v":0},{"$f":"IF(KELAS!EM23=\"\",\"\",KELAS!EM23)","v":0},{"$f":"IF(KELAS!EN23=\"\",\"\",KELAS!EN23)","v":0},{"$f":"IF(KELAS!EO23=\"\",\"\",KELAS!EO23)","v":0},{"$f":"IF(KELAS!EP23=\"\",\"\",KELAS!EP23)","v":0},{"$f":"IF(KELAS!EQ23=\"\",\"\",KELAS!EQ23)","v":0},{"$f":"IF(KELAS!ER23=\"\",\"\",KELAS!ER23)","v":0},{"$f":"IF(KELAS!ES23=\"\",\"\",KELAS!ES23)","v":0},{"$f":"IF(KELAS!ET23=\"\",\"\",KELAS!ET23)","v":0}]
[{"$f":"IF(KELAS!A24=\"\",\"\",KELAS!A24)","v":22},{"$f":"IF(KELAS!B24=\"\",\"\",KELAS!B24)","v":12622},{"$f":"IF(KELAS!C24=\"\",\"\",KELAS!C24)","v":"MARLINA"},{"$f":"IF(KELAS!D24=\"\",\"\",KELAS!D24)","v":"P"},{"$f":"IF(KELAS!E24=\"\",\"\",KELAS!E24)","v":"7.A"},{"$f":"IF(KELAS!F24=\"\",\"\",KELAS!F24)","v":"Islam"},{"$f":"IF(KELAS!G24=\"\",\"\",KELAS!G24)","v":9981598704},{"$f":"IF(KELAS!H24=\"\",\"\",KELAS!H24)","v":"Wonosobo, 19 Maret 1998"},{"$f":"IF(KELAS!I24=\"\",\"\",KELAS!I24)","v":"Bolot Nurohman"},{"$f":"IF(KELAS!J24=\"\",\"\",KELAS!J24)","v":"Wiraswasta"},{"$f":"IF(KELAS!K24=\"\",\"\",KELAS!K24)","v":"Juminah"},{"$f":"IF(KELAS!L24=\"\",\"\",KELAS!L24)","v":"Ibu Rumah Tangga"},{"$f":"IF(KELAS!M24=\"\",\"\",KELAS!M24)","v":"Manggis RT.05 RW.01, Leksono, Wsb"},{"$f":"IF(KELAS!N24=\"\",\"\",KELAS!N24)","v":"SMPN 2 LEKSONO"},{"$f":"IF(KELAS!O24=\"\",\"\",KELAS!O24)","v":3},{"$f":"IF(KELAS!P24=\"\",\"\",KELAS!P24)","v":"Anak Kandung"},{"$f":"IF(KELAS!Q24=\"\",\"\",TEXT(KELAS!Q24,\"0,00\"))","v":""},{"$f":"IF(KELAS!R24=\"\",\"\",KELAS!R24)","v":""},{"$f":"IF(KELAS!S24=\"\",\"\",KELAS!S24)","v":""},{"$f":"IF(KELAS!T24=\"\",\"\",TEXT(KELAS!T24,\"0,00\"))","v":""},{"$f":"IF(KELAS!U24=\"\",\"\",KELAS!U24)","v":""},{"$f":"IF(KELAS!V24=\"\",\"\",KELAS!V24)","v":""},{"$f":"IF(KELAS!W24=\"\",\"\",KELAS!W24)","v":""},{"$f":"IF(KELAS!X24=\"\",\"\",KELAS!X24)","v":""},{"$f":"IF(KELAS!Y24=\"\",\"\",TEXT(KELAS!Y24,\"0,00\"))","v":""},{"$f":"IF(KELAS!Z24=\"\",\"\",KELAS!Z24)","v":""},{"$f":"IF(KELAS!AA24=\"\",\"\",KELAS!AA24)","v":""},{"$f":"IF(KELAS!AB24=\"\",\"\",TEXT(KELAS!AB24,\"0,00\"))","v":""},{"$f":"IF(KELAS!AC24=\"\",\"\",KELAS!AC24)","v":""},{"$f":"IF(KELAS!AD24=\"\",\"\",KELAS!AD24)","v":""},{"$f":"IF(KELAS!AE24=\"\",\"\",KELAS!AE24)","v":""},{"$f":"IF(KELAS!AF24=\"\",\"\",KELAS!AF24)","v":""},{"$f":"IF(KELAS!AG24=\"\",\"\",KELAS!AG24)","v":""},{"$f":"IF(KELAS!AH24=\"\",\"\",TEXT(KELAS!AH24,\"0,00\"))","v":""},{"$f":"IF(KELAS!AI24=\"\",\"\",KELAS!AI24)","v":""},{"$f":"IF(KELAS!AJ24=\"\",\"\",KELAS!AJ24)","v":""},{"$f":"IF(KELAS!AK24=\"\",\"\",TEXT(KELAS!AK24,\"0,00\"))","v":""},{"$f":"IF(KELAS!AL24=\"\",\"\",KELAS!AL24)","v":""},{"$f":"IF(KELAS!AM24=\"\",\"\",KELAS!AM24)","v":""},{"$f":"IF(KELAS!AN24=\"\",\"\",KELAS!AN24)","v":""},{"$f":"IF(KELAS!AO24=\"\",\"\",KELAS!AO24)","v":""},{"$f":"IF(KELAS!AP24=\"\",\"\",KELAS!AP24)","v":""},{"$f":"IF(KELAS!AQ24=\"\",\"\",TEXT(KELAS!AQ24,\"0,00\"))","v":""},{"$f":"IF(KELAS!AR24=\"\",\"\",KELAS!AR24)","v":""},{"$f":"IF(KELAS!AS24=\"\",\"\",KELAS!AS24)","v":""},{"$f":"IF(KELAS!AT24=\"\",\"\",TEXT(KELAS!AT24,\"0,00\"))","v":""},{"$f":"IF(KELAS!AU24=\"\",\"\",KELAS!AU24)","v":""},{"$f":"IF(KELAS!AV24=\"\",\"\",KELAS!AV24)","v":""},{"$f":"IF(KELAS!AW24=\"\",\"\",KELAS!AW24)","v":""},{"$f":"IF(KELAS!AX24=\"\",\"\",KELAS!AX24)","v":""},{"$f":"IF(KELAS!AY24=\"\",\"\",KELAS!AY24)","v":""},{"$f":"IF(KELAS!AZ24=\"\",\"\",TEXT(KELAS!AZ24,\"0,00\"))","v":""},{"$f":"IF(KELAS!BA24=\"\",\"\",KELAS!BA24)","v":""},{"$f":"IF(KELAS!BB24=\"\",\"\",KELAS!BB24)","v":""},{"$f":"IF(KELAS!BC24=\"\",\"\",TEXT(KELAS!BC24,\"0,00\"))","v":""},{"$f":"IF(KELAS!BD24=\"\",\"\",KELAS!BD24)","v":""},{"$f":"IF(KELAS!BE24=\"\",\"\",KELAS!BE24)","v":""},{"$f":"IF(KELAS!BF24=\"\",\"\",KELAS!BF24)","v":""},{"$f":"IF(KELAS!BG24=\"\",\"\",KELAS!BG24)","v":""},{"$f":"IF(KELAS!BH24=\"\",\"\",KELAS!BH24)","v":""},{"$f":"IF(KELAS!BI24=\"\",\"\",TEXT(KELAS!BI24,\"0,00\"))","v":""},{"$f":"IF(KELAS!BJ24=\"\",\"\",KELAS!BJ24)","v":""},{"$f":"IF(KELAS!BK24=\"\",\"\",KELAS!BK24)","v":""},{"$f":"IF(KELAS!BL24=\"\",\"\",TEXT(KELAS!BL24,\"0,00\"))","v":""},{"$f":"IF(KELAS!BM24=\"\",\"\",KELAS!BM24)","v":""},{"$f":"IF(KELAS!BN24=\"\",\"\",KELAS!BN24)","v":""},{"$f":"IF(KELAS!BO24=\"\",\"\",KELAS!BO24)","v":""},{"$f":"IF(KELAS!BP24=\"\",\"\",KELAS!BP24)","v":""},{"$f":"IF(KELAS!BQ24=\"\",\"\",KELAS!BQ24)","v":""},{"$f":"IF(KELAS!BR24=\"\",\"\",TEXT(KELAS!BR24,\"0,00\"))","v":""},{"$f":"IF(KELAS!BS24=\"\",\"\",KELAS!BS24)","v":""},{"$f":"IF(KELAS!BT24=\"\",\"\",KELAS!BT24)","v":""},{"$f":"IF(KELAS!BU24=\"\",\"\",TEXT(KELAS!BU24,\"0,00\"))","v":""},{"$f":"IF(KELAS!BV24=\"\",\"\",KELAS!BV24)","v":""},{"$f":"IF(KELAS!BW24=\"\",\"\",KELAS!BW24)","v":""},{"$f":"IF(KELAS!BX24=\"\",\"\",KELAS!BX24)","v":""},{"$f":"IF(KELAS!BY24=\"\",\"\",KELAS!BY24)","v":""},{"$f":"IF(KELAS!BZ24=\"\",\"\",KELAS!BZ24)","v":""},{"$f":"IF(KELAS!CA24=\"\",\"\",TEXT(KELAS!CA24,\"0,00\"))","v":""},{"$f":"IF(KELAS!CB24=\"\",\"\",KELAS!CB24)","v":""},{"$f":"IF(KELAS!CC24=\"\",\"\",KELAS!CC24)","v":""},{"$f":"IF(KELAS!CD24=\"\",\"\",TEXT(KELAS!CD24,\"0,00\"))","v":""},{"$f":"IF(KELAS!CE24=\"\",\"\",KELAS!CE24)","v":""},{"$f":"IF(KELAS!CF24=\"\",\"\",KELAS!CF24)","v":""},{"$f":"IF(KELAS!CG24=\"\",\"\",KELAS!CG24)","v":""},{"$f":"IF(KELAS!CH24=\"\",\"\",KELAS!CH24)","v":""},{"$f":"IF(KELAS!CI24=\"\",\"\",KELAS!CI24)","v":""},{"$f":"IF(KELAS!CJ24=\"\",\"\",TEXT(KELAS!CJ24,\"0,00\"))","v":""},{"$f":"IF(KELAS!CK24=\"\",\"\",KELAS!CK24)","v":""},{"$f":"IF(KELAS!CL24=\"\",\"\",KELAS!CL24)","v":""},{"$f":"IF(KELAS!CM24=\"\",\"\",TEXT(KELAS!CM24,\"0,00\"))","v":""},{"$f":"IF(KELAS!CN24=\"\",\"\",KELAS!CN24)","v":""},{"$f":"IF(KELAS!CO24=\"\",\"\",KELAS!CO24)","v":""},{"$f":"IF(KELAS!CP24=\"\",\"\",KELAS!CP24)","v":""},{"$f":"IF(KELAS!CQ24=\"\",\"\",KELAS!CQ24)","v":""},{"$f":"IF(KELAS!CR24=\"\",\"\",KELAS!CR24)","v":""},{"$f":"IF(KELAS!CS24=\"\",\"\",TEXT(KELAS!CS24,\"0,00\"))","v":""},{"$f":"IF(KELAS!CT24=\"\",\"\",KELAS!CT24)","v":""},{"$f":"IF(KELAS!CU24=\"\",\"\",KELAS!CU24)","v":""},{"$f":"IF(KELAS!CV24=\"\",\"\",TEXT(KELAS!CV24,\"0,00\"))","v":""},{"$f":"IF(KELAS!CW24=\"\",\"\",KELAS!CW24)","v":""},{"$f":"IF(KELAS!CX24=\"\",\"\",KELAS!CX24)","v":""},{"$f":"IF(KELAS!CY24=\"\",\"\",KELAS!CY24)","v":""},{"$f":"IF(KELAS!CZ24=\"\",\"\",KELAS!CZ24)","v":""},{"$f":"IF(KELAS!DA24=\"\",\"\",KELAS!DA24)","v":""},{"$f":"IF(KELAS!DB24=\"\",\"\",TEXT(KELAS!DB24,\"0,00\"))","v":""},{"$f":"IF(KELAS!DC24=\"\",\"\",KELAS!DC24)","v":""},{"$f":"IF(KELAS!DD24=\"\",\"\",KELAS!DD24)","v":""},{"$f":"IF(KELAS!DE24=\"\",\"\",TEXT(KELAS!DE24,\"0,00\"))","v":""},{"$f":"IF(KELAS!DF24=\"\",\"\",KELAS!DF24)","v":""},{"$f":"IF(KELAS!DG24=\"\",\"\",KELAS!DG24)","v":""},{"$f":"IF(KELAS!DH24=\"\",\"\",KELAS!DH24)","v":""},{"$f":"IF(KELAS!DI24=\"\",\"\",KELAS!DI24)","v":""},{"$f":"IF(KELAS!DJ24=\"\",\"\",KELAS!DJ24)","v":""},{"$f":"IF(KELAS!DK24=\"\",\"\",KELAS!DK24)","v":3},{"$f":"IF(KELAS!DL24=\"\",\"\",KELAS!DL24)","v":1},{"$f":"IF(KELAS!DM24=\"\",\"\",KELAS!DM24)","v":3},{"$f":"IF(KELAS!DN24=\"\",\"\",KELAS!DN24)","v":2},{"$f":"IF(KELAS!DO24=\"\",\"\",KELAS!DO24)","v":""},{"$f":"IF(KELAS!DP24=\"\",\"\",KELAS!DP24)","v":""},{"$f":"IF(KELAS!DQ24=\"\",\"\",KELAS!DQ24)","v":""},{"$f":"IF(KELAS!DR24=\"\",\"\",KELAS!DR24)","v":""},{"$f":"IF(KELAS!DS24=\"\",\"\",KELAS!DS24)","v":""},{"$f":"IF(KELAS!DT24=\"\",\"\",KELAS!DT24)","v":""},{"$f":"IF(KELAS!DU24=\"\",\"\",KELAS!DU24)","v":""},{"$f":"IF(KELAS!DV24=\"\",\"\",KELAS!DV24)","v":""},{"$f":"IF(KELAS!DW24=\"\",\"\",KELAS!DW24)","v":""},{"$f":"IF(KELAS!DX24=\"\",\"\",KELAS!DX24)","v":""},{"$f":"IF(KELAS!DY24=\"\",\"\",KELAS!DY24)","v":""},{"$f":"IF(KELAS!DZ24=\"\",\"\",KELAS!DZ24)","v":""},{"$f":"IF(KELAS!EA24=\"\",\"\",KELAS!EA24)","v":"3 ( tiga )"},{"$f":"IF(KELAS!EB24=\"\",\"\",KELAS!EB24)","v":"1 ( satu )"},{"$f":"IF(KELAS!EC24=\"\",\"\",KELAS!EC24)","v":"3 ( tiga )"},{"$f":"IF(KELAS!ED24=\"\",\"\",KELAS!ED24)","v":"2 ( dua )"},{"$f":"IF(KELAS!EE24=\"\",\"\",KELAS!EE24)","v":""},{"$f":"IF(KELAS!EF24=\"\",\"\",KELAS!EF24)","v":""},{"$f":"IF(KELAS!EG24=\"\",\"\",KELAS!EG24)","v":"Peserta didik menunjukan sikap sungguh-sungguh dalam menerapkan sikap santun, jujur dan kerjasama, namun masih perlu ditingkatkan lagi sikap percaya diri dan ketepatan masuk sekolah"},{"$f":"IF(KELAS!EH24=\"\",\"\",KELAS!EH24)","v":"Dhany Suryanto, S.Pd."},{"$f":"IF(KELAS!EI24=\"\",\"\",KELAS!EI24)","v":"jika punya NIP isikan di sini"},{"$f":"IF(KELAS!EJ24=\"\",\"\",KELAS!EJ24)","v":0},{"$f":"IF(KELAS!EK24=\"\",\"\",KELAS!EK24)","v":0},{"$f":"IF(KELAS!EL24=\"\",\"\",KELAS!EL24)","v":0},{"$f":"IF(KELAS!EM24=\"\",\"\",KELAS!EM24)","v":0},{"$f":"IF(KELAS!EN24=\"\",\"\",KELAS!EN24)","v":0},{"$f":"IF(KELAS!EO24=\"\",\"\",KELAS!EO24)","v":0},{"$f":"IF(KELAS!EP24=\"\",\"\",KELAS!EP24)","v":0},{"$f":"IF(KELAS!EQ24=\"\",\"\",KELAS!EQ24)","v":0},{"$f":"IF(KELAS!ER24=\"\",\"\",KELAS!ER24)","v":0},{"$f":"IF(KELAS!ES24=\"\",\"\",KELAS!ES24)","v":0},{"$f":"IF(KELAS!ET24=\"\",\"\",KELAS!ET24)","v":0}]
[{"$f":"IF(KELAS!A25=\"\",\"\",KELAS!A25)","v":23},{"$f":"IF(KELAS!B25=\"\",\"\",KELAS!B25)","v":12627},{"$f":"IF(KELAS!C25=\"\",\"\",KELAS!C25)","v":"MERRIN FARAHIDA"},{"$f":"IF(KELAS!D25=\"\",\"\",KELAS!D25)","v":"P"},{"$f":"IF(KELAS!E25=\"\",\"\",KELAS!E25)","v":"7.A"},{"$f":"IF(KELAS!F25=\"\",\"\",KELAS!F25)","v":"Islam"},{"$f":"IF(KELAS!G25=\"\",\"\",KELAS!G25)","v":9971535505},{"$f":"IF(KELAS!H25=\"\",\"\",KELAS!H25)","v":"Wonosobo, 24 Nopember 1997"},{"$f":"IF(KELAS!I25=\"\",\"\",KELAS!I25)","v":"Suhartono"},{"$f":"IF(KELAS!J25=\"\",\"\",KELAS!J25)","v":"Wiraswasta"},{"$f":"IF(KELAS!K25=\"\",\"\",KELAS!K25)","v":"Sarminah"},{"$f":"IF(KELAS!L25=\"\",\"\",KELAS!L25)","v":"Ibu Rumah Tangga"},{"$f":"IF(KELAS!M25=\"\",\"\",KELAS!M25)","v":"Sidojoyo RT.02 RW.09, Pagerkukuh, Wsb"},{"$f":"IF(KELAS!N25=\"\",\"\",KELAS!N25)","v":"SMPN 2 WONOSOBO"},{"$f":"IF(KELAS!O25=\"\",\"\",KELAS!O25)","v":1},{"$f":"IF(KELAS!P25=\"\",\"\",KELAS!P25)","v":"Anak Kandung"},{"$f":"IF(KELAS!Q25=\"\",\"\",TEXT(KELAS!Q25,\"0,00\"))","v":""},{"$f":"IF(KELAS!R25=\"\",\"\",KELAS!R25)","v":""},{"$f":"IF(KELAS!S25=\"\",\"\",KELAS!S25)","v":""},{"$f":"IF(KELAS!T25=\"\",\"\",TEXT(KELAS!T25,\"0,00\"))","v":""},{"$f":"IF(KELAS!U25=\"\",\"\",KELAS!U25)","v":""},{"$f":"IF(KELAS!V25=\"\",\"\",KELAS!V25)","v":""},{"$f":"IF(KELAS!W25=\"\",\"\",KELAS!W25)","v":""},{"$f":"IF(KELAS!X25=\"\",\"\",KELAS!X25)","v":""},{"$f":"IF(KELAS!Y25=\"\",\"\",TEXT(KELAS!Y25,\"0,00\"))","v":""},{"$f":"IF(KELAS!Z25=\"\",\"\",KELAS!Z25)","v":""},{"$f":"IF(KELAS!AA25=\"\",\"\",KELAS!AA25)","v":""},{"$f":"IF(KELAS!AB25=\"\",\"\",TEXT(KELAS!AB25,\"0,00\"))","v":""},{"$f":"IF(KELAS!AC25=\"\",\"\",KELAS!AC25)","v":""},{"$f":"IF(KELAS!AD25=\"\",\"\",KELAS!AD25)","v":""},{"$f":"IF(KELAS!AE25=\"\",\"\",KELAS!AE25)","v":""},{"$f":"IF(KELAS!AF25=\"\",\"\",KELAS!AF25)","v":""},{"$f":"IF(KELAS!AG25=\"\",\"\",KELAS!AG25)","v":""},{"$f":"IF(KELAS!AH25=\"\",\"\",TEXT(KELAS!AH25,\"0,00\"))","v":""},{"$f":"IF(KELAS!AI25=\"\",\"\",KELAS!AI25)","v":""},{"$f":"IF(KELAS!AJ25=\"\",\"\",KELAS!AJ25)","v":""},{"$f":"IF(KELAS!AK25=\"\",\"\",TEXT(KELAS!AK25,\"0,00\"))","v":""},{"$f":"IF(KELAS!AL25=\"\",\"\",KELAS!AL25)","v":""},{"$f":"IF(KELAS!AM25=\"\",\"\",KELAS!AM25)","v":""},{"$f":"IF(KELAS!AN25=\"\",\"\",KELAS!AN25)","v":""},{"$f":"IF(KELAS!AO25=\"\",\"\",KELAS!AO25)","v":""},{"$f":"IF(KELAS!AP25=\"\",\"\",KELAS!AP25)","v":""},{"$f":"IF(KELAS!AQ25=\"\",\"\",TEXT(KELAS!AQ25,\"0,00\"))","v":""},{"$f":"IF(KELAS!AR25=\"\",\"\",KELAS!AR25)","v":""},{"$f":"IF(KELAS!AS25=\"\",\"\",KELAS!AS25)","v":""},{"$f":"IF(KELAS!AT25=\"\",\"\",TEXT(KELAS!AT25,\"0,00\"))","v":""},{"$f":"IF(KELAS!AU25=\"\",\"\",KELAS!AU25)","v":""},{"$f":"IF(KELAS!AV25=\"\",\"\",KELAS!AV25)","v":""},{"$f":"IF(KELAS!AW25=\"\",\"\",KELAS!AW25)","v":""},{"$f":"IF(KELAS!AX25=\"\",\"\",KELAS!AX25)","v":""},{"$f":"IF(KELAS!AY25=\"\",\"\",KELAS!AY25)","v":""},{"$f":"IF(KELAS!AZ25=\"\",\"\",TEXT(KELAS!AZ25,\"0,00\"))","v":""},{"$f":"IF(KELAS!BA25=\"\",\"\",KELAS!BA25)","v":""},{"$f":"IF(KELAS!BB25=\"\",\"\",KELAS!BB25)","v":""},{"$f":"IF(KELAS!BC25=\"\",\"\",TEXT(KELAS!BC25,\"0,00\"))","v":""},{"$f":"IF(KELAS!BD25=\"\",\"\",KELAS!BD25)","v":""},{"$f":"IF(KELAS!BE25=\"\",\"\",KELAS!BE25)","v":""},{"$f":"IF(KELAS!BF25=\"\",\"\",KELAS!BF25)","v":""},{"$f":"IF(KELAS!BG25=\"\",\"\",KELAS!BG25)","v":""},{"$f":"IF(KELAS!BH25=\"\",\"\",KELAS!BH25)","v":""},{"$f":"IF(KELAS!BI25=\"\",\"\",TEXT(KELAS!BI25,\"0,00\"))","v":""},{"$f":"IF(KELAS!BJ25=\"\",\"\",KELAS!BJ25)","v":""},{"$f":"IF(KELAS!BK25=\"\",\"\",KELAS!BK25)","v":""},{"$f":"IF(KELAS!BL25=\"\",\"\",TEXT(KELAS!BL25,\"0,00\"))","v":""},{"$f":"IF(KELAS!BM25=\"\",\"\",KELAS!BM25)","v":""},{"$f":"IF(KELAS!BN25=\"\",\"\",KELAS!BN25)","v":""},{"$f":"IF(KELAS!BO25=\"\",\"\",KELAS!BO25)","v":""},{"$f":"IF(KELAS!BP25=\"\",\"\",KELAS!BP25)","v":""},{"$f":"IF(KELAS!BQ25=\"\",\"\",KELAS!BQ25)","v":""},{"$f":"IF(KELAS!BR25=\"\",\"\",TEXT(KELAS!BR25,\"0,00\"))","v":""},{"$f":"IF(KELAS!BS25=\"\",\"\",KELAS!BS25)","v":""},{"$f":"IF(KELAS!BT25=\"\",\"\",KELAS!BT25)","v":""},{"$f":"IF(KELAS!BU25=\"\",\"\",TEXT(KELAS!BU25,\"0,00\"))","v":""},{"$f":"IF(KELAS!BV25=\"\",\"\",KELAS!BV25)","v":""},{"$f":"IF(KELAS!BW25=\"\",\"\",KELAS!BW25)","v":""},{"$f":"IF(KELAS!BX25=\"\",\"\",KELAS!BX25)","v":""},{"$f":"IF(KELAS!BY25=\"\",\"\",KELAS!BY25)","v":""},{"$f":"IF(KELAS!BZ25=\"\",\"\",KELAS!BZ25)","v":""},{"$f":"IF(KELAS!CA25=\"\",\"\",TEXT(KELAS!CA25,\"0,00\"))","v":""},{"$f":"IF(KELAS!CB25=\"\",\"\",KELAS!CB25)","v":""},{"$f":"IF(KELAS!CC25=\"\",\"\",KELAS!CC25)","v":""},{"$f":"IF(KELAS!CD25=\"\",\"\",TEXT(KELAS!CD25,\"0,00\"))","v":""},{"$f":"IF(KELAS!CE25=\"\",\"\",KELAS!CE25)","v":""},{"$f":"IF(KELAS!CF25=\"\",\"\",KELAS!CF25)","v":""},{"$f":"IF(KELAS!CG25=\"\",\"\",KELAS!CG25)","v":""},{"$f":"IF(KELAS!CH25=\"\",\"\",KELAS!CH25)","v":""},{"$f":"IF(KELAS!CI25=\"\",\"\",KELAS!CI25)","v":""},{"$f":"IF(KELAS!CJ25=\"\",\"\",TEXT(KELAS!CJ25,\"0,00\"))","v":""},{"$f":"IF(KELAS!CK25=\"\",\"\",KELAS!CK25)","v":""},{"$f":"IF(KELAS!CL25=\"\",\"\",KELAS!CL25)","v":""},{"$f":"IF(KELAS!CM25=\"\",\"\",TEXT(KELAS!CM25,\"0,00\"))","v":""},{"$f":"IF(KELAS!CN25=\"\",\"\",KELAS!CN25)","v":""},{"$f":"IF(KELAS!CO25=\"\",\"\",KELAS!CO25)","v":""},{"$f":"IF(KELAS!CP25=\"\",\"\",KELAS!CP25)","v":""},{"$f":"IF(KELAS!CQ25=\"\",\"\",KELAS!CQ25)","v":""},{"$f":"IF(KELAS!CR25=\"\",\"\",KELAS!CR25)","v":""},{"$f":"IF(KELAS!CS25=\"\",\"\",TEXT(KELAS!CS25,\"0,00\"))","v":""},{"$f":"IF(KELAS!CT25=\"\",\"\",KELAS!CT25)","v":""},{"$f":"IF(KELAS!CU25=\"\",\"\",KELAS!CU25)","v":""},{"$f":"IF(KELAS!CV25=\"\",\"\",TEXT(KELAS!CV25,\"0,00\"))","v":""},{"$f":"IF(KELAS!CW25=\"\",\"\",KELAS!CW25)","v":""},{"$f":"IF(KELAS!CX25=\"\",\"\",KELAS!CX25)","v":""},{"$f":"IF(KELAS!CY25=\"\",\"\",KELAS!CY25)","v":""},{"$f":"IF(KELAS!CZ25=\"\",\"\",KELAS!CZ25)","v":""},{"$f":"IF(KELAS!DA25=\"\",\"\",KELAS!DA25)","v":""},{"$f":"IF(KELAS!DB25=\"\",\"\",TEXT(KELAS!DB25,\"0,00\"))","v":""},{"$f":"IF(KELAS!DC25=\"\",\"\",KELAS!DC25)","v":""},{"$f":"IF(KELAS!DD25=\"\",\"\",KELAS!DD25)","v":""},{"$f":"IF(KELAS!DE25=\"\",\"\",TEXT(KELAS!DE25,\"0,00\"))","v":""},{"$f":"IF(KELAS!DF25=\"\",\"\",KELAS!DF25)","v":""},{"$f":"IF(KELAS!DG25=\"\",\"\",KELAS!DG25)","v":""},{"$f":"IF(KELAS!DH25=\"\",\"\",KELAS!DH25)","v":""},{"$f":"IF(KELAS!DI25=\"\",\"\",KELAS!DI25)","v":""},{"$f":"IF(KELAS!DJ25=\"\",\"\",KELAS!DJ25)","v":""},{"$f":"IF(KELAS!DK25=\"\",\"\",KELAS!DK25)","v":2},{"$f":"IF(KELAS!DL25=\"\",\"\",KELAS!DL25)","v":1},{"$f":"IF(KELAS!DM25=\"\",\"\",KELAS!DM25)","v":3},{"$f":"IF(KELAS!DN25=\"\",\"\",KELAS!DN25)","v":2},{"$f":"IF(KELAS!DO25=\"\",\"\",KELAS!DO25)","v":""},{"$f":"IF(KELAS!DP25=\"\",\"\",KELAS!DP25)","v":""},{"$f":"IF(KELAS!DQ25=\"\",\"\",KELAS!DQ25)","v":""},{"$f":"IF(KELAS!DR25=\"\",\"\",KELAS!DR25)","v":""},{"$f":"IF(KELAS!DS25=\"\",\"\",KELAS!DS25)","v":""},{"$f":"IF(KELAS!DT25=\"\",\"\",KELAS!DT25)","v":""},{"$f":"IF(KELAS!DU25=\"\",\"\",KELAS!DU25)","v":""},{"$f":"IF(KELAS!DV25=\"\",\"\",KELAS!DV25)","v":""},{"$f":"IF(KELAS!DW25=\"\",\"\",KELAS!DW25)","v":""},{"$f":"IF(KELAS!DX25=\"\",\"\",KELAS!DX25)","v":""},{"$f":"IF(KELAS!DY25=\"\",\"\",KELAS!DY25)","v":""},{"$f":"IF(KELAS!DZ25=\"\",\"\",KELAS!DZ25)","v":""},{"$f":"IF(KELAS!EA25=\"\",\"\",KELAS!EA25)","v":"2 ( dua )"},{"$f":"IF(KELAS!EB25=\"\",\"\",KELAS!EB25)","v":"1 ( satu )"},{"$f":"IF(KELAS!EC25=\"\",\"\",KELAS!EC25)","v":"3 ( tiga )"},{"$f":"IF(KELAS!ED25=\"\",\"\",KELAS!ED25)","v":"2 ( dua )"},{"$f":"IF(KELAS!EE25=\"\",\"\",KELAS!EE25)","v":""},{"$f":"IF(KELAS!EF25=\"\",\"\",KELAS!EF25)","v":""},{"$f":"IF(KELAS!EG25=\"\",\"\",KELAS!EG25)","v":"Peserta didik menunjukan sikap sungguh-sungguh dalam menerapkan sikap santun, jujur dan kerjasama, namun masih perlu ditingkatkan lagi sikap percaya diri dan ketepatan masuk sekolah"},{"$f":"IF(KELAS!EH25=\"\",\"\",KELAS!EH25)","v":"Dhany Suryanto, S.Pd."},{"$f":"IF(KELAS!EI25=\"\",\"\",KELAS!EI25)","v":"jika punya NIP isikan di sini"},{"$f":"IF(KELAS!EJ25=\"\",\"\",KELAS!EJ25)","v":0},{"$f":"IF(KELAS!EK25=\"\",\"\",KELAS!EK25)","v":0},{"$f":"IF(KELAS!EL25=\"\",\"\",KELAS!EL25)","v":0},{"$f":"IF(KELAS!EM25=\"\",\"\",KELAS!EM25)","v":0},{"$f":"IF(KELAS!EN25=\"\",\"\",KELAS!EN25)","v":0},{"$f":"IF(KELAS!EO25=\"\",\"\",KELAS!EO25)","v":0},{"$f":"IF(KELAS!EP25=\"\",\"\",KELAS!EP25)","v":0},{"$f":"IF(KELAS!EQ25=\"\",\"\",KELAS!EQ25)","v":0},{"$f":"IF(KELAS!ER25=\"\",\"\",KELAS!ER25)","v":0},{"$f":"IF(KELAS!ES25=\"\",\"\",KELAS!ES25)","v":0},{"$f":"IF(KELAS!ET25=\"\",\"\",KELAS!ET25)","v":0}]
[{"$f":"IF(KELAS!A26=\"\",\"\",KELAS!A26)","v":24},{"$f":"IF(KELAS!B26=\"\",\"\",KELAS!B26)","v":12630},{"$f":"IF(KELAS!C26=\"\",\"\",KELAS!C26)","v":"MONA EVIRA DIONTY"},{"$f":"IF(KELAS!D26=\"\",\"\",KELAS!D26)","v":"P"},{"$f":"IF(KELAS!E26=\"\",\"\",KELAS!E26)","v":"7.A"},{"$f":"IF(KELAS!F26=\"\",\"\",KELAS!F26)","v":"Islam"},{"$f":"IF(KELAS!G26=\"\",\"\",KELAS!G26)","v":9981512998},{"$f":"IF(KELAS!H26=\"\",\"\",KELAS!H26)","v":"Jakarta, 30 September 1998"},{"$f":"IF(KELAS!I26=\"\",\"\",KELAS!I26)","v":"Budiyono"},{"$f":"IF(KELAS!J26=\"\",\"\",KELAS!J26)","v":"Pns"},{"$f":"IF(KELAS!K26=\"\",\"\",KELAS!K26)","v":"Meity Kartika"},{"$f":"IF(KELAS!L26=\"\",\"\",KELAS!L26)","v":"Ibu Rumah Tangga"},{"$f":"IF(KELAS!M26=\"\",\"\",KELAS!M26)","v":"Bugangan RT.03 RW.09, Kalianget, Wonosobo"},{"$f":"IF(KELAS!N26=\"\",\"\",KELAS!N26)","v":"SMPN 2 WONOSOBO"},{"$f":"IF(KELAS!O26=\"\",\"\",KELAS!O26)","v":2},{"$f":"IF(KELAS!P26=\"\",\"\",KELAS!P26)","v":"Anak Kandung"},{"$f":"IF(KELAS!Q26=\"\",\"\",TEXT(KELAS!Q26,\"0,00\"))","v":""},{"$f":"IF(KELAS!R26=\"\",\"\",KELAS!R26)","v":""},{"$f":"IF(KELAS!S26=\"\",\"\",KELAS!S26)","v":""},{"$f":"IF(KELAS!T26=\"\",\"\",TEXT(KELAS!T26,\"0,00\"))","v":""},{"$f":"IF(KELAS!U26=\"\",\"\",KELAS!U26)","v":""},{"$f":"IF(KELAS!V26=\"\",\"\",KELAS!V26)","v":""},{"$f":"IF(KELAS!W26=\"\",\"\",KELAS!W26)","v":""},{"$f":"IF(KELAS!X26=\"\",\"\",KELAS!X26)","v":""},{"$f":"IF(KELAS!Y26=\"\",\"\",TEXT(KELAS!Y26,\"0,00\"))","v":""},{"$f":"IF(KELAS!Z26=\"\",\"\",KELAS!Z26)","v":""},{"$f":"IF(KELAS!AA26=\"\",\"\",KELAS!AA26)","v":""},{"$f":"IF(KELAS!AB26=\"\",\"\",TEXT(KELAS!AB26,\"0,00\"))","v":""},{"$f":"IF(KELAS!AC26=\"\",\"\",KELAS!AC26)","v":""},{"$f":"IF(KELAS!AD26=\"\",\"\",KELAS!AD26)","v":""},{"$f":"IF(KELAS!AE26=\"\",\"\",KELAS!AE26)","v":""},{"$f":"IF(KELAS!AF26=\"\",\"\",KELAS!AF26)","v":""},{"$f":"IF(KELAS!AG26=\"\",\"\",KELAS!AG26)","v":""},{"$f":"IF(KELAS!AH26=\"\",\"\",TEXT(KELAS!AH26,\"0,00\"))","v":""},{"$f":"IF(KELAS!AI26=\"\",\"\",KELAS!AI26)","v":""},{"$f":"IF(KELAS!AJ26=\"\",\"\",KELAS!AJ26)","v":""},{"$f":"IF(KELAS!AK26=\"\",\"\",TEXT(KELAS!AK26,\"0,00\"))","v":""},{"$f":"IF(KELAS!AL26=\"\",\"\",KELAS!AL26)","v":""},{"$f":"IF(KELAS!AM26=\"\",\"\",KELAS!AM26)","v":""},{"$f":"IF(KELAS!AN26=\"\",\"\",KELAS!AN26)","v":""},{"$f":"IF(KELAS!AO26=\"\",\"\",KELAS!AO26)","v":""},{"$f":"IF(KELAS!AP26=\"\",\"\",KELAS!AP26)","v":""},{"$f":"IF(KELAS!AQ26=\"\",\"\",TEXT(KELAS!AQ26,\"0,00\"))","v":""},{"$f":"IF(KELAS!AR26=\"\",\"\",KELAS!AR26)","v":""},{"$f":"IF(KELAS!AS26=\"\",\"\",KELAS!AS26)","v":""},{"$f":"IF(KELAS!AT26=\"\",\"\",TEXT(KELAS!AT26,\"0,00\"))","v":""},{"$f":"IF(KELAS!AU26=\"\",\"\",KELAS!AU26)","v":""},{"$f":"IF(KELAS!AV26=\"\",\"\",KELAS!AV26)","v":""},{"$f":"IF(KELAS!AW26=\"\",\"\",KELAS!AW26)","v":""},{"$f":"IF(KELAS!AX26=\"\",\"\",KELAS!AX26)","v":""},{"$f":"IF(KELAS!AY26=\"\",\"\",KELAS!AY26)","v":""},{"$f":"IF(KELAS!AZ26=\"\",\"\",TEXT(KELAS!AZ26,\"0,00\"))","v":""},{"$f":"IF(KELAS!BA26=\"\",\"\",KELAS!BA26)","v":""},{"$f":"IF(KELAS!BB26=\"\",\"\",KELAS!BB26)","v":""},{"$f":"IF(KELAS!BC26=\"\",\"\",TEXT(KELAS!BC26,\"0,00\"))","v":""},{"$f":"IF(KELAS!BD26=\"\",\"\",KELAS!BD26)","v":""},{"$f":"IF(KELAS!BE26=\"\",\"\",KELAS!BE26)","v":""},{"$f":"IF(KELAS!BF26=\"\",\"\",KELAS!BF26)","v":""},{"$f":"IF(KELAS!BG26=\"\",\"\",KELAS!BG26)","v":""},{"$f":"IF(KELAS!BH26=\"\",\"\",KELAS!BH26)","v":""},{"$f":"IF(KELAS!BI26=\"\",\"\",TEXT(KELAS!BI26,\"0,00\"))","v":""},{"$f":"IF(KELAS!BJ26=\"\",\"\",KELAS!BJ26)","v":""},{"$f":"IF(KELAS!BK26=\"\",\"\",KELAS!BK26)","v":""},{"$f":"IF(KELAS!BL26=\"\",\"\",TEXT(KELAS!BL26,\"0,00\"))","v":""},{"$f":"IF(KELAS!BM26=\"\",\"\",KELAS!BM26)","v":""},{"$f":"IF(KELAS!BN26=\"\",\"\",KELAS!BN26)","v":""},{"$f":"IF(KELAS!BO26=\"\",\"\",KELAS!BO26)","v":""},{"$f":"IF(KELAS!BP26=\"\",\"\",KELAS!BP26)","v":""},{"$f":"IF(KELAS!BQ26=\"\",\"\",KELAS!BQ26)","v":""},{"$f":"IF(KELAS!BR26=\"\",\"\",TEXT(KELAS!BR26,\"0,00\"))","v":""},{"$f":"IF(KELAS!BS26=\"\",\"\",KELAS!BS26)","v":""},{"$f":"IF(KELAS!BT26=\"\",\"\",KELAS!BT26)","v":""},{"$f":"IF(KELAS!BU26=\"\",\"\",TEXT(KELAS!BU26,\"0,00\"))","v":""},{"$f":"IF(KELAS!BV26=\"\",\"\",KELAS!BV26)","v":""},{"$f":"IF(KELAS!BW26=\"\",\"\",KELAS!BW26)","v":""},{"$f":"IF(KELAS!BX26=\"\",\"\",KELAS!BX26)","v":""},{"$f":"IF(KELAS!BY26=\"\",\"\",KELAS!BY26)","v":""},{"$f":"IF(KELAS!BZ26=\"\",\"\",KELAS!BZ26)","v":""},{"$f":"IF(KELAS!CA26=\"\",\"\",TEXT(KELAS!CA26,\"0,00\"))","v":""},{"$f":"IF(KELAS!CB26=\"\",\"\",KELAS!CB26)","v":""},{"$f":"IF(KELAS!CC26=\"\",\"\",KELAS!CC26)","v":""},{"$f":"IF(KELAS!CD26=\"\",\"\",TEXT(KELAS!CD26,\"0,00\"))","v":""},{"$f":"IF(KELAS!CE26=\"\",\"\",KELAS!CE26)","v":""},{"$f":"IF(KELAS!CF26=\"\",\"\",KELAS!CF26)","v":""},{"$f":"IF(KELAS!CG26=\"\",\"\",KELAS!CG26)","v":""},{"$f":"IF(KELAS!CH26=\"\",\"\",KELAS!CH26)","v":""},{"$f":"IF(KELAS!CI26=\"\",\"\",KELAS!CI26)","v":""},{"$f":"IF(KELAS!CJ26=\"\",\"\",TEXT(KELAS!CJ26,\"0,00\"))","v":""},{"$f":"IF(KELAS!CK26=\"\",\"\",KELAS!CK26)","v":""},{"$f":"IF(KELAS!CL26=\"\",\"\",KELAS!CL26)","v":""},{"$f":"IF(KELAS!CM26=\"\",\"\",TEXT(KELAS!CM26,\"0,00\"))","v":""},{"$f":"IF(KELAS!CN26=\"\",\"\",KELAS!CN26)","v":""},{"$f":"IF(KELAS!CO26=\"\",\"\",KELAS!CO26)","v":""},{"$f":"IF(KELAS!CP26=\"\",\"\",KELAS!CP26)","v":""},{"$f":"IF(KELAS!CQ26=\"\",\"\",KELAS!CQ26)","v":""},{"$f":"IF(KELAS!CR26=\"\",\"\",KELAS!CR26)","v":""},{"$f":"IF(KELAS!CS26=\"\",\"\",TEXT(KELAS!CS26,\"0,00\"))","v":""},{"$f":"IF(KELAS!CT26=\"\",\"\",KELAS!CT26)","v":""},{"$f":"IF(KELAS!CU26=\"\",\"\",KELAS!CU26)","v":""},{"$f":"IF(KELAS!CV26=\"\",\"\",TEXT(KELAS!CV26,\"0,00\"))","v":""},{"$f":"IF(KELAS!CW26=\"\",\"\",KELAS!CW26)","v":""},{"$f":"IF(KELAS!CX26=\"\",\"\",KELAS!CX26)","v":""},{"$f":"IF(KELAS!CY26=\"\",\"\",KELAS!CY26)","v":""},{"$f":"IF(KELAS!CZ26=\"\",\"\",KELAS!CZ26)","v":""},{"$f":"IF(KELAS!DA26=\"\",\"\",KELAS!DA26)","v":""},{"$f":"IF(KELAS!DB26=\"\",\"\",TEXT(KELAS!DB26,\"0,00\"))","v":""},{"$f":"IF(KELAS!DC26=\"\",\"\",KELAS!DC26)","v":""},{"$f":"IF(KELAS!DD26=\"\",\"\",KELAS!DD26)","v":""},{"$f":"IF(KELAS!DE26=\"\",\"\",TEXT(KELAS!DE26,\"0,00\"))","v":""},{"$f":"IF(KELAS!DF26=\"\",\"\",KELAS!DF26)","v":""},{"$f":"IF(KELAS!DG26=\"\",\"\",KELAS!DG26)","v":""},{"$f":"IF(KELAS!DH26=\"\",\"\",KELAS!DH26)","v":""},{"$f":"IF(KELAS!DI26=\"\",\"\",KELAS!DI26)","v":""},{"$f":"IF(KELAS!DJ26=\"\",\"\",KELAS!DJ26)","v":""},{"$f":"IF(KELAS!DK26=\"\",\"\",KELAS!DK26)","v":3},{"$f":"IF(KELAS!DL26=\"\",\"\",KELAS!DL26)","v":3},{"$f":"IF(KELAS!DM26=\"\",\"\",KELAS!DM26)","v":3},{"$f":"IF(KELAS!DN26=\"\",\"\",KELAS!DN26)","v":3},{"$f":"IF(KELAS!DO26=\"\",\"\",KELAS!DO26)","v":""},{"$f":"IF(KELAS!DP26=\"\",\"\",KELAS!DP26)","v":""},{"$f":"IF(KELAS!DQ26=\"\",\"\",KELAS!DQ26)","v":""},{"$f":"IF(KELAS!DR26=\"\",\"\",KELAS!DR26)","v":""},{"$f":"IF(KELAS!DS26=\"\",\"\",KELAS!DS26)","v":""},{"$f":"IF(KELAS!DT26=\"\",\"\",KELAS!DT26)","v":""},{"$f":"IF(KELAS!DU26=\"\",\"\",KELAS!DU26)","v":""},{"$f":"IF(KELAS!DV26=\"\",\"\",KELAS!DV26)","v":""},{"$f":"IF(KELAS!DW26=\"\",\"\",KELAS!DW26)","v":""},{"$f":"IF(KELAS!DX26=\"\",\"\",KELAS!DX26)","v":""},{"$f":"IF(KELAS!DY26=\"\",\"\",KELAS!DY26)","v":""},{"$f":"IF(KELAS!DZ26=\"\",\"\",KELAS!DZ26)","v":""},{"$f":"IF(KELAS!EA26=\"\",\"\",KELAS!EA26)","v":"3 ( tiga )"},{"$f":"IF(KELAS!EB26=\"\",\"\",KELAS!EB26)","v":"3 ( tiga )"},{"$f":"IF(KELAS!EC26=\"\",\"\",KELAS!EC26)","v":"3 ( tiga )"},{"$f":"IF(KELAS!ED26=\"\",\"\",KELAS!ED26)","v":"3 ( tiga )"},{"$f":"IF(KELAS!EE26=\"\",\"\",KELAS!EE26)","v":""},{"$f":"IF(KELAS!EF26=\"\",\"\",KELAS!EF26)","v":""},{"$f":"IF(KELAS!EG26=\"\",\"\",KELAS!EG26)","v":"Peserta didik menunjukan sikap sungguh-sungguh dalam menerapkan sikap santun, jujur dan kerjasama, namun masih perlu ditingkatkan lagi sikap percaya diri dan ketepatan masuk sekolah"},{"$f":"IF(KELAS!EH26=\"\",\"\",KELAS!EH26)","v":"Dhany Suryanto, S.Pd."},{"$f":"IF(KELAS!EI26=\"\",\"\",KELAS!EI26)","v":"jika punya NIP isikan di sini"},{"$f":"IF(KELAS!EJ26=\"\",\"\",KELAS!EJ26)","v":0},{"$f":"IF(KELAS!EK26=\"\",\"\",KELAS!EK26)","v":0},{"$f":"IF(KELAS!EL26=\"\",\"\",KELAS!EL26)","v":0},{"$f":"IF(KELAS!EM26=\"\",\"\",KELAS!EM26)","v":0},{"$f":"IF(KELAS!EN26=\"\",\"\",KELAS!EN26)","v":0},{"$f":"IF(KELAS!EO26=\"\",\"\",KELAS!EO26)","v":0},{"$f":"IF(KELAS!EP26=\"\",\"\",KELAS!EP26)","v":0},{"$f":"IF(KELAS!EQ26=\"\",\"\",KELAS!EQ26)","v":0},{"$f":"IF(KELAS!ER26=\"\",\"\",KELAS!ER26)","v":0},{"$f":"IF(KELAS!ES26=\"\",\"\",KELAS!ES26)","v":0},{"$f":"IF(KELAS!ET26=\"\",\"\",KELAS!ET26)","v":0}]
[{"$f":"IF(KELAS!A27=\"\",\"\",KELAS!A27)","v":25},{"$f":"IF(KELAS!B27=\"\",\"\",KELAS!B27)","v":12634},{"$f":"IF(KELAS!C27=\"\",\"\",KELAS!C27)","v":"MUHAMAD FATLIHASAN"},{"$f":"IF(KELAS!D27=\"\",\"\",KELAS!D27)","v":"L"},{"$f":"IF(KELAS!E27=\"\",\"\",KELAS!E27)","v":"7.A"},{"$f":"IF(KELAS!F27=\"\",\"\",KELAS!F27)","v":"Islam"},{"$f":"IF(KELAS!G27=\"\",\"\",KELAS!G27)","v":9981519164},{"$f":"IF(KELAS!H27=\"\",\"\",KELAS!H27)","v":"Wonosobo, 10 Juli 1998"},{"$f":"IF(KELAS!I27=\"\",\"\",KELAS!I27)","v":"Ahmad Saefudin"},{"$f":"IF(KELAS!J27=\"\",\"\",KELAS!J27)","v":"Petani"},{"$f":"IF(KELAS!K27=\"\",\"\",KELAS!K27)","v":"Chusniyah"},{"$f":"IF(KELAS!L27=\"\",\"\",KELAS!L27)","v":"Ibu Rumah Tangga"},{"$f":"IF(KELAS!M27=\"\",\"\",KELAS!M27)","v":"Luwihan RT.01 RW.06, Kembaran, Kalikajar, Wsb"},{"$f":"IF(KELAS!N27=\"\",\"\",KELAS!N27)","v":"SMPN 3 KALIKAJAR"},{"$f":"IF(KELAS!O27=\"\",\"\",KELAS!O27)","v":2},{"$f":"IF(KELAS!P27=\"\",\"\",KELAS!P27)","v":"Anak Kandung"},{"$f":"IF(KELAS!Q27=\"\",\"\",TEXT(KELAS!Q27,\"0,00\"))","v":""},{"$f":"IF(KELAS!R27=\"\",\"\",KELAS!R27)","v":""},{"$f":"IF(KELAS!S27=\"\",\"\",KELAS!S27)","v":""},{"$f":"IF(KELAS!T27=\"\",\"\",TEXT(KELAS!T27,\"0,00\"))","v":""},{"$f":"IF(KELAS!U27=\"\",\"\",KELAS!U27)","v":""},{"$f":"IF(KELAS!V27=\"\",\"\",KELAS!V27)","v":""},{"$f":"IF(KELAS!W27=\"\",\"\",KELAS!W27)","v":""},{"$f":"IF(KELAS!X27=\"\",\"\",KELAS!X27)","v":""},{"$f":"IF(KELAS!Y27=\"\",\"\",TEXT(KELAS!Y27,\"0,00\"))","v":""},{"$f":"IF(KELAS!Z27=\"\",\"\",KELAS!Z27)","v":""},{"$f":"IF(KELAS!AA27=\"\",\"\",KELAS!AA27)","v":""},{"$f":"IF(KELAS!AB27=\"\",\"\",TEXT(KELAS!AB27,\"0,00\"))","v":""},{"$f":"IF(KELAS!AC27=\"\",\"\",KELAS!AC27)","v":""},{"$f":"IF(KELAS!AD27=\"\",\"\",KELAS!AD27)","v":""},{"$f":"IF(KELAS!AE27=\"\",\"\",KELAS!AE27)","v":""},{"$f":"IF(KELAS!AF27=\"\",\"\",KELAS!AF27)","v":""},{"$f":"IF(KELAS!AG27=\"\",\"\",KELAS!AG27)","v":""},{"$f":"IF(KELAS!AH27=\"\",\"\",TEXT(KELAS!AH27,\"0,00\"))","v":""},{"$f":"IF(KELAS!AI27=\"\",\"\",KELAS!AI27)","v":""},{"$f":"IF(KELAS!AJ27=\"\",\"\",KELAS!AJ27)","v":""},{"$f":"IF(KELAS!AK27=\"\",\"\",TEXT(KELAS!AK27,\"0,00\"))","v":""},{"$f":"IF(KELAS!AL27=\"\",\"\",KELAS!AL27)","v":""},{"$f":"IF(KELAS!AM27=\"\",\"\",KELAS!AM27)","v":""},{"$f":"IF(KELAS!AN27=\"\",\"\",KELAS!AN27)","v":""},{"$f":"IF(KELAS!AO27=\"\",\"\",KELAS!AO27)","v":""},{"$f":"IF(KELAS!AP27=\"\",\"\",KELAS!AP27)","v":""},{"$f":"IF(KELAS!AQ27=\"\",\"\",TEXT(KELAS!AQ27,\"0,00\"))","v":""},{"$f":"IF(KELAS!AR27=\"\",\"\",KELAS!AR27)","v":""},{"$f":"IF(KELAS!AS27=\"\",\"\",KELAS!AS27)","v":""},{"$f":"IF(KELAS!AT27=\"\",\"\",TEXT(KELAS!AT27,\"0,00\"))","v":""},{"$f":"IF(KELAS!AU27=\"\",\"\",KELAS!AU27)","v":""},{"$f":"IF(KELAS!AV27=\"\",\"\",KELAS!AV27)","v":""},{"$f":"IF(KELAS!AW27=\"\",\"\",KELAS!AW27)","v":""},{"$f":"IF(KELAS!AX27=\"\",\"\",KELAS!AX27)","v":""},{"$f":"IF(KELAS!AY27=\"\",\"\",KELAS!AY27)","v":""},{"$f":"IF(KELAS!AZ27=\"\",\"\",TEXT(KELAS!AZ27,\"0,00\"))","v":""},{"$f":"IF(KELAS!BA27=\"\",\"\",KELAS!BA27)","v":""},{"$f":"IF(KELAS!BB27=\"\",\"\",KELAS!BB27)","v":""},{"$f":"IF(KELAS!BC27=\"\",\"\",TEXT(KELAS!BC27,\"0,00\"))","v":""},{"$f":"IF(KELAS!BD27=\"\",\"\",KELAS!BD27)","v":""},{"$f":"IF(KELAS!BE27=\"\",\"\",KELAS!BE27)","v":""},{"$f":"IF(KELAS!BF27=\"\",\"\",KELAS!BF27)","v":""},{"$f":"IF(KELAS!BG27=\"\",\"\",KELAS!BG27)","v":""},{"$f":"IF(KELAS!BH27=\"\",\"\",KELAS!BH27)","v":""},{"$f":"IF(KELAS!BI27=\"\",\"\",TEXT(KELAS!BI27,\"0,00\"))","v":""},{"$f":"IF(KELAS!BJ27=\"\",\"\",KELAS!BJ27)","v":""},{"$f":"IF(KELAS!BK27=\"\",\"\",KELAS!BK27)","v":""},{"$f":"IF(KELAS!BL27=\"\",\"\",TEXT(KELAS!BL27,\"0,00\"))","v":""},{"$f":"IF(KELAS!BM27=\"\",\"\",KELAS!BM27)","v":""},{"$f":"IF(KELAS!BN27=\"\",\"\",KELAS!BN27)","v":""},{"$f":"IF(KELAS!BO27=\"\",\"\",KELAS!BO27)","v":""},{"$f":"IF(KELAS!BP27=\"\",\"\",KELAS!BP27)","v":""},{"$f":"IF(KELAS!BQ27=\"\",\"\",KELAS!BQ27)","v":""},{"$f":"IF(KELAS!BR27=\"\",\"\",TEXT(KELAS!BR27,\"0,00\"))","v":""},{"$f":"IF(KELAS!BS27=\"\",\"\",KELAS!BS27)","v":""},{"$f":"IF(KELAS!BT27=\"\",\"\",KELAS!BT27)","v":""},{"$f":"IF(KELAS!BU27=\"\",\"\",TEXT(KELAS!BU27,\"0,00\"))","v":""},{"$f":"IF(KELAS!BV27=\"\",\"\",KELAS!BV27)","v":""},{"$f":"IF(KELAS!BW27=\"\",\"\",KELAS!BW27)","v":""},{"$f":"IF(KELAS!BX27=\"\",\"\",KELAS!BX27)","v":""},{"$f":"IF(KELAS!BY27=\"\",\"\",KELAS!BY27)","v":""},{"$f":"IF(KELAS!BZ27=\"\",\"\",KELAS!BZ27)","v":""},{"$f":"IF(KELAS!CA27=\"\",\"\",TEXT(KELAS!CA27,\"0,00\"))","v":""},{"$f":"IF(KELAS!CB27=\"\",\"\",KELAS!CB27)","v":""},{"$f":"IF(KELAS!CC27=\"\",\"\",KELAS!CC27)","v":""},{"$f":"IF(KELAS!CD27=\"\",\"\",TEXT(KELAS!CD27,\"0,00\"))","v":""},{"$f":"IF(KELAS!CE27=\"\",\"\",KELAS!CE27)","v":""},{"$f":"IF(KELAS!CF27=\"\",\"\",KELAS!CF27)","v":""},{"$f":"IF(KELAS!CG27=\"\",\"\",KELAS!CG27)","v":""},{"$f":"IF(KELAS!CH27=\"\",\"\",KELAS!CH27)","v":""},{"$f":"IF(KELAS!CI27=\"\",\"\",KELAS!CI27)","v":""},{"$f":"IF(KELAS!CJ27=\"\",\"\",TEXT(KELAS!CJ27,\"0,00\"))","v":""},{"$f":"IF(KELAS!CK27=\"\",\"\",KELAS!CK27)","v":""},{"$f":"IF(KELAS!CL27=\"\",\"\",KELAS!CL27)","v":""},{"$f":"IF(KELAS!CM27=\"\",\"\",TEXT(KELAS!CM27,\"0,00\"))","v":""},{"$f":"IF(KELAS!CN27=\"\",\"\",KELAS!CN27)","v":""},{"$f":"IF(KELAS!CO27=\"\",\"\",KELAS!CO27)","v":""},{"$f":"IF(KELAS!CP27=\"\",\"\",KELAS!CP27)","v":""},{"$f":"IF(KELAS!CQ27=\"\",\"\",KELAS!CQ27)","v":""},{"$f":"IF(KELAS!CR27=\"\",\"\",KELAS!CR27)","v":""},{"$f":"IF(KELAS!CS27=\"\",\"\",TEXT(KELAS!CS27,\"0,00\"))","v":""},{"$f":"IF(KELAS!CT27=\"\",\"\",KELAS!CT27)","v":""},{"$f":"IF(KELAS!CU27=\"\",\"\",KELAS!CU27)","v":""},{"$f":"IF(KELAS!CV27=\"\",\"\",TEXT(KELAS!CV27,\"0,00\"))","v":""},{"$f":"IF(KELAS!CW27=\"\",\"\",KELAS!CW27)","v":""},{"$f":"IF(KELAS!CX27=\"\",\"\",KELAS!CX27)","v":""},{"$f":"IF(KELAS!CY27=\"\",\"\",KELAS!CY27)","v":""},{"$f":"IF(KELAS!CZ27=\"\",\"\",KELAS!CZ27)","v":""},{"$f":"IF(KELAS!DA27=\"\",\"\",KELAS!DA27)","v":""},{"$f":"IF(KELAS!DB27=\"\",\"\",TEXT(KELAS!DB27,\"0,00\"))","v":""},{"$f":"IF(KELAS!DC27=\"\",\"\",KELAS!DC27)","v":""},{"$f":"IF(KELAS!DD27=\"\",\"\",KELAS!DD27)","v":""},{"$f":"IF(KELAS!DE27=\"\",\"\",TEXT(KELAS!DE27,\"0,00\"))","v":""},{"$f":"IF(KELAS!DF27=\"\",\"\",KELAS!DF27)","v":""},{"$f":"IF(KELAS!DG27=\"\",\"\",KELAS!DG27)","v":""},{"$f":"IF(KELAS!DH27=\"\",\"\",KELAS!DH27)","v":""},{"$f":"IF(KELAS!DI27=\"\",\"\",KELAS!DI27)","v":""},{"$f":"IF(KELAS!DJ27=\"\",\"\",KELAS!DJ27)","v":""},{"$f":"IF(KELAS!DK27=\"\",\"\",KELAS!DK27)","v":2},{"$f":"IF(KELAS!DL27=\"\",\"\",KELAS!DL27)","v":2},{"$f":"IF(KELAS!DM27=\"\",\"\",KELAS!DM27)","v":1},{"$f":"IF(KELAS!DN27=\"\",\"\",KELAS!DN27)","v":3},{"$f":"IF(KELAS!DO27=\"\",\"\",KELAS!DO27)","v":""},{"$f":"IF(KELAS!DP27=\"\",\"\",KELAS!DP27)","v":""},{"$f":"IF(KELAS!DQ27=\"\",\"\",KELAS!DQ27)","v":""},{"$f":"IF(KELAS!DR27=\"\",\"\",KELAS!DR27)","v":""},{"$f":"IF(KELAS!DS27=\"\",\"\",KELAS!DS27)","v":""},{"$f":"IF(KELAS!DT27=\"\",\"\",KELAS!DT27)","v":""},{"$f":"IF(KELAS!DU27=\"\",\"\",KELAS!DU27)","v":""},{"$f":"IF(KELAS!DV27=\"\",\"\",KELAS!DV27)","v":""},{"$f":"IF(KELAS!DW27=\"\",\"\",KELAS!DW27)","v":""},{"$f":"IF(KELAS!DX27=\"\",\"\",KELAS!DX27)","v":""},{"$f":"IF(KELAS!DY27=\"\",\"\",KELAS!DY27)","v":""},{"$f":"IF(KELAS!DZ27=\"\",\"\",KELAS!DZ27)","v":""},{"$f":"IF(KELAS!EA27=\"\",\"\",KELAS!EA27)","v":"2 ( dua )"},{"$f":"IF(KELAS!EB27=\"\",\"\",KELAS!EB27)","v":"2 ( dua )"},{"$f":"IF(KELAS!EC27=\"\",\"\",KELAS!EC27)","v":"1 ( satu )"},{"$f":"IF(KELAS!ED27=\"\",\"\",KELAS!ED27)","v":"3 ( tiga )"},{"$f":"IF(KELAS!EE27=\"\",\"\",KELAS!EE27)","v":""},{"$f":"IF(KELAS!EF27=\"\",\"\",KELAS!EF27)","v":""},{"$f":"IF(KELAS!EG27=\"\",\"\",KELAS!EG27)","v":"Peserta didik menunjukan sikap sungguh-sungguh dalam menerapkan sikap santun, jujur dan kerjasama, namun masih perlu ditingkatkan lagi sikap percaya diri dan ketepatan masuk sekolah"},{"$f":"IF(KELAS!EH27=\"\",\"\",KELAS!EH27)","v":"Dhany Suryanto, S.Pd."},{"$f":"IF(KELAS!EI27=\"\",\"\",KELAS!EI27)","v":"jika punya NIP isikan di sini"},{"$f":"IF(KELAS!EJ27=\"\",\"\",KELAS!EJ27)","v":0},{"$f":"IF(KELAS!EK27=\"\",\"\",KELAS!EK27)","v":0},{"$f":"IF(KELAS!EL27=\"\",\"\",KELAS!EL27)","v":0},{"$f":"IF(KELAS!EM27=\"\",\"\",KELAS!EM27)","v":0},{"$f":"IF(KELAS!EN27=\"\",\"\",KELAS!EN27)","v":0},{"$f":"IF(KELAS!EO27=\"\",\"\",KELAS!EO27)","v":0},{"$f":"IF(KELAS!EP27=\"\",\"\",KELAS!EP27)","v":0},{"$f":"IF(KELAS!EQ27=\"\",\"\",KELAS!EQ27)","v":0},{"$f":"IF(KELAS!ER27=\"\",\"\",KELAS!ER27)","v":0},{"$f":"IF(KELAS!ES27=\"\",\"\",KELAS!ES27)","v":0},{"$f":"IF(KELAS!ET27=\"\",\"\",KELAS!ET27)","v":0}]
[{"$f":"IF(KELAS!A28=\"\",\"\",KELAS!A28)","v":26},{"$f":"IF(KELAS!B28=\"\",\"\",KELAS!B28)","v":12651},{"$f":"IF(KELAS!C28=\"\",\"\",KELAS!C28)","v":"NOVIASARI"},{"$f":"IF(KELAS!D28=\"\",\"\",KELAS!D28)","v":"P"},{"$f":"IF(KELAS!E28=\"\",\"\",KELAS!E28)","v":"7.A"},{"$f":"IF(KELAS!F28=\"\",\"\",KELAS!F28)","v":"Islam"},{"$f":"IF(KELAS!G28=\"\",\"\",KELAS!G28)","v":9980677479},{"$f":"IF(KELAS!H28=\"\",\"\",KELAS!H28)","v":"Wonosobo, 28 Nopember 1998"},{"$f":"IF(KELAS!I28=\"\",\"\",KELAS!I28)","v":"Untung"},{"$f":"IF(KELAS!J28=\"\",\"\",KELAS!J28)","v":"Wiraswasta"},{"$f":"IF(KELAS!K28=\"\",\"\",KELAS!K28)","v":"Bawon"},{"$f":"IF(KELAS!L28=\"\",\"\",KELAS!L28)","v":"Ibu Rumah Tangga"},{"$f":"IF(KELAS!M28=\"\",\"\",KELAS!M28)","v":"Patran RT.01 RW.01, Tanjunganom, Kepil, Wsb"},{"$f":"IF(KELAS!N28=\"\",\"\",KELAS!N28)","v":"MTS ASSALAM"},{"$f":"IF(KELAS!O28=\"\",\"\",KELAS!O28)","v":1},{"$f":"IF(KELAS!P28=\"\",\"\",KELAS!P28)","v":"Anak Kandung"},{"$f":"IF(KELAS!Q28=\"\",\"\",TEXT(KELAS!Q28,\"0,00\"))","v":""},{"$f":"IF(KELAS!R28=\"\",\"\",KELAS!R28)","v":""},{"$f":"IF(KELAS!S28=\"\",\"\",KELAS!S28)","v":""},{"$f":"IF(KELAS!T28=\"\",\"\",TEXT(KELAS!T28,\"0,00\"))","v":""},{"$f":"IF(KELAS!U28=\"\",\"\",KELAS!U28)","v":""},{"$f":"IF(KELAS!V28=\"\",\"\",KELAS!V28)","v":""},{"$f":"IF(KELAS!W28=\"\",\"\",KELAS!W28)","v":""},{"$f":"IF(KELAS!X28=\"\",\"\",KELAS!X28)","v":""},{"$f":"IF(KELAS!Y28=\"\",\"\",TEXT(KELAS!Y28,\"0,00\"))","v":""},{"$f":"IF(KELAS!Z28=\"\",\"\",KELAS!Z28)","v":""},{"$f":"IF(KELAS!AA28=\"\",\"\",KELAS!AA28)","v":""},{"$f":"IF(KELAS!AB28=\"\",\"\",TEXT(KELAS!AB28,\"0,00\"))","v":""},{"$f":"IF(KELAS!AC28=\"\",\"\",KELAS!AC28)","v":""},{"$f":"IF(KELAS!AD28=\"\",\"\",KELAS!AD28)","v":""},{"$f":"IF(KELAS!AE28=\"\",\"\",KELAS!AE28)","v":""},{"$f":"IF(KELAS!AF28=\"\",\"\",KELAS!AF28)","v":""},{"$f":"IF(KELAS!AG28=\"\",\"\",KELAS!AG28)","v":""},{"$f":"IF(KELAS!AH28=\"\",\"\",TEXT(KELAS!AH28,\"0,00\"))","v":""},{"$f":"IF(KELAS!AI28=\"\",\"\",KELAS!AI28)","v":""},{"$f":"IF(KELAS!AJ28=\"\",\"\",KELAS!AJ28)","v":""},{"$f":"IF(KELAS!AK28=\"\",\"\",TEXT(KELAS!AK28,\"0,00\"))","v":""},{"$f":"IF(KELAS!AL28=\"\",\"\",KELAS!AL28)","v":""},{"$f":"IF(KELAS!AM28=\"\",\"\",KELAS!AM28)","v":""},{"$f":"IF(KELAS!AN28=\"\",\"\",KELAS!AN28)","v":""},{"$f":"IF(KELAS!AO28=\"\",\"\",KELAS!AO28)","v":""},{"$f":"IF(KELAS!AP28=\"\",\"\",KELAS!AP28)","v":""},{"$f":"IF(KELAS!AQ28=\"\",\"\",TEXT(KELAS!AQ28,\"0,00\"))","v":""},{"$f":"IF(KELAS!AR28=\"\",\"\",KELAS!AR28)","v":""},{"$f":"IF(KELAS!AS28=\"\",\"\",KELAS!AS28)","v":""},{"$f":"IF(KELAS!AT28=\"\",\"\",TEXT(KELAS!AT28,\"0,00\"))","v":""},{"$f":"IF(KELAS!AU28=\"\",\"\",KELAS!AU28)","v":""},{"$f":"IF(KELAS!AV28=\"\",\"\",KELAS!AV28)","v":""},{"$f":"IF(KELAS!AW28=\"\",\"\",KELAS!AW28)","v":""},{"$f":"IF(KELAS!AX28=\"\",\"\",KELAS!AX28)","v":""},{"$f":"IF(KELAS!AY28=\"\",\"\",KELAS!AY28)","v":""},{"$f":"IF(KELAS!AZ28=\"\",\"\",TEXT(KELAS!AZ28,\"0,00\"))","v":""},{"$f":"IF(KELAS!BA28=\"\",\"\",KELAS!BA28)","v":""},{"$f":"IF(KELAS!BB28=\"\",\"\",KELAS!BB28)","v":""},{"$f":"IF(KELAS!BC28=\"\",\"\",TEXT(KELAS!BC28,\"0,00\"))","v":""},{"$f":"IF(KELAS!BD28=\"\",\"\",KELAS!BD28)","v":""},{"$f":"IF(KELAS!BE28=\"\",\"\",KELAS!BE28)","v":""},{"$f":"IF(KELAS!BF28=\"\",\"\",KELAS!BF28)","v":""},{"$f":"IF(KELAS!BG28=\"\",\"\",KELAS!BG28)","v":""},{"$f":"IF(KELAS!BH28=\"\",\"\",KELAS!BH28)","v":""},{"$f":"IF(KELAS!BI28=\"\",\"\",TEXT(KELAS!BI28,\"0,00\"))","v":""},{"$f":"IF(KELAS!BJ28=\"\",\"\",KELAS!BJ28)","v":""},{"$f":"IF(KELAS!BK28=\"\",\"\",KELAS!BK28)","v":""},{"$f":"IF(KELAS!BL28=\"\",\"\",TEXT(KELAS!BL28,\"0,00\"))","v":""},{"$f":"IF(KELAS!BM28=\"\",\"\",KELAS!BM28)","v":""},{"$f":"IF(KELAS!BN28=\"\",\"\",KELAS!BN28)","v":""},{"$f":"IF(KELAS!BO28=\"\",\"\",KELAS!BO28)","v":""},{"$f":"IF(KELAS!BP28=\"\",\"\",KELAS!BP28)","v":""},{"$f":"IF(KELAS!BQ28=\"\",\"\",KELAS!BQ28)","v":""},{"$f":"IF(KELAS!BR28=\"\",\"\",TEXT(KELAS!BR28,\"0,00\"))","v":""},{"$f":"IF(KELAS!BS28=\"\",\"\",KELAS!BS28)","v":""},{"$f":"IF(KELAS!BT28=\"\",\"\",KELAS!BT28)","v":""},{"$f":"IF(KELAS!BU28=\"\",\"\",TEXT(KELAS!BU28,\"0,00\"))","v":""},{"$f":"IF(KELAS!BV28=\"\",\"\",KELAS!BV28)","v":""},{"$f":"IF(KELAS!BW28=\"\",\"\",KELAS!BW28)","v":""},{"$f":"IF(KELAS!BX28=\"\",\"\",KELAS!BX28)","v":""},{"$f":"IF(KELAS!BY28=\"\",\"\",KELAS!BY28)","v":""},{"$f":"IF(KELAS!BZ28=\"\",\"\",KELAS!BZ28)","v":""},{"$f":"IF(KELAS!CA28=\"\",\"\",TEXT(KELAS!CA28,\"0,00\"))","v":""},{"$f":"IF(KELAS!CB28=\"\",\"\",KELAS!CB28)","v":""},{"$f":"IF(KELAS!CC28=\"\",\"\",KELAS!CC28)","v":""},{"$f":"IF(KELAS!CD28=\"\",\"\",TEXT(KELAS!CD28,\"0,00\"))","v":""},{"$f":"IF(KELAS!CE28=\"\",\"\",KELAS!CE28)","v":""},{"$f":"IF(KELAS!CF28=\"\",\"\",KELAS!CF28)","v":""},{"$f":"IF(KELAS!CG28=\"\",\"\",KELAS!CG28)","v":""},{"$f":"IF(KELAS!CH28=\"\",\"\",KELAS!CH28)","v":""},{"$f":"IF(KELAS!CI28=\"\",\"\",KELAS!CI28)","v":""},{"$f":"IF(KELAS!CJ28=\"\",\"\",TEXT(KELAS!CJ28,\"0,00\"))","v":""},{"$f":"IF(KELAS!CK28=\"\",\"\",KELAS!CK28)","v":""},{"$f":"IF(KELAS!CL28=\"\",\"\",KELAS!CL28)","v":""},{"$f":"IF(KELAS!CM28=\"\",\"\",TEXT(KELAS!CM28,\"0,00\"))","v":""},{"$f":"IF(KELAS!CN28=\"\",\"\",KELAS!CN28)","v":""},{"$f":"IF(KELAS!CO28=\"\",\"\",KELAS!CO28)","v":""},{"$f":"IF(KELAS!CP28=\"\",\"\",KELAS!CP28)","v":""},{"$f":"IF(KELAS!CQ28=\"\",\"\",KELAS!CQ28)","v":""},{"$f":"IF(KELAS!CR28=\"\",\"\",KELAS!CR28)","v":""},{"$f":"IF(KELAS!CS28=\"\",\"\",TEXT(KELAS!CS28,\"0,00\"))","v":""},{"$f":"IF(KELAS!CT28=\"\",\"\",KELAS!CT28)","v":""},{"$f":"IF(KELAS!CU28=\"\",\"\",KELAS!CU28)","v":""},{"$f":"IF(KELAS!CV28=\"\",\"\",TEXT(KELAS!CV28,\"0,00\"))","v":""},{"$f":"IF(KELAS!CW28=\"\",\"\",KELAS!CW28)","v":""},{"$f":"IF(KELAS!CX28=\"\",\"\",KELAS!CX28)","v":""},{"$f":"IF(KELAS!CY28=\"\",\"\",KELAS!CY28)","v":""},{"$f":"IF(KELAS!CZ28=\"\",\"\",KELAS!CZ28)","v":""},{"$f":"IF(KELAS!DA28=\"\",\"\",KELAS!DA28)","v":""},{"$f":"IF(KELAS!DB28=\"\",\"\",TEXT(KELAS!DB28,\"0,00\"))","v":""},{"$f":"IF(KELAS!DC28=\"\",\"\",KELAS!DC28)","v":""},{"$f":"IF(KELAS!DD28=\"\",\"\",KELAS!DD28)","v":""},{"$f":"IF(KELAS!DE28=\"\",\"\",TEXT(KELAS!DE28,\"0,00\"))","v":""},{"$f":"IF(KELAS!DF28=\"\",\"\",KELAS!DF28)","v":""},{"$f":"IF(KELAS!DG28=\"\",\"\",KELAS!DG28)","v":""},{"$f":"IF(KELAS!DH28=\"\",\"\",KELAS!DH28)","v":""},{"$f":"IF(KELAS!DI28=\"\",\"\",KELAS!DI28)","v":""},{"$f":"IF(KELAS!DJ28=\"\",\"\",KELAS!DJ28)","v":""},{"$f":"IF(KELAS!DK28=\"\",\"\",KELAS!DK28)","v":3},{"$f":"IF(KELAS!DL28=\"\",\"\",KELAS!DL28)","v":3},{"$f":"IF(KELAS!DM28=\"\",\"\",KELAS!DM28)","v":1},{"$f":"IF(KELAS!DN28=\"\",\"\",KELAS!DN28)","v":2},{"$f":"IF(KELAS!DO28=\"\",\"\",KELAS!DO28)","v":""},{"$f":"IF(KELAS!DP28=\"\",\"\",KELAS!DP28)","v":""},{"$f":"IF(KELAS!DQ28=\"\",\"\",KELAS!DQ28)","v":""},{"$f":"IF(KELAS!DR28=\"\",\"\",KELAS!DR28)","v":""},{"$f":"IF(KELAS!DS28=\"\",\"\",KELAS!DS28)","v":""},{"$f":"IF(KELAS!DT28=\"\",\"\",KELAS!DT28)","v":""},{"$f":"IF(KELAS!DU28=\"\",\"\",KELAS!DU28)","v":""},{"$f":"IF(KELAS!DV28=\"\",\"\",KELAS!DV28)","v":""},{"$f":"IF(KELAS!DW28=\"\",\"\",KELAS!DW28)","v":""},{"$f":"IF(KELAS!DX28=\"\",\"\",KELAS!DX28)","v":""},{"$f":"IF(KELAS!DY28=\"\",\"\",KELAS!DY28)","v":""},{"$f":"IF(KELAS!DZ28=\"\",\"\",KELAS!DZ28)","v":""},{"$f":"IF(KELAS!EA28=\"\",\"\",KELAS!EA28)","v":"3 ( tiga )"},{"$f":"IF(KELAS!EB28=\"\",\"\",KELAS!EB28)","v":"3 ( tiga )"},{"$f":"IF(KELAS!EC28=\"\",\"\",KELAS!EC28)","v":"1 ( satu )"},{"$f":"IF(KELAS!ED28=\"\",\"\",KELAS!ED28)","v":"2 ( dua )"},{"$f":"IF(KELAS!EE28=\"\",\"\",KELAS!EE28)","v":""},{"$f":"IF(KELAS!EF28=\"\",\"\",KELAS!EF28)","v":""},{"$f":"IF(KELAS!EG28=\"\",\"\",KELAS!EG28)","v":"Peserta didik menunjukan sikap sungguh-sungguh dalam menerapkan sikap santun, jujur dan kerjasama, namun masih perlu ditingkatkan lagi sikap percaya diri dan ketepatan masuk sekolah"},{"$f":"IF(KELAS!EH28=\"\",\"\",KELAS!EH28)","v":"Dhany Suryanto, S.Pd."},{"$f":"IF(KELAS!EI28=\"\",\"\",KELAS!EI28)","v":"jika punya NIP isikan di sini"},{"$f":"IF(KELAS!EJ28=\"\",\"\",KELAS!EJ28)","v":0},{"$f":"IF(KELAS!EK28=\"\",\"\",KELAS!EK28)","v":0},{"$f":"IF(KELAS!EL28=\"\",\"\",KELAS!EL28)","v":0},{"$f":"IF(KELAS!EM28=\"\",\"\",KELAS!EM28)","v":0},{"$f":"IF(KELAS!EN28=\"\",\"\",KELAS!EN28)","v":0},{"$f":"IF(KELAS!EO28=\"\",\"\",KELAS!EO28)","v":0},{"$f":"IF(KELAS!EP28=\"\",\"\",KELAS!EP28)","v":0},{"$f":"IF(KELAS!EQ28=\"\",\"\",KELAS!EQ28)","v":0},{"$f":"IF(KELAS!ER28=\"\",\"\",KELAS!ER28)","v":0},{"$f":"IF(KELAS!ES28=\"\",\"\",KELAS!ES28)","v":0},{"$f":"IF(KELAS!ET28=\"\",\"\",KELAS!ET28)","v":0}]
[{"$f":"IF(KELAS!A29=\"\",\"\",KELAS!A29)","v":27},{"$f":"IF(KELAS!B29=\"\",\"\",KELAS!B29)","v":12661},{"$f":"IF(KELAS!C29=\"\",\"\",KELAS!C29)","v":"NURYANI"},{"$f":"IF(KELAS!D29=\"\",\"\",KELAS!D29)","v":"P"},{"$f":"IF(KELAS!E29=\"\",\"\",KELAS!E29)","v":"7.A"},{"$f":"IF(KELAS!F29=\"\",\"\",KELAS!F29)","v":"Islam"},{"$f":"IF(KELAS!G29=\"\",\"\",KELAS!G29)","v":9971535043},{"$f":"IF(KELAS!H29=\"\",\"\",KELAS!H29)","v":"Wonosobo, 12 Desember 1997"},{"$f":"IF(KELAS!I29=\"\",\"\",KELAS!I29)","v":"Djasmadi"},{"$f":"IF(KELAS!J29=\"\",\"\",KELAS!J29)","v":"Petani"},{"$f":"IF(KELAS!K29=\"\",\"\",KELAS!K29)","v":"Parti"},{"$f":"IF(KELAS!L29=\"\",\"\",KELAS!L29)","v":"Ibu Rumah Tangga"},{"$f":"IF(KELAS!M29=\"\",\"\",KELAS!M29)","v":"Tembelang RT.02 RW.04, Rojoimo, Wsb"},{"$f":"IF(KELAS!N29=\"\",\"\",KELAS!N29)","v":"SMPN 2 SELOMERTO"},{"$f":"IF(KELAS!O29=\"\",\"\",KELAS!O29)","v":2},{"$f":"IF(KELAS!P29=\"\",\"\",KELAS!P29)","v":"Anak Kandung"},{"$f":"IF(KELAS!Q29=\"\",\"\",TEXT(KELAS!Q29,\"0,00\"))","v":""},{"$f":"IF(KELAS!R29=\"\",\"\",KELAS!R29)","v":""},{"$f":"IF(KELAS!S29=\"\",\"\",KELAS!S29)","v":""},{"$f":"IF(KELAS!T29=\"\",\"\",TEXT(KELAS!T29,\"0,00\"))","v":""},{"$f":"IF(KELAS!U29=\"\",\"\",KELAS!U29)","v":""},{"$f":"IF(KELAS!V29=\"\",\"\",KELAS!V29)","v":""},{"$f":"IF(KELAS!W29=\"\",\"\",KELAS!W29)","v":""},{"$f":"IF(KELAS!X29=\"\",\"\",KELAS!X29)","v":""},{"$f":"IF(KELAS!Y29=\"\",\"\",TEXT(KELAS!Y29,\"0,00\"))","v":""},{"$f":"IF(KELAS!Z29=\"\",\"\",KELAS!Z29)","v":""},{"$f":"IF(KELAS!AA29=\"\",\"\",KELAS!AA29)","v":""},{"$f":"IF(KELAS!AB29=\"\",\"\",TEXT(KELAS!AB29,\"0,00\"))","v":""},{"$f":"IF(KELAS!AC29=\"\",\"\",KELAS!AC29)","v":""},{"$f":"IF(KELAS!AD29=\"\",\"\",KELAS!AD29)","v":""},{"$f":"IF(KELAS!AE29=\"\",\"\",KELAS!AE29)","v":""},{"$f":"IF(KELAS!AF29=\"\",\"\",KELAS!AF29)","v":""},{"$f":"IF(KELAS!AG29=\"\",\"\",KELAS!AG29)","v":""},{"$f":"IF(KELAS!AH29=\"\",\"\",TEXT(KELAS!AH29,\"0,00\"))","v":""},{"$f":"IF(KELAS!AI29=\"\",\"\",KELAS!AI29)","v":""},{"$f":"IF(KELAS!AJ29=\"\",\"\",KELAS!AJ29)","v":""},{"$f":"IF(KELAS!AK29=\"\",\"\",TEXT(KELAS!AK29,\"0,00\"))","v":""},{"$f":"IF(KELAS!AL29=\"\",\"\",KELAS!AL29)","v":""},{"$f":"IF(KELAS!AM29=\"\",\"\",KELAS!AM29)","v":""},{"$f":"IF(KELAS!AN29=\"\",\"\",KELAS!AN29)","v":""},{"$f":"IF(KELAS!AO29=\"\",\"\",KELAS!AO29)","v":""},{"$f":"IF(KELAS!AP29=\"\",\"\",KELAS!AP29)","v":""},{"$f":"IF(KELAS!AQ29=\"\",\"\",TEXT(KELAS!AQ29,\"0,00\"))","v":""},{"$f":"IF(KELAS!AR29=\"\",\"\",KELAS!AR29)","v":""},{"$f":"IF(KELAS!AS29=\"\",\"\",KELAS!AS29)","v":""},{"$f":"IF(KELAS!AT29=\"\",\"\",TEXT(KELAS!AT29,\"0,00\"))","v":""},{"$f":"IF(KELAS!AU29=\"\",\"\",KELAS!AU29)","v":""},{"$f":"IF(KELAS!AV29=\"\",\"\",KELAS!AV29)","v":""},{"$f":"IF(KELAS!AW29=\"\",\"\",KELAS!AW29)","v":""},{"$f":"IF(KELAS!AX29=\"\",\"\",KELAS!AX29)","v":""},{"$f":"IF(KELAS!AY29=\"\",\"\",KELAS!AY29)","v":""},{"$f":"IF(KELAS!AZ29=\"\",\"\",TEXT(KELAS!AZ29,\"0,00\"))","v":""},{"$f":"IF(KELAS!BA29=\"\",\"\",KELAS!BA29)","v":""},{"$f":"IF(KELAS!BB29=\"\",\"\",KELAS!BB29)","v":""},{"$f":"IF(KELAS!BC29=\"\",\"\",TEXT(KELAS!BC29,\"0,00\"))","v":""},{"$f":"IF(KELAS!BD29=\"\",\"\",KELAS!BD29)","v":""},{"$f":"IF(KELAS!BE29=\"\",\"\",KELAS!BE29)","v":""},{"$f":"IF(KELAS!BF29=\"\",\"\",KELAS!BF29)","v":""},{"$f":"IF(KELAS!BG29=\"\",\"\",KELAS!BG29)","v":""},{"$f":"IF(KELAS!BH29=\"\",\"\",KELAS!BH29)","v":""},{"$f":"IF(KELAS!BI29=\"\",\"\",TEXT(KELAS!BI29,\"0,00\"))","v":""},{"$f":"IF(KELAS!BJ29=\"\",\"\",KELAS!BJ29)","v":""},{"$f":"IF(KELAS!BK29=\"\",\"\",KELAS!BK29)","v":""},{"$f":"IF(KELAS!BL29=\"\",\"\",TEXT(KELAS!BL29,\"0,00\"))","v":""},{"$f":"IF(KELAS!BM29=\"\",\"\",KELAS!BM29)","v":""},{"$f":"IF(KELAS!BN29=\"\",\"\",KELAS!BN29)","v":""},{"$f":"IF(KELAS!BO29=\"\",\"\",KELAS!BO29)","v":""},{"$f":"IF(KELAS!BP29=\"\",\"\",KELAS!BP29)","v":""},{"$f":"IF(KELAS!BQ29=\"\",\"\",KELAS!BQ29)","v":""},{"$f":"IF(KELAS!BR29=\"\",\"\",TEXT(KELAS!BR29,\"0,00\"))","v":""},{"$f":"IF(KELAS!BS29=\"\",\"\",KELAS!BS29)","v":""},{"$f":"IF(KELAS!BT29=\"\",\"\",KELAS!BT29)","v":""},{"$f":"IF(KELAS!BU29=\"\",\"\",TEXT(KELAS!BU29,\"0,00\"))","v":""},{"$f":"IF(KELAS!BV29=\"\",\"\",KELAS!BV29)","v":""},{"$f":"IF(KELAS!BW29=\"\",\"\",KELAS!BW29)","v":""},{"$f":"IF(KELAS!BX29=\"\",\"\",KELAS!BX29)","v":""},{"$f":"IF(KELAS!BY29=\"\",\"\",KELAS!BY29)","v":""},{"$f":"IF(KELAS!BZ29=\"\",\"\",KELAS!BZ29)","v":""},{"$f":"IF(KELAS!CA29=\"\",\"\",TEXT(KELAS!CA29,\"0,00\"))","v":""},{"$f":"IF(KELAS!CB29=\"\",\"\",KELAS!CB29)","v":""},{"$f":"IF(KELAS!CC29=\"\",\"\",KELAS!CC29)","v":""},{"$f":"IF(KELAS!CD29=\"\",\"\",TEXT(KELAS!CD29,\"0,00\"))","v":""},{"$f":"IF(KELAS!CE29=\"\",\"\",KELAS!CE29)","v":""},{"$f":"IF(KELAS!CF29=\"\",\"\",KELAS!CF29)","v":""},{"$f":"IF(KELAS!CG29=\"\",\"\",KELAS!CG29)","v":""},{"$f":"IF(KELAS!CH29=\"\",\"\",KELAS!CH29)","v":""},{"$f":"IF(KELAS!CI29=\"\",\"\",KELAS!CI29)","v":""},{"$f":"IF(KELAS!CJ29=\"\",\"\",TEXT(KELAS!CJ29,\"0,00\"))","v":""},{"$f":"IF(KELAS!CK29=\"\",\"\",KELAS!CK29)","v":""},{"$f":"IF(KELAS!CL29=\"\",\"\",KELAS!CL29)","v":""},{"$f":"IF(KELAS!CM29=\"\",\"\",TEXT(KELAS!CM29,\"0,00\"))","v":""},{"$f":"IF(KELAS!CN29=\"\",\"\",KELAS!CN29)","v":""},{"$f":"IF(KELAS!CO29=\"\",\"\",KELAS!CO29)","v":""},{"$f":"IF(KELAS!CP29=\"\",\"\",KELAS!CP29)","v":""},{"$f":"IF(KELAS!CQ29=\"\",\"\",KELAS!CQ29)","v":""},{"$f":"IF(KELAS!CR29=\"\",\"\",KELAS!CR29)","v":""},{"$f":"IF(KELAS!CS29=\"\",\"\",TEXT(KELAS!CS29,\"0,00\"))","v":""},{"$f":"IF(KELAS!CT29=\"\",\"\",KELAS!CT29)","v":""},{"$f":"IF(KELAS!CU29=\"\",\"\",KELAS!CU29)","v":""},{"$f":"IF(KELAS!CV29=\"\",\"\",TEXT(KELAS!CV29,\"0,00\"))","v":""},{"$f":"IF(KELAS!CW29=\"\",\"\",KELAS!CW29)","v":""},{"$f":"IF(KELAS!CX29=\"\",\"\",KELAS!CX29)","v":""},{"$f":"IF(KELAS!CY29=\"\",\"\",KELAS!CY29)","v":""},{"$f":"IF(KELAS!CZ29=\"\",\"\",KELAS!CZ29)","v":""},{"$f":"IF(KELAS!DA29=\"\",\"\",KELAS!DA29)","v":""},{"$f":"IF(KELAS!DB29=\"\",\"\",TEXT(KELAS!DB29,\"0,00\"))","v":""},{"$f":"IF(KELAS!DC29=\"\",\"\",KELAS!DC29)","v":""},{"$f":"IF(KELAS!DD29=\"\",\"\",KELAS!DD29)","v":""},{"$f":"IF(KELAS!DE29=\"\",\"\",TEXT(KELAS!DE29,\"0,00\"))","v":""},{"$f":"IF(KELAS!DF29=\"\",\"\",KELAS!DF29)","v":""},{"$f":"IF(KELAS!DG29=\"\",\"\",KELAS!DG29)","v":""},{"$f":"IF(KELAS!DH29=\"\",\"\",KELAS!DH29)","v":""},{"$f":"IF(KELAS!DI29=\"\",\"\",KELAS!DI29)","v":""},{"$f":"IF(KELAS!DJ29=\"\",\"\",KELAS!DJ29)","v":""},{"$f":"IF(KELAS!DK29=\"\",\"\",KELAS!DK29)","v":2},{"$f":"IF(KELAS!DL29=\"\",\"\",KELAS!DL29)","v":3},{"$f":"IF(KELAS!DM29=\"\",\"\",KELAS!DM29)","v":3},{"$f":"IF(KELAS!DN29=\"\",\"\",KELAS!DN29)","v":2},{"$f":"IF(KELAS!DO29=\"\",\"\",KELAS!DO29)","v":""},{"$f":"IF(KELAS!DP29=\"\",\"\",KELAS!DP29)","v":""},{"$f":"IF(KELAS!DQ29=\"\",\"\",KELAS!DQ29)","v":""},{"$f":"IF(KELAS!DR29=\"\",\"\",KELAS!DR29)","v":""},{"$f":"IF(KELAS!DS29=\"\",\"\",KELAS!DS29)","v":""},{"$f":"IF(KELAS!DT29=\"\",\"\",KELAS!DT29)","v":""},{"$f":"IF(KELAS!DU29=\"\",\"\",KELAS!DU29)","v":""},{"$f":"IF(KELAS!DV29=\"\",\"\",KELAS!DV29)","v":""},{"$f":"IF(KELAS!DW29=\"\",\"\",KELAS!DW29)","v":""},{"$f":"IF(KELAS!DX29=\"\",\"\",KELAS!DX29)","v":""},{"$f":"IF(KELAS!DY29=\"\",\"\",KELAS!DY29)","v":""},{"$f":"IF(KELAS!DZ29=\"\",\"\",KELAS!DZ29)","v":""},{"$f":"IF(KELAS!EA29=\"\",\"\",KELAS!EA29)","v":"2 ( dua )"},{"$f":"IF(KELAS!EB29=\"\",\"\",KELAS!EB29)","v":"3 ( tiga )"},{"$f":"IF(KELAS!EC29=\"\",\"\",KELAS!EC29)","v":"3 ( tiga )"},{"$f":"IF(KELAS!ED29=\"\",\"\",KELAS!ED29)","v":"2 ( dua )"},{"$f":"IF(KELAS!EE29=\"\",\"\",KELAS!EE29)","v":""},{"$f":"IF(KELAS!EF29=\"\",\"\",KELAS!EF29)","v":""},{"$f":"IF(KELAS!EG29=\"\",\"\",KELAS!EG29)","v":"Peserta didik menunjukan sikap sungguh-sungguh dalam menerapkan sikap santun, jujur dan kerjasama, namun masih perlu ditingkatkan lagi sikap percaya diri dan ketepatan masuk sekolah"},{"$f":"IF(KELAS!EH29=\"\",\"\",KELAS!EH29)","v":"Dhany Suryanto, S.Pd."},{"$f":"IF(KELAS!EI29=\"\",\"\",KELAS!EI29)","v":"jika punya NIP isikan di sini"},{"$f":"IF(KELAS!EJ29=\"\",\"\",KELAS!EJ29)","v":0},{"$f":"IF(KELAS!EK29=\"\",\"\",KELAS!EK29)","v":0},{"$f":"IF(KELAS!EL29=\"\",\"\",KELAS!EL29)","v":0},{"$f":"IF(KELAS!EM29=\"\",\"\",KELAS!EM29)","v":0},{"$f":"IF(KELAS!EN29=\"\",\"\",KELAS!EN29)","v":0},{"$f":"IF(KELAS!EO29=\"\",\"\",KELAS!EO29)","v":0},{"$f":"IF(KELAS!EP29=\"\",\"\",KELAS!EP29)","v":0},{"$f":"IF(KELAS!EQ29=\"\",\"\",KELAS!EQ29)","v":0},{"$f":"IF(KELAS!ER29=\"\",\"\",KELAS!ER29)","v":0},{"$f":"IF(KELAS!ES29=\"\",\"\",KELAS!ES29)","v":0},{"$f":"IF(KELAS!ET29=\"\",\"\",KELAS!ET29)","v":0}]
[{"$f":"IF(KELAS!A30=\"\",\"\",KELAS!A30)","v":28},{"$f":"IF(KELAS!B30=\"\",\"\",KELAS!B30)","v":12688},{"$f":"IF(KELAS!C30=\"\",\"\",KELAS!C30)","v":"RASYD HARDIANSYAH"},{"$f":"IF(KELAS!D30=\"\",\"\",KELAS!D30)","v":"L"},{"$f":"IF(KELAS!E30=\"\",\"\",KELAS!E30)","v":"7.A"},{"$f":"IF(KELAS!F30=\"\",\"\",KELAS!F30)","v":"Islam"},{"$f":"IF(KELAS!G30=\"\",\"\",KELAS!G30)","v":9981511852},{"$f":"IF(KELAS!H30=\"\",\"\",KELAS!H30)","v":"Wonosobo, 20 Juni 1998"},{"$f":"IF(KELAS!I30=\"\",\"\",KELAS!I30)","v":"Rahardi Widjono"},{"$f":"IF(KELAS!J30=\"\",\"\",KELAS!J30)","v":"Wiraswasta"},{"$f":"IF(KELAS!K30=\"\",\"\",KELAS!K30)","v":"Sri Hardiyah"},{"$f":"IF(KELAS!L30=\"\",\"\",KELAS!L30)","v":"Ibu Rumah Tangga"},{"$f":"IF(KELAS!M30=\"\",\"\",KELAS!M30)","v":"Jl. Banyu Urip 121 RT.06 RW.15, Longkrang, Wsb"},{"$f":"IF(KELAS!N30=\"\",\"\",KELAS!N30)","v":"SMPN 1 WONOSOBO"},{"$f":"IF(KELAS!O30=\"\",\"\",KELAS!O30)","v":3},{"$f":"IF(KELAS!P30=\"\",\"\",KELAS!P30)","v":"Anak Kandung"},{"$f":"IF(KELAS!Q30=\"\",\"\",TEXT(KELAS!Q30,\"0,00\"))","v":""},{"$f":"IF(KELAS!R30=\"\",\"\",KELAS!R30)","v":""},{"$f":"IF(KELAS!S30=\"\",\"\",KELAS!S30)","v":""},{"$f":"IF(KELAS!T30=\"\",\"\",TEXT(KELAS!T30,\"0,00\"))","v":""},{"$f":"IF(KELAS!U30=\"\",\"\",KELAS!U30)","v":""},{"$f":"IF(KELAS!V30=\"\",\"\",KELAS!V30)","v":""},{"$f":"IF(KELAS!W30=\"\",\"\",KELAS!W30)","v":""},{"$f":"IF(KELAS!X30=\"\",\"\",KELAS!X30)","v":""},{"$f":"IF(KELAS!Y30=\"\",\"\",TEXT(KELAS!Y30,\"0,00\"))","v":""},{"$f":"IF(KELAS!Z30=\"\",\"\",KELAS!Z30)","v":""},{"$f":"IF(KELAS!AA30=\"\",\"\",KELAS!AA30)","v":""},{"$f":"IF(KELAS!AB30=\"\",\"\",TEXT(KELAS!AB30,\"0,00\"))","v":""},{"$f":"IF(KELAS!AC30=\"\",\"\",KELAS!AC30)","v":""},{"$f":"IF(KELAS!AD30=\"\",\"\",KELAS!AD30)","v":""},{"$f":"IF(KELAS!AE30=\"\",\"\",KELAS!AE30)","v":""},{"$f":"IF(KELAS!AF30=\"\",\"\",KELAS!AF30)","v":""},{"$f":"IF(KELAS!AG30=\"\",\"\",KELAS!AG30)","v":""},{"$f":"IF(KELAS!AH30=\"\",\"\",TEXT(KELAS!AH30,\"0,00\"))","v":""},{"$f":"IF(KELAS!AI30=\"\",\"\",KELAS!AI30)","v":""},{"$f":"IF(KELAS!AJ30=\"\",\"\",KELAS!AJ30)","v":""},{"$f":"IF(KELAS!AK30=\"\",\"\",TEXT(KELAS!AK30,\"0,00\"))","v":""},{"$f":"IF(KELAS!AL30=\"\",\"\",KELAS!AL30)","v":""},{"$f":"IF(KELAS!AM30=\"\",\"\",KELAS!AM30)","v":""},{"$f":"IF(KELAS!AN30=\"\",\"\",KELAS!AN30)","v":""},{"$f":"IF(KELAS!AO30=\"\",\"\",KELAS!AO30)","v":""},{"$f":"IF(KELAS!AP30=\"\",\"\",KELAS!AP30)","v":""},{"$f":"IF(KELAS!AQ30=\"\",\"\",TEXT(KELAS!AQ30,\"0,00\"))","v":""},{"$f":"IF(KELAS!AR30=\"\",\"\",KELAS!AR30)","v":""},{"$f":"IF(KELAS!AS30=\"\",\"\",KELAS!AS30)","v":""},{"$f":"IF(KELAS!AT30=\"\",\"\",TEXT(KELAS!AT30,\"0,00\"))","v":""},{"$f":"IF(KELAS!AU30=\"\",\"\",KELAS!AU30)","v":""},{"$f":"IF(KELAS!AV30=\"\",\"\",KELAS!AV30)","v":""},{"$f":"IF(KELAS!AW30=\"\",\"\",KELAS!AW30)","v":""},{"$f":"IF(KELAS!AX30=\"\",\"\",KELAS!AX30)","v":""},{"$f":"IF(KELAS!AY30=\"\",\"\",KELAS!AY30)","v":""},{"$f":"IF(KELAS!AZ30=\"\",\"\",TEXT(KELAS!AZ30,\"0,00\"))","v":""},{"$f":"IF(KELAS!BA30=\"\",\"\",KELAS!BA30)","v":""},{"$f":"IF(KELAS!BB30=\"\",\"\",KELAS!BB30)","v":""},{"$f":"IF(KELAS!BC30=\"\",\"\",TEXT(KELAS!BC30,\"0,00\"))","v":""},{"$f":"IF(KELAS!BD30=\"\",\"\",KELAS!BD30)","v":""},{"$f":"IF(KELAS!BE30=\"\",\"\",KELAS!BE30)","v":""},{"$f":"IF(KELAS!BF30=\"\",\"\",KELAS!BF30)","v":""},{"$f":"IF(KELAS!BG30=\"\",\"\",KELAS!BG30)","v":""},{"$f":"IF(KELAS!BH30=\"\",\"\",KELAS!BH30)","v":""},{"$f":"IF(KELAS!BI30=\"\",\"\",TEXT(KELAS!BI30,\"0,00\"))","v":""},{"$f":"IF(KELAS!BJ30=\"\",\"\",KELAS!BJ30)","v":""},{"$f":"IF(KELAS!BK30=\"\",\"\",KELAS!BK30)","v":""},{"$f":"IF(KELAS!BL30=\"\",\"\",TEXT(KELAS!BL30,\"0,00\"))","v":""},{"$f":"IF(KELAS!BM30=\"\",\"\",KELAS!BM30)","v":""},{"$f":"IF(KELAS!BN30=\"\",\"\",KELAS!BN30)","v":""},{"$f":"IF(KELAS!BO30=\"\",\"\",KELAS!BO30)","v":""},{"$f":"IF(KELAS!BP30=\"\",\"\",KELAS!BP30)","v":""},{"$f":"IF(KELAS!BQ30=\"\",\"\",KELAS!BQ30)","v":""},{"$f":"IF(KELAS!BR30=\"\",\"\",TEXT(KELAS!BR30,\"0,00\"))","v":""},{"$f":"IF(KELAS!BS30=\"\",\"\",KELAS!BS30)","v":""},{"$f":"IF(KELAS!BT30=\"\",\"\",KELAS!BT30)","v":""},{"$f":"IF(KELAS!BU30=\"\",\"\",TEXT(KELAS!BU30,\"0,00\"))","v":""},{"$f":"IF(KELAS!BV30=\"\",\"\",KELAS!BV30)","v":""},{"$f":"IF(KELAS!BW30=\"\",\"\",KELAS!BW30)","v":""},{"$f":"IF(KELAS!BX30=\"\",\"\",KELAS!BX30)","v":""},{"$f":"IF(KELAS!BY30=\"\",\"\",KELAS!BY30)","v":""},{"$f":"IF(KELAS!BZ30=\"\",\"\",KELAS!BZ30)","v":""},{"$f":"IF(KELAS!CA30=\"\",\"\",TEXT(KELAS!CA30,\"0,00\"))","v":""},{"$f":"IF(KELAS!CB30=\"\",\"\",KELAS!CB30)","v":""},{"$f":"IF(KELAS!CC30=\"\",\"\",KELAS!CC30)","v":""},{"$f":"IF(KELAS!CD30=\"\",\"\",TEXT(KELAS!CD30,\"0,00\"))","v":""},{"$f":"IF(KELAS!CE30=\"\",\"\",KELAS!CE30)","v":""},{"$f":"IF(KELAS!CF30=\"\",\"\",KELAS!CF30)","v":""},{"$f":"IF(KELAS!CG30=\"\",\"\",KELAS!CG30)","v":""},{"$f":"IF(KELAS!CH30=\"\",\"\",KELAS!CH30)","v":""},{"$f":"IF(KELAS!CI30=\"\",\"\",KELAS!CI30)","v":""},{"$f":"IF(KELAS!CJ30=\"\",\"\",TEXT(KELAS!CJ30,\"0,00\"))","v":""},{"$f":"IF(KELAS!CK30=\"\",\"\",KELAS!CK30)","v":""},{"$f":"IF(KELAS!CL30=\"\",\"\",KELAS!CL30)","v":""},{"$f":"IF(KELAS!CM30=\"\",\"\",TEXT(KELAS!CM30,\"0,00\"))","v":""},{"$f":"IF(KELAS!CN30=\"\",\"\",KELAS!CN30)","v":""},{"$f":"IF(KELAS!CO30=\"\",\"\",KELAS!CO30)","v":""},{"$f":"IF(KELAS!CP30=\"\",\"\",KELAS!CP30)","v":""},{"$f":"IF(KELAS!CQ30=\"\",\"\",KELAS!CQ30)","v":""},{"$f":"IF(KELAS!CR30=\"\",\"\",KELAS!CR30)","v":""},{"$f":"IF(KELAS!CS30=\"\",\"\",TEXT(KELAS!CS30,\"0,00\"))","v":""},{"$f":"IF(KELAS!CT30=\"\",\"\",KELAS!CT30)","v":""},{"$f":"IF(KELAS!CU30=\"\",\"\",KELAS!CU30)","v":""},{"$f":"IF(KELAS!CV30=\"\",\"\",TEXT(KELAS!CV30,\"0,00\"))","v":""},{"$f":"IF(KELAS!CW30=\"\",\"\",KELAS!CW30)","v":""},{"$f":"IF(KELAS!CX30=\"\",\"\",KELAS!CX30)","v":""},{"$f":"IF(KELAS!CY30=\"\",\"\",KELAS!CY30)","v":""},{"$f":"IF(KELAS!CZ30=\"\",\"\",KELAS!CZ30)","v":""},{"$f":"IF(KELAS!DA30=\"\",\"\",KELAS!DA30)","v":""},{"$f":"IF(KELAS!DB30=\"\",\"\",TEXT(KELAS!DB30,\"0,00\"))","v":""},{"$f":"IF(KELAS!DC30=\"\",\"\",KELAS!DC30)","v":""},{"$f":"IF(KELAS!DD30=\"\",\"\",KELAS!DD30)","v":""},{"$f":"IF(KELAS!DE30=\"\",\"\",TEXT(KELAS!DE30,\"0,00\"))","v":""},{"$f":"IF(KELAS!DF30=\"\",\"\",KELAS!DF30)","v":""},{"$f":"IF(KELAS!DG30=\"\",\"\",KELAS!DG30)","v":""},{"$f":"IF(KELAS!DH30=\"\",\"\",KELAS!DH30)","v":""},{"$f":"IF(KELAS!DI30=\"\",\"\",KELAS!DI30)","v":""},{"$f":"IF(KELAS!DJ30=\"\",\"\",KELAS!DJ30)","v":""},{"$f":"IF(KELAS!DK30=\"\",\"\",KELAS!DK30)","v":2},{"$f":"IF(KELAS!DL30=\"\",\"\",KELAS!DL30)","v":3},{"$f":"IF(KELAS!DM30=\"\",\"\",KELAS!DM30)","v":2},{"$f":"IF(KELAS!DN30=\"\",\"\",KELAS!DN30)","v":2},{"$f":"IF(KELAS!DO30=\"\",\"\",KELAS!DO30)","v":""},{"$f":"IF(KELAS!DP30=\"\",\"\",KELAS!DP30)","v":""},{"$f":"IF(KELAS!DQ30=\"\",\"\",KELAS!DQ30)","v":""},{"$f":"IF(KELAS!DR30=\"\",\"\",KELAS!DR30)","v":""},{"$f":"IF(KELAS!DS30=\"\",\"\",KELAS!DS30)","v":""},{"$f":"IF(KELAS!DT30=\"\",\"\",KELAS!DT30)","v":""},{"$f":"IF(KELAS!DU30=\"\",\"\",KELAS!DU30)","v":""},{"$f":"IF(KELAS!DV30=\"\",\"\",KELAS!DV30)","v":""},{"$f":"IF(KELAS!DW30=\"\",\"\",KELAS!DW30)","v":""},{"$f":"IF(KELAS!DX30=\"\",\"\",KELAS!DX30)","v":""},{"$f":"IF(KELAS!DY30=\"\",\"\",KELAS!DY30)","v":""},{"$f":"IF(KELAS!DZ30=\"\",\"\",KELAS!DZ30)","v":""},{"$f":"IF(KELAS!EA30=\"\",\"\",KELAS!EA30)","v":"2 ( dua )"},{"$f":"IF(KELAS!EB30=\"\",\"\",KELAS!EB30)","v":"3 ( tiga )"},{"$f":"IF(KELAS!EC30=\"\",\"\",KELAS!EC30)","v":"2 ( dua )"},{"$f":"IF(KELAS!ED30=\"\",\"\",KELAS!ED30)","v":"2 ( dua )"},{"$f":"IF(KELAS!EE30=\"\",\"\",KELAS!EE30)","v":""},{"$f":"IF(KELAS!EF30=\"\",\"\",KELAS!EF30)","v":""},{"$f":"IF(KELAS!EG30=\"\",\"\",KELAS!EG30)","v":"Peserta didik menunjukan sikap sungguh-sungguh dalam menerapkan sikap santun, jujur dan kerjasama, namun masih perlu ditingkatkan lagi sikap percaya diri dan ketepatan masuk sekolah"},{"$f":"IF(KELAS!EH30=\"\",\"\",KELAS!EH30)","v":"Dhany Suryanto, S.Pd."},{"$f":"IF(KELAS!EI30=\"\",\"\",KELAS!EI30)","v":"jika punya NIP isikan di sini"},{"$f":"IF(KELAS!EJ30=\"\",\"\",KELAS!EJ30)","v":0},{"$f":"IF(KELAS!EK30=\"\",\"\",KELAS!EK30)","v":0},{"$f":"IF(KELAS!EL30=\"\",\"\",KELAS!EL30)","v":0},{"$f":"IF(KELAS!EM30=\"\",\"\",KELAS!EM30)","v":0},{"$f":"IF(KELAS!EN30=\"\",\"\",KELAS!EN30)","v":0},{"$f":"IF(KELAS!EO30=\"\",\"\",KELAS!EO30)","v":0},{"$f":"IF(KELAS!EP30=\"\",\"\",KELAS!EP30)","v":0},{"$f":"IF(KELAS!EQ30=\"\",\"\",KELAS!EQ30)","v":0},{"$f":"IF(KELAS!ER30=\"\",\"\",KELAS!ER30)","v":0},{"$f":"IF(KELAS!ES30=\"\",\"\",KELAS!ES30)","v":0},{"$f":"IF(KELAS!ET30=\"\",\"\",KELAS!ET30)","v":0}]
[{"$f":"IF(KELAS!A31=\"\",\"\",KELAS!A31)","v":29},{"$f":"IF(KELAS!B31=\"\",\"\",KELAS!B31)","v":12709},{"$f":"IF(KELAS!C31=\"\",\"\",KELAS!C31)","v":"RIZA ABDILLAH CHOIRIL ANWAR"},{"$f":"IF(KELAS!D31=\"\",\"\",KELAS!D31)","v":"L"},{"$f":"IF(KELAS!E31=\"\",\"\",KELAS!E31)","v":"7.A"},{"$f":"IF(KELAS!F31=\"\",\"\",KELAS!F31)","v":"Islam"},{"$f":"IF(KELAS!G31=\"\",\"\",KELAS!G31)","v":9981610181},{"$f":"IF(KELAS!H31=\"\",\"\",KELAS!H31)","v":"Wonosobo, 20 Mei 1998"},{"$f":"IF(KELAS!I31=\"\",\"\",KELAS!I31)","v":"T. Sriyono"},{"$f":"IF(KELAS!J31=\"\",\"\",KELAS!J31)","v":"Wiraswasta"},{"$f":"IF(KELAS!K31=\"\",\"\",KELAS!K31)","v":"Napsiyah"},{"$f":"IF(KELAS!L31=\"\",\"\",KELAS!L31)","v":"Pedagang"},{"$f":"IF(KELAS!M31=\"\",\"\",KELAS!M31)","v":"Kenjer RT.04 RW.06, Kertek, Wsb"},{"$f":"IF(KELAS!N31=\"\",\"\",KELAS!N31)","v":"SMPN 1 KALIKAJAR"},{"$f":"IF(KELAS!O31=\"\",\"\",KELAS!O31)","v":2},{"$f":"IF(KELAS!P31=\"\",\"\",KELAS!P31)","v":"Anak Kandung"},{"$f":"IF(KELAS!Q31=\"\",\"\",TEXT(KELAS!Q31,\"0,00\"))","v":""},{"$f":"IF(KELAS!R31=\"\",\"\",KELAS!R31)","v":""},{"$f":"IF(KELAS!S31=\"\",\"\",KELAS!S31)","v":""},{"$f":"IF(KELAS!T31=\"\",\"\",TEXT(KELAS!T31,\"0,00\"))","v":""},{"$f":"IF(KELAS!U31=\"\",\"\",KELAS!U31)","v":""},{"$f":"IF(KELAS!V31=\"\",\"\",KELAS!V31)","v":""},{"$f":"IF(KELAS!W31=\"\",\"\",KELAS!W31)","v":""},{"$f":"IF(KELAS!X31=\"\",\"\",KELAS!X31)","v":""},{"$f":"IF(KELAS!Y31=\"\",\"\",TEXT(KELAS!Y31,\"0,00\"))","v":""},{"$f":"IF(KELAS!Z31=\"\",\"\",KELAS!Z31)","v":""},{"$f":"IF(KELAS!AA31=\"\",\"\",KELAS!AA31)","v":""},{"$f":"IF(KELAS!AB31=\"\",\"\",TEXT(KELAS!AB31,\"0,00\"))","v":""},{"$f":"IF(KELAS!AC31=\"\",\"\",KELAS!AC31)","v":""},{"$f":"IF(KELAS!AD31=\"\",\"\",KELAS!AD31)","v":""},{"$f":"IF(KELAS!AE31=\"\",\"\",KELAS!AE31)","v":""},{"$f":"IF(KELAS!AF31=\"\",\"\",KELAS!AF31)","v":""},{"$f":"IF(KELAS!AG31=\"\",\"\",KELAS!AG31)","v":""},{"$f":"IF(KELAS!AH31=\"\",\"\",TEXT(KELAS!AH31,\"0,00\"))","v":""},{"$f":"IF(KELAS!AI31=\"\",\"\",KELAS!AI31)","v":""},{"$f":"IF(KELAS!AJ31=\"\",\"\",KELAS!AJ31)","v":""},{"$f":"IF(KELAS!AK31=\"\",\"\",TEXT(KELAS!AK31,\"0,00\"))","v":""},{"$f":"IF(KELAS!AL31=\"\",\"\",KELAS!AL31)","v":""},{"$f":"IF(KELAS!AM31=\"\",\"\",KELAS!AM31)","v":""},{"$f":"IF(KELAS!AN31=\"\",\"\",KELAS!AN31)","v":""},{"$f":"IF(KELAS!AO31=\"\",\"\",KELAS!AO31)","v":""},{"$f":"IF(KELAS!AP31=\"\",\"\",KELAS!AP31)","v":""},{"$f":"IF(KELAS!AQ31=\"\",\"\",TEXT(KELAS!AQ31,\"0,00\"))","v":""},{"$f":"IF(KELAS!AR31=\"\",\"\",KELAS!AR31)","v":""},{"$f":"IF(KELAS!AS31=\"\",\"\",KELAS!AS31)","v":""},{"$f":"IF(KELAS!AT31=\"\",\"\",TEXT(KELAS!AT31,\"0,00\"))","v":""},{"$f":"IF(KELAS!AU31=\"\",\"\",KELAS!AU31)","v":""},{"$f":"IF(KELAS!AV31=\"\",\"\",KELAS!AV31)","v":""},{"$f":"IF(KELAS!AW31=\"\",\"\",KELAS!AW31)","v":""},{"$f":"IF(KELAS!AX31=\"\",\"\",KELAS!AX31)","v":""},{"$f":"IF(KELAS!AY31=\"\",\"\",KELAS!AY31)","v":""},{"$f":"IF(KELAS!AZ31=\"\",\"\",TEXT(KELAS!AZ31,\"0,00\"))","v":""},{"$f":"IF(KELAS!BA31=\"\",\"\",KELAS!BA31)","v":""},{"$f":"IF(KELAS!BB31=\"\",\"\",KELAS!BB31)","v":""},{"$f":"IF(KELAS!BC31=\"\",\"\",TEXT(KELAS!BC31,\"0,00\"))","v":""},{"$f":"IF(KELAS!BD31=\"\",\"\",KELAS!BD31)","v":""},{"$f":"IF(KELAS!BE31=\"\",\"\",KELAS!BE31)","v":""},{"$f":"IF(KELAS!BF31=\"\",\"\",KELAS!BF31)","v":""},{"$f":"IF(KELAS!BG31=\"\",\"\",KELAS!BG31)","v":""},{"$f":"IF(KELAS!BH31=\"\",\"\",KELAS!BH31)","v":""},{"$f":"IF(KELAS!BI31=\"\",\"\",TEXT(KELAS!BI31,\"0,00\"))","v":""},{"$f":"IF(KELAS!BJ31=\"\",\"\",KELAS!BJ31)","v":""},{"$f":"IF(KELAS!BK31=\"\",\"\",KELAS!BK31)","v":""},{"$f":"IF(KELAS!BL31=\"\",\"\",TEXT(KELAS!BL31,\"0,00\"))","v":""},{"$f":"IF(KELAS!BM31=\"\",\"\",KELAS!BM31)","v":""},{"$f":"IF(KELAS!BN31=\"\",\"\",KELAS!BN31)","v":""},{"$f":"IF(KELAS!BO31=\"\",\"\",KELAS!BO31)","v":""},{"$f":"IF(KELAS!BP31=\"\",\"\",KELAS!BP31)","v":""},{"$f":"IF(KELAS!BQ31=\"\",\"\",KELAS!BQ31)","v":""},{"$f":"IF(KELAS!BR31=\"\",\"\",TEXT(KELAS!BR31,\"0,00\"))","v":""},{"$f":"IF(KELAS!BS31=\"\",\"\",KELAS!BS31)","v":""},{"$f":"IF(KELAS!BT31=\"\",\"\",KELAS!BT31)","v":""},{"$f":"IF(KELAS!BU31=\"\",\"\",TEXT(KELAS!BU31,\"0,00\"))","v":""},{"$f":"IF(KELAS!BV31=\"\",\"\",KELAS!BV31)","v":""},{"$f":"IF(KELAS!BW31=\"\",\"\",KELAS!BW31)","v":""},{"$f":"IF(KELAS!BX31=\"\",\"\",KELAS!BX31)","v":""},{"$f":"IF(KELAS!BY31=\"\",\"\",KELAS!BY31)","v":""},{"$f":"IF(KELAS!BZ31=\"\",\"\",KELAS!BZ31)","v":""},{"$f":"IF(KELAS!CA31=\"\",\"\",TEXT(KELAS!CA31,\"0,00\"))","v":""},{"$f":"IF(KELAS!CB31=\"\",\"\",KELAS!CB31)","v":""},{"$f":"IF(KELAS!CC31=\"\",\"\",KELAS!CC31)","v":""},{"$f":"IF(KELAS!CD31=\"\",\"\",TEXT(KELAS!CD31,\"0,00\"))","v":""},{"$f":"IF(KELAS!CE31=\"\",\"\",KELAS!CE31)","v":""},{"$f":"IF(KELAS!CF31=\"\",\"\",KELAS!CF31)","v":""},{"$f":"IF(KELAS!CG31=\"\",\"\",KELAS!CG31)","v":""},{"$f":"IF(KELAS!CH31=\"\",\"\",KELAS!CH31)","v":""},{"$f":"IF(KELAS!CI31=\"\",\"\",KELAS!CI31)","v":""},{"$f":"IF(KELAS!CJ31=\"\",\"\",TEXT(KELAS!CJ31,\"0,00\"))","v":""},{"$f":"IF(KELAS!CK31=\"\",\"\",KELAS!CK31)","v":""},{"$f":"IF(KELAS!CL31=\"\",\"\",KELAS!CL31)","v":""},{"$f":"IF(KELAS!CM31=\"\",\"\",TEXT(KELAS!CM31,\"0,00\"))","v":""},{"$f":"IF(KELAS!CN31=\"\",\"\",KELAS!CN31)","v":""},{"$f":"IF(KELAS!CO31=\"\",\"\",KELAS!CO31)","v":""},{"$f":"IF(KELAS!CP31=\"\",\"\",KELAS!CP31)","v":""},{"$f":"IF(KELAS!CQ31=\"\",\"\",KELAS!CQ31)","v":""},{"$f":"IF(KELAS!CR31=\"\",\"\",KELAS!CR31)","v":""},{"$f":"IF(KELAS!CS31=\"\",\"\",TEXT(KELAS!CS31,\"0,00\"))","v":""},{"$f":"IF(KELAS!CT31=\"\",\"\",KELAS!CT31)","v":""},{"$f":"IF(KELAS!CU31=\"\",\"\",KELAS!CU31)","v":""},{"$f":"IF(KELAS!CV31=\"\",\"\",TEXT(KELAS!CV31,\"0,00\"))","v":""},{"$f":"IF(KELAS!CW31=\"\",\"\",KELAS!CW31)","v":""},{"$f":"IF(KELAS!CX31=\"\",\"\",KELAS!CX31)","v":""},{"$f":"IF(KELAS!CY31=\"\",\"\",KELAS!CY31)","v":""},{"$f":"IF(KELAS!CZ31=\"\",\"\",KELAS!CZ31)","v":""},{"$f":"IF(KELAS!DA31=\"\",\"\",KELAS!DA31)","v":""},{"$f":"IF(KELAS!DB31=\"\",\"\",TEXT(KELAS!DB31,\"0,00\"))","v":""},{"$f":"IF(KELAS!DC31=\"\",\"\",KELAS!DC31)","v":""},{"$f":"IF(KELAS!DD31=\"\",\"\",KELAS!DD31)","v":""},{"$f":"IF(KELAS!DE31=\"\",\"\",TEXT(KELAS!DE31,\"0,00\"))","v":""},{"$f":"IF(KELAS!DF31=\"\",\"\",KELAS!DF31)","v":""},{"$f":"IF(KELAS!DG31=\"\",\"\",KELAS!DG31)","v":""},{"$f":"IF(KELAS!DH31=\"\",\"\",KELAS!DH31)","v":""},{"$f":"IF(KELAS!DI31=\"\",\"\",KELAS!DI31)","v":""},{"$f":"IF(KELAS!DJ31=\"\",\"\",KELAS!DJ31)","v":""},{"$f":"IF(KELAS!DK31=\"\",\"\",KELAS!DK31)","v":3},{"$f":"IF(KELAS!DL31=\"\",\"\",KELAS!DL31)","v":3},{"$f":"IF(KELAS!DM31=\"\",\"\",KELAS!DM31)","v":2},{"$f":"IF(KELAS!DN31=\"\",\"\",KELAS!DN31)","v":2},{"$f":"IF(KELAS!DO31=\"\",\"\",KELAS!DO31)","v":""},{"$f":"IF(KELAS!DP31=\"\",\"\",KELAS!DP31)","v":""},{"$f":"IF(KELAS!DQ31=\"\",\"\",KELAS!DQ31)","v":""},{"$f":"IF(KELAS!DR31=\"\",\"\",KELAS!DR31)","v":""},{"$f":"IF(KELAS!DS31=\"\",\"\",KELAS!DS31)","v":""},{"$f":"IF(KELAS!DT31=\"\",\"\",KELAS!DT31)","v":""},{"$f":"IF(KELAS!DU31=\"\",\"\",KELAS!DU31)","v":""},{"$f":"IF(KELAS!DV31=\"\",\"\",KELAS!DV31)","v":""},{"$f":"IF(KELAS!DW31=\"\",\"\",KELAS!DW31)","v":""},{"$f":"IF(KELAS!DX31=\"\",\"\",KELAS!DX31)","v":""},{"$f":"IF(KELAS!DY31=\"\",\"\",KELAS!DY31)","v":""},{"$f":"IF(KELAS!DZ31=\"\",\"\",KELAS!DZ31)","v":""},{"$f":"IF(KELAS!EA31=\"\",\"\",KELAS!EA31)","v":"3 ( tiga )"},{"$f":"IF(KELAS!EB31=\"\",\"\",KELAS!EB31)","v":"3 ( tiga )"},{"$f":"IF(KELAS!EC31=\"\",\"\",KELAS!EC31)","v":"2 ( dua )"},{"$f":"IF(KELAS!ED31=\"\",\"\",KELAS!ED31)","v":"2 ( dua )"},{"$f":"IF(KELAS!EE31=\"\",\"\",KELAS!EE31)","v":""},{"$f":"IF(KELAS!EF31=\"\",\"\",KELAS!EF31)","v":""},{"$f":"IF(KELAS!EG31=\"\",\"\",KELAS!EG31)","v":"Peserta didik menunjukan sikap sungguh-sungguh dalam menerapkan sikap santun, jujur dan kerjasama, namun masih perlu ditingkatkan lagi sikap percaya diri dan ketepatan masuk sekolah"},{"$f":"IF(KELAS!EH31=\"\",\"\",KELAS!EH31)","v":"Dhany Suryanto, S.Pd."},{"$f":"IF(KELAS!EI31=\"\",\"\",KELAS!EI31)","v":"jika punya NIP isikan di sini"},{"$f":"IF(KELAS!EJ31=\"\",\"\",KELAS!EJ31)","v":0},{"$f":"IF(KELAS!EK31=\"\",\"\",KELAS!EK31)","v":0},{"$f":"IF(KELAS!EL31=\"\",\"\",KELAS!EL31)","v":0},{"$f":"IF(KELAS!EM31=\"\",\"\",KELAS!EM31)","v":0},{"$f":"IF(KELAS!EN31=\"\",\"\",KELAS!EN31)","v":0},{"$f":"IF(KELAS!EO31=\"\",\"\",KELAS!EO31)","v":0},{"$f":"IF(KELAS!EP31=\"\",\"\",KELAS!EP31)","v":0},{"$f":"IF(KELAS!EQ31=\"\",\"\",KELAS!EQ31)","v":0},{"$f":"IF(KELAS!ER31=\"\",\"\",KELAS!ER31)","v":0},{"$f":"IF(KELAS!ES31=\"\",\"\",KELAS!ES31)","v":0},{"$f":"IF(KELAS!ET31=\"\",\"\",KELAS!ET31)","v":0}]
[{"$f":"IF(KELAS!A32=\"\",\"\",KELAS!A32)","v":30},{"$f":"IF(KELAS!B32=\"\",\"\",KELAS!B32)","v":12732},{"$f":"IF(KELAS!C32=\"\",\"\",KELAS!C32)","v":"SLAMET TRIYAN PAMUNGKAS"},{"$f":"IF(KELAS!D32=\"\",\"\",KELAS!D32)","v":"L"},{"$f":"IF(KELAS!E32=\"\",\"\",KELAS!E32)","v":"7.A"},{"$f":"IF(KELAS!F32=\"\",\"\",KELAS!F32)","v":"Islam"},{"$f":"IF(KELAS!G32=\"\",\"\",KELAS!G32)","v":"-"},{"$f":"IF(KELAS!H32=\"\",\"\",KELAS!H32)","v":"Wonosobo, 15 Juni 1998"},{"$f":"IF(KELAS!I32=\"\",\"\",KELAS!I32)","v":"Slamet Muhamad Ahmali"},{"$f":"IF(KELAS!J32=\"\",\"\",KELAS!J32)","v":"Pedagang"},{"$f":"IF(KELAS!K32=\"\",\"\",KELAS!K32)","v":"Fatonah"},{"$f":"IF(KELAS!L32=\"\",\"\",KELAS!L32)","v":"Pedagang"},{"$f":"IF(KELAS!M32=\"\",\"\",KELAS!M32)","v":"Mlipak RT.02 RW.02, Wsb"},{"$f":"IF(KELAS!N32=\"\",\"\",KELAS!N32)","v":"SMPN 2 SELOMERTO"},{"$f":"IF(KELAS!O32=\"\",\"\",KELAS!O32)","v":1},{"$f":"IF(KELAS!P32=\"\",\"\",KELAS!P32)","v":"Anak Kandung"},{"$f":"IF(KELAS!Q32=\"\",\"\",TEXT(KELAS!Q32,\"0,00\"))","v":""},{"$f":"IF(KELAS!R32=\"\",\"\",KELAS!R32)","v":""},{"$f":"IF(KELAS!S32=\"\",\"\",KELAS!S32)","v":""},{"$f":"IF(KELAS!T32=\"\",\"\",TEXT(KELAS!T32,\"0,00\"))","v":""},{"$f":"IF(KELAS!U32=\"\",\"\",KELAS!U32)","v":""},{"$f":"IF(KELAS!V32=\"\",\"\",KELAS!V32)","v":""},{"$f":"IF(KELAS!W32=\"\",\"\",KELAS!W32)","v":""},{"$f":"IF(KELAS!X32=\"\",\"\",KELAS!X32)","v":""},{"$f":"IF(KELAS!Y32=\"\",\"\",TEXT(KELAS!Y32,\"0,00\"))","v":""},{"$f":"IF(KELAS!Z32=\"\",\"\",KELAS!Z32)","v":""},{"$f":"IF(KELAS!AA32=\"\",\"\",KELAS!AA32)","v":""},{"$f":"IF(KELAS!AB32=\"\",\"\",TEXT(KELAS!AB32,\"0,00\"))","v":""},{"$f":"IF(KELAS!AC32=\"\",\"\",KELAS!AC32)","v":""},{"$f":"IF(KELAS!AD32=\"\",\"\",KELAS!AD32)","v":""},{"$f":"IF(KELAS!AE32=\"\",\"\",KELAS!AE32)","v":""},{"$f":"IF(KELAS!AF32=\"\",\"\",KELAS!AF32)","v":""},{"$f":"IF(KELAS!AG32=\"\",\"\",KELAS!AG32)","v":""},{"$f":"IF(KELAS!AH32=\"\",\"\",TEXT(KELAS!AH32,\"0,00\"))","v":""},{"$f":"IF(KELAS!AI32=\"\",\"\",KELAS!AI32)","v":""},{"$f":"IF(KELAS!AJ32=\"\",\"\",KELAS!AJ32)","v":""},{"$f":"IF(KELAS!AK32=\"\",\"\",TEXT(KELAS!AK32,\"0,00\"))","v":""},{"$f":"IF(KELAS!AL32=\"\",\"\",KELAS!AL32)","v":""},{"$f":"IF(KELAS!AM32=\"\",\"\",KELAS!AM32)","v":""},{"$f":"IF(KELAS!AN32=\"\",\"\",KELAS!AN32)","v":""},{"$f":"IF(KELAS!AO32=\"\",\"\",KELAS!AO32)","v":""},{"$f":"IF(KELAS!AP32=\"\",\"\",KELAS!AP32)","v":""},{"$f":"IF(KELAS!AQ32=\"\",\"\",TEXT(KELAS!AQ32,\"0,00\"))","v":""},{"$f":"IF(KELAS!AR32=\"\",\"\",KELAS!AR32)","v":""},{"$f":"IF(KELAS!AS32=\"\",\"\",KELAS!AS32)","v":""},{"$f":"IF(KELAS!AT32=\"\",\"\",TEXT(KELAS!AT32,\"0,00\"))","v":""},{"$f":"IF(KELAS!AU32=\"\",\"\",KELAS!AU32)","v":""},{"$f":"IF(KELAS!AV32=\"\",\"\",KELAS!AV32)","v":""},{"$f":"IF(KELAS!AW32=\"\",\"\",KELAS!AW32)","v":""},{"$f":"IF(KELAS!AX32=\"\",\"\",KELAS!AX32)","v":""},{"$f":"IF(KELAS!AY32=\"\",\"\",KELAS!AY32)","v":""},{"$f":"IF(KELAS!AZ32=\"\",\"\",TEXT(KELAS!AZ32,\"0,00\"))","v":""},{"$f":"IF(KELAS!BA32=\"\",\"\",KELAS!BA32)","v":""},{"$f":"IF(KELAS!BB32=\"\",\"\",KELAS!BB32)","v":""},{"$f":"IF(KELAS!BC32=\"\",\"\",TEXT(KELAS!BC32,\"0,00\"))","v":""},{"$f":"IF(KELAS!BD32=\"\",\"\",KELAS!BD32)","v":""},{"$f":"IF(KELAS!BE32=\"\",\"\",KELAS!BE32)","v":""},{"$f":"IF(KELAS!BF32=\"\",\"\",KELAS!BF32)","v":""},{"$f":"IF(KELAS!BG32=\"\",\"\",KELAS!BG32)","v":""},{"$f":"IF(KELAS!BH32=\"\",\"\",KELAS!BH32)","v":""},{"$f":"IF(KELAS!BI32=\"\",\"\",TEXT(KELAS!BI32,\"0,00\"))","v":""},{"$f":"IF(KELAS!BJ32=\"\",\"\",KELAS!BJ32)","v":""},{"$f":"IF(KELAS!BK32=\"\",\"\",KELAS!BK32)","v":""},{"$f":"IF(KELAS!BL32=\"\",\"\",TEXT(KELAS!BL32,\"0,00\"))","v":""},{"$f":"IF(KELAS!BM32=\"\",\"\",KELAS!BM32)","v":""},{"$f":"IF(KELAS!BN32=\"\",\"\",KELAS!BN32)","v":""},{"$f":"IF(KELAS!BO32=\"\",\"\",KELAS!BO32)","v":""},{"$f":"IF(KELAS!BP32=\"\",\"\",KELAS!BP32)","v":""},{"$f":"IF(KELAS!BQ32=\"\",\"\",KELAS!BQ32)","v":""},{"$f":"IF(KELAS!BR32=\"\",\"\",TEXT(KELAS!BR32,\"0,00\"))","v":""},{"$f":"IF(KELAS!BS32=\"\",\"\",KELAS!BS32)","v":""},{"$f":"IF(KELAS!BT32=\"\",\"\",KELAS!BT32)","v":""},{"$f":"IF(KELAS!BU32=\"\",\"\",TEXT(KELAS!BU32,\"0,00\"))","v":""},{"$f":"IF(KELAS!BV32=\"\",\"\",KELAS!BV32)","v":""},{"$f":"IF(KELAS!BW32=\"\",\"\",KELAS!BW32)","v":""},{"$f":"IF(KELAS!BX32=\"\",\"\",KELAS!BX32)","v":""},{"$f":"IF(KELAS!BY32=\"\",\"\",KELAS!BY32)","v":""},{"$f":"IF(KELAS!BZ32=\"\",\"\",KELAS!BZ32)","v":""},{"$f":"IF(KELAS!CA32=\"\",\"\",TEXT(KELAS!CA32,\"0,00\"))","v":""},{"$f":"IF(KELAS!CB32=\"\",\"\",KELAS!CB32)","v":""},{"$f":"IF(KELAS!CC32=\"\",\"\",KELAS!CC32)","v":""},{"$f":"IF(KELAS!CD32=\"\",\"\",TEXT(KELAS!CD32,\"0,00\"))","v":""},{"$f":"IF(KELAS!CE32=\"\",\"\",KELAS!CE32)","v":""},{"$f":"IF(KELAS!CF32=\"\",\"\",KELAS!CF32)","v":""},{"$f":"IF(KELAS!CG32=\"\",\"\",KELAS!CG32)","v":""},{"$f":"IF(KELAS!CH32=\"\",\"\",KELAS!CH32)","v":""},{"$f":"IF(KELAS!CI32=\"\",\"\",KELAS!CI32)","v":""},{"$f":"IF(KELAS!CJ32=\"\",\"\",TEXT(KELAS!CJ32,\"0,00\"))","v":""},{"$f":"IF(KELAS!CK32=\"\",\"\",KELAS!CK32)","v":""},{"$f":"IF(KELAS!CL32=\"\",\"\",KELAS!CL32)","v":""},{"$f":"IF(KELAS!CM32=\"\",\"\",TEXT(KELAS!CM32,\"0,00\"))","v":""},{"$f":"IF(KELAS!CN32=\"\",\"\",KELAS!CN32)","v":""},{"$f":"IF(KELAS!CO32=\"\",\"\",KELAS!CO32)","v":""},{"$f":"IF(KELAS!CP32=\"\",\"\",KELAS!CP32)","v":""},{"$f":"IF(KELAS!CQ32=\"\",\"\",KELAS!CQ32)","v":""},{"$f":"IF(KELAS!CR32=\"\",\"\",KELAS!CR32)","v":""},{"$f":"IF(KELAS!CS32=\"\",\"\",TEXT(KELAS!CS32,\"0,00\"))","v":""},{"$f":"IF(KELAS!CT32=\"\",\"\",KELAS!CT32)","v":""},{"$f":"IF(KELAS!CU32=\"\",\"\",KELAS!CU32)","v":""},{"$f":"IF(KELAS!CV32=\"\",\"\",TEXT(KELAS!CV32,\"0,00\"))","v":""},{"$f":"IF(KELAS!CW32=\"\",\"\",KELAS!CW32)","v":""},{"$f":"IF(KELAS!CX32=\"\",\"\",KELAS!CX32)","v":""},{"$f":"IF(KELAS!CY32=\"\",\"\",KELAS!CY32)","v":""},{"$f":"IF(KELAS!CZ32=\"\",\"\",KELAS!CZ32)","v":""},{"$f":"IF(KELAS!DA32=\"\",\"\",KELAS!DA32)","v":""},{"$f":"IF(KELAS!DB32=\"\",\"\",TEXT(KELAS!DB32,\"0,00\"))","v":""},{"$f":"IF(KELAS!DC32=\"\",\"\",KELAS!DC32)","v":""},{"$f":"IF(KELAS!DD32=\"\",\"\",KELAS!DD32)","v":""},{"$f":"IF(KELAS!DE32=\"\",\"\",TEXT(KELAS!DE32,\"0,00\"))","v":""},{"$f":"IF(KELAS!DF32=\"\",\"\",KELAS!DF32)","v":""},{"$f":"IF(KELAS!DG32=\"\",\"\",KELAS!DG32)","v":""},{"$f":"IF(KELAS!DH32=\"\",\"\",KELAS!DH32)","v":""},{"$f":"IF(KELAS!DI32=\"\",\"\",KELAS!DI32)","v":""},{"$f":"IF(KELAS!DJ32=\"\",\"\",KELAS!DJ32)","v":""},{"$f":"IF(KELAS!DK32=\"\",\"\",KELAS!DK32)","v":3},{"$f":"IF(KELAS!DL32=\"\",\"\",KELAS!DL32)","v":3},{"$f":"IF(KELAS!DM32=\"\",\"\",KELAS!DM32)","v":2},{"$f":"IF(KELAS!DN32=\"\",\"\",KELAS!DN32)","v":2},{"$f":"IF(KELAS!DO32=\"\",\"\",KELAS!DO32)","v":""},{"$f":"IF(KELAS!DP32=\"\",\"\",KELAS!DP32)","v":""},{"$f":"IF(KELAS!DQ32=\"\",\"\",KELAS!DQ32)","v":""},{"$f":"IF(KELAS!DR32=\"\",\"\",KELAS!DR32)","v":""},{"$f":"IF(KELAS!DS32=\"\",\"\",KELAS!DS32)","v":""},{"$f":"IF(KELAS!DT32=\"\",\"\",KELAS!DT32)","v":""},{"$f":"IF(KELAS!DU32=\"\",\"\",KELAS!DU32)","v":""},{"$f":"IF(KELAS!DV32=\"\",\"\",KELAS!DV32)","v":""},{"$f":"IF(KELAS!DW32=\"\",\"\",KELAS!DW32)","v":""},{"$f":"IF(KELAS!DX32=\"\",\"\",KELAS!DX32)","v":""},{"$f":"IF(KELAS!DY32=\"\",\"\",KELAS!DY32)","v":""},{"$f":"IF(KELAS!DZ32=\"\",\"\",KELAS!DZ32)","v":""},{"$f":"IF(KELAS!EA32=\"\",\"\",KELAS!EA32)","v":"3 ( tiga )"},{"$f":"IF(KELAS!EB32=\"\",\"\",KELAS!EB32)","v":"3 ( tiga )"},{"$f":"IF(KELAS!EC32=\"\",\"\",KELAS!EC32)","v":"2 ( dua )"},{"$f":"IF(KELAS!ED32=\"\",\"\",KELAS!ED32)","v":"2 ( dua )"},{"$f":"IF(KELAS!EE32=\"\",\"\",KELAS!EE32)","v":""},{"$f":"IF(KELAS!EF32=\"\",\"\",KELAS!EF32)","v":""},{"$f":"IF(KELAS!EG32=\"\",\"\",KELAS!EG32)","v":"Peserta didik menunjukan sikap sungguh-sungguh dalam menerapkan sikap santun, jujur dan kerjasama, namun masih perlu ditingkatkan lagi sikap percaya diri dan ketepatan masuk sekolah"},{"$f":"IF(KELAS!EH32=\"\",\"\",KELAS!EH32)","v":"Dhany Suryanto, S.Pd."},{"$f":"IF(KELAS!EI32=\"\",\"\",KELAS!EI32)","v":"jika punya NIP isikan di sini"},{"$f":"IF(KELAS!EJ32=\"\",\"\",KELAS!EJ32)","v":0},{"$f":"IF(KELAS!EK32=\"\",\"\",KELAS!EK32)","v":0},{"$f":"IF(KELAS!EL32=\"\",\"\",KELAS!EL32)","v":0},{"$f":"IF(KELAS!EM32=\"\",\"\",KELAS!EM32)","v":0},{"$f":"IF(KELAS!EN32=\"\",\"\",KELAS!EN32)","v":0},{"$f":"IF(KELAS!EO32=\"\",\"\",KELAS!EO32)","v":0},{"$f":"IF(KELAS!EP32=\"\",\"\",KELAS!EP32)","v":0},{"$f":"IF(KELAS!EQ32=\"\",\"\",KELAS!EQ32)","v":0},{"$f":"IF(KELAS!ER32=\"\",\"\",KELAS!ER32)","v":0},{"$f":"IF(KELAS!ES32=\"\",\"\",KELAS!ES32)","v":0},{"$f":"IF(KELAS!ET32=\"\",\"\",KELAS!ET32)","v":0}]
[{"$f":"IF(KELAS!A33=\"\",\"\",KELAS!A33)","v":31},{"$f":"IF(KELAS!B33=\"\",\"\",KELAS!B33)","v":12739},{"$f":"IF(KELAS!C33=\"\",\"\",KELAS!C33)","v":"SULTONI"},{"$f":"IF(KELAS!D33=\"\",\"\",KELAS!D33)","v":"L"},{"$f":"IF(KELAS!E33=\"\",\"\",KELAS!E33)","v":"7.A"},{"$f":"IF(KELAS!F33=\"\",\"\",KELAS!F33)","v":"Islam"},{"$f":"IF(KELAS!G33=\"\",\"\",KELAS!G33)","v":9980679323},{"$f":"IF(KELAS!H33=\"\",\"\",KELAS!H33)","v":"Wonosobo, 19 Maret 1998"},{"$f":"IF(KELAS!I33=\"\",\"\",KELAS!I33)","v":"Ahmad Kardi"},{"$f":"IF(KELAS!J33=\"\",\"\",KELAS!J33)","v":"Karyawan Swasta"},{"$f":"IF(KELAS!K33=\"\",\"\",KELAS!K33)","v":"Suprihati"},{"$f":"IF(KELAS!L33=\"\",\"\",KELAS!L33)","v":"Ibu Rumah Tangga"},{"$f":"IF(KELAS!M33=\"\",\"\",KELAS!M33)","v":"Tedunan RT.20 RW.04, Pucungkerep, Kaliwiro, Wsb"},{"$f":"IF(KELAS!N33=\"\",\"\",KELAS!N33)","v":"SMPN 5 KALIWIRO"},{"$f":"IF(KELAS!O33=\"\",\"\",KELAS!O33)","v":2},{"$f":"IF(KELAS!P33=\"\",\"\",KELAS!P33)","v":"Anak Kandung"},{"$f":"IF(KELAS!Q33=\"\",\"\",TEXT(KELAS!Q33,\"0,00\"))","v":""},{"$f":"IF(KELAS!R33=\"\",\"\",KELAS!R33)","v":""},{"$f":"IF(KELAS!S33=\"\",\"\",KELAS!S33)","v":""},{"$f":"IF(KELAS!T33=\"\",\"\",TEXT(KELAS!T33,\"0,00\"))","v":""},{"$f":"IF(KELAS!U33=\"\",\"\",KELAS!U33)","v":""},{"$f":"IF(KELAS!V33=\"\",\"\",KELAS!V33)","v":""},{"$f":"IF(KELAS!W33=\"\",\"\",KELAS!W33)","v":""},{"$f":"IF(KELAS!X33=\"\",\"\",KELAS!X33)","v":""},{"$f":"IF(KELAS!Y33=\"\",\"\",TEXT(KELAS!Y33,\"0,00\"))","v":""},{"$f":"IF(KELAS!Z33=\"\",\"\",KELAS!Z33)","v":""},{"$f":"IF(KELAS!AA33=\"\",\"\",KELAS!AA33)","v":""},{"$f":"IF(KELAS!AB33=\"\",\"\",TEXT(KELAS!AB33,\"0,00\"))","v":""},{"$f":"IF(KELAS!AC33=\"\",\"\",KELAS!AC33)","v":""},{"$f":"IF(KELAS!AD33=\"\",\"\",KELAS!AD33)","v":""},{"$f":"IF(KELAS!AE33=\"\",\"\",KELAS!AE33)","v":""},{"$f":"IF(KELAS!AF33=\"\",\"\",KELAS!AF33)","v":""},{"$f":"IF(KELAS!AG33=\"\",\"\",KELAS!AG33)","v":""},{"$f":"IF(KELAS!AH33=\"\",\"\",TEXT(KELAS!AH33,\"0,00\"))","v":""},{"$f":"IF(KELAS!AI33=\"\",\"\",KELAS!AI33)","v":""},{"$f":"IF(KELAS!AJ33=\"\",\"\",KELAS!AJ33)","v":""},{"$f":"IF(KELAS!AK33=\"\",\"\",TEXT(KELAS!AK33,\"0,00\"))","v":""},{"$f":"IF(KELAS!AL33=\"\",\"\",KELAS!AL33)","v":""},{"$f":"IF(KELAS!AM33=\"\",\"\",KELAS!AM33)","v":""},{"$f":"IF(KELAS!AN33=\"\",\"\",KELAS!AN33)","v":""},{"$f":"IF(KELAS!AO33=\"\",\"\",KELAS!AO33)","v":""},{"$f":"IF(KELAS!AP33=\"\",\"\",KELAS!AP33)","v":""},{"$f":"IF(KELAS!AQ33=\"\",\"\",TEXT(KELAS!AQ33,\"0,00\"))","v":""},{"$f":"IF(KELAS!AR33=\"\",\"\",KELAS!AR33)","v":""},{"$f":"IF(KELAS!AS33=\"\",\"\",KELAS!AS33)","v":""},{"$f":"IF(KELAS!AT33=\"\",\"\",TEXT(KELAS!AT33,\"0,00\"))","v":""},{"$f":"IF(KELAS!AU33=\"\",\"\",KELAS!AU33)","v":""},{"$f":"IF(KELAS!AV33=\"\",\"\",KELAS!AV33)","v":""},{"$f":"IF(KELAS!AW33=\"\",\"\",KELAS!AW33)","v":""},{"$f":"IF(KELAS!AX33=\"\",\"\",KELAS!AX33)","v":""},{"$f":"IF(KELAS!AY33=\"\",\"\",KELAS!AY33)","v":""},{"$f":"IF(KELAS!AZ33=\"\",\"\",TEXT(KELAS!AZ33,\"0,00\"))","v":""},{"$f":"IF(KELAS!BA33=\"\",\"\",KELAS!BA33)","v":""},{"$f":"IF(KELAS!BB33=\"\",\"\",KELAS!BB33)","v":""},{"$f":"IF(KELAS!BC33=\"\",\"\",TEXT(KELAS!BC33,\"0,00\"))","v":""},{"$f":"IF(KELAS!BD33=\"\",\"\",KELAS!BD33)","v":""},{"$f":"IF(KELAS!BE33=\"\",\"\",KELAS!BE33)","v":""},{"$f":"IF(KELAS!BF33=\"\",\"\",KELAS!BF33)","v":""},{"$f":"IF(KELAS!BG33=\"\",\"\",KELAS!BG33)","v":""},{"$f":"IF(KELAS!BH33=\"\",\"\",KELAS!BH33)","v":""},{"$f":"IF(KELAS!BI33=\"\",\"\",TEXT(KELAS!BI33,\"0,00\"))","v":""},{"$f":"IF(KELAS!BJ33=\"\",\"\",KELAS!BJ33)","v":""},{"$f":"IF(KELAS!BK33=\"\",\"\",KELAS!BK33)","v":""},{"$f":"IF(KELAS!BL33=\"\",\"\",TEXT(KELAS!BL33,\"0,00\"))","v":""},{"$f":"IF(KELAS!BM33=\"\",\"\",KELAS!BM33)","v":""},{"$f":"IF(KELAS!BN33=\"\",\"\",KELAS!BN33)","v":""},{"$f":"IF(KELAS!BO33=\"\",\"\",KELAS!BO33)","v":""},{"$f":"IF(KELAS!BP33=\"\",\"\",KELAS!BP33)","v":""},{"$f":"IF(KELAS!BQ33=\"\",\"\",KELAS!BQ33)","v":""},{"$f":"IF(KELAS!BR33=\"\",\"\",TEXT(KELAS!BR33,\"0,00\"))","v":""},{"$f":"IF(KELAS!BS33=\"\",\"\",KELAS!BS33)","v":""},{"$f":"IF(KELAS!BT33=\"\",\"\",KELAS!BT33)","v":""},{"$f":"IF(KELAS!BU33=\"\",\"\",TEXT(KELAS!BU33,\"0,00\"))","v":""},{"$f":"IF(KELAS!BV33=\"\",\"\",KELAS!BV33)","v":""},{"$f":"IF(KELAS!BW33=\"\",\"\",KELAS!BW33)","v":""},{"$f":"IF(KELAS!BX33=\"\",\"\",KELAS!BX33)","v":""},{"$f":"IF(KELAS!BY33=\"\",\"\",KELAS!BY33)","v":""},{"$f":"IF(KELAS!BZ33=\"\",\"\",KELAS!BZ33)","v":""},{"$f":"IF(KELAS!CA33=\"\",\"\",TEXT(KELAS!CA33,\"0,00\"))","v":""},{"$f":"IF(KELAS!CB33=\"\",\"\",KELAS!CB33)","v":""},{"$f":"IF(KELAS!CC33=\"\",\"\",KELAS!CC33)","v":""},{"$f":"IF(KELAS!CD33=\"\",\"\",TEXT(KELAS!CD33,\"0,00\"))","v":""},{"$f":"IF(KELAS!CE33=\"\",\"\",KELAS!CE33)","v":""},{"$f":"IF(KELAS!CF33=\"\",\"\",KELAS!CF33)","v":""},{"$f":"IF(KELAS!CG33=\"\",\"\",KELAS!CG33)","v":""},{"$f":"IF(KELAS!CH33=\"\",\"\",KELAS!CH33)","v":""},{"$f":"IF(KELAS!CI33=\"\",\"\",KELAS!CI33)","v":""},{"$f":"IF(KELAS!CJ33=\"\",\"\",TEXT(KELAS!CJ33,\"0,00\"))","v":""},{"$f":"IF(KELAS!CK33=\"\",\"\",KELAS!CK33)","v":""},{"$f":"IF(KELAS!CL33=\"\",\"\",KELAS!CL33)","v":""},{"$f":"IF(KELAS!CM33=\"\",\"\",TEXT(KELAS!CM33,\"0,00\"))","v":""},{"$f":"IF(KELAS!CN33=\"\",\"\",KELAS!CN33)","v":""},{"$f":"IF(KELAS!CO33=\"\",\"\",KELAS!CO33)","v":""},{"$f":"IF(KELAS!CP33=\"\",\"\",KELAS!CP33)","v":""},{"$f":"IF(KELAS!CQ33=\"\",\"\",KELAS!CQ33)","v":""},{"$f":"IF(KELAS!CR33=\"\",\"\",KELAS!CR33)","v":""},{"$f":"IF(KELAS!CS33=\"\",\"\",TEXT(KELAS!CS33,\"0,00\"))","v":""},{"$f":"IF(KELAS!CT33=\"\",\"\",KELAS!CT33)","v":""},{"$f":"IF(KELAS!CU33=\"\",\"\",KELAS!CU33)","v":""},{"$f":"IF(KELAS!CV33=\"\",\"\",TEXT(KELAS!CV33,\"0,00\"))","v":""},{"$f":"IF(KELAS!CW33=\"\",\"\",KELAS!CW33)","v":""},{"$f":"IF(KELAS!CX33=\"\",\"\",KELAS!CX33)","v":""},{"$f":"IF(KELAS!CY33=\"\",\"\",KELAS!CY33)","v":""},{"$f":"IF(KELAS!CZ33=\"\",\"\",KELAS!CZ33)","v":""},{"$f":"IF(KELAS!DA33=\"\",\"\",KELAS!DA33)","v":""},{"$f":"IF(KELAS!DB33=\"\",\"\",TEXT(KELAS!DB33,\"0,00\"))","v":""},{"$f":"IF(KELAS!DC33=\"\",\"\",KELAS!DC33)","v":""},{"$f":"IF(KELAS!DD33=\"\",\"\",KELAS!DD33)","v":""},{"$f":"IF(KELAS!DE33=\"\",\"\",TEXT(KELAS!DE33,\"0,00\"))","v":""},{"$f":"IF(KELAS!DF33=\"\",\"\",KELAS!DF33)","v":""},{"$f":"IF(KELAS!DG33=\"\",\"\",KELAS!DG33)","v":""},{"$f":"IF(KELAS!DH33=\"\",\"\",KELAS!DH33)","v":""},{"$f":"IF(KELAS!DI33=\"\",\"\",KELAS!DI33)","v":""},{"$f":"IF(KELAS!DJ33=\"\",\"\",KELAS!DJ33)","v":""},{"$f":"IF(KELAS!DK33=\"\",\"\",KELAS!DK33)","v":2},{"$f":"IF(KELAS!DL33=\"\",\"\",KELAS!DL33)","v":1},{"$f":"IF(KELAS!DM33=\"\",\"\",KELAS!DM33)","v":2},{"$f":"IF(KELAS!DN33=\"\",\"\",KELAS!DN33)","v":1},{"$f":"IF(KELAS!DO33=\"\",\"\",KELAS!DO33)","v":""},{"$f":"IF(KELAS!DP33=\"\",\"\",KELAS!DP33)","v":""},{"$f":"IF(KELAS!DQ33=\"\",\"\",KELAS!DQ33)","v":""},{"$f":"IF(KELAS!DR33=\"\",\"\",KELAS!DR33)","v":""},{"$f":"IF(KELAS!DS33=\"\",\"\",KELAS!DS33)","v":""},{"$f":"IF(KELAS!DT33=\"\",\"\",KELAS!DT33)","v":""},{"$f":"IF(KELAS!DU33=\"\",\"\",KELAS!DU33)","v":""},{"$f":"IF(KELAS!DV33=\"\",\"\",KELAS!DV33)","v":""},{"$f":"IF(KELAS!DW33=\"\",\"\",KELAS!DW33)","v":""},{"$f":"IF(KELAS!DX33=\"\",\"\",KELAS!DX33)","v":""},{"$f":"IF(KELAS!DY33=\"\",\"\",KELAS!DY33)","v":""},{"$f":"IF(KELAS!DZ33=\"\",\"\",KELAS!DZ33)","v":""},{"$f":"IF(KELAS!EA33=\"\",\"\",KELAS!EA33)","v":"2 ( dua )"},{"$f":"IF(KELAS!EB33=\"\",\"\",KELAS!EB33)","v":"1 ( satu )"},{"$f":"IF(KELAS!EC33=\"\",\"\",KELAS!EC33)","v":"2 ( dua )"},{"$f":"IF(KELAS!ED33=\"\",\"\",KELAS!ED33)","v":"1 ( satu )"},{"$f":"IF(KELAS!EE33=\"\",\"\",KELAS!EE33)","v":""},{"$f":"IF(KELAS!EF33=\"\",\"\",KELAS!EF33)","v":""},{"$f":"IF(KELAS!EG33=\"\",\"\",KELAS!EG33)","v":"Peserta didik menunjukan sikap sungguh-sungguh dalam menerapkan sikap santun, jujur dan kerjasama, namun masih perlu ditingkatkan lagi sikap percaya diri dan ketepatan masuk sekolah"},{"$f":"IF(KELAS!EH33=\"\",\"\",KELAS!EH33)","v":"Dhany Suryanto, S.Pd."},{"$f":"IF(KELAS!EI33=\"\",\"\",KELAS!EI33)","v":"jika punya NIP isikan di sini"},{"$f":"IF(KELAS!EJ33=\"\",\"\",KELAS!EJ33)","v":0},{"$f":"IF(KELAS!EK33=\"\",\"\",KELAS!EK33)","v":0},{"$f":"IF(KELAS!EL33=\"\",\"\",KELAS!EL33)","v":0},{"$f":"IF(KELAS!EM33=\"\",\"\",KELAS!EM33)","v":0},{"$f":"IF(KELAS!EN33=\"\",\"\",KELAS!EN33)","v":0},{"$f":"IF(KELAS!EO33=\"\",\"\",KELAS!EO33)","v":0},{"$f":"IF(KELAS!EP33=\"\",\"\",KELAS!EP33)","v":0},{"$f":"IF(KELAS!EQ33=\"\",\"\",KELAS!EQ33)","v":0},{"$f":"IF(KELAS!ER33=\"\",\"\",KELAS!ER33)","v":0},{"$f":"IF(KELAS!ES33=\"\",\"\",KELAS!ES33)","v":0},{"$f":"IF(KELAS!ET33=\"\",\"\",KELAS!ET33)","v":0}]
[{"$f":"IF(KELAS!A34=\"\",\"\",KELAS!A34)","v":32},{"$f":"IF(KELAS!B34=\"\",\"\",KELAS!B34)","v":12758},{"$f":"IF(KELAS!C34=\"\",\"\",KELAS!C34)","v":"VICO AFDIANSYAH"},{"$f":"IF(KELAS!D34=\"\",\"\",KELAS!D34)","v":"L"},{"$f":"IF(KELAS!E34=\"\",\"\",KELAS!E34)","v":"7.A"},{"$f":"IF(KELAS!F34=\"\",\"\",KELAS!F34)","v":"Islam"},{"$f":"IF(KELAS!G34=\"\",\"\",KELAS!G34)","v":9971533148},{"$f":"IF(KELAS!H34=\"\",\"\",KELAS!H34)","v":"Wonosobo, 09 Juni 1998"},{"$f":"IF(KELAS!I34=\"\",\"\",KELAS!I34)","v":"Windarto"},{"$f":"IF(KELAS!J34=\"\",\"\",KELAS!J34)","v":"Wiraswasta"},{"$f":"IF(KELAS!K34=\"\",\"\",KELAS!K34)","v":"Siti Romelah"},{"$f":"IF(KELAS!L34=\"\",\"\",KELAS!L34)","v":"Ibu Rumah Tangga"},{"$f":"IF(KELAS!M34=\"\",\"\",KELAS!M34)","v":"Mlipak RT.04 RW.01, Wsb"},{"$f":"IF(KELAS!N34=\"\",\"\",KELAS!N34)","v":"SMPN 2 WONOSOBO"},{"$f":"IF(KELAS!O34=\"\",\"\",KELAS!O34)","v":1},{"$f":"IF(KELAS!P34=\"\",\"\",KELAS!P34)","v":"Anak Kandung"},{"$f":"IF(KELAS!Q34=\"\",\"\",TEXT(KELAS!Q34,\"0,00\"))","v":""},{"$f":"IF(KELAS!R34=\"\",\"\",KELAS!R34)","v":""},{"$f":"IF(KELAS!S34=\"\",\"\",KELAS!S34)","v":""},{"$f":"IF(KELAS!T34=\"\",\"\",TEXT(KELAS!T34,\"0,00\"))","v":""},{"$f":"IF(KELAS!U34=\"\",\"\",KELAS!U34)","v":""},{"$f":"IF(KELAS!V34=\"\",\"\",KELAS!V34)","v":""},{"$f":"IF(KELAS!W34=\"\",\"\",KELAS!W34)","v":""},{"$f":"IF(KELAS!X34=\"\",\"\",KELAS!X34)","v":""},{"$f":"IF(KELAS!Y34=\"\",\"\",TEXT(KELAS!Y34,\"0,00\"))","v":""},{"$f":"IF(KELAS!Z34=\"\",\"\",KELAS!Z34)","v":""},{"$f":"IF(KELAS!AA34=\"\",\"\",KELAS!AA34)","v":""},{"$f":"IF(KELAS!AB34=\"\",\"\",TEXT(KELAS!AB34,\"0,00\"))","v":""},{"$f":"IF(KELAS!AC34=\"\",\"\",KELAS!AC34)","v":""},{"$f":"IF(KELAS!AD34=\"\",\"\",KELAS!AD34)","v":""},{"$f":"IF(KELAS!AE34=\"\",\"\",KELAS!AE34)","v":""},{"$f":"IF(KELAS!AF34=\"\",\"\",KELAS!AF34)","v":""},{"$f":"IF(KELAS!AG34=\"\",\"\",KELAS!AG34)","v":""},{"$f":"IF(KELAS!AH34=\"\",\"\",TEXT(KELAS!AH34,\"0,00\"))","v":""},{"$f":"IF(KELAS!AI34=\"\",\"\",KELAS!AI34)","v":""},{"$f":"IF(KELAS!AJ34=\"\",\"\",KELAS!AJ34)","v":""},{"$f":"IF(KELAS!AK34=\"\",\"\",TEXT(KELAS!AK34,\"0,00\"))","v":""},{"$f":"IF(KELAS!AL34=\"\",\"\",KELAS!AL34)","v":""},{"$f":"IF(KELAS!AM34=\"\",\"\",KELAS!AM34)","v":""},{"$f":"IF(KELAS!AN34=\"\",\"\",KELAS!AN34)","v":""},{"$f":"IF(KELAS!AO34=\"\",\"\",KELAS!AO34)","v":""},{"$f":"IF(KELAS!AP34=\"\",\"\",KELAS!AP34)","v":""},{"$f":"IF(KELAS!AQ34=\"\",\"\",TEXT(KELAS!AQ34,\"0,00\"))","v":""},{"$f":"IF(KELAS!AR34=\"\",\"\",KELAS!AR34)","v":""},{"$f":"IF(KELAS!AS34=\"\",\"\",KELAS!AS34)","v":""},{"$f":"IF(KELAS!AT34=\"\",\"\",TEXT(KELAS!AT34,\"0,00\"))","v":""},{"$f":"IF(KELAS!AU34=\"\",\"\",KELAS!AU34)","v":""},{"$f":"IF(KELAS!AV34=\"\",\"\",KELAS!AV34)","v":""},{"$f":"IF(KELAS!AW34=\"\",\"\",KELAS!AW34)","v":""},{"$f":"IF(KELAS!AX34=\"\",\"\",KELAS!AX34)","v":""},{"$f":"IF(KELAS!AY34=\"\",\"\",KELAS!AY34)","v":""},{"$f":"IF(KELAS!AZ34=\"\",\"\",TEXT(KELAS!AZ34,\"0,00\"))","v":""},{"$f":"IF(KELAS!BA34=\"\",\"\",KELAS!BA34)","v":""},{"$f":"IF(KELAS!BB34=\"\",\"\",KELAS!BB34)","v":""},{"$f":"IF(KELAS!BC34=\"\",\"\",TEXT(KELAS!BC34,\"0,00\"))","v":""},{"$f":"IF(KELAS!BD34=\"\",\"\",KELAS!BD34)","v":""},{"$f":"IF(KELAS!BE34=\"\",\"\",KELAS!BE34)","v":""},{"$f":"IF(KELAS!BF34=\"\",\"\",KELAS!BF34)","v":""},{"$f":"IF(KELAS!BG34=\"\",\"\",KELAS!BG34)","v":""},{"$f":"IF(KELAS!BH34=\"\",\"\",KELAS!BH34)","v":""},{"$f":"IF(KELAS!BI34=\"\",\"\",TEXT(KELAS!BI34,\"0,00\"))","v":""},{"$f":"IF(KELAS!BJ34=\"\",\"\",KELAS!BJ34)","v":""},{"$f":"IF(KELAS!BK34=\"\",\"\",KELAS!BK34)","v":""},{"$f":"IF(KELAS!BL34=\"\",\"\",TEXT(KELAS!BL34,\"0,00\"))","v":""},{"$f":"IF(KELAS!BM34=\"\",\"\",KELAS!BM34)","v":""},{"$f":"IF(KELAS!BN34=\"\",\"\",KELAS!BN34)","v":""},{"$f":"IF(KELAS!BO34=\"\",\"\",KELAS!BO34)","v":""},{"$f":"IF(KELAS!BP34=\"\",\"\",KELAS!BP34)","v":""},{"$f":"IF(KELAS!BQ34=\"\",\"\",KELAS!BQ34)","v":""},{"$f":"IF(KELAS!BR34=\"\",\"\",TEXT(KELAS!BR34,\"0,00\"))","v":""},{"$f":"IF(KELAS!BS34=\"\",\"\",KELAS!BS34)","v":""},{"$f":"IF(KELAS!BT34=\"\",\"\",KELAS!BT34)","v":""},{"$f":"IF(KELAS!BU34=\"\",\"\",TEXT(KELAS!BU34,\"0,00\"))","v":""},{"$f":"IF(KELAS!BV34=\"\",\"\",KELAS!BV34)","v":""},{"$f":"IF(KELAS!BW34=\"\",\"\",KELAS!BW34)","v":""},{"$f":"IF(KELAS!BX34=\"\",\"\",KELAS!BX34)","v":""},{"$f":"IF(KELAS!BY34=\"\",\"\",KELAS!BY34)","v":""},{"$f":"IF(KELAS!BZ34=\"\",\"\",KELAS!BZ34)","v":""},{"$f":"IF(KELAS!CA34=\"\",\"\",TEXT(KELAS!CA34,\"0,00\"))","v":""},{"$f":"IF(KELAS!CB34=\"\",\"\",KELAS!CB34)","v":""},{"$f":"IF(KELAS!CC34=\"\",\"\",KELAS!CC34)","v":""},{"$f":"IF(KELAS!CD34=\"\",\"\",TEXT(KELAS!CD34,\"0,00\"))","v":""},{"$f":"IF(KELAS!CE34=\"\",\"\",KELAS!CE34)","v":""},{"$f":"IF(KELAS!CF34=\"\",\"\",KELAS!CF34)","v":""},{"$f":"IF(KELAS!CG34=\"\",\"\",KELAS!CG34)","v":""},{"$f":"IF(KELAS!CH34=\"\",\"\",KELAS!CH34)","v":""},{"$f":"IF(KELAS!CI34=\"\",\"\",KELAS!CI34)","v":""},{"$f":"IF(KELAS!CJ34=\"\",\"\",TEXT(KELAS!CJ34,\"0,00\"))","v":""},{"$f":"IF(KELAS!CK34=\"\",\"\",KELAS!CK34)","v":""},{"$f":"IF(KELAS!CL34=\"\",\"\",KELAS!CL34)","v":""},{"$f":"IF(KELAS!CM34=\"\",\"\",TEXT(KELAS!CM34,\"0,00\"))","v":""},{"$f":"IF(KELAS!CN34=\"\",\"\",KELAS!CN34)","v":""},{"$f":"IF(KELAS!CO34=\"\",\"\",KELAS!CO34)","v":""},{"$f":"IF(KELAS!CP34=\"\",\"\",KELAS!CP34)","v":""},{"$f":"IF(KELAS!CQ34=\"\",\"\",KELAS!CQ34)","v":""},{"$f":"IF(KELAS!CR34=\"\",\"\",KELAS!CR34)","v":""},{"$f":"IF(KELAS!CS34=\"\",\"\",TEXT(KELAS!CS34,\"0,00\"))","v":""},{"$f":"IF(KELAS!CT34=\"\",\"\",KELAS!CT34)","v":""},{"$f":"IF(KELAS!CU34=\"\",\"\",KELAS!CU34)","v":""},{"$f":"IF(KELAS!CV34=\"\",\"\",TEXT(KELAS!CV34,\"0,00\"))","v":""},{"$f":"IF(KELAS!CW34=\"\",\"\",KELAS!CW34)","v":""},{"$f":"IF(KELAS!CX34=\"\",\"\",KELAS!CX34)","v":""},{"$f":"IF(KELAS!CY34=\"\",\"\",KELAS!CY34)","v":""},{"$f":"IF(KELAS!CZ34=\"\",\"\",KELAS!CZ34)","v":""},{"$f":"IF(KELAS!DA34=\"\",\"\",KELAS!DA34)","v":""},{"$f":"IF(KELAS!DB34=\"\",\"\",TEXT(KELAS!DB34,\"0,00\"))","v":""},{"$f":"IF(KELAS!DC34=\"\",\"\",KELAS!DC34)","v":""},{"$f":"IF(KELAS!DD34=\"\",\"\",KELAS!DD34)","v":""},{"$f":"IF(KELAS!DE34=\"\",\"\",TEXT(KELAS!DE34,\"0,00\"))","v":""},{"$f":"IF(KELAS!DF34=\"\",\"\",KELAS!DF34)","v":""},{"$f":"IF(KELAS!DG34=\"\",\"\",KELAS!DG34)","v":""},{"$f":"IF(KELAS!DH34=\"\",\"\",KELAS!DH34)","v":""},{"$f":"IF(KELAS!DI34=\"\",\"\",KELAS!DI34)","v":""},{"$f":"IF(KELAS!DJ34=\"\",\"\",KELAS!DJ34)","v":""},{"$f":"IF(KELAS!DK34=\"\",\"\",KELAS!DK34)","v":1},{"$f":"IF(KELAS!DL34=\"\",\"\",KELAS!DL34)","v":2},{"$f":"IF(KELAS!DM34=\"\",\"\",KELAS!DM34)","v":2},{"$f":"IF(KELAS!DN34=\"\",\"\",KELAS!DN34)","v":2},{"$f":"IF(KELAS!DO34=\"\",\"\",KELAS!DO34)","v":""},{"$f":"IF(KELAS!DP34=\"\",\"\",KELAS!DP34)","v":""},{"$f":"IF(KELAS!DQ34=\"\",\"\",KELAS!DQ34)","v":""},{"$f":"IF(KELAS!DR34=\"\",\"\",KELAS!DR34)","v":""},{"$f":"IF(KELAS!DS34=\"\",\"\",KELAS!DS34)","v":""},{"$f":"IF(KELAS!DT34=\"\",\"\",KELAS!DT34)","v":""},{"$f":"IF(KELAS!DU34=\"\",\"\",KELAS!DU34)","v":""},{"$f":"IF(KELAS!DV34=\"\",\"\",KELAS!DV34)","v":""},{"$f":"IF(KELAS!DW34=\"\",\"\",KELAS!DW34)","v":""},{"$f":"IF(KELAS!DX34=\"\",\"\",KELAS!DX34)","v":""},{"$f":"IF(KELAS!DY34=\"\",\"\",KELAS!DY34)","v":""},{"$f":"IF(KELAS!DZ34=\"\",\"\",KELAS!DZ34)","v":""},{"$f":"IF(KELAS!EA34=\"\",\"\",KELAS!EA34)","v":"1 ( satu )"},{"$f":"IF(KELAS!EB34=\"\",\"\",KELAS!EB34)","v":"2 ( dua )"},{"$f":"IF(KELAS!EC34=\"\",\"\",KELAS!EC34)","v":"2 ( dua )"},{"$f":"IF(KELAS!ED34=\"\",\"\",KELAS!ED34)","v":"2 ( dua )"},{"$f":"IF(KELAS!EE34=\"\",\"\",KELAS!EE34)","v":""},{"$f":"IF(KELAS!EF34=\"\",\"\",KELAS!EF34)","v":""},{"$f":"IF(KELAS!EG34=\"\",\"\",KELAS!EG34)","v":"Peserta didik menunjukan sikap sungguh-sungguh dalam menerapkan sikap santun, jujur dan kerjasama, namun masih perlu ditingkatkan lagi sikap percaya diri dan ketepatan masuk sekolah"},{"$f":"IF(KELAS!EH34=\"\",\"\",KELAS!EH34)","v":"Dhany Suryanto, S.Pd."},{"$f":"IF(KELAS!EI34=\"\",\"\",KELAS!EI34)","v":"jika punya NIP isikan di sini"},{"$f":"IF(KELAS!EJ34=\"\",\"\",KELAS!EJ34)","v":0},{"$f":"IF(KELAS!EK34=\"\",\"\",KELAS!EK34)","v":0},{"$f":"IF(KELAS!EL34=\"\",\"\",KELAS!EL34)","v":0},{"$f":"IF(KELAS!EM34=\"\",\"\",KELAS!EM34)","v":0},{"$f":"IF(KELAS!EN34=\"\",\"\",KELAS!EN34)","v":0},{"$f":"IF(KELAS!EO34=\"\",\"\",KELAS!EO34)","v":0},{"$f":"IF(KELAS!EP34=\"\",\"\",KELAS!EP34)","v":0},{"$f":"IF(KELAS!EQ34=\"\",\"\",KELAS!EQ34)","v":0},{"$f":"IF(KELAS!ER34=\"\",\"\",KELAS!ER34)","v":0},{"$f":"IF(KELAS!ES34=\"\",\"\",KELAS!ES34)","v":0},{"$f":"IF(KELAS!ET34=\"\",\"\",KELAS!ET34)","v":0}]
[{"$f":"IF(KELAS!A35=\"\",\"\",KELAS!A35)","v":33},{"$f":"IF(KELAS!B35=\"\",\"\",KELAS!B35)","v":12764},{"$f":"IF(KELAS!C35=\"\",\"\",KELAS!C35)","v":"WAHYU ADI PAMUNGKAS"},{"$f":"IF(KELAS!D35=\"\",\"\",KELAS!D35)","v":"L"},{"$f":"IF(KELAS!E35=\"\",\"\",KELAS!E35)","v":"7.A"},{"$f":"IF(KELAS!F35=\"\",\"\",KELAS!F35)","v":"Islam"},{"$f":"IF(KELAS!G35=\"\",\"\",KELAS!G35)","v":"-"},{"$f":"IF(KELAS!H35=\"\",\"\",KELAS!H35)","v":"Wonosobo, 18 April 1998"},{"$f":"IF(KELAS!I35=\"\",\"\",KELAS!I35)","v":"Darmaji"},{"$f":"IF(KELAS!J35=\"\",\"\",KELAS!J35)","v":"Tukang Kayu"},{"$f":"IF(KELAS!K35=\"\",\"\",KELAS!K35)","v":"Nurkhasanah"},{"$f":"IF(KELAS!L35=\"\",\"\",KELAS!L35)","v":"Ibu Rumah Tangga"},{"$f":"IF(KELAS!M35=\"\",\"\",KELAS!M35)","v":"Kp. Tengah RT.01 RW.03, Leksono, Wsb"},{"$f":"IF(KELAS!N35=\"\",\"\",KELAS!N35)","v":"SMP MUHAMMADIYAH 1 WONOSOBO"},{"$f":"IF(KELAS!O35=\"\",\"\",KELAS!O35)","v":2},{"$f":"IF(KELAS!P35=\"\",\"\",KELAS!P35)","v":"Anak Kandung"},{"$f":"IF(KELAS!Q35=\"\",\"\",TEXT(KELAS!Q35,\"0,00\"))","v":""},{"$f":"IF(KELAS!R35=\"\",\"\",KELAS!R35)","v":""},{"$f":"IF(KELAS!S35=\"\",\"\",KELAS!S35)","v":""},{"$f":"IF(KELAS!T35=\"\",\"\",TEXT(KELAS!T35,\"0,00\"))","v":""},{"$f":"IF(KELAS!U35=\"\",\"\",KELAS!U35)","v":""},{"$f":"IF(KELAS!V35=\"\",\"\",KELAS!V35)","v":""},{"$f":"IF(KELAS!W35=\"\",\"\",KELAS!W35)","v":""},{"$f":"IF(KELAS!X35=\"\",\"\",KELAS!X35)","v":""},{"$f":"IF(KELAS!Y35=\"\",\"\",TEXT(KELAS!Y35,\"0,00\"))","v":""},{"$f":"IF(KELAS!Z35=\"\",\"\",KELAS!Z35)","v":""},{"$f":"IF(KELAS!AA35=\"\",\"\",KELAS!AA35)","v":""},{"$f":"IF(KELAS!AB35=\"\",\"\",TEXT(KELAS!AB35,\"0,00\"))","v":""},{"$f":"IF(KELAS!AC35=\"\",\"\",KELAS!AC35)","v":""},{"$f":"IF(KELAS!AD35=\"\",\"\",KELAS!AD35)","v":""},{"$f":"IF(KELAS!AE35=\"\",\"\",KELAS!AE35)","v":""},{"$f":"IF(KELAS!AF35=\"\",\"\",KELAS!AF35)","v":""},{"$f":"IF(KELAS!AG35=\"\",\"\",KELAS!AG35)","v":""},{"$f":"IF(KELAS!AH35=\"\",\"\",TEXT(KELAS!AH35,\"0,00\"))","v":""},{"$f":"IF(KELAS!AI35=\"\",\"\",KELAS!AI35)","v":""},{"$f":"IF(KELAS!AJ35=\"\",\"\",KELAS!AJ35)","v":""},{"$f":"IF(KELAS!AK35=\"\",\"\",TEXT(KELAS!AK35,\"0,00\"))","v":""},{"$f":"IF(KELAS!AL35=\"\",\"\",KELAS!AL35)","v":""},{"$f":"IF(KELAS!AM35=\"\",\"\",KELAS!AM35)","v":""},{"$f":"IF(KELAS!AN35=\"\",\"\",KELAS!AN35)","v":""},{"$f":"IF(KELAS!AO35=\"\",\"\",KELAS!AO35)","v":""},{"$f":"IF(KELAS!AP35=\"\",\"\",KELAS!AP35)","v":""},{"$f":"IF(KELAS!AQ35=\"\",\"\",TEXT(KELAS!AQ35,\"0,00\"))","v":""},{"$f":"IF(KELAS!AR35=\"\",\"\",KELAS!AR35)","v":""},{"$f":"IF(KELAS!AS35=\"\",\"\",KELAS!AS35)","v":""},{"$f":"IF(KELAS!AT35=\"\",\"\",TEXT(KELAS!AT35,\"0,00\"))","v":""},{"$f":"IF(KELAS!AU35=\"\",\"\",KELAS!AU35)","v":""},{"$f":"IF(KELAS!AV35=\"\",\"\",KELAS!AV35)","v":""},{"$f":"IF(KELAS!AW35=\"\",\"\",KELAS!AW35)","v":""},{"$f":"IF(KELAS!AX35=\"\",\"\",KELAS!AX35)","v":""},{"$f":"IF(KELAS!AY35=\"\",\"\",KELAS!AY35)","v":""},{"$f":"IF(KELAS!AZ35=\"\",\"\",TEXT(KELAS!AZ35,\"0,00\"))","v":""},{"$f":"IF(KELAS!BA35=\"\",\"\",KELAS!BA35)","v":""},{"$f":"IF(KELAS!BB35=\"\",\"\",KELAS!BB35)","v":""},{"$f":"IF(KELAS!BC35=\"\",\"\",TEXT(KELAS!BC35,\"0,00\"))","v":""},{"$f":"IF(KELAS!BD35=\"\",\"\",KELAS!BD35)","v":""},{"$f":"IF(KELAS!BE35=\"\",\"\",KELAS!BE35)","v":""},{"$f":"IF(KELAS!BF35=\"\",\"\",KELAS!BF35)","v":""},{"$f":"IF(KELAS!BG35=\"\",\"\",KELAS!BG35)","v":""},{"$f":"IF(KELAS!BH35=\"\",\"\",KELAS!BH35)","v":""},{"$f":"IF(KELAS!BI35=\"\",\"\",TEXT(KELAS!BI35,\"0,00\"))","v":""},{"$f":"IF(KELAS!BJ35=\"\",\"\",KELAS!BJ35)","v":""},{"$f":"IF(KELAS!BK35=\"\",\"\",KELAS!BK35)","v":""},{"$f":"IF(KELAS!BL35=\"\",\"\",TEXT(KELAS!BL35,\"0,00\"))","v":""},{"$f":"IF(KELAS!BM35=\"\",\"\",KELAS!BM35)","v":""},{"$f":"IF(KELAS!BN35=\"\",\"\",KELAS!BN35)","v":""},{"$f":"IF(KELAS!BO35=\"\",\"\",KELAS!BO35)","v":""},{"$f":"IF(KELAS!BP35=\"\",\"\",KELAS!BP35)","v":""},{"$f":"IF(KELAS!BQ35=\"\",\"\",KELAS!BQ35)","v":""},{"$f":"IF(KELAS!BR35=\"\",\"\",TEXT(KELAS!BR35,\"0,00\"))","v":""},{"$f":"IF(KELAS!BS35=\"\",\"\",KELAS!BS35)","v":""},{"$f":"IF(KELAS!BT35=\"\",\"\",KELAS!BT35)","v":""},{"$f":"IF(KELAS!BU35=\"\",\"\",TEXT(KELAS!BU35,\"0,00\"))","v":""},{"$f":"IF(KELAS!BV35=\"\",\"\",KELAS!BV35)","v":""},{"$f":"IF(KELAS!BW35=\"\",\"\",KELAS!BW35)","v":""},{"$f":"IF(KELAS!BX35=\"\",\"\",KELAS!BX35)","v":""},{"$f":"IF(KELAS!BY35=\"\",\"\",KELAS!BY35)","v":""},{"$f":"IF(KELAS!BZ35=\"\",\"\",KELAS!BZ35)","v":""},{"$f":"IF(KELAS!CA35=\"\",\"\",TEXT(KELAS!CA35,\"0,00\"))","v":""},{"$f":"IF(KELAS!CB35=\"\",\"\",KELAS!CB35)","v":""},{"$f":"IF(KELAS!CC35=\"\",\"\",KELAS!CC35)","v":""},{"$f":"IF(KELAS!CD35=\"\",\"\",TEXT(KELAS!CD35,\"0,00\"))","v":""},{"$f":"IF(KELAS!CE35=\"\",\"\",KELAS!CE35)","v":""},{"$f":"IF(KELAS!CF35=\"\",\"\",KELAS!CF35)","v":""},{"$f":"IF(KELAS!CG35=\"\",\"\",KELAS!CG35)","v":""},{"$f":"IF(KELAS!CH35=\"\",\"\",KELAS!CH35)","v":""},{"$f":"IF(KELAS!CI35=\"\",\"\",KELAS!CI35)","v":""},{"$f":"IF(KELAS!CJ35=\"\",\"\",TEXT(KELAS!CJ35,\"0,00\"))","v":""},{"$f":"IF(KELAS!CK35=\"\",\"\",KELAS!CK35)","v":""},{"$f":"IF(KELAS!CL35=\"\",\"\",KELAS!CL35)","v":""},{"$f":"IF(KELAS!CM35=\"\",\"\",TEXT(KELAS!CM35,\"0,00\"))","v":""},{"$f":"IF(KELAS!CN35=\"\",\"\",KELAS!CN35)","v":""},{"$f":"IF(KELAS!CO35=\"\",\"\",KELAS!CO35)","v":""},{"$f":"IF(KELAS!CP35=\"\",\"\",KELAS!CP35)","v":""},{"$f":"IF(KELAS!CQ35=\"\",\"\",KELAS!CQ35)","v":""},{"$f":"IF(KELAS!CR35=\"\",\"\",KELAS!CR35)","v":""},{"$f":"IF(KELAS!CS35=\"\",\"\",TEXT(KELAS!CS35,\"0,00\"))","v":""},{"$f":"IF(KELAS!CT35=\"\",\"\",KELAS!CT35)","v":""},{"$f":"IF(KELAS!CU35=\"\",\"\",KELAS!CU35)","v":""},{"$f":"IF(KELAS!CV35=\"\",\"\",TEXT(KELAS!CV35,\"0,00\"))","v":""},{"$f":"IF(KELAS!CW35=\"\",\"\",KELAS!CW35)","v":""},{"$f":"IF(KELAS!CX35=\"\",\"\",KELAS!CX35)","v":""},{"$f":"IF(KELAS!CY35=\"\",\"\",KELAS!CY35)","v":""},{"$f":"IF(KELAS!CZ35=\"\",\"\",KELAS!CZ35)","v":""},{"$f":"IF(KELAS!DA35=\"\",\"\",KELAS!DA35)","v":""},{"$f":"IF(KELAS!DB35=\"\",\"\",TEXT(KELAS!DB35,\"0,00\"))","v":""},{"$f":"IF(KELAS!DC35=\"\",\"\",KELAS!DC35)","v":""},{"$f":"IF(KELAS!DD35=\"\",\"\",KELAS!DD35)","v":""},{"$f":"IF(KELAS!DE35=\"\",\"\",TEXT(KELAS!DE35,\"0,00\"))","v":""},{"$f":"IF(KELAS!DF35=\"\",\"\",KELAS!DF35)","v":""},{"$f":"IF(KELAS!DG35=\"\",\"\",KELAS!DG35)","v":""},{"$f":"IF(KELAS!DH35=\"\",\"\",KELAS!DH35)","v":""},{"$f":"IF(KELAS!DI35=\"\",\"\",KELAS!DI35)","v":""},{"$f":"IF(KELAS!DJ35=\"\",\"\",KELAS!DJ35)","v":""},{"$f":"IF(KELAS!DK35=\"\",\"\",KELAS!DK35)","v":2},{"$f":"IF(KELAS!DL35=\"\",\"\",KELAS!DL35)","v":2},{"$f":"IF(KELAS!DM35=\"\",\"\",KELAS!DM35)","v":2},{"$f":"IF(KELAS!DN35=\"\",\"\",KELAS!DN35)","v":2},{"$f":"IF(KELAS!DO35=\"\",\"\",KELAS!DO35)","v":""},{"$f":"IF(KELAS!DP35=\"\",\"\",KELAS!DP35)","v":""},{"$f":"IF(KELAS!DQ35=\"\",\"\",KELAS!DQ35)","v":""},{"$f":"IF(KELAS!DR35=\"\",\"\",KELAS!DR35)","v":""},{"$f":"IF(KELAS!DS35=\"\",\"\",KELAS!DS35)","v":""},{"$f":"IF(KELAS!DT35=\"\",\"\",KELAS!DT35)","v":""},{"$f":"IF(KELAS!DU35=\"\",\"\",KELAS!DU35)","v":""},{"$f":"IF(KELAS!DV35=\"\",\"\",KELAS!DV35)","v":""},{"$f":"IF(KELAS!DW35=\"\",\"\",KELAS!DW35)","v":""},{"$f":"IF(KELAS!DX35=\"\",\"\",KELAS!DX35)","v":""},{"$f":"IF(KELAS!DY35=\"\",\"\",KELAS!DY35)","v":""},{"$f":"IF(KELAS!DZ35=\"\",\"\",KELAS!DZ35)","v":""},{"$f":"IF(KELAS!EA35=\"\",\"\",KELAS!EA35)","v":"2 ( dua )"},{"$f":"IF(KELAS!EB35=\"\",\"\",KELAS!EB35)","v":"2 ( dua )"},{"$f":"IF(KELAS!EC35=\"\",\"\",KELAS!EC35)","v":"2 ( dua )"},{"$f":"IF(KELAS!ED35=\"\",\"\",KELAS!ED35)","v":"2 ( dua )"},{"$f":"IF(KELAS!EE35=\"\",\"\",KELAS!EE35)","v":""},{"$f":"IF(KELAS!EF35=\"\",\"\",KELAS!EF35)","v":""},{"$f":"IF(KELAS!EG35=\"\",\"\",KELAS!EG35)","v":"Peserta didik menunjukan sikap sungguh-sungguh dalam menerapkan sikap santun, jujur dan kerjasama, namun masih perlu ditingkatkan lagi sikap percaya diri dan ketepatan masuk sekolah"},{"$f":"IF(KELAS!EH35=\"\",\"\",KELAS!EH35)","v":"Dhany Suryanto, S.Pd."},{"$f":"IF(KELAS!EI35=\"\",\"\",KELAS!EI35)","v":"jika punya NIP isikan di sini"},{"$f":"IF(KELAS!EJ35=\"\",\"\",KELAS!EJ35)","v":0},{"$f":"IF(KELAS!EK35=\"\",\"\",KELAS!EK35)","v":0},{"$f":"IF(KELAS!EL35=\"\",\"\",KELAS!EL35)","v":0},{"$f":"IF(KELAS!EM35=\"\",\"\",KELAS!EM35)","v":0},{"$f":"IF(KELAS!EN35=\"\",\"\",KELAS!EN35)","v":0},{"$f":"IF(KELAS!EO35=\"\",\"\",KELAS!EO35)","v":0},{"$f":"IF(KELAS!EP35=\"\",\"\",KELAS!EP35)","v":0},{"$f":"IF(KELAS!EQ35=\"\",\"\",KELAS!EQ35)","v":0},{"$f":"IF(KELAS!ER35=\"\",\"\",KELAS!ER35)","v":0},{"$f":"IF(KELAS!ES35=\"\",\"\",KELAS!ES35)","v":0},{"$f":"IF(KELAS!ET35=\"\",\"\",KELAS!ET35)","v":0}]
[{"$f":"IF(KELAS!A36=\"\",\"\",KELAS!A36)","v":34},{"$f":"IF(KELAS!B36=\"\",\"\",KELAS!B36)","v":12776},{"$f":"IF(KELAS!C36=\"\",\"\",KELAS!C36)","v":"YANUAR SATRIO LEGOWO"},{"$f":"IF(KELAS!D36=\"\",\"\",KELAS!D36)","v":"L"},{"$f":"IF(KELAS!E36=\"\",\"\",KELAS!E36)","v":"7.A"},{"$f":"IF(KELAS!F36=\"\",\"\",KELAS!F36)","v":"Islam"},{"$f":"IF(KELAS!G36=\"\",\"\",KELAS!G36)","v":9980695831},{"$f":"IF(KELAS!H36=\"\",\"\",KELAS!H36)","v":"Wonosobo, 21 Januari 1999"},{"$f":"IF(KELAS!I36=\"\",\"\",KELAS!I36)","v":"Sukirman (Alm)"},{"$f":"IF(KELAS!J36=\"\",\"\",KELAS!J36)","v":"Lain-Lain"},{"$f":"IF(KELAS!K36=\"\",\"\",KELAS!K36)","v":"Endang Amartiwi"},{"$f":"IF(KELAS!L36=\"\",\"\",KELAS!L36)","v":"Guru"},{"$f":"IF(KELAS!M36=\"\",\"\",KELAS!M36)","v":"Kemiriombo RT.24 RW.02, Kaliwiro, Wsb"},{"$f":"IF(KELAS!N36=\"\",\"\",KELAS!N36)","v":"SMPN 1 KALIWIRO"},{"$f":"IF(KELAS!O36=\"\",\"\",KELAS!O36)","v":3},{"$f":"IF(KELAS!P36=\"\",\"\",KELAS!P36)","v":"Anak Kandung"},{"$f":"IF(KELAS!Q36=\"\",\"\",TEXT(KELAS!Q36,\"0,00\"))","v":""},{"$f":"IF(KELAS!R36=\"\",\"\",KELAS!R36)","v":""},{"$f":"IF(KELAS!S36=\"\",\"\",KELAS!S36)","v":""},{"$f":"IF(KELAS!T36=\"\",\"\",TEXT(KELAS!T36,\"0,00\"))","v":""},{"$f":"IF(KELAS!U36=\"\",\"\",KELAS!U36)","v":""},{"$f":"IF(KELAS!V36=\"\",\"\",KELAS!V36)","v":""},{"$f":"IF(KELAS!W36=\"\",\"\",KELAS!W36)","v":""},{"$f":"IF(KELAS!X36=\"\",\"\",KELAS!X36)","v":""},{"$f":"IF(KELAS!Y36=\"\",\"\",TEXT(KELAS!Y36,\"0,00\"))","v":""},{"$f":"IF(KELAS!Z36=\"\",\"\",KELAS!Z36)","v":""},{"$f":"IF(KELAS!AA36=\"\",\"\",KELAS!AA36)","v":""},{"$f":"IF(KELAS!AB36=\"\",\"\",TEXT(KELAS!AB36,\"0,00\"))","v":""},{"$f":"IF(KELAS!AC36=\"\",\"\",KELAS!AC36)","v":""},{"$f":"IF(KELAS!AD36=\"\",\"\",KELAS!AD36)","v":""},{"$f":"IF(KELAS!AE36=\"\",\"\",KELAS!AE36)","v":""},{"$f":"IF(KELAS!AF36=\"\",\"\",KELAS!AF36)","v":""},{"$f":"IF(KELAS!AG36=\"\",\"\",KELAS!AG36)","v":""},{"$f":"IF(KELAS!AH36=\"\",\"\",TEXT(KELAS!AH36,\"0,00\"))","v":""},{"$f":"IF(KELAS!AI36=\"\",\"\",KELAS!AI36)","v":""},{"$f":"IF(KELAS!AJ36=\"\",\"\",KELAS!AJ36)","v":""},{"$f":"IF(KELAS!AK36=\"\",\"\",TEXT(KELAS!AK36,\"0,00\"))","v":""},{"$f":"IF(KELAS!AL36=\"\",\"\",KELAS!AL36)","v":""},{"$f":"IF(KELAS!AM36=\"\",\"\",KELAS!AM36)","v":""},{"$f":"IF(KELAS!AN36=\"\",\"\",KELAS!AN36)","v":""},{"$f":"IF(KELAS!AO36=\"\",\"\",KELAS!AO36)","v":""},{"$f":"IF(KELAS!AP36=\"\",\"\",KELAS!AP36)","v":""},{"$f":"IF(KELAS!AQ36=\"\",\"\",TEXT(KELAS!AQ36,\"0,00\"))","v":""},{"$f":"IF(KELAS!AR36=\"\",\"\",KELAS!AR36)","v":""},{"$f":"IF(KELAS!AS36=\"\",\"\",KELAS!AS36)","v":""},{"$f":"IF(KELAS!AT36=\"\",\"\",TEXT(KELAS!AT36,\"0,00\"))","v":""},{"$f":"IF(KELAS!AU36=\"\",\"\",KELAS!AU36)","v":""},{"$f":"IF(KELAS!AV36=\"\",\"\",KELAS!AV36)","v":""},{"$f":"IF(KELAS!AW36=\"\",\"\",KELAS!AW36)","v":""},{"$f":"IF(KELAS!AX36=\"\",\"\",KELAS!AX36)","v":""},{"$f":"IF(KELAS!AY36=\"\",\"\",KELAS!AY36)","v":""},{"$f":"IF(KELAS!AZ36=\"\",\"\",TEXT(KELAS!AZ36,\"0,00\"))","v":""},{"$f":"IF(KELAS!BA36=\"\",\"\",KELAS!BA36)","v":""},{"$f":"IF(KELAS!BB36=\"\",\"\",KELAS!BB36)","v":""},{"$f":"IF(KELAS!BC36=\"\",\"\",TEXT(KELAS!BC36,\"0,00\"))","v":""},{"$f":"IF(KELAS!BD36=\"\",\"\",KELAS!BD36)","v":""},{"$f":"IF(KELAS!BE36=\"\",\"\",KELAS!BE36)","v":""},{"$f":"IF(KELAS!BF36=\"\",\"\",KELAS!BF36)","v":""},{"$f":"IF(KELAS!BG36=\"\",\"\",KELAS!BG36)","v":""},{"$f":"IF(KELAS!BH36=\"\",\"\",KELAS!BH36)","v":""},{"$f":"IF(KELAS!BI36=\"\",\"\",TEXT(KELAS!BI36,\"0,00\"))","v":""},{"$f":"IF(KELAS!BJ36=\"\",\"\",KELAS!BJ36)","v":""},{"$f":"IF(KELAS!BK36=\"\",\"\",KELAS!BK36)","v":""},{"$f":"IF(KELAS!BL36=\"\",\"\",TEXT(KELAS!BL36,\"0,00\"))","v":""},{"$f":"IF(KELAS!BM36=\"\",\"\",KELAS!BM36)","v":""},{"$f":"IF(KELAS!BN36=\"\",\"\",KELAS!BN36)","v":""},{"$f":"IF(KELAS!BO36=\"\",\"\",KELAS!BO36)","v":""},{"$f":"IF(KELAS!BP36=\"\",\"\",KELAS!BP36)","v":""},{"$f":"IF(KELAS!BQ36=\"\",\"\",KELAS!BQ36)","v":""},{"$f":"IF(KELAS!BR36=\"\",\"\",TEXT(KELAS!BR36,\"0,00\"))","v":""},{"$f":"IF(KELAS!BS36=\"\",\"\",KELAS!BS36)","v":""},{"$f":"IF(KELAS!BT36=\"\",\"\",KELAS!BT36)","v":""},{"$f":"IF(KELAS!BU36=\"\",\"\",TEXT(KELAS!BU36,\"0,00\"))","v":""},{"$f":"IF(KELAS!BV36=\"\",\"\",KELAS!BV36)","v":""},{"$f":"IF(KELAS!BW36=\"\",\"\",KELAS!BW36)","v":""},{"$f":"IF(KELAS!BX36=\"\",\"\",KELAS!BX36)","v":""},{"$f":"IF(KELAS!BY36=\"\",\"\",KELAS!BY36)","v":""},{"$f":"IF(KELAS!BZ36=\"\",\"\",KELAS!BZ36)","v":""},{"$f":"IF(KELAS!CA36=\"\",\"\",TEXT(KELAS!CA36,\"0,00\"))","v":""},{"$f":"IF(KELAS!CB36=\"\",\"\",KELAS!CB36)","v":""},{"$f":"IF(KELAS!CC36=\"\",\"\",KELAS!CC36)","v":""},{"$f":"IF(KELAS!CD36=\"\",\"\",TEXT(KELAS!CD36,\"0,00\"))","v":""},{"$f":"IF(KELAS!CE36=\"\",\"\",KELAS!CE36)","v":""},{"$f":"IF(KELAS!CF36=\"\",\"\",KELAS!CF36)","v":""},{"$f":"IF(KELAS!CG36=\"\",\"\",KELAS!CG36)","v":""},{"$f":"IF(KELAS!CH36=\"\",\"\",KELAS!CH36)","v":""},{"$f":"IF(KELAS!CI36=\"\",\"\",KELAS!CI36)","v":""},{"$f":"IF(KELAS!CJ36=\"\",\"\",TEXT(KELAS!CJ36,\"0,00\"))","v":""},{"$f":"IF(KELAS!CK36=\"\",\"\",KELAS!CK36)","v":""},{"$f":"IF(KELAS!CL36=\"\",\"\",KELAS!CL36)","v":""},{"$f":"IF(KELAS!CM36=\"\",\"\",TEXT(KELAS!CM36,\"0,00\"))","v":""},{"$f":"IF(KELAS!CN36=\"\",\"\",KELAS!CN36)","v":""},{"$f":"IF(KELAS!CO36=\"\",\"\",KELAS!CO36)","v":""},{"$f":"IF(KELAS!CP36=\"\",\"\",KELAS!CP36)","v":""},{"$f":"IF(KELAS!CQ36=\"\",\"\",KELAS!CQ36)","v":""},{"$f":"IF(KELAS!CR36=\"\",\"\",KELAS!CR36)","v":""},{"$f":"IF(KELAS!CS36=\"\",\"\",TEXT(KELAS!CS36,\"0,00\"))","v":""},{"$f":"IF(KELAS!CT36=\"\",\"\",KELAS!CT36)","v":""},{"$f":"IF(KELAS!CU36=\"\",\"\",KELAS!CU36)","v":""},{"$f":"IF(KELAS!CV36=\"\",\"\",TEXT(KELAS!CV36,\"0,00\"))","v":""},{"$f":"IF(KELAS!CW36=\"\",\"\",KELAS!CW36)","v":""},{"$f":"IF(KELAS!CX36=\"\",\"\",KELAS!CX36)","v":""},{"$f":"IF(KELAS!CY36=\"\",\"\",KELAS!CY36)","v":""},{"$f":"IF(KELAS!CZ36=\"\",\"\",KELAS!CZ36)","v":""},{"$f":"IF(KELAS!DA36=\"\",\"\",KELAS!DA36)","v":""},{"$f":"IF(KELAS!DB36=\"\",\"\",TEXT(KELAS!DB36,\"0,00\"))","v":""},{"$f":"IF(KELAS!DC36=\"\",\"\",KELAS!DC36)","v":""},{"$f":"IF(KELAS!DD36=\"\",\"\",KELAS!DD36)","v":""},{"$f":"IF(KELAS!DE36=\"\",\"\",TEXT(KELAS!DE36,\"0,00\"))","v":""},{"$f":"IF(KELAS!DF36=\"\",\"\",KELAS!DF36)","v":""},{"$f":"IF(KELAS!DG36=\"\",\"\",KELAS!DG36)","v":""},{"$f":"IF(KELAS!DH36=\"\",\"\",KELAS!DH36)","v":""},{"$f":"IF(KELAS!DI36=\"\",\"\",KELAS!DI36)","v":""},{"$f":"IF(KELAS!DJ36=\"\",\"\",KELAS!DJ36)","v":""},{"$f":"IF(KELAS!DK36=\"\",\"\",KELAS!DK36)","v":1},{"$f":"IF(KELAS!DL36=\"\",\"\",KELAS!DL36)","v":2},{"$f":"IF(KELAS!DM36=\"\",\"\",KELAS!DM36)","v":2},{"$f":"IF(KELAS!DN36=\"\",\"\",KELAS!DN36)","v":1},{"$f":"IF(KELAS!DO36=\"\",\"\",KELAS!DO36)","v":""},{"$f":"IF(KELAS!DP36=\"\",\"\",KELAS!DP36)","v":""},{"$f":"IF(KELAS!DQ36=\"\",\"\",KELAS!DQ36)","v":""},{"$f":"IF(KELAS!DR36=\"\",\"\",KELAS!DR36)","v":""},{"$f":"IF(KELAS!DS36=\"\",\"\",KELAS!DS36)","v":""},{"$f":"IF(KELAS!DT36=\"\",\"\",KELAS!DT36)","v":""},{"$f":"IF(KELAS!DU36=\"\",\"\",KELAS!DU36)","v":""},{"$f":"IF(KELAS!DV36=\"\",\"\",KELAS!DV36)","v":""},{"$f":"IF(KELAS!DW36=\"\",\"\",KELAS!DW36)","v":""},{"$f":"IF(KELAS!DX36=\"\",\"\",KELAS!DX36)","v":""},{"$f":"IF(KELAS!DY36=\"\",\"\",KELAS!DY36)","v":""},{"$f":"IF(KELAS!DZ36=\"\",\"\",KELAS!DZ36)","v":""},{"$f":"IF(KELAS!EA36=\"\",\"\",KELAS!EA36)","v":"1 ( satu )"},{"$f":"IF(KELAS!EB36=\"\",\"\",KELAS!EB36)","v":"2 ( dua )"},{"$f":"IF(KELAS!EC36=\"\",\"\",KELAS!EC36)","v":"2 ( dua )"},{"$f":"IF(KELAS!ED36=\"\",\"\",KELAS!ED36)","v":"1 ( satu )"},{"$f":"IF(KELAS!EE36=\"\",\"\",KELAS!EE36)","v":""},{"$f":"IF(KELAS!EF36=\"\",\"\",KELAS!EF36)","v":""},{"$f":"IF(KELAS!EG36=\"\",\"\",KELAS!EG36)","v":"Peserta didik menunjukan sikap sungguh-sungguh dalam menerapkan sikap santun, jujur dan kerjasama, namun masih perlu ditingkatkan lagi sikap percaya diri dan ketepatan masuk sekolah"},{"$f":"IF(KELAS!EH36=\"\",\"\",KELAS!EH36)","v":"Dhany Suryanto, S.Pd."},{"$f":"IF(KELAS!EI36=\"\",\"\",KELAS!EI36)","v":"jika punya NIP isikan di sini"},{"$f":"IF(KELAS!EJ36=\"\",\"\",KELAS!EJ36)","v":0},{"$f":"IF(KELAS!EK36=\"\",\"\",KELAS!EK36)","v":0},{"$f":"IF(KELAS!EL36=\"\",\"\",KELAS!EL36)","v":0},{"$f":"IF(KELAS!EM36=\"\",\"\",KELAS!EM36)","v":0},{"$f":"IF(KELAS!EN36=\"\",\"\",KELAS!EN36)","v":0},{"$f":"IF(KELAS!EO36=\"\",\"\",KELAS!EO36)","v":0},{"$f":"IF(KELAS!EP36=\"\",\"\",KELAS!EP36)","v":0},{"$f":"IF(KELAS!EQ36=\"\",\"\",KELAS!EQ36)","v":0},{"$f":"IF(KELAS!ER36=\"\",\"\",KELAS!ER36)","v":0},{"$f":"IF(KELAS!ES36=\"\",\"\",KELAS!ES36)","v":0},{"$f":"IF(KELAS!ET36=\"\",\"\",KELAS!ET36)","v":0}]
[{"$f":"IF(KELAS!A37=\"\",\"\",KELAS!A37)","v":35},{"$f":"IF(KELAS!B37=\"\",\"\",KELAS!B37)","v":12779},{"$f":"IF(KELAS!C37=\"\",\"\",KELAS!C37)","v":"YOGA PRASETYA"},{"$f":"IF(KELAS!D37=\"\",\"\",KELAS!D37)","v":"L"},{"$f":"IF(KELAS!E37=\"\",\"\",KELAS!E37)","v":"7.A"},{"$f":"IF(KELAS!F37=\"\",\"\",KELAS!F37)","v":"Islam"},{"$f":"IF(KELAS!G37=\"\",\"\",KELAS!G37)","v":"-"},{"$f":"IF(KELAS!H37=\"\",\"\",KELAS!H37)","v":"Wonosobo, 19 Maret 1997"},{"$f":"IF(KELAS!I37=\"\",\"\",KELAS!I37)","v":"Sanyoto"},{"$f":"IF(KELAS!J37=\"\",\"\",KELAS!J37)","v":"Pns"},{"$f":"IF(KELAS!K37=\"\",\"\",KELAS!K37)","v":"Rahayu"},{"$f":"IF(KELAS!L37=\"\",\"\",KELAS!L37)","v":"Guru"},{"$f":"IF(KELAS!M37=\"\",\"\",KELAS!M37)","v":"Gendol RT.04 RW.09, Pacarmulyo, Leksono, Wsb"},{"$f":"IF(KELAS!N37=\"\",\"\",KELAS!N37)","v":"SMP MUHAMMADIYAH 1 WONOSOBO"},{"$f":"IF(KELAS!O37=\"\",\"\",KELAS!O37)","v":2},{"$f":"IF(KELAS!P37=\"\",\"\",KELAS!P37)","v":"Anak Kandung"},{"$f":"IF(KELAS!Q37=\"\",\"\",TEXT(KELAS!Q37,\"0,00\"))","v":""},{"$f":"IF(KELAS!R37=\"\",\"\",KELAS!R37)","v":""},{"$f":"IF(KELAS!S37=\"\",\"\",KELAS!S37)","v":""},{"$f":"IF(KELAS!T37=\"\",\"\",TEXT(KELAS!T37,\"0,00\"))","v":""},{"$f":"IF(KELAS!U37=\"\",\"\",KELAS!U37)","v":""},{"$f":"IF(KELAS!V37=\"\",\"\",KELAS!V37)","v":""},{"$f":"IF(KELAS!W37=\"\",\"\",KELAS!W37)","v":""},{"$f":"IF(KELAS!X37=\"\",\"\",KELAS!X37)","v":""},{"$f":"IF(KELAS!Y37=\"\",\"\",TEXT(KELAS!Y37,\"0,00\"))","v":""},{"$f":"IF(KELAS!Z37=\"\",\"\",KELAS!Z37)","v":""},{"$f":"IF(KELAS!AA37=\"\",\"\",KELAS!AA37)","v":""},{"$f":"IF(KELAS!AB37=\"\",\"\",TEXT(KELAS!AB37,\"0,00\"))","v":""},{"$f":"IF(KELAS!AC37=\"\",\"\",KELAS!AC37)","v":""},{"$f":"IF(KELAS!AD37=\"\",\"\",KELAS!AD37)","v":""},{"$f":"IF(KELAS!AE37=\"\",\"\",KELAS!AE37)","v":""},{"$f":"IF(KELAS!AF37=\"\",\"\",KELAS!AF37)","v":""},{"$f":"IF(KELAS!AG37=\"\",\"\",KELAS!AG37)","v":""},{"$f":"IF(KELAS!AH37=\"\",\"\",TEXT(KELAS!AH37,\"0,00\"))","v":""},{"$f":"IF(KELAS!AI37=\"\",\"\",KELAS!AI37)","v":""},{"$f":"IF(KELAS!AJ37=\"\",\"\",KELAS!AJ37)","v":""},{"$f":"IF(KELAS!AK37=\"\",\"\",TEXT(KELAS!AK37,\"0,00\"))","v":""},{"$f":"IF(KELAS!AL37=\"\",\"\",KELAS!AL37)","v":""},{"$f":"IF(KELAS!AM37=\"\",\"\",KELAS!AM37)","v":""},{"$f":"IF(KELAS!AN37=\"\",\"\",KELAS!AN37)","v":""},{"$f":"IF(KELAS!AO37=\"\",\"\",KELAS!AO37)","v":""},{"$f":"IF(KELAS!AP37=\"\",\"\",KELAS!AP37)","v":""},{"$f":"IF(KELAS!AQ37=\"\",\"\",TEXT(KELAS!AQ37,\"0,00\"))","v":""},{"$f":"IF(KELAS!AR37=\"\",\"\",KELAS!AR37)","v":""},{"$f":"IF(KELAS!AS37=\"\",\"\",KELAS!AS37)","v":""},{"$f":"IF(KELAS!AT37=\"\",\"\",TEXT(KELAS!AT37,\"0,00\"))","v":""},{"$f":"IF(KELAS!AU37=\"\",\"\",KELAS!AU37)","v":""},{"$f":"IF(KELAS!AV37=\"\",\"\",KELAS!AV37)","v":""},{"$f":"IF(KELAS!AW37=\"\",\"\",KELAS!AW37)","v":""},{"$f":"IF(KELAS!AX37=\"\",\"\",KELAS!AX37)","v":""},{"$f":"IF(KELAS!AY37=\"\",\"\",KELAS!AY37)","v":""},{"$f":"IF(KELAS!AZ37=\"\",\"\",TEXT(KELAS!AZ37,\"0,00\"))","v":""},{"$f":"IF(KELAS!BA37=\"\",\"\",KELAS!BA37)","v":""},{"$f":"IF(KELAS!BB37=\"\",\"\",KELAS!BB37)","v":""},{"$f":"IF(KELAS!BC37=\"\",\"\",TEXT(KELAS!BC37,\"0,00\"))","v":""},{"$f":"IF(KELAS!BD37=\"\",\"\",KELAS!BD37)","v":""},{"$f":"IF(KELAS!BE37=\"\",\"\",KELAS!BE37)","v":""},{"$f":"IF(KELAS!BF37=\"\",\"\",KELAS!BF37)","v":""},{"$f":"IF(KELAS!BG37=\"\",\"\",KELAS!BG37)","v":""},{"$f":"IF(KELAS!BH37=\"\",\"\",KELAS!BH37)","v":""},{"$f":"IF(KELAS!BI37=\"\",\"\",TEXT(KELAS!BI37,\"0,00\"))","v":""},{"$f":"IF(KELAS!BJ37=\"\",\"\",KELAS!BJ37)","v":""},{"$f":"IF(KELAS!BK37=\"\",\"\",KELAS!BK37)","v":""},{"$f":"IF(KELAS!BL37=\"\",\"\",TEXT(KELAS!BL37,\"0,00\"))","v":""},{"$f":"IF(KELAS!BM37=\"\",\"\",KELAS!BM37)","v":""},{"$f":"IF(KELAS!BN37=\"\",\"\",KELAS!BN37)","v":""},{"$f":"IF(KELAS!BO37=\"\",\"\",KELAS!BO37)","v":""},{"$f":"IF(KELAS!BP37=\"\",\"\",KELAS!BP37)","v":""},{"$f":"IF(KELAS!BQ37=\"\",\"\",KELAS!BQ37)","v":""},{"$f":"IF(KELAS!BR37=\"\",\"\",TEXT(KELAS!BR37,\"0,00\"))","v":""},{"$f":"IF(KELAS!BS37=\"\",\"\",KELAS!BS37)","v":""},{"$f":"IF(KELAS!BT37=\"\",\"\",KELAS!BT37)","v":""},{"$f":"IF(KELAS!BU37=\"\",\"\",TEXT(KELAS!BU37,\"0,00\"))","v":""},{"$f":"IF(KELAS!BV37=\"\",\"\",KELAS!BV37)","v":""},{"$f":"IF(KELAS!BW37=\"\",\"\",KELAS!BW37)","v":""},{"$f":"IF(KELAS!BX37=\"\",\"\",KELAS!BX37)","v":""},{"$f":"IF(KELAS!BY37=\"\",\"\",KELAS!BY37)","v":""},{"$f":"IF(KELAS!BZ37=\"\",\"\",KELAS!BZ37)","v":""},{"$f":"IF(KELAS!CA37=\"\",\"\",TEXT(KELAS!CA37,\"0,00\"))","v":""},{"$f":"IF(KELAS!CB37=\"\",\"\",KELAS!CB37)","v":""},{"$f":"IF(KELAS!CC37=\"\",\"\",KELAS!CC37)","v":""},{"$f":"IF(KELAS!CD37=\"\",\"\",TEXT(KELAS!CD37,\"0,00\"))","v":""},{"$f":"IF(KELAS!CE37=\"\",\"\",KELAS!CE37)","v":""},{"$f":"IF(KELAS!CF37=\"\",\"\",KELAS!CF37)","v":""},{"$f":"IF(KELAS!CG37=\"\",\"\",KELAS!CG37)","v":""},{"$f":"IF(KELAS!CH37=\"\",\"\",KELAS!CH37)","v":""},{"$f":"IF(KELAS!CI37=\"\",\"\",KELAS!CI37)","v":""},{"$f":"IF(KELAS!CJ37=\"\",\"\",TEXT(KELAS!CJ37,\"0,00\"))","v":""},{"$f":"IF(KELAS!CK37=\"\",\"\",KELAS!CK37)","v":""},{"$f":"IF(KELAS!CL37=\"\",\"\",KELAS!CL37)","v":""},{"$f":"IF(KELAS!CM37=\"\",\"\",TEXT(KELAS!CM37,\"0,00\"))","v":""},{"$f":"IF(KELAS!CN37=\"\",\"\",KELAS!CN37)","v":""},{"$f":"IF(KELAS!CO37=\"\",\"\",KELAS!CO37)","v":""},{"$f":"IF(KELAS!CP37=\"\",\"\",KELAS!CP37)","v":""},{"$f":"IF(KELAS!CQ37=\"\",\"\",KELAS!CQ37)","v":""},{"$f":"IF(KELAS!CR37=\"\",\"\",KELAS!CR37)","v":""},{"$f":"IF(KELAS!CS37=\"\",\"\",TEXT(KELAS!CS37,\"0,00\"))","v":""},{"$f":"IF(KELAS!CT37=\"\",\"\",KELAS!CT37)","v":""},{"$f":"IF(KELAS!CU37=\"\",\"\",KELAS!CU37)","v":""},{"$f":"IF(KELAS!CV37=\"\",\"\",TEXT(KELAS!CV37,\"0,00\"))","v":""},{"$f":"IF(KELAS!CW37=\"\",\"\",KELAS!CW37)","v":""},{"$f":"IF(KELAS!CX37=\"\",\"\",KELAS!CX37)","v":""},{"$f":"IF(KELAS!CY37=\"\",\"\",KELAS!CY37)","v":""},{"$f":"IF(KELAS!CZ37=\"\",\"\",KELAS!CZ37)","v":""},{"$f":"IF(KELAS!DA37=\"\",\"\",KELAS!DA37)","v":""},{"$f":"IF(KELAS!DB37=\"\",\"\",TEXT(KELAS!DB37,\"0,00\"))","v":""},{"$f":"IF(KELAS!DC37=\"\",\"\",KELAS!DC37)","v":""},{"$f":"IF(KELAS!DD37=\"\",\"\",KELAS!DD37)","v":""},{"$f":"IF(KELAS!DE37=\"\",\"\",TEXT(KELAS!DE37,\"0,00\"))","v":""},{"$f":"IF(KELAS!DF37=\"\",\"\",KELAS!DF37)","v":""},{"$f":"IF(KELAS!DG37=\"\",\"\",KELAS!DG37)","v":""},{"$f":"IF(KELAS!DH37=\"\",\"\",KELAS!DH37)","v":""},{"$f":"IF(KELAS!DI37=\"\",\"\",KELAS!DI37)","v":""},{"$f":"IF(KELAS!DJ37=\"\",\"\",KELAS!DJ37)","v":""},{"$f":"IF(KELAS!DK37=\"\",\"\",KELAS!DK37)","v":1},{"$f":"IF(KELAS!DL37=\"\",\"\",KELAS!DL37)","v":1},{"$f":"IF(KELAS!DM37=\"\",\"\",KELAS!DM37)","v":1},{"$f":"IF(KELAS!DN37=\"\",\"\",KELAS!DN37)","v":2},{"$f":"IF(KELAS!DO37=\"\",\"\",KELAS!DO37)","v":""},{"$f":"IF(KELAS!DP37=\"\",\"\",KELAS!DP37)","v":""},{"$f":"IF(KELAS!DQ37=\"\",\"\",KELAS!DQ37)","v":""},{"$f":"IF(KELAS!DR37=\"\",\"\",KELAS!DR37)","v":""},{"$f":"IF(KELAS!DS37=\"\",\"\",KELAS!DS37)","v":""},{"$f":"IF(KELAS!DT37=\"\",\"\",KELAS!DT37)","v":""},{"$f":"IF(KELAS!DU37=\"\",\"\",KELAS!DU37)","v":""},{"$f":"IF(KELAS!DV37=\"\",\"\",KELAS!DV37)","v":""},{"$f":"IF(KELAS!DW37=\"\",\"\",KELAS!DW37)","v":""},{"$f":"IF(KELAS!DX37=\"\",\"\",KELAS!DX37)","v":""},{"$f":"IF(KELAS!DY37=\"\",\"\",KELAS!DY37)","v":""},{"$f":"IF(KELAS!DZ37=\"\",\"\",KELAS!DZ37)","v":""},{"$f":"IF(KELAS!EA37=\"\",\"\",KELAS!EA37)","v":"1 ( satu )"},{"$f":"IF(KELAS!EB37=\"\",\"\",KELAS!EB37)","v":"1 ( satu )"},{"$f":"IF(KELAS!EC37=\"\",\"\",KELAS!EC37)","v":"1 ( satu )"},{"$f":"IF(KELAS!ED37=\"\",\"\",KELAS!ED37)","v":"2 ( dua )"},{"$f":"IF(KELAS!EE37=\"\",\"\",KELAS!EE37)","v":""},{"$f":"IF(KELAS!EF37=\"\",\"\",KELAS!EF37)","v":""},{"$f":"IF(KELAS!EG37=\"\",\"\",KELAS!EG37)","v":"Peserta didik menunjukan sikap sungguh-sungguh dalam menerapkan sikap santun, jujur dan kerjasama, namun masih perlu ditingkatkan lagi sikap percaya diri dan ketepatan masuk sekolah"},{"$f":"IF(KELAS!EH37=\"\",\"\",KELAS!EH37)","v":"Dhany Suryanto, S.Pd."},{"$f":"IF(KELAS!EI37=\"\",\"\",KELAS!EI37)","v":"jika punya NIP isikan di sini"},{"$f":"IF(KELAS!EJ37=\"\",\"\",KELAS!EJ37)","v":0},{"$f":"IF(KELAS!EK37=\"\",\"\",KELAS!EK37)","v":0},{"$f":"IF(KELAS!EL37=\"\",\"\",KELAS!EL37)","v":0},{"$f":"IF(KELAS!EM37=\"\",\"\",KELAS!EM37)","v":0},{"$f":"IF(KELAS!EN37=\"\",\"\",KELAS!EN37)","v":0},{"$f":"IF(KELAS!EO37=\"\",\"\",KELAS!EO37)","v":0},{"$f":"IF(KELAS!EP37=\"\",\"\",KELAS!EP37)","v":0},{"$f":"IF(KELAS!EQ37=\"\",\"\",KELAS!EQ37)","v":0},{"$f":"IF(KELAS!ER37=\"\",\"\",KELAS!ER37)","v":0},{"$f":"IF(KELAS!ES37=\"\",\"\",KELAS!ES37)","v":0},{"$f":"IF(KELAS!ET37=\"\",\"\",KELAS!ET37)","v":0}]
[{"$f":"IF(KELAS!A38=\"\",\"\",KELAS!A38)","v":36},{"$f":"IF(KELAS!B38=\"\",\"\",KELAS!B38)","v":12787},{"$f":"IF(KELAS!C38=\"\",\"\",KELAS!C38)","v":"YUNI MUTIASARI"},{"$f":"IF(KELAS!D38=\"\",\"\",KELAS!D38)","v":"P"},{"$f":"IF(KELAS!E38=\"\",\"\",KELAS!E38)","v":"7.A"},{"$f":"IF(KELAS!F38=\"\",\"\",KELAS!F38)","v":"Islam"},{"$f":"IF(KELAS!G38=\"\",\"\",KELAS!G38)","v":9981513017},{"$f":"IF(KELAS!H38=\"\",\"\",KELAS!H38)","v":"Wonosobo, 22 Juni 1998"},{"$f":"IF(KELAS!I38=\"\",\"\",KELAS!I38)","v":"Nur Haryadi"},{"$f":"IF(KELAS!J38=\"\",\"\",KELAS!J38)","v":"Pedagang"},{"$f":"IF(KELAS!K38=\"\",\"\",KELAS!K38)","v":"Dwi Suryanti"},{"$f":"IF(KELAS!L38=\"\",\"\",KELAS!L38)","v":"Ibu Rumah Tangga"},{"$f":"IF(KELAS!M38=\"\",\"\",KELAS!M38)","v":"Sendangsari RT.01 RW.08, Garung, Wsb"},{"$f":"IF(KELAS!N38=\"\",\"\",KELAS!N38)","v":"SMPN 2 WONOSOBO"},{"$f":"IF(KELAS!O38=\"\",\"\",KELAS!O38)","v":1},{"$f":"IF(KELAS!P38=\"\",\"\",KELAS!P38)","v":"Anak Kandung"},{"$f":"IF(KELAS!Q38=\"\",\"\",TEXT(KELAS!Q38,\"0,00\"))","v":""},{"$f":"IF(KELAS!R38=\"\",\"\",KELAS!R38)","v":""},{"$f":"IF(KELAS!S38=\"\",\"\",KELAS!S38)","v":""},{"$f":"IF(KELAS!T38=\"\",\"\",TEXT(KELAS!T38,\"0,00\"))","v":""},{"$f":"IF(KELAS!U38=\"\",\"\",KELAS!U38)","v":""},{"$f":"IF(KELAS!V38=\"\",\"\",KELAS!V38)","v":""},{"$f":"IF(KELAS!W38=\"\",\"\",KELAS!W38)","v":""},{"$f":"IF(KELAS!X38=\"\",\"\",KELAS!X38)","v":""},{"$f":"IF(KELAS!Y38=\"\",\"\",TEXT(KELAS!Y38,\"0,00\"))","v":""},{"$f":"IF(KELAS!Z38=\"\",\"\",KELAS!Z38)","v":""},{"$f":"IF(KELAS!AA38=\"\",\"\",KELAS!AA38)","v":""},{"$f":"IF(KELAS!AB38=\"\",\"\",TEXT(KELAS!AB38,\"0,00\"))","v":""},{"$f":"IF(KELAS!AC38=\"\",\"\",KELAS!AC38)","v":""},{"$f":"IF(KELAS!AD38=\"\",\"\",KELAS!AD38)","v":""},{"$f":"IF(KELAS!AE38=\"\",\"\",KELAS!AE38)","v":""},{"$f":"IF(KELAS!AF38=\"\",\"\",KELAS!AF38)","v":""},{"$f":"IF(KELAS!AG38=\"\",\"\",KELAS!AG38)","v":""},{"$f":"IF(KELAS!AH38=\"\",\"\",TEXT(KELAS!AH38,\"0,00\"))","v":""},{"$f":"IF(KELAS!AI38=\"\",\"\",KELAS!AI38)","v":""},{"$f":"IF(KELAS!AJ38=\"\",\"\",KELAS!AJ38)","v":""},{"$f":"IF(KELAS!AK38=\"\",\"\",TEXT(KELAS!AK38,\"0,00\"))","v":""},{"$f":"IF(KELAS!AL38=\"\",\"\",KELAS!AL38)","v":""},{"$f":"IF(KELAS!AM38=\"\",\"\",KELAS!AM38)","v":""},{"$f":"IF(KELAS!AN38=\"\",\"\",KELAS!AN38)","v":""},{"$f":"IF(KELAS!AO38=\"\",\"\",KELAS!AO38)","v":""},{"$f":"IF(KELAS!AP38=\"\",\"\",KELAS!AP38)","v":""},{"$f":"IF(KELAS!AQ38=\"\",\"\",TEXT(KELAS!AQ38,\"0,00\"))","v":""},{"$f":"IF(KELAS!AR38=\"\",\"\",KELAS!AR38)","v":""},{"$f":"IF(KELAS!AS38=\"\",\"\",KELAS!AS38)","v":""},{"$f":"IF(KELAS!AT38=\"\",\"\",TEXT(KELAS!AT38,\"0,00\"))","v":""},{"$f":"IF(KELAS!AU38=\"\",\"\",KELAS!AU38)","v":""},{"$f":"IF(KELAS!AV38=\"\",\"\",KELAS!AV38)","v":""},{"$f":"IF(KELAS!AW38=\"\",\"\",KELAS!AW38)","v":""},{"$f":"IF(KELAS!AX38=\"\",\"\",KELAS!AX38)","v":""},{"$f":"IF(KELAS!AY38=\"\",\"\",KELAS!AY38)","v":""},{"$f":"IF(KELAS!AZ38=\"\",\"\",TEXT(KELAS!AZ38,\"0,00\"))","v":""},{"$f":"IF(KELAS!BA38=\"\",\"\",KELAS!BA38)","v":""},{"$f":"IF(KELAS!BB38=\"\",\"\",KELAS!BB38)","v":""},{"$f":"IF(KELAS!BC38=\"\",\"\",TEXT(KELAS!BC38,\"0,00\"))","v":""},{"$f":"IF(KELAS!BD38=\"\",\"\",KELAS!BD38)","v":""},{"$f":"IF(KELAS!BE38=\"\",\"\",KELAS!BE38)","v":""},{"$f":"IF(KELAS!BF38=\"\",\"\",KELAS!BF38)","v":""},{"$f":"IF(KELAS!BG38=\"\",\"\",KELAS!BG38)","v":""},{"$f":"IF(KELAS!BH38=\"\",\"\",KELAS!BH38)","v":""},{"$f":"IF(KELAS!BI38=\"\",\"\",TEXT(KELAS!BI38,\"0,00\"))","v":""},{"$f":"IF(KELAS!BJ38=\"\",\"\",KELAS!BJ38)","v":""},{"$f":"IF(KELAS!BK38=\"\",\"\",KELAS!BK38)","v":""},{"$f":"IF(KELAS!BL38=\"\",\"\",TEXT(KELAS!BL38,\"0,00\"))","v":""},{"$f":"IF(KELAS!BM38=\"\",\"\",KELAS!BM38)","v":""},{"$f":"IF(KELAS!BN38=\"\",\"\",KELAS!BN38)","v":""},{"$f":"IF(KELAS!BO38=\"\",\"\",KELAS!BO38)","v":""},{"$f":"IF(KELAS!BP38=\"\",\"\",KELAS!BP38)","v":""},{"$f":"IF(KELAS!BQ38=\"\",\"\",KELAS!BQ38)","v":""},{"$f":"IF(KELAS!BR38=\"\",\"\",TEXT(KELAS!BR38,\"0,00\"))","v":""},{"$f":"IF(KELAS!BS38=\"\",\"\",KELAS!BS38)","v":""},{"$f":"IF(KELAS!BT38=\"\",\"\",KELAS!BT38)","v":""},{"$f":"IF(KELAS!BU38=\"\",\"\",TEXT(KELAS!BU38,\"0,00\"))","v":""},{"$f":"IF(KELAS!BV38=\"\",\"\",KELAS!BV38)","v":""},{"$f":"IF(KELAS!BW38=\"\",\"\",KELAS!BW38)","v":""},{"$f":"IF(KELAS!BX38=\"\",\"\",KELAS!BX38)","v":""},{"$f":"IF(KELAS!BY38=\"\",\"\",KELAS!BY38)","v":""},{"$f":"IF(KELAS!BZ38=\"\",\"\",KELAS!BZ38)","v":""},{"$f":"IF(KELAS!CA38=\"\",\"\",TEXT(KELAS!CA38,\"0,00\"))","v":""},{"$f":"IF(KELAS!CB38=\"\",\"\",KELAS!CB38)","v":""},{"$f":"IF(KELAS!CC38=\"\",\"\",KELAS!CC38)","v":""},{"$f":"IF(KELAS!CD38=\"\",\"\",TEXT(KELAS!CD38,\"0,00\"))","v":""},{"$f":"IF(KELAS!CE38=\"\",\"\",KELAS!CE38)","v":""},{"$f":"IF(KELAS!CF38=\"\",\"\",KELAS!CF38)","v":""},{"$f":"IF(KELAS!CG38=\"\",\"\",KELAS!CG38)","v":""},{"$f":"IF(KELAS!CH38=\"\",\"\",KELAS!CH38)","v":""},{"$f":"IF(KELAS!CI38=\"\",\"\",KELAS!CI38)","v":""},{"$f":"IF(KELAS!CJ38=\"\",\"\",TEXT(KELAS!CJ38,\"0,00\"))","v":""},{"$f":"IF(KELAS!CK38=\"\",\"\",KELAS!CK38)","v":""},{"$f":"IF(KELAS!CL38=\"\",\"\",KELAS!CL38)","v":""},{"$f":"IF(KELAS!CM38=\"\",\"\",TEXT(KELAS!CM38,\"0,00\"))","v":""},{"$f":"IF(KELAS!CN38=\"\",\"\",KELAS!CN38)","v":""},{"$f":"IF(KELAS!CO38=\"\",\"\",KELAS!CO38)","v":""},{"$f":"IF(KELAS!CP38=\"\",\"\",KELAS!CP38)","v":""},{"$f":"IF(KELAS!CQ38=\"\",\"\",KELAS!CQ38)","v":""},{"$f":"IF(KELAS!CR38=\"\",\"\",KELAS!CR38)","v":""},{"$f":"IF(KELAS!CS38=\"\",\"\",TEXT(KELAS!CS38,\"0,00\"))","v":""},{"$f":"IF(KELAS!CT38=\"\",\"\",KELAS!CT38)","v":""},{"$f":"IF(KELAS!CU38=\"\",\"\",KELAS!CU38)","v":""},{"$f":"IF(KELAS!CV38=\"\",\"\",TEXT(KELAS!CV38,\"0,00\"))","v":""},{"$f":"IF(KELAS!CW38=\"\",\"\",KELAS!CW38)","v":""},{"$f":"IF(KELAS!CX38=\"\",\"\",KELAS!CX38)","v":""},{"$f":"IF(KELAS!CY38=\"\",\"\",KELAS!CY38)","v":""},{"$f":"IF(KELAS!CZ38=\"\",\"\",KELAS!CZ38)","v":""},{"$f":"IF(KELAS!DA38=\"\",\"\",KELAS!DA38)","v":""},{"$f":"IF(KELAS!DB38=\"\",\"\",TEXT(KELAS!DB38,\"0,00\"))","v":""},{"$f":"IF(KELAS!DC38=\"\",\"\",KELAS!DC38)","v":""},{"$f":"IF(KELAS!DD38=\"\",\"\",KELAS!DD38)","v":""},{"$f":"IF(KELAS!DE38=\"\",\"\",TEXT(KELAS!DE38,\"0,00\"))","v":""},{"$f":"IF(KELAS!DF38=\"\",\"\",KELAS!DF38)","v":""},{"$f":"IF(KELAS!DG38=\"\",\"\",KELAS!DG38)","v":""},{"$f":"IF(KELAS!DH38=\"\",\"\",KELAS!DH38)","v":""},{"$f":"IF(KELAS!DI38=\"\",\"\",KELAS!DI38)","v":""},{"$f":"IF(KELAS!DJ38=\"\",\"\",KELAS!DJ38)","v":""},{"$f":"IF(KELAS!DK38=\"\",\"\",KELAS!DK38)","v":1},{"$f":"IF(KELAS!DL38=\"\",\"\",KELAS!DL38)","v":1},{"$f":"IF(KELAS!DM38=\"\",\"\",KELAS!DM38)","v":3},{"$f":"IF(KELAS!DN38=\"\",\"\",KELAS!DN38)","v":3},{"$f":"IF(KELAS!DO38=\"\",\"\",KELAS!DO38)","v":""},{"$f":"IF(KELAS!DP38=\"\",\"\",KELAS!DP38)","v":""},{"$f":"IF(KELAS!DQ38=\"\",\"\",KELAS!DQ38)","v":""},{"$f":"IF(KELAS!DR38=\"\",\"\",KELAS!DR38)","v":""},{"$f":"IF(KELAS!DS38=\"\",\"\",KELAS!DS38)","v":""},{"$f":"IF(KELAS!DT38=\"\",\"\",KELAS!DT38)","v":""},{"$f":"IF(KELAS!DU38=\"\",\"\",KELAS!DU38)","v":""},{"$f":"IF(KELAS!DV38=\"\",\"\",KELAS!DV38)","v":""},{"$f":"IF(KELAS!DW38=\"\",\"\",KELAS!DW38)","v":""},{"$f":"IF(KELAS!DX38=\"\",\"\",KELAS!DX38)","v":""},{"$f":"IF(KELAS!DY38=\"\",\"\",KELAS!DY38)","v":""},{"$f":"IF(KELAS!DZ38=\"\",\"\",KELAS!DZ38)","v":""},{"$f":"IF(KELAS!EA38=\"\",\"\",KELAS!EA38)","v":"1 ( satu )"},{"$f":"IF(KELAS!EB38=\"\",\"\",KELAS!EB38)","v":"1 ( satu )"},{"$f":"IF(KELAS!EC38=\"\",\"\",KELAS!EC38)","v":"3 ( tiga )"},{"$f":"IF(KELAS!ED38=\"\",\"\",KELAS!ED38)","v":"3 ( tiga )"},{"$f":"IF(KELAS!EE38=\"\",\"\",KELAS!EE38)","v":""},{"$f":"IF(KELAS!EF38=\"\",\"\",KELAS!EF38)","v":""},{"$f":"IF(KELAS!EG38=\"\",\"\",KELAS!EG38)","v":"Peserta didik menunjukan sikap sungguh-sungguh dalam menerapkan sikap santun, jujur dan kerjasama, namun masih perlu ditingkatkan lagi sikap percaya diri dan ketepatan masuk sekolah"},{"$f":"IF(KELAS!EH38=\"\",\"\",KELAS!EH38)","v":"Dhany Suryanto, S.Pd."},{"$f":"IF(KELAS!EI38=\"\",\"\",KELAS!EI38)","v":"jika punya NIP isikan di sini"},{"$f":"IF(KELAS!EJ38=\"\",\"\",KELAS!EJ38)","v":0},{"$f":"IF(KELAS!EK38=\"\",\"\",KELAS!EK38)","v":0},{"$f":"IF(KELAS!EL38=\"\",\"\",KELAS!EL38)","v":0},{"$f":"IF(KELAS!EM38=\"\",\"\",KELAS!EM38)","v":0},{"$f":"IF(KELAS!EN38=\"\",\"\",KELAS!EN38)","v":0},{"$f":"IF(KELAS!EO38=\"\",\"\",KELAS!EO38)","v":0},{"$f":"IF(KELAS!EP38=\"\",\"\",KELAS!EP38)","v":0},{"$f":"IF(KELAS!EQ38=\"\",\"\",KELAS!EQ38)","v":0},{"$f":"IF(KELAS!ER38=\"\",\"\",KELAS!ER38)","v":0},{"$f":"IF(KELAS!ES38=\"\",\"\",KELAS!ES38)","v":0},{"$f":"IF(KELAS!ET38=\"\",\"\",KELAS!ET38)","v":0}]
[{"$f":"IF(KELAS!A39=\"\",\"\",KELAS!A39)","v":""},{"$f":"IF(KELAS!B39=\"\",\"\",KELAS!B39)","v":""},{"$f":"IF(KELAS!C39=\"\",\"\",KELAS!C39)","v":""},{"$f":"IF(KELAS!D39=\"\",\"\",KELAS!D39)","v":""},{"$f":"IF(KELAS!E39=\"\",\"\",KELAS!E39)","v":""},{"$f":"IF(KELAS!F39=\"\",\"\",KELAS!F39)","v":""},{"$f":"IF(KELAS!G39=\"\",\"\",KELAS!G39)","v":""},{"$f":"IF(KELAS!H39=\"\",\"\",KELAS!H39)","v":""},{"$f":"IF(KELAS!I39=\"\",\"\",KELAS!I39)","v":""},{"$f":"IF(KELAS!J39=\"\",\"\",KELAS!J39)","v":""},{"$f":"IF(KELAS!K39=\"\",\"\",KELAS!K39)","v":""},{"$f":"IF(KELAS!L39=\"\",\"\",KELAS!L39)","v":""},{"$f":"IF(KELAS!M39=\"\",\"\",KELAS!M39)","v":""},{"$f":"IF(KELAS!N39=\"\",\"\",KELAS!N39)","v":""},{"$f":"IF(KELAS!O39=\"\",\"\",KELAS!O39)","v":""},{"$f":"IF(KELAS!P39=\"\",\"\",KELAS!P39)","v":""},{"$f":"IF(KELAS!Q39=\"\",\"\",TEXT(KELAS!Q39,\"0,00\"))","v":""},{"$f":"IF(KELAS!R39=\"\",\"\",KELAS!R39)","v":""},{"$f":"IF(KELAS!S39=\"\",\"\",KELAS!S39)","v":""},{"$f":"IF(KELAS!T39=\"\",\"\",TEXT(KELAS!T39,\"0,00\"))","v":""},{"$f":"IF(KELAS!U39=\"\",\"\",KELAS!U39)","v":""},{"$f":"IF(KELAS!V39=\"\",\"\",KELAS!V39)","v":""},{"$f":"IF(KELAS!W39=\"\",\"\",KELAS!W39)","v":""},{"$f":"IF(KELAS!X39=\"\",\"\",KELAS!X39)","v":""},{"$f":"IF(KELAS!Y39=\"\",\"\",TEXT(KELAS!Y39,\"0,00\"))","v":""},{"$f":"IF(KELAS!Z39=\"\",\"\",KELAS!Z39)","v":""},{"$f":"IF(KELAS!AA39=\"\",\"\",KELAS!AA39)","v":""},{"$f":"IF(KELAS!AB39=\"\",\"\",TEXT(KELAS!AB39,\"0,00\"))","v":""},{"$f":"IF(KELAS!AC39=\"\",\"\",KELAS!AC39)","v":""},{"$f":"IF(KELAS!AD39=\"\",\"\",KELAS!AD39)","v":""},{"$f":"IF(KELAS!AE39=\"\",\"\",KELAS!AE39)","v":""},{"$f":"IF(KELAS!AF39=\"\",\"\",KELAS!AF39)","v":""},{"$f":"IF(KELAS!AG39=\"\",\"\",KELAS!AG39)","v":""},{"$f":"IF(KELAS!AH39=\"\",\"\",TEXT(KELAS!AH39,\"0,00\"))","v":""},{"$f":"IF(KELAS!AI39=\"\",\"\",KELAS!AI39)","v":""},{"$f":"IF(KELAS!AJ39=\"\",\"\",KELAS!AJ39)","v":""},{"$f":"IF(KELAS!AK39=\"\",\"\",TEXT(KELAS!AK39,\"0,00\"))","v":""},{"$f":"IF(KELAS!AL39=\"\",\"\",KELAS!AL39)","v":""},{"$f":"IF(KELAS!AM39=\"\",\"\",KELAS!AM39)","v":""},{"$f":"IF(KELAS!AN39=\"\",\"\",KELAS!AN39)","v":""},{"$f":"IF(KELAS!AO39=\"\",\"\",KELAS!AO39)","v":""},{"$f":"IF(KELAS!AP39=\"\",\"\",KELAS!AP39)","v":""},{"$f":"IF(KELAS!AQ39=\"\",\"\",TEXT(KELAS!AQ39,\"0,00\"))","v":""},{"$f":"IF(KELAS!AR39=\"\",\"\",KELAS!AR39)","v":""},{"$f":"IF(KELAS!AS39=\"\",\"\",KELAS!AS39)","v":""},{"$f":"IF(KELAS!AT39=\"\",\"\",TEXT(KELAS!AT39,\"0,00\"))","v":""},{"$f":"IF(KELAS!AU39=\"\",\"\",KELAS!AU39)","v":""},{"$f":"IF(KELAS!AV39=\"\",\"\",KELAS!AV39)","v":""},{"$f":"IF(KELAS!AW39=\"\",\"\",KELAS!AW39)","v":""},{"$f":"IF(KELAS!AX39=\"\",\"\",KELAS!AX39)","v":""},{"$f":"IF(KELAS!AY39=\"\",\"\",KELAS!AY39)","v":""},{"$f":"IF(KELAS!AZ39=\"\",\"\",TEXT(KELAS!AZ39,\"0,00\"))","v":""},{"$f":"IF(KELAS!BA39=\"\",\"\",KELAS!BA39)","v":""},{"$f":"IF(KELAS!BB39=\"\",\"\",KELAS!BB39)","v":""},{"$f":"IF(KELAS!BC39=\"\",\"\",TEXT(KELAS!BC39,\"0,00\"))","v":""},{"$f":"IF(KELAS!BD39=\"\",\"\",KELAS!BD39)","v":""},{"$f":"IF(KELAS!BE39=\"\",\"\",KELAS!BE39)","v":""},{"$f":"IF(KELAS!BF39=\"\",\"\",KELAS!BF39)","v":""},{"$f":"IF(KELAS!BG39=\"\",\"\",KELAS!BG39)","v":""},{"$f":"IF(KELAS!BH39=\"\",\"\",KELAS!BH39)","v":""},{"$f":"IF(KELAS!BI39=\"\",\"\",TEXT(KELAS!BI39,\"0,00\"))","v":""},{"$f":"IF(KELAS!BJ39=\"\",\"\",KELAS!BJ39)","v":""},{"$f":"IF(KELAS!BK39=\"\",\"\",KELAS!BK39)","v":""},{"$f":"IF(KELAS!BL39=\"\",\"\",TEXT(KELAS!BL39,\"0,00\"))","v":""},{"$f":"IF(KELAS!BM39=\"\",\"\",KELAS!BM39)","v":""},{"$f":"IF(KELAS!BN39=\"\",\"\",KELAS!BN39)","v":""},{"$f":"IF(KELAS!BO39=\"\",\"\",KELAS!BO39)","v":""},{"$f":"IF(KELAS!BP39=\"\",\"\",KELAS!BP39)","v":""},{"$f":"IF(KELAS!BQ39=\"\",\"\",KELAS!BQ39)","v":""},{"$f":"IF(KELAS!BR39=\"\",\"\",TEXT(KELAS!BR39,\"0,00\"))","v":""},{"$f":"IF(KELAS!BS39=\"\",\"\",KELAS!BS39)","v":""},{"$f":"IF(KELAS!BT39=\"\",\"\",KELAS!BT39)","v":""},{"$f":"IF(KELAS!BU39=\"\",\"\",TEXT(KELAS!BU39,\"0,00\"))","v":""},{"$f":"IF(KELAS!BV39=\"\",\"\",KELAS!BV39)","v":""},{"$f":"IF(KELAS!BW39=\"\",\"\",KELAS!BW39)","v":""},{"$f":"IF(KELAS!BX39=\"\",\"\",KELAS!BX39)","v":""},{"$f":"IF(KELAS!BY39=\"\",\"\",KELAS!BY39)","v":""},{"$f":"IF(KELAS!BZ39=\"\",\"\",KELAS!BZ39)","v":""},{"$f":"IF(KELAS!CA39=\"\",\"\",TEXT(KELAS!CA39,\"0,00\"))","v":""},{"$f":"IF(KELAS!CB39=\"\",\"\",KELAS!CB39)","v":""},{"$f":"IF(KELAS!CC39=\"\",\"\",KELAS!CC39)","v":""},{"$f":"IF(KELAS!CD39=\"\",\"\",TEXT(KELAS!CD39,\"0,00\"))","v":""},{"$f":"IF(KELAS!CE39=\"\",\"\",KELAS!CE39)","v":""},{"$f":"IF(KELAS!CF39=\"\",\"\",KELAS!CF39)","v":""},{"$f":"IF(KELAS!CG39=\"\",\"\",KELAS!CG39)","v":""},{"$f":"IF(KELAS!CH39=\"\",\"\",KELAS!CH39)","v":""},{"$f":"IF(KELAS!CI39=\"\",\"\",KELAS!CI39)","v":""},{"$f":"IF(KELAS!CJ39=\"\",\"\",TEXT(KELAS!CJ39,\"0,00\"))","v":""},{"$f":"IF(KELAS!CK39=\"\",\"\",KELAS!CK39)","v":""},{"$f":"IF(KELAS!CL39=\"\",\"\",KELAS!CL39)","v":""},{"$f":"IF(KELAS!CM39=\"\",\"\",TEXT(KELAS!CM39,\"0,00\"))","v":""},{"$f":"IF(KELAS!CN39=\"\",\"\",KELAS!CN39)","v":""},{"$f":"IF(KELAS!CO39=\"\",\"\",KELAS!CO39)","v":""},{"$f":"IF(KELAS!CP39=\"\",\"\",KELAS!CP39)","v":""},{"$f":"IF(KELAS!CQ39=\"\",\"\",KELAS!CQ39)","v":""},{"$f":"IF(KELAS!CR39=\"\",\"\",KELAS!CR39)","v":""},{"$f":"IF(KELAS!CS39=\"\",\"\",TEXT(KELAS!CS39,\"0,00\"))","v":""},{"$f":"IF(KELAS!CT39=\"\",\"\",KELAS!CT39)","v":""},{"$f":"IF(KELAS!CU39=\"\",\"\",KELAS!CU39)","v":""},{"$f":"IF(KELAS!CV39=\"\",\"\",TEXT(KELAS!CV39,\"0,00\"))","v":""},{"$f":"IF(KELAS!CW39=\"\",\"\",KELAS!CW39)","v":""},{"$f":"IF(KELAS!CX39=\"\",\"\",KELAS!CX39)","v":""},{"$f":"IF(KELAS!CY39=\"\",\"\",KELAS!CY39)","v":""},{"$f":"IF(KELAS!CZ39=\"\",\"\",KELAS!CZ39)","v":""},{"$f":"IF(KELAS!DA39=\"\",\"\",KELAS!DA39)","v":""},{"$f":"IF(KELAS!DB39=\"\",\"\",TEXT(KELAS!DB39,\"0,00\"))","v":""},{"$f":"IF(KELAS!DC39=\"\",\"\",KELAS!DC39)","v":""},{"$f":"IF(KELAS!DD39=\"\",\"\",KELAS!DD39)","v":""},{"$f":"IF(KELAS!DE39=\"\",\"\",TEXT(KELAS!DE39,\"0,00\"))","v":""},{"$f":"IF(KELAS!DF39=\"\",\"\",KELAS!DF39)","v":""},{"$f":"IF(KELAS!DG39=\"\",\"\",KELAS!DG39)","v":""},{"$f":"IF(KELAS!DH39=\"\",\"\",KELAS!DH39)","v":""},{"$f":"IF(KELAS!DI39=\"\",\"\",KELAS!DI39)","v":""},{"$f":"IF(KELAS!DJ39=\"\",\"\",KELAS!DJ39)","v":""},{"$f":"IF(KELAS!DK39=\"\",\"\",KELAS!DK39)","v":""},{"$f":"IF(KELAS!DL39=\"\",\"\",KELAS!DL39)","v":""},{"$f":"IF(KELAS!DM39=\"\",\"\",KELAS!DM39)","v":""},{"$f":"IF(KELAS!DN39=\"\",\"\",KELAS!DN39)","v":""},{"$f":"IF(KELAS!DO39=\"\",\"\",KELAS!DO39)","v":""},{"$f":"IF(KELAS!DP39=\"\",\"\",KELAS!DP39)","v":""},{"$f":"IF(KELAS!DQ39=\"\",\"\",KELAS!DQ39)","v":""},{"$f":"IF(KELAS!DR39=\"\",\"\",KELAS!DR39)","v":""},{"$f":"IF(KELAS!DS39=\"\",\"\",KELAS!DS39)","v":""},{"$f":"IF(KELAS!DT39=\"\",\"\",KELAS!DT39)","v":""},{"$f":"IF(KELAS!DU39=\"\",\"\",KELAS!DU39)","v":""},{"$f":"IF(KELAS!DV39=\"\",\"\",KELAS!DV39)","v":""},{"$f":"IF(KELAS!DW39=\"\",\"\",KELAS!DW39)","v":""},{"$f":"IF(KELAS!DX39=\"\",\"\",KELAS!DX39)","v":""},{"$f":"IF(KELAS!DY39=\"\",\"\",KELAS!DY39)","v":""},{"$f":"IF(KELAS!DZ39=\"\",\"\",KELAS!DZ39)","v":""},{"$f":"IF(KELAS!EA39=\"\",\"\",KELAS!EA39)","v":""},{"$f":"IF(KELAS!EB39=\"\",\"\",KELAS!EB39)","v":""},{"$f":"IF(KELAS!EC39=\"\",\"\",KELAS!EC39)","v":""},{"$f":"IF(KELAS!ED39=\"\",\"\",KELAS!ED39)","v":""},{"$f":"IF(KELAS!EE39=\"\",\"\",KELAS!EE39)","v":""},{"$f":"IF(KELAS!EF39=\"\",\"\",KELAS!EF39)","v":""},{"$f":"IF(KELAS!EG39=\"\",\"\",KELAS!EG39)","v":""},{"$f":"IF(KELAS!EH39=\"\",\"\",KELAS!EH39)","v":""},{"$f":"IF(KELAS!EI39=\"\",\"\",KELAS!EI39)","v":""},{"$f":"IF(KELAS!EJ39=\"\",\"\",KELAS!EJ39)","v":""},{"$f":"IF(KELAS!EK39=\"\",\"\",KELAS!EK39)","v":""},{"$f":"IF(KELAS!EL39=\"\",\"\",KELAS!EL39)","v":""},{"$f":"IF(KELAS!EM39=\"\",\"\",KELAS!EM39)","v":""},{"$f":"IF(KELAS!EN39=\"\",\"\",KELAS!EN39)","v":""},{"$f":"IF(KELAS!EO39=\"\",\"\",KELAS!EO39)","v":""},{"$f":"IF(KELAS!EP39=\"\",\"\",KELAS!EP39)","v":""},{"$f":"IF(KELAS!EQ39=\"\",\"\",KELAS!EQ39)","v":""},{"$f":"IF(KELAS!ER39=\"\",\"\",KELAS!ER39)","v":""},{"$f":"IF(KELAS!ES39=\"\",\"\",KELAS!ES39)","v":""},{"$f":"IF(KELAS!ET39=\"\",\"\",KELAS!ET39)","v":""}]
[{"$f":"IF(KELAS!A40=\"\",\"\",KELAS!A40)","v":""},{"$f":"IF(KELAS!B40=\"\",\"\",KELAS!B40)","v":""},{"$f":"IF(KELAS!C40=\"\",\"\",KELAS!C40)","v":""},{"$f":"IF(KELAS!D40=\"\",\"\",KELAS!D40)","v":""},{"$f":"IF(KELAS!E40=\"\",\"\",KELAS!E40)","v":""},{"$f":"IF(KELAS!F40=\"\",\"\",KELAS!F40)","v":""},{"$f":"IF(KELAS!G40=\"\",\"\",KELAS!G40)","v":""},{"$f":"IF(KELAS!H40=\"\",\"\",KELAS!H40)","v":""},{"$f":"IF(KELAS!I40=\"\",\"\",KELAS!I40)","v":""},{"$f":"IF(KELAS!J40=\"\",\"\",KELAS!J40)","v":""},{"$f":"IF(KELAS!K40=\"\",\"\",KELAS!K40)","v":""},{"$f":"IF(KELAS!L40=\"\",\"\",KELAS!L40)","v":""},{"$f":"IF(KELAS!M40=\"\",\"\",KELAS!M40)","v":""},{"$f":"IF(KELAS!N40=\"\",\"\",KELAS!N40)","v":""},{"$f":"IF(KELAS!O40=\"\",\"\",KELAS!O40)","v":""},{"$f":"IF(KELAS!P40=\"\",\"\",KELAS!P40)","v":""},{"$f":"IF(KELAS!Q40=\"\",\"\",TEXT(KELAS!Q40,\"0,00\"))","v":""},{"$f":"IF(KELAS!R40=\"\",\"\",KELAS!R40)","v":""},{"$f":"IF(KELAS!S40=\"\",\"\",KELAS!S40)","v":""},{"$f":"IF(KELAS!T40=\"\",\"\",TEXT(KELAS!T40,\"0,00\"))","v":""},{"$f":"IF(KELAS!U40=\"\",\"\",KELAS!U40)","v":""},{"$f":"IF(KELAS!V40=\"\",\"\",KELAS!V40)","v":""},{"$f":"IF(KELAS!W40=\"\",\"\",KELAS!W40)","v":""},{"$f":"IF(KELAS!X40=\"\",\"\",KELAS!X40)","v":""},{"$f":"IF(KELAS!Y40=\"\",\"\",TEXT(KELAS!Y40,\"0,00\"))","v":""},{"$f":"IF(KELAS!Z40=\"\",\"\",KELAS!Z40)","v":""},{"$f":"IF(KELAS!AA40=\"\",\"\",KELAS!AA40)","v":""},{"$f":"IF(KELAS!AB40=\"\",\"\",TEXT(KELAS!AB40,\"0,00\"))","v":""},{"$f":"IF(KELAS!AC40=\"\",\"\",KELAS!AC40)","v":""},{"$f":"IF(KELAS!AD40=\"\",\"\",KELAS!AD40)","v":""},{"$f":"IF(KELAS!AE40=\"\",\"\",KELAS!AE40)","v":""},{"$f":"IF(KELAS!AF40=\"\",\"\",KELAS!AF40)","v":""},{"$f":"IF(KELAS!AG40=\"\",\"\",KELAS!AG40)","v":""},{"$f":"IF(KELAS!AH40=\"\",\"\",TEXT(KELAS!AH40,\"0,00\"))","v":""},{"$f":"IF(KELAS!AI40=\"\",\"\",KELAS!AI40)","v":""},{"$f":"IF(KELAS!AJ40=\"\",\"\",KELAS!AJ40)","v":""},{"$f":"IF(KELAS!AK40=\"\",\"\",TEXT(KELAS!AK40,\"0,00\"))","v":""},{"$f":"IF(KELAS!AL40=\"\",\"\",KELAS!AL40)","v":""},{"$f":"IF(KELAS!AM40=\"\",\"\",KELAS!AM40)","v":""},{"$f":"IF(KELAS!AN40=\"\",\"\",KELAS!AN40)","v":""},{"$f":"IF(KELAS!AO40=\"\",\"\",KELAS!AO40)","v":""},{"$f":"IF(KELAS!AP40=\"\",\"\",KELAS!AP40)","v":""},{"$f":"IF(KELAS!AQ40=\"\",\"\",TEXT(KELAS!AQ40,\"0,00\"))","v":""},{"$f":"IF(KELAS!AR40=\"\",\"\",KELAS!AR40)","v":""},{"$f":"IF(KELAS!AS40=\"\",\"\",KELAS!AS40)","v":""},{"$f":"IF(KELAS!AT40=\"\",\"\",TEXT(KELAS!AT40,\"0,00\"))","v":""},{"$f":"IF(KELAS!AU40=\"\",\"\",KELAS!AU40)","v":""},{"$f":"IF(KELAS!AV40=\"\",\"\",KELAS!AV40)","v":""},{"$f":"IF(KELAS!AW40=\"\",\"\",KELAS!AW40)","v":""},{"$f":"IF(KELAS!AX40=\"\",\"\",KELAS!AX40)","v":""},{"$f":"IF(KELAS!AY40=\"\",\"\",KELAS!AY40)","v":""},{"$f":"IF(KELAS!AZ40=\"\",\"\",TEXT(KELAS!AZ40,\"0,00\"))","v":""},{"$f":"IF(KELAS!BA40=\"\",\"\",KELAS!BA40)","v":""},{"$f":"IF(KELAS!BB40=\"\",\"\",KELAS!BB40)","v":""},{"$f":"IF(KELAS!BC40=\"\",\"\",TEXT(KELAS!BC40,\"0,00\"))","v":""},{"$f":"IF(KELAS!BD40=\"\",\"\",KELAS!BD40)","v":""},{"$f":"IF(KELAS!BE40=\"\",\"\",KELAS!BE40)","v":""},{"$f":"IF(KELAS!BF40=\"\",\"\",KELAS!BF40)","v":""},{"$f":"IF(KELAS!BG40=\"\",\"\",KELAS!BG40)","v":""},{"$f":"IF(KELAS!BH40=\"\",\"\",KELAS!BH40)","v":""},{"$f":"IF(KELAS!BI40=\"\",\"\",TEXT(KELAS!BI40,\"0,00\"))","v":""},{"$f":"IF(KELAS!BJ40=\"\",\"\",KELAS!BJ40)","v":""},{"$f":"IF(KELAS!BK40=\"\",\"\",KELAS!BK40)","v":""},{"$f":"IF(KELAS!BL40=\"\",\"\",TEXT(KELAS!BL40,\"0,00\"))","v":""},{"$f":"IF(KELAS!BM40=\"\",\"\",KELAS!BM40)","v":""},{"$f":"IF(KELAS!BN40=\"\",\"\",KELAS!BN40)","v":""},{"$f":"IF(KELAS!BO40=\"\",\"\",KELAS!BO40)","v":""},{"$f":"IF(KELAS!BP40=\"\",\"\",KELAS!BP40)","v":""},{"$f":"IF(KELAS!BQ40=\"\",\"\",KELAS!BQ40)","v":""},{"$f":"IF(KELAS!BR40=\"\",\"\",TEXT(KELAS!BR40,\"0,00\"))","v":""},{"$f":"IF(KELAS!BS40=\"\",\"\",KELAS!BS40)","v":""},{"$f":"IF(KELAS!BT40=\"\",\"\",KELAS!BT40)","v":""},{"$f":"IF(KELAS!BU40=\"\",\"\",TEXT(KELAS!BU40,\"0,00\"))","v":""},{"$f":"IF(KELAS!BV40=\"\",\"\",KELAS!BV40)","v":""},{"$f":"IF(KELAS!BW40=\"\",\"\",KELAS!BW40)","v":""},{"$f":"IF(KELAS!BX40=\"\",\"\",KELAS!BX40)","v":""},{"$f":"IF(KELAS!BY40=\"\",\"\",KELAS!BY40)","v":""},{"$f":"IF(KELAS!BZ40=\"\",\"\",KELAS!BZ40)","v":""},{"$f":"IF(KELAS!CA40=\"\",\"\",TEXT(KELAS!CA40,\"0,00\"))","v":""},{"$f":"IF(KELAS!CB40=\"\",\"\",KELAS!CB40)","v":""},{"$f":"IF(KELAS!CC40=\"\",\"\",KELAS!CC40)","v":""},{"$f":"IF(KELAS!CD40=\"\",\"\",TEXT(KELAS!CD40,\"0,00\"))","v":""},{"$f":"IF(KELAS!CE40=\"\",\"\",KELAS!CE40)","v":""},{"$f":"IF(KELAS!CF40=\"\",\"\",KELAS!CF40)","v":""},{"$f":"IF(KELAS!CG40=\"\",\"\",KELAS!CG40)","v":""},{"$f":"IF(KELAS!CH40=\"\",\"\",KELAS!CH40)","v":""},{"$f":"IF(KELAS!CI40=\"\",\"\",KELAS!CI40)","v":""},{"$f":"IF(KELAS!CJ40=\"\",\"\",TEXT(KELAS!CJ40,\"0,00\"))","v":""},{"$f":"IF(KELAS!CK40=\"\",\"\",KELAS!CK40)","v":""},{"$f":"IF(KELAS!CL40=\"\",\"\",KELAS!CL40)","v":""},{"$f":"IF(KELAS!CM40=\"\",\"\",TEXT(KELAS!CM40,\"0,00\"))","v":""},{"$f":"IF(KELAS!CN40=\"\",\"\",KELAS!CN40)","v":""},{"$f":"IF(KELAS!CO40=\"\",\"\",KELAS!CO40)","v":""},{"$f":"IF(KELAS!CP40=\"\",\"\",KELAS!CP40)","v":""},{"$f":"IF(KELAS!CQ40=\"\",\"\",KELAS!CQ40)","v":""},{"$f":"IF(KELAS!CR40=\"\",\"\",KELAS!CR40)","v":""},{"$f":"IF(KELAS!CS40=\"\",\"\",TEXT(KELAS!CS40,\"0,00\"))","v":""},{"$f":"IF(KELAS!CT40=\"\",\"\",KELAS!CT40)","v":""},{"$f":"IF(KELAS!CU40=\"\",\"\",KELAS!CU40)","v":""},{"$f":"IF(KELAS!CV40=\"\",\"\",TEXT(KELAS!CV40,\"0,00\"))","v":""},{"$f":"IF(KELAS!CW40=\"\",\"\",KELAS!CW40)","v":""},{"$f":"IF(KELAS!CX40=\"\",\"\",KELAS!CX40)","v":""},{"$f":"IF(KELAS!CY40=\"\",\"\",KELAS!CY40)","v":""},{"$f":"IF(KELAS!CZ40=\"\",\"\",KELAS!CZ40)","v":""},{"$f":"IF(KELAS!DA40=\"\",\"\",KELAS!DA40)","v":""},{"$f":"IF(KELAS!DB40=\"\",\"\",TEXT(KELAS!DB40,\"0,00\"))","v":""},{"$f":"IF(KELAS!DC40=\"\",\"\",KELAS!DC40)","v":""},{"$f":"IF(KELAS!DD40=\"\",\"\",KELAS!DD40)","v":""},{"$f":"IF(KELAS!DE40=\"\",\"\",TEXT(KELAS!DE40,\"0,00\"))","v":""},{"$f":"IF(KELAS!DF40=\"\",\"\",KELAS!DF40)","v":""},{"$f":"IF(KELAS!DG40=\"\",\"\",KELAS!DG40)","v":""},{"$f":"IF(KELAS!DH40=\"\",\"\",KELAS!DH40)","v":""},{"$f":"IF(KELAS!DI40=\"\",\"\",KELAS!DI40)","v":""},{"$f":"IF(KELAS!DJ40=\"\",\"\",KELAS!DJ40)","v":""},{"$f":"IF(KELAS!DK40=\"\",\"\",KELAS!DK40)","v":""},{"$f":"IF(KELAS!DL40=\"\",\"\",KELAS!DL40)","v":""},{"$f":"IF(KELAS!DM40=\"\",\"\",KELAS!DM40)","v":""},{"$f":"IF(KELAS!DN40=\"\",\"\",KELAS!DN40)","v":""},{"$f":"IF(KELAS!DO40=\"\",\"\",KELAS!DO40)","v":""},{"$f":"IF(KELAS!DP40=\"\",\"\",KELAS!DP40)","v":""},{"$f":"IF(KELAS!DQ40=\"\",\"\",KELAS!DQ40)","v":""},{"$f":"IF(KELAS!DR40=\"\",\"\",KELAS!DR40)","v":""},{"$f":"IF(KELAS!DS40=\"\",\"\",KELAS!DS40)","v":""},{"$f":"IF(KELAS!DT40=\"\",\"\",KELAS!DT40)","v":""},{"$f":"IF(KELAS!DU40=\"\",\"\",KELAS!DU40)","v":""},{"$f":"IF(KELAS!DV40=\"\",\"\",KELAS!DV40)","v":""},{"$f":"IF(KELAS!DW40=\"\",\"\",KELAS!DW40)","v":""},{"$f":"IF(KELAS!DX40=\"\",\"\",KELAS!DX40)","v":""},{"$f":"IF(KELAS!DY40=\"\",\"\",KELAS!DY40)","v":""},{"$f":"IF(KELAS!DZ40=\"\",\"\",KELAS!DZ40)","v":""},{"$f":"IF(KELAS!EA40=\"\",\"\",KELAS!EA40)","v":""},{"$f":"IF(KELAS!EB40=\"\",\"\",KELAS!EB40)","v":""},{"$f":"IF(KELAS!EC40=\"\",\"\",KELAS!EC40)","v":""},{"$f":"IF(KELAS!ED40=\"\",\"\",KELAS!ED40)","v":""},{"$f":"IF(KELAS!EE40=\"\",\"\",KELAS!EE40)","v":""},{"$f":"IF(KELAS!EF40=\"\",\"\",KELAS!EF40)","v":""},{"$f":"IF(KELAS!EG40=\"\",\"\",KELAS!EG40)","v":""},{"$f":"IF(KELAS!EH40=\"\",\"\",KELAS!EH40)","v":""},{"$f":"IF(KELAS!EI40=\"\",\"\",KELAS!EI40)","v":""},{"$f":"IF(KELAS!EJ40=\"\",\"\",KELAS!EJ40)","v":""},{"$f":"IF(KELAS!EK40=\"\",\"\",KELAS!EK40)","v":""},{"$f":"IF(KELAS!EL40=\"\",\"\",KELAS!EL40)","v":""},{"$f":"IF(KELAS!EM40=\"\",\"\",KELAS!EM40)","v":""},{"$f":"IF(KELAS!EN40=\"\",\"\",KELAS!EN40)","v":""},{"$f":"IF(KELAS!EO40=\"\",\"\",KELAS!EO40)","v":""},{"$f":"IF(KELAS!EP40=\"\",\"\",KELAS!EP40)","v":""},{"$f":"IF(KELAS!EQ40=\"\",\"\",KELAS!EQ40)","v":""},{"$f":"IF(KELAS!ER40=\"\",\"\",KELAS!ER40)","v":""},{"$f":"IF(KELAS!ES40=\"\",\"\",KELAS!ES40)","v":""},{"$f":"IF(KELAS!ET40=\"\",\"\",KELAS!ET40)","v":""}]

{"sheet":"Sikap Antar Mapel","index":2,"n_rows":44,"n_cols":45,"rows_kept":44,"cut":false,"hidden":false,"merged":[[2,0,3,0],[2,1,3,1],[1,2,1,7],[1,8,1,12],[1,13,1,16],[0,0,1,1],[0,44,3,44],[2,24,2,28],[0,2,0,23],[2,29,2,33],[2,34,2,38],[2,39,2,43],[1,17,1,18],[1,19,1,23],[1,24,1,28],[1,29,1,33],[1,34,1,38],[1,39,1,43],[0,24,0,43]]}
[{"$f":"KELAS!E3","v":"7.A"},null,"MATA PELAJARAN",null,null,null,null,null,null,null,null,null,null,null,null,null,null,null,null,null,null,null,null,null,"JUMLAH  NILAI SIKAP",null,null,null,null,null,null,null,null,null,null,null,null,null,null,null,null,null,null,null,"Deskripsi Sikap Antar Mapel"]
[null,null,"KELOMPOK A (WAJIB",null,null,null,null,null,"KELOMPOK B (WAJIB)",null,null,null,null,"KELOMPOK C (Peminatan)",null,null,null,"Lintas Minat",null,"Ciri Khusus",null,null,null,null,"Sangat Baik",null,null,null,null,"Baik",null,null,null,null,"Cukup",null,null,null,null,"Kurang"]
["No.","Nama Siswa",{"$f":"RIGHT(C5,3)","v":"001"},{"$f":"RIGHT(D5,3)","v":"002"},"003","004","005","006","007","008","009","010",{"$f":"RIGHT(M5,3)","v":{"$error":"#REF!"}},{"$f":"IFERROR(VLOOKUP(KELAS!$E$3,KODEMAPEL,12,FALSE),\"\")","v":"011"},{"$f":"IFERROR(VLOOKUP(KELAS!$E$3,KODEMAPEL,13,FALSE),\"\")","v":0},{"$f":"IFERROR(VLOOKUP(KELAS!$E$3,KODEMAPEL,14,FALSE),\"\")","v":0},{"$f":"IFERROR(VLOOKUP(KELAS!$E$3,KODEMAPEL,15,FALSE),\"\")","v":0},{"$f":"IFERROR(VLOOKUP(KELAS!$E$3,KODEMAPEL,16,FALSE),\"\")","v":0},{"$f":"IFERROR(VLOOKUP(KELAS!$E$3,KODEMAPEL,17,FALSE),\"\")","v":0},{"$error":"#REF!"},{"$error":"#REF!"},{"$error":"#REF!"},{"$error":"#REF!"},{"$error":"#REF!"},"Kelompok Mapel",null,null,null,null,"Kelompok Mapel",null,null,null,null,"Kelompok Mapel",null,null,null,null,"Kelompok Mapel"]
[null,null,{"$f":"IFERROR(VLOOKUP(C3,KODEMAPEL2,3,FALSE),\"\")","v":"PAI"},"PKn","BIN","MAT","IPA","IPS","BIG","SEN","JAS","PRA","","JAW","","","","","","","","","","","A","B","C","D","Ciri Khusus","A","B","C","D","Ciri Khusus","A","B","C","D","Ciri Khusus","A","B","C","D","Ciri Khusus"]
[null,null,{"$f":"KELAS!W1","v":"Predikat_KI-1-2_PAI_001"},{"$f":"KELAS!AE1","v":"Predikat_KI-1-2_PKn_002"},{"$f":"KELAS!AN1","v":"Predikat_KI-1-2_BIN_003"},{"$f":"KELAS!AW1","v":"Predikat_KI-1-2_MAT_004"},{"$f":"KELAS!BF1","v":"Predikat_KI-1-2_IPA_005"},{"$f":"KELAS!BO1","v":"Predikat_KI-1-2_IPS_006"},{"$f":"KELAS!BX1","v":"Predikat_KI-1-2_BIG_007"},{"$f":"KELAS!CG1","v":"Predikat_KI-1-2_SEN_008"},{"$f":"KELAS!CP1","v":"Predikat_KI-1-2_JAS_009"},{"$f":"KELAS!CY1","v":"Predikat_KI-1-2_PRA_010"},{"$f":"KELAS!#REF!","v":{"$error":"#REF!"}},{"$f":"KELAS!#REF!","v":{"$error":"#REF!"}},{"$f":"KELAS!#REF!","v":{"$error":"#REF!"}},{"$f":"KELAS!#REF!","v":{"$error":"#REF!"}},{"$f":"KELAS!#REF!","v":{"$error":"#REF!"}},{"$f":"KELAS!#REF!","v":{"$error":"#REF!"}},{"$f":"KELAS!#REF!","v":{"$error":"#REF!"}},{"$f":"KELAS!#REF!","v":{"$error":"#REF!"}},{"$f":"KELAS!#REF!","v":{"$error":"#REF!"}},{"$f":"KELAS!#REF!","v":{"$error":"#REF!"}},{"$f":"KELAS!#REF!","v":{"$error":"#REF!"}},{"$f":"KELAS!#REF!","v":{"$error":"#REF!"}}]
[{"$f":"KELAS!A2","v":1},{"$f":"KELAS!B2","v":2},{"$f":"KELAS!W2","v":23},{"$f":"KELAS!AE2","v":31},{"$f":"KELAS!AN2","v":40},{"$f":"KELAS!AW2","v":49},{"$f":"KELAS!BF2","v":58},{"$f":"KELAS!BO2","v":67},{"$f":"KELAS!BX2","v":76},{"$f":"KELAS!CG2","v":85},{"$f":"KELAS!CP2","v":94},{"$f":"KELAS!CY2","v":103},{"$f":"KELAS!#REF!","v":{"$error":"#REF!"}},{"$f":"KELAS!#REF!","v":{"$error":"#REF!"}},{"$f":"KELAS!#REF!","v":{"$error":"#REF!"}},{"$f":"KELAS!#REF!","v":{"$error":"#REF!"}},{"$f":"KELAS!#REF!","v":{"$error":"#REF!"}},{"$f":"KELAS!#REF!","v":{"$error":"#REF!"}},{"$f":"KELAS!#REF!","v":{"$error":"#REF!"}},{"$f":"KELAS!#REF!","v":{"$error":"#REF!"}},{"$f":"KELAS!#REF!","v":{"$error":"#REF!"}},{"$f":"KELAS!#REF!","v":{"$error":"#REF!"}},{"$f":"KELAS!#REF!","v":{"$error":"#REF!"}},{"$f":"KELAS!#REF!","v":{"$error":"#REF!"}}]
[{"$f":"IF(KELAS!A3=\"\",\"\",KELAS!A3)","v":1},{"$f":"IF(KELAS!C3=\"\",\"\",PROPER(KELAS!C3))","v":"Ahdhiat Purbo Alam"},{"$f":"IF(KELAS!W3=\"\",\"\",KELAS!W3)","v":""},{"$f":"IF(KELAS!AE3=\"\",\"\",KELAS!AE3)","v":""},{"$f":"IF(KELAS!AN3=\"\",\"\",KELAS!AN3)","v":""},{"$f":"IF(KELAS!AW3=\"\",\"\",KELAS!AW3)","v":""},{"$f":"IF(KELAS!BF3=\"\",\"\",KELAS!BF3)","v":""},{"$f":"IF(KELAS!BO3=\"\",\"\",KELAS!BO3)","v":""},{"$f":"IF(KELAS!BX3=\"\",\"\",KELAS!BX3)","v":""},{"$f":"IF(KELAS!CG3=\"\",\"\",KELAS!CG3)","v":""},{"$f":"IF(KELAS!CP3=\"\",\"\",KELAS!CP3)","v":""},{"$f":"IF(KELAS!CY3=\"\",\"\",KELAS!CY3)","v":""},{"$f":"IF(KELAS!#REF!=\"\",\"\",KELAS!#REF!)","v":{"$error":"#REF!"}},{"$f":"IF(KELAS!#REF!=\"\",\"\",KELAS!#REF!)","v":{"$error":"#REF!"}},{"$f":"IF(KELAS!#REF!=\"\",\"\",KELAS!#REF!)","v":{"$error":"#REF!"}},{"$f":"IF(KELAS!#REF!=\"\",\"\",KELAS!#REF!)","v":{"$error":"#REF!"}},{"$f":"IF(KELAS!#REF!=\"\",\"\",KELAS!#REF!)","v":{"$error":"#REF!"}},{"$f":"IF(KELAS!#REF!=\"\",\"\",KELAS!#REF!)","v":{"$error":"#REF!"}},{"$f":"IF(KELAS!#REF!=\"\",\"\",KELAS!#REF!)","v":{"$error":"#REF!"}},{"$f":"IF(KELAS!#REF!=\"\",\"\",KELAS!#REF!)","v":{"$error":"#REF!"}},{"$f":"IF(KELAS!#REF!=\"\",\"\",KELAS!#REF!)","v":{"$error":"#REF!"}},{"$f":"IF(KELAS!#REF!=\"\",\"\",KELAS!#REF!)","v":{"$error":"#REF!"}},{"$f":"IF(KELAS!#REF!=\"\",\"\",KELAS!#REF!)","v":{"$error":"#REF!"}},{"$f":"IF(KELAS!#REF!=\"\",\"\",KELAS!#REF!)","v":{"$error":"#REF!"}},{"$f":"IF($B7=\"\",\"\",IF(COUNTIF($C7:$H7,$Y$2)=0,\"\",COUNTIF($C7:$H7,$Y$2)))","v":""},{"$f":"IF($B7=\"\",\"\",IF(COUNTIF($I7:$M7,$Y$2)=0,\"\",COUNTIF($I7:$M7,$Y$2)))","v":""},{"$f":"IF($B7=\"\",\"\",IF(COUNTIF($N7:$Q7,$Y$2)=0,\"\",COUNTIF($N7:$Q7,$Y$2)))","v":""},{"$f":"IF($B7=\"\",\"\",IF(COUNTIF($R7:$S7,$Y$2)=0,\"\",COUNTIF($R7:$S7,$Y$2)))","v":""},{"$f":"IF($B7=\"\",\"\",IF(COUNTIF($T7:$X7,$Y$2)=0,\"\",COUNTIF($T7:$X7,$Y$2)))","v":""},{"$f":"IF($B7=\"\",\"\",IF(COUNTIF($C7:$H7,$AD$2)=0,\"\",COUNTIF($C7:$H7,$AD$2)))","v":""},{"$f":"IF($B7=\"\",\"\",IF(COUNTIF($I7:$M7,$AD$2)=0,\"\",COUNTIF($I7:$M7,$AD$2)))","v":""},{"$f":"IF($B7=\"\",\"\",IF(COUNTIF($N7:$Q7,$AD$2)=0,\"\",COUNTIF($N7:$Q7,$AD$2)))","v":""},{"$f":"IF($B7=\"\",\"\",IF(COUNTIF($R7:$S7,$AD$2)=0,\"\",COUNTIF($R7:$S7,$AD$2)))","v":""},{"$f":"IF($B7=\"\",\"\",IF(COUNTIF($T7:$X7,$AD$2)=0,\"\",COUNTIF($T7:$X7,$AD$2)))","v":""},{"$f":"IF($B7=\"\",\"\",IF(COUNTIF($C7:$H7,$AI$2)=0,\"\",COUNTIF($C7:$H7,$AI$2)))","v":""},{"$f":"IF($B7=\"\",\"\",IF(COUNTIF($I7:$M7,$AI$2)=0,\"\",COUNTIF($I7:$M7,$AI$2)))","v":""},{"$f":"IF($B7=\"\",\"\",IF(COUNTIF($N7:$Q7,$AI$2)=0,\"\",COUNTIF($N7:$Q7,$AI$2)))","v":""},{"$f":"IF($B7=\"\",\"\",IF(COUNTIF($R7:$S7,$AI$2)=0,\"\",COUNTIF($R7:$S7,$AI$2)))","v":""},{"$f":"IF($B7=\"\",\"\",IF(COUNTIF($T7:$X7,$AI$2)=0,\"\",COUNTIF($T7:$X7,$AI$2)))","v":""},{"$f":"IF($B7=\"\",\"\",IF(COUNTIF($C7:$H7,$AN$2)=0,\"\",COUNTIF($C7:$H7,$AN$2)))","v":""},{"$f":"IF($B7=\"\",\"\",IF(COUNTIF($I7:$M7,$AN$2)=0,\"\",COUNTIF($I7:$M7,$AN$2)))","v":""},{"$f":"IF($B7=\"\",\"\",IF(COUNTIF($N7:$Q7,$AN$2)=0,\"\",COUNTIF($N7:$Q7,$AN$2)))","v":""},{"$f":"IF($B7=\"\",\"\",IF(COUNTIF($R7:$S7,$AN$2)=0,\"\",COUNTIF($R7:$S7,$AN$2)))","v":""},{"$f":"IF($B7=\"\",\"\",IF(COUNTIF($T7:$X7,$AN$2)=0,\"\",COUNTIF($T7:$X7,$AN$2)))","v":""},"Peserta didik menunjukan sikap sungguh-sungguh dalam menerapkan sikap santun, jujur dan kerjasama, namun masih perlu ditingkatkan lagi sikap percaya diri dan ketepatan masuk sekolah"]
[{"$f":"IF(KELAS!A4=\"\",\"\",KELAS!A4)","v":2},{"$f":"IF(KELAS!C4=\"\",\"\",PROPER(KELAS!C4))","v":"Alif Rahmayanto"},{"$f":"IF(KELAS!W4=\"\",\"\",KELAS!W4)","v":""},{"$f":"IF(KELAS!AE4=\"\",\"\",KELAS!AE4)","v":""},{"$f":"IF(KELAS!AN4=\"\",\"\",KELAS!AN4)","v":""},{"$f":"IF(KELAS!AW4=\"\",\"\",KELAS!AW4)","v":""},{"$f":"IF(KELAS!BF4=\"\",\"\",KELAS!BF4)","v":""},{"$f":"IF(KELAS!BO4=\"\",\"\",KELAS!BO4)","v":""},{"$f":"IF(KELAS!BX4=\"\",\"\",KELAS!BX4)","v":""},{"$f":"IF(KELAS!CG4=\"\",\"\",KELAS!CG4)","v":""},{"$f":"IF(KELAS!CP4=\"\",\"\",KELAS!CP4)","v":""},{"$f":"IF(KELAS!CY4=\"\",\"\",KELAS!CY4)","v":""},{"$f":"IF(KELAS!#REF!=\"\",\"\",KELAS!#REF!)","v":{"$error":"#REF!"}},{"$f":"IF(KELAS!#REF!=\"\",\"\",KELAS!#REF!)","v":{"$error":"#REF!"}},{"$f":"IF(KELAS!#REF!=\"\",\"\",KELAS!#REF!)","v":{"$error":"#REF!"}},{"$f":"IF(KELAS!#REF!=\"\",\"\",KELAS!#REF!)","v":{"$error":"#REF!"}},{"$f":"IF(KELAS!#REF!=\"\",\"\",KELAS!#REF!)","v":{"$error":"#REF!"}},{"$f":"IF(KELAS!#REF!=\"\",\"\",KELAS!#REF!)","v":{"$error":"#REF!"}},{"$f":"IF(KELAS!#REF!=\"\",\"\",KELAS!#REF!)","v":{"$error":"#REF!"}},{"$f":"IF(KELAS!#REF!=\"\",\"\",KELAS!#REF!)","v":{"$error":"#REF!"}},{"$f":"IF(KELAS!#REF!=\"\",\"\",KELAS!#REF!)","v":{"$error":"#REF!"}},{"$f":"IF(KELAS!#REF!=\"\",\"\",KELAS!#REF!)","v":{"$error":"#REF!"}},{"$f":"IF(KELAS!#REF!=\"\",\"\",KELAS!#REF!)","v":{"$error":"#REF!"}},{"$f":"IF(KELAS!#REF!=\"\",\"\",KELAS!#REF!)","v":{"$error":"#REF!"}},{"$f":"IF($B8=\"\",\"\",IF(COUNTIF($C8:$H8,$Y$2)=0,\"\",COUNTIF($C8:$H8,$Y$2)))","v":""},{"$f":"IF($B8=\"\",\"\",IF(COUNTIF($I8:$M8,$Y$2)=0,\"\",COUNTIF($I8:$M8,$Y$2)))","v":""},{"$f":"IF($B8=\"\",\"\",IF(COUNTIF($N8:$Q8,$Y$2)=0,\"\",COUNTIF($N8:$Q8,$Y$2)))","v":""},{"$f":"IF($B8=\"\",\"\",IF(COUNTIF($R8:$S8,$Y$2)=0,\"\",COUNTIF($R8:$S8,$Y$2)))","v":""},{"$f":"IF($B8=\"\",\"\",IF(COUNTIF($T8:$X8,$Y$2)=0,\"\",COUNTIF($T8:$X8,$Y$2)))","v":""},{"$f":"IF($B8=\"\",\"\",IF(COUNTIF($C8:$H8,$AD$2)=0,\"\",COUNTIF($C8:$H8,$AD$2)))","v":""},{"$f":"IF($B8=\"\",\"\",IF(COUNTIF($I8:$M8,$AD$2)=0,\"\",COUNTIF($I8:$M8,$AD$2)))","v":""},{"$f":"IF($B8=\"\",\"\",IF(COUNTIF($N8:$Q8,$AD$2)=0,\"\",COUNTIF($N8:$Q8,$AD$2)))","v":""},{"$f":"IF($B8=\"\",\"\",IF(COUNTIF($R8:$S8,$AD$2)=0,\"\",COUNTIF($R8:$S8,$AD$2)))","v":""},{"$f":"IF($B8=\"\",\"\",IF(COUNTIF($T8:$X8,$AD$2)=0,\"\",COUNTIF($T8:$X8,$AD$2)))","v":""},{"$f":"IF($B8=\"\",\"\",IF(COUNTIF($C8:$H8,$AI$2)=0,\"\",COUNTIF($C8:$H8,$AI$2)))","v":""},{"$f":"IF($B8=\"\",\"\",IF(COUNTIF($I8:$M8,$AI$2)=0,\"\",COUNTIF($I8:$M8,$AI$2)))","v":""},{"$f":"IF($B8=\"\",\"\",IF(COUNTIF($N8:$Q8,$AI$2)=0,\"\",COUNTIF($N8:$Q8,$AI$2)))","v":""},{"$f":"IF($B8=\"\",\"\",IF(COUNTIF($R8:$S8,$AI$2)=0,\"\",COUNTIF($R8:$S8,$AI$2)))","v":""},{"$f":"IF($B8=\"\",\"\",IF(COUNTIF($T8:$X8,$AI$2)=0,\"\",COUNTIF($T8:$X8,$AI$2)))","v":""},{"$f":"IF($B8=\"\",\"\",IF(COUNTIF($C8:$H8,$AN$2)=0,\"\",COUNTIF($C8:$H8,$AN$2)))","v":""},{"$f":"IF($B8=\"\",\"\",IF(COUNTIF($I8:$M8,$AN$2)=0,\"\",COUNTIF($I8:$M8,$AN$2)))","v":""},{"$f":"IF($B8=\"\",\"\",IF(COUNTIF($N8:$Q8,$AN$2)=0,\"\",COUNTIF($N8:$Q8,$AN$2)))","v":""},{"$f":"IF($B8=\"\",\"\",IF(COUNTIF($R8:$S8,$AN$2)=0,\"\",COUNTIF($R8:$S8,$AN$2)))","v":""},{"$f":"IF($B8=\"\",\"\",IF(COUNTIF($T8:$X8,$AN$2)=0,\"\",COUNTIF($T8:$X8,$AN$2)))","v":""},"Peserta didik menunjukan sikap sungguh-sungguh dalam menerapkan sikap santun, jujur dan kerjasama, namun masih perlu ditingkatkan lagi sikap percaya diri dan ketepatan masuk sekolah"]
[{"$f":"IF(KELAS!A5=\"\",\"\",KELAS!A5)","v":3},{"$f":"IF(KELAS!C5=\"\",\"\",PROPER(KELAS!C5))","v":"Alif Sutrisna Saputra"},{"$f":"IF(KELAS!W5=\"\",\"\",KELAS!W5)","v":""},{"$f":"IF(KELAS!AE5=\"\",\"\",KELAS!AE5)","v":""},{"$f":"IF(KELAS!AN5=\"\",\"\",KELAS!AN5)","v":""},{"$f":"IF(KELAS!AW5=\"\",\"\",KELAS!AW5)","v":""},{"$f":"IF(KELAS!BF5=\"\",\"\",KELAS!BF5)","v":""},{"$f":"IF(KELAS!BO5=\"\",\"\",KELAS!BO5)","v":""},{"$f":"IF(KELAS!BX5=\"\",\"\",KELAS!BX5)","v":""},{"$f":"IF(KELAS!CG5=\"\",\"\",KELAS!CG5)","v":""},{"$f":"IF(KELAS!CP5=\"\",\"\",KELAS!CP5)","v":""},{"$f":"IF(KELAS!CY5=\"\",\"\",KELAS!CY5)","v":""},{"$f":"IF(KELAS!#REF!=\"\",\"\",KELAS!#REF!)","v":{"$error":"#REF!"}},{"$f":"IF(KELAS!#REF!=\"\",\"\",KELAS!#REF!)","v":{"$error":"#REF!"}},{"$f":"IF(KELAS!#REF!=\"\",\"\",KELAS!#REF!)","v":{"$error":"#REF!"}},{"$f":"IF(KELAS!#REF!=\"\",\"\",KELAS!#REF!)","v":{"$error":"#REF!"}},{"$f":"IF(KELAS!#REF!=\"\",\"\",KELAS!#REF!)","v":{"$error":"#REF!"}},{"$f":"IF(KELAS!#REF!=\"\",\"\",KELAS!#REF!)","v":{"$error":"#REF!"}},{"$f":"IF(KELAS!#REF!=\"\",\"\",KELAS!#REF!)","v":{"$error":"#REF!"}},{"$f":"IF(KELAS!#REF!=\"\",\"\",KELAS!#REF!)","v":{"$error":"#REF!"}},{"$f":"IF(KELAS!#REF!=\"\",\"\",KELAS!#REF!)","v":{"$error":"#REF!"}},{"$f":"IF(KELAS!#REF!=\"\",\"\",KELAS!#REF!)","v":{"$error":"#REF!"}},{"$f":"IF(KELAS!#REF!=\"\",\"\",KELAS!#REF!)","v":{"$error":"#REF!"}},{"$f":"IF(KELAS!#REF!=\"\",\"\",KELAS!#REF!)","v":{"$error":"#REF!"}},"","","","","","","","","","","","","","","","","","","","","Peserta didik menunjukan sikap sungguh-sungguh dalam menerapkan sikap santun, jujur dan kerjasama, namun masih perlu ditingkatkan lagi sikap percaya diri dan ketepatan masuk sekolah"]
[{"$f":"IF(KELAS!A6=\"\",\"\",KELAS!A6)","v":4},{"$f":"IF(KELAS!C6=\"\",\"\",PROPER(KELAS!C6))","v":"Anisa Dwi Septiani"},{"$f":"IF(KELAS!W6=\"\",\"\",KELAS!W6)","v":""},{"$f":"IF(KELAS!AE6=\"\",\"\",KELAS!AE6)","v":""},{"$f":"IF(KELAS!AN6=\"\",\"\",KELAS!AN6)","v":""},{"$f":"IF(KELAS!AW6=\"\",\"\",KELAS!AW6)","v":""},{"$f":"IF(KELAS!BF6=\"\",\"\",KELAS!BF6)","v":""},{"$f":"IF(KELAS!BO6=\"\",\"\",KELAS!BO6)","v":""},{"$f":"IF(KELAS!BX6=\"\",\"\",KELAS!BX6)","v":""},{"$f":"IF(KELAS!CG6=\"\",\"\",KELAS!CG6)","v":""},{"$f":"IF(KELAS!CP6=\"\",\"\",KELAS!CP6)","v":""},{"$f":"IF(KELAS!CY6=\"\",\"\",KELAS!CY6)","v":""},{"$f":"IF(KELAS!#REF!=\"\",\"\",KELAS!#REF!)","v":{"$error":"#REF!"}},{"$f":"IF(KELAS!#REF!=\"\",\"\",KELAS!#REF!)","v":{"$error":"#REF!"}},{"$f":"IF(KELAS!#REF!=\"\",\"\",KELAS!#REF!)","v":{"$error":"#REF!"}},{"$f":"IF(KELAS!#REF!=\"\",\"\",KELAS!#REF!)","v":{"$error":"#REF!"}},{"$f":"IF(KELAS!#REF!=\"\",\"\",KELAS!#REF!)","v":{"$error":"#REF!"}},{"$f":"IF(KELAS!#REF!=\"\",\"\",KELAS!#REF!)","v":{"$error":"#REF!"}},{"$f":"IF(KELAS!#REF!=\"\",\"\",KELAS!#REF!)","v":{"$error":"#REF!"}},{"$f":"IF(KELAS!#REF!=\"\",\"\",KELAS!#REF!)","v":{"$error":"#REF!"}},{"$f":"IF(KELAS!#REF!=\"\",\"\",KELAS!#REF!)","v":{"$error":"#REF!"}},{"$f":"IF(KELAS!#REF!=\"\",\"\",KELAS!#REF!)","v":{"$error":"#REF!"}},{"$f":"IF(KELAS!#REF!=\"\",\"\",KELAS!#REF!)","v":{"$error":"#REF!"}},{"$f":"IF(KELAS!#REF!=\"\",\"\",KELAS!#REF!)","v":{"$error":"#REF!"}},"","","","","","","","","","","","","","","","","","","","","Peserta didik menunjukan sikap sungguh-sungguh dalam menerapkan sikap santun, jujur dan kerjasama, namun masih perlu ditingkatkan lagi sikap percaya diri dan ketepatan masuk sekolah"]
[{"$f":"IF(KELAS!A7=\"\",\"\",KELAS!A7)","v":5},{"$f":"IF(KELAS!C7=\"\",\"\",PROPER(KELAS!C7))","v":"Boneta Sulasmi"},{"$f":"IF(KELAS!W7=\"\",\"\",KELAS!W7)","v":""},{"$f":"IF(KELAS!AE7=\"\",\"\",KELAS!AE7)","v":""},{"$f":"IF(KELAS!AN7=\"\",\"\",KELAS!AN7)","v":""},{"$f":"IF(KELAS!AW7=\"\",\"\",KELAS!AW7)","v":""},{"$f":"IF(KELAS!BF7=\"\",\"\",KELAS!BF7)","v":""},{"$f":"IF(KELAS!BO7=\"\",\"\",KELAS!BO7)","v":""},{"$f":"IF(KELAS!BX7=\"\",\"\",KELAS!BX7)","v":""},{"$f":"IF(KELAS!CG7=\"\",\"\",KELAS!CG7)","v":""},{"$f":"IF(KELAS!CP7=\"\",\"\",KELAS!CP7)","v":""},{"$f":"IF(KELAS!CY7=\"\",\"\",KELAS!CY7)","v":""},{"$f":"IF(KELAS!#REF!=\"\",\"\",KELAS!#REF!)","v":{"$error":"#REF!"}},{"$f":"IF(KELAS!#REF!=\"\",\"\",KELAS!#REF!)","v":{"$error":"#REF!"}},{"$f":"IF(KELAS!#REF!=\"\",\"\",KELAS!#REF!)","v":{"$error":"#REF!"}},{"$f":"IF(KELAS!#REF!=\"\",\"\",KELAS!#REF!)","v":{"$error":"#REF!"}},{"$f":"IF(KELAS!#REF!=\"\",\"\",KELAS!#REF!)","v":{"$error":"#REF!"}},{"$f":"IF(KELAS!#REF!=\"\",\"\",KELAS!#REF!)","v":{"$error":"#REF!"}},{"$f":"IF(KELAS!#REF!=\"\",\"\",KELAS!#REF!)","v":{"$error":"#REF!"}},{"$f":"IF(KELAS!#REF!=\"\",\"\",KELAS!#REF!)","v":{"$error":"#REF!"}},{"$f":"IF(KELAS!#REF!=\"\",\"\",KELAS!#REF!)","v":{"$error":"#REF!"}},{"$f":"IF(KELAS!#REF!=\"\",\"\",KELAS!#REF!)","v":{"$error":"#REF!"}},{"$f":"IF(KELAS!#REF!=\"\",\"\",KELAS!#REF!)","v":{"$error":"#REF!"}},{"$f":"IF(KELAS!#REF!=\"\",\"\",KELAS!#REF!)","v":{"$error":"#REF!"}},"","","","","","","","","","","","","","","","","","","","","Peserta didik menunjukan sikap sungguh-sungguh dalam menerapkan sikap santun, jujur dan kerjasama, namun masih perlu ditingkatkan lagi sikap percaya diri dan ketepatan masuk sekolah"]
[{"$f":"IF(KELAS!A8=\"\",\"\",KELAS!A8)","v":6},{"$f":"IF(KELAS!C8=\"\",\"\",PROPER(KELAS!C8))","v":"Chotimah"},{"$f":"IF(KELAS!W8=\"\",\"\",KELAS!W8)","v":""},{"$f":"IF(KELAS!AE8=\"\",\"\",KELAS!AE8)","v":""},{"$f":"IF(KELAS!AN8=\"\",\"\",KELAS!AN8)","v":""},{"$f":"IF(KELAS!AW8=\"\",\"\",KELAS!AW8)","v":""},{"$f":"IF(KELAS!BF8=\"\",\"\",KELAS!BF8)","v":""},{"$f":"IF(KELAS!BO8=\"\",\"\",KELAS!BO8)","v":""},{"$f":"IF(KELAS!BX8=\"\",\"\",KELAS!BX8)","v":""},{"$f":"IF(KELAS!CG8=\"\",\"\",KELAS!CG8)","v":""},{"$f":"IF(KELAS!CP8=\"\",\"\",KELAS!CP8)","v":""},{"$f":"IF(KELAS!CY8=\"\",\"\",KELAS!CY8)","v":""},{"$f":"IF(KELAS!#REF!=\"\",\"\",KELAS!#REF!)","v":{"$error":"#REF!"}},{"$f":"IF(KELAS!#REF!=\"\",\"\",KELAS!#REF!)","v":{"$error":"#REF!"}},{"$f":"IF(KELAS!#REF!=\"\",\"\",KELAS!#REF!)","v":{"$error":"#REF!"}},{"$f":"IF(KELAS!#REF!=\"\",\"\",KELAS!#REF!)","v":{"$error":"#REF!"}},{"$f":"IF(KELAS!#REF!=\"\",\"\",KELAS!#REF!)","v":{"$error":"#REF!"}},{"$f":"IF(KELAS!#REF!=\"\",\"\",KELAS!#REF!)","v":{"$error":"#REF!"}},{"$f":"IF(KELAS!#REF!=\"\",\"\",KELAS!#REF!)","v":{"$error":"#REF!"}},{"$f":"IF(KELAS!#REF!=\"\",\"\",KELAS!#REF!)","v":{"$error":"#REF!"}},{"$f":"IF(KELAS!#REF!=\"\",\"\",KELAS!#REF!)","v":{"$error":"#REF!"}},{"$f":"IF(KELAS!#REF!=\"\",\"\",KELAS!#REF!)","v":{"$error":"#REF!"}},{"$f":"IF(KELAS!#REF!=\"\",\"\",KELAS!#REF!)","v":{"$error":"#REF!"}},{"$f":"IF(KELAS!#REF!=\"\",\"\",KELAS!#REF!)","v":{"$error":"#REF!"}},"","","","","","","","","","","","","","","","","","","","","Peserta didik menunjukan sikap sungguh-sungguh dalam menerapkan sikap santun, jujur dan kerjasama, namun masih perlu ditingkatkan lagi sikap percaya diri dan ketepatan masuk sekolah"]
[{"$f":"IF(KELAS!A9=\"\",\"\",KELAS!A9)","v":7},{"$f":"IF(KELAS!C9=\"\",\"\",PROPER(KELAS!C9))","v":"Destin Ayu Ariyani"},{"$f":"IF(KELAS!W9=\"\",\"\",KELAS!W9)","v":""},{"$f":"IF(KELAS!AE9=\"\",\"\",KELAS!AE9)","v":""},{"$f":"IF(KELAS!AN9=\"\",\"\",KELAS!AN9)","v":""},{"$f":"IF(KELAS!AW9=\"\",\"\",KELAS!AW9)","v":""},{"$f":"IF(KELAS!BF9=\"\",\"\",KELAS!BF9)","v":""},{"$f":"IF(KELAS!BO9=\"\",\"\",KELAS!BO9)","v":""},{"$f":"IF(KELAS!BX9=\"\",\"\",KELAS!BX9)","v":""},{"$f":"IF(KELAS!CG9=\"\",\"\",KELAS!CG9)","v":""},{"$f":"IF(KELAS!CP9=\"\",\"\",KELAS!CP9)","v":""},{"$f":"IF(KELAS!CY9=\"\",\"\",KELAS!CY9)","v":""},{"$f":"IF(KELAS!#REF!=\"\",\"\",KELAS!#REF!)","v":{"$error":"#REF!"}},{"$f":"IF(KELAS!#REF!=\"\",\"\",KELAS!#REF!)","v":{"$error":"#REF!"}},{"$f":"IF(KELAS!#REF!=\"\",\"\",KELAS!#REF!)","v":{"$error":"#REF!"}},{"$f":"IF(KELAS!#REF!=\"\",\"\",KELAS!#REF!)","v":{"$error":"#REF!"}},{"$f":"IF(KELAS!#REF!=\"\",\"\",KELAS!#REF!)","v":{"$error":"#REF!"}},{"$f":"IF(KELAS!#REF!=\"\",\"\",KELAS!#REF!)","v":{"$error":"#REF!"}},{"$f":"IF(KELAS!#REF!=\"\",\"\",KELAS!#REF!)","v":{"$error":"#REF!"}},{"$f":"IF(KELAS!#REF!=\"\",\"\",KELAS!#REF!)","v":{"$error":"#REF!"}},{"$f":"IF(KELAS!#REF!=\"\",\"\",KELAS!#REF!)","v":{"$error":"#REF!"}},{"$f":"IF(KELAS!#REF!=\"\",\"\",KELAS!#REF!)","v":{"$error":"#REF!"}},{"$f":"IF(KELAS!#REF!=\"\",\"\",KELAS!#REF!)","v":{"$error":"#REF!"}},{"$f":"IF(KELAS!#REF!=\"\",\"\",KELAS!#REF!)","v":{"$error":"#REF!"}},"","","","","","","","","","","","","","","","","","","","","Peserta didik menunjukan sikap sungguh-sungguh dalam menerapkan sikap santun, jujur dan kerjasama, namun masih perlu ditingkatkan lagi sikap percaya diri dan ketepatan masuk sekolah"]
[{"$f":"IF(KELAS!A10=\"\",\"\",KELAS!A10)","v":8},{"$f":"IF(KELAS!C10=\"\",\"\",PROPER(KELAS!C10))","v":"Dhea Rachma Putri"},{"$f":"IF(KELAS!W10=\"\",\"\",KELAS!W10)","v":""},{"$f":"IF(KELAS!AE10=\"\",\"\",KELAS!AE10)","v":""},{"$f":"IF(KELAS!AN10=\"\",\"\",KELAS!AN10)","v":""},{"$f":"IF(KELAS!AW10=\"\",\"\",KELAS!AW10)","v":""},{"$f":"IF(KELAS!BF10=\"\",\"\",KELAS!BF10)","v":""},{"$f":"IF(KELAS!BO10=\"\",\"\",KELAS!BO10)","v":""},{"$f":"IF(KELAS!BX10=\"\",\"\",KELAS!BX10)","v":""},{"$f":"IF(KELAS!CG10=\"\",\"\",KELAS!CG10)","v":""},{"$f":"IF(KELAS!CP10=\"\",\"\",KELAS!CP10)","v":""},{"$f":"IF(KELAS!CY10=\"\",\"\",KELAS!CY10)","v":""},{"$f":"IF(KELAS!#REF!=\"\",\"\",KELAS!#REF!)","v":{"$error":"#REF!"}},{"$f":"IF(KELAS!#REF!=\"\",\"\",KELAS!#REF!)","v":{"$error":"#REF!"}},{"$f":"IF(KELAS!#REF!=\"\",\"\",KELAS!#REF!)","v":{"$error":"#REF!"}},{"$f":"IF(KELAS!#REF!=\"\",\"\",KELAS!#REF!)","v":{"$error":"#REF!"}},{"$f":"IF(KELAS!#REF!=\"\",\"\",KELAS!#REF!)","v":{"$error":"#REF!"}},{"$f":"IF(KELAS!#REF!=\"\",\"\",KELAS!#REF!)","v":{"$error":"#REF!"}},{"$f":"IF(KELAS!#REF!=\"\",\"\",KELAS!#REF!)","v":{"$error":"#REF!"}},{"$f":"IF(KELAS!#REF!=\"\",\"\",KELAS!#REF!)","v":{"$error":"#REF!"}},{"$f":"IF(KELAS!#REF!=\"\",\"\",KELAS!#REF!)","v":{"$error":"#REF!"}},{"$f":"IF(KELAS!#REF!=\"\",\"\",KELAS!#REF!)","v":{"$error":"#REF!"}},{"$f":"IF(KELAS!#REF!=\"\",\"\",KELAS!#REF!)","v":{"$error":"#REF!"}},{"$f":"IF(KELAS!#REF!=\"\",\"\",KELAS!#REF!)","v":{"$error":"#REF!"}},"","","","","","","","","","","","","","","","","","","","","Peserta didik menunjukan sikap sungguh-sungguh dalam menerapkan sikap santun, jujur dan kerjasama, namun masih perlu ditingkatkan lagi sikap percaya diri dan ketepatan masuk sekolah"]
[{"$f":"IF(KELAS!A11=\"\",\"\",KELAS!A11)","v":9},{"$f":"IF(KELAS!C11=\"\",\"\",PROPER(KELAS!C11))","v":"Fajar Ilahi"},{"$f":"IF(KELAS!W11=\"\",\"\",KELAS!W11)","v":""},{"$f":"IF(KELAS!AE11=\"\",\"\",KELAS!AE11)","v":""},{"$f":"IF(KELAS!AN11=\"\",\"\",KELAS!AN11)","v":""},{"$f":"IF(KELAS!AW11=\"\",\"\",KELAS!AW11)","v":""},{"$f":"IF(KELAS!BF11=\"\",\"\",KELAS!BF11)","v":""},{"$f":"IF(KELAS!BO11=\"\",\"\",KELAS!BO11)","v":""},{"$f":"IF(KELAS!BX11=\"\",\"\",KELAS!BX11)","v":""},{"$f":"IF(KELAS!CG11=\"\",\"\",KELAS!CG11)","v":""},{"$f":"IF(KELAS!CP11=\"\",\"\",KELAS!CP11)","v":""},{"$f":"IF(KELAS!CY11=\"\",\"\",KELAS!CY11)","v":""},{"$f":"IF(KELAS!#REF!=\"\",\"\",KELAS!#REF!)","v":{"$error":"#REF!"}},{"$f":"IF(KELAS!#REF!=\"\",\"\",KELAS!#REF!)","v":{"$error":"#REF!"}},{"$f":"IF(KELAS!#REF!=\"\",\"\",KELAS!#REF!)","v":{"$error":"#REF!"}},{"$f":"IF(KELAS!#REF!=\"\",\"\",KELAS!#REF!)","v":{"$error":"#REF!"}},{"$f":"IF(KELAS!#REF!=\"\",\"\",KELAS!#REF!)","v":{"$error":"#REF!"}},{"$f":"IF(KELAS!#REF!=\"\",\"\",KELAS!#REF!)","v":{"$error":"#REF!"}},{"$f":"IF(KELAS!#REF!=\"\",\"\",KELAS!#REF!)","v":{"$error":"#REF!"}},{"$f":"IF(KELAS!#REF!=\"\",\"\",KELAS!#REF!)","v":{"$error":"#REF!"}},{"$f":"IF(KELAS!#REF!=\"\",\"\",KELAS!#REF!)","v":{"$error":"#REF!"}},{"$f":"IF(KELAS!#REF!=\"\",\"\",KELAS!#REF!)","v":{"$error":"#REF!"}},{"$f":"IF(KELAS!#REF!=\"\",\"\",KELAS!#REF!)","v":{"$error":"#REF!"}},{"$f":"IF(KELAS!#REF!=\"\",\"\",KELAS!#REF!)","v":{"$error":"#REF!"}},"","","","","","","","","","","","","","","","","","","","","Peserta didik menunjukan sikap sungguh-sungguh dalam menerapkan sikap santun, jujur dan kerjasama, namun masih perlu ditingkatkan lagi sikap percaya diri dan ketepatan masuk sekolah"]
[{"$f":"IF(KELAS!A12=\"\",\"\",KELAS!A12)","v":10},{"$f":"IF(KELAS!C12=\"\",\"\",PROPER(KELAS!C12))","v":"Felita Emilia Rahma"},{"$f":"IF(KELAS!W12=\"\",\"\",KELAS!W12)","v":""},{"$f":"IF(KELAS!AE12=\"\",\"\",KELAS!AE12)","v":""},{"$f":"IF(KELAS!AN12=\"\",\"\",KELAS!AN12)","v":""},{"$f":"IF(KELAS!AW12=\"\",\"\",KELAS!AW12)","v":""},{"$f":"IF(KELAS!BF12=\"\",\"\",KELAS!BF12)","v":""},{"$f":"IF(KELAS!BO12=\"\",\"\",KELAS!BO12)","v":""},{"$f":"IF(KELAS!BX12=\"\",\"\",KELAS!BX12)","v":""},{"$f":"IF(KELAS!CG12=\"\",\"\",KELAS!CG12)","v":""},{"$f":"IF(KELAS!CP12=\"\",\"\",KELAS!CP12)","v":""},{"$f":"IF(KELAS!CY12=\"\",\"\",KELAS!CY12)","v":""},{"$f":"IF(KELAS!#REF!=\"\",\"\",KELAS!#REF!)","v":{"$error":"#REF!"}},{"$f":"IF(KELAS!#REF!=\"\",\"\",KELAS!#REF!)","v":{"$error":"#REF!"}},{"$f":"IF(KELAS!#REF!=\"\",\"\",KELAS!#REF!)","v":{"$error":"#REF!"}},{"$f":"IF(KELAS!#REF!=\"\",\"\",KELAS!#REF!)","v":{"$error":"#REF!"}},{"$f":"IF(KELAS!#REF!=\"\",\"\",KELAS!#REF!)","v":{"$error":"#REF!"}},{"$f":"IF(KELAS!#REF!=\"\",\"\",KELAS!#REF!)","v":{"$error":"#REF!"}},{"$f":"IF(KELAS!#REF!=\"\",\"\",KELAS!#REF!)","v":{"$error":"#REF!"}},{"$f":"IF(KELAS!#REF!=\"\",\"\",KELAS!#REF!)","v":{"$error":"#REF!"}},{"$f":"IF(KELAS!#REF!=\"\",\"\",KELAS!#REF!)","v":{"$error":"#REF!"}},{"$f":"IF(KELAS!#REF!=\"\",\"\",KELAS!#REF!)","v":{"$error":"#REF!"}},{"$f":"IF(KELAS!#REF!=\"\",\"\",KELAS!#REF!)","v":{"$error":"#REF!"}},{"$f":"IF(KELAS!#REF!=\"\",\"\",KELAS!#REF!)","v":{"$error":"#REF!"}},"","","","","","","","","","","","","","","","","","","","","Peserta didik menunjukan sikap sungguh-sungguh dalam menerapkan sikap santun, jujur dan kerjasama, namun masih perlu ditingkatkan lagi sikap percaya diri dan ketepatan masuk sekolah"]
[{"$f":"IF(KELAS!A13=\"\",\"\",KELAS!A13)","v":11},{"$f":"IF(KELAS!C13=\"\",\"\",PROPER(KELAS!C13))","v":"Feryanta Putra Utama"},{"$f":"IF(KELAS!W13=\"\",\"\",KELAS!W13)","v":""},{"$f":"IF(KELAS!AE13=\"\",\"\",KELAS!AE13)","v":""},{"$f":"IF(KELAS!AN13=\"\",\"\",KELAS!AN13)","v":""},{"$f":"IF(KELAS!AW13=\"\",\"\",KELAS!AW13)","v":""},{"$f":"IF(KELAS!BF13=\"\",\"\",KELAS!BF13)","v":""},{"$f":"IF(KELAS!BO13=\"\",\"\",KELAS!BO13)","v":""},{"$f":"IF(KELAS!BX13=\"\",\"\",KELAS!BX13)","v":""},{"$f":"IF(KELAS!CG13=\"\",\"\",KELAS!CG13)","v":""},{"$f":"IF(KELAS!CP13=\"\",\"\",KELAS!CP13)","v":""},{"$f":"IF(KELAS!CY13=\"\",\"\",KELAS!CY13)","v":""},{"$f":"IF(KELAS!#REF!=\"\",\"\",KELAS!#REF!)","v":{"$error":"#REF!"}},{"$f":"IF(KELAS!#REF!=\"\",\"\",KELAS!#REF!)","v":{"$error":"#REF!"}},{"$f":"IF(KELAS!#REF!=\"\",\"\",KELAS!#REF!)","v":{"$error":"#REF!"}},{"$f":"IF(KELAS!#REF!=\"\",\"\",KELAS!#REF!)","v":{"$error":"#REF!"}},{"$f":"IF(KELAS!#REF!=\"\",\"\",KELAS!#REF!)","v":{"$error":"#REF!"}},{"$f":"IF(KELAS!#REF!=\"\",\"\",KELAS!#REF!)","v":{"$error":"#REF!"}},{"$f":"IF(KELAS!#REF!=\"\",\"\",KELAS!#REF!)","v":{"$error":"#REF!"}},{"$f":"IF(KELAS!#REF!=\"\",\"\",KELAS!#REF!)","v":{"$error":"#REF!"}},{"$f":"IF(KELAS!#REF!=\"\",\"\",KELAS!#REF!)","v":{"$error":"#REF!"}},{"$f":"IF(KELAS!#REF!=\"\",\"\",KELAS!#REF!)","v":{"$error":"#REF!"}},{"$f":"IF(KELAS!#REF!=\"\",\"\",KELAS!#REF!)","v":{"$error":"#REF!"}},{"$f":"IF(KELAS!#REF!=\"\",\"\",KELAS!#REF!)","v":{"$error":"#REF!"}},"","","","","","","","","","","","","","","","","","","","","Peserta didik menunjukan sikap sungguh-sungguh dalam menerapkan sikap santun, jujur dan kerjasama, namun masih perlu ditingkatkan lagi sikap percaya diri dan ketepatan masuk sekolah"]
[{"$f":"IF(KELAS!A14=\"\",\"\",KELAS!A14)","v":12},{"$f":"IF(KELAS!C14=\"\",\"\",PROPER(KELAS!C14))","v":"Firda Adhitya Ulfah Hanif"},{"$f":"IF(KELAS!W14=\"\",\"\",KELAS!W14)","v":""},{"$f":"IF(KELAS!AE14=\"\",\"\",KELAS!AE14)","v":""},{"$f":"IF(KELAS!AN14=\"\",\"\",KELAS!AN14)","v":""},{"$f":"IF(KELAS!AW14=\"\",\"\",KELAS!AW14)","v":""},{"$f":"IF(KELAS!BF14=\"\",\"\",KELAS!BF14)","v":""},{"$f":"IF(KELAS!BO14=\"\",\"\",KELAS!BO14)","v":""},{"$f":"IF(KELAS!BX14=\"\",\"\",KELAS!BX14)","v":""},{"$f":"IF(KELAS!CG14=\"\",\"\",KELAS!CG14)","v":""},{"$f":"IF(KELAS!CP14=\"\",\"\",KELAS!CP14)","v":""},{"$f":"IF(KELAS!CY14=\"\",\"\",KELAS!CY14)","v":""},{"$f":"IF(KELAS!#REF!=\"\",\"\",KELAS!#REF!)","v":{"$error":"#REF!"}},{"$f":"IF(KELAS!#REF!=\"\",\"\",KELAS!#REF!)","v":{"$error":"#REF!"}},{"$f":"IF(KELAS!#REF!=\"\",\"\",KELAS!#REF!)","v":{"$error":"#REF!"}},{"$f":"IF(KELAS!#REF!=\"\",\"\",KELAS!#REF!)","v":{"$error":"#REF!"}},{"$f":"IF(KELAS!#REF!=\"\",\"\",KELAS!#REF!)","v":{"$error":"#REF!"}},{"$f":"IF(KELAS!#REF!=\"\",\"\",KELAS!#REF!)","v":{"$error":"#REF!"}},{"$f":"IF(KELAS!#REF!=\"\",\"\",KELAS!#REF!)","v":{"$error":"#REF!"}},{"$f":"IF(KELAS!#REF!=\"\",\"\",KELAS!#REF!)","v":{"$error":"#REF!"}},{"$f":"IF(KELAS!#REF!=\"\",\"\",KELAS!#REF!)","v":{"$error":"#REF!"}},{"$f":"IF(KELAS!#REF!=\"\",\"\",KELAS!#REF!)","v":{"$error":"#REF!"}},{"$f":"IF(KELAS!#REF!=\"\",\"\",KELAS!#REF!)","v":{"$error":"#REF!"}},{"$f":"IF(KELAS!#REF!=\"\",\"\",KELAS!#REF!)","v":{"$error":"#REF!"}},"","","","","","","","","","","","","","","","","","","","","Peserta didik menunjukan sikap sungguh-sungguh dalam menerapkan sikap santun, jujur dan kerjasama, namun masih perlu ditingkatkan lagi sikap percaya diri dan ketepatan masuk sekolah"]
[{"$f":"IF(KELAS!A15=\"\",\"\",KELAS!A15)","v":13},{"$f":"IF(KELAS!C15=\"\",\"\",PROPER(KELAS!C15))","v":"Gilang Mahdiyyan Kurniadi"},{"$f":"IF(KELAS!W15=\"\",\"\",KELAS!W15)","v":""},{"$f":"IF(KELAS!AE15=\"\",\"\",KELAS!AE15)","v":""},{"$f":"IF(KELAS!AN15=\"\",\"\",KELAS!AN15)","v":""},{"$f":"IF(KELAS!AW15=\"\",\"\",KELAS!AW15)","v":""},{"$f":"IF(KELAS!BF15=\"\",\"\",KELAS!BF15)","v":""},{"$f":"IF(KELAS!BO15=\"\",\"\",KELAS!BO15)","v":""},{"$f":"IF(KELAS!BX15=\"\",\"\",KELAS!BX15)","v":""},{"$f":"IF(KELAS!CG15=\"\",\"\",KELAS!CG15)","v":""},{"$f":"IF(KELAS!CP15=\"\",\"\",KELAS!CP15)","v":""},{"$f":"IF(KELAS!CY15=\"\",\"\",KELAS!CY15)","v":""},{"$f":"IF(KELAS!#REF!=\"\",\"\",KELAS!#REF!)","v":{"$error":"#REF!"}},{"$f":"IF(KELAS!#REF!=\"\",\"\",KELAS!#REF!)","v":{"$error":"#REF!"}},{"$f":"IF(KELAS!#REF!=\"\",\"\",KELAS!#REF!)","v":{"$error":"#REF!"}},{"$f":"IF(KELAS!#REF!=\"\",\"\",KELAS!#REF!)","v":{"$error":"#REF!"}},{"$f":"IF(KELAS!#REF!=\"\",\"\",KELAS!#REF!)","v":{"$error":"#REF!"}},{"$f":"IF(KELAS!#REF!=\"\",\"\",KELAS!#REF!)","v":{"$error":"#REF!"}},{"$f":"IF(KELAS!#REF!=\"\",\"\",KELAS!#REF!)","v":{"$error":"#REF!"}},{"$f":"IF(KELAS!#REF!=\"\",\"\",KELAS!#REF!)","v":{"$error":"#REF!"}},{"$f":"IF(KELAS!#REF!=\"\",\"\",KELAS!#REF!)","v":{"$error":"#REF!"}},{"$f":"IF(KELAS!#REF!=\"\",\"\",KELAS!#REF!)","v":{"$error":"#REF!"}},{"$f":"IF(KELAS!#REF!=\"\",\"\",KELAS!#REF!)","v":{"$error":"#REF!"}},{"$f":"IF(KELAS!#REF!=\"\",\"\",KELAS!#REF!)","v":{"$error":"#REF!"}},"","","","","","","","","","","","","","","","","","","","","Peserta didik menunjukan sikap sungguh-sungguh dalam menerapkan sikap santun, jujur dan kerjasama, namun masih perlu ditingkatkan lagi sikap percaya diri dan ketepatan masuk sekolah"]
[{"$f":"IF(KELAS!A16=\"\",\"\",KELAS!A16)","v":14},{"$f":"IF(KELAS!C16=\"\",\"\",PROPER(KELAS!C16))","v":"Gitta Vania"},{"$f":"IF(KELAS!W16=\"\",\"\",KELAS!W16)","v":""},{"$f":"IF(KELAS!AE16=\"\",\"\",KELAS!AE16)","v":""},{"$f":"IF(KELAS!AN16=\"\",\"\",KELAS!AN16)","v":""},{"$f":"IF(KELAS!AW16=\"\",\"\",KELAS!AW16)","v":""},{"$f":"IF(KELAS!BF16=\"\",\"\",KELAS!BF16)","v":""},{"$f":"IF(KELAS!BO16=\"\",\"\",KELAS!BO16)","v":""},{"$f":"IF(KELAS!BX16=\"\",\"\",KELAS!BX16)","v":""},{"$f":"IF(KELAS!CG16=\"\",\"\",KELAS!CG16)","v":""},{"$f":"IF(KELAS!CP16=\"\",\"\",KELAS!CP16)","v":""},{"$f":"IF(KELAS!CY16=\"\",\"\",KELAS!CY16)","v":""},{"$f":"IF(KELAS!#REF!=\"\",\"\",KELAS!#REF!)","v":{"$error":"#REF!"}},{"$f":"IF(KELAS!#REF!=\"\",\"\",KELAS!#REF!)","v":{"$error":"#REF!"}},{"$f":"IF(KELAS!#REF!=\"\",\"\",KELAS!#REF!)","v":{"$error":"#REF!"}},{"$f":"IF(KELAS!#REF!=\"\",\"\",KELAS!#REF!)","v":{"$error":"#REF!"}},{"$f":"IF(KELAS!#REF!=\"\",\"\",KELAS!#REF!)","v":{"$error":"#REF!"}},{"$f":"IF(KELAS!#REF!=\"\",\"\",KELAS!#REF!)","v":{"$error":"#REF!"}},{"$f":"IF(KELAS!#REF!=\"\",\"\",KELAS!#REF!)","v":{"$error":"#REF!"}},{"$f":"IF(KELAS!#REF!=\"\",\"\",KELAS!#REF!)","v":{"$error":"#REF!"}},{"$f":"IF(KELAS!#REF!=\"\",\"\",KELAS!#REF!)","v":{"$error":"#REF!"}},{"$f":"IF(KELAS!#REF!=\"\",\"\",KELAS!#REF!)","v":{"$error":"#REF!"}},{"$f":"IF(KELAS!#REF!=\"\",\"\",KELAS!#REF!)","v":{"$error":"#REF!"}},{"$f":"IF(KELAS!#REF!=\"\",\"\",KELAS!#REF!)","v":{"$error":"#REF!"}},"","","","","","","","","","","","","","","","","","","","","Peserta didik menunjukan sikap sungguh-sungguh dalam menerapkan sikap santun, jujur dan kerjasama, namun masih perlu ditingkatkan lagi sikap percaya diri dan ketepatan masuk sekolah"]
[{"$f":"IF(KELAS!A17=\"\",\"\",KELAS!A17)","v":15},{"$f":"IF(KELAS!C17=\"\",\"\",PROPER(KELAS!C17))","v":"Haryani Rachmawati"},{"$f":"IF(KELAS!W17=\"\",\"\",KELAS!W17)","v":""},{"$f":"IF(KELAS!AE17=\"\",\"\",KELAS!AE17)","v":""},{"$f":"IF(KELAS!AN17=\"\",\"\",KELAS!AN17)","v":""},{"$f":"IF(KELAS!AW17=\"\",\"\",KELAS!AW17)","v":""},{"$f":"IF(KELAS!BF17=\"\",\"\",KELAS!BF17)","v":""},{"$f":"IF(KELAS!BO17=\"\",\"\",KELAS!BO17)","v":""},{"$f":"IF(KELAS!BX17=\"\",\"\",KELAS!BX17)","v":""},{"$f":"IF(KELAS!CG17=\"\",\"\",KELAS!CG17)","v":""},{"$f":"IF(KELAS!CP17=\"\",\"\",KELAS!CP17)","v":""},{"$f":"IF(KELAS!CY17=\"\",\"\",KELAS!CY17)","v":""},{"$f":"IF(KELAS!#REF!=\"\",\"\",KELAS!#REF!)","v":{"$error":"#REF!"}},{"$f":"IF(KELAS!#REF!=\"\",\"\",KELAS!#REF!)","v":{"$error":"#REF!"}},{"$f":"IF(KELAS!#REF!=\"\",\"\",KELAS!#REF!)","v":{"$error":"#REF!"}},{"$f":"IF(KELAS!#REF!=\"\",\"\",KELAS!#REF!)","v":{"$error":"#REF!"}},{"$f":"IF(KELAS!#REF!=\"\",\"\",KELAS!#REF!)","v":{"$error":"#REF!"}},{"$f":"IF(KELAS!#REF!=\"\",\"\",KELAS!#REF!)","v":{"$error":"#REF!"}},{"$f":"IF(KELAS!#REF!=\"\",\"\",KELAS!#REF!)","v":{"$error":"#REF!"}},{"$f":"IF(KELAS!#REF!=\"\",\"\",KELAS!#REF!)","v":{"$error":"#REF!"}},{"$f":"IF(KELAS!#REF!=\"\",\"\",KELAS!#REF!)","v":{"$error":"#REF!"}},{"$f":"IF(KELAS!#REF!=\"\",\"\",KELAS!#REF!)","v":{"$error":"#REF!"}},{"$f":"IF(KELAS!#REF!=\"\",\"\",KELAS!#REF!)","v":{"$error":"#REF!"}},{"$f":"IF(KELAS!#REF!=\"\",\"\",KELAS!#REF!)","v":{"$error":"#REF!"}},"","","","","","","","","","","","","","","","","","","","","Peserta didik menunjukan sikap sungguh-sungguh dalam menerapkan sikap santun, jujur dan kerjasama, namun masih perlu ditingkatkan lagi sikap percaya diri dan ketepatan masuk sekolah"]
[{"$f":"IF(KELAS!A18=\"\",\"\",KELAS!A18)","v":16},{"$f":"IF(KELAS!C18=\"\",\"\",PROPER(KELAS!C18))","v":"Intan Kusuma Wardani"},{"$f":"IF(KELAS!W18=\"\",\"\",KELAS!W18)","v":""},{"$f":"IF(KELAS!AE18=\"\",\"\",KELAS!AE18)","v":""},{"$f":"IF(KELAS!AN18=\"\",\"\",KELAS!AN18)","v":""},{"$f":"IF(KELAS!AW18=\"\",\"\",KELAS!AW18)","v":""},{"$f":"IF(KELAS!BF18=\"\",\"\",KELAS!BF18)","v":""},{"$f":"IF(KELAS!BO18=\"\",\"\",KELAS!BO18)","v":""},{"$f":"IF(KELAS!BX18=\"\",\"\",KELAS!BX18)","v":""},{"$f":"IF(KELAS!CG18=\"\",\"\",KELAS!CG18)","v":""},{"$f":"IF(KELAS!CP18=\"\",\"\",KELAS!CP18)","v":""},{"$f":"IF(KELAS!CY18=\"\",\"\",KELAS!CY18)","v":""},{"$f":"IF(KELAS!#REF!=\"\",\"\",KELAS!#REF!)","v":{"$error":"#REF!"}},{"$f":"IF(KELAS!#REF!=\"\",\"\",KELAS!#REF!)","v":{"$error":"#REF!"}},{"$f":"IF(KELAS!#REF!=\"\",\"\",KELAS!#REF!)","v":{"$error":"#REF!"}},{"$f":"IF(KELAS!#REF!=\"\",\"\",KELAS!#REF!)","v":{"$error":"#REF!"}},{"$f":"IF(KELAS!#REF!=\"\",\"\",KELAS!#REF!)","v":{"$error":"#REF!"}},{"$f":"IF(KELAS!#REF!=\"\",\"\",KELAS!#REF!)","v":{"$error":"#REF!"}},{"$f":"IF(KELAS!#REF!=\"\",\"\",KELAS!#REF!)","v":{"$error":"#REF!"}},{"$f":"IF(KELAS!#REF!=\"\",\"\",KELAS!#REF!)","v":{"$error":"#REF!"}},{"$f":"IF(KELAS!#REF!=\"\",\"\",KELAS!#REF!)","v":{"$error":"#REF!"}},{"$f":"IF(KELAS!#REF!=\"\",\"\",KELAS!#REF!)","v":{"$error":"#REF!"}},{"$f":"IF(KELAS!#REF!=\"\",\"\",KELAS!#REF!)","v":{"$error":"#REF!"}},{"$f":"IF(KELAS!#REF!=\"\",\"\",KELAS!#REF!)","v":{"$error":"#REF!"}},"","","","","","","","","","","","","","","","","","","","","Peserta didik menunjukan sikap sungguh-sungguh dalam menerapkan sikap santun, jujur dan kerjasama, namun masih perlu ditingkatkan lagi sikap percaya diri dan ketepatan masuk sekolah"]
[{"$f":"IF(KELAS!A19=\"\",\"\",KELAS!A19)","v":17},{"$f":"IF(KELAS!C19=\"\",\"\",PROPER(KELAS!C19))","v":"Irfan Wahyu Ramadhani"},{"$f":"IF(KELAS!W19=\"\",\"\",KELAS!W19)","v":""},{"$f":"IF(KELAS!AE19=\"\",\"\",KELAS!AE19)","v":""},{"$f":"IF(KELAS!AN19=\"\",\"\",KELAS!AN19)","v":""},{"$f":"IF(KELAS!AW19=\"\",\"\",KELAS!AW19)","v":""},{"$f":"IF(KELAS!BF19=\"\",\"\",KELAS!BF19)","v":""},{"$f":"IF(KELAS!BO19=\"\",\"\",KELAS!BO19)","v":""},{"$f":"IF(KELAS!BX19=\"\",\"\",KELAS!BX19)","v":""},{"$f":"IF(KELAS!CG19=\"\",\"\",KELAS!CG19)","v":""},{"$f":"IF(KELAS!CP19=\"\",\"\",KELAS!CP19)","v":""},{"$f":"IF(KELAS!CY19=\"\",\"\",KELAS!CY19)","v":""},{"$f":"IF(KELAS!#REF!=\"\",\"\",KELAS!#REF!)","v":{"$error":"#REF!"}},{"$f":"IF(KELAS!#REF!=\"\",\"\",KELAS!#REF!)","v":{"$error":"#REF!"}},{"$f":"IF(KELAS!#REF!=\"\",\"\",KELAS!#REF!)","v":{"$error":"#REF!"}},{"$f":"IF(KELAS!#REF!=\"\",\"\",KELAS!#REF!)","v":{"$error":"#REF!"}},{"$f":"IF(KELAS!#REF!=\"\",\"\",KELAS!#REF!)","v":{"$error":"#REF!"}},{"$f":"IF(KELAS!#REF!=\"\",\"\",KELAS!#REF!)","v":{"$error":"#REF!"}},{"$f":"IF(KELAS!#REF!=\"\",\"\",KELAS!#REF!)","v":{"$error":"#REF!"}},{"$f":"IF(KELAS!#REF!=\"\",\"\",KELAS!#REF!)","v":{"$error":"#REF!"}},{"$f":"IF(KELAS!#REF!=\"\",\"\",KELAS!#REF!)","v":{"$error":"#REF!"}},{"$f":"IF(KELAS!#REF!=\"\",\"\",KELAS!#REF!)","v":{"$error":"#REF!"}},{"$f":"IF(KELAS!#REF!=\"\",\"\",KELAS!#REF!)","v":{"$error":"#REF!"}},{"$f":"IF(KELAS!#REF!=\"\",\"\",KELAS!#REF!)","v":{"$error":"#REF!"}},"","","","","","","","","","","","","","","","","","","","","Peserta didik menunjukan sikap sungguh-sungguh dalam menerapkan sikap santun, jujur dan kerjasama, namun masih perlu ditingkatkan lagi sikap percaya diri dan ketepatan masuk sekolah"]
[{"$f":"IF(KELAS!A20=\"\",\"\",KELAS!A20)","v":18},{"$f":"IF(KELAS!C20=\"\",\"\",PROPER(KELAS!C20))","v":"Jum'At"},{"$f":"IF(KELAS!W20=\"\",\"\",KELAS!W20)","v":""},{"$f":"IF(KELAS!AE20=\"\",\"\",KELAS!AE20)","v":""},{"$f":"IF(KELAS!AN20=\"\",\"\",KELAS!AN20)","v":""},{"$f":"IF(KELAS!AW20=\"\",\"\",KELAS!AW20)","v":""},{"$f":"IF(KELAS!BF20=\"\",\"\",KELAS!BF20)","v":""},{"$f":"IF(KELAS!BO20=\"\",\"\",KELAS!BO20)","v":""},{"$f":"IF(KELAS!BX20=\"\",\"\",KELAS!BX20)","v":""},{"$f":"IF(KELAS!CG20=\"\",\"\",KELAS!CG20)","v":""},{"$f":"IF(KELAS!CP20=\"\",\"\",KELAS!CP20)","v":""},{"$f":"IF(KELAS!CY20=\"\",\"\",KELAS!CY20)","v":""},{"$f":"IF(KELAS!#REF!=\"\",\"\",KELAS!#REF!)","v":{"$error":"#REF!"}},{"$f":"IF(KELAS!#REF!=\"\",\"\",KELAS!#REF!)","v":{"$error":"#REF!"}},{"$f":"IF(KELAS!#REF!=\"\",\"\",KELAS!#REF!)","v":{"$error":"#REF!"}},{"$f":"IF(KELAS!#REF!=\"\",\"\",KELAS!#REF!)","v":{"$error":"#REF!"}},{"$f":"IF(KELAS!#REF!=\"\",\"\",KELAS!#REF!)","v":{"$error":"#REF!"}},{"$f":"IF(KELAS!#REF!=\"\",\"\",KELAS!#REF!)","v":{"$error":"#REF!"}},{"$f":"IF(KELAS!#REF!=\"\",\"\",KELAS!#REF!)","v":{"$error":"#REF!"}},{"$f":"IF(KELAS!#REF!=\"\",\"\",KELAS!#REF!)","v":{"$error":"#REF!"}},{"$f":"IF(KELAS!#REF!=\"\",\"\",KELAS!#REF!)","v":{"$error":"#REF!"}},{"$f":"IF(KELAS!#REF!=\"\",\"\",KELAS!#REF!)","v":{"$error":"#REF!"}},{"$f":"IF(KELAS!#REF!=\"\",\"\",KELAS!#REF!)","v":{"$error":"#REF!"}},{"$f":"IF(KELAS!#REF!=\"\",\"\",KELAS!#REF!)","v":{"$error":"#REF!"}},"","","","","","","","","","","","","","","","","","","","","Peserta didik menunjukan sikap sungguh-sungguh dalam menerapkan sikap santun, jujur dan kerjasama, namun masih perlu ditingkatkan lagi sikap percaya diri dan ketepatan masuk sekolah"]
[{"$f":"IF(KELAS!A21=\"\",\"\",KELAS!A21)","v":19},{"$f":"IF(KELAS!C21=\"\",\"\",PROPER(KELAS!C21))","v":"Lesta Yuninta"},{"$f":"IF(KELAS!W21=\"\",\"\",KELAS!W21)","v":""},{"$f":"IF(KELAS!AE21=\"\",\"\",KELAS!AE21)","v":""},{"$f":"IF(KELAS!AN21=\"\",\"\",KELAS!AN21)","v":""},{"$f":"IF(KELAS!AW21=\"\",\"\",KELAS!AW21)","v":""},{"$f":"IF(KELAS!BF21=\"\",\"\",KELAS!BF21)","v":""},{"$f":"IF(KELAS!BO21=\"\",\"\",KELAS!BO21)","v":""},{"$f":"IF(KELAS!BX21=\"\",\"\",KELAS!BX21)","v":""},{"$f":"IF(KELAS!CG21=\"\",\"\",KELAS!CG21)","v":""},{"$f":"IF(KELAS!CP21=\"\",\"\",KELAS!CP21)","v":""},{"$f":"IF(KELAS!CY21=\"\",\"\",KELAS!CY21)","v":""},{"$f":"IF(KELAS!#REF!=\"\",\"\",KELAS!#REF!)","v":{"$error":"#REF!"}},{"$f":"IF(KELAS!#REF!=\"\",\"\",KELAS!#REF!)","v":{"$error":"#REF!"}},{"$f":"IF(KELAS!#REF!=\"\",\"\",KELAS!#REF!)","v":{"$error":"#REF!"}},{"$f":"IF(KELAS!#REF!=\"\",\"\",KELAS!#REF!)","v":{"$error":"#REF!"}},{"$f":"IF(KELAS!#REF!=\"\",\"\",KELAS!#REF!)","v":{"$error":"#REF!"}},{"$f":"IF(KELAS!#REF!=\"\",\"\",KELAS!#REF!)","v":{"$error":"#REF!"}},{"$f":"IF(KELAS!#REF!=\"\",\"\",KELAS!#REF!)","v":{"$error":"#REF!"}},{"$f":"IF(KELAS!#REF!=\"\",\"\",KELAS!#REF!)","v":{"$error":"#REF!"}},{"$f":"IF(KELAS!#REF!=\"\",\"\",KELAS!#REF!)","v":{"$error":"#REF!"}},{"$f":"IF(KELAS!#REF!=\"\",\"\",KELAS!#REF!)","v":{"$error":"#REF!"}},{"$f":"IF(KELAS!#REF!=\"\",\"\",KELAS!#REF!)","v":{"$error":"#REF!"}},{"$f":"IF(KELAS!#REF!=\"\",\"\",KELAS!#REF!)","v":{"$error":"#REF!"}},"","","","","","","","","","","","","","","","","","","","","Peserta didik menunjukan sikap sungguh-sungguh dalam menerapkan sikap santun, jujur dan kerjasama, namun masih perlu ditingkatkan lagi sikap percaya diri dan ketepatan masuk sekolah"]
[{"$f":"IF(KELAS!A22=\"\",\"\",KELAS!A22)","v":20},{"$f":"IF(KELAS!C22=\"\",\"\",PROPER(KELAS!C22))","v":"Linda Nurmayanti"},{"$f":"IF(KELAS!W22=\"\",\"\",KELAS!W22)","v":""},{"$f":"IF(KELAS!AE22=\"\",\"\",KELAS!AE22)","v":""},{"$f":"IF(KELAS!AN22=\"\",\"\",KELAS!AN22)","v":""},{"$f":"IF(KELAS!AW22=\"\",\"\",KELAS!AW22)","v":""},{"$f":"IF(KELAS!BF22=\"\",\"\",KELAS!BF22)","v":""},{"$f":"IF(KELAS!BO22=\"\",\"\",KELAS!BO22)","v":""},{"$f":"IF(KELAS!BX22=\"\",\"\",KELAS!BX22)","v":""},{"$f":"IF(KELAS!CG22=\"\",\"\",KELAS!CG22)","v":""},{"$f":"IF(KELAS!CP22=\"\",\"\",KELAS!CP22)","v":""},{"$f":"IF(KELAS!CY22=\"\",\"\",KELAS!CY22)","v":""},{"$f":"IF(KELAS!#REF!=\"\",\"\",KELAS!#REF!)","v":{"$error":"#REF!"}},{"$f":"IF(KELAS!#REF!=\"\",\"\",KELAS!#REF!)","v":{"$error":"#REF!"}},{"$f":"IF(KELAS!#REF!=\"\",\"\",KELAS!#REF!)","v":{"$error":"#REF!"}},{"$f":"IF(KELAS!#REF!=\"\",\"\",KELAS!#REF!)","v":{"$error":"#REF!"}},{"$f":"IF(KELAS!#REF!=\"\",\"\",KELAS!#REF!)","v":{"$error":"#REF!"}},{"$f":"IF(KELAS!#REF!=\"\",\"\",KELAS!#REF!)","v":{"$error":"#REF!"}},{"$f":"IF(KELAS!#REF!=\"\",\"\",KELAS!#REF!)","v":{"$error":"#REF!"}},{"$f":"IF(KELAS!#REF!=\"\",\"\",KELAS!#REF!)","v":{"$error":"#REF!"}},{"$f":"IF(KELAS!#REF!=\"\",\"\",KELAS!#REF!)","v":{"$error":"#REF!"}},{"$f":"IF(KELAS!#REF!=\"\",\"\",KELAS!#REF!)","v":{"$error":"#REF!"}},{"$f":"IF(KELAS!#REF!=\"\",\"\",KELAS!#REF!)","v":{"$error":"#REF!"}},{"$f":"IF(KELAS!#REF!=\"\",\"\",KELAS!#REF!)","v":{"$error":"#REF!"}},"","","","","","","","","","","","","","","","","","","","","Peserta didik menunjukan sikap sungguh-sungguh dalam menerapkan sikap santun, jujur dan kerjasama, namun masih perlu ditingkatkan lagi sikap percaya diri dan ketepatan masuk sekolah"]
[{"$f":"IF(KELAS!A23=\"\",\"\",KELAS!A23)","v":21},{"$f":"IF(KELAS!C23=\"\",\"\",PROPER(KELAS!C23))","v":"M. Hazbi Rachman"},{"$f":"IF(KELAS!W23=\"\",\"\",KELAS!W23)","v":""},{"$f":"IF(KELAS!AE23=\"\",\"\",KELAS!AE23)","v":""},{"$f":"IF(KELAS!AN23=\"\",\"\",KELAS!AN23)","v":""},{"$f":"IF(KELAS!AW23=\"\",\"\",KELAS!AW23)","v":""},{"$f":"IF(KELAS!BF23=\"\",\"\",KELAS!BF23)","v":""},{"$f":"IF(KELAS!BO23=\"\",\"\",KELAS!BO23)","v":""},{"$f":"IF(KELAS!BX23=\"\",\"\",KELAS!BX23)","v":""},{"$f":"IF(KELAS!CG23=\"\",\"\",KELAS!CG23)","v":""},{"$f":"IF(KELAS!CP23=\"\",\"\",KELAS!CP23)","v":""},{"$f":"IF(KELAS!CY23=\"\",\"\",KELAS!CY23)","v":""},{"$f":"IF(KELAS!#REF!=\"\",\"\",KELAS!#REF!)","v":{"$error":"#REF!"}},{"$f":"IF(KELAS!#REF!=\"\",\"\",KELAS!#REF!)","v":{"$error":"#REF!"}},{"$f":"IF(KELAS!#REF!=\"\",\"\",KELAS!#REF!)","v":{"$error":"#REF!"}},{"$f":"IF(KELAS!#REF!=\"\",\"\",KELAS!#REF!)","v":{"$error":"#REF!"}},{"$f":"IF(KELAS!#REF!=\"\",\"\",KELAS!#REF!)","v":{"$error":"#REF!"}},{"$f":"IF(KELAS!#REF!=\"\",\"\",KELAS!#REF!)","v":{"$error":"#REF!"}},{"$f":"IF(KELAS!#REF!=\"\",\"\",KELAS!#REF!)","v":{"$error":"#REF!"}},{"$f":"IF(KELAS!#REF!=\"\",\"\",KELAS!#REF!)","v":{"$error":"#REF!"}},{"$f":"IF(KELAS!#REF!=\"\",\"\",KELAS!#REF!)","v":{"$error":"#REF!"}},{"$f":"IF(KELAS!#REF!=\"\",\"\",KELAS!#REF!)","v":{"$error":"#REF!"}},{"$f":"IF(KELAS!#REF!=\"\",\"\",KELAS!#REF!)","v":{"$error":"#REF!"}},{"$f":"IF(KELAS!#REF!=\"\",\"\",KELAS!#REF!)","v":{"$error":"#REF!"}},"","","","","","","","","","","","","","","","","","","","","Peserta didik menunjukan sikap sungguh-sungguh dalam menerapkan sikap santun, jujur dan kerjasama, namun masih perlu ditingkatkan lagi sikap percaya diri dan ketepatan masuk sekolah"]
[{"$f":"IF(KELAS!A24=\"\",\"\",KELAS!A24)","v":22},{"$f":"IF(KELAS!C24=\"\",\"\",PROPER(KELAS!C24))","v":"Marlina"},{"$f":"IF(KELAS!W24=\"\",\"\",KELAS!W24)","v":""},{"$f":"IF(KELAS!AE24=\"\",\"\",KELAS!AE24)","v":""},{"$f":"IF(KELAS!AN24=\"\",\"\",KELAS!AN24)","v":""},{"$f":"IF(KELAS!AW24=\"\",\"\",KELAS!AW24)","v":""},{"$f":"IF(KELAS!BF24=\"\",\"\",KELAS!BF24)","v":""},{"$f":"IF(KELAS!BO24=\"\",\"\",KELAS!BO24)","v":""},{"$f":"IF(KELAS!BX24=\"\",\"\",KELAS!BX24)","v":""},{"$f":"IF(KELAS!CG24=\"\",\"\",KELAS!CG24)","v":""},{"$f":"IF(KELAS!CP24=\"\",\"\",KELAS!CP24)","v":""},{"$f":"IF(KELAS!CY24=\"\",\"\",KELAS!CY24)","v":""},{"$f":"IF(KELAS!#REF!=\"\",\"\",KELAS!#REF!)","v":{"$error":"#REF!"}},{"$f":"IF(KELAS!#REF!=\"\",\"\",KELAS!#REF!)","v":{"$error":"#REF!"}},{"$f":"IF(KELAS!#REF!=\"\",\"\",KELAS!#REF!)","v":{"$error":"#REF!"}},{"$f":"IF(KELAS!#REF!=\"\",\"\",KELAS!#REF!)","v":{"$error":"#REF!"}},{"$f":"IF(KELAS!#REF!=\"\",\"\",KELAS!#REF!)","v":{"$error":"#REF!"}},{"$f":"IF(KELAS!#REF!=\"\",\"\",KELAS!#REF!)","v":{"$error":"#REF!"}},{"$f":"IF(KELAS!#REF!=\"\",\"\",KELAS!#REF!)","v":{"$error":"#REF!"}},{"$f":"IF(KELAS!#REF!=\"\",\"\",KELAS!#REF!)","v":{"$error":"#REF!"}},{"$f":"IF(KELAS!#REF!=\"\",\"\",KELAS!#REF!)","v":{"$error":"#REF!"}},{"$f":"IF(KELAS!#REF!=\"\",\"\",KELAS!#REF!)","v":{"$error":"#REF!"}},{"$f":"IF(KELAS!#REF!=\"\",\"\",KELAS!#REF!)","v":{"$error":"#REF!"}},{"$f":"IF(KELAS!#REF!=\"\",\"\",KELAS!#REF!)","v":{"$error":"#REF!"}},"","","","","","","","","","","","","","","","","","","","","Peserta didik menunjukan sikap sungguh-sungguh dalam menerapkan sikap santun, jujur dan kerjasama, namun masih perlu ditingkatkan lagi sikap percaya diri dan ketepatan masuk sekolah"]
[{"$f":"IF(KELAS!A25=\"\",\"\",KELAS!A25)","v":23},{"$f":"IF(KELAS!C25=\"\",\"\",PROPER(KELAS!C25))","v":"Merrin Farahida"},{"$f":"IF(KELAS!W25=\"\",\"\",KELAS!W25)","v":""},{"$f":"IF(KELAS!AE25=\"\",\"\",KELAS!AE25)","v":""},{"$f":"IF(KELAS!AN25=\"\",\"\",KELAS!AN25)","v":""},{"$f":"IF(KELAS!AW25=\"\",\"\",KELAS!AW25)","v":""},{"$f":"IF(KELAS!BF25=\"\",\"\",KELAS!BF25)","v":""},{"$f":"IF(KELAS!BO25=\"\",\"\",KELAS!BO25)","v":""},{"$f":"IF(KELAS!BX25=\"\",\"\",KELAS!BX25)","v":""},{"$f":"IF(KELAS!CG25=\"\",\"\",KELAS!CG25)","v":""},{"$f":"IF(KELAS!CP25=\"\",\"\",KELAS!CP25)","v":""},{"$f":"IF(KELAS!CY25=\"\",\"\",KELAS!CY25)","v":""},{"$f":"IF(KELAS!#REF!=\"\",\"\",KELAS!#REF!)","v":{"$error":"#REF!"}},{"$f":"IF(KELAS!#REF!=\"\",\"\",KELAS!#REF!)","v":{"$error":"#REF!"}},{"$f":"IF(KELAS!#REF!=\"\",\"\",KELAS!#REF!)","v":{"$error":"#REF!"}},{"$f":"IF(KELAS!#REF!=\"\",\"\",KELAS!#REF!)","v":{"$error":"#REF!"}},{"$f":"IF(KELAS!#REF!=\"\",\"\",KELAS!#REF!)","v":{"$error":"#REF!"}},{"$f":"IF(KELAS!#REF!=\"\",\"\",KELAS!#REF!)","v":{"$error":"#REF!"}},{"$f":"IF(KELAS!#REF!=\"\",\"\",KELAS!#REF!)","v":{"$error":"#REF!"}},{"$f":"IF(KELAS!#REF!=\"\",\"\",KELAS!#REF!)","v":{"$error":"#REF!"}},{"$f":"IF(KELAS!#REF!=\"\",\"\",KELAS!#REF!)","v":{"$error":"#REF!"}},{"$f":"IF(KELAS!#REF!=\"\",\"\",KELAS!#REF!)","v":{"$error":"#REF!"}},{"$f":"IF(KELAS!#REF!=\"\",\"\",KELAS!#REF!)","v":{"$error":"#REF!"}},{"$f":"IF(KELAS!#REF!=\"\",\"\",KELAS!#REF!)","v":{"$error":"#REF!"}},"","","","","","","","","","","","","","","","","","","","","Peserta didik menunjukan sikap sungguh-sungguh dalam menerapkan sikap santun, jujur dan kerjasama, namun masih perlu ditingkatkan lagi sikap percaya diri dan ketepatan masuk sekolah"]
[{"$f":"IF(KELAS!A26=\"\",\"\",KELAS!A26)","v":24},{"$f":"IF(KELAS!C26=\"\",\"\",PROPER(KELAS!C26))","v":"Mona Evira Dionty"},{"$f":"IF(KELAS!W26=\"\",\"\",KELAS!W26)","v":""},{"$f":"IF(KELAS!AE26=\"\",\"\",KELAS!AE26)","v":""},{"$f":"IF(KELAS!AN26=\"\",\"\",KELAS!AN26)","v":""},{"$f":"IF(KELAS!AW26=\"\",\"\",KELAS!AW26)","v":""},{"$f":"IF(KELAS!BF26=\"\",\"\",KELAS!BF26)","v":""},{"$f":"IF(KELAS!BO26=\"\",\"\",KELAS!BO26)","v":""},{"$f":"IF(KELAS!BX26=\"\",\"\",KELAS!BX26)","v":""},{"$f":"IF(KELAS!CG26=\"\",\"\",KELAS!CG26)","v":""},{"$f":"IF(KELAS!CP26=\"\",\"\",KELAS!CP26)","v":""},{"$f":"IF(KELAS!CY26=\"\",\"\",KELAS!CY26)","v":""},{"$f":"IF(KELAS!#REF!=\"\",\"\",KELAS!#REF!)","v":{"$error":"#REF!"}},{"$f":"IF(KELAS!#REF!=\"\",\"\",KELAS!#REF!)","v":{"$error":"#REF!"}},{"$f":"IF(KELAS!#REF!=\"\",\"\",KELAS!#REF!)","v":{"$error":"#REF!"}},{"$f":"IF(KELAS!#REF!=\"\",\"\",KELAS!#REF!)","v":{"$error":"#REF!"}},{"$f":"IF(KELAS!#REF!=\"\",\"\",KELAS!#REF!)","v":{"$error":"#REF!"}},{"$f":"IF(KELAS!#REF!=\"\",\"\",KELAS!#REF!)","v":{"$error":"#REF!"}},{"$f":"IF(KELAS!#REF!=\"\",\"\",KELAS!#REF!)","v":{"$error":"#REF!"}},{"$f":"IF(KELAS!#REF!=\"\",\"\",KELAS!#REF!)","v":{"$error":"#REF!"}},{"$f":"IF(KELAS!#REF!=\"\",\"\",KELAS!#REF!)","v":{"$error":"#REF!"}},{"$f":"IF(KELAS!#REF!=\"\",\"\",KELAS!#REF!)","v":{"$error":"#REF!"}},{"$f":"IF(KELAS!#REF!=\"\",\"\",KELAS!#REF!)","v":{"$error":"#REF!"}},{"$f":"IF(KELAS!#REF!=\"\",\"\",KELAS!#REF!)","v":{"$error":"#REF!"}},"","","","","","","","","","","","","","","","","","","","","Peserta didik menunjukan sikap sungguh-sungguh dalam menerapkan sikap santun, jujur dan kerjasama, namun masih perlu ditingkatkan lagi sikap percaya diri dan ketepatan masuk sekolah"]
[{"$f":"IF(KELAS!A27=\"\",\"\",KELAS!A27)","v":25},{"$f":"IF(KELAS!C27=\"\",\"\",PROPER(KELAS!C27))","v":"Muhamad Fatlihasan"},{"$f":"IF(KELAS!W27=\"\",\"\",KELAS!W27)","v":""},{"$f":"IF(KELAS!AE27=\"\",\"\",KELAS!AE27)","v":""},{"$f":"IF(KELAS!AN27=\"\",\"\",KELAS!AN27)","v":""},{"$f":"IF(KELAS!AW27=\"\",\"\",KELAS!AW27)","v":""},{"$f":"IF(KELAS!BF27=\"\",\"\",KELAS!BF27)","v":""},{"$f":"IF(KELAS!BO27=\"\",\"\",KELAS!BO27)","v":""},{"$f":"IF(KELAS!BX27=\"\",\"\",KELAS!BX27)","v":""},{"$f":"IF(KELAS!CG27=\"\",\"\",KELAS!CG27)","v":""},{"$f":"IF(KELAS!CP27=\"\",\"\",KELAS!CP27)","v":""},{"$f":"IF(KELAS!CY27=\"\",\"\",KELAS!CY27)","v":""},{"$f":"IF(KELAS!#REF!=\"\",\"\",KELAS!#REF!)","v":{"$error":"#REF!"}},{"$f":"IF(KELAS!#REF!=\"\",\"\",KELAS!#REF!)","v":{"$error":"#REF!"}},{"$f":"IF(KELAS!#REF!=\"\",\"\",KELAS!#REF!)","v":{"$error":"#REF!"}},{"$f":"IF(KELAS!#REF!=\"\",\"\",KELAS!#REF!)","v":{"$error":"#REF!"}},{"$f":"IF(KELAS!#REF!=\"\",\"\",KELAS!#REF!)","v":{"$error":"#REF!"}},{"$f":"IF(KELAS!#REF!=\"\",\"\",KELAS!#REF!)","v":{"$error":"#REF!"}},{"$f":"IF(KELAS!#REF!=\"\",\"\",KELAS!#REF!)","v":{"$error":"#REF!"}},{"$f":"IF(KELAS!#REF!=\"\",\"\",KELAS!#REF!)","v":{"$error":"#REF!"}},{"$f":"IF(KELAS!#REF!=\"\",\"\",KELAS!#REF!)","v":{"$error":"#REF!"}},{"$f":"IF(KELAS!#REF!=\"\",\"\",KELAS!#REF!)","v":{"$error":"#REF!"}},{"$f":"IF(KELAS!#REF!=\"\",\"\",KELAS!#REF!)","v":{"$error":"#REF!"}},{"$f":"IF(KELAS!#REF!=\"\",\"\",KELAS!#REF!)","v":{"$error":"#REF!"}},"","","","","","","","","","","","","","","","","","","","","Peserta didik menunjukan sikap sungguh-sungguh dalam menerapkan sikap santun, jujur dan kerjasama, namun masih perlu ditingkatkan lagi sikap percaya diri dan ketepatan masuk sekolah"]
[{"$f":"IF(KELAS!A28=\"\",\"\",KELAS!A28)","v":26},{"$f":"IF(KELAS!C28=\"\",\"\",PROPER(KELAS!C28))","v":"Noviasari"},{"$f":"IF(KELAS!W28=\"\",\"\",KELAS!W28)","v":""},{"$f":"IF(KELAS!AE28=\"\",\"\",KELAS!AE28)","v":""},{"$f":"IF(KELAS!AN28=\"\",\"\",KELAS!AN28)","v":""},{"$f":"IF(KELAS!AW28=\"\",\"\",KELAS!AW28)","v":""},{"$f":"IF(KELAS!BF28=\"\",\"\",KELAS!BF28)","v":""},{"$f":"IF(KELAS!BO28=\"\",\"\",KELAS!BO28)","v":""},{"$f":"IF(KELAS!BX28=\"\",\"\",KELAS!BX28)","v":""},{"$f":"IF(KELAS!CG28=\"\",\"\",KELAS!CG28)","v":""},{"$f":"IF(KELAS!CP28=\"\",\"\",KELAS!CP28)","v":""},{"$f":"IF(KELAS!CY28=\"\",\"\",KELAS!CY28)","v":""},{"$f":"IF(KELAS!#REF!=\"\",\"\",KELAS!#REF!)","v":{"$error":"#REF!"}},{"$f":"IF(KELAS!#REF!=\"\",\"\",KELAS!#REF!)","v":{"$error":"#REF!"}},{"$f":"IF(KELAS!#REF!=\"\",\"\",KELAS!#REF!)","v":{"$error":"#REF!"}},{"$f":"IF(KELAS!#REF!=\"\",\"\",KELAS!#REF!)","v":{"$error":"#REF!"}},{"$f":"IF(KELAS!#REF!=\"\",\"\",KELAS!#REF!)","v":{"$error":"#REF!"}},{"$f":"IF(KELAS!#REF!=\"\",\"\",KELAS!#REF!)","v":{"$error":"#REF!"}},{"$f":"IF(KELAS!#REF!=\"\",\"\",KELAS!#REF!)","v":{"$error":"#REF!"}},{"$f":"IF(KELAS!#REF!=\"\",\"\",KELAS!#REF!)","v":{"$error":"#REF!"}},{"$f":"IF(KELAS!#REF!=\"\",\"\",KELAS!#REF!)","v":{"$error":"#REF!"}},{"$f":"IF(KELAS!#REF!=\"\",\"\",KELAS!#REF!)","v":{"$error":"#REF!"}},{"$f":"IF(KELAS!#REF!=\"\",\"\",KELAS!#REF!)","v":{"$error":"#REF!"}},{"$f":"IF(KELAS!#REF!=\"\",\"\",KELAS!#REF!)","v":{"$error":"#REF!"}},"","","","","","","","","","","","","","","","","","","","","Peserta didik menunjukan sikap sungguh-sungguh dalam menerapkan sikap santun, jujur dan kerjasama, namun masih perlu ditingkatkan lagi sikap percaya diri dan ketepatan masuk sekolah"]
[{"$f":"IF(KELAS!A29=\"\",\"\",KELAS!A29)","v":27},{"$f":"IF(KELAS!C29=\"\",\"\",PROPER(KELAS!C29))","v":"Nuryani"},{"$f":"IF(KELAS!W29=\"\",\"\",KELAS!W29)","v":""},{"$f":"IF(KELAS!AE29=\"\",\"\",KELAS!AE29)","v":""},{"$f":"IF(KELAS!AN29=\"\",\"\",KELAS!AN29)","v":""},{"$f":"IF(KELAS!AW29=\"\",\"\",KELAS!AW29)","v":""},{"$f":"IF(KELAS!BF29=\"\",\"\",KELAS!BF29)","v":""},{"$f":"IF(KELAS!BO29=\"\",\"\",KELAS!BO29)","v":""},{"$f":"IF(KELAS!BX29=\"\",\"\",KELAS!BX29)","v":""},{"$f":"IF(KELAS!CG29=\"\",\"\",KELAS!CG29)","v":""},{"$f":"IF(KELAS!CP29=\"\",\"\",KELAS!CP29)","v":""},{"$f":"IF(KELAS!CY29=\"\",\"\",KELAS!CY29)","v":""},{"$f":"IF(KELAS!#REF!=\"\",\"\",KELAS!#REF!)","v":{"$error":"#REF!"}},{"$f":"IF(KELAS!#REF!=\"\",\"\",KELAS!#REF!)","v":{"$error":"#REF!"}},{"$f":"IF(KELAS!#REF!=\"\",\"\",KELAS!#REF!)","v":{"$error":"#REF!"}},{"$f":"IF(KELAS!#REF!=\"\",\"\",KELAS!#REF!)","v":{"$error":"#REF!"}},{"$f":"IF(KELAS!#REF!=\"\",\"\",KELAS!#REF!)","v":{"$error":"#REF!"}},{"$f":"IF(KELAS!#REF!=\"\",\"\",KELAS!#REF!)","v":{"$error":"#REF!"}},{"$f":"IF(KELAS!#REF!=\"\",\"\",KELAS!#REF!)","v":{"$error":"#REF!"}},{"$f":"IF(KELAS!#REF!=\"\",\"\",KELAS!#REF!)","v":{"$error":"#REF!"}},{"$f":"IF(KELAS!#REF!=\"\",\"\",KELAS!#REF!)","v":{"$error":"#REF!"}},{"$f":"IF(KELAS!#REF!=\"\",\"\",KELAS!#REF!)","v":{"$error":"#REF!"}},{"$f":"IF(KELAS!#REF!=\"\",\"\",KELAS!#REF!)","v":{"$error":"#REF!"}},{"$f":"IF(KELAS!#REF!=\"\",\"\",KELAS!#REF!)","v":{"$error":"#REF!"}},"","","","","","","","","","","","","","","","","","","","","Peserta didik menunjukan sikap sungguh-sungguh dalam menerapkan sikap santun, jujur dan kerjasama, namun masih perlu ditingkatkan lagi sikap percaya diri dan ketepatan masuk sekolah"]
[{"$f":"IF(KELAS!A30=\"\",\"\",KELAS!A30)","v":28},{"$f":"IF(KELAS!C30=\"\",\"\",PROPER(KELAS!C30))","v":"Rasyd Hardiansyah"},{"$f":"IF(KELAS!W30=\"\",\"\",KELAS!W30)","v":""},{"$f":"IF(KELAS!AE30=\"\",\"\",KELAS!AE30)","v":""},{"$f":"IF(KELAS!AN30=\"\",\"\",KELAS!AN30)","v":""},{"$f":"IF(KELAS!AW30=\"\",\"\",KELAS!AW30)","v":""},{"$f":"IF(KELAS!BF30=\"\",\"\",KELAS!BF30)","v":""},{"$f":"IF(KELAS!BO30=\"\",\"\",KELAS!BO30)","v":""},{"$f":"IF(KELAS!BX30=\"\",\"\",KELAS!BX30)","v":""},{"$f":"IF(KELAS!CG30=\"\",\"\",KELAS!CG30)","v":""},{"$f":"IF(KELAS!CP30=\"\",\"\",KELAS!CP30)","v":""},{"$f":"IF(KELAS!CY30=\"\",\"\",KELAS!CY30)","v":""},{"$f":"IF(KELAS!#REF!=\"\",\"\",KELAS!#REF!)","v":{"$error":"#REF!"}},{"$f":"IF(KELAS!#REF!=\"\",\"\",KELAS!#REF!)","v":{"$error":"#REF!"}},{"$f":"IF(KELAS!#REF!=\"\",\"\",KELAS!#REF!)","v":{"$error":"#REF!"}},{"$f":"IF(KELAS!#REF!=\"\",\"\",KELAS!#REF!)","v":{"$error":"#REF!"}},{"$f":"IF(KELAS!#REF!=\"\",\"\",KELAS!#REF!)","v":{"$error":"#REF!"}},{"$f":"IF(KELAS!#REF!=\"\",\"\",KELAS!#REF!)","v":{"$error":"#REF!"}},{"$f":"IF(KELAS!#REF!=\"\",\"\",KELAS!#REF!)","v":{"$error":"#REF!"}},{"$f":"IF(KELAS!#REF!=\"\",\"\",KELAS!#REF!)","v":{"$error":"#REF!"}},{"$f":"IF(KELAS!#REF!=\"\",\"\",KELAS!#REF!)","v":{"$error":"#REF!"}},{"$f":"IF(KELAS!#REF!=\"\",\"\",KELAS!#REF!)","v":{"$error":"#REF!"}},{"$f":"IF(KELAS!#REF!=\"\",\"\",KELAS!#REF!)","v":{"$error":"#REF!"}},{"$f":"IF(KELAS!#REF!=\"\",\"\",KELAS!#REF!)","v":{"$error":"#REF!"}},"","","","","","","","","","","","","","","","","","","","","Peserta didik menunjukan sikap sungguh-sungguh dalam menerapkan sikap santun, jujur dan kerjasama, namun masih perlu ditingkatkan lagi sikap percaya diri dan ketepatan masuk sekolah"]
[{"$f":"IF(KELAS!A31=\"\",\"\",KELAS!A31)","v":29},{"$f":"IF(KELAS!C31=\"\",\"\",PROPER(KELAS!C31))","v":"Riza Abdillah Choiril Anwar"},{"$f":"IF(KELAS!W31=\"\",\"\",KELAS!W31)","v":""},{"$f":"IF(KELAS!AE31=\"\",\"\",KELAS!AE31)","v":""},{"$f":"IF(KELAS!AN31=\"\",\"\",KELAS!AN31)","v":""},{"$f":"IF(KELAS!AW31=\"\",\"\",KELAS!AW31)","v":""},{"$f":"IF(KELAS!BF31=\"\",\"\",KELAS!BF31)","v":""},{"$f":"IF(KELAS!BO31=\"\",\"\",KELAS!BO31)","v":""},{"$f":"IF(KELAS!BX31=\"\",\"\",KELAS!BX31)","v":""},{"$f":"IF(KELAS!CG31=\"\",\"\",KELAS!CG31)","v":""},{"$f":"IF(KELAS!CP31=\"\",\"\",KELAS!CP31)","v":""},{"$f":"IF(KELAS!CY31=\"\",\"\",KELAS!CY31)","v":""},{"$f":"IF(KELAS!#REF!=\"\",\"\",KELAS!#REF!)","v":{"$error":"#REF!"}},{"$f":"IF(KELAS!#REF!=\"\",\"\",KELAS!#REF!)","v":{"$error":"#REF!"}},{"$f":"IF(KELAS!#REF!=\"\",\"\",KELAS!#REF!)","v":{"$error":"#REF!"}},{"$f":"IF(KELAS!#REF!=\"\",\"\",KELAS!#REF!)","v":{"$error":"#REF!"}},{"$f":"IF(KELAS!#REF!=\"\",\"\",KELAS!#REF!)","v":{"$error":"#REF!"}},{"$f":"IF(KELAS!#REF!=\"\",\"\",KELAS!#REF!)","v":{"$error":"#REF!"}},{"$f":"IF(KELAS!#REF!=\"\",\"\",KELAS!#REF!)","v":{"$error":"#REF!"}},{"$f":"IF(KELAS!#REF!=\"\",\"\",KELAS!#REF!)","v":{"$error":"#REF!"}},{"$f":"IF(KELAS!#REF!=\"\",\"\",KELAS!#REF!)","v":{"$error":"#REF!"}},{"$f":"IF(KELAS!#REF!=\"\",\"\",KELAS!#REF!)","v":{"$error":"#REF!"}},{"$f":"IF(KELAS!#REF!=\"\",\"\",KELAS!#REF!)","v":{"$error":"#REF!"}},{"$f":"IF(KELAS!#REF!=\"\",\"\",KELAS!#REF!)","v":{"$error":"#REF!"}},"","","","","","","","","","","","","","","","","","","","","Peserta didik menunjukan sikap sungguh-sungguh dalam menerapkan sikap santun, jujur dan kerjasama, namun masih perlu ditingkatkan lagi sikap percaya diri dan ketepatan masuk sekolah"]
[{"$f":"IF(KELAS!A32=\"\",\"\",KELAS!A32)","v":30},{"$f":"IF(KELAS!C32=\"\",\"\",PROPER(KELAS!C32))","v":"Slamet Triyan Pamungkas"},{"$f":"IF(KELAS!W32=\"\",\"\",KELAS!W32)","v":""},{"$f":"IF(KELAS!AE32=\"\",\"\",KELAS!AE32)","v":""},{"$f":"IF(KELAS!AN32=\"\",\"\",KELAS!AN32)","v":""},{"$f":"IF(KELAS!AW32=\"\",\"\",KELAS!AW32)","v":""},{"$f":"IF(KELAS!BF32=\"\",\"\",KELAS!BF32)","v":""},{"$f":"IF(KELAS!BO32=\"\",\"\",KELAS!BO32)","v":""},{"$f":"IF(KELAS!BX32=\"\",\"\",KELAS!BX32)","v":""},{"$f":"IF(KELAS!CG32=\"\",\"\",KELAS!CG32)","v":""},{"$f":"IF(KELAS!CP32=\"\",\"\",KELAS!CP32)","v":""},{"$f":"IF(KELAS!CY32=\"\",\"\",KELAS!CY32)","v":""},{"$f":"IF(KELAS!#REF!=\"\",\"\",KELAS!#REF!)","v":{"$error":"#REF!"}},{"$f":"IF(KELAS!#REF!=\"\",\"\",KELAS!#REF!)","v":{"$error":"#REF!"}},{"$f":"IF(KELAS!#REF!=\"\",\"\",KELAS!#REF!)","v":{"$error":"#REF!"}},{"$f":"IF(KELAS!#REF!=\"\",\"\",KELAS!#REF!)","v":{"$error":"#REF!"}},{"$f":"IF(KELAS!#REF!=\"\",\"\",KELAS!#REF!)","v":{"$error":"#REF!"}},{"$f":"IF(KELAS!#REF!=\"\",\"\",KELAS!#REF!)","v":{"$error":"#REF!"}},{"$f":"IF(KELAS!#REF!=\"\",\"\",KELAS!#REF!)","v":{"$error":"#REF!"}},{"$f":"IF(KELAS!#REF!=\"\",\"\",KELAS!#REF!)","v":{"$error":"#REF!"}},{"$f":"IF(KELAS!#REF!=\"\",\"\",KELAS!#REF!)","v":{"$error":"#REF!"}},{"$f":"IF(KELAS!#REF!=\"\",\"\",KELAS!#REF!)","v":{"$error":"#REF!"}},{"$f":"IF(KELAS!#REF!=\"\",\"\",KELAS!#REF!)","v":{"$error":"#REF!"}},{"$f":"IF(KELAS!#REF!=\"\",\"\",KELAS!#REF!)","v":{"$error":"#REF!"}},"","","","","","","","","","","","","","","","","","","","","Peserta didik menunjukan sikap sungguh-sungguh dalam menerapkan sikap santun, jujur dan kerjasama, namun masih perlu ditingkatkan lagi sikap percaya diri dan ketepatan masuk sekolah"]
[{"$f":"IF(KELAS!A33=\"\",\"\",KELAS!A33)","v":31},{"$f":"IF(KELAS!C33=\"\",\"\",PROPER(KELAS!C33))","v":"Sultoni"},{"$f":"IF(KELAS!W33=\"\",\"\",KELAS!W33)","v":""},{"$f":"IF(KELAS!AE33=\"\",\"\",KELAS!AE33)","v":""},{"$f":"IF(KELAS!AN33=\"\",\"\",KELAS!AN33)","v":""},{"$f":"IF(KELAS!AW33=\"\",\"\",KELAS!AW33)","v":""},{"$f":"IF(KELAS!BF33=\"\",\"\",KELAS!BF33)","v":""},{"$f":"IF(KELAS!BO33=\"\",\"\",KELAS!BO33)","v":""},{"$f":"IF(KELAS!BX33=\"\",\"\",KELAS!BX33)","v":""},{"$f":"IF(KELAS!CG33=\"\",\"\",KELAS!CG33)","v":""},{"$f":"IF(KELAS!CP33=\"\",\"\",KELAS!CP33)","v":""},{"$f":"IF(KELAS!CY33=\"\",\"\",KELAS!CY33)","v":""},{"$f":"IF(KELAS!#REF!=\"\",\"\",KELAS!#REF!)","v":{"$error":"#REF!"}},{"$f":"IF(KELAS!#REF!=\"\",\"\",KELAS!#REF!)","v":{"$error":"#REF!"}},{"$f":"IF(KELAS!#REF!=\"\",\"\",KELAS!#REF!)","v":{"$error":"#REF!"}},{"$f":"IF(KELAS!#REF!=\"\",\"\",KELAS!#REF!)","v":{"$error":"#REF!"}},{"$f":"IF(KELAS!#REF!=\"\",\"\",KELAS!#REF!)","v":{"$error":"#REF!"}},{"$f":"IF(KELAS!#REF!=\"\",\"\",KELAS!#REF!)","v":{"$error":"#REF!"}},{"$f":"IF(KELAS!#REF!=\"\",\"\",KELAS!#REF!)","v":{"$error":"#REF!"}},{"$f":"IF(KELAS!#REF!=\"\",\"\",KELAS!#REF!)","v":{"$error":"#REF!"}},{"$f":"IF(KELAS!#REF!=\"\",\"\",KELAS!#REF!)","v":{"$error":"#REF!"}},{"$f":"IF(KELAS!#REF!=\"\",\"\",KELAS!#REF!)","v":{"$error":"#REF!"}},{"$f":"IF(KELAS!#REF!=\"\",\"\",KELAS!#REF!)","v":{"$error":"#REF!"}},{"$f":"IF(KELAS!#REF!=\"\",\"\",KELAS!#REF!)","v":{"$error":"#REF!"}},"","","","","","","","","","","","","","","","","","","","","Peserta didik menunjukan sikap sungguh-sungguh dalam menerapkan sikap santun, jujur dan kerjasama, namun masih perlu ditingkatkan lagi sikap percaya diri dan ketepatan masuk sekolah"]
[{"$f":"IF(KELAS!A34=\"\",\"\",KELAS!A34)","v":32},{"$f":"IF(KELAS!C34=\"\",\"\",PROPER(KELAS!C34))","v":"Vico Afdiansyah"},{"$f":"IF(KELAS!W34=\"\",\"\",KELAS!W34)","v":""},{"$f":"IF(KELAS!AE34=\"\",\"\",KELAS!AE34)","v":""},{"$f":"IF(KELAS!AN34=\"\",\"\",KELAS!AN34)","v":""},{"$f":"IF(KELAS!AW34=\"\",\"\",KELAS!AW34)","v":""},{"$f":"IF(KELAS!BF34=\"\",\"\",KELAS!BF34)","v":""},{"$f":"IF(KELAS!BO34=\"\",\"\",KELAS!BO34)","v":""},{"$f":"IF(KELAS!BX34=\"\",\"\",KELAS!BX34)","v":""},{"$f":"IF(KELAS!CG34=\"\",\"\",KELAS!CG34)","v":""},{"$f":"IF(KELAS!CP34=\"\",\"\",KELAS!CP34)","v":""},{"$f":"IF(KELAS!CY34=\"\",\"\",KELAS!CY34)","v":""},{"$f":"IF(KELAS!#REF!=\"\",\"\",KELAS!#REF!)","v":{"$error":"#REF!"}},{"$f":"IF(KELAS!#REF!=\"\",\"\",KELAS!#REF!)","v":{"$error":"#REF!"}},{"$f":"IF(KELAS!#REF!=\"\",\"\",KELAS!#REF!)","v":{"$error":"#REF!"}},{"$f":"IF(KELAS!#REF!=\"\",\"\",KELAS!#REF!)","v":{"$error":"#REF!"}},{"$f":"IF(KELAS!#REF!=\"\",\"\",KELAS!#REF!)","v":{"$error":"#REF!"}},{"$f":"IF(KELAS!#REF!=\"\",\"\",KELAS!#REF!)","v":{"$error":"#REF!"}},{"$f":"IF(KELAS!#REF!=\"\",\"\",KELAS!#REF!)","v":{"$error":"#REF!"}},{"$f":"IF(KELAS!#REF!=\"\",\"\",KELAS!#REF!)","v":{"$error":"#REF!"}},{"$f":"IF(KELAS!#REF!=\"\",\"\",KELAS!#REF!)","v":{"$error":"#REF!"}},{"$f":"IF(KELAS!#REF!=\"\",\"\",KELAS!#REF!)","v":{"$error":"#REF!"}},{"$f":"IF(KELAS!#REF!=\"\",\"\",KELAS!#REF!)","v":{"$error":"#REF!"}},{"$f":"IF(KELAS!#REF!=\"\",\"\",KELAS!#REF!)","v":{"$error":"#REF!"}},"","","","","","","","","","","","","","","","","","","","","Peserta didik menunjukan sikap sungguh-sungguh dalam menerapkan sikap santun, jujur dan kerjasama, namun masih perlu ditingkatkan lagi sikap percaya diri dan ketepatan masuk sekolah"]
[{"$f":"IF(KELAS!A35=\"\",\"\",KELAS!A35)","v":33},{"$f":"IF(KELAS!C35=\"\",\"\",PROPER(KELAS!C35))","v":"Wahyu Adi Pamungkas"},{"$f":"IF(KELAS!W35=\"\",\"\",KELAS!W35)","v":""},{"$f":"IF(KELAS!AE35=\"\",\"\",KELAS!AE35)","v":""},{"$f":"IF(KELAS!AN35=\"\",\"\",KELAS!AN35)","v":""},{"$f":"IF(KELAS!AW35=\"\",\"\",KELAS!AW35)","v":""},{"$f":"IF(KELAS!BF35=\"\",\"\",KELAS!BF35)","v":""},{"$f":"IF(KELAS!BO35=\"\",\"\",KELAS!BO35)","v":""},{"$f":"IF(KELAS!BX35=\"\",\"\",KELAS!BX35)","v":""},{"$f":"IF(KELAS!CG35=\"\",\"\",KELAS!CG35)","v":""},{"$f":"IF(KELAS!CP35=\"\",\"\",KELAS!CP35)","v":""},{"$f":"IF(KELAS!CY35=\"\",\"\",KELAS!CY35)","v":""},{"$f":"IF(KELAS!#REF!=\"\",\"\",KELAS!#REF!)","v":{"$error":"#REF!"}},{"$f":"IF(KELAS!#REF!=\"\",\"\",KELAS!#REF!)","v":{"$error":"#REF!"}},{"$f":"IF(KELAS!#REF!=\"\",\"\",KELAS!#REF!)","v":{"$error":"#REF!"}},{"$f":"IF(KELAS!#REF!=\"\",\"\",KELAS!#REF!)","v":{"$error":"#REF!"}},{"$f":"IF(KELAS!#REF!=\"\",\"\",KELAS!#REF!)","v":{"$error":"#REF!"}},{"$f":"IF(KELAS!#REF!=\"\",\"\",KELAS!#REF!)","v":{"$error":"#REF!"}},{"$f":"IF(KELAS!#REF!=\"\",\"\",KELAS!#REF!)","v":{"$error":"#REF!"}},{"$f":"IF(KELAS!#REF!=\"\",\"\",KELAS!#REF!)","v":{"$error":"#REF!"}},{"$f":"IF(KELAS!#REF!=\"\",\"\",KELAS!#REF!)","v":{"$error":"#REF!"}},{"$f":"IF(KELAS!#REF!=\"\",\"\",KELAS!#REF!)","v":{"$error":"#REF!"}},{"$f":"IF(KELAS!#REF!=\"\",\"\",KELAS!#REF!)","v":{"$error":"#REF!"}},{"$f":"IF(KELAS!#REF!=\"\",\"\",KELAS!#REF!)","v":{"$error":"#REF!"}},"","","","","","","","","","","","","","","","","","","","","Peserta didik menunjukan sikap sungguh-sungguh dalam menerapkan sikap santun, jujur dan kerjasama, namun masih perlu ditingkatkan lagi sikap percaya diri dan ketepatan masuk sekolah"]
[{"$f":"IF(KELAS!A36=\"\",\"\",KELAS!A36)","v":34},{"$f":"IF(KELAS!C36=\"\",\"\",PROPER(KELAS!C36))","v":"Yanuar Satrio Legowo"},{"$f":"IF(KELAS!W36=\"\",\"\",KELAS!W36)","v":""},{"$f":"IF(KELAS!AE36=\"\",\"\",KELAS!AE36)","v":""},{"$f":"IF(KELAS!AN36=\"\",\"\",KELAS!AN36)","v":""},{"$f":"IF(KELAS!AW36=\"\",\"\",KELAS!AW36)","v":""},{"$f":"IF(KELAS!BF36=\"\",\"\",KELAS!BF36)","v":""},{"$f":"IF(KELAS!BO36=\"\",\"\",KELAS!BO36)","v":""},{"$f":"IF(KELAS!BX36=\"\",\"\",KELAS!BX36)","v":""},{"$f":"IF(KELAS!CG36=\"\",\"\",KELAS!CG36)","v":""},{"$f":"IF(KELAS!CP36=\"\",\"\",KELAS!CP36)","v":""},{"$f":"IF(KELAS!CY36=\"\",\"\",KELAS!CY36)","v":""},{"$f":"IF(KELAS!#REF!=\"\",\"\",KELAS!#REF!)","v":{"$error":"#REF!"}},{"$f":"IF(KELAS!#REF!=\"\",\"\",KELAS!#REF!)","v":{"$error":"#REF!"}},{"$f":"IF(KELAS!#REF!=\"\",\"\",KELAS!#REF!)","v":{"$error":"#REF!"}},{"$f":"IF(KELAS!#REF!=\"\",\"\",KELAS!#REF!)","v":{"$error":"#REF!"}},{"$f":"IF(KELAS!#REF!=\"\",\"\",KELAS!#REF!)","v":{"$error":"#REF!"}},{"$f":"IF(KELAS!#REF!=\"\",\"\",KELAS!#REF!)","v":{"$error":"#REF!"}},{"$f":"IF(KELAS!#REF!=\"\",\"\",KELAS!#REF!)","v":{"$error":"#REF!"}},{"$f":"IF(KELAS!#REF!=\"\",\"\",KELAS!#REF!)","v":{"$error":"#REF!"}},{"$f":"IF(KELAS!#REF!=\"\",\"\",KELAS!#REF!)","v":{"$error":"#REF!"}},{"$f":"IF(KELAS!#REF!=\"\",\"\",KELAS!#REF!)","v":{"$error":"#REF!"}},{"$f":"IF(KELAS!#REF!=\"\",\"\",KELAS!#REF!)","v":{"$error":"#REF!"}},{"$f":"IF(KELAS!#REF!=\"\",\"\",KELAS!#REF!)","v":{"$error":"#REF!"}},"","","","","","","","","","","","","","","","","","","","","Peserta didik menunjukan sikap sungguh-sungguh dalam menerapkan sikap santun, jujur dan kerjasama, namun masih perlu ditingkatkan lagi sikap percaya diri dan ketepatan masuk sekolah"]
[{"$f":"IF(KELAS!A37=\"\",\"\",KELAS!A37)","v":35},{"$f":"IF(KELAS!C37=\"\",\"\",PROPER(KELAS!C37))","v":"Yoga Prasetya"},{"$f":"IF(KELAS!W37=\"\",\"\",KELAS!W37)","v":""},{"$f":"IF(KELAS!AE37=\"\",\"\",KELAS!AE37)","v":""},{"$f":"IF(KELAS!AN37=\"\",\"\",KELAS!AN37)","v":""},{"$f":"IF(KELAS!AW37=\"\",\"\",KELAS!AW37)","v":""},{"$f":"IF(KELAS!BF37=\"\",\"\",KELAS!BF37)","v":""},{"$f":"IF(KELAS!BO37=\"\",\"\",KELAS!BO37)","v":""},{"$f":"IF(KELAS!BX37=\"\",\"\",KELAS!BX37)","v":""},{"$f":"IF(KELAS!CG37=\"\",\"\",KELAS!CG37)","v":""},{"$f":"IF(KELAS!CP37=\"\",\"\",KELAS!CP37)","v":""},{"$f":"IF(KELAS!CY37=\"\",\"\",KELAS!CY37)","v":""},{"$f":"IF(KELAS!#REF!=\"\",\"\",KELAS!#REF!)","v":{"$error":"#REF!"}},{"$f":"IF(KELAS!#REF!=\"\",\"\",KELAS!#REF!)","v":{"$error":"#REF!"}},{"$f":"IF(KELAS!#REF!=\"\",\"\",KELAS!#REF!)","v":{"$error":"#REF!"}},{"$f":"IF(KELAS!#REF!=\"\",\"\",KELAS!#REF!)","v":{"$error":"#REF!"}},{"$f":"IF(KELAS!#REF!=\"\",\"\",KELAS!#REF!)","v":{"$error":"#REF!"}},{"$f":"IF(KELAS!#REF!=\"\",\"\",KELAS!#REF!)","v":{"$error":"#REF!"}},{"$f":"IF(KELAS!#REF!=\"\",\"\",KELAS!#REF!)","v":{"$error":"#REF!"}},{"$f":"IF(KELAS!#REF!=\"\",\"\",KELAS!#REF!)","v":{"$error":"#REF!"}},{"$f":"IF(KELAS!#REF!=\"\",\"\",KELAS!#REF!)","v":{"$error":"#REF!"}},{"$f":"IF(KELAS!#REF!=\"\",\"\",KELAS!#REF!)","v":{"$error":"#REF!"}},{"$f":"IF(KELAS!#REF!=\"\",\"\",KELAS!#REF!)","v":{"$error":"#REF!"}},{"$f":"IF(KELAS!#REF!=\"\",\"\",KELAS!#REF!)","v":{"$error":"#REF!"}},"","","","","","","","","","","","","","","","","","","","","Peserta didik menunjukan sikap sungguh-sungguh dalam menerapkan sikap santun, jujur dan kerjasama, namun masih perlu ditingkatkan lagi sikap percaya diri dan ketepatan masuk sekolah"]
[{"$f":"IF(KELAS!A38=\"\",\"\",KELAS!A38)","v":36},{"$f":"IF(KELAS!C38=\"\",\"\",PROPER(KELAS!C38))","v":"Yuni Mutiasari"},{"$f":"IF(KELAS!W38=\"\",\"\",KELAS!W38)","v":""},{"$f":"IF(KELAS!AE38=\"\",\"\",KELAS!AE38)","v":""},{"$f":"IF(KELAS!AN38=\"\",\"\",KELAS!AN38)","v":""},{"$f":"IF(KELAS!AW38=\"\",\"\",KELAS!AW38)","v":""},{"$f":"IF(KELAS!BF38=\"\",\"\",KELAS!BF38)","v":""},{"$f":"IF(KELAS!BO38=\"\",\"\",KELAS!BO38)","v":""},{"$f":"IF(KELAS!BX38=\"\",\"\",KELAS!BX38)","v":""},{"$f":"IF(KELAS!CG38=\"\",\"\",KELAS!CG38)","v":""},{"$f":"IF(KELAS!CP38=\"\",\"\",KELAS!CP38)","v":""},{"$f":"IF(KELAS!CY38=\"\",\"\",KELAS!CY38)","v":""},{"$f":"IF(KELAS!#REF!=\"\",\"\",KELAS!#REF!)","v":{"$error":"#REF!"}},{"$f":"IF(KELAS!#REF!=\"\",\"\",KELAS!#REF!)","v":{"$error":"#REF!"}},{"$f":"IF(KELAS!#REF!=\"\",\"\",KELAS!#REF!)","v":{"$error":"#REF!"}},{"$f":"IF(KELAS!#REF!=\"\",\"\",KELAS!#REF!)","v":{"$error":"#REF!"}},{"$f":"IF(KELAS!#REF!=\"\",\"\",KELAS!#REF!)","v":{"$error":"#REF!"}},{"$f":"IF(KELAS!#REF!=\"\",\"\",KELAS!#REF!)","v":{"$error":"#REF!"}},{"$f":"IF(KELAS!#REF!=\"\",\"\",KELAS!#REF!)","v":{"$error":"#REF!"}},{"$f":"IF(KELAS!#REF!=\"\",\"\",KELAS!#REF!)","v":{"$error":"#REF!"}},{"$f":"IF(KELAS!#REF!=\"\",\"\",KELAS!#REF!)","v":{"$error":"#REF!"}},{"$f":"IF(KELAS!#REF!=\"\",\"\",KELAS!#REF!)","v":{"$error":"#REF!"}},{"$f":"IF(KELAS!#REF!=\"\",\"\",KELAS!#REF!)","v":{"$error":"#REF!"}},{"$f":"IF(KELAS!#REF!=\"\",\"\",KELAS!#REF!)","v":{"$error":"#REF!"}},"","","","","","","","","","","","","","","","","","","","","Peserta didik menunjukan sikap sungguh-sungguh dalam menerapkan sikap santun, jujur dan kerjasama, namun masih perlu ditingkatkan lagi sikap percaya diri dan ketepatan masuk sekolah"]
[{"$f":"IF(KELAS!A39=\"\",\"\",KELAS!A39)","v":""},{"$f":"IF(KELAS!C39=\"\",\"\",PROPER(KELAS!C39))","v":""},{"$f":"IF(KELAS!W39=\"\",\"\",KELAS!W39)","v":""},{"$f":"IF(KELAS!AE39=\"\",\"\",KELAS!AE39)","v":""},{"$f":"IF(KELAS!AN39=\"\",\"\",KELAS!AN39)","v":""},{"$f":"IF(KELAS!AW39=\"\",\"\",KELAS!AW39)","v":""},{"$f":"IF(KELAS!BF39=\"\",\"\",KELAS!BF39)","v":""},{"$f":"IF(KELAS!BO39=\"\",\"\",KELAS!BO39)","v":""},{"$f":"IF(KELAS!BX39=\"\",\"\",KELAS!BX39)","v":""},{"$f":"IF(KELAS!CG39=\"\",\"\",KELAS!CG39)","v":""},{"$f":"IF(KELAS!CP39=\"\",\"\",KELAS!CP39)","v":""},{"$f":"IF(KELAS!CY39=\"\",\"\",KELAS!CY39)","v":""},{"$f":"IF(KELAS!#REF!=\"\",\"\",KELAS!#REF!)","v":{"$error":"#REF!"}},{"$f":"IF(KELAS!#REF!=\"\",\"\",KELAS!#REF!)","v":{"$error":"#REF!"}},{"$f":"IF(KELAS!#REF!=\"\",\"\",KELAS!#REF!)","v":{"$error":"#REF!"}},{"$f":"IF(KELAS!#REF!=\"\",\"\",KELAS!#REF!)","v":{"$error":"#REF!"}},{"$f":"IF(KELAS!#REF!=\"\",\"\",KELAS!#REF!)","v":{"$error":"#REF!"}},{"$f":"IF(KELAS!#REF!=\"\",\"\",KELAS!#REF!)","v":{"$error":"#REF!"}},{"$f":"IF(KELAS!#REF!=\"\",\"\",KELAS!#REF!)","v":{"$error":"#REF!"}},{"$f":"IF(KELAS!#REF!=\"\",\"\",KELAS!#REF!)","v":{"$error":"#REF!"}},{"$f":"IF(KELAS!#REF!=\"\",\"\",KELAS!#REF!)","v":{"$error":"#REF!"}},{"$f":"IF(KELAS!#REF!=\"\",\"\",KELAS!#REF!)","v":{"$error":"#REF!"}},{"$f":"IF(KELAS!#REF!=\"\",\"\",KELAS!#REF!)","v":{"$error":"#REF!"}},{"$f":"IF(KELAS!#REF!=\"\",\"\",KELAS!#REF!)","v":{"$error":"#REF!"}},"","","","","","","","","","","","","","","","","","","",""]
[{"$f":"IF(KELAS!A40=\"\",\"\",KELAS!A40)","v":""},{"$f":"IF(KELAS!C40=\"\",\"\",PROPER(KELAS!C40))","v":""},{"$f":"IF(KELAS!W40=\"\",\"\",KELAS!W40)","v":""},{"$f":"IF(KELAS!AE40=\"\",\"\",KELAS!AE40)","v":""},{"$f":"IF(KELAS!AN40=\"\",\"\",KELAS!AN40)","v":""},{"$f":"IF(KELAS!AW40=\"\",\"\",KELAS!AW40)","v":""},{"$f":"IF(KELAS!BF40=\"\",\"\",KELAS!BF40)","v":""},{"$f":"IF(KELAS!BO40=\"\",\"\",KELAS!BO40)","v":""},{"$f":"IF(KELAS!BX40=\"\",\"\",KELAS!BX40)","v":""},{"$f":"IF(KELAS!CG40=\"\",\"\",KELAS!CG40)","v":""},{"$f":"IF(KELAS!CP40=\"\",\"\",KELAS!CP40)","v":""},{"$f":"IF(KELAS!CY40=\"\",\"\",KELAS!CY40)","v":""},{"$f":"IF(KELAS!#REF!=\"\",\"\",KELAS!#REF!)","v":{"$error":"#REF!"}},{"$f":"IF(KELAS!#REF!=\"\",\"\",KELAS!#REF!)","v":{"$error":"#REF!"}},{"$f":"IF(KELAS!#REF!=\"\",\"\",KELAS!#REF!)","v":{"$error":"#REF!"}},{"$f":"IF(KELAS!#REF!=\"\",\"\",KELAS!#REF!)","v":{"$error":"#REF!"}},{"$f":"IF(KELAS!#REF!=\"\",\"\",KELAS!#REF!)","v":{"$error":"#REF!"}},{"$f":"IF(KELAS!#REF!=\"\",\"\",KELAS!#REF!)","v":{"$error":"#REF!"}},{"$f":"IF(KELAS!#REF!=\"\",\"\",KELAS!#REF!)","v":{"$error":"#REF!"}},{"$f":"IF(KELAS!#REF!=\"\",\"\",KELAS!#REF!)","v":{"$error":"#REF!"}},{"$f":"IF(KELAS!#REF!=\"\",\"\",KELAS!#REF!)","v":{"$error":"#REF!"}},{"$f":"IF(KELAS!#REF!=\"\",\"\",KELAS!#REF!)","v":{"$error":"#REF!"}},{"$f":"IF(KELAS!#REF!=\"\",\"\",KELAS!#REF!)","v":{"$error":"#REF!"}},{"$f":"IF(KELAS!#REF!=\"\",\"\",KELAS!#REF!)","v":{"$error":"#REF!"}},"","","","","","","","","","","","","","","","","","","",""]

{"sheet":"KELAS","index":3,"n_rows":40,"n_cols":161,"rows_kept":40,"cut":false,"hidden":false,"merged":[]}
["No.","NIS","Nama_Siswa","JK","Kelas","Agama","NISN","Tempat_Tgl_Lahir","Nama_Ayah","Pekerjaan_Ayah","Nama_Ibu","Pekerjaan_Ibu","Alamat_Rumah","Asal_SMP","Anak_Ke","Status_dalam_Keluarga",{"$f":"KODE!AH$4","v":"Angka_KI-3_PAI_001"},{"$f":"KODE!AI$4","v":"Predikat_KI-3_PAI_001"},{"$f":"KODE!AJ$4","v":"Desk_KI-3_PAI_001"},{"$f":"KODE!AK$4","v":"Angka_KI-4_PAI_001"},{"$f":"KODE!AL$4","v":"Predikat_KI-4_PAI_001"},{"$f":"KODE!AM$4","v":"Desk_KI-4_PAI_001"},{"$f":"KODE!AN$4","v":"Predikat_KI-1-2_PAI_001"},{"$f":"KODE!AO$4","v":"Desk_KI-1-2_PAI_001"},{"$f":"KODE!AH$5","v":"Angka_KI-3_PKn_002"},{"$f":"KODE!AI$5","v":"Predikat_KI-3_PKn_002"},{"$f":"KODE!AJ$5","v":"Desk_KI-3_PKn_002"},{"$f":"KODE!AK$5","v":"Angka_KI-4_PKn_002"},{"$f":"KODE!AL$5","v":"Predikat_KI-4_PKn_002"},{"$f":"KODE!AM$5","v":"Desk_KI-4_PKn_002"},{"$f":"KODE!AN$5","v":"Predikat_KI-1-2_PKn_002"},{"$f":"KODE!AO$5","v":"Desk_KI-1-2_PKn_002"},{"$f":"KODE!AP$5","v":"Guru_PKn_002"},{"$f":"KODE!AH$6","v":"Angka_KI-3_BIN_003"},{"$f":"KODE!AI$6","v":"Predikat_KI-3_BIN_003"},{"$f":"KODE!AJ$6","v":"Desk_KI-3_BIN_003"},{"$f":"KODE!AK$6","v":"Angka_KI-4_BIN_003"},{"$f":"KODE!AL$6","v":"Predikat_KI-4_BIN_003"},{"$f":"KODE!AM$6","v":"Desk_KI-4_BIN_003"},{"$f":"KODE!AN$6","v":"Predikat_KI-1-2_BIN_003"},{"$f":"KODE!AO$6","v":"Desk_KI-1-2_BIN_003"},{"$f":"KODE!AP$6","v":"Guru_BIN_003"},{"$f":"KODE!AH$7","v":"Angka_KI-3_MAT_004"},{"$f":"KODE!AI$7","v":"Predikat_KI-3_MAT_004"},{"$f":"KODE!AJ$7","v":"Desk_KI-3_MAT_004"},{"$f":"KODE!AK$7","v":"Angka_KI-4_MAT_004"},{"$f":"KODE!AL$7","v":"Predikat_KI-4_MAT_004"},{"$f":"KODE!AM$7","v":"Desk_KI-4_MAT_004"},{"$f":"KODE!AN$7","v":"Predikat_KI-1-2_MAT_004"},{"$f":"KODE!AO$7","v":"Desk_KI-1-2_MAT_004"},{"$f":"KODE!AP$7","v":"Guru_MAT_004"},{"$f":"KODE!AH$8","v":"Angka_KI-3_IPA_005"},{"$f":"KODE!AI$8","v":"Predikat_KI-3_IPA_005"},{"$f":"KODE!AJ$8","v":"Desk_KI-3_IPA_005"},{"$f":"KODE!AK$8","v":"Angka_KI-4_IPA_005"},{"$f":"KODE!AL$8","v":"Predikat_KI-4_IPA_005"},{"$f":"KODE!AM$8","v":"Desk_KI-4_IPA_005"},{"$f":"KODE!AN$8","v":"Predikat_KI-1-2_IPA_005"},{"$f":"KODE!AO$8","v":"Desk_KI-1-2_IPA_005"},{"$f":"KODE!AP$8","v":"Guru_IPA_005"},{"$f":"KODE!AH$9","v":"Angka_KI-3_IPS_006"},{"$f":"KODE!AI$9","v":"Predikat_KI-3_IPS_006"},{"$f":"KODE!AJ$9","v":"Desk_KI-3_IPS_006"},{"$f":"KODE!AK$9","v":"Angka_KI-4_IPS_006"},{"$f":"KODE!AL$9","v":"Predikat_KI-4_IPS_006"},{"$f":"KODE!AM$9","v":"Desk_KI-4_IPS_006"},{"$f":"KODE!AN$9","v":"Predikat_KI-1-2_IPS_006"},{"$f":"KODE!AO$9","v":"Desk_KI-1-2_IPS_006"},{"$f":"KODE!AP$9","v":"Guru_IPS_006"},{"$f":"KODE!AH$10","v":"Angka_KI-3_BIG_007"},{"$f":"KODE!AI$10","v":"Predikat_KI-3_BIG_007"},{"$f":"KODE!AJ$10","v":"Desk_KI-3_BIG_007"},{"$f":"KODE!AK$10","v":"Angka_KI-4_BIG_007"},{"$f":"KODE!AL$10","v":"Predikat_KI-4_BIG_007"},{"$f":"KODE!AM$10","v":"Desk_KI-4_BIG_007"},{"$f":"KODE!AN$10","v":"Predikat_KI-1-2_BIG_007"},{"$f":"KODE!AO$10","v":"Desk_KI-1-2_BIG_007"},{"$f":"KODE!AP$10","v":"Guru_BIG_007"},{"$f":"KODE!AH$11","v":"Angka_KI-3_SEN_008"},{"$f":"KODE!AI$11","v":"Predikat_KI-3_SEN_008"},{"$f":"KODE!AJ$11","v":"Desk_KI-3_SEN_008"},{"$f":"KODE!AK$11","v":"Angka_KI-4_SEN_008"},{"$f":"KODE!AL$11","v":"Predikat_KI-4_SEN_008"},{"$f":"KODE!AM$11","v":"Desk_KI-4_SEN_008"},{"$f":"KODE!AN$11","v":"Predikat_KI-1-2_SEN_008"},{"$f":"KODE!AO$11","v":"Desk_KI-1-2_SEN_008"},{"$f":"KODE!AP$11","v":"Guru_SEN_008"},{"$f":"KODE!AH$12","v":"Angka_KI-3_JAS_009"},{"$f":"KODE!AI$12","v":"Predikat_KI-3_JAS_009"},{"$f":"KODE!AJ$12","v":"Desk_KI-3_JAS_009"},{"$f":"KODE!AK$12","v":"Angka_KI-4_JAS_009"},{"$f":"KODE!AL$12","v":"Predikat_KI-4_JAS_009"},{"$f":"KODE!AM$12","v":"Desk_KI-4_JAS_009"},{"$f":"KODE!AN$12","v":"Predikat_KI-1-2_JAS_009"},{"$f":"KODE!AO$12","v":"Desk_KI-1-2_JAS_009"},{"$f":"KODE!AP$12","v":"Guru_JAS_009"},{"$f":"KODE!AH$13","v":"Angka_KI-3_PRA_010"},{"$f":"KODE!AI$13","v":"Predikat_KI-3_PRA_010"},{"$f":"KODE!AJ$13","v":"Desk_KI-3_PRA_010"},{"$f":"KODE!AK$13","v":"Angka_KI-4_PRA_010"},{"$f":"KODE!AL$13","v":"Predikat_KI-4_PRA_010"},{"$f":"KODE!AM$13","v":"Desk_KI-4_PRA_010"},{"$f":"KODE!AN$13","v":"Predikat_KI-1-2_PRA_010"},{"$f":"KODE!AO$13","v":"Desk_KI-1-2_PRA_010"},{"$f":"KODE!AP$13","v":"Guru_PRA_010"},{"$f":"KODE!AH$14","v":"Angka_KI-3_JAW_011"},{"$f":"KODE!AI$14","v":"Predikat_KI-3_JAW_011"},{"$f":"KODE!AJ$14","v":"Desk_KI-3_JAW_011"},{"$f":"KODE!AK$14","v":"Angka_KI-4_JAW_011"},{"$f":"KODE!AL$14","v":"Predikat_KI-4_JAW_011"},{"$f":"KODE!AM$14","v":"Desk_KI-4_JAW_011"},{"$f":"KODE!AN$14","v":"Predikat_KI-1-2_JAW_011"},{"$f":"KODE!AO$14","v":"Desk_KI-1-2_JAW_011"},{"$f":"KODE!AP$14","v":"Guru_JAW_011"},"Sakit","Ijin","Terlambat","Alpa","Ekskul-01","Nilai Eskul-01","Nama_Ekskul-01","Kegiatan_Eskul-01","Ekskul-02","Nilai Ekslu-02","Nama_Ekskul-02","Kegiatan_Eskul-02","Ekskul-03","Nilai Ekslu-03","Nama_Ekskul-03","Kegiatan_Eskul-03","Huruf_Sakit","Huruf_Ijin","Huruf_Terlambat","Huruf_Alpa","Jumlah","Peringkat","Sikap_Antar_Mata_Pelajaran","Wali_Kelas","NBM",{"$f":"KODE!AQ4","v":"KKM_PAI_001"},{"$f":"KODE!$AQ5","v":"KKM_PKn_002"},{"$f":"KODE!$AQ6","v":"KKM_BIN_003"},{"$f":"KODE!$AQ7","v":"KKM_MAT_004"},{"$f":"KODE!$AQ8","v":"KKM_IPA_005"},{"$f":"KODE!$AQ9","v":"KKM_IPS_006"},{"$f":"KODE!$AQ10","v":"KKM_BIG_007"},{"$f":"KODE!$AQ11","v":"KKM_SEN_008"},{"$f":"KODE!$AQ12","v":"KKM_JAS_009"},{"$f":"KODE!$AQ13","v":"KKM_PRA_010"},{"$f":"KODE!$AQ14","v":"KKM_JAW_011"},{"$f":"KODE!$AQ15","v":"KKM_"},{"$f":"KODE!$AQ16","v":"KKM_"},{"$f":"KODE!$AQ17","v":"KKM_"},{"$f":"KODE!$AQ18","v":"KKM_"},{"$f":"KODE!$AQ19","v":"KKM_"},{"$f":"KODE!$AQ20","v":"KKM_"},{"$f":"KODE!$AQ21","v":"KKM_"},{"$f":"KODE!$AQ22","v":"KKM_"},{"$f":"KODE!$AQ23","v":"KKM_"},{"$f":"KODE!$AQ24","v":"KKM_"},{"$f":"KODE!$AQ25","v":"KKM_"}]
[1,{"$f":"A2+1","v":2},{"$f":"B2+1","v":3},4,5,6,7,8,9,10,11,12,13,14,15,16,17,18,19,20,21,22,23,24,25,26,27,28,29,30,31,32,33,34,35,36,37,38,39,40,41,42,43,44,45,46,47,48,49,50,51,52,53,54,55,56,57,58,59,60,61,62,63,64,65,66,{"$f":"BN2+1","v":67},68,69,70,71,72,73,74,75,76,77,78,79,80,81,82,83,84,85,86,87,88,89,90,91,92,93,94,95,96,97,98,99,100,101,102,103,104,105,106,107,108,109,110,111,112,113,114,115,116,117,118,119,120,121,122,123,124,125,126,127,128,129,130,{"$f":"DZ2+1","v":131},132,133,134,135,136,137,138,139,140,141,142,143,144,145,146,147,148,149,150,151,152,153,154,155,156,157,158,159,160,161]
[1,12429,"AHDHIAT PURBO ALAM","L","7.A","Islam",9981514090,"Wonosobo, 03 Oktober 1998","Nurkhabib Afp","Pns","Pudji Sugianti","Ibu Rumah Tangga","Budan RT.05 RW.04, Pecekelan, Sapuran, Wsb","SMPN 2 WONOSOBO",2,"Anak Kandung",null,null,null,null,null,null,null,null,null,null,null,null,null,null,null,null,null,null,null,null,null,null,null,null,null,null,null,null,null,null,null,null,null,null,null,null,null,null,null,null,null,null,null,null,null,null,null,null,null,null,null,null,null,null,null,null,null,null,null,null,null,null,null,null,null,null,null,null,null,null,null,null,null,null,null,null,null,null,null,null,null,null,null,null,null,null,null,null,null,null,null,null,null,null,null,null,null,null,2,3,1,1,5,null,{"$f":"IFERROR(VLOOKUP(DO3,EKSTRAKURIKULER,2,FALSE),\"\")","v":"Fotografi"},{"$f":"IFERROR(VLOOKUP(DO3,EKSTRAKURIKULER,8,FALSE),\"\")","v":""},1,null,{"$f":"IFERROR(VLOOKUP(DS3,EKSTRAKURIKULER,2,FALSE),\"\")","v":"Marching Band"},{"$f":"IFERROR(VLOOKUP(DS3,EKSTRAKURIKULER,8,FALSE),\"\")","v":""},1,null,{"$f":"IFERROR(VLOOKUP(DW3,EKSTRAKURIKULER,2,FALSE),\"\")","v":"Marching Band"},{"$f":"IFERROR(VLOOKUP(DW3,EKSTRAKURIKULER,8,FALSE),\"\")","v":""},{"$f":"IF(DK3=\"\",\"\",CONCATENATE(DK3,\" ( \",Hurufraport(DK3),\")\"))","v":"2 ( dua )"},{"$f":"IF(DL3=\"\",\"\",CONCATENATE(DL3,\" ( \",Hurufraport(DL3),\")\"))","v":"3 ( tiga )"},"1 ( satu )","1 ( satu )",{"$f":"IF(SUM(Q3:DJ3)=0,\"\",SUM(Q3:DJ3))","v":""},{"$f":"IFERROR(RANK(EE3,$EE$3:$EE$40,0),\"\")","v":""},{"$f":"IF('Sikap Antar Mapel'!AS7=\"\",\"\",'Sikap Antar Mapel'!AS7)","v":"Peserta didik menunjukan sikap sungguh-sungguh dalam menerapkan sikap santun, jujur dan kerjasama, namun masih perlu ditingkatkan lagi sikap percaya diri dan ketepatan masuk sekolah"},{"$f":"IFERROR(VLOOKUP($E3,KODEMAPEL,25,FALSE),\"\")","v":"Dhany Suryanto, S.Pd."},{"$f":"IFERROR(VLOOKUP($E3,KODEMAPEL,26,FALSE),\"\")","v":"jika punya NIP isikan di sini"},{"$f":"ROUND(SUM(EZ3:FD3)/6,0)","v":0}]
[{"$f":"IF(C4=\"\",\"\",A3+1)","v":2},12441,"ALIF RAHMAYANTO","L","7.A","Islam",9971517000,"Wonosobo, 17 Januari 1998","Suyanto","Buruh Harian Lepas","Rokhmah","Pedagang","Garung RT.01 RW.03, Wsb","SMPN 1 GARUNG",1,"Anak Kandung",null,null,null,null,null,null,null,null,null,null,null,null,null,null,null,null,null,null,null,null,null,null,null,null,null,null,null,null,null,null,null,null,null,null,null,null,null,null,null,null,null,null,null,null,null,null,null,null,null,null,null,null,null,null,null,null,null,null,null,null,null,null,null,null,null,null,null,null,null,null,null,null,null,null,null,null,null,null,null,null,null,null,null,null,null,null,null,null,null,null,null,null,null,null,null,null,null,null,2,1,3,2,null,null,"","",null,null,"","",null,null,"","",{"$f":"IF(DK4=\"\",\"\",CONCATENATE(DK4,\" ( \",Hurufraport(DK4),\")\"))","v":"2 ( dua )"},{"$f":"IF(DL4=\"\",\"\",CONCATENATE(DL4,\" ( \",Hurufraport(DL4),\")\"))","v":"1 ( satu )"},{"$f":"IF(DM4=\"\",\"\",CONCATENATE(DM4,\" ( \",Hurufraport(DM4),\")\"))","v":"3 ( tiga )"},{"$f":"IF(DN4=\"\",\"\",CONCATENATE(DN4,\" ( \",Hurufraport(DN4),\")\"))","v":"2 ( dua )"},{"$f":"IF(SUM(Q4:DJ4)=0,\"\",SUM(Q4:DJ4))","v":""},{"$f":"IFERROR(RANK(EE4,$EE$3:$EE$40,0),\"\")","v":""},{"$f":"IF('Sikap Antar Mapel'!AS8=\"\",\"\",'Sikap Antar Mapel'!AS8)","v":"Peserta didik menunjukan sikap sungguh-sungguh dalam menerapkan sikap santun, jujur dan kerjasama, namun masih perlu ditingkatkan lagi sikap percaya diri dan ketepatan masuk sekolah"},"Dhany Suryanto, S.Pd.","jika punya NIP isikan di sini",{"$f":"IF($C4=\"\",\"\",$EJ$3)","v":0},{"$f":"IF($C4=\"\",\"\",$EK$3)","v":0},{"$f":"IF($C4=\"\",\"\",$EL$3)","v":0},{"$f":"IF($C4=\"\",\"\",$EM$3)","v":0},{"$f":"IF($C4=\"\",\"\",$EN$3)","v":0},{"$f":"IF($C4=\"\",\"\",$EO$3)","v":0},{"$f":"IF($C4=\"\",\"\",$EP$3)","v":0},{"$f":"IF($C4=\"\",\"\",$EQ$3)","v":0},{"$f":"IF($C4=\"\",\"\",$ER$3)","v":0},{"$f":"IF($C4=\"\",\"\",$ES$3)","v":0},{"$f":"IF($C4=\"\",\"\",$ET$3)","v":0},{"$f":"IF($C4=\"\",\"\",$EU$3)","v":0},{"$f":"IF($C4=\"\",\"\",$EV$3)","v":0},{"$f":"IF($C4=\"\",\"\",$EW$3)","v":0},{"$f":"IF($C4=\"\",\"\",$EX$3)","v":0},{"$f":"IF($C4=\"\",\"\",$EY$3)","v":0},{"$f":"IF($C4=\"\",\"\",$EZ$3)","v":0},{"$f":"IF($C4=\"\",\"\",$FA$3)","v":0},{"$f":"IF($C4=\"\",\"\",$FB$3)","v":0},{"$f":"IF($C4=\"\",\"\",$FC$3)","v":0},{"$f":"IF($C4=\"\",\"\",$FD$3)","v":0},{"$f":"IF($C4=\"\",\"\",$FE$3)","v":0}]
[{"$f":"IF(C5=\"\",\"\",A4+1)","v":3},12442,"ALIF SUTRISNA SAPUTRA","L","7.A","Islam",9981512974,"Wonosobo, 26 Maret 1998","Pujo Suryanto","Karyawan Swasta","Suprihati","Perawat","Bugangan Utara RT.02 RW.04, Kalianget, Wsb","SMP MUHAMMADIYAH 1 WONOSOBO",1,"Anak Kandung",null,null,null,null,null,null,null,null,null,null,null,null,null,null,null,null,null,null,null,null,null,null,null,null,null,null,null,null,null,null,null,null,null,null,null,null,null,null,null,null,null,null,null,null,null,null,null,null,null,null,null,null,null,null,null,null,null,null,null,null,null,null,null,null,null,null,null,null,null,null,null,null,null,null,null,null,null,null,null,null,null,null,null,null,null,null,null,null,null,null,null,null,null,null,null,null,null,null,1,1,1,3,null,null,"","",null,null,"","",null,null,"","",{"$f":"IF(DK5=\"\",\"\",CONCATENATE(DK5,\" ( \",Hurufraport(DK5),\")\"))","v":"1 ( satu )"},"1 ( satu )","1 ( satu )","3 ( tiga )","","",{"$f":"IF('Sikap Antar Mapel'!AS9=\"\",\"\",'Sikap Antar Mapel'!AS9)","v":"Peserta didik menunjukan sikap sungguh-sungguh dalam menerapkan sikap santun, jujur dan kerjasama, namun masih perlu ditingkatkan lagi sikap percaya diri dan ketepatan masuk sekolah"},"Dhany Suryanto, S.Pd.","jika punya NIP isikan di sini",0,0,0,0,0,0,0,0,0,0,0,0,0,0,0,0,0,0,0,0,0,0]
[4,12452,"ANISA DWI SEPTIANI","P","7.A","Islam",9971552318,"Wonosobo, 17 September 1997","Sardiman","Buruh Harian Lepas","Pariyah","Ibu Rumah Tangga","Sambek RT.01 RW.03, Wsb","SMPN 2 SELOMERTO",2,"Anak Kandung",null,null,null,null,null,null,null,null,null,null,null,null,null,null,null,null,null,null,null,null,null,null,null,null,null,null,null,null,null,null,null,null,null,null,null,null,null,null,null,null,null,null,null,null,null,null,null,null,null,null,null,null,null,null,null,null,null,null,null,null,null,null,null,null,null,null,null,null,null,null,null,null,null,null,null,null,null,null,null,null,null,null,null,null,null,null,null,null,null,null,null,null,null,null,null,null,null,null,1,2,1,3,null,null,"","",null,null,"","",null,null,"","",{"$f":"IF(DK6=\"\",\"\",CONCATENATE(DK6,\" ( \",Hurufraport(DK6),\")\"))","v":"1 ( satu )"},"2 ( dua )","1 ( satu )","3 ( tiga )","","",{"$f":"IF('Sikap Antar Mapel'!AS10=\"\",\"\",'Sikap Antar Mapel'!AS10)","v":"Peserta didik menunjukan sikap sungguh-sungguh dalam menerapkan sikap santun, jujur dan kerjasama, namun masih perlu ditingkatkan lagi sikap percaya diri dan ketepatan masuk sekolah"},"Dhany Suryanto, S.Pd.","jika punya NIP isikan di sini",0,0,0,0,0,0,0,0,0,0,0,0,0,0,0,0,0,0,0,0,0,0]
[5,12490,"BONETA SULASMI","P","7.A","Islam",9971552321,"W  Onogiri, 24 Agustus 1997","Basuki","Buruh Harian Lepas","Suminem","Buruh Harian Lepas","Tosarirejo RT.07 RW.06, Jaraksari, Wsb","SMPN 2 SELOMERTO",1,"Anak Kandung",null,null,null,null,null,null,null,null,null,null,null,null,null,null,null,null,null,null,null,null,null,null,null,null,null,null,null,null,null,null,null,null,null,null,null,null,null,null,null,null,null,null,null,null,null,null,null,null,null,null,null,null,null,null,null,null,null,null,null,null,null,null,null,null,null,null,null,null,null,null,null,null,null,null,null,null,null,null,null,null,null,null,null,null,null,null,null,null,null,null,null,null,null,null,null,null,null,null,3,3,3,3,null,null,"","",null,null,"","",null,null,"","",{"$f":"IF(DK7=\"\",\"\",CONCATENATE(DK7,\" ( \",Hurufraport(DK7),\")\"))","v":"3 ( tiga )"},"3 ( tiga )","3 ( tiga )","3 ( tiga )","","",{"$f":"IF('Sikap Antar Mapel'!AS11=\"\",\"\",'Sikap Antar Mapel'!AS11)","v":"Peserta didik menunjukan sikap sungguh-sungguh dalam menerapkan sikap santun, jujur dan kerjasama, namun masih perlu ditingkatkan lagi sikap percaya diri dan ketepatan masuk sekolah"},"Dhany Suryanto, S.Pd.","jika punya NIP isikan di sini",0,0,0,0,0,0,0,0,0,0,0,0,0,0,0,0,0,0,0,0,0,0]
[6,12493,"CHOTIMAH","P","7.A","Islam",9971550756,"Wonosobo, 18 Nopember 1997","Sudarmanto","Wiraswasta","Tunjang Samini","Ibu Rumah Tangga","Kuripan RT.06 RW.01, Watumalang, Wsb","SMPN 1 WATUMALANG",1,"Anak Kandung",null,null,null,null,null,null,null,null,null,null,null,null,null,null,null,null,null,null,null,null,null,null,null,null,null,null,null,null,null,null,null,null,null,null,null,null,null,null,null,null,null,null,null,null,null,null,null,null,null,null,null,null,null,null,null,null,null,null,null,null,null,null,null,null,null,null,null,null,null,null,null,null,null,null,null,null,null,null,null,null,null,null,null,null,null,null,null,null,null,null,null,null,null,null,null,null,null,null,3,1,1,3,null,null,"","",null,null,"","",null,null,"","",{"$f":"IF(DK8=\"\",\"\",CONCATENATE(DK8,\" ( \",Hurufraport(DK8),\")\"))","v":"3 ( tiga )"},"1 ( satu )","1 ( satu )","3 ( tiga )","","",{"$f":"IF('Sikap Antar Mapel'!AS12=\"\",\"\",'Sikap Antar Mapel'!AS12)","v":"Peserta didik menunjukan sikap sungguh-sungguh dalam menerapkan sikap santun, jujur dan kerjasama, namun masih perlu ditingkatkan lagi sikap percaya diri dan ketepatan masuk sekolah"},"Dhany Suryanto, S.Pd.","jika punya NIP isikan di sini",0,0,0,0,0,0,0,0,0,0,0,0,0,0,0,0,0,0,0,0,0,0]
[7,12504,"DESTIN AYU ARIYANI","P","7.A","Islam","-","Wonosobo, 29 Desember 1997","Agus Darsono","Wiraswasta","Rinawati Andriyaning","Ibu Rumah Tangga","Prajuritan Bawah RT.05 RW.10, Wonosobo Timur","SMP MUHAMMADIYAH 1 WONOSOBO",2,"Anak Kandung",null,null,null,null,null,null,null,null,null,null,null,null,null,null,null,null,null,null,null,null,null,null,null,null,null,null,null,null,null,null,null,null,null,null,null,null,null,null,null,null,null,null,null,null,null,null,null,null,null,null,null,null,null,null,null,null,null,null,null,null,null,null,null,null,null,null,null,null,null,null,null,null,null,null,null,null,null,null,null,null,null,null,null,null,null,null,null,null,null,null,null,null,null,null,null,null,null,null,1,2,3,3,null,null,"","",null,null,"","",null,null,"","",{"$f":"IF(DK9=\"\",\"\",CONCATENATE(DK9,\" ( \",Hurufraport(DK9),\")\"))","v":"1 ( satu )"},"2 ( dua )","3 ( tiga )","3 ( tiga )","","",{"$f":"IF('Sikap Antar Mapel'!AS13=\"\",\"\",'Sikap Antar Mapel'!AS13)","v":"Peserta didik menunjukan sikap sungguh-sungguh dalam menerapkan sikap santun, jujur dan kerjasama, namun masih perlu ditingkatkan lagi sikap percaya diri dan ketepatan masuk sekolah"},"Dhany Suryanto, S.Pd.","jika punya NIP isikan di sini",0,0,0,0,0,0,0,0,0,0,0,0,0,0,0,0,0,0,0,0,0,0]
[8,12509,"DHEA RACHMA PUTRI","P","7.A","Islam",9981655483,"Banjarnegara, 12 Januari 1998","Siryono Rachmanto","Wiraswasta","Bawon","Ibu Rumah Tangga","Karangtengah RT.03 RW.02, Batur, Bjr","MTS MUALLIMAAT MUH YOGYAKARTA",1,"Anak Kandung",null,null,null,null,null,null,null,null,null,null,null,null,null,null,null,null,null,null,null,null,null,null,null,null,null,null,null,null,null,null,null,null,null,null,null,null,null,null,null,null,null,null,null,null,null,null,null,null,null,null,null,null,null,null,null,null,null,null,null,null,null,null,null,null,null,null,null,null,null,null,null,null,null,null,null,null,null,null,null,null,null,null,null,null,null,null,null,null,null,null,null,null,null,null,null,null,null,null,1,2,2,3,null,null,"","",null,null,"","",null,null,"","",{"$f":"IF(DK10=\"\",\"\",CONCATENATE(DK10,\" ( \",Hurufraport(DK10),\")\"))","v":"1 ( satu )"},"2 ( dua )","2 ( dua )","3 ( tiga )","","",{"$f":"IF('Sikap Antar Mapel'!AS14=\"\",\"\",'Sikap Antar Mapel'!AS14)","v":"Peserta didik menunjukan sikap sungguh-sungguh dalam menerapkan sikap santun, jujur dan kerjasama, namun masih perlu ditingkatkan lagi sikap percaya diri dan ketepatan masuk sekolah"},"Dhany Suryanto, S.Pd.","jika punya NIP isikan di sini",0,0,0,0,0,0,0,0,0,0,0,0,0,0,0,0,0,0,0,0,0,0]
[9,12545,"FAJAR ILAHI","L","7.A","Islam","-","Wonosobo, 02 Maret 1998","Anto Sujito","Buruh Harian Lepas","Bawon","Ibu Rumah Tangga","Serayu RT.01 RW.02, Besani, Leksono, Wsb","SMP MUHAMMADIYAH 3 LEKSONO",1,"Anak Kandung",null,null,null,null,null,null,null,null,null,null,null,null,null,null,null,null,null,null,null,null,null,null,null,null,null,null,null,null,null,null,null,null,null,null,null,null,null,null,null,null,null,null,null,null,null,null,null,null,null,null,null,null,null,null,null,null,null,null,null,null,null,null,null,null,null,null,null,null,null,null,null,null,null,null,null,null,null,null,null,null,null,null,null,null,null,null,null,null,null,null,null,null,null,null,null,null,null,null,1,1,3,1,null,null,"","",null,null,"","",null,null,"","",{"$f":"IF(DK11=\"\",\"\",CONCATENATE(DK11,\" ( \",Hurufraport(DK11),\")\"))","v":"1 ( satu )"},"1 ( satu )","3 ( tiga )","1 ( satu )","","",{"$f":"IF('Sikap Antar Mapel'!AS15=\"\",\"\",'Sikap Antar Mapel'!AS15)","v":"Peserta didik menunjukan sikap sungguh-sungguh dalam menerapkan sikap santun, jujur dan kerjasama, namun masih perlu ditingkatkan lagi sikap percaya diri dan ketepatan masuk sekolah"},"Dhany Suryanto, S.Pd.","jika punya NIP isikan di sini",0,0,0,0,0,0,0,0,0,0,0,0,0,0,0,0,0,0,0,0,0,0]
[10,12551,"FELITA EMILIA RAHMA","P","7.A","Islam",9981599185,"Wonosobo, 27 Februari 1998","Surono","Perangkat Desa","Maryatun","Wiraswasta","Binangun RT.07 RW.04, Wringinanom, Kertek, Wsb","SMPN 3 KERTEK",2,"Anak Kandung",null,null,null,null,null,null,null,null,null,null,null,null,null,null,null,null,null,null,null,null,null,null,null,null,null,null,null,null,null,null,null,null,null,null,null,null,null,null,null,null,null,null,null,null,null,null,null,null,null,null,null,null,null,null,null,null,null,null,null,null,null,null,null,null,null,null,null,null,null,null,null,null,null,null,null,null,null,null,null,null,null,null,null,null,null,null,null,null,null,null,null,null,null,null,null,null,null,null,1,3,1,1,null,null,"","",null,null,"","",null,null,"","",{"$f":"IF(DK12=\"\",\"\",CONCATENATE(DK12,\" ( \",Hurufraport(DK12),\")\"))","v":"1 ( satu )"},"3 ( tiga )","1 ( satu )","1 ( satu )","","",{"$f":"IF('Sikap Antar Mapel'!AS16=\"\",\"\",'Sikap Antar Mapel'!AS16)","v":"Peserta didik menunjukan sikap sungguh-sungguh dalam menerapkan sikap santun, jujur dan kerjasama, namun masih perlu ditingkatkan lagi sikap percaya diri dan ketepatan masuk sekolah"},"Dhany Suryanto, S.Pd.","jika punya NIP isikan di sini",0,0,0,0,0,0,0,0,0,0,0,0,0,0,0,0,0,0,0,0,0,0]
[11,12554,"FERYANTA PUTRA UTAMA","L","7.A","Islam",9971537272,"Wonosobo, 17 Juni 1997","Sriyanta","Pns","Nur Khasanah","Pns","Krakal Santren RT.03 RW.02, Karangluhur, Kertek, Wsb","SMPN 1 KERTEK",1,"Anak Kandung",null,null,null,null,null,null,null,null,null,null,null,null,null,null,null,null,null,null,null,null,null,null,null,null,null,null,null,null,null,null,null,null,null,null,null,null,null,null,null,null,null,null,null,null,null,null,null,null,null,null,null,null,null,null,null,null,null,null,null,null,null,null,null,null,null,null,null,null,null,null,null,null,null,null,null,null,null,null,null,null,null,null,null,null,null,null,null,null,null,null,null,null,null,null,null,null,null,null,1,3,3,3,null,null,"","",null,null,"","",null,null,"","",{"$f":"IF(DK13=\"\",\"\",CONCATENATE(DK13,\" ( \",Hurufraport(DK13),\")\"))","v":"1 ( satu )"},"3 ( tiga )","3 ( tiga )","3 ( tiga )","","",{"$f":"IF('Sikap Antar Mapel'!AS17=\"\",\"\",'Sikap Antar Mapel'!AS17)","v":"Peserta didik menunjukan sikap sungguh-sungguh dalam menerapkan sikap santun, jujur dan kerjasama, namun masih perlu ditingkatkan lagi sikap percaya diri dan ketepatan masuk sekolah"},"Dhany Suryanto, S.Pd.","jika punya NIP isikan di sini",0,0,0,0,0,0,0,0,0,0,0,0,0,0,0,0,0,0,0,0,0,0]
[12,12556,"FIRDA ADHITYA ULFAH HANIF","P","7.A","Islam",9981511839,"Wonosobo, 18 Januari 1998","Sudarman","Guru","Sri Susmiyati","Guru","Garung RT.01 RW.02, Wsb","SMPN 1 WONOSOBO",3,"Anak Kandung",null,null,null,null,null,null,null,null,null,null,null,null,null,null,null,null,null,null,null,null,null,null,null,null,null,null,null,null,null,null,null,null,null,null,null,null,null,null,null,null,null,null,null,null,null,null,null,null,null,null,null,null,null,null,null,null,null,null,null,null,null,null,null,null,null,null,null,null,null,null,null,null,null,null,null,null,null,null,null,null,null,null,null,null,null,null,null,null,null,null,null,null,null,null,null,null,null,null,2,3,3,2,null,null,"","",null,null,"","",null,null,"","",{"$f":"IF(DK14=\"\",\"\",CONCATENATE(DK14,\" ( \",Hurufraport(DK14),\")\"))","v":"2 ( dua )"},"3 ( tiga )","3 ( tiga )","2 ( dua )","","",{"$f":"IF('Sikap Antar Mapel'!AS18=\"\",\"\",'Sikap Antar Mapel'!AS18)","v":"Peserta didik menunjukan sikap sungguh-sungguh dalam menerapkan sikap santun, jujur dan kerjasama, namun masih perlu ditingkatkan lagi sikap percaya diri dan ketepatan masuk sekolah"},"Dhany Suryanto, S.Pd.","jika punya NIP isikan di sini",0,0,0,0,0,0,0,0,0,0,0,0,0,0,0,0,0,0,0,0,0,0]
[13,12566,"GILANG MAHDIYYAN KURNIADI","L","7.A","Islam","-","Wonosobo, 20 Oktober 1997","Nuryadi","Pns","Tri Windayati","Pns","Jlamprang RT.04 RW.04, Wsb","SMPN 2 SELOMERTO",3,"Anak Kandung",null,null,null,null,null,null,null,null,null,null,null,null,null,null,null,null,null,null,null,null,null,null,null,null,null,null,null,null,null,null,null,null,null,null,null,null,null,null,null,null,null,null,null,null,null,null,null,null,null,null,null,null,null,null,null,null,null,null,null,null,null,null,null,null,null,null,null,null,null,null,null,null,null,null,null,null,null,null,null,null,null,null,null,null,null,null,null,null,null,null,null,null,null,null,null,null,null,null,3,3,2,1,null,null,"","",null,null,"","",null,null,"","",{"$f":"IF(DK15=\"\",\"\",CONCATENATE(DK15,\" ( \",Hurufraport(DK15),\")\"))","v":"3 ( tiga )"},"3 ( tiga )","2 ( dua )","1 ( satu )","","",{"$f":"IF('Sikap Antar Mapel'!AS19=\"\",\"\",'Sikap Antar Mapel'!AS19)","v":"Peserta didik menunjukan sikap sungguh-sungguh dalam menerapkan sikap santun, jujur dan kerjasama, namun masih perlu ditingkatkan lagi sikap percaya diri dan ketepatan masuk sekolah"},"Dhany Suryanto, S.Pd.","jika punya NIP isikan di sini",0,0,0,0,0,0,0,0,0,0,0,0,0,0,0,0,0,0,0,0,0,0]
[14,12569,"GITTA VANIA","P","7.A","Islam",9982865857,"Wonosobo, 18 Februari 1998","Singgih Junipa-Ekodi","Wiraswasta","Samsiyah","Ibu Rumah Tangga","Madulia RT.05 RW.03, Ngadimulyo, Selomerto, Wsb","SMP MUH BOARDING SCHOOL YOGYAKARTA",1,"Anak Kandung",null,null,null,null,null,null,null,null,null,null,null,null,null,null,null,null,null,null,null,null,null,null,null,null,null,null,null,null,null,null,null,null,null,null,null,null,null,null,null,null,null,null,null,null,null,null,null,null,null,null,null,null,null,null,null,null,null,null,null,null,null,null,null,null,null,null,null,null,null,null,null,null,null,null,null,null,null,null,null,null,null,null,null,null,null,null,null,null,null,null,null,null,null,null,null,null,null,null,2,2,1,3,null,null,"","",null,null,"","",null,null,"","",{"$f":"IF(DK16=\"\",\"\",CONCATENATE(DK16,\" ( \",Hurufraport(DK16),\")\"))","v":"2 ( dua )"},"2 ( dua )","1 ( satu )","3 ( tiga )","","",{"$f":"IF('Sikap Antar Mapel'!AS20=\"\",\"\",'Sikap Antar Mapel'!AS20)","v":"Peserta didik menunjukan sikap sungguh-sungguh dalam menerapkan sikap santun, jujur dan kerjasama, namun masih perlu ditingkatkan lagi sikap percaya diri dan ketepatan masuk sekolah"},"Dhany Suryanto, S.Pd.","jika punya NIP isikan di sini",0,0,0,0,0,0,0,0,0,0,0,0,0,0,0,0,0,0,0,0,0,0]
[15,12575,"HARYANI RACHMAWATI","P","7.A","Islam",9971533495,"Wonosobo, 27 Januari 1997","Rochmat","Sopir","Eni Nurfaizah","Ibu Rumah Tangga","Krasak RT.03 RW.04, Mojotengah, Wsb","SMPN 1 MOJOTENGAH",2,"Anak Kandung",null,null,null,null,null,null,null,null,null,null,null,null,null,null,null,null,null,null,null,null,null,null,null,null,null,null,null,null,null,null,null,null,null,null,null,null,null,null,null,null,null,null,null,null,null,null,null,null,null,null,null,null,null,null,null,null,null,null,null,null,null,null,null,null,null,null,null,null,null,null,null,null,null,null,null,null,null,null,null,null,null,null,null,null,null,null,null,null,null,null,null,null,null,null,null,null,null,null,2,3,2,2,null,null,"","",null,null,"","",null,null,"","",{"$f":"IF(DK17=\"\",\"\",CONCATENATE(DK17,\" ( \",Hurufraport(DK17),\")\"))","v":"2 ( dua )"},"3 ( tiga )","2 ( dua )","2 ( dua )","","",{"$f":"IF('Sikap Antar Mapel'!AS21=\"\",\"\",'Sikap Antar Mapel'!AS21)","v":"Peserta didik menunjukan sikap sungguh-sungguh dalam menerapkan sikap santun, jujur dan kerjasama, namun masih perlu ditingkatkan lagi sikap percaya diri dan ketepatan masuk sekolah"},"Dhany Suryanto, S.Pd.","jika punya NIP isikan di sini",0,0,0,0,0,0,0,0,0,0,0,0,0,0,0,0,0,0,0,0,0,0]
[16,12593,"INTAN KUSUMA WARDANI","P","7.A","Islam",9981598734,"Wonosobo, 25 Juli 1998","Isharyanto","Pedagang","Dwi Setyaningsih","Ibu Rumah Tangga","Jl. Lingkar Selatan RT.01 RW.01, Wonolelo, Wsb","SMPN 1 KERTEK",2,"Anak Kandung",null,null,null,null,null,null,null,null,null,null,null,null,null,null,null,null,null,null,null,null,null,null,null,null,null,null,null,null,null,null,null,null,null,null,null,null,null,null,null,null,null,null,null,null,null,null,null,null,null,null,null,null,null,null,null,null,null,null,null,null,null,null,null,null,null,null,null,null,null,null,null,null,null,null,null,null,null,null,null,null,null,null,null,null,null,null,null,null,null,null,null,null,null,null,null,null,null,null,3,3,2,1,null,null,"","",null,null,"","",null,null,"","",{"$f":"IF(DK18=\"\",\"\",CONCATENATE(DK18,\" ( \",Hurufraport(DK18),\")\"))","v":"3 ( tiga )"},"3 ( tiga )","2 ( dua )","1 ( satu )","","",{"$f":"IF('Sikap Antar Mapel'!AS22=\"\",\"\",'Sikap Antar Mapel'!AS22)","v":"Peserta didik menunjukan sikap sungguh-sungguh dalam menerapkan sikap santun, jujur dan kerjasama, namun masih perlu ditingkatkan lagi sikap percaya diri dan ketepatan masuk sekolah"},"Dhany Suryanto, S.Pd.","jika punya NIP isikan di sini",0,0,0,0,0,0,0,0,0,0,0,0,0,0,0,0,0,0,0,0,0,0]
[17,12596,"IRFAN WAHYU RAMADHANI","L","7.A","Islam",9981517917,"Magetan, 08 Januari 1998","Pujo Purwanto","Karyawan Swasta","Enik Indarwati","Ibu Rumah Tangga","Perum Mutiara Persada A.1/2 RT.01 RW.05, Rojoimo, Wsb","SMP MUHAMMADIYAH 1 WONOSOBO",2,"Anak Kandung",null,null,null,null,null,null,null,null,null,null,null,null,null,null,null,null,null,null,null,null,null,null,null,null,null,null,null,null,null,null,null,null,null,null,null,null,null,null,null,null,null,null,null,null,null,null,null,null,null,null,null,null,null,null,null,null,null,null,null,null,null,null,null,null,null,null,null,null,null,null,null,null,null,null,null,null,null,null,null,null,null,null,null,null,null,null,null,null,null,null,null,null,null,null,null,null,null,null,2,2,1,3,null,null,"","",null,null,"","",null,null,"","",{"$f":"IF(DK19=\"\",\"\",CONCATENATE(DK19,\" ( \",Hurufraport(DK19),\")\"))","v":"2 ( dua )"},"2 ( dua )","1 ( satu )","3 ( tiga )","","",{"$f":"IF('Sikap Antar Mapel'!AS23=\"\",\"\",'Sikap Antar Mapel'!AS23)","v":"Peserta didik menunjukan sikap sungguh-sungguh dalam menerapkan sikap santun, jujur dan kerjasama, namun masih perlu ditingkatkan lagi sikap percaya diri dan ketepatan masuk sekolah"},"Dhany Suryanto, S.Pd.","jika punya NIP isikan di sini",0,0,0,0,0,0,0,0,0,0,0,0,0,0,0,0,0,0,0,0,0,0]
[18,12601,"JUM'AT","L","7.A","Islam",9954387684,"Wonosobo, 04 Februari 1995","Ranto","Buruh Harian Lepas","Ngasiem","Buruh Harian Lepas","Pencil RT.20 RW.06, Lamuk, Kalikajar, Wsb","SMPN 3 KALIKAJAR",1,"Anak Kandung",null,null,null,null,null,null,null,null,null,null,null,null,null,null,null,null,null,null,null,null,null,null,null,null,null,null,null,null,null,null,null,null,null,null,null,null,null,null,null,null,null,null,null,null,null,null,null,null,null,null,null,null,null,null,null,null,null,null,null,null,null,null,null,null,null,null,null,null,null,null,null,null,null,null,null,null,null,null,null,null,null,null,null,null,null,null,null,null,null,null,null,null,null,null,null,null,null,null,3,2,2,1,null,null,"","",null,null,"","",null,null,"","",{"$f":"IF(DK20=\"\",\"\",CONCATENATE(DK20,\" ( \",Hurufraport(DK20),\")\"))","v":"3 ( tiga )"},"2 ( dua )","2 ( dua )","1 ( satu )","","",{"$f":"IF('Sikap Antar Mapel'!AS24=\"\",\"\",'Sikap Antar Mapel'!AS24)","v":"Peserta didik menunjukan sikap sungguh-sungguh dalam menerapkan sikap santun, jujur dan kerjasama, namun masih perlu ditingkatkan lagi sikap percaya diri dan ketepatan masuk sekolah"},"Dhany Suryanto, S.Pd.","jika punya NIP isikan di sini",0,0,0,0,0,0,0,0,0,0,0,0,0,0,0,0,0,0,0,0,0,0]
[19,12611,"LESTA YUNINTA","P","7.A","Islam",9971533499,"Wonosobo, 11 Juni 1997","Wardimin","Karyawan Swasta","Sri Lestari","Ibu Rumah Tangga","Stasiun RT.02 RW.04, Wonosobo Barat","SMPN 1 MOJOTENGAH",2,"Anak Kandung",null,null,null,null,null,null,null,null,null,null,null,null,null,null,null,null,null,null,null,null,null,null,null,null,null,null,null,null,null,null,null,null,null,null,null,null,null,null,null,null,null,null,null,null,null,null,null,null,null,null,null,null,null,null,null,null,null,null,null,null,null,null,null,null,null,null,null,null,null,null,null,null,null,null,null,null,null,null,null,null,null,null,null,null,null,null,null,null,null,null,null,null,null,null,null,null,null,null,2,1,2,3,null,null,"","",null,null,"","",null,null,"","",{"$f":"IF(DK21=\"\",\"\",CONCATENATE(DK21,\" ( \",Hurufraport(DK21),\")\"))","v":"2 ( dua )"},"1 ( satu )","2 ( dua )","3 ( tiga )","","",{"$f":"IF('Sikap Antar Mapel'!AS25=\"\",\"\",'Sikap Antar Mapel'!AS25)","v":"Peserta didik menunjukan sikap sungguh-sungguh dalam menerapkan sikap santun, jujur dan kerjasama, namun masih perlu ditingkatkan lagi sikap percaya diri dan ketepatan masuk sekolah"},"Dhany Suryanto, S.Pd.","jika punya NIP isikan di sini",0,0,0,0,0,0,0,0,0,0,0,0,0,0,0,0,0,0,0,0,0,0]
[20,12614,"LINDA NURMAYANTI","P","7.A","Islam",9981517787,"Wonosobo, 07 Maret 1998","Sarwin","Pedagang","Sulastri","Petani","Mekarsari RT.05 RW.13, Kalibeber, Mojotengah, Wsb","SMPN 1 MOJOTENGAH",3,"Anak Kandung",null,null,null,null,null,null,null,null,null,null,null,null,null,null,null,null,null,null,null,null,null,null,null,null,null,null,null,null,null,null,null,null,null,null,null,null,null,null,null,null,null,null,null,null,null,null,null,null,null,null,null,null,null,null,null,null,null,null,null,null,null,null,null,null,null,null,null,null,null,null,null,null,null,null,null,null,null,null,null,null,null,null,null,null,null,null,null,null,null,null,null,null,null,null,null,null,null,null,1,2,2,1,null,null,"","",null,null,"","",null,null,"","",{"$f":"IF(DK22=\"\",\"\",CONCATENATE(DK22,\" ( \",Hurufraport(DK22),\")\"))","v":"1 ( satu )"},"2 ( dua )","2 ( dua )","1 ( satu )","","",{"$f":"IF('Sikap Antar Mapel'!AS26=\"\",\"\",'Sikap Antar Mapel'!AS26)","v":"Peserta didik menunjukan sikap sungguh-sungguh dalam menerapkan sikap santun, jujur dan kerjasama, namun masih perlu ditingkatkan lagi sikap percaya diri dan ketepatan masuk sekolah"},"Dhany Suryanto, S.Pd.","jika punya NIP isikan di sini",0,0,0,0,0,0,0,0,0,0,0,0,0,0,0,0,0,0,0,0,0,0]
[21,12621,"M. HAZBI RACHMAN","L","7.A","Islam",9984134642,"Denpasar, 22 Desember 1997","Himan Andi Rosik","Karyawan Swasta","Tina Subardina","Ibu Rumah Tangga","Campursari RT.04 RW.08, Jaraksari, Wsb","SMP MUHAMMADIYAH 1 WONOSOBO",1,"Anak Kandung",null,null,null,null,null,null,null,null,null,null,null,null,null,null,null,null,null,null,null,null,null,null,null,null,null,null,null,null,null,null,null,null,null,null,null,null,null,null,null,null,null,null,null,null,null,null,null,null,null,null,null,null,null,null,null,null,null,null,null,null,null,null,null,null,null,null,null,null,null,null,null,null,null,null,null,null,null,null,null,null,null,null,null,null,null,null,null,null,null,null,null,null,null,null,null,null,null,null,3,2,3,2,null,null,"","",null,null,"","",null,null,"","",{"$f":"IF(DK23=\"\",\"\",CONCATENATE(DK23,\" ( \",Hurufraport(DK23),\")\"))","v":"3 ( tiga )"},"2 ( dua )","3 ( tiga )","2 ( dua )","","",{"$f":"IF('Sikap Antar Mapel'!AS27=\"\",\"\",'Sikap Antar Mapel'!AS27)","v":"Peserta didik menunjukan sikap sungguh-sungguh dalam menerapkan sikap santun, jujur dan kerjasama, namun masih perlu ditingkatkan lagi sikap percaya diri dan ketepatan masuk sekolah"},"Dhany Suryanto, S.Pd.","jika punya NIP isikan di sini",0,0,0,0,0,0,0,0,0,0,0,0,0,0,0,0,0,0,0,0,0,0]
[22,12622,"MARLINA","P","7.A","Islam",9981598704,"Wonosobo, 19 Maret 1998","Bolot Nurohman","Wiraswasta","Juminah","Ibu Rumah Tangga","Manggis RT.05 RW.01, Leksono, Wsb","SMPN 2 LEKSONO",3,"Anak Kandung",null,null,null,null,null,null,null,null,null,null,null,null,null,null,null,null,null,null,null,null,null,null,null,null,null,null,null,null,null,null,null,null,null,null,null,null,null,null,null,null,null,null,null,null,null,null,null,null,null,null,null,null,null,null,null,null,null,null,null,null,null,null,null,null,null,null,null,null,null,null,null,null,null,null,null,null,null,null,null,null,null,null,null,null,null,null,null,null,null,null,null,null,null,null,null,null,null,null,3,1,3,2,null,null,"","",null,null,"","",null,null,"","",{"$f":"IF(DK24=\"\",\"\",CONCATENATE(DK24,\" ( \",Hurufraport(DK24),\")\"))","v":"3 ( tiga )"},"1 ( satu )","3 ( tiga )","2 ( dua )","","",{"$f":"IF('Sikap Antar Mapel'!AS28=\"\",\"\",'Sikap Antar Mapel'!AS28)","v":"Peserta didik menunjukan sikap sungguh-sungguh dalam menerapkan sikap santun, jujur dan kerjasama, namun masih perlu ditingkatkan lagi sikap percaya diri dan ketepatan masuk sekolah"},"Dhany Suryanto, S.Pd.","jika punya NIP isikan di sini",0,0,0,0,0,0,0,0,0,0,0,0,0,0,0,0,0,0,0,0,0,0]
[23,12627,"MERRIN FARAHIDA","P","7.A","Islam",9971535505,"Wonosobo, 24 Nopember 1997","Suhartono","Wiraswasta","Sarminah","Ibu Rumah Tangga","Sidojoyo RT.02 RW.09, Pagerkukuh, Wsb","SMPN 2 WONOSOBO",1,"Anak Kandung",null,null,null,null,null,null,null,null,null,null,null,null,null,null,null,null,null,null,null,null,null,null,null,null,null,null,null,null,null,null,null,null,null,null,null,null,null,null,null,null,null,null,null,null,null,null,null,null,null,null,null,null,null,null,null,null,null,null,null,null,null,null,null,null,null,null,null,null,null,null,null,null,null,null,null,null,null,null,null,null,null,null,null,null,null,null,null,null,null,null,null,null,null,null,null,null,null,null,2,1,3,2,null,null,"","",null,null,"","",null,null,"","",{"$f":"IF(DK25=\"\",\"\",CONCATENATE(DK25,\" ( \",Hurufraport(DK25),\")\"))","v":"2 ( dua )"},"1 ( satu )","3 ( tiga )","2 ( dua )","","",{"$f":"IF('Sikap Antar Mapel'!AS29=\"\",\"\",'Sikap Antar Mapel'!AS29)","v":"Peserta didik menunjukan sikap sungguh-sungguh dalam menerapkan sikap santun, jujur dan kerjasama, namun masih perlu ditingkatkan lagi sikap percaya diri dan ketepatan masuk sekolah"},"Dhany Suryanto, S.Pd.","jika punya NIP isikan di sini",0,0,0,0,0,0,0,0,0,0,0,0,0,0,0,0,0,0,0,0,0,0]
[24,12630,"MONA EVIRA DIONTY","P","7.A","Islam",9981512998,"Jakarta, 30 September 1998","Budiyono","Pns","Meity Kartika","Ibu Rumah Tangga","Bugangan RT.03 RW.09, Kalianget, Wonosobo","SMPN 2 WONOSOBO",2,"Anak Kandung",null,null,null,null,null,null,null,null,null,null,null,null,null,null,null,null,null,null,null,null,null,null,null,null,null,null,null,null,null,null,null,null,null,null,null,null,null,null,null,null,null,null,null,null,null,null,null,null,null,null,null,null,null,null,null,null,null,null,null,null,null,null,null,null,null,null,null,null,null,null,null,null,null,null,null,null,null,null,null,null,null,null,null,null,null,null,null,null,null,null,null,null,null,null,null,null,null,null,3,3,3,3,null,null,"","",null,null,"","",null,null,"","",{"$f":"IF(DK26=\"\",\"\",CONCATENATE(DK26,\" ( \",Hurufraport(DK26),\")\"))","v":"3 ( tiga )"},"3 ( tiga )","3 ( tiga )","3 ( tiga )","","",{"$f":"IF('Sikap Antar Mapel'!AS30=\"\",\"\",'Sikap Antar Mapel'!AS30)","v":"Peserta didik menunjukan sikap sungguh-sungguh dalam menerapkan sikap santun, jujur dan kerjasama, namun masih perlu ditingkatkan lagi sikap percaya diri dan ketepatan masuk sekolah"},"Dhany Suryanto, S.Pd.","jika punya NIP isikan di sini",0,0,0,0,0,0,0,0,0,0,0,0,0,0,0,0,0,0,0,0,0,0]
[25,12634,"MUHAMAD FATLIHASAN","L","7.A","Islam",9981519164,"Wonosobo, 10 Juli 1998","Ahmad Saefudin","Petani","Chusniyah","Ibu Rumah Tangga","Luwihan RT.01 RW.06, Kembaran, Kalikajar, Wsb","SMPN 3 KALIKAJAR",2,"Anak Kandung",null,null,null,null,null,null,null,null,null,null,null,null,null,null,null,null,null,null,null,null,null,null,null,null,null,null,null,null,null,null,null,null,null,null,null,null,null,null,null,null,null,null,null,null,null,null,null,null,null,null,null,null,null,null,null,null,null,null,null,null,null,null,null,null,null,null,null,null,null,null,null,null,null,null,null,null,null,null,null,null,null,null,null,null,null,null,null,null,null,null,null,null,null,null,null,null,null,null,2,2,1,3,null,null,"","",null,null,"","",null,null,"","",{"$f":"IF(DK27=\"\",\"\",CONCATENATE(DK27,\" ( \",Hurufraport(DK27),\")\"))","v":"2 ( dua )"},"2 ( dua )","1 ( satu )","3 ( tiga )","","",{"$f":"IF('Sikap Antar Mapel'!AS31=\"\",\"\",'Sikap Antar Mapel'!AS31)","v":"Peserta didik menunjukan sikap sungguh-sungguh dalam menerapkan sikap santun, jujur dan kerjasama, namun masih perlu ditingkatkan lagi sikap percaya diri dan ketepatan masuk sekolah"},"Dhany Suryanto, S.Pd.","jika punya NIP isikan di sini",0,0,0,0,0,0,0,0,0,0,0,0,0,0,0,0,0,0,0,0,0,0]
[26,12651,"NOVIASARI","P","7.A","Islam",9980677479,"Wonosobo, 28 Nopember 1998","Untung","Wiraswasta","Bawon","Ibu Rumah Tangga","Patran RT.01 RW.01, Tanjunganom, Kepil, Wsb","MTS ASSALAM",1,"Anak Kandung",null,null,null,null,null,null,null,null,null,null,null,null,null,null,null,null,null,null,null,null,null,null,null,null,null,null,null,null,null,null,null,null,null,null,null,null,null,null,null,null,null,null,null,null,null,null,null,null,null,null,null,null,null,null,null,null,null,null,null,null,null,null,null,null,null,null,null,null,null,null,null,null,null,null,null,null,null,null,null,null,null,null,null,null,null,null,null,null,null,null,null,null,null,null,null,null,null,null,3,3,1,2,null,null,"","",null,null,"","",null,null,"","",{"$f":"IF(DK28=\"\",\"\",CONCATENATE(DK28,\" ( \",Hurufraport(DK28),\")\"))","v":"3 ( tiga )"},"3 ( tiga )","1 ( satu )","2 ( dua )","","",{"$f":"IF('Sikap Antar Mapel'!AS32=\"\",\"\",'Sikap Antar Mapel'!AS32)","v":"Peserta didik menunjukan sikap sungguh-sungguh dalam menerapkan sikap santun, jujur dan kerjasama, namun masih perlu ditingkatkan lagi sikap percaya diri dan ketepatan masuk sekolah"},"Dhany Suryanto, S.Pd.","jika punya NIP isikan di sini",0,0,0,0,0,0,0,0,0,0,0,0,0,0,0,0,0,0,0,0,0,0]
[27,12661,"NURYANI","P","7.A","Islam",9971535043,"Wonosobo, 12 Desember 1997","Djasmadi","Petani","Parti","Ibu Rumah Tangga","Tembelang RT.02 RW.04, Rojoimo, Wsb","SMPN 2 SELOMERTO",2,"Anak Kandung",null,null,null,null,null,null,null,null,null,null,null,null,null,null,null,null,null,null,null,null,null,null,null,null,null,null,null,null,null,null,null,null,null,null,null,null,null,null,null,null,null,null,null,null,null,null,null,null,null,null,null,null,null,null,null,null,null,null,null,null,null,null,null,null,null,null,null,null,null,null,null,null,null,null,null,null,null,null,null,null,null,null,null,null,null,null,null,null,null,null,null,null,null,null,null,null,null,null,2,3,3,2,null,null,"","",null,null,"","",null,null,"","",{"$f":"IF(DK29=\"\",\"\",CONCATENATE(DK29,\" ( \",Hurufraport(DK29),\")\"))","v":"2 ( dua )"},"3 ( tiga )","3 ( tiga )","2 ( dua )","","",{"$f":"IF('Sikap Antar Mapel'!AS33=\"\",\"\",'Sikap Antar Mapel'!AS33)","v":"Peserta didik menunjukan sikap sungguh-sungguh dalam menerapkan sikap santun, jujur dan kerjasama, namun masih perlu ditingkatkan lagi sikap percaya diri dan ketepatan masuk sekolah"},"Dhany Suryanto, S.Pd.","jika punya NIP isikan di sini",0,0,0,0,0,0,0,0,0,0,0,0,0,0,0,0,0,0,0,0,0,0]
[28,12688,"RASYD HARDIANSYAH","L","7.A","Islam",9981511852,"Wonosobo, 20 Juni 1998","Rahardi Widjono","Wiraswasta","Sri Hardiyah","Ibu Rumah Tangga","Jl. Banyu Urip 121 RT.06 RW.15, Longkrang, Wsb","SMPN 1 WONOSOBO",3,"Anak Kandung",null,null,null,null,null,null,null,null,null,null,null,null,null,null,null,null,null,null,null,null,null,null,null,null,null,null,null,null,null,null,null,null,null,null,null,null,null,null,null,null,null,null,null,null,null,null,null,null,null,null,null,null,null,null,null,null,null,null,null,null,null,null,null,null,null,null,null,null,null,null,null,null,null,null,null,null,null,null,null,null,null,null,null,null,null,null,null,null,null,null,null,null,null,null,null,null,null,null,2,3,2,2,null,null,"","",null,null,"","",null,null,"","",{"$f":"IF(DK30=\"\",\"\",CONCATENATE(DK30,\" ( \",Hurufraport(DK30),\")\"))","v":"2 ( dua )"},"3 ( tiga )","2 ( dua )","2 ( dua )","","",{"$f":"IF('Sikap Antar Mapel'!AS34=\"\",\"\",'Sikap Antar Mapel'!AS34)","v":"Peserta didik menunjukan sikap sungguh-sungguh dalam menerapkan sikap santun, jujur dan kerjasama, namun masih perlu ditingkatkan lagi sikap percaya diri dan ketepatan masuk sekolah"},"Dhany Suryanto, S.Pd.","jika punya NIP isikan di sini",0,0,0,0,0,0,0,0,0,0,0,0,0,0,0,0,0,0,0,0,0,0]
[29,12709,"RIZA ABDILLAH CHOIRIL ANWAR","L","7.A","Islam",9981610181,"Wonosobo, 20 Mei 1998","T. Sriyono","Wiraswasta","Napsiyah","Pedagang","Kenjer RT.04 RW.06, Kertek, Wsb","SMPN 1 KALIKAJAR",2,"Anak Kandung",null,null,null,null,null,null,null,null,null,null,null,null,null,null,null,null,null,null,null,null,null,null,null,null,null,null,null,null,null,null,null,null,null,null,null,null,null,null,null,null,null,null,null,null,null,null,null,null,null,null,null,null,null,null,null,null,null,null,null,null,null,null,null,null,null,null,null,null,null,null,null,null,null,null,null,null,null,null,null,null,null,null,null,null,null,null,null,null,null,null,null,null,null,null,null,null,null,null,3,3,2,2,null,null,"","",null,null,"","",null,null,"","",{"$f":"IF(DK31=\"\",\"\",CONCATENATE(DK31,\" ( \",Hurufraport(DK31),\")\"))","v":"3 ( tiga )"},"3 ( tiga )","2 ( dua )","2 ( dua )","","",{"$f":"IF('Sikap Antar Mapel'!AS35=\"\",\"\",'Sikap Antar Mapel'!AS35)","v":"Peserta didik menunjukan sikap sungguh-sungguh dalam menerapkan sikap santun, jujur dan kerjasama, namun masih perlu ditingkatkan lagi sikap percaya diri dan ketepatan masuk sekolah"},"Dhany Suryanto, S.Pd.","jika punya NIP isikan di sini",0,0,0,0,0,0,0,0,0,0,0,0,0,0,0,0,0,0,0,0,0,0]
[30,12732,"SLAMET TRIYAN PAMUNGKAS","L","7.A","Islam","-","Wonosobo, 15 Juni 1998","Slamet Muhamad Ahmali","Pedagang","Fatonah","Pedagang","Mlipak RT.02 RW.02, Wsb","SMPN 2 SELOMERTO",1,"Anak Kandung",null,null,null,null,null,null,null,null,null,null,null,null,null,null,null,null,null,null,null,null,null,null,null,null,null,null,null,null,null,null,null,null,null,null,null,null,null,null,null,null,null,null,null,null,null,null,null,null,null,null,null,null,null,null,null,null,null,null,null,null,null,null,null,null,null,null,null,null,null,null,null,null,null,null,null,null,null,null,null,null,null,null,null,null,null,null,null,null,null,null,null,null,null,null,null,null,null,null,3,3,2,2,null,null,"","",null,null,"","",null,null,"","",{"$f":"IF(DK32=\"\",\"\",CONCATENATE(DK32,\" ( \",Hurufraport(DK32),\")\"))","v":"3 ( tiga )"},"3 ( tiga )","2 ( dua )","2 ( dua )","","",{"$f":"IF('Sikap Antar Mapel'!AS36=\"\",\"\",'Sikap Antar Mapel'!AS36)","v":"Peserta didik menunjukan sikap sungguh-sungguh dalam menerapkan sikap santun, jujur dan kerjasama, namun masih perlu ditingkatkan lagi sikap percaya diri dan ketepatan masuk sekolah"},"Dhany Suryanto, S.Pd.","jika punya NIP isikan di sini",0,0,0,0,0,0,0,0,0,0,0,0,0,0,0,0,0,0,0,0,0,0]
[31,12739,"SULTONI","L","7.A","Islam",9980679323,"Wonosobo, 19 Maret 1998","Ahmad Kardi","Karyawan Swasta","Suprihati","Ibu Rumah Tangga","Tedunan RT.20 RW.04, Pucungkerep, Kaliwiro, Wsb","SMPN 5 KALIWIRO",2,"Anak Kandung",null,null,null,null,null,null,null,null,null,null,null,null,null,null,null,null,null,null,null,null,null,null,null,null,null,null,null,null,null,null,null,null,null,null,null,null,null,null,null,null,null,null,null,null,null,null,null,null,null,null,null,null,null,null,null,null,null,null,null,null,null,null,null,null,null,null,null,null,null,null,null,null,null,null,null,null,null,null,null,null,null,null,null,null,null,null,null,null,null,null,null,null,null,null,null,null,null,null,2,1,2,1,null,null,"","",null,null,"","",null,null,"","",{"$f":"IF(DK33=\"\",\"\",CONCATENATE(DK33,\" ( \",Hurufraport(DK33),\")\"))","v":"2 ( dua )"},"1 ( satu )","2 ( dua )","1 ( satu )","","",{"$f":"IF('Sikap Antar Mapel'!AS37=\"\",\"\",'Sikap Antar Mapel'!AS37)","v":"Peserta didik menunjukan sikap sungguh-sungguh dalam menerapkan sikap santun, jujur dan kerjasama, namun masih perlu ditingkatkan lagi sikap percaya diri dan ketepatan masuk sekolah"},"Dhany Suryanto, S.Pd.","jika punya NIP isikan di sini",0,0,0,0,0,0,0,0,0,0,0,0,0,0,0,0,0,0,0,0,0,0]
[32,12758,"VICO AFDIANSYAH","L","7.A","Islam",9971533148,"Wonosobo, 09 Juni 1998","Windarto","Wiraswasta","Siti Romelah","Ibu Rumah Tangga","Mlipak RT.04 RW.01, Wsb","SMPN 2 WONOSOBO",1,"Anak Kandung",null,null,null,null,null,null,null,null,null,null,null,null,null,null,null,null,null,null,null,null,null,null,null,null,null,null,null,null,null,null,null,null,null,null,null,null,null,null,null,null,null,null,null,null,null,null,null,null,null,null,null,null,null,null,null,null,null,null,null,null,null,null,null,null,null,null,null,null,null,null,null,null,null,null,null,null,null,null,null,null,null,null,null,null,null,null,null,null,null,null,null,null,null,null,null,null,null,null,1,2,2,2,null,null,"","",null,null,"","",null,null,"","",{"$f":"IF(DK34=\"\",\"\",CONCATENATE(DK34,\" ( \",Hurufraport(DK34),\")\"))","v":"1 ( satu )"},"2 ( dua )","2 ( dua )","2 ( dua )","","",{"$f":"IF('Sikap Antar Mapel'!AS38=\"\",\"\",'Sikap Antar Mapel'!AS38)","v":"Peserta didik menunjukan sikap sungguh-sungguh dalam menerapkan sikap santun, jujur dan kerjasama, namun masih perlu ditingkatkan lagi sikap percaya diri dan ketepatan masuk sekolah"},"Dhany Suryanto, S.Pd.","jika punya NIP isikan di sini",0,0,0,0,0,0,0,0,0,0,0,0,0,0,0,0,0,0,0,0,0,0]
[33,12764,"WAHYU ADI PAMUNGKAS","L","7.A","Islam","-","Wonosobo, 18 April 1998","Darmaji","Tukang Kayu","Nurkhasanah","Ibu Rumah Tangga","Kp. Tengah RT.01 RW.03, Leksono, Wsb","SMP MUHAMMADIYAH 1 WONOSOBO",2,"Anak Kandung",null,null,null,null,null,null,null,null,null,null,null,null,null,null,null,null,null,null,null,null,null,null,null,null,null,null,null,null,null,null,null,null,null,null,null,null,null,null,null,null,null,null,null,null,null,null,null,null,null,null,null,null,null,null,null,null,null,null,null,null,null,null,null,null,null,null,null,null,null,null,null,null,null,null,null,null,null,null,null,null,null,null,null,null,null,null,null,null,null,null,null,null,null,null,null,null,null,null,2,2,2,2,null,null,"","",null,null,"","",null,null,"","",{"$f":"IF(DK35=\"\",\"\",CONCATENATE(DK35,\" ( \",Hurufraport(DK35),\")\"))","v":"2 ( dua )"},"2 ( dua )","2 ( dua )","2 ( dua )","","",{"$f":"IF('Sikap Antar Mapel'!AS39=\"\",\"\",'Sikap Antar Mapel'!AS39)","v":"Peserta didik menunjukan sikap sungguh-sungguh dalam menerapkan sikap santun, jujur dan kerjasama, namun masih perlu ditingkatkan lagi sikap percaya diri dan ketepatan masuk sekolah"},"Dhany Suryanto, S.Pd.","jika punya NIP isikan di sini",0,0,0,0,0,0,0,0,0,0,0,0,0,0,0,0,0,0,0,0,0,0]
[34,12776,"YANUAR SATRIO LEGOWO","L","7.A","Islam",9980695831,"Wonosobo, 21 Januari 1999","Sukirman (Alm)","Lain-Lain","Endang Amartiwi","Guru","Kemiriombo RT.24 RW.02, Kaliwiro, Wsb","SMPN 1 KALIWIRO",3,"Anak Kandung",null,null,null,null,null,null,null,null,null,null,null,null,null,null,null,null,null,null,null,null,null,null,null,null,null,null,null,null,null,null,null,null,null,null,null,null,null,null,null,null,null,null,null,null,null,null,null,null,null,null,null,null,null,null,null,null,null,null,null,null,null,null,null,null,null,null,null,null,null,null,null,null,null,null,null,null,null,null,null,null,null,null,null,null,null,null,null,null,null,null,null,null,null,null,null,null,null,null,1,2,2,1,null,null,"","",null,null,"","",null,null,"","",{"$f":"IF(DK36=\"\",\"\",CONCATENATE(DK36,\" ( \",Hurufraport(DK36),\")\"))","v":"1 ( satu )"},"2 ( dua )","2 ( dua )","1 ( satu )","","",{"$f":"IF('Sikap Antar Mapel'!AS40=\"\",\"\",'Sikap Antar Mapel'!AS40)","v":"Peserta didik menunjukan sikap sungguh-sungguh dalam menerapkan sikap santun, jujur dan kerjasama, namun masih perlu ditingkatkan lagi sikap percaya diri dan ketepatan masuk sekolah"},"Dhany Suryanto, S.Pd.","jika punya NIP isikan di sini",0,0,0,0,0,0,0,0,0,0,0,0,0,0,0,0,0,0,0,0,0,0]
[35,12779,"YOGA PRASETYA","L","7.A","Islam","-","Wonosobo, 19 Maret 1997","Sanyoto","Pns","Rahayu","Guru","Gendol RT.04 RW.09, Pacarmulyo, Leksono, Wsb","SMP MUHAMMADIYAH 1 WONOSOBO",2,"Anak Kandung",null,null,null,null,null,null,null,null,null,null,null,null,null,null,null,null,null,null,null,null,null,null,null,null,null,null,null,null,null,null,null,null,null,null,null,null,null,null,null,null,null,null,null,null,null,null,null,null,null,null,null,null,null,null,null,null,null,null,null,null,null,null,null,null,null,null,null,null,null,null,null,null,null,null,null,null,null,null,null,null,null,null,null,null,null,null,null,null,null,null,null,null,null,null,null,null,null,null,1,1,1,2,null,null,"","",null,null,"","",null,null,"","",{"$f":"IF(DK37=\"\",\"\",CONCATENATE(DK37,\" ( \",Hurufraport(DK37),\")\"))","v":"1 ( satu )"},"1 ( satu )","1 ( satu )","2 ( dua )","","",{"$f":"IF('Sikap Antar Mapel'!AS41=\"\",\"\",'Sikap Antar Mapel'!AS41)","v":"Peserta didik menunjukan sikap sungguh-sungguh dalam menerapkan sikap santun, jujur dan kerjasama, namun masih perlu ditingkatkan lagi sikap percaya diri dan ketepatan masuk sekolah"},"Dhany Suryanto, S.Pd.","jika punya NIP isikan di sini",0,0,0,0,0,0,0,0,0,0,0,0,0,0,0,0,0,0,0,0,0,0]
[36,12787,"YUNI MUTIASARI","P","7.A","Islam",9981513017,"Wonosobo, 22 Juni 1998","Nur Haryadi","Pedagang","Dwi Suryanti","Ibu Rumah Tangga","Sendangsari RT.01 RW.08, Garung, Wsb","SMPN 2 WONOSOBO",1,"Anak Kandung",null,null,null,null,null,null,null,null,null,null,null,null,null,null,null,null,null,null,null,null,null,null,null,null,null,null,null,null,null,null,null,null,null,null,null,null,null,null,null,null,null,null,null,null,null,null,null,null,null,null,null,null,null,null,null,null,null,null,null,null,null,null,null,null,null,null,null,null,null,null,null,null,null,null,null,null,null,null,null,null,null,null,null,null,null,null,null,null,null,null,null,null,null,null,null,null,null,null,1,1,3,3,null,null,"","",null,null,"","",null,null,"","",{"$f":"IF(DK38=\"\",\"\",CONCATENATE(DK38,\" ( \",Hurufraport(DK38),\")\"))","v":"1 ( satu )"},"1 ( satu )","3 ( tiga )","3 ( tiga )","","",{"$f":"IF('Sikap Antar Mapel'!AS42=\"\",\"\",'Sikap Antar Mapel'!AS42)","v":"Peserta didik menunjukan sikap sungguh-sungguh dalam menerapkan sikap santun, jujur dan kerjasama, namun masih perlu ditingkatkan lagi sikap percaya diri dan ketepatan masuk sekolah"},"Dhany Suryanto, S.Pd.","jika punya NIP isikan di sini",0,0,0,0,0,0,0,0,0,0,0,0,0,0,0,0,0,0,0,0,0,0]
["",null,null,null,null,null,null,null,null,null,null,null,null,null,null,null,null,null,null,null,null,null,null,null,null,null,null,null,null,null,null,null,null,null,null,null,null,null,null,null,null,null,null,null,null,null,null,null,null,null,null,null,null,null,null,null,null,null,null,null,null,null,null,null,null,null,null,null,null,null,null,null,null,null,null,null,null,null,null,null,null,null,null,null,null,null,null,null,null,null,null,null,null,null,null,null,null,null,null,null,null,null,null,null,null,null,null,null,null,null,null,null,null,null,null,null,null,null,null,null,"","",null,null,"","",null,null,"","",{"$f":"IF(DK39=\"\",\"\",CONCATENATE(DK39,\" ( \",Hurufraport(DK39),\")\"))","v":""},"","","","","",{"$f":"IF('Sikap Antar Mapel'!AS43=\"\",\"\",'Sikap Antar Mapel'!AS43)","v":""},"","","","","","","","","","","","","","","","","","","","","","","",""]
["",null,null,null,null,null,null,null,null,null,null,null,null,null,null,null,null,null,null,null,null,null,null,null,null,null,null,null,null,null,null,null,null,null,null,null,null,null,null,null,null,null,null,null,null,null,null,null,null,null,null,null,null,null,null,null,null,null,null,null,null,null,null,null,null,null,null,null,null,null,null,null,null,null,null,null,null,null,null,null,null,null,null,null,null,null,null,null,null,null,null,null,null,null,null,null,null,null,null,null,null,null,null,null,null,null,null,null,null,null,null,null,null,null,null,null,null,null,null,null,"","",null,null,"","",null,null,"","",{"$f":"IF(DK40=\"\",\"\",CONCATENATE(DK40,\" ( \",Hurufraport(DK40),\")\"))","v":""},"","","","","",{"$f":"IF('Sikap Antar Mapel'!AS44=\"\",\"\",'Sikap Antar Mapel'!AS44)","v":""},"","","","","","","","","","","","","","","","","","","","","","","",""]

{"sheet":"KODE","index":4,"n_rows":32,"n_cols":51,"rows_kept":32,"cut":false,"hidden":false,"merged":[[1,1,2,1],[1,3,1,9],[1,10,1,13],[1,2,2,2],[2,29,2,30],[1,14,1,17],[1,18,1,19],[1,20,1,25],[1,44,2,44],[1,45,2,45],[1,26,2,26],[1,46,2,46],[1,27,2,27],[1,36,1,38],[1,39,1,40],[1,33,1,35]]}
[null,null,1,{"$f":"C1+1","v":2},{"$f":"D1+1","v":3},4,5,6,7,8,9,10,11,12,13,14,15,16,17,18,19,20,21,22,23,24,25,26]
[null,"Kode Kelas","Kelas","KELOMPOK A\n(WAJIB)",null,null,null,null,null,null,"KELOMPOK B\n(WAJIB)",null,null,null,"KELOMPOK C\n(PEMINATAN)",null,null,null,"Kel. D\n(Lintas Minat)",null,"CIRI KHUSUS",null,null,null,null,null,"Wali Kelas","NBM atau NIP",null,"Kelas",":",{"$f":"KELAS!E3","v":"7.A"},null,"PENGETAHUAN",null,null,"KETRAMPILAN",null,null,"SIKAP",null,null,null,null,"Kode\nMapel","Nama Mata Pelajaran","Singkatan\nMapel",null,"Kode","Nama Ekstra Kurikuler","Kegiatan yang telah dilakukan"]
[null,null,null,1,2,3,4,5,6,7,8,9,10,11,12,13,14,15,16,17,18,19,20,21,22,23,"Nama Wali","Nama Wali",null,"Kelompok",null,"Nama Mata Pelajaran",null,"Angka_KI-3_","Predikat_KI-3_","Desk_KI-3_","Angka_KI-4_","Predikat_KI-4_","Desk_KI-4_","Predikat_KI-1-2_","Desk_KI-1-2_","Guru_","KKM_",null,null,null,null,null,1,2,8]
[null,701,"7.A","001","002","003","004","005","006","007","008","009","010","011",null,null,null,null,null,null,null,null,null,null,null,null,"Dhany Suryanto, S.Pd.","jika punya NIP isikan di sini",null,"Kelompok A","1.",{"$f":"IFERROR(VLOOKUP(VLOOKUP(KODEKELAS,KODEMAPEL,2,FALSE),KODEMAPEL2,2,FALSE),\"Kelas Belum Diisi\")","v":"Pendidikan Agama dan Budi Pekerti"},{"$f":"IFERROR(VLOOKUP(VLOOKUP(KODEKELAS,KODEMAPEL,2,FALSE),KODEMAPEL2,3,FALSE)&\"_\"&VLOOKUP(KODEKELAS,KODEMAPEL,2,FALSE),\"\")","v":"PAI_001"},{"$f":"CONCATENATE($AH$3,$AG4)","v":"Angka_KI-3_PAI_001"},{"$f":"CONCATENATE($AI$3,$AG4)","v":"Predikat_KI-3_PAI_001"},{"$f":"CONCATENATE($AJ$3,$AG4)","v":"Desk_KI-3_PAI_001"},{"$f":"CONCATENATE($AK$3,$AG4)","v":"Angka_KI-4_PAI_001"},{"$f":"CONCATENATE($AL$3,$AG4)","v":"Predikat_KI-4_PAI_001"},{"$f":"CONCATENATE($AM$3,$AG4)","v":"Desk_KI-4_PAI_001"},{"$f":"CONCATENATE($AN$3,$AG4)","v":"Predikat_KI-1-2_PAI_001"},{"$f":"CONCATENATE($AO$3,$AG4)","v":"Desk_KI-1-2_PAI_001"},{"$f":"CONCATENATE($AP$3,$AG4)","v":"Guru_PAI_001"},{"$f":"CONCATENATE($AQ$3,$AG4)","v":"KKM_PAI_001"},null,"001","Pendidikan Agama dan Budi Pekerti","PAI",null,1,"Marching Band","Sangat Baik dalam Mengisi acara di alun-alun dalam rangka HUT RI dan HUT Kabupaten Wonosobo"]
[null,702,"7.B","001","002","003","004","005","006","007","008","009","010","011",null,null,null,null,null,null,null,null,null,null,null,null,"Nur Khadijah, S.Ag.","jika punya NIP isikan di sini",null,"Kelompok A","2.",{"$f":"IFERROR(VLOOKUP(VLOOKUP(KODEKELAS,KODEMAPEL,3,FALSE),KODEMAPEL2,2,FALSE),\"Kelas Belum Diisi\")","v":"Pendidikan Pancasila dan Kewarganegaraan"},{"$f":"IFERROR(VLOOKUP(VLOOKUP(KODEKELAS,KODEMAPEL,3,FALSE),KODEMAPEL2,3,FALSE)&\"_\"&VLOOKUP(KODEKELAS,KODEMAPEL,3,FALSE),\"\")","v":"PKn_002"},{"$f":"CONCATENATE($AH$3,$AG5)","v":"Angka_KI-3_PKn_002"},{"$f":"CONCATENATE($AI$3,$AG5)","v":"Predikat_KI-3_PKn_002"},{"$f":"CONCATENATE($AJ$3,$AG5)","v":"Desk_KI-3_PKn_002"},{"$f":"CONCATENATE($AK$3,$AG5)","v":"Angka_KI-4_PKn_002"},{"$f":"CONCATENATE($AL$3,$AG5)","v":"Predikat_KI-4_PKn_002"},{"$f":"CONCATENATE($AM$3,$AG5)","v":"Desk_KI-4_PKn_002"},{"$f":"CONCATENATE($AN$3,$AG5)","v":"Predikat_KI-1-2_PKn_002"},{"$f":"CONCATENATE($AO$3,$AG5)","v":"Desk_KI-1-2_PKn_002"},{"$f":"CONCATENATE($AP$3,$AG5)","v":"Guru_PKn_002"},{"$f":"CONCATENATE($AQ$3,$AG5)","v":"KKM_PKn_002"},null,"002","Pendidikan Pancasila dan Kewarganegaraan","PKn",null,2,"Marching Band","Baik, …………………."]
[null,703,"7.C","001","002","003","004","005","006","007","008","009","010","011",null,null,null,null,null,null,null,null,null,null,null,null,"Stefindityaningrum Gita Nurani, S.Pd.","jika punya NIP isikan di sini",null,"Kelompok A","3.",{"$f":"IFERROR(VLOOKUP(VLOOKUP(KODEKELAS,KODEMAPEL,4,FALSE),KODEMAPEL2,2,FALSE),\"Kelas Belum Diisi\")","v":"Bahasa Indonesia"},{"$f":"IFERROR(VLOOKUP(VLOOKUP(KODEKELAS,KODEMAPEL,4,FALSE),KODEMAPEL2,3,FALSE)&\"_\"&VLOOKUP(KODEKELAS,KODEMAPEL,4,FALSE),\"\")","v":"BIN_003"},"Angka_KI-3_BIN_003","Predikat_KI-3_BIN_003","Desk_KI-3_BIN_003","Angka_KI-4_BIN_003","Predikat_KI-4_BIN_003","Desk_KI-4_BIN_003","Predikat_KI-1-2_BIN_003","Desk_KI-1-2_BIN_003","Guru_BIN_003","KKM_BIN_003",null,"003","Bahasa Indonesia","BIN",null,3,"Pecinta Alam (PASMA)"]
[null,704,"7.D","001","002","003","004","005","006","007","008","009","010","011",null,null,null,null,null,null,null,null,null,null,null,null,"Haning Cahya Sayekti, S.Si","jika punya NIP isikan di sini",null,"Kelompok A","4.",{"$f":"IFERROR(VLOOKUP(VLOOKUP(KODEKELAS,KODEMAPEL,5,FALSE),KODEMAPEL2,2,FALSE),\"Kelas Belum Diisi\")","v":"Matematika"},{"$f":"IFERROR(VLOOKUP(VLOOKUP(KODEKELAS,KODEMAPEL,5,FALSE),KODEMAPEL2,3,FALSE)&\"_\"&VLOOKUP(KODEKELAS,KODEMAPEL,5,FALSE),\"\")","v":"MAT_004"},"Angka_KI-3_MAT_004","Predikat_KI-3_MAT_004","Desk_KI-3_MAT_004","Angka_KI-4_MAT_004","Predikat_KI-4_MAT_004","Desk_KI-4_MAT_004","Predikat_KI-1-2_MAT_004","Desk_KI-1-2_MAT_004","Guru_MAT_004","KKM_MAT_004",null,"004","Matematika","MAT",null,4,"Pecinta Alam (PASMA)"]
[null,705,"7.E","001","002","003","004","005","006","007","008","009","010","011",null,null,null,null,null,null,null,null,null,null,null,null,"Dika Rizki Permana, S.Pd.","jika punya NIP isikan di sini",null,"Kelompok A","5.",{"$f":"IFERROR(VLOOKUP(VLOOKUP(KODEKELAS,KODEMAPEL,6,FALSE),KODEMAPEL2,2,FALSE),\"Kelas Belum Diisi\")","v":"Ilmu Pengetahuan Alam"},{"$f":"IFERROR(VLOOKUP(VLOOKUP(KODEKELAS,KODEMAPEL,6,FALSE),KODEMAPEL2,3,FALSE)&\"_\"&VLOOKUP(KODEKELAS,KODEMAPEL,6,FALSE),\"\")","v":"IPA_005"},"Angka_KI-3_IPA_005","Predikat_KI-3_IPA_005","Desk_KI-3_IPA_005","Angka_KI-4_IPA_005","Predikat_KI-4_IPA_005","Desk_KI-4_IPA_005","Predikat_KI-1-2_IPA_005","Desk_KI-1-2_IPA_005","Guru_IPA_005","KKM_IPA_005",null,"005","Ilmu Pengetahuan Alam","IPA",null,5,"Fotografi","Sangat Baik Pengenalan alat fotodigital, mengikuti lomba fotografi, melakukan hunting di desa wisata Janti, dan hunting di Sikunir"]
[null,706,"7.F","001","002","003","004","005","006","007","008","009","010","011",null,null,null,null,null,null,null,null,null,null,null,null,"Mochamad Alman Hasan","jika punya NIP isikan di sini",null,"Kelompok A","6.",{"$f":"IFERROR(VLOOKUP(VLOOKUP(KODEKELAS,KODEMAPEL,7,FALSE),KODEMAPEL2,2,FALSE),\"Kelas Belum Diisi\")","v":"Ilmu Pengetahuan Sosial"},{"$f":"IFERROR(VLOOKUP(VLOOKUP(KODEKELAS,KODEMAPEL,7,FALSE),KODEMAPEL2,3,FALSE)&\"_\"&VLOOKUP(KODEKELAS,KODEMAPEL,7,FALSE),\"\")","v":"IPS_006"},"Angka_KI-3_IPS_006","Predikat_KI-3_IPS_006","Desk_KI-3_IPS_006","Angka_KI-4_IPS_006","Predikat_KI-4_IPS_006","Desk_KI-4_IPS_006","Predikat_KI-1-2_IPS_006","Desk_KI-1-2_IPS_006","Guru_IPS_006","KKM_IPS_006",null,"006","Ilmu Pengetahuan Sosial","IPS",null,6,"Fotografi","Baik, …………………."]
[null,707,"7.G","001","002","003","004","005","006","007","008","009","010","011",null,null,null,null,null,null,null,null,null,null,null,null,"Pitoyo Adhitomo, S.IP.","jika punya NIP isikan di sini",null,"Kelompok A","7.",{"$f":"IFERROR(VLOOKUP(VLOOKUP(KODEKELAS,KODEMAPEL,8,FALSE),KODEMAPEL2,2,FALSE),\"Kelas Belum Diisi\")","v":"Bahasa Inggris"},{"$f":"IFERROR(VLOOKUP(VLOOKUP(KODEKELAS,KODEMAPEL,8,FALSE),KODEMAPEL2,3,FALSE)&\"_\"&VLOOKUP(KODEKELAS,KODEMAPEL,8,FALSE),\"\")","v":"BIG_007"},"Angka_KI-3_BIG_007","Predikat_KI-3_BIG_007","Desk_KI-3_BIG_007","Angka_KI-4_BIG_007","Predikat_KI-4_BIG_007","Desk_KI-4_BIG_007","Predikat_KI-1-2_BIG_007","Desk_KI-1-2_BIG_007","Guru_BIG_007","KKM_BIG_007",null,"007","Bahasa Inggris","BIG",null,7,"Palang Merah Remaja (PMR)"]
[null,708,"7.H","001","002","003","004","005","006","007","008","009","010","011",null,null,null,null,null,null,null,null,null,null,null,null,"Pitoyo Adhitomo, S.IP.","jika punya NIP isikan di sini",null,"Kelompok B","8.",{"$f":"IFERROR(VLOOKUP(VLOOKUP(KODEKELAS,KODEMAPEL,9,FALSE),KODEMAPEL2,2,FALSE),\"Kelas Belum Diisi\")","v":"Seni Budaya"},{"$f":"IFERROR(VLOOKUP(VLOOKUP(KODEKELAS,KODEMAPEL,9,FALSE),KODEMAPEL2,3,FALSE)&\"_\"&VLOOKUP(KODEKELAS,KODEMAPEL,9,FALSE),\"\")","v":"SEN_008"},"Angka_KI-3_SEN_008","Predikat_KI-3_SEN_008","Desk_KI-3_SEN_008","Angka_KI-4_SEN_008","Predikat_KI-4_SEN_008","Desk_KI-4_SEN_008","Predikat_KI-1-2_SEN_008","Desk_KI-1-2_SEN_008","Guru_SEN_008","KKM_SEN_008",null,"008","Seni Budaya","SEN",null,8,"Jurnalistik dan Mading"]
[null,801,"8.A","001","002","003","004","005","006","007","008","009","010","011",null,null,null,null,null,null,null,null,null,null,null,null,"Sri Budi Susilowati, S.Ag.","jika punya NIP isikan di sini",null,"Kelompok B","9.",{"$f":"IFERROR(VLOOKUP(VLOOKUP(KODEKELAS,KODEMAPEL,10,FALSE),KODEMAPEL2,2,FALSE),\"Kelas Belum Diisi\")","v":"Pendidikan Jasmani, Olah Raga dan Kesehatan"},{"$f":"IFERROR(VLOOKUP(VLOOKUP(KODEKELAS,KODEMAPEL,10,FALSE),KODEMAPEL2,3,FALSE)&\"_\"&VLOOKUP(KODEKELAS,KODEMAPEL,10,FALSE),\"\")","v":"JAS_009"},"Angka_KI-3_JAS_009","Predikat_KI-3_JAS_009","Desk_KI-3_JAS_009","Angka_KI-4_JAS_009","Predikat_KI-4_JAS_009","Desk_KI-4_JAS_009","Predikat_KI-1-2_JAS_009","Desk_KI-1-2_JAS_009","Guru_JAS_009","KKM_JAS_009",null,"009","Pendidikan Jasmani, Olah Raga dan Kesehatan","JAS",null,9,"Seni Musik"]
[null,802,"8.B","001","002","003","004","005","006","007","008","009","010","011",null,null,null,null,null,null,null,null,null,null,null,null,"Musshofi, S.Pd. Jas","jika punya NIP isikan di sini",null,"Kelompok B","10.",{"$f":"IFERROR(VLOOKUP(VLOOKUP(KODEKELAS,KODEMAPEL,11,FALSE),KODEMAPEL2,2,FALSE),\"Kelas Belum Diisi\")","v":"Prakarya"},{"$f":"IFERROR(VLOOKUP(VLOOKUP(KODEKELAS,KODEMAPEL,11,FALSE),KODEMAPEL2,3,FALSE)&\"_\"&VLOOKUP(KODEKELAS,KODEMAPEL,11,FALSE),\"\")","v":"PRA_010"},"Angka_KI-3_PRA_010","Predikat_KI-3_PRA_010","Desk_KI-3_PRA_010","Angka_KI-4_PRA_010","Predikat_KI-4_PRA_010","Desk_KI-4_PRA_010","Predikat_KI-1-2_PRA_010","Desk_KI-1-2_PRA_010","Guru_PRA_010","KKM_PRA_010",null,"010","Prakarya","PRA",null,10,"Olah Raga : Sepak Bola"]
[null,803,"8.C","001","002","003","004","005","006","007","008","009","010","011",null,null,null,null,null,null,null,null,null,null,null,null,"Rizka Septyna Dewi, S.Pd.","jika punya NIP isikan di sini",null,"Kelompok B","11.",{"$f":"IFERROR(VLOOKUP(VLOOKUP(KODEKELAS,KODEMAPEL,12,FALSE),KODEMAPEL2,2,FALSE),\"Kelas Belum Diisi\")","v":"Bahasa Jawa"},{"$f":"IFERROR(VLOOKUP(VLOOKUP(KODEKELAS,KODEMAPEL,12,FALSE),KODEMAPEL2,3,FALSE)&\"_\"&VLOOKUP(KODEKELAS,KODEMAPEL,12,FALSE),\"\")","v":"JAW_011"},"Angka_KI-3_JAW_011","Predikat_KI-3_JAW_011","Desk_KI-3_JAW_011","Angka_KI-4_JAW_011","Predikat_KI-4_JAW_011","Desk_KI-4_JAW_011","Predikat_KI-1-2_JAW_011","Desk_KI-1-2_JAW_011","Guru_JAW_011","KKM_JAW_011",null,"011","Bahasa Jawa","JAW",null,11,"Olah Raga : Bola Volly"]
[null,804,"8.D","001","002","003","004","005","006","007","008","009","010","011",null,null,null,null,null,null,null,null,null,null,null,null,null,null,null,"Kelompok C","12.",{"$f":"IFERROR(VLOOKUP(VLOOKUP(KODEKELAS,KODEMAPEL,13,FALSE),KODEMAPEL2,2,FALSE),\"Kelas Belum Diisi\")","v":"Kelas Belum Diisi"},{"$f":"IFERROR(VLOOKUP(VLOOKUP(KODEKELAS,KODEMAPEL,13,FALSE),KODEMAPEL2,3,FALSE)&\"_\"&VLOOKUP(KODEKELAS,KODEMAPEL,13,FALSE),\"\")","v":""},{"$f":"IF($AG15=\"\",\"\",CONCATENATE($AH$3,$AG15))","v":""},"Predikat_KI-3_","Desk_KI-3_","Angka_KI-4_","Predikat_KI-4_","Desk_KI-4_","Predikat_KI-1-2_","Desk_KI-1-2_","Guru_","KKM_",null,"012",null,null,null,12,"Olah Raga : Bulu Tangkis"]
[null,805,"8.E","001","002","003","004","005","006","007","008","009","010","011",null,null,null,null,null,null,null,null,null,null,null,null,null,null,null,"Kelompok C","13.",{"$f":"IFERROR(VLOOKUP(VLOOKUP(KODEKELAS,KODEMAPEL,14,FALSE),KODEMAPEL2,2,FALSE),\"Kelas Belum Diisi\")","v":"Kelas Belum Diisi"},{"$f":"IFERROR(VLOOKUP(VLOOKUP(KODEKELAS,KODEMAPEL,14,FALSE),KODEMAPEL2,3,FALSE)&\"_\"&VLOOKUP(KODEKELAS,KODEMAPEL,14,FALSE),\"\")","v":""},{"$f":"IF($AG16=\"\",\"\",CONCATENATE($AH$3,$AG16))","v":""},"Predikat_KI-3_","Desk_KI-3_","Angka_KI-4_","Predikat_KI-4_","Desk_KI-4_","Predikat_KI-1-2_","Desk_KI-1-2_","Guru_","KKM_",null,"013",null,null,null,13,"Olah Raga : Basket"]
[null,806,"8.F","001","002","003","004","005","006","007","008","009","010","011",null,null,null,null,null,null,null,null,null,null,null,null,null,null,null,"Kelompok C","14.",{"$f":"IFERROR(VLOOKUP(VLOOKUP(KODEKELAS,KODEMAPEL,15,FALSE),KODEMAPEL2,2,FALSE),\"Kelas Belum Diisi\")","v":"Kelas Belum Diisi"},{"$f":"IFERROR(VLOOKUP(VLOOKUP(KODEKELAS,KODEMAPEL,15,FALSE),KODEMAPEL2,3,FALSE)&\"_\"&VLOOKUP(KODEKELAS,KODEMAPEL,15,FALSE),\"\")","v":""},"","Predikat_KI-3_","Desk_KI-3_","Angka_KI-4_","Predikat_KI-4_","Desk_KI-4_","Predikat_KI-1-2_","Desk_KI-1-2_","Guru_","KKM_",null,"014",null,null,null,14,"Olimpiade Sains Nasional (OSN) : Kebumian"]
[null,807,"8.G","001","002","003","004","005","006","007","008","009","010","011",null,null,null,null,null,null,null,null,null,null,null,null,null,null,null,"Kelompok D","15.",{"$f":"IFERROR(VLOOKUP(VLOOKUP(KODEKELAS,KODEMAPEL,16,FALSE),KODEMAPEL2,2,FALSE),\"Kelas Belum Diisi\")","v":"Kelas Belum Diisi"},{"$f":"IFERROR(VLOOKUP(VLOOKUP(KODEKELAS,KODEMAPEL,16,FALSE),KODEMAPEL2,3,FALSE)&\"_\"&VLOOKUP(KODEKELAS,KODEMAPEL,16,FALSE),\"\")","v":""},"","Predikat_KI-3_","Desk_KI-3_","Angka_KI-4_","Predikat_KI-4_","Desk_KI-4_","Predikat_KI-1-2_","Desk_KI-1-2_","Guru_","KKM_",null,"015",null,null,null,15,"Olimpiade Sains Nasional (OSN) : Matematika"]
[null,808,"8.H","001","002","003","004","005","006","007","008","009","010","011",null,null,null,null,null,null,null,null,null,null,null,null,null,null,null,"Kelompok D","16.",{"$f":"IFERROR(VLOOKUP(VLOOKUP(KODEKELAS,KODEMAPEL,17,FALSE),KODEMAPEL2,2,FALSE),\"Kelas Belum Diisi\")","v":"Kelas Belum Diisi"},{"$f":"IFERROR(VLOOKUP(VLOOKUP(KODEKELAS,KODEMAPEL,17,FALSE),KODEMAPEL2,3,FALSE)&\"_\"&VLOOKUP(KODEKELAS,KODEMAPEL,17,FALSE),\"\")","v":""},"","Predikat_KI-3_","Desk_KI-3_","Angka_KI-4_","Predikat_KI-4_","Desk_KI-4_","Predikat_KI-1-2_","Desk_KI-1-2_","Guru_","KKM_",null,"016",null,null,null,16,"Olimpiade Sains Nasional (OSN) : Kimia"]
[null,901,"9.A","001","002","003","004","005","006","007","008","009","010","011",null,null,null,null,null,null,null,null,null,null,null,null,null,null,null,"CIRI KHUSUS","17.",{"$f":"IFERROR(VLOOKUP(VLOOKUP(KODEKELAS,KODEMAPEL,18,FALSE),KODEMAPEL2,2,FALSE),\"Kelas Belum Diisi\")","v":"Kelas Belum Diisi"},{"$f":"IFERROR(VLOOKUP(VLOOKUP(KODEKELAS,KODEMAPEL,18,FALSE),KODEMAPEL2,3,FALSE)&\"_\"&VLOOKUP(KODEKELAS,KODEMAPEL,18,FALSE),\"\")","v":""},"","Predikat_KI-3_","Desk_KI-3_","Angka_KI-4_","Predikat_KI-4_","Desk_KI-4_","Predikat_KI-1-2_","Desk_KI-1-2_","Guru_","KKM_",null,"017",null,null,null,17,"Olimpiade Sains Nasional (OSN) : Biologi"]
[null,902,"9.B","001","002","003","004","005","006","007","008","009","010","011",null,null,null,null,null,null,null,null,null,null,null,null,null,null,null,"CIRI KHUSUS","18.",{"$f":"IFERROR(VLOOKUP(VLOOKUP(KODEKELAS,KODEMAPEL,19,FALSE),KODEMAPEL2,2,FALSE),\"Kelas Belum Diisi\")","v":"Kelas Belum Diisi"},{"$f":"IFERROR(VLOOKUP(VLOOKUP(KODEKELAS,KODEMAPEL,19,FALSE),KODEMAPEL2,3,FALSE)&\"_\"&VLOOKUP(KODEKELAS,KODEMAPEL,19,FALSE),\"\")","v":""},"","Predikat_KI-3_","Desk_KI-3_","Angka_KI-4_","Predikat_KI-4_","Desk_KI-4_","Predikat_KI-1-2_","Desk_KI-1-2_","Guru_","KKM_",null,"018",null,null,null,18,"Olimpiade Sains Nasional (OSN) : Astronomi"]
[null,903,"9.C","001","002","003","004","005","006","007","008","009","010","011",null,null,null,null,null,null,null,null,null,null,null,null,null,null,null,"CIRI KHUSUS","19.",{"$f":"IFERROR(VLOOKUP(VLOOKUP(KODEKELAS,KODEMAPEL,20,FALSE),KODEMAPEL2,2,FALSE),\"Kelas Belum Diisi\")","v":"Kelas Belum Diisi"},{"$f":"IFERROR(VLOOKUP(VLOOKUP(KODEKELAS,KODEMAPEL,20,FALSE),KODEMAPEL2,3,FALSE)&\"_\"&VLOOKUP(KODEKELAS,KODEMAPEL,20,FALSE),\"\")","v":""},"","Predikat_KI-3_","Desk_KI-3_","Angka_KI-4_","Predikat_KI-4_","Desk_KI-4_","Predikat_KI-1-2_","Desk_KI-1-2_","Guru_","KKM_",null,"019",null,null,null,19,"Olimpiade Sains Nasional (OSN) : Komputer"]
[null,904,"9.D","001","002","003","004","005","006","007","008","009","010","011",null,null,null,null,null,null,null,null,null,null,null,null,null,null,null,"CIRI KHUSUS","20.",{"$f":"IFERROR(VLOOKUP(VLOOKUP(KODEKELAS,KODEMAPEL,21,FALSE),KODEMAPEL2,2,FALSE),\"Kelas Belum Diisi\")","v":"Kelas Belum Diisi"},{"$f":"IFERROR(VLOOKUP(VLOOKUP(KODEKELAS,KODEMAPEL,21,FALSE),KODEMAPEL2,3,FALSE)&\"_\"&VLOOKUP(KODEKELAS,KODEMAPEL,21,FALSE),\"\")","v":""},"","Predikat_KI-3_","Desk_KI-3_","Angka_KI-4_","Predikat_KI-4_","Desk_KI-4_","Predikat_KI-1-2_","Desk_KI-1-2_","Guru_","KKM_",null,"020",null,null,null,20,"Olimpiade Sains Nasional (OSN) : Ekonomi"]
[null,905,"9.E","001","002","003","004","005","006","007","008","009","010","011",null,null,null,null,null,null,null,null,null,null,null,null,null,null,null,"CIRI KHUSUS","21.",{"$f":"IFERROR(VLOOKUP(VLOOKUP(KODEKELAS,KODEMAPEL,22,FALSE),KODEMAPEL2,2,FALSE),\"Kelas Belum Diisi\")","v":"Kelas Belum Diisi"},{"$f":"IFERROR(VLOOKUP(VLOOKUP(KODEKELAS,KODEMAPEL,22,FALSE),KODEMAPEL2,3,FALSE)&\"_\"&VLOOKUP(KODEKELAS,KODEMAPEL,22,FALSE),\"\")","v":""},"","Predikat_KI-3_","Desk_KI-3_","Angka_KI-4_","Predikat_KI-4_","Desk_KI-4_","Predikat_KI-1-2_","Desk_KI-1-2_","Guru_","KKM_",null,"021",null,null,null,21,"Seni Baca Al Qur'an"]
[null,906,"9.F","001","002","003","004","005","006","007","008","009","010","011",null,null,null,null,null,null,null,null,null,null,null,null,null,null,null,"CIRI KHUSUS","22.",{"$f":"IFERROR(VLOOKUP(VLOOKUP(KODEKELAS,KODEMAPEL,23,FALSE),KODEMAPEL2,2,FALSE),\"Kelas Belum Diisi\")","v":"Kelas Belum Diisi"},{"$f":"IFERROR(VLOOKUP(VLOOKUP(KODEKELAS,KODEMAPEL,23,FALSE),KODEMAPEL2,3,FALSE)&\"_\"&VLOOKUP(KODEKELAS,KODEMAPEL,23,FALSE),\"\")","v":""},"","Predikat_KI-3_","Desk_KI-3_","Angka_KI-4_","Predikat_KI-4_","Desk_KI-4_","Predikat_KI-1-2_","Desk_KI-1-2_","Guru_","KKM_",null,"022"]
[null,907,"9.G","001","002","003","004","005","006","007","008","009","010","011",null,null,null,null,null,null,null,null,null,null,null,null,null,null,null,null,null,null,null,null,null,null,null,null,null,null,null,null,null,null,"023"]
[null,908,"9.H","001","002","003","004","005","006","007","008","009","010","011",null,null,null,null,null,null,null,null,null,null,null,null,null,null,null,null,null,null,null,null,null,null,null,null,null,null,null,null,null,null,"024"]
[null,null,null,null,null,null,null,null,null,null,null,null,null,null,null,null,null,null,null,null,null,null,null,null,null,null,null,null,null,null,null,null,null,null,null,null,null,null,null,null,null,null,null,null,"025"]
[null,null,null,null,null,null,null,null,null,null,null,null,null,null,null,null,null,null,null,null,null,null,null,null,null,null,null,null,null,null,null,null,null,null,null,null,null,null,null,null,null,null,null,null,"026"]
[null,null,null,null,null,null,null,null,null,null,null,null,null,null,null,null,null,null,null,null,null,null,null,null,null,null,null,null,null,null,null,null,null,null,null,null,null,null,null,null,null,null,null,null,"027"]
[null,null,null,null,null,null,null,null,null,null,null,null,null,null,null,null,null,null,null,null,null,null,null,null,null,null,null,null,null,null,null,null,null,null,null,null,null,null,null,null,null,null,null,null,"028"]
[null,null,null,null,null,null,null,null,null,null,null,null,null,null,null,null,null,null,null,null,null,null,null,null,null,null,null,null,null,null,null,null,null,null,null,null,null,null,null,null,null,null,null,null,"029"]